Workbook

Sheet Rekapitulace stavby
A1: Export Komplet | AZ1: VZ | BA1: 2.0 | BB1: ZAMOK | BT1: False | BU1: False | BV1: {d1f81035-0e41-43d2-984f-473a8be22ec2}
BS2: 0,01 | BT2: 21
BS3: 0,01 | BT3: 12
D4: REKAPITULACE STAVBY | AS4: v --- níže se nacházejí doplnkové a pomocné údaje k sestavám --- v | BS4: 0,001
D5: Kód: | K5: 25-08 | BS5: 0,01
D6: Stavba: | K6: Chodníky podél III/29837 | BS6: 0,01
D7: KSO: | AK7: CC-CZ: | BS7: 0,01
D8: Místo: | K8: Městec nad Dědinou | AK8: Datum: | AN8: 5. 11. 2025 | BS8: 0,01
BS9: 0,01
D10: Zadavatel: | AK10: IČ: | BS10: 0,01
E11: Obec Očelice | AK11: DIČ: | BS11: 0,01
BS12: 0,01
D13: Zhotovitel: | AK13: IČ: | BS13: 0,01
E14: dle výběrového řízení | AK14: DIČ: | BS14: 0,01
BS15: False
D16: Projektant: | AK16: IČ: | BS16: False
E17: ENERGOPROJEKT CZ s.r.o. | AK17: DIČ: | BS17: True
BS18: 0,01
D19: Zpracovatel: | AK19: IČ: | BS19: 0,01
E20: Jan Bártík | AK20: DIČ: | BS20: False
D22: Poznámka:
E23: Soupis prací je sestaven s využitím Cenové soustavy ÚRS. Položky, které pochází z této cenové soustavy, jsou ve sloupci 'Cenová soustava' označeny popisem 'CS ÚRS' a úrovní příslušného kalendářního pololetí. Veškeré další informace vymezující popis a podmínky použití těchto položek z Cenové soustavy, které nejsou uvedeny přímo v soupisu prací, jsou neomezeně dálkově k dispozici na webu podminky.urs.cz.
D26: Cena bez DPH | AK26: =ROUND(AG54,2) -> 172227.47
L28: Sazba daně | W28: Základ daně | AK28: Výše daně
D29: DPH | F29: základní | L29: 0.21 | W29: =ROUND(AZ54, 2) -> 172227.47 | AK29: =ROUND(AV54, 2) -> 36167.77
F30: snížená | L30: 0.12 | W30: =ROUND(BA54, 2) -> 0 | AK30: =ROUND(AW54, 2) -> 0
F31: zákl. přenesená | L31: 0.21 | W31: =ROUND(BB54, 2) -> 0 | AK31: 0
F32: sníž. přenesená | L32: 0.12 | W32: =ROUND(BC54, 2) -> 0 | AK32: 0
F33: nulová | L33: 0 | W33: =ROUND(BD54, 2) -> 0 | AK33: 0
D35: Cena s DPH | T35: v | X35: CZK | AK35: =SUM(AK26:AK33) -> 208395.24
C42: REKAPITULACE OBJEKTŮ STAVBY A SOUPISŮ PRACÍ
C44: Kód: | L44: =K5 -> 25-08
C45: Stavba: | L45: =K6 -> Chodníky podél III/29837
C47: Místo: | L47: =IF(K8="","",K8) -> Městec nad Dědinou | AI47: Datum: | AM47: =IF(AN8= "","",AN8) -> 5. 11. 2025
C49: Zadavatel: | L49: =IF(E11= "","",E11) -> Obec Očelice | AI49: Projektant: | AM49: =IF(E17="","",E17) -> ENERGOPROJEKT CZ s.r.o. | AS49: Informatívní údaje z listů zakázek
C50: Zhotovitel: | L50: =IF(E14="","",E14) -> dle výběrového řízení | AI50: Zpracovatel: | AM50: =IF(E20="","",E20) -> Jan Bártík
C52: Kód | I52: Popis | AG52: Cena bez DPH [CZK] | AN52: Cena s DPH [CZK] | AQ52: Typ | AS52: z toho Ostat._x000D_ náklady [CZK] | AT52: DPH [CZK] | AU52: Normohodiny [h] | AV52: DPH základní [CZK] | AW52: DPH snížená [CZK] | AX52: DPH základní přenesená_x000D_ [CZK] | AY52: DPH snížená přenesená_x000D_ [CZK] | AZ52: Základna_x000D_ DPH základní | BA52: Základna_x000D_ DPH snížená | BB52: Základna_x000D_ DPH zákl. přenesená | BC52: Základna_x000D_ DPH sníž. přenesená | BD52: Základna_x000D_ DPH nulová
C54: Náklady stavby celkem | AG54: =ROUND(AG55,2) -> 172227.47 | AN54: =SUM(AG54,AT54) -> 208395.24 | AS54: =ROUND(AS55,2) -> 0 | AT54: =ROUND(SUM(AV54:AW54),2) -> 36167.77 | AU54: =ROUND(AU55,5) -> 82.08657 | AV54: =ROUND(AZ54*L29,2) -> 36167.77 | AW54: =ROUND(BA54*L30,2) -> 0 | AX54: =ROUND(BB54*L29,2) -> 0 | AY54: =ROUND(BC54*L30,2) -> 0 | AZ54: =ROUND(AZ55,2) -> 172227.47 | BA54: =ROUND(BA55,2) -> 0 | BB54: =ROUND(BB55,2) -> 0 | BC54: =ROUND(BC55,2) -> 0 | BD54: =ROUND(BD55,2) -> 0 | BS54: D | BT54: 0 | BU54: ###NOIMPORT### | BV54: IMPORT | BW54: {d1f81035-0e41-43d2-984f-473a8be22ec2} | BX54: {00000000-0000-0000-0000-000000000000}
A55: / | D55: 25-08-04 | J55: Opravy dešťové kanalizace - vícepráce připojení, ... | AG55: ='25-08-04 - Opravy dešťové...'!J30 -> 172227.47 | AN55: =SUM(AG55,AT55) -> 208395.24 | AQ55: STA | AS55: 0 | AT55: =ROUND(SUM(AV55:AW55),2) -> 36167.77 | AU55: ='25-08-04 - Opravy dešťové...'!P88 -> 82.08657 | AV55: ='25-08-04 - Opravy dešťové...'!J33 -> 36167.77 | AW55: ='25-08-04 - Opravy dešťové...'!J34 -> 0 | AX55: ='25-08-04 - Opravy dešťové...'!J35 -> 0 | AY55: ='25-08-04 - Opravy dešťové...'!J36 -> 0 | AZ55: ='25-08-04 - Opravy dešťové...'!F33 -> 172227.47 | BA55: ='25-08-04 - Opravy dešťové...'!F34 -> 0 | BB55: ='25-08-04 - Opravy dešťové...'!F35 -> 0 | BC55: ='25-08-04 - Opravy dešťové...'!F36 -> 0 | BD55: ='25-08-04 - Opravy dešťové...'!F37 -> 0 | BT55: 1 | BV55: IMPORT | BW55: {780306aa-2d54-48d0-880e-1ef31ee5f931} | BX55: {d1f81035-0e41-43d2-984f-473a8be22ec2} | CM55: 2

Sheet 25-08-04 - Opravy dešťové...
AT2: {780306aa-2d54-48d0-880e-1ef31ee5f931} | AZ2: zásyp | BC2: 2,88 | BD2: 2
AT3: 2 | AZ3: obsyp | BC3: 3,6 | BD3: 2
D4: KRYCÍ LIST SOUPISU PRACÍ | M4: v --- níže se nacházejí doplnkové a pomocné údaje k sestavám --- v | AT4: False | AZ4: lože | BC4: 0,48 | BD4: 2
D6: Stavba:
E7: ='Rekapitulace stavby'!K6 -> Chodníky podél III/29837
D8: Objekt:
E9: 25-08-04 - Opravy dešťové kanalizace - vícepráce připojení,pravá strana
D11: KSO: | I11: CC-CZ:
D12: Místo: | F12: Městec nad Dědinou | I12: Datum: | J12: 46188
D14: Zadavatel: | I14: IČ:
E15: Obec Očelice | I15: DIČ:
D17: Zhotovitel: | I17: IČ:
E18: STAVIBET s.r.o. | I18: DIČ:
D20: Projektant: | I20: IČ:
E21: ENERGOPROJEKT CZ s.r.o. | I21: DIČ:
D23: Zpracovatel: | I23: IČ:
E24: Jan Bártík | I24: DIČ:
D26: Poznámka:
D30: Cena bez DPH | J30: =ROUND(J88, 2) -> 172227.47
F32: Základ daně | I32: Sazba daně | J32: Výše daně
D33: DPH | E33: základní | F33: =ROUND((SUM(BE88:BE204)), 2) -> 172227.47 | I33: 0.21 | J33: =ROUND(((SUM(BE88:BE204))*I33), 2) -> 36167.77
E34: snížená | F34: =ROUND((SUM(BF88:BF204)), 2) -> 0 | I34: 0.12 | J34: =ROUND(((SUM(BF88:BF204))*I34), 2) -> 0
E35: zákl. přenesená | F35: =ROUND((SUM(BG88:BG204)), 2) -> 0 | I35: 0.21 | J35: =0 -> 0
E36: sníž. přenesená | F36: =ROUND((SUM(BH88:BH204)), 2) -> 0 | I36: 0.12 | J36: =0 -> 0
E37: nulová | F37: =ROUND((SUM(BI88:BI204)), 2) -> 0 | I37: 0 | J37: =0 -> 0
D39: Cena s DPH | G39: v | H39: CZK | J39: =SUM(J30:J37) -> 208395.24
C45: REKAPITULACE ČLENĚNÍ SOUPISU PRACÍ
C47: Stavba:
E48: =E7 -> Chodníky podél III/29837
C49: Objekt:
E50: =E9 -> 25-08-04 - Opravy dešťové kanalizace - vícepráce připojení,pravá strana
C52: Místo: | F52: =F12 -> Městec nad Dědinou | I52: Datum: | J52: =IF(J12="","",J12) -> 46188
C54: Zadavatel: | F54: =E15 -> Obec Očelice | I54: Projektant: | J54: =E21 -> ENERGOPROJEKT CZ s.r.o.
C55: Zhotovitel: | F55: =IF(E18="","",E18) -> STAVIBET s.r.o. | I55: Zpracovatel: | J55: =E24 -> Jan Bártík
C57: Kód dílu - Popis | J57: Cena celkem [CZK]
C59: Náklady stavby celkem | J59: =J88 -> 172227.47 | AU59: -1
D60: HSV - Práce a dodávky HSV | J60: =J89 -> 172227.47
D61: 1 - Zemní práce | J61: =J90 -> 29788.13
D62: 2 - Zakládání | J62: =J129 -> 0
D63: 4 - Vodorovné konstrukce | J63: =J135 -> 619.2
...

Sheet Seznam figur
C4: SEZNAM FIGUR
C5: Kód: | D5: 25-08
C6: Stavba: | D6: Chodníky podél III/29837
C7: Datum: | D7: ='Rekapitulace stavby'!AN8 -> 5. 11. 2025
C9: Kód | D9: Popis | E9: MJ | F9: Výměra
C10: 25-08-04 | D10: Opravy dešťové kanalizace - vícepráce připojení, ...
C11: lože | F11: 0.48
C12: lože | D12: 6*0,8*0,1 | F12: 0.48
C13: Použití figury:
C14: 451573111 | D14: Lože pod potrubí otevřený výkop ze štěrkopísku | E14: m3 | F14: 0.48
C15: 174151101 | D15: Zásyp jam, šachet rýh nebo kolem objektů sypaninou se zhutněním | E15: m3 | F15: 3.44
C16: obsyp | F16: 3.6
C17: obsyp | D17: 9*0,8*0,5 | F17: 3.6
C18: Použití figury:
C19: 175151101 | D19: Obsypání potrubí strojně sypaninou bez prohození, uloženou do 3 m | E19: m3 | F19: 3.6
C20: 171251201 | D20: Uložení sypaniny na skládky nebo meziskládky | E20: m3 | F20: 3.6
C21: 174151101 | D21: Zásyp jam, šachet rýh nebo kolem objektů sypaninou se zhutněním | E21: m3 | F21: 3.44
C22: výkop | F22: 11.72
D23: "odkop na potrubí" 25*1*0,2 | F23: 5
D24: "profil výkopu š.0,8, hl. 1,2m" 7*0,8*1,2 | F24: 6.72
C25: výkop | D25: Součet | F25: 11.72
C26: zásyp | F26: 2.88
C27: zásyp | D27: výkop-lože-obsyp | F27: 2.88
C28: Použití figury:
C29: 162751117 | D29: Vodorovné přemístění přes 9 000 do 10000 m výkopku/sypaniny z horniny třídy těžitelnosti I skupiny 1 až 3 | E29: m3 | F29: 3.84
C30: 162751119 | D30: Příplatek k vodorovnému přemístění výkopku/sypaniny z horniny třídy těžitelnosti I skupiny 1 až 3 ZKD 1000 m přes 10000 m | E30: m3 | F30: 23.04
C31: 167151101 | D31: Nakládání výkopku z hornin třídy těžitelnosti I skupiny 1 až 3 do 100 m3 | E31: m3 | F31: 2.88
C32: 171201231 | D32: Poplatek za uložení zeminy a kamení na recyklační skládce (skládkovné) kód odpadu 17 05 04 | E32: t | F32: 5.184

Sheet Pokyny pro vyplnění
C3: Struktura údajů, formát souboru a metodika pro zpracování
C4: Struktura
C6: Soubor je složen ze záložky Rekapitulace stavby a záložek s názvem soupisu prací pro jednotlivé objekty ve formátu XLSX. Každá ze záložek přitom obsahuje
C7: ještě samostatné sestavy vymezené orámovaním a nadpisem sestavy.
C9: Rekapitulace stavby obsahuje sestavu Rekapitulace stavby a Rekapitulace objektů stavby a soupisů prací.
D10: V sestavě Rekapitulace stavby jsou uvedeny informace identifikující předmět veřejné zakázky na stavební práce, KSO, CC-CZ, CZ-CPV, CZ-CPA a rekapitulaci
D11: celkové nabídkové ceny účastníka.
D13: Termínem "učastník" (resp. zhotovitel) se myslí "účastník zadávacího řízení" ve smyslu zákona o zadávání veřejných zakázek.
D15: V sestavě Rekapitulace objektů stavby a soupisů prací je uvedena rekapitulace stavebních objektů, inženýrských objektů, provozních souborů,
D16: vedlejších a ostatních nákladů a ostatních nákladů s rekapitulací nabídkové ceny za jednotlivé soupisy prací. Na základě údaje Typ je možné
D17: identifikovat, zda se jedná o objekt nebo soupis prací pro daný objekt:
E18: STA | F18: Stavební objekt pozemní
E19: ING | F19: Stavební objekt inženýrský
E20: PRO | F20: Provozní soubor
E21: VON | F21: Vedlejší a ostatní náklady
E22: OST | F22: Ostatní
E23: Soupis | F23: Soupis prací pro daný typ objektu
C25: Soupis prací pro jednotlivé objekty obsahuje sestavy Krycí list soupisu prací, Rekapitulace členění soupisu prací, Soupis prací. Za soupis prací může být považován
C26: i objekt stavby v případě, že neobsahuje podřízenou zakázku.
D27: Krycí list soupisu obsahuje rekapitulaci informací o předmětu veřejné zakázky ze sestavy Rekapitulace stavby, informaci o zařazení objektu do KSO,
D28: CC-CZ, CZ-CPV, CZ-CPA a rekapitulaci celkové nabídkové ceny účastníka za aktuální soupis prací.
D30: Rekapitulace členění soupisu prací obsahuje rekapitulaci soupisu prací ve všech úrovních členění soupisu tak, jak byla tato členění použita (např.
D31: stavební díly, funkční díly, případně jiné členění) s rekapitulací nabídkové ceny.
D33: Soupis prací obsahuje položky veškerých stavebních nebo montážních prací, dodávek materiálů a služeb nezbytných pro zhotovení stavebního objektu,
D34: inženýrského objektu, provozního souboru, vedlejších a ostatních nákladů.
D35: Pro položky soupisu prací se zobrazují následující informace:
E36: PČ | G36: Pořadové číslo položky v aktuálním soupisu
E37: TYP | G37: Typ položky: K - konstrukce, M - materiál, PP - plný popis, PSC - poznámka k souboru cen, P - poznámka k položce, VV - výkaz výměr, FIG - rozpad figur
E38: Kód | G38: Kód položky
E39: Popis | G39: Zkrácený popis položky
E40: MJ | G40: Měrná jednotka položky
E41: Množství | G41: Množství v měrné jednotce
E42: J.cena | G42: Jednotková cena položky. Zadaní může obsahovat namísto J.ceny sloupce J.materiál a J.montáž, jejichž součet definuje
G43: J.cenu položky.
E44: Cena celkem | G44: Celková cena položky daná jako součin množství a j.ceny
E45: Cenová soustava | G45: Příslušnost položky do cenové soustavy
D47: Ke každé položce soupisu prací se na samostatných řádcích může zobrazovat:
E48: Plný popis položky
E49: Poznámka k souboru cen a poznámka zadavatele
E50: Výkaz výměr
...
