Workbook

Sheet Rekapitulace stavby
A1: Export Komplet | AZ1: VZ | BA1: 2.0 | BB1: ZAMOK | BT1: False | BU1: False | BV1: {d1f81035-0e41-43d2-984f-473a8be22ec2}
BS2: 0,01 | BT2: 21
BS3: 0,01 | BT3: 12
D4: REKAPITULACE STAVBY | AS4: v --- níže se nacházejí doplnkové a pomocné údaje k sestavám --- v | BS4: 0,001
D5: Kód: | K5: 25-08 | BS5: 0,01
D6: Stavba: | K6: Chodníky podél III/29837 | BS6: 0,01
D7: KSO: | AK7: CC-CZ: | BS7: 0,01
D8: Místo: | K8: Městec nad Dědinou | AK8: Datum: | AN8: 5. 11. 2025 | BS8: 0,01
BS9: 0,01
D10: Zadavatel: | AK10: IČ: | BS10: 0,01
E11: Obec Očelice | AK11: DIČ: | BS11: 0,01
BS12: 0,01
D13: Zhotovitel: | AK13: IČ: | BS13: 0,01
E14: dle výběrového řízení | AK14: DIČ: | BS14: 0,01
BS15: False
D16: Projektant: | AK16: IČ: | BS16: False
E17: ENERGOPROJEKT CZ s.r.o. | AK17: DIČ: | BS17: True
BS18: 0,01
D19: Zpracovatel: | AK19: IČ: | BS19: 0,01
E20: Jan Bártík | AK20: DIČ: | BS20: False
D22: Poznámka:
E23: Soupis prací je sestaven s využitím Cenové soustavy ÚRS. Položky, které pochází z této cenové soustavy, jsou ve sloupci 'Cenová soustava' označeny popisem 'CS ÚRS' a úrovní příslušného kalendářního pololetí. Veškeré další informace vymezující popis a podmínky použití těchto položek z Cenové soustavy, které nejsou uvedeny přímo v soupisu prací, jsou neomezeně dálkově k dispozici na webu podminky.urs.cz.
D26: Cena bez DPH | AK26: =ROUND(AG54,2) -> 172227.47
L28: Sazba daně | W28: Základ daně | AK28: Výše daně
D29: DPH | F29: základní | L29: 0.21 | W29: =ROUND(AZ54, 2) -> 172227.47 | AK29: =ROUND(AV54, 2) -> 36167.77
F30: snížená | L30: 0.12 | W30: =ROUND(BA54, 2) -> 0 | AK30: =ROUND(AW54, 2) -> 0
F31: zákl. přenesená | L31: 0.21 | W31: =ROUND(BB54, 2) -> 0 | AK31: 0
F32: sníž. přenesená | L32: 0.12 | W32: =ROUND(BC54, 2) -> 0 | AK32: 0
F33: nulová | L33: 0 | W33: =ROUND(BD54, 2) -> 0 | AK33: 0
D35: Cena s DPH | T35: v | X35: CZK | AK35: =SUM(AK26:AK33) -> 208395.24
C42: REKAPITULACE OBJEKTŮ STAVBY A SOUPISŮ PRACÍ
C44: Kód: | L44: =K5 -> 25-08
C45: Stavba: | L45: =K6 -> Chodníky podél III/29837
C47: Místo: | L47: =IF(K8="","",K8) -> Městec nad Dědinou | AI47: Datum: | AM47: =IF(AN8= "","",AN8) -> 5. 11. 2025
C49: Zadavatel: | L49: =IF(E11= "","",E11) -> Obec Očelice | AI49: Projektant: | AM49: =IF(E17="","",E17) -> ENERGOPROJEKT CZ s.r.o. | AS49: Informatívní údaje z listů zakázek
C50: Zhotovitel: | L50: =IF(E14="","",E14) -> dle výběrového řízení | AI50: Zpracovatel: | AM50: =IF(E20="","",E20) -> Jan Bártík
C52: Kód | I52: Popis | AG52: Cena bez DPH [CZK] | AN52: Cena s DPH [CZK] | AQ52: Typ | AS52: z toho Ostat._x000D_ náklady [CZK] | AT52: DPH [CZK] | AU52: Normohodiny [h] | AV52: DPH základní [CZK] | AW52: DPH snížená [CZK] | AX52: DPH základní přenesená_x000D_ [CZK] | AY52: DPH snížená přenesená_x000D_ [CZK] | AZ52: Základna_x000D_ DPH základní | BA52: Základna_x000D_ DPH snížená | BB52: Základna_x000D_ DPH zákl. přenesená | BC52: Základna_x000D_ DPH sníž. přenesená | BD52: Základna_x000D_ DPH nulová
C54: Náklady stavby celkem | AG54: =ROUND(AG55,2) -> 172227.47 | AN54: =SUM(AG54,AT54) -> 208395.24 | AS54: =ROUND(AS55,2) -> 0 | AT54: =ROUND(SUM(AV54:AW54),2) -> 36167.77 | AU54: =ROUND(AU55,5) -> 82.08657 | AV54: =ROUND(AZ54*L29,2) -> 36167.77 | AW54: =ROUND(BA54*L30,2) -> 0 | AX54: =ROUND(BB54*L29,2) -> 0 | AY54: =ROUND(BC54*L30,2) -> 0 | AZ54: =ROUND(AZ55,2) -> 172227.47 | BA54: =ROUND(BA55,2) -> 0 | BB54: =ROUND(BB55,2) -> 0 | BC54: =ROUND(BC55,2) -> 0 | BD54: =ROUND(BD55,2) -> 0 | BS54: D | BT54: 0 | BU54: ###NOIMPORT### | BV54: IMPORT | BW54: {d1f81035-0e41-43d2-984f-473a8be22ec2} | BX54: {00000000-0000-0000-0000-000000000000}
A55: / | D55: 25-08-04 | J55: Opravy dešťové kanalizace - vícepráce připojení, ... | AG55: ='25-08-04 - Opravy dešťové...'!J30 -> 172227.47 | AN55: =SUM(AG55,AT55) -> 208395.24 | AQ55: STA | AS55: 0 | AT55: =ROUND(SUM(AV55:AW55),2) -> 36167.77 | AU55: ='25-08-04 - Opravy dešťové...'!P88 -> 82.08657 | AV55: ='25-08-04 - Opravy dešťové...'!J33 -> 36167.77 | AW55: ='25-08-04 - Opravy dešťové...'!J34 -> 0 | AX55: ='25-08-04 - Opravy dešťové...'!J35 -> 0 | AY55: ='25-08-04 - Opravy dešťové...'!J36 -> 0 | AZ55: ='25-08-04 - Opravy dešťové...'!F33 -> 172227.47 | BA55: ='25-08-04 - Opravy dešťové...'!F34 -> 0 | BB55: ='25-08-04 - Opravy dešťové...'!F35 -> 0 | BC55: ='25-08-04 - Opravy dešťové...'!F36 -> 0 | BD55: ='25-08-04 - Opravy dešťové...'!F37 -> 0 | BT55: 1 | BV55: IMPORT | BW55: {780306aa-2d54-48d0-880e-1ef31ee5f931} | BX55: {d1f81035-0e41-43d2-984f-473a8be22ec2} | CM55: 2

Sheet 25-08-04 - Opravy dešťové...
AT2: {780306aa-2d54-48d0-880e-1ef31ee5f931} | AZ2: zásyp | BC2: 2,88 | BD2: 2
AT3: 2 | AZ3: obsyp | BC3: 3,6 | BD3: 2
D4: KRYCÍ LIST SOUPISU PRACÍ | M4: v --- níže se nacházejí doplnkové a pomocné údaje k sestavám --- v | AT4: False | AZ4: lože | BC4: 0,48 | BD4: 2
D6: Stavba:
E7: ='Rekapitulace stavby'!K6 -> Chodníky podél III/29837
D8: Objekt:
E9: 25-08-04 - Opravy dešťové kanalizace - vícepráce připojení,pravá strana
D11: KSO: | I11: CC-CZ:
D12: Místo: | F12: Městec nad Dědinou | I12: Datum: | J12: 46188
D14: Zadavatel: | I14: IČ:
E15: Obec Očelice | I15: DIČ:
D17: Zhotovitel: | I17: IČ:
E18: STAVIBET s.r.o. | I18: DIČ:
D20: Projektant: | I20: IČ:
E21: ENERGOPROJEKT CZ s.r.o. | I21: DIČ:
D23: Zpracovatel: | I23: IČ:
E24: Jan Bártík | I24: DIČ:
D26: Poznámka:
D30: Cena bez DPH | J30: =ROUND(J88, 2) -> 172227.47
F32: Základ daně | I32: Sazba daně | J32: Výše daně
D33: DPH | E33: základní | F33: =ROUND((SUM(BE88:BE204)), 2) -> 172227.47 | I33: 0.21 | J33: =ROUND(((SUM(BE88:BE204))*I33), 2) -> 36167.77
E34: snížená | F34: =ROUND((SUM(BF88:BF204)), 2) -> 0 | I34: 0.12 | J34: =ROUND(((SUM(BF88:BF204))*I34), 2) -> 0
E35: zákl. přenesená | F35: =ROUND((SUM(BG88:BG204)), 2) -> 0 | I35: 0.21 | J35: =0 -> 0
E36: sníž. přenesená | F36: =ROUND((SUM(BH88:BH204)), 2) -> 0 | I36: 0.12 | J36: =0 -> 0
E37: nulová | F37: =ROUND((SUM(BI88:BI204)), 2) -> 0 | I37: 0 | J37: =0 -> 0
D39: Cena s DPH | G39: v | H39: CZK | J39: =SUM(J30:J37) -> 208395.24
C45: REKAPITULACE ČLENĚNÍ SOUPISU PRACÍ
C47: Stavba:
E48: =E7 -> Chodníky podél III/29837
C49: Objekt:
E50: =E9 -> 25-08-04 - Opravy dešťové kanalizace - vícepráce připojení,pravá strana
C52: Místo: | F52: =F12 -> Městec nad Dědinou | I52: Datum: | J52: =IF(J12="","",J12) -> 46188
C54: Zadavatel: | F54: =E15 -> Obec Očelice | I54: Projektant: | J54: =E21 -> ENERGOPROJEKT CZ s.r.o.
C55: Zhotovitel: | F55: =IF(E18="","",E18) -> STAVIBET s.r.o. | I55: Zpracovatel: | J55: =E24 -> Jan Bártík
C57: Kód dílu - Popis | J57: Cena celkem [CZK]
C59: Náklady stavby celkem | J59: =J88 -> 172227.47 | AU59: -1
D60: HSV - Práce a dodávky HSV | J60: =J89 -> 172227.47
D61: 1 - Zemní práce | J61: =J90 -> 29788.13
D62: 2 - Zakládání | J62: =J129 -> 0
D63: 4 - Vodorovné konstrukce | J63: =J135 -> 619.2
D64: 5 - Komunikace pozemní | J64: =J139 -> 0
D65: 8 - Vedení trubní dálková a přípojná | J65: =J142 -> 129180.26
D66: 9 - Ostatní konstrukce a práce, bourání | J66: =J184 -> 0
D67: 997 - Doprava suti a vybouraných hmot | J67: =J195 -> 6999.6
D68: 998 - Přesun hmot | J68: =J202 -> 5640.28
C75: SOUPIS PRACÍ
C77: Stavba:
E78: =E7 -> Chodníky podél III/29837
C79: Objekt:
E80: =E9 -> 25-08-04 - Opravy dešťové kanalizace - vícepráce připojení,pravá strana
C82: Místo: | F82: =F12 -> Městec nad Dědinou | I82: Datum: | J82: =IF(J12="","",J12) -> 46188
C84: Zadavatel: | F84: =E15 -> Obec Očelice | I84: Projektant: | J84: =E21 -> ENERGOPROJEKT CZ s.r.o.
C85: Zhotovitel: | F85: =IF(E18="","",E18) -> STAVIBET s.r.o. | I85: Zpracovatel: | J85: =E24 -> Jan Bártík
C87: PČ | D87: Typ | E87: Kód | F87: Popis | G87: MJ | H87: Množství | I87: J.cena [CZK] | J87: Cena celkem [CZK] | K87: Cenová soustava | N87: DPH | O87: J. Nh [h] | P87: Nh celkem [h] | Q87: J. hmotnost [t] | R87: Hmotnost celkem [t] | S87: J. suť [t] | T87: Suť Celkem [t]
C88: Náklady soupisu celkem | J88: =BK88 -> 172227.47 | P88: =P89 -> 82.08657 | R88: =R89 -> 12.018178 | T88: =T89 -> 4.68 | AT88: D | AU88: -1 | BK88: =BK89 -> 172227.47
D89: D | E89: HSV | F89: Práce a dodávky HSV | J89: =BK89 -> 172227.47 | P89: =P90+P129+P135+P139+P142+P184+P195+P202 -> 82.08657 | R89: =R90+R129+R135+R139+R142+R184+R195+R202 -> 12.018178 | T89: =T90+T129+T135+T139+T142+T184+T195+T202 -> 4.68 | AR89: 1 | AT89: D | AU89: 0 | AY89: ROZPOCET | BK89: =BK90+BK129+BK135+BK139+BK142+BK184+BK195+BK202 -> 172227.47
D90: D | E90: 1 | F90: Zemní práce | J90: =BK90 -> 29788.13 | P90: =SUM(P91:P128) -> 15.07296 | R90: =SUM(R91:R128) -> 7.2 | T90: =SUM(T91:T128) -> 0 | AR90: 1 | AT90: D | AU90: 1 | AY90: ROZPOCET | BK90: =SUM(BK91:BK128) -> 29788.13
D91: Online PSC | F91: https://podminky.urs.cz/item/CS_URS_2025_02/113202111 | AT91: Online PSC | AU91: 2
D92: VV | F92: "Lebeda" 2 | H92: 2 | AT92: VV | AU92: 2 | AV92: 2 | AW92: True | AX92: 1 | AY92: ROZPOCET
C93: 1 | D93: K | E93: 132212131 | F93: Hloubení nezapažených rýh šířky do 800 mm ručně s urovnáním dna do předepsaného profilu a spádu v hornině třídy těžitelnosti I skupiny 3 soudržných | G93: m3 | H93: 0.8 | I93: 1630 | J93: =ROUND(I93*H93,2) -> 1304 | N93: základní | O93: 4.493 | P93: =O93*H93 -> 3.5944 | Q93: 0 | R93: =Q93*H93 -> 0 | S93: 0 | T93: =S93*H93 -> 0 | AR93: 4 | AT93: K | AU93: 2 | AY93: ROZPOCET | BE93: =IF(N93="základní",J93,0) -> 1304 | BF93: =IF(N93="snížená",J93,0) -> 0 | BG93: =IF(N93="zákl. přenesená",J93,0) -> 0 | BH93: =IF(N93="sníž. přenesená",J93,0) -> 0 | BI93: =IF(N93="nulová",J93,0) -> 0 | BJ93: 1 | BK93: =ROUND(I93*H93,2) -> 1304 | BL93: 4 | BM93: -1977104549
D94: Online PSC | F94: https://podminky.urs.cz/item/CS_URS_2025_02/132212131 | AT94: Online PSC | AU94: 2
D95: VV | F95: "Rejchrt" 2*0,4*0,5 | H95: 0.4 | AT95: VV | AU95: 2 | AV95: 2 | AW95: True | AX95: 0 | AY95: ROZPOCET
D96: VV | F96: "Štěpánek" 2*0,4*0,5 | H96: 0.4 | AT96: VV | AU96: 2 | AV96: 2 | AW96: True | AX96: 0 | AY96: ROZPOCET
D97: VV | F97: Součet | H97: 0.8 | AT97: VV | AU97: 2 | AV97: 4 | AW97: True | AX97: 1 | AY97: ROZPOCET
C98: 18 | D98: K | E98: 132551103 | F98: Hloubení nezapažených rýh šířky do 800 mm strojně s urovnáním dna do předepsaného profilu a spádu v hornině třídy těžitelnosti III skupiny 6 přes 50 do 100 m3 | G98: m3 | H98: 11.72 | I98: 1670 | J98: =ROUND(I98*H98,2) -> 19572.4 | N98: základní | O98: 0.66 | P98: =O98*H98 -> 7.7352 | Q98: 0 | R98: =Q98*H98 -> 0 | S98: 0 | T98: =S98*H98 -> 0 | AR98: 4 | AT98: K | AU98: 2 | AY98: ROZPOCET | BE98: =IF(N98="základní",J98,0) -> 19572.4 | BF98: =IF(N98="snížená",J98,0) -> 0 | BG98: =IF(N98="zákl. přenesená",J98,0) -> 0 | BH98: =IF(N98="sníž. přenesená",J98,0) -> 0 | BI98: =IF(N98="nulová",J98,0) -> 0 | BJ98: 1 | BK98: =ROUND(I98*H98,2) -> 19572.4 | BL98: 4 | BM98: 1609281402
D99: Online PSC | F99: https://podminky.urs.cz/item/CS_URS_2025_02/132551103 | AT99: Online PSC | AU99: 2
D100: VV | F100: "odkop na potrubí" 25*1*0,2 | H100: 5 | AT100: VV | AU100: 2 | AV100: 2 | AW100: True | AX100: 0 | AY100: ROZPOCET
D101: VV | F101: "profil výkopu š.0,8, hl. 1,2m" 7*0,8*1,2 | H101: 6.72 | AT101: VV | AU101: 2 | AV101: 2 | AW101: True | AX101: 0 | AY101: ROZPOCET
D102: VV | E102: výkop | F102: Součet | H102: 11.72 | AT102: VV | AU102: 2 | AV102: 4 | AW102: True | AX102: 1 | AY102: ROZPOCET
C103: 19 | D103: K | E103: 162751117 | F103: Vodorovné přemístění výkopku nebo sypaniny po suchu na obvyklém dopravním prostředku, bez naložení výkopku, avšak se složením bez rozhrnutí z horniny třídy těžitelnosti I skupiny 1 až 3 na vzdálenost přes 9 000 do 10 000 m | G103: m3 | H103: 3.84 | I103: 280 | J103: =ROUND(I103*H103,2) -> 1075.2 | N103: základní | O103: 0.087 | P103: =O103*H103 -> 0.33408 | Q103: 0 | R103: =Q103*H103 -> 0 | S103: 0 | T103: =S103*H103 -> 0 | AR103: 4 | AT103: K | AU103: 2 | AY103: ROZPOCET | BE103: =IF(N103="základní",J103,0) -> 1075.2 | BF103: =IF(N103="snížená",J103,0) -> 0 | BG103: =IF(N103="zákl. přenesená",J103,0) -> 0 | BH103: =IF(N103="sníž. přenesená",J103,0) -> 0 | BI103: =IF(N103="nulová",J103,0) -> 0 | BJ103: 1 | BK103: =ROUND(I103*H103,2) -> 1075.2 | BL103: 4 | BM103: 568996850
D104: Online PSC | F104: https://podminky.urs.cz/item/CS_URS_2025_02/162751117 | AT104: Online PSC | AU104: 2
D105: VV | F105: 6,72-zásyp | H105: 3.84 | AT105: VV | AU105: 2 | AV105: 2 | AW105: True | AX105: 1 | AY105: ROZPOCET
C106: 20 | D106: K | E106: 162751119 | F106: Vodorovné přemístění výkopku nebo sypaniny po suchu na obvyklém dopravním prostředku, bez naložení výkopku, avšak se složením bez rozhrnutí z horniny třídy těžitelnosti I skupiny 1 až 3 na vzdálenost Příplatek k ceně za každých dalších i započatých 1 000 | G106: m3 | H106: 23.04 | I106: 22 | J106: =ROUND(I106*H106,2) -> 506.88 | N106: základní | O106: 0.005 | P106: =O106*H106 -> 0.1152 | Q106: 0 | R106: =Q106*H106 -> 0 | S106: 0 | T106: =S106*H106 -> 0 | AR106: 4 | AT106: K | AU106: 2 | AY106: ROZPOCET | BE106: =IF(N106="základní",J106,0) -> 506.88 | BF106: =IF(N106="snížená",J106,0) -> 0 | BG106: =IF(N106="zákl. přenesená",J106,0) -> 0 | BH106: =IF(N106="sníž. přenesená",J106,0) -> 0 | BI106: =IF(N106="nulová",J106,0) -> 0 | BJ106: 1 | BK106: =ROUND(I106*H106,2) -> 506.88 | BL106: 4 | BM106: 495776102
D107: Online PSC | F107: https://podminky.urs.cz/item/CS_URS_2025_02/162751119 | AT107: Online PSC | AU107: 2
D108: VV | F108: 6*(6,72-zásyp) | H108: 23.04 | AT108: VV | AU108: 2 | AV108: 2 | AW108: True | AX108: 1 | AY108: ROZPOCET
C109: 21 | D109: K | E109: 167151101 | F109: Nakládání, skládání a překládání neulehlého výkopku nebo sypaniny strojně nakládání, množství do 100 m3, z horniny třídy těžitelnosti I, skupiny 1 až 3 | G109: m3 | H109: 2.88 | I109: 169 | J109: =ROUND(I109*H109,2) -> 486.72 | N109: základní | O109: 0.197 | P109: =O109*H109 -> 0.56736 | Q109: 0 | R109: =Q109*H109 -> 0 | S109: 0 | T109: =S109*H109 -> 0 | AR109: 4 | AT109: K | AU109: 2 | AY109: ROZPOCET | BE109: =IF(N109="základní",J109,0) -> 486.72 | BF109: =IF(N109="snížená",J109,0) -> 0 | BG109: =IF(N109="zákl. přenesená",J109,0) -> 0 | BH109: =IF(N109="sníž. přenesená",J109,0) -> 0 | BI109: =IF(N109="nulová",J109,0) -> 0 | BJ109: 1 | BK109: =ROUND(I109*H109,2) -> 486.72 | BL109: 4 | BM109: 870013425
D110: Online PSC | F110: https://podminky.urs.cz/item/CS_URS_2025_02/167151101 | AT110: Online PSC | AU110: 2
D111: VV | F111: zásyp | H111: 2.88 | AT111: VV | AU111: 2 | AV111: 2 | AW111: True | AX111: 1 | AY111: ROZPOCET
C112: 22 | D112: K | E112: 171201231 | F112: Poplatek za uložení stavebního odpadu na recyklační skládce (skládkovné) zeminy a kamení zatříděného do Katalogu odpadů pod kódem 17 05 04 | G112: t | H112: 5.184 | I112: 352 | J112: =ROUND(I112*H112,2) -> 1824.77 | N112: základní | O112: 0 | P112: =O112*H112 -> 0 | Q112: 0 | R112: =Q112*H112 -> 0 | S112: 0 | T112: =S112*H112 -> 0 | AR112: 4 | AT112: K | AU112: 2 | AY112: ROZPOCET | BE112: =IF(N112="základní",J112,0) -> 1824.77 | BF112: =IF(N112="snížená",J112,0) -> 0 | BG112: =IF(N112="zákl. přenesená",J112,0) -> 0 | BH112: =IF(N112="sníž. přenesená",J112,0) -> 0 | BI112: =IF(N112="nulová",J112,0) -> 0 | BJ112: 1 | BK112: =ROUND(I112*H112,2) -> 1824.77 | BL112: 4 | BM112: -1283915566
D113: Online PSC | F113: https://podminky.urs.cz/item/CS_URS_2025_02/171201231 | AT113: Online PSC | AU113: 2
D114: VV | F114: zásyp*1,8 | H114: 5.184 | AT114: VV | AU114: 2 | AV114: 2 | AW114: True | AX114: 1 | AY114: ROZPOCET
C115: 23 | D115: K | E115: 171251201 | F115: Uložení sypaniny na skládky nebo meziskládky bez hutnění s upravením uložené sypaniny do předepsaného tvaru | G115: m3 | H115: 3.6 | I115: 22 | J115: =ROUND(I115*H115,2) -> 79.2 | N115: základní | O115: 0.009 | P115: =O115*H115 -> 0.0324 | Q115: 0 | R115: =Q115*H115 -> 0 | S115: 0 | T115: =S115*H115 -> 0 | AR115: 4 | AT115: K | AU115: 2 | AY115: ROZPOCET | BE115: =IF(N115="základní",J115,0) -> 79.2 | BF115: =IF(N115="snížená",J115,0) -> 0 | BG115: =IF(N115="zákl. přenesená",J115,0) -> 0 | BH115: =IF(N115="sníž. přenesená",J115,0) -> 0 | BI115: =IF(N115="nulová",J115,0) -> 0 | BJ115: 1 | BK115: =ROUND(I115*H115,2) -> 79.2 | BL115: 4 | BM115: -1665648044
D116: Online PSC | F116: https://podminky.urs.cz/item/CS_URS_2025_02/171251201 | AT116: Online PSC | AU116: 2
D117: VV | F117: obsyp | H117: 3.6 | AT117: VV | AU117: 2 | AV117: 2 | AW117: True | AX117: 1 | AY117: ROZPOCET
C118: 17 | D118: K | E118: 174151101 | F118: Zásyp sypaninou z jakékoliv horniny strojně s uložením výkopku ve vrstvách se zhutněním jam, šachet, rýh nebo kolem objektů v těchto vykopávkách | G118: m3 | H118: 3.44 | I118: 159 | J118: =ROUND(I118*H118,2) -> 546.96 | N118: základní | O118: 0.328 | P118: =O118*H118 -> 1.12832 | Q118: 0 | R118: =Q118*H118 -> 0 | S118: 0 | T118: =S118*H118 -> 0 | AR118: 4 | AT118: K | AU118: 2 | AY118: ROZPOCET | BE118: =IF(N118="základní",J118,0) -> 546.96 | BF118: =IF(N118="snížená",J118,0) -> 0 | BG118: =IF(N118="zákl. přenesená",J118,0) -> 0 | BH118: =IF(N118="sníž. přenesená",J118,0) -> 0 | BI118: =IF(N118="nulová",J118,0) -> 0 | BJ118: 1 | BK118: =ROUND(I118*H118,2) -> 546.96 | BL118: 4 | BM118: -561087620
D119: Online PSC | F119: https://podminky.urs.cz/item/CS_URS_2025_02/174151101 | AT119: Online PSC | AU119: 2
D120: VV | F120: "Rejchrt" 2*0,4*0,5 | H120: 0.4 | AT120: VV | AU120: 2 | AV120: 2 | AW120: True | AX120: 0 | AY120: ROZPOCET
D121: VV | F121: "Štěpánek" 2*0,4*0,5 | H121: 0.4 | AT121: VV | AU121: 2 | AV121: 2 | AW121: True | AX121: 0 | AY121: ROZPOCET
D122: VV | F122: 6,72-lože-obsyp | H122: 2.64 | AT122: VV | AU122: 2 | AV122: 2 | AW122: True | AX122: 0 | AY122: ROZPOCET
D123: VV | F123: Součet | H123: 3.44 | AT123: VV | AU123: 2 | AV123: 4 | AW123: True | AX123: 1 | AY123: ROZPOCET
C124: 25 | D124: K | E124: 175151101 | F124: Obsypání potrubí strojně sypaninou z vhodných hornin třídy těžitelnosti I a II, skupiny 1 až 4 nebo materiálem připraveným podél výkopu ve vzdálenosti do 3 m od jeho kraje, pro jakoukoliv hloubku výkopu a míru zhutnění bez prohození sypaniny | G124: m3 | H124: 3.6 | I124: 238 | J124: =ROUND(I124*H124,2) -> 856.8 | N124: základní | O124: 0.435 | P124: =O124*H124 -> 1.566 | Q124: 0 | R124: =Q124*H124 -> 0 | S124: 0 | T124: =S124*H124 -> 0 | AR124: 4 | AT124: K | AU124: 2 | AY124: ROZPOCET | BE124: =IF(N124="základní",J124,0) -> 856.8 | BF124: =IF(N124="snížená",J124,0) -> 0 | BG124: =IF(N124="zákl. přenesená",J124,0) -> 0 | BH124: =IF(N124="sníž. přenesená",J124,0) -> 0 | BI124: =IF(N124="nulová",J124,0) -> 0 | BJ124: 1 | BK124: =ROUND(I124*H124,2) -> 856.8 | BL124: 4 | BM124: 746824994
D125: Online PSC | F125: https://podminky.urs.cz/item/CS_URS_2025_02/175151101 | AT125: Online PSC | AU125: 2
D126: VV | E126: obsyp | F126: 9*0,8*0,5 | H126: 3.6 | AT126: VV | AU126: 2 | AV126: 2 | AW126: True | AX126: 1 | AY126: ROZPOCET
C127: 26 | D127: M | E127: 58341341 | F127: kamenivo drcené drobné frakce 0/4 | G127: t | H127: 7.2 | I127: 491 | J127: =ROUND(I127*H127,2) -> 3535.2 | N127: základní | O127: 0 | P127: =O127*H127 -> 0 | Q127: 1 | R127: =Q127*H127 -> 7.2 | S127: 0 | T127: =S127*H127 -> 0 | AR127: 8 | AT127: M | AU127: 2 | AY127: ROZPOCET | BE127: =IF(N127="základní",J127,0) -> 3535.2 | BF127: =IF(N127="snížená",J127,0) -> 0 | BG127: =IF(N127="zákl. přenesená",J127,0) -> 0 | BH127: =IF(N127="sníž. přenesená",J127,0) -> 0 | BI127: =IF(N127="nulová",J127,0) -> 0 | BJ127: 1 | BK127: =ROUND(I127*H127,2) -> 3535.2 | BL127: 4 | BM127: -1905027383
D128: VV | F128: 3,6*2 'Přepočtené koeficientem množství | H128: 7.2 | AT128: VV | AU128: 2 | AV128: 2 | AW128: False | AX128: 1 | AY128: ROZPOCET
D129: D | E129: 2 | F129: Zakládání | J129: =BK129 -> 0 | P129: =SUM(P130:P134) -> 0 | R129: =SUM(R130:R134) -> 0 | T129: =SUM(T130:T134) -> 0 | AR129: 1 | AT129: D | AU129: 1 | AY129: ROZPOCET | BK129: =SUM(BK130:BK134) -> 0
D130: Online PSC | F130: https://podminky.urs.cz/item/CS_URS_2025_02/219991113 | AT130: Online PSC | AU130: 2
D131: VV | F131: 46*1,05 'Přepočtené koeficientem množství | H131: 48.3 | AT131: VV | AU131: 2 | AV131: 2 | AW131: False | AX131: 1 | AY131: ROZPOCET
D132: Online PSC | F132: https://podminky.urs.cz/item/CS_URS_2025_02/219991114 | AT132: Online PSC | AU132: 2
D133: VV | F133: "zekan3" 34 | H133: 34 | AT133: VV | AU133: 2 | AV133: 2 | AW133: True | AX133: 1 | AY133: ROZPOCET
...

Sheet Seznam figur
C4: SEZNAM FIGUR
C5: Kód: | D5: 25-08
C6: Stavba: | D6: Chodníky podél III/29837
C7: Datum: | D7: ='Rekapitulace stavby'!AN8 -> 5. 11. 2025
C9: Kód | D9: Popis | E9: MJ | F9: Výměra
C10: 25-08-04 | D10: Opravy dešťové kanalizace - vícepráce připojení, ...
C11: lože | F11: 0.48
C12: lože | D12: 6*0,8*0,1 | F12: 0.48
C13: Použití figury:
C14: 451573111 | D14: Lože pod potrubí otevřený výkop ze štěrkopísku | E14: m3 | F14: 0.48
C15: 174151101 | D15: Zásyp jam, šachet rýh nebo kolem objektů sypaninou se zhutněním | E15: m3 | F15: 3.44
C16: obsyp | F16: 3.6
C17: obsyp | D17: 9*0,8*0,5 | F17: 3.6
C18: Použití figury:
C19: 175151101 | D19: Obsypání potrubí strojně sypaninou bez prohození, uloženou do 3 m | E19: m3 | F19: 3.6
C20: 171251201 | D20: Uložení sypaniny na skládky nebo meziskládky | E20: m3 | F20: 3.6
C21: 174151101 | D21: Zásyp jam, šachet rýh nebo kolem objektů sypaninou se zhutněním | E21: m3 | F21: 3.44
C22: výkop | F22: 11.72
D23: "odkop na potrubí" 25*1*0,2 | F23: 5
D24: "profil výkopu š.0,8, hl. 1,2m" 7*0,8*1,2 | F24: 6.72
C25: výkop | D25: Součet | F25: 11.72
C26: zásyp | F26: 2.88
C27: zásyp | D27: výkop-lože-obsyp | F27: 2.88
C28: Použití figury:
C29: 162751117 | D29: Vodorovné přemístění přes 9 000 do 10000 m výkopku/sypaniny z horniny třídy těžitelnosti I skupiny 1 až 3 | E29: m3 | F29: 3.84
C30: 162751119 | D30: Příplatek k vodorovnému přemístění výkopku/sypaniny z horniny třídy těžitelnosti I skupiny 1 až 3 ZKD 1000 m přes 10000 m | E30: m3 | F30: 23.04
C31: 167151101 | D31: Nakládání výkopku z hornin třídy těžitelnosti I skupiny 1 až 3 do 100 m3 | E31: m3 | F31: 2.88
C32: 171201231 | D32: Poplatek za uložení zeminy a kamení na recyklační skládce (skládkovné) kód odpadu 17 05 04 | E32: t | F32: 5.184

Sheet Pokyny pro vyplnění
C3: Struktura údajů, formát souboru a metodika pro zpracování
C4: Struktura
C6: Soubor je složen ze záložky Rekapitulace stavby a záložek s názvem soupisu prací pro jednotlivé objekty ve formátu XLSX. Každá ze záložek přitom obsahuje
C7: ještě samostatné sestavy vymezené orámovaním a nadpisem sestavy.
C9: Rekapitulace stavby obsahuje sestavu Rekapitulace stavby a Rekapitulace objektů stavby a soupisů prací.
D10: V sestavě Rekapitulace stavby jsou uvedeny informace identifikující předmět veřejné zakázky na stavební práce, KSO, CC-CZ, CZ-CPV, CZ-CPA a rekapitulaci
D11: celkové nabídkové ceny účastníka.
D13: Termínem "učastník" (resp. zhotovitel) se myslí "účastník zadávacího řízení" ve smyslu zákona o zadávání veřejných zakázek.
D15: V sestavě Rekapitulace objektů stavby a soupisů prací je uvedena rekapitulace stavebních objektů, inženýrských objektů, provozních souborů,
D16: vedlejších a ostatních nákladů a ostatních nákladů s rekapitulací nabídkové ceny za jednotlivé soupisy prací. Na základě údaje Typ je možné
D17: identifikovat, zda se jedná o objekt nebo soupis prací pro daný objekt:
E18: STA | F18: Stavební objekt pozemní
E19: ING | F19: Stavební objekt inženýrský
E20: PRO | F20: Provozní soubor
E21: VON | F21: Vedlejší a ostatní náklady
E22: OST | F22: Ostatní
E23: Soupis | F23: Soupis prací pro daný typ objektu
C25: Soupis prací pro jednotlivé objekty obsahuje sestavy Krycí list soupisu prací, Rekapitulace členění soupisu prací, Soupis prací. Za soupis prací může být považován
C26: i objekt stavby v případě, že neobsahuje podřízenou zakázku.
D27: Krycí list soupisu obsahuje rekapitulaci informací o předmětu veřejné zakázky ze sestavy Rekapitulace stavby, informaci o zařazení objektu do KSO,
D28: CC-CZ, CZ-CPV, CZ-CPA a rekapitulaci celkové nabídkové ceny účastníka za aktuální soupis prací.
D30: Rekapitulace členění soupisu prací obsahuje rekapitulaci soupisu prací ve všech úrovních členění soupisu tak, jak byla tato členění použita (např.
D31: stavební díly, funkční díly, případně jiné členění) s rekapitulací nabídkové ceny.
D33: Soupis prací obsahuje položky veškerých stavebních nebo montážních prací, dodávek materiálů a služeb nezbytných pro zhotovení stavebního objektu,
D34: inženýrského objektu, provozního souboru, vedlejších a ostatních nákladů.
D35: Pro položky soupisu prací se zobrazují následující informace:
E36: PČ | G36: Pořadové číslo položky v aktuálním soupisu
E37: TYP | G37: Typ položky: K - konstrukce, M - materiál, PP - plný popis, PSC - poznámka k souboru cen, P - poznámka k položce, VV - výkaz výměr, FIG - rozpad figur
E38: Kód | G38: Kód položky
E39: Popis | G39: Zkrácený popis položky
E40: MJ | G40: Měrná jednotka položky
E41: Množství | G41: Množství v měrné jednotce
E42: J.cena | G42: Jednotková cena položky. Zadaní může obsahovat namísto J.ceny sloupce J.materiál a J.montáž, jejichž součet definuje
G43: J.cenu položky.
E44: Cena celkem | G44: Celková cena položky daná jako součin množství a j.ceny
E45: Cenová soustava | G45: Příslušnost položky do cenové soustavy
D47: Ke každé položce soupisu prací se na samostatných řádcích může zobrazovat:
E48: Plný popis položky
E49: Poznámka k souboru cen a poznámka zadavatele
E50: Výkaz výměr
D51: Pokud je k řádku výkazu výměr evidovaný údaj ve sloupci Kód, jedná se o definovaný odkaz, na který se může odvolávat výkaz výměr z jiné položky.
C52: Metodika pro zpracování
C54: Jednotlivé sestavy jsou v souboru provázány. Editovatelné pole jsou zvýrazněny žlutým podbarvením, ostatní pole neslouží k editaci a nesmí být jakkoliv
C55: modifikovány.
C57: Účastník je pro podání nabídky povinen vyplnit žlutě podbarvená pole:
D58: Pole Účastník v sestavě Rekapitulace stavby - zde účastník vyplní svůj název (název subjektu)
D59: Pole IČ a DIČ v sestavě Rekapitulace stavby - zde účastník vyplní svoje IČ a DIČ
D60: Datum v sestavě Rekapitulace stavby - zde účastník vyplní datum vytvoření nabídky
D61: J.cena = jednotková cena v sestavě Soupis prací o maximálním počtu desetinných míst uvedených v poli
D62: - pokud sestavy soupisů prací obsahují pole J.cena, měla by být všechna tato pole vyplněna nenulovými
D63: Poznámka - nepovinný údaj pro položku soupisu
D65: V případě, že sestavy soupisů prací neobsahují pole J.cena, potom ve všech soupisech prací obsahují pole:
D66: - J.materiál - jednotková cena materiálu
D67: - J.montáž - jednotková cena montáže
D68: Účastník v tomto případě by měl vyplnit všechna pole J.materiál a pole J.montáž nenulovými kladnými číslicemi. V případech, kdy položka
D69: neobsahuje žádný materiál je přípustné, aby pole J.materiál bylo vyplněno nulou. V případech, kdy položka neobsahuje žádnou montáž je přípustné,
D70: aby pole J.montáž bylo vyplněno nulou. Obě pole - J.materiál, J.Montáž u jedné položky by však neměly být vyplněny nulou.
C75: Rekapitulace stavby
C76: Název | F76: Povinný | H76: Popis | I76: Typ | J76: Max. počet
C77: atributu | F77: (A/N) | J77: znaků
C79: Kód | F79: A | H79: Kód stavby | I79: String | J79: 20
C80: Stavba | F80: A | H80: Název stavby | I80: String | J80: 120
C81: Místo | F81: N | H81: Místo stavby | I81: String | J81: 50
C82: Datum | F82: A | H82: Datum vykonaného exportu | I82: Date
C83: KSO | F83: N | H83: Klasifikace stavebního objektu | I83: String | J83: 15
C84: CC-CZ | F84: N | H84: Klasifikace stavbeních děl | I84: String | J84: 15
C85: CZ-CPV | F85: N | H85: Společný slovník pro veřejné zakázky | I85: String | J85: 20
C86: CZ-CPA | F86: N | H86: Klasifikace produkce podle činností | I86: String | J86: 20
C87: Zadavatel | F87: N | H87: Zadavatel zadaní | I87: String | J87: 50
C88: IČ | F88: N | H88: IČ zadavatele zadaní | I88: String | J88: 20
C89: DIČ | F89: N | H89: DIČ zadavatele zadaní | I89: String | J89: 20
C90: Účastník | F90: N | H90: Účastník veřejné zakázky | I90: String | J90: 50
C91: Projektant | F91: N | H91: Projektant | I91: String | J91: 50
C92: Poznámka | F92: N | H92: Poznámka k zadání | I92: String | J92: 255
C93: Sazba DPH | F93: A | H93: Rekapitulace sazeb DPH u položek soupisů | I93: eGSazbaDph
C94: Základna DPH | F94: A | H94: Základna DPH určena součtem celkové ceny z položek soupisů | I94: Double
C95: Hodnota DPH | F95: A | H95: Hodnota DPH | I95: Double
C96: Cena bez DPH | F96: A | H96: Celková cena bez DPH za celou stavbu. Sčítává se ze všech listů. | I96: Double
C97: Cena s DPH | F97: A | H97: Celková cena s DPH za celou stavbu | I97: Double
C102: Rekapitulace objektů stavby a soupisů prací
C103: Název | F103: Povinný | H103: Popis | I103: Typ | J103: Max. počet
C104: atributu | F104: (A/N) | J104: znaků
C106: Kód | F106: A | H106: Přebírá se z Rekapitulace stavby | I106: String | J106: 20
C107: Stavba | F107: A | H107: Přebírá se z Rekapitulace stavby | I107: String | J107: 120
C108: Místo | F108: N | H108: Přebírá se z Rekapitulace stavby | I108: String | J108: 50
C109: Datum | F109: A | H109: Přebírá se z Rekapitulace stavby | I109: Date
C110: Zadavatel | F110: N | H110: Přebírá se z Rekapitulace stavby | I110: String | J110: 50
C111: Projektant | F111: N | H111: Přebírá se z Rekapitulace stavby | I111: String | J111: 50
C112: Účastník | F112: N | H112: Přebírá se z Rekapitulace stavby | I112: String | J112: 50
C113: Kód | F113: A | H113: Kód objektu | I113: String | J113: 20
C114: Objektu, Soupis prací | F114: A | H114: Název objektu | I114: String | J114: 120
C115: Cena bez DPH | F115: A | H115: Cena bez DPH za daný objekt | I115: Double
C116: Cena s DPH | F116: A | H116: Cena spolu s DPH za daný objekt | I116: Double
C117: Typ | F117: A | H117: Typ zakázky | I117: eGTypZakazky
C122: Krycí list soupisu
C123: Název | F123: Povinný | H123: Popis | I123: Typ | J123: Max. počet
C124: atributu | F124: (A/N) | J124: znaků
C126: Stavba | F126: A | H126: Přebírá se z Rekapitulace stavby | I126: String | J126: 120
C127: Objekt | F127: A | H127: Kód a název objektu | I127: String | J127: 20 + 120
C128: Soupis | F128: A | H128: Kód a název soupisu | I128: String | J128: 20 + 120
...
