Workbook

Sheet Rekapitulace stavby
A1: Export Komplet | AZ1: VZ | BA1: 2.0 | BB1: ZAMOK | BT1: False | BU1: False | BV1: {73297418-b678-431b-86b4-7f0086b6bd2a}
BS2: 0,01 | BT2: 21
BS3: 0,01 | BT3: 12
D4: REKAPITULACE STAVBY | AS4: v --- níže se nacházejí doplnkové a pomocné údaje k sestavám --- v | BS4: 0,001
D5: Kód: | K5: 26-12 | BS5: 0,01
D6: Stavba: | K6: Přístavba šaten ZŠ a MŠ Braňany | BS6: 0,01
D7: KSO: | AK7: CC-CZ: | BS7: 0,01
D8: Místo: | K8: Obec Braňany | AK8: Datum: | AN8: 3. 7. 2026 | BS8: 0,01
BS9: 0,01
D10: Zadavatel: | AK10: IČ: | BS10: 0,01
E11: Obec Braňany | AK11: DIČ: | BS11: 0,01
BS12: 0,01
D13: Účastník: | AK13: IČ: | AN13: Vyplň údaj | BS13: 0,01
E14: Vyplň údaj | AK14: DIČ: | AN14: Vyplň údaj | BS14: 0,01
BS15: False
D16: Projektant: | AK16: IČ: | BS16: False
E17: ISONOE INVEST a.s. | AK17: DIČ: | BS17: True
BS18: 0,01
D19: Zpracovatel: | AK19: IČ: | BS19: 0,01
E20: Obec Braňany | AK20: DIČ: | BS20: False
D22: Poznámka:
E23: Soupis prací je sestaven s využitím Cenové soustavy ÚRS. Položky, které pochází z této cenové soustavy, jsou ve sloupci 'Cenová soustava' označeny popisem 'CS ÚRS' a úrovní příslušného kalendářního pololetí. Veškeré další informace vymezující popis a podmínky použití těchto položek z Cenové soustavy, které nejsou uvedeny přímo v soupisu prací, jsou neomezeně dálkově k dispozici na webu podminky.urs.cz. Kalkulace a stanovení rozpočtu ceny díla budou prováděny v souladu se specifikací. Specifikaci tvoří (i) dokumentace pro provádění stavby ve smyslu příslušné vyhlášky o dokumentaci staveb, (ii) souhrnný technický koncept řešení a standardů vybavení, včetně případně projektu interiéru a knihy povrchových materiálů a prvků, a (iii) dokumentace k územnímu rozhodnutí a stavebnímu povolení (případně společnému povolení), vše sestávající z výkresů, dokumentů, rozhodnutí, souhlasů, stanovisek a vyjádření vztahující se k projektu, které byly zpracovateli cenové nabídky předány před a/nebo v průběhu výběru zhotovitele díla. Při kalkulaci a stanovení rozpočtu ceny díla bude zpracovatel cenové nabídky postupovat dle položek a popisu prací a konstrukčního řešení, jež jsou předmětem díla, a jejich číselného kódu příslušné cenové soustavy, a to vše na základě specifikace, zejména v souladu s technickými, technologickými a materiálovými charakteristikami uvedenými ve specifikaci. Tam, kde položky a jejich číselné kódy příslušné cenové soustavy obsahují v popisu odkaz na dokumentaci pro provádění stavby, bude zpracovatel cenové nabídky při kalkulaci a stanovení rozpočtu ceny díla postupovat dle a v souladu se specifikací uvedenou v dokumentaci pro provádění stavby. V případě jakéhokoliv nesouladu v obsahu jednotlivých shora uvedených dokumentů, které jsou součástí specifikace, je zpracovatel cenové nabídky povinen upozornit zpracovatele dokumentace a vyžádat si upřesnění, který ze shora uvedených dokumentů bude v daném případě rozhodným. Zároveň platí, že zpracovatel cenové nabídky stanoví cenu díla s ohledem na minimálně stejnou kvalitu, provedení, standardy a parametry jako ty uvedené v knize povrchových materiálů Zpracovatel cenové nabídky připraví rozpočet ceny díla a cenovou nabídku za zhotovení díla tak, aby dílo mohlo být dokončeno v kvalitě uvedené ve specifikaci a hodilo se k účelu v souladu se specifikací. Zpracovatel cenové nabídky je povinen jednat s odbornou péči a prověřit správnost a úplnost specifikace a soulad jednotlivých dokumentů, jež jsou součástí specifikace, a nejpozději před předložením finální cenové nabídky upozornit zpracovatele dokumentace na všechny její nejasnosti, chyby, rozpory, nepřesnosti nebo jiné vady. V opačném případě bude specifikace považována za prostou jakýchkoliv nejasností, chyb, rozporů, nepřesností nebo jiných vad a zpracovatel cenové nabídky a/nebo následně zhotovitel díla nebude oprávněn vznášet jakékoliv požadavky nad rámec specifikace (zejména ohledně zvýšení ceny díla) v případě, že některé nejasnosti, chyby, rozpory, nepřesnosti nebo jiné vady budou zjištěny později.
D26: Cena bez DPH | AK26: =ROUND(AG54,2) -> 0
L28: Sazba daně | W28: Základ daně | AK28: Výše daně
D29: DPH | F29: základní | L29: 0.21 | W29: =ROUND(AZ54, 2) -> 0 | AK29: =ROUND(AV54, 2) -> 0
F30: snížená | L30: 0.12 | W30: =ROUND(BA54, 2) -> 0 | AK30: =ROUND(AW54, 2) -> 0
F31: zákl. přenesená | L31: 0.21 | W31: =ROUND(BB54, 2) -> 0 | AK31: 0
F32: sníž. přenesená | L32: 0.12 | W32: =ROUND(BC54, 2) -> 0 | AK32: 0
F33: nulová | L33: 0 | W33: =ROUND(BD54, 2) -> 0 | AK33: 0
D35: Cena s DPH | T35: v | X35: CZK | AK35: =SUM(AK26:AK33) -> 0
C42: REKAPITULACE OBJEKTŮ STAVBY A SOUPISŮ PRACÍ
C44: Kód: | L44: =K5 -> 26-12
C45: Stavba: | L45: =K6 -> Přístavba šaten ZŠ a MŠ Braňany
C47: Místo: | L47: =IF(K8="","",K8) -> Obec Braňany | AI47: Datum: | AM47: =IF(AN8= "","",AN8) -> 3. 7. 2026
C49: Zadavatel: | L49: =IF(E11= "","",E11) -> Obec Braňany | AI49: Projektant: | AM49: =IF(E17="","",E17) -> ISONOE INVEST a.s. | AS49: Informatívní údaje z listů zakázek
C50: Účastník: | L50: =IF(E14= "Vyplň údaj","",E14) | AI50: Zpracovatel: | AM50: =IF(E20="","",E20) -> Obec Braňany
C52: Kód | I52: Popis | AG52: Cena bez DPH [CZK] | AN52: Cena s DPH [CZK] | AQ52: Typ | AS52: z toho Ostat._x000D_ náklady [CZK] | AT52: DPH [CZK] | AU52: Normohodiny [h] | AV52: DPH základní [CZK] | AW52: DPH snížená [CZK] | AX52: DPH základní přenesená_x000D_ [CZK] | AY52: DPH snížená přenesená_x000D_ [CZK] | AZ52: Základna_x000D_ DPH základní | BA52: Základna_x000D_ DPH snížená | BB52: Základna_x000D_ DPH zákl. přenesená | BC52: Základna_x000D_ DPH sníž. přenesená | BD52: Základna_x000D_ DPH nulová
C54: Náklady stavby celkem | AG54: =ROUND(SUM(AG55:AG60),2) -> 0 | AN54: =SUM(AG54,AT54) -> 0 | AS54: =ROUND(SUM(AS55:AS60),2) -> 0 | AT54: =ROUND(SUM(AV54:AW54),2) -> 0 | AU54: =ROUND(SUM(AU55:AU60),5) -> 0 | AV54: =ROUND(AZ54*L29,2) -> 0 | AW54: =ROUND(BA54*L30,2) -> 0 | AX54: =ROUND(BB54*L29,2) -> 0 | AY54: =ROUND(BC54*L30,2) -> 0 | AZ54: =ROUND(SUM(AZ55:AZ60),2) -> 0 | BA54: =ROUND(SUM(BA55:BA60),2) -> 0 | BB54: =ROUND(SUM(BB55:BB60),2) -> 0 | BC54: =ROUND(SUM(BC55:BC60),2) -> 0 | BD54: =ROUND(SUM(BD55:BD60),2) -> 0 | BS54: D | BT54: 0 | BU54: ###NOIMPORT### | BV54: IMPORT | BW54: {73297418-b678-431b-86b4-7f0086b6bd2a} | BX54: {00000000-0000-0000-0000-000000000000}
A55: / | D55: D.1.1 | J55: Architektonicko-s... | AG55: ='D.1.1 - Architektonicko-s...'!J30 -> 0 | AN55: =SUM(AG55,AT55) -> 0 | AQ55: STA | AS55: 0 | AT55: =ROUND(SUM(AV55:AW55),2) -> 0 | AU55: ='D.1.1 - Architektonicko-s...'!P104 -> 0 | AV55: ='D.1.1 - Architektonicko-s...'!J33 -> 0 | AW55: ='D.1.1 - Architektonicko-s...'!J34 -> 0 | AX55: ='D.1.1 - Architektonicko-s...'!J35 -> 0 | AY55: ='D.1.1 - Architektonicko-s...'!J36 -> 0 | AZ55: ='D.1.1 - Architektonicko-s...'!F33 -> 0 | BA55: ='D.1.1 - Architektonicko-s...'!F34 -> 0 | BB55: ='D.1.1 - Architektonicko-s...'!F35 -> 0 | BC55: ='D.1.1 - Architektonicko-s...'!F36 -> 0 | BD55: ='D.1.1 - Architektonicko-s...'!F37 -> 0 | BT55: 1 | BV55: IMPORT | BW55: {1bec51e1-4d66-42ff-be35-eaabe321957d} | BX55: {73297418-b678-431b-86b4-7f0086b6bd2a} | CM55: 2
A56: / | D56: D.1.2 | J56: Ústřední vytápění | AG56: ='D.1.2 - Ústřední vytápění'!J30 -> 0 | AN56: =SUM(AG56,AT56) -> 0 | AQ56: STA | AS56: 0 | AT56: =ROUND(SUM(AV56:AW56),2) -> 0 | AU56: ='D.1.2 - Ústřední vytápění'!P85 -> 0 | AV56: ='D.1.2 - Ústřední vytápění'!J33 -> 0 | AW56: ='D.1.2 - Ústřední vytápění'!J34 -> 0 | AX56: ='D.1.2 - Ústřední vytápění'!J35 -> 0 | AY56: ='D.1.2 - Ústřední vytápění'!J36 -> 0 | AZ56: ='D.1.2 - Ústřední vytápění'!F33 -> 0 | BA56: ='D.1.2 - Ústřední vytápění'!F34 -> 0 | BB56: ='D.1.2 - Ústřední vytápění'!F35 -> 0 | BC56: ='D.1.2 - Ústřední vytápění'!F36 -> 0 | BD56: ='D.1.2 - Ústřední vytápění'!F37 -> 0 | BT56: 1 | BV56: IMPORT | BW56: {9452554f-d09b-4c05-a70e-3a8eb2aec4ba} | BX56: {73297418-b678-431b-86b4-7f0086b6bd2a} | CM56: 2
...

Sheet D.1.1 - Architektonicko-s...
AT2: {1bec51e1-4d66-42ff-be35-eaabe321957d}
AT3: 2
D4: KRYCÍ LIST SOUPISU PRACÍ | M4: v --- níže se nacházejí doplnkové a pomocné údaje k sestavám --- v | AT4: False
D6: Stavba:
E7: ='Rekapitulace stavby'!K6 -> Přístavba šaten ZŠ a MŠ Braňany
D8: Objekt:
E9: D.1.1 - Architektonicko-s...
D11: KSO: | I11: CC-CZ:
D12: Místo: | I12: Datum: | J12: ='Rekapitulace stavby'!AN8 -> 3. 7. 2026
D14: Zadavatel: | I14: IČ: | J14: =IF('Rekapitulace stavby'!AN10="","",'Rekapitulace stavby'!AN10)
E15: =IF('Rekapitulace stavby'!E11="","",'Rekapitulace stavby'!E11) -> Obec Braňany | I15: DIČ: | J15: =IF('Rekapitulace stavby'!AN11="","",'Rekapitulace stavby'!AN11)
D17: Účastník: | I17: IČ: | J17: ='Rekapitulace stavby'!AN13 -> Vyplň údaj
E18: ='Rekapitulace stavby'!E14 -> Vyplň údaj | I18: DIČ: | J18: ='Rekapitulace stavby'!AN14 -> Vyplň údaj
D20: Projektant: | I20: IČ: | J20: =IF('Rekapitulace stavby'!AN16="","",'Rekapitulace stavby'!AN16)
E21: =IF('Rekapitulace stavby'!E17="","",'Rekapitulace stavby'!E17) -> ISONOE INVEST a.s. | I21: DIČ: | J21: =IF('Rekapitulace stavby'!AN17="","",'Rekapitulace stavby'!AN17)
D23: Zpracovatel: | I23: IČ: | J23: =IF('Rekapitulace stavby'!AN19="","",'Rekapitulace stavby'!AN19)
E24: =IF('Rekapitulace stavby'!E20="","",'Rekapitulace stavby'!E20) -> Obec Braňany | I24: DIČ: | J24: =IF('Rekapitulace stavby'!AN20="","",'Rekapitulace stavby'!AN20)
D26: Poznámka:
D30: Cena bez DPH | J30: =ROUND(J104, 2) -> 0
F32: Základ daně | I32: Sazba daně | J32: Výše daně
D33: DPH | E33: základní | F33: =ROUND((SUM(BE104:BE841)), 2) -> 0 | I33: 0.21 | J33: =ROUND(((SUM(BE104:BE841))*I33), 2) -> 0
E34: snížená | F34: =ROUND((SUM(BF104:BF841)), 2) -> 0 | I34: 0.12 | J34: =ROUND(((SUM(BF104:BF841))*I34), 2) -> 0
E35: zákl. přenesená | F35: =ROUND((SUM(BG104:BG841)), 2) -> 0 | I35: 0.21 | J35: =0 -> 0
E36: sníž. přenesená | F36: =ROUND((SUM(BH104:BH841)), 2) -> 0 | I36: 0.12 | J36: =0 -> 0
E37: nulová | F37: =ROUND((SUM(BI104:BI841)), 2) -> 0 | I37: 0 | J37: =0 -> 0
D39: Cena s DPH | G39: v | H39: CZK | J39: =SUM(J30:J37) -> 0
C45: REKAPITULACE ČLENĚNÍ SOUPISU PRACÍ
C47: Stavba:
E48: =E7 -> Přístavba šaten ZŠ a MŠ Braňany
C49: Objekt:
E50: =E9 -> D.1.1 - Architektonicko-s...
C52: Místo: | F52: =F12 | I52: Datum: | J52: =IF(J12="","",J12) -> 3. 7. 2026
C54: Zadavatel: | F54: =E15 -> Obec Braňany | I54: Projektant: | J54: =E21 -> ISONOE INVEST a.s.
C55: Účastník: | F55: =IF(E18="","",E18) -> Vyplň údaj | I55: Zpracovatel: | J55: =E24 -> Obec Braňany
C57: Kód dílu - Popis | J57: Cena celkem [CZK]
C59: Náklady stavby celkem | J59: =J104 -> 0 | AU59: -1
D60: HSV - Práce a dodávky HSV | J60: =J105 -> 0
D61: 1 - Zemní práce | J61: =J106 -> 0
D62: 2 - Zakládání | J62: =J198 -> 0
D63: 3 - Svislé a kompletní konstrukce | J63: =J264 -> 0
...

Sheet D.1.2 - Ústřední vytápění
AT2: {9452554f-d09b-4c05-a70e-3a8eb2aec4ba}
AT3: 2
D4: KRYCÍ LIST SOUPISU PRACÍ | M4: v --- níže se nacházejí doplnkové a pomocné údaje k sestavám --- v | AT4: False
D6: Stavba:
E7: ='Rekapitulace stavby'!K6 -> Přístavba šaten ZŠ a MŠ Braňany
D8: Objekt:
E9: D.1.2 - Ústřední vytápění
D11: KSO: | I11: CC-CZ:
D12: Místo: | I12: Datum: | J12: ='Rekapitulace stavby'!AN8 -> 3. 7. 2026
D14: Zadavatel: | I14: IČ: | J14: =IF('Rekapitulace stavby'!AN10="","",'Rekapitulace stavby'!AN10)
E15: =IF('Rekapitulace stavby'!E11="","",'Rekapitulace stavby'!E11) -> Obec Braňany | I15: DIČ: | J15: =IF('Rekapitulace stavby'!AN11="","",'Rekapitulace stavby'!AN11)
D17: Účastník: | I17: IČ: | J17: ='Rekapitulace stavby'!AN13 -> Vyplň údaj
E18: ='Rekapitulace stavby'!E14 -> Vyplň údaj | I18: DIČ: | J18: ='Rekapitulace stavby'!AN14 -> Vyplň údaj
D20: Projektant: | I20: IČ: | J20: =IF('Rekapitulace stavby'!AN16="","",'Rekapitulace stavby'!AN16)
E21: =IF('Rekapitulace stavby'!E17="","",'Rekapitulace stavby'!E17) -> ISONOE INVEST a.s. | I21: DIČ: | J21: =IF('Rekapitulace stavby'!AN17="","",'Rekapitulace stavby'!AN17)
D23: Zpracovatel: | I23: IČ: | J23: =IF('Rekapitulace stavby'!AN19="","",'Rekapitulace stavby'!AN19)
E24: =IF('Rekapitulace stavby'!E20="","",'Rekapitulace stavby'!E20) -> Obec Braňany | I24: DIČ: | J24: =IF('Rekapitulace stavby'!AN20="","",'Rekapitulace stavby'!AN20)
D26: Poznámka:
D30: Cena bez DPH | J30: =ROUND(J85, 2) -> 0
F32: Základ daně | I32: Sazba daně | J32: Výše daně
D33: DPH | E33: základní | F33: =ROUND((SUM(BE85:BE144)), 2) -> 0 | I33: 0.21 | J33: =ROUND(((SUM(BE85:BE144))*I33), 2) -> 0
E34: snížená | F34: =ROUND((SUM(BF85:BF144)), 2) -> 0 | I34: 0.12 | J34: =ROUND(((SUM(BF85:BF144))*I34), 2) -> 0
E35: zákl. přenesená | F35: =ROUND((SUM(BG85:BG144)), 2) -> 0 | I35: 0.21 | J35: =0 -> 0
E36: sníž. přenesená | F36: =ROUND((SUM(BH85:BH144)), 2) -> 0 | I36: 0.12 | J36: =0 -> 0
E37: nulová | F37: =ROUND((SUM(BI85:BI144)), 2) -> 0 | I37: 0 | J37: =0 -> 0
D39: Cena s DPH | G39: v | H39: CZK | J39: =SUM(J30:J37) -> 0
C45: REKAPITULACE ČLENĚNÍ SOUPISU PRACÍ
C47: Stavba:
E48: =E7 -> Přístavba šaten ZŠ a MŠ Braňany
C49: Objekt:
E50: =E9 -> D.1.2 - Ústřední vytápění
C52: Místo: | F52: =F12 | I52: Datum: | J52: =IF(J12="","",J12) -> 3. 7. 2026
C54: Zadavatel: | F54: =E15 -> Obec Braňany | I54: Projektant: | J54: =E21 -> ISONOE INVEST a.s.
C55: Účastník: | F55: =IF(E18="","",E18) -> Vyplň údaj | I55: Zpracovatel: | J55: =E24 -> Obec Braňany
C57: Kód dílu - Popis | J57: Cena celkem [CZK]
C59: Náklady stavby celkem | J59: =J85 -> 0 | AU59: -1
D60: HSV - Práce a dodávky HSV | J60: =J86 -> 0
D61: 9 - Ostatní konstrukce a práce, bourání | J61: =J87 -> 0
D62: PSV - Práce a dodávky PSV | J62: =J90 -> 0
D63: 733 - Ústřední vytápění - rozvodné potrubí | J63: =J91 -> 0
...

Sheet D.1.3 - VZT
AT2: {69499ad2-efc2-48ea-8aaa-d212d70993d1}
AT3: 2
D4: KRYCÍ LIST SOUPISU PRACÍ | M4: v --- níže se nacházejí doplnkové a pomocné údaje k sestavám --- v | AT4: False
D6: Stavba:
E7: ='Rekapitulace stavby'!K6 -> Přístavba šaten ZŠ a MŠ Braňany
D8: Objekt:
E9: D.1.3 - VZT
D11: KSO: | I11: CC-CZ:
D12: Místo: | I12: Datum: | J12: ='Rekapitulace stavby'!AN8 -> 3. 7. 2026
D14: Zadavatel: | I14: IČ: | J14: =IF('Rekapitulace stavby'!AN10="","",'Rekapitulace stavby'!AN10)
E15: =IF('Rekapitulace stavby'!E11="","",'Rekapitulace stavby'!E11) -> Obec Braňany | I15: DIČ: | J15: =IF('Rekapitulace stavby'!AN11="","",'Rekapitulace stavby'!AN11)
D17: Účastník: | I17: IČ: | J17: ='Rekapitulace stavby'!AN13 -> Vyplň údaj
E18: ='Rekapitulace stavby'!E14 -> Vyplň údaj | I18: DIČ: | J18: ='Rekapitulace stavby'!AN14 -> Vyplň údaj
D20: Projektant: | I20: IČ: | J20: =IF('Rekapitulace stavby'!AN16="","",'Rekapitulace stavby'!AN16)
E21: =IF('Rekapitulace stavby'!E17="","",'Rekapitulace stavby'!E17) -> ISONOE INVEST a.s. | I21: DIČ: | J21: =IF('Rekapitulace stavby'!AN17="","",'Rekapitulace stavby'!AN17)
D23: Zpracovatel: | I23: IČ: | J23: =IF('Rekapitulace stavby'!AN19="","",'Rekapitulace stavby'!AN19)
E24: =IF('Rekapitulace stavby'!E20="","",'Rekapitulace stavby'!E20) -> Obec Braňany | I24: DIČ: | J24: =IF('Rekapitulace stavby'!AN20="","",'Rekapitulace stavby'!AN20)
D26: Poznámka:
D30: Cena bez DPH | J30: =ROUND(J83, 2) -> 0
F32: Základ daně | I32: Sazba daně | J32: Výše daně
D33: DPH | E33: základní | F33: =ROUND((SUM(BE83:BE118)), 2) -> 0 | I33: 0.21 | J33: =ROUND(((SUM(BE83:BE118))*I33), 2) -> 0
E34: snížená | F34: =ROUND((SUM(BF83:BF118)), 2) -> 0 | I34: 0.12 | J34: =ROUND(((SUM(BF83:BF118))*I34), 2) -> 0
E35: zákl. přenesená | F35: =ROUND((SUM(BG83:BG118)), 2) -> 0 | I35: 0.21 | J35: =0 -> 0
E36: sníž. přenesená | F36: =ROUND((SUM(BH83:BH118)), 2) -> 0 | I36: 0.12 | J36: =0 -> 0
E37: nulová | F37: =ROUND((SUM(BI83:BI118)), 2) -> 0 | I37: 0 | J37: =0 -> 0
D39: Cena s DPH | G39: v | H39: CZK | J39: =SUM(J30:J37) -> 0
C45: REKAPITULACE ČLENĚNÍ SOUPISU PRACÍ
C47: Stavba:
E48: =E7 -> Přístavba šaten ZŠ a MŠ Braňany
C49: Objekt:
E50: =E9 -> D.1.3 - VZT
C52: Místo: | F52: =F12 | I52: Datum: | J52: =IF(J12="","",J12) -> 3. 7. 2026
C54: Zadavatel: | F54: =E15 -> Obec Braňany | I54: Projektant: | J54: =E21 -> ISONOE INVEST a.s.
C55: Účastník: | F55: =IF(E18="","",E18) -> Vyplň údaj | I55: Zpracovatel: | J55: =E24 -> Obec Braňany
C57: Kód dílu - Popis | J57: Cena celkem [CZK]
C59: Náklady stavby celkem | J59: =J83 -> 0 | AU59: -1
D60: HSV - Práce a dodávky HSV | J60: =J84 -> 0
D61: 9 - Ostatní konstrukce a práce, bourání | J61: =J85 -> 0
D62: PSV - Práce a dodávky PSV | J62: =J88 -> 0
D63: 751 - Vzduchotechnika | J63: =J89 -> 0
...

Sheet D.1.4 - Dešťová kanalizace
AT2: {d6d47393-3c52-484f-8bb5-3ab7d0454aaa}
AT3: 2
D4: KRYCÍ LIST SOUPISU PRACÍ | M4: v --- níže se nacházejí doplnkové a pomocné údaje k sestavám --- v | AT4: False
D6: Stavba:
E7: ='Rekapitulace stavby'!K6 -> Přístavba šaten ZŠ a MŠ Braňany
D8: Objekt:
E9: D.1.4 - Dešťová kanalizace
D11: KSO: | I11: CC-CZ:
D12: Místo: | I12: Datum: | J12: ='Rekapitulace stavby'!AN8 -> 3. 7. 2026
D14: Zadavatel: | I14: IČ: | J14: =IF('Rekapitulace stavby'!AN10="","",'Rekapitulace stavby'!AN10)
E15: =IF('Rekapitulace stavby'!E11="","",'Rekapitulace stavby'!E11) -> Obec Braňany | I15: DIČ: | J15: =IF('Rekapitulace stavby'!AN11="","",'Rekapitulace stavby'!AN11)
D17: Účastník: | I17: IČ: | J17: ='Rekapitulace stavby'!AN13 -> Vyplň údaj
E18: ='Rekapitulace stavby'!E14 -> Vyplň údaj | I18: DIČ: | J18: ='Rekapitulace stavby'!AN14 -> Vyplň údaj
D20: Projektant: | I20: IČ: | J20: =IF('Rekapitulace stavby'!AN16="","",'Rekapitulace stavby'!AN16)
E21: =IF('Rekapitulace stavby'!E17="","",'Rekapitulace stavby'!E17) -> ISONOE INVEST a.s. | I21: DIČ: | J21: =IF('Rekapitulace stavby'!AN17="","",'Rekapitulace stavby'!AN17)
D23: Zpracovatel: | I23: IČ: | J23: =IF('Rekapitulace stavby'!AN19="","",'Rekapitulace stavby'!AN19)
E24: =IF('Rekapitulace stavby'!E20="","",'Rekapitulace stavby'!E20) -> Obec Braňany | I24: DIČ: | J24: =IF('Rekapitulace stavby'!AN20="","",'Rekapitulace stavby'!AN20)
D26: Poznámka:
D30: Cena bez DPH | J30: =ROUND(J88, 2) -> 0
F32: Základ daně | I32: Sazba daně | J32: Výše daně
D33: DPH | E33: základní | F33: =ROUND((SUM(BE88:BE211)), 2) -> 0 | I33: 0.21 | J33: =ROUND(((SUM(BE88:BE211))*I33), 2) -> 0
E34: snížená | F34: =ROUND((SUM(BF88:BF211)), 2) -> 0 | I34: 0.12 | J34: =ROUND(((SUM(BF88:BF211))*I34), 2) -> 0
E35: zákl. přenesená | F35: =ROUND((SUM(BG88:BG211)), 2) -> 0 | I35: 0.21 | J35: =0 -> 0
E36: sníž. přenesená | F36: =ROUND((SUM(BH88:BH211)), 2) -> 0 | I36: 0.12 | J36: =0 -> 0
E37: nulová | F37: =ROUND((SUM(BI88:BI211)), 2) -> 0 | I37: 0 | J37: =0 -> 0
D39: Cena s DPH | G39: v | H39: CZK | J39: =SUM(J30:J37) -> 0
C45: REKAPITULACE ČLENĚNÍ SOUPISU PRACÍ
C47: Stavba:
E48: =E7 -> Přístavba šaten ZŠ a MŠ Braňany
C49: Objekt:
E50: =E9 -> D.1.4 - Dešťová kanalizace
C52: Místo: | F52: =F12 | I52: Datum: | J52: =IF(J12="","",J12) -> 3. 7. 2026
C54: Zadavatel: | F54: =E15 -> Obec Braňany | I54: Projektant: | J54: =E21 -> ISONOE INVEST a.s.
C55: Účastník: | F55: =IF(E18="","",E18) -> Vyplň údaj | I55: Zpracovatel: | J55: =E24 -> Obec Braňany
C57: Kód dílu - Popis | J57: Cena celkem [CZK]
C59: Náklady stavby celkem | J59: =J88 -> 0 | AU59: -1
D60: HSV - Práce a dodávky HSV | J60: =J89 -> 0
D61: 1 - Zemní práce | J61: =J90 -> 0
D62: 4 - Vodorovné konstrukce | J62: =J127 -> 0
D63: 8 - Trubní vedení | J63: =J132 -> 0
...

Sheet D.1.5 - Silnoproud
AT2: {c299eb07-c861-459c-b66c-5202a0a73e72}
AT3: 2
D4: KRYCÍ LIST SOUPISU PRACÍ | M4: v --- níže se nacházejí doplnkové a pomocné údaje k sestavám --- v | AT4: False
D6: Stavba:
E7: ='Rekapitulace stavby'!K6 -> Přístavba šaten ZŠ a MŠ Braňany
D8: Objekt:
E9: D.1.5 - Silnoproud
D11: KSO: | I11: CC-CZ:
D12: Místo: | I12: Datum: | J12: ='Rekapitulace stavby'!AN8 -> 3. 7. 2026
D14: Zadavatel: | I14: IČ: | J14: =IF('Rekapitulace stavby'!AN10="","",'Rekapitulace stavby'!AN10)
E15: =IF('Rekapitulace stavby'!E11="","",'Rekapitulace stavby'!E11) -> Obec Braňany | I15: DIČ: | J15: =IF('Rekapitulace stavby'!AN11="","",'Rekapitulace stavby'!AN11)
D17: Účastník: | I17: IČ: | J17: ='Rekapitulace stavby'!AN13 -> Vyplň údaj
E18: ='Rekapitulace stavby'!E14 -> Vyplň údaj | I18: DIČ: | J18: ='Rekapitulace stavby'!AN14 -> Vyplň údaj
D20: Projektant: | I20: IČ: | J20: =IF('Rekapitulace stavby'!AN16="","",'Rekapitulace stavby'!AN16)
E21: =IF('Rekapitulace stavby'!E17="","",'Rekapitulace stavby'!E17) -> ISONOE INVEST a.s. | I21: DIČ: | J21: =IF('Rekapitulace stavby'!AN17="","",'Rekapitulace stavby'!AN17)
D23: Zpracovatel: | I23: IČ: | J23: =IF('Rekapitulace stavby'!AN19="","",'Rekapitulace stavby'!AN19)
E24: =IF('Rekapitulace stavby'!E20="","",'Rekapitulace stavby'!E20) -> Obec Braňany | I24: DIČ: | J24: =IF('Rekapitulace stavby'!AN20="","",'Rekapitulace stavby'!AN20)
D26: Poznámka:
D30: Cena bez DPH | J30: =ROUND(J90, 2) -> 0
F32: Základ daně | I32: Sazba daně | J32: Výše daně
D33: DPH | E33: základní | F33: =ROUND((SUM(BE90:BE224)), 2) -> 0 | I33: 0.21 | J33: =ROUND(((SUM(BE90:BE224))*I33), 2) -> 0
E34: snížená | F34: =ROUND((SUM(BF90:BF224)), 2) -> 0 | I34: 0.12 | J34: =ROUND(((SUM(BF90:BF224))*I34), 2) -> 0
E35: zákl. přenesená | F35: =ROUND((SUM(BG90:BG224)), 2) -> 0 | I35: 0.21 | J35: =0 -> 0
E36: sníž. přenesená | F36: =ROUND((SUM(BH90:BH224)), 2) -> 0 | I36: 0.12 | J36: =0 -> 0
E37: nulová | F37: =ROUND((SUM(BI90:BI224)), 2) -> 0 | I37: 0 | J37: =0 -> 0
D39: Cena s DPH | G39: v | H39: CZK | J39: =SUM(J30:J37) -> 0
C45: REKAPITULACE ČLENĚNÍ SOUPISU PRACÍ
C47: Stavba:
E48: =E7 -> Přístavba šaten ZŠ a MŠ Braňany
C49: Objekt:
E50: =E9 -> D.1.5 - Silnoproud
C52: Místo: | F52: =F12 | I52: Datum: | J52: =IF(J12="","",J12) -> 3. 7. 2026
C54: Zadavatel: | F54: =E15 -> Obec Braňany | I54: Projektant: | J54: =E21 -> ISONOE INVEST a.s.
C55: Účastník: | F55: =IF(E18="","",E18) -> Vyplň údaj | I55: Zpracovatel: | J55: =E24 -> Obec Braňany
C57: Kód dílu - Popis | J57: Cena celkem [CZK]
C59: Náklady stavby celkem | J59: =J90 -> 0 | AU59: -1
D60: PSV - Práce a dodávky PSV | J60: =J91 -> 0
D61: 741 - Elektroinstalace - silnoproud | J61: =J92 -> 0
D62: KAB - Kabelové trasy | J62: =J93 -> 0
D63: KOMP - Kompletace | J63: =J110 -> 0
...

Sheet VRN - Vedlejší rozpočtové...
AT2: {1829dd54-96c6-49b4-a036-c404f00ad3ce}
AT3: 2
D4: KRYCÍ LIST SOUPISU PRACÍ | M4: v --- níže se nacházejí doplnkové a pomocné údaje k sestavám --- v | AT4: False
D6: Stavba:
E7: ='Rekapitulace stavby'!K6 -> Přístavba šaten ZŠ a MŠ Braňany
D8: Objekt:
E9: VRN - Vedlejší rozpočtové...
D11: KSO: | I11: CC-CZ:
D12: Místo: | I12: Datum: | J12: ='Rekapitulace stavby'!AN8 -> 3. 7. 2026
D14: Zadavatel: | I14: IČ: | J14: =IF('Rekapitulace stavby'!AN10="","",'Rekapitulace stavby'!AN10)
E15: =IF('Rekapitulace stavby'!E11="","",'Rekapitulace stavby'!E11) -> Obec Braňany | I15: DIČ: | J15: =IF('Rekapitulace stavby'!AN11="","",'Rekapitulace stavby'!AN11)
D17: Účastník: | I17: IČ: | J17: ='Rekapitulace stavby'!AN13 -> Vyplň údaj
E18: ='Rekapitulace stavby'!E14 -> Vyplň údaj | I18: DIČ: | J18: ='Rekapitulace stavby'!AN14 -> Vyplň údaj
D20: Projektant: | I20: IČ: | J20: =IF('Rekapitulace stavby'!AN16="","",'Rekapitulace stavby'!AN16)
E21: =IF('Rekapitulace stavby'!E17="","",'Rekapitulace stavby'!E17) -> ISONOE INVEST a.s. | I21: DIČ: | J21: =IF('Rekapitulace stavby'!AN17="","",'Rekapitulace stavby'!AN17)
D23: Zpracovatel: | I23: IČ: | J23: =IF('Rekapitulace stavby'!AN19="","",'Rekapitulace stavby'!AN19)
E24: =IF('Rekapitulace stavby'!E20="","",'Rekapitulace stavby'!E20) -> Obec Braňany | I24: DIČ: | J24: =IF('Rekapitulace stavby'!AN20="","",'Rekapitulace stavby'!AN20)
D26: Poznámka:
D30: Cena bez DPH | J30: =ROUND(J86, 2) -> 0
F32: Základ daně | I32: Sazba daně | J32: Výše daně
D33: DPH | E33: základní | F33: =ROUND((SUM(BE86:BE106)), 2) -> 0 | I33: 0.21 | J33: =ROUND(((SUM(BE86:BE106))*I33), 2) -> 0
E34: snížená | F34: =ROUND((SUM(BF86:BF106)), 2) -> 0 | I34: 0.12 | J34: =ROUND(((SUM(BF86:BF106))*I34), 2) -> 0
E35: zákl. přenesená | F35: =ROUND((SUM(BG86:BG106)), 2) -> 0 | I35: 0.21 | J35: =0 -> 0
E36: sníž. přenesená | F36: =ROUND((SUM(BH86:BH106)), 2) -> 0 | I36: 0.12 | J36: =0 -> 0
E37: nulová | F37: =ROUND((SUM(BI86:BI106)), 2) -> 0 | I37: 0 | J37: =0 -> 0
D39: Cena s DPH | G39: v | H39: CZK | J39: =SUM(J30:J37) -> 0
C45: REKAPITULACE ČLENĚNÍ SOUPISU PRACÍ
C47: Stavba:
E48: =E7 -> Přístavba šaten ZŠ a MŠ Braňany
C49: Objekt:
E50: =E9 -> VRN - Vedlejší rozpočtové...
C52: Místo: | F52: =F12 | I52: Datum: | J52: =IF(J12="","",J12) -> 3. 7. 2026
C54: Zadavatel: | F54: =E15 -> Obec Braňany | I54: Projektant: | J54: =E21 -> ISONOE INVEST a.s.
C55: Účastník: | F55: =IF(E18="","",E18) -> Vyplň údaj | I55: Zpracovatel: | J55: =E24 -> Obec Braňany
C57: Kód dílu - Popis | J57: Cena celkem [CZK]
C59: Náklady stavby celkem | J59: =J86 -> 0 | AU59: -1
D60: VRN - Vedlejší rozpočtové náklady | J60: =J87 -> 0
D61: VRN1 - Průzkumné, geodetické a projektové práce | J61: =J88 -> 0
D62: VRN3 - Zařízení staveniště | J62: =J94 -> 0
D63: VRN4 - Inženýrská činnost | J63: =J96 -> 0
...

Sheet Pokyny pro vyplnění
C3: Struktura údajů, formát souboru a metodika pro zpracování
C4: Struktura
C6: Soubor je složen ze záložky Rekapitulace stavby a záložek s názvem soupisu prací pro jednotlivé objekty ve formátu XLSX. Každá ze záložek přitom obsahuje
C7: ještě samostatné sestavy vymezené orámovaním a nadpisem sestavy.
C9: Rekapitulace stavby obsahuje sestavu Rekapitulace stavby a Rekapitulace objektů stavby a soupisů prací.
D10: V sestavě Rekapitulace stavby jsou uvedeny informace identifikující předmět veřejné zakázky na stavební práce, KSO, CC-CZ, CZ-CPV, CZ-CPA a rekapitulaci
D11: celkové nabídkové ceny účastníka.
D13: Termínem "učastník" (resp. zhotovitel) se myslí "účastník zadávacího řízení" ve smyslu zákona o zadávání veřejných zakázek.
D15: V sestavě Rekapitulace objektů stavby a soupisů prací je uvedena rekapitulace stavebních objektů, inženýrských objektů, provozních souborů,
D16: vedlejších a ostatních nákladů a ostatních nákladů s rekapitulací nabídkové ceny za jednotlivé soupisy prací. Na základě údaje Typ je možné
D17: identifikovat, zda se jedná o objekt nebo soupis prací pro daný objekt:
E18: STA | F18: Stavební objekt pozemní
E19: ING | F19: Stavební objekt inženýrský
E20: PRO | F20: Provozní soubor
E21: VON | F21: Vedlejší a ostatní náklady
E22: OST | F22: Ostatní
E23: Soupis | F23: Soupis prací pro daný typ objektu
C25: Soupis prací pro jednotlivé objekty obsahuje sestavy Krycí list soupisu prací, Rekapitulace členění soupisu prací, Soupis prací. Za soupis prací může být považován
C26: i objekt stavby v případě, že neobsahuje podřízenou zakázku.
D27: Krycí list soupisu obsahuje rekapitulaci informací o předmětu veřejné zakázky ze sestavy Rekapitulace stavby, informaci o zařazení objektu do KSO,
D28: CC-CZ, CZ-CPV, CZ-CPA a rekapitulaci celkové nabídkové ceny účastníka za aktuální soupis prací.
D30: Rekapitulace členění soupisu prací obsahuje rekapitulaci soupisu prací ve všech úrovních členění soupisu tak, jak byla tato členění použita (např.
D31: stavební díly, funkční díly, případně jiné členění) s rekapitulací nabídkové ceny.
D33: Soupis prací obsahuje položky veškerých stavebních nebo montážních prací, dodávek materiálů a služeb nezbytných pro zhotovení stavebního objektu,
D34: inženýrského objektu, provozního souboru, vedlejších a ostatních nákladů.
D35: Pro položky soupisu prací se zobrazují následující informace:
E36: PČ | G36: Pořadové číslo položky v aktuálním soupisu
E37: TYP | G37: Typ položky: K - konstrukce, M - materiál, PP - plný popis, PSC - poznámka k souboru cen, P - poznámka k položce, VV - výkaz výměr, FIG - rozpad figur
E38: Kód | G38: Kód položky
E39: Popis | G39: Zkrácený popis položky
E40: MJ | G40: Měrná jednotka položky
E41: Množství | G41: Množství v měrné jednotce
E42: J.cena | G42: Jednotková cena položky. Zadaní může obsahovat namísto J.ceny sloupce J.materiál a J.montáž, jejichž součet definuje
G43: J.cenu položky.
E44: Cena celkem | G44: Celková cena položky daná jako součin množství a j.ceny
E45: Cenová soustava | G45: Příslušnost položky do cenové soustavy
D47: Ke každé položce soupisu prací se na samostatných řádcích může zobrazovat:
E48: Plný popis položky
E49: Poznámka k souboru cen a poznámka zadavatele
E50: Výkaz výměr
...
