Workbook

Sheet Rekapitulace stavby
A1: Export Komplet | AZ1: VZ | BA1: 2.0 | BB1: ZAMOK | BT1: False | BU1: False | BV1: {73297418-b678-431b-86b4-7f0086b6bd2a}
BS2: 0,01 | BT2: 21
BS3: 0,01 | BT3: 12
D4: REKAPITULACE STAVBY | AS4: v --- níže se nacházejí doplnkové a pomocné údaje k sestavám --- v | BS4: 0,001
D5: Kód: | K5: 26-12 | BS5: 0,01
D6: Stavba: | K6: Přístavba šaten ZŠ a MŠ Braňany | BS6: 0,01
D7: KSO: | AK7: CC-CZ: | BS7: 0,01
D8: Místo: | K8: Obec Braňany | AK8: Datum: | AN8: 3. 7. 2026 | BS8: 0,01
BS9: 0,01
D10: Zadavatel: | AK10: IČ: | BS10: 0,01
E11: Obec Braňany | AK11: DIČ: | BS11: 0,01
BS12: 0,01
D13: Účastník: | AK13: IČ: | AN13: Vyplň údaj | BS13: 0,01
E14: Vyplň údaj | AK14: DIČ: | AN14: Vyplň údaj | BS14: 0,01
BS15: False
D16: Projektant: | AK16: IČ: | BS16: False
E17: ISONOE INVEST a.s. | AK17: DIČ: | BS17: True
BS18: 0,01
D19: Zpracovatel: | AK19: IČ: | BS19: 0,01
E20: Obec Braňany | AK20: DIČ: | BS20: False
D22: Poznámka:
E23: Soupis prací je sestaven s využitím Cenové soustavy ÚRS. Položky, které pochází z této cenové soustavy, jsou ve sloupci 'Cenová soustava' označeny popisem 'CS ÚRS' a úrovní příslušného kalendářního pololetí. Veškeré další informace vymezující popis a podmínky použití těchto položek z Cenové soustavy, které nejsou uvedeny přímo v soupisu prací, jsou neomezeně dálkově k dispozici na webu podminky.urs.cz. Kalkulace a stanovení rozpočtu ceny díla budou prováděny v souladu se specifikací. Specifikaci tvoří (i) dokumentace pro provádění stavby ve smyslu příslušné vyhlášky o dokumentaci staveb, (ii) souhrnný technický koncept řešení a standardů vybavení, včetně případně projektu interiéru a knihy povrchových materiálů a prvků, a (iii) dokumentace k územnímu rozhodnutí a stavebnímu povolení (případně společnému povolení), vše sestávající z výkresů, dokumentů, rozhodnutí, souhlasů, stanovisek a vyjádření vztahující se k projektu, které byly zpracovateli cenové nabídky předány před a/nebo v průběhu výběru zhotovitele díla. Při kalkulaci a stanovení rozpočtu ceny díla bude zpracovatel cenové nabídky postupovat dle položek a popisu prací a konstrukčního řešení, jež jsou předmětem díla, a jejich číselného kódu příslušné cenové soustavy, a to vše na základě specifikace, zejména v souladu s technickými, technologickými a materiálovými charakteristikami uvedenými ve specifikaci. Tam, kde položky a jejich číselné kódy příslušné cenové soustavy obsahují v popisu odkaz na dokumentaci pro provádění stavby, bude zpracovatel cenové nabídky při kalkulaci a stanovení rozpočtu ceny díla postupovat dle a v souladu se specifikací uvedenou v dokumentaci pro provádění stavby. V případě jakéhokoliv nesouladu v obsahu jednotlivých shora uvedených dokumentů, které jsou součástí specifikace, je zpracovatel cenové nabídky povinen upozornit zpracovatele dokumentace a vyžádat si upřesnění, který ze shora uvedených dokumentů bude v daném případě rozhodným. Zároveň platí, že zpracovatel cenové nabídky stanoví cenu díla s ohledem na minimálně stejnou kvalitu, provedení, standardy a parametry jako ty uvedené v knize povrchových materiálů Zpracovatel cenové nabídky připraví rozpočet ceny díla a cenovou nabídku za zhotovení díla tak, aby dílo mohlo být dokončeno v kvalitě uvedené ve specifikaci a hodilo se k účelu v souladu se specifikací. Zpracovatel cenové nabídky je povinen jednat s odbornou péči a prověřit správnost a úplnost specifikace a soulad jednotlivých dokumentů, jež jsou součástí specifikace, a nejpozději před předložením finální cenové nabídky upozornit zpracovatele dokumentace na všechny její nejasnosti, chyby, rozpory, nepřesnosti nebo jiné vady. V opačném případě bude specifikace považována za prostou jakýchkoliv nejasností, chyb, rozporů, nepřesností nebo jiných vad a zpracovatel cenové nabídky a/nebo následně zhotovitel díla nebude oprávněn vznášet jakékoliv požadavky nad rámec specifikace (zejména ohledně zvýšení ceny díla) v případě, že některé nejasnosti, chyby, rozpory, nepřesnosti nebo jiné vady budou zjištěny později.
D26: Cena bez DPH | AK26: =ROUND(AG54,2) -> 0
L28: Sazba daně | W28: Základ daně | AK28: Výše daně
D29: DPH | F29: základní | L29: 0.21 | W29: =ROUND(AZ54, 2) -> 0 | AK29: =ROUND(AV54, 2) -> 0
F30: snížená | L30: 0.12 | W30: =ROUND(BA54, 2) -> 0 | AK30: =ROUND(AW54, 2) -> 0
F31: zákl. přenesená | L31: 0.21 | W31: =ROUND(BB54, 2) -> 0 | AK31: 0
F32: sníž. přenesená | L32: 0.12 | W32: =ROUND(BC54, 2) -> 0 | AK32: 0
F33: nulová | L33: 0 | W33: =ROUND(BD54, 2) -> 0 | AK33: 0
D35: Cena s DPH | T35: v | X35: CZK | AK35: =SUM(AK26:AK33) -> 0
C42: REKAPITULACE OBJEKTŮ STAVBY A SOUPISŮ PRACÍ
C44: Kód: | L44: =K5 -> 26-12
C45: Stavba: | L45: =K6 -> Přístavba šaten ZŠ a MŠ Braňany
C47: Místo: | L47: =IF(K8="","",K8) -> Obec Braňany | AI47: Datum: | AM47: =IF(AN8= "","",AN8) -> 3. 7. 2026
C49: Zadavatel: | L49: =IF(E11= "","",E11) -> Obec Braňany | AI49: Projektant: | AM49: =IF(E17="","",E17) -> ISONOE INVEST a.s. | AS49: Informatívní údaje z listů zakázek
C50: Účastník: | L50: =IF(E14= "Vyplň údaj","",E14) | AI50: Zpracovatel: | AM50: =IF(E20="","",E20) -> Obec Braňany
C52: Kód | I52: Popis | AG52: Cena bez DPH [CZK] | AN52: Cena s DPH [CZK] | AQ52: Typ | AS52: z toho Ostat._x000D_ náklady [CZK] | AT52: DPH [CZK] | AU52: Normohodiny [h] | AV52: DPH základní [CZK] | AW52: DPH snížená [CZK] | AX52: DPH základní přenesená_x000D_ [CZK] | AY52: DPH snížená přenesená_x000D_ [CZK] | AZ52: Základna_x000D_ DPH základní | BA52: Základna_x000D_ DPH snížená | BB52: Základna_x000D_ DPH zákl. přenesená | BC52: Základna_x000D_ DPH sníž. přenesená | BD52: Základna_x000D_ DPH nulová
C54: Náklady stavby celkem | AG54: =ROUND(SUM(AG55:AG60),2) -> 0 | AN54: =SUM(AG54,AT54) -> 0 | AS54: =ROUND(SUM(AS55:AS60),2) -> 0 | AT54: =ROUND(SUM(AV54:AW54),2) -> 0 | AU54: =ROUND(SUM(AU55:AU60),5) -> 0 | AV54: =ROUND(AZ54*L29,2) -> 0 | AW54: =ROUND(BA54*L30,2) -> 0 | AX54: =ROUND(BB54*L29,2) -> 0 | AY54: =ROUND(BC54*L30,2) -> 0 | AZ54: =ROUND(SUM(AZ55:AZ60),2) -> 0 | BA54: =ROUND(SUM(BA55:BA60),2) -> 0 | BB54: =ROUND(SUM(BB55:BB60),2) -> 0 | BC54: =ROUND(SUM(BC55:BC60),2) -> 0 | BD54: =ROUND(SUM(BD55:BD60),2) -> 0 | BS54: D | BT54: 0 | BU54: ###NOIMPORT### | BV54: IMPORT | BW54: {73297418-b678-431b-86b4-7f0086b6bd2a} | BX54: {00000000-0000-0000-0000-000000000000}
A55: / | D55: D.1.1 | J55: Architektonicko-s... | AG55: ='D.1.1 - Architektonicko-s...'!J30 -> 0 | AN55: =SUM(AG55,AT55) -> 0 | AQ55: STA | AS55: 0 | AT55: =ROUND(SUM(AV55:AW55),2) -> 0 | AU55: ='D.1.1 - Architektonicko-s...'!P104 -> 0 | AV55: ='D.1.1 - Architektonicko-s...'!J33 -> 0 | AW55: ='D.1.1 - Architektonicko-s...'!J34 -> 0 | AX55: ='D.1.1 - Architektonicko-s...'!J35 -> 0 | AY55: ='D.1.1 - Architektonicko-s...'!J36 -> 0 | AZ55: ='D.1.1 - Architektonicko-s...'!F33 -> 0 | BA55: ='D.1.1 - Architektonicko-s...'!F34 -> 0 | BB55: ='D.1.1 - Architektonicko-s...'!F35 -> 0 | BC55: ='D.1.1 - Architektonicko-s...'!F36 -> 0 | BD55: ='D.1.1 - Architektonicko-s...'!F37 -> 0 | BT55: 1 | BV55: IMPORT | BW55: {1bec51e1-4d66-42ff-be35-eaabe321957d} | BX55: {73297418-b678-431b-86b4-7f0086b6bd2a} | CM55: 2
A56: / | D56: D.1.2 | J56: Ústřední vytápění | AG56: ='D.1.2 - Ústřední vytápění'!J30 -> 0 | AN56: =SUM(AG56,AT56) -> 0 | AQ56: STA | AS56: 0 | AT56: =ROUND(SUM(AV56:AW56),2) -> 0 | AU56: ='D.1.2 - Ústřední vytápění'!P85 -> 0 | AV56: ='D.1.2 - Ústřední vytápění'!J33 -> 0 | AW56: ='D.1.2 - Ústřední vytápění'!J34 -> 0 | AX56: ='D.1.2 - Ústřední vytápění'!J35 -> 0 | AY56: ='D.1.2 - Ústřední vytápění'!J36 -> 0 | AZ56: ='D.1.2 - Ústřední vytápění'!F33 -> 0 | BA56: ='D.1.2 - Ústřední vytápění'!F34 -> 0 | BB56: ='D.1.2 - Ústřední vytápění'!F35 -> 0 | BC56: ='D.1.2 - Ústřední vytápění'!F36 -> 0 | BD56: ='D.1.2 - Ústřední vytápění'!F37 -> 0 | BT56: 1 | BV56: IMPORT | BW56: {9452554f-d09b-4c05-a70e-3a8eb2aec4ba} | BX56: {73297418-b678-431b-86b4-7f0086b6bd2a} | CM56: 2
A57: / | D57: D.1.3 | J57: VZT | AG57: ='D.1.3 - VZT'!J30 -> 0 | AN57: =SUM(AG57,AT57) -> 0 | AQ57: STA | AS57: 0 | AT57: =ROUND(SUM(AV57:AW57),2) -> 0 | AU57: ='D.1.3 - VZT'!P83 -> 0 | AV57: ='D.1.3 - VZT'!J33 -> 0 | AW57: ='D.1.3 - VZT'!J34 -> 0 | AX57: ='D.1.3 - VZT'!J35 -> 0 | AY57: ='D.1.3 - VZT'!J36 -> 0 | AZ57: ='D.1.3 - VZT'!F33 -> 0 | BA57: ='D.1.3 - VZT'!F34 -> 0 | BB57: ='D.1.3 - VZT'!F35 -> 0 | BC57: ='D.1.3 - VZT'!F36 -> 0 | BD57: ='D.1.3 - VZT'!F37 -> 0 | BT57: 1 | BV57: IMPORT | BW57: {69499ad2-efc2-48ea-8aaa-d212d70993d1} | BX57: {73297418-b678-431b-86b4-7f0086b6bd2a} | CM57: 2
A58: / | D58: D.1.4 | J58: Dešťová kanalizace | AG58: ='D.1.4 - Dešťová kanalizace'!J30 -> 0 | AN58: =SUM(AG58,AT58) -> 0 | AQ58: STA | AS58: 0 | AT58: =ROUND(SUM(AV58:AW58),2) -> 0 | AU58: ='D.1.4 - Dešťová kanalizace'!P88 -> 0 | AV58: ='D.1.4 - Dešťová kanalizace'!J33 -> 0 | AW58: ='D.1.4 - Dešťová kanalizace'!J34 -> 0 | AX58: ='D.1.4 - Dešťová kanalizace'!J35 -> 0 | AY58: ='D.1.4 - Dešťová kanalizace'!J36 -> 0 | AZ58: ='D.1.4 - Dešťová kanalizace'!F33 -> 0 | BA58: ='D.1.4 - Dešťová kanalizace'!F34 -> 0 | BB58: ='D.1.4 - Dešťová kanalizace'!F35 -> 0 | BC58: ='D.1.4 - Dešťová kanalizace'!F36 -> 0 | BD58: ='D.1.4 - Dešťová kanalizace'!F37 -> 0 | BT58: 1 | BV58: IMPORT | BW58: {d6d47393-3c52-484f-8bb5-3ab7d0454aaa} | BX58: {73297418-b678-431b-86b4-7f0086b6bd2a} | CM58: 2
A59: / | D59: D.1.5 | J59: Silnoproud | AG59: ='D.1.5 - Silnoproud'!J30 -> 0 | AN59: =SUM(AG59,AT59) -> 0 | AQ59: STA | AS59: 0 | AT59: =ROUND(SUM(AV59:AW59),2) -> 0 | AU59: ='D.1.5 - Silnoproud'!P90 -> 0 | AV59: ='D.1.5 - Silnoproud'!J33 -> 0 | AW59: ='D.1.5 - Silnoproud'!J34 -> 0 | AX59: ='D.1.5 - Silnoproud'!J35 -> 0 | AY59: ='D.1.5 - Silnoproud'!J36 -> 0 | AZ59: ='D.1.5 - Silnoproud'!F33 -> 0 | BA59: ='D.1.5 - Silnoproud'!F34 -> 0 | BB59: ='D.1.5 - Silnoproud'!F35 -> 0 | BC59: ='D.1.5 - Silnoproud'!F36 -> 0 | BD59: ='D.1.5 - Silnoproud'!F37 -> 0 | BT59: 1 | BV59: IMPORT | BW59: {c299eb07-c861-459c-b66c-5202a0a73e72} | BX59: {73297418-b678-431b-86b4-7f0086b6bd2a} | CM59: 2
A60: / | D60: VRN | J60: Vedlejší rozpočtové... | AG60: ='VRN - Vedlejší rozpočtové...'!J30 -> 0 | AN60: =SUM(AG60,AT60) -> 0 | AQ60: STA | AS60: 0 | AT60: =ROUND(SUM(AV60:AW60),2) -> 0 | AU60: ='VRN - Vedlejší rozpočtové...'!P86 -> 0 | AV60: ='VRN - Vedlejší rozpočtové...'!J33 -> 0 | AW60: ='VRN - Vedlejší rozpočtové...'!J34 -> 0 | AX60: ='VRN - Vedlejší rozpočtové...'!J35 -> 0 | AY60: ='VRN - Vedlejší rozpočtové...'!J36 -> 0 | AZ60: ='VRN - Vedlejší rozpočtové...'!F33 -> 0 | BA60: ='VRN - Vedlejší rozpočtové...'!F34 -> 0 | BB60: ='VRN - Vedlejší rozpočtové...'!F35 -> 0 | BC60: ='VRN - Vedlejší rozpočtové...'!F36 -> 0 | BD60: ='VRN - Vedlejší rozpočtové...'!F37 -> 0 | BT60: 1 | BV60: IMPORT | BW60: {1829dd54-96c6-49b4-a036-c404f00ad3ce} | BX60: {73297418-b678-431b-86b4-7f0086b6bd2a} | CM60: 2

Sheet D.1.1 - Architektonicko-s...
AT2: {1bec51e1-4d66-42ff-be35-eaabe321957d}
AT3: 2
D4: KRYCÍ LIST SOUPISU PRACÍ | M4: v --- níže se nacházejí doplnkové a pomocné údaje k sestavám --- v | AT4: False
D6: Stavba:
E7: ='Rekapitulace stavby'!K6 -> Přístavba šaten ZŠ a MŠ Braňany
D8: Objekt:
E9: D.1.1 - Architektonicko-s...
D11: KSO: | I11: CC-CZ:
D12: Místo: | I12: Datum: | J12: ='Rekapitulace stavby'!AN8 -> 3. 7. 2026
D14: Zadavatel: | I14: IČ: | J14: =IF('Rekapitulace stavby'!AN10="","",'Rekapitulace stavby'!AN10)
E15: =IF('Rekapitulace stavby'!E11="","",'Rekapitulace stavby'!E11) -> Obec Braňany | I15: DIČ: | J15: =IF('Rekapitulace stavby'!AN11="","",'Rekapitulace stavby'!AN11)
D17: Účastník: | I17: IČ: | J17: ='Rekapitulace stavby'!AN13 -> Vyplň údaj
E18: ='Rekapitulace stavby'!E14 -> Vyplň údaj | I18: DIČ: | J18: ='Rekapitulace stavby'!AN14 -> Vyplň údaj
D20: Projektant: | I20: IČ: | J20: =IF('Rekapitulace stavby'!AN16="","",'Rekapitulace stavby'!AN16)
E21: =IF('Rekapitulace stavby'!E17="","",'Rekapitulace stavby'!E17) -> ISONOE INVEST a.s. | I21: DIČ: | J21: =IF('Rekapitulace stavby'!AN17="","",'Rekapitulace stavby'!AN17)
D23: Zpracovatel: | I23: IČ: | J23: =IF('Rekapitulace stavby'!AN19="","",'Rekapitulace stavby'!AN19)
E24: =IF('Rekapitulace stavby'!E20="","",'Rekapitulace stavby'!E20) -> Obec Braňany | I24: DIČ: | J24: =IF('Rekapitulace stavby'!AN20="","",'Rekapitulace stavby'!AN20)
D26: Poznámka:
D30: Cena bez DPH | J30: =ROUND(J104, 2) -> 0
F32: Základ daně | I32: Sazba daně | J32: Výše daně
D33: DPH | E33: základní | F33: =ROUND((SUM(BE104:BE841)), 2) -> 0 | I33: 0.21 | J33: =ROUND(((SUM(BE104:BE841))*I33), 2) -> 0
E34: snížená | F34: =ROUND((SUM(BF104:BF841)), 2) -> 0 | I34: 0.12 | J34: =ROUND(((SUM(BF104:BF841))*I34), 2) -> 0
E35: zákl. přenesená | F35: =ROUND((SUM(BG104:BG841)), 2) -> 0 | I35: 0.21 | J35: =0 -> 0
E36: sníž. přenesená | F36: =ROUND((SUM(BH104:BH841)), 2) -> 0 | I36: 0.12 | J36: =0 -> 0
E37: nulová | F37: =ROUND((SUM(BI104:BI841)), 2) -> 0 | I37: 0 | J37: =0 -> 0
D39: Cena s DPH | G39: v | H39: CZK | J39: =SUM(J30:J37) -> 0
C45: REKAPITULACE ČLENĚNÍ SOUPISU PRACÍ
C47: Stavba:
E48: =E7 -> Přístavba šaten ZŠ a MŠ Braňany
C49: Objekt:
E50: =E9 -> D.1.1 - Architektonicko-s...
C52: Místo: | F52: =F12 | I52: Datum: | J52: =IF(J12="","",J12) -> 3. 7. 2026
C54: Zadavatel: | F54: =E15 -> Obec Braňany | I54: Projektant: | J54: =E21 -> ISONOE INVEST a.s.
C55: Účastník: | F55: =IF(E18="","",E18) -> Vyplň údaj | I55: Zpracovatel: | J55: =E24 -> Obec Braňany
C57: Kód dílu - Popis | J57: Cena celkem [CZK]
C59: Náklady stavby celkem | J59: =J104 -> 0 | AU59: -1
D60: HSV - Práce a dodávky HSV | J60: =J105 -> 0
D61: 1 - Zemní práce | J61: =J106 -> 0
D62: 2 - Zakládání | J62: =J198 -> 0
D63: 3 - Svislé a kompletní konstrukce | J63: =J264 -> 0
D64: 4 - Vodorovné konstrukce | J64: =J294 -> 0
D65: 6 - Úpravy povrchů, podlahy a osazování výplní | J65: =J336 -> 0
D66: 9 - Ostatní konstrukce a práce, bourání | J66: =J409 -> 0
D67: 997 - Doprava suti a vybouraných hmot | J67: =J468 -> 0
D68: 998 - Přesun hmot | J68: =J501 -> 0
D69: PSV - Práce a dodávky PSV | J69: =J504 -> 0
D70: 711 - Izolace proti vodě, vlhkosti a plynům | J70: =J505 -> 0
D71: 712 - Povlakové krytiny | J71: =J543 -> 0
D72: 713 - Izolace tepelné | J72: =J584 -> 0
D73: 762 - Konstrukce tesařské | J73: =J632 -> 0
D74: 763 - Konstrukce suché výstavby | J74: =J639 -> 0
D75: 764 - Konstrukce klempířské | J75: =J658 -> 0
D76: 766 - Konstrukce truhlářské | J76: =J690 -> 0
D77: 766.1 - Dveře | J77: =J699 -> 0
D78: 766.2 - Okna | J78: =J706 -> 0
D79: 766.3 - Vybavení | J79: =J714 -> 0
D80: 767 - Konstrukce zámečnické | J80: =J723 -> 0
D81: 771 - Podlahy z dlaždic | J81: =J745 -> 0
D82: 783 - Dokončovací práce - nátěry | J82: =J787 -> 0
D83: 784 - Dokončovací práce - malby a tapety | J83: =J803 -> 0
D84: 789 - Povrchové úpravy ocelových konstrukcí a technologických zařízení | J84: =J815 -> 0
C91: SOUPIS PRACÍ
C93: Stavba:
E94: =E7 -> Přístavba šaten ZŠ a MŠ Braňany
C95: Objekt:
E96: =E9 -> D.1.1 - Architektonicko-s...
C98: Místo: | F98: =F12 | I98: Datum: | J98: =IF(J12="","",J12) -> 3. 7. 2026
C100: Zadavatel: | F100: =E15 -> Obec Braňany | I100: Projektant: | J100: =E21 -> ISONOE INVEST a.s.
C101: Účastník: | F101: =IF(E18="","",E18) -> Vyplň údaj | I101: Zpracovatel: | J101: =E24 -> Obec Braňany
C103: PČ | D103: Typ | E103: Kód | F103: Popis | G103: MJ | H103: Množství | I103: J.cena [CZK] | J103: Cena celkem [CZK] | K103: Cenová soustava | N103: DPH | O103: J. Nh [h] | P103: Nh celkem [h] | Q103: J. hmotnost [t] | R103: Hmotnost celkem [t] | S103: J. suť [t] | T103: Suť Celkem [t]
C104: Náklady soupisu celkem | J104: =BK104 -> 0 | P104: =P105+P504 -> 0 | R104: =R105+R504 -> 0 | T104: =T105+T504 -> 0 | AT104: D | AU104: -1 | BK104: =BK105+BK504 -> 0
D105: D | E105: HSV | F105: Práce a dodávky HSV | J105: =BK105 -> 0 | P105: =P106+P198+P264+P294+P336+P409+P468+P501 -> 0 | R105: =R106+R198+R264+R294+R336+R409+R468+R501 -> 0 | T105: =T106+T198+T264+T294+T336+T409+T468+T501 -> 0 | AR105: 1 | AT105: D | AU105: 0 | AY105: ROZPOCET | BK105: =BK106+BK198+BK264+BK294+BK336+BK409+BK468+BK501 -> 0
D106: D | E106: 1 | F106: Zemní práce | J106: =BK106 -> 0 | P106: =SUM(P107:P197) -> 0 | R106: =SUM(R107:R197) -> 0 | T106: =SUM(T107:T197) -> 0 | AR106: 1 | AT106: D | AU106: 1 | AY106: ROZPOCET | BK106: =SUM(BK107:BK197) -> 0
C107: 1 | D107: K | E107: 113106121 | F107: Rozebrání dlažeb komunikací pro pěší s přemístěním hmot na skládku na vzdálenost do 3 m nebo s naložením na dopravní prostředek s ložem z kameniva nebo živice a s jakoukoliv výplní spár ručně z betonových nebo kameninových dlaždic, desek nebo tvarovek | G107: m2 | H107: 46 | J107: =ROUND(I107*H107,2) -> 0 | K107: CS ÚRS 2026 01 | N107: základní | P107: =O107*H107 -> 0 | Q107: 0 | R107: =Q107*H107 -> 0 | S107: 0 | T107: =S107*H107 -> 0 | AR107: 4 | AT107: K | AU107: 2 | AY107: ROZPOCET | BE107: =IF(N107="základní",J107,0) -> 0 | BF107: =IF(N107="snížená",J107,0) -> 0 | BG107: =IF(N107="zákl. přenesená",J107,0) -> 0 | BH107: =IF(N107="sníž. přenesená",J107,0) -> 0 | BI107: =IF(N107="nulová",J107,0) -> 0 | BJ107: 1 | BK107: =ROUND(I107*H107,2) -> 0 | BL107: 4 | BM107: 2
D108: Online PSC | F108: https://podminky.urs.cz/item/CS_URS_2026_01/113106121 | AT108: Online PSC | AU108: 2
D109: VV | F109: bourání stávající dlažby 300x300x30mm | AT109: VV | AU109: 2 | AV109: 1 | AW109: True | AX109: 0 | AY109: ROZPOCET
D110: VV | F110: 46 | H110: 46 | AT110: VV | AU110: 2 | AV110: 2 | AW110: True | AX110: 0 | AY110: ROZPOCET
D111: VV | F111: Součet | H111: 46 | AT111: VV | AU111: 2 | AV111: 4 | AW111: True | AX111: 1 | AY111: ROZPOCET
C112: 2 | D112: K | E112: 113107122 | F112: Odstranění podkladů nebo krytů ručně s přemístěním hmot na skládku na vzdálenost do 3 m nebo s naložením na dopravní prostředek z kameniva hrubého drceného, o tl. vrstvy přes 100 do 200 mm | G112: m2 | H112: 1.093 | J112: =ROUND(I112*H112,2) -> 0 | K112: CS ÚRS 2026 01 | N112: základní | P112: =O112*H112 -> 0 | Q112: 0 | R112: =Q112*H112 -> 0 | S112: 0 | T112: =S112*H112 -> 0 | AR112: 4 | AT112: K | AU112: 2 | AY112: ROZPOCET | BE112: =IF(N112="základní",J112,0) -> 0 | BF112: =IF(N112="snížená",J112,0) -> 0 | BG112: =IF(N112="zákl. přenesená",J112,0) -> 0 | BH112: =IF(N112="sníž. přenesená",J112,0) -> 0 | BI112: =IF(N112="nulová",J112,0) -> 0 | BJ112: 1 | BK112: =ROUND(I112*H112,2) -> 0 | BL112: 4 | BM112: 4
D113: Online PSC | F113: https://podminky.urs.cz/item/CS_URS_2026_01/113107122 | AT113: Online PSC | AU113: 2
D114: VV | F114: Vybourání betonu 300x500mm | AT114: VV | AU114: 2 | AV114: 1 | AW114: True | AX114: 0 | AY114: ROZPOCET
D115: VV | F115: (12,306+0,8+0,8+4,307)*0,3*0,2 | H115: 1.093 | AT115: VV | AU115: 2 | AV115: 2 | AW115: True | AX115: 0 | AY115: ROZPOCET
D116: VV | F116: Součet | H116: 1.093 | AT116: VV | AU116: 2 | AV116: 4 | AW116: True | AX116: 1 | AY116: ROZPOCET
C117: 3 | D117: K | E117: 113107139 | F117: Odstranění podkladů nebo krytů ručně s přemístěním hmot na skládku na vzdálenost do 3 m nebo s naložením na dopravní prostředek z betonu vyztuženého sítěmi, o tl. vrstvy přes 400 do 500 mm | G117: m2 | H117: 5.464 | J117: =ROUND(I117*H117,2) -> 0 | K117: CS ÚRS 2026 01 | N117: základní | P117: =O117*H117 -> 0 | Q117: 0 | R117: =Q117*H117 -> 0 | S117: 0 | T117: =S117*H117 -> 0 | AR117: 4 | AT117: K | AU117: 2 | AY117: ROZPOCET | BE117: =IF(N117="základní",J117,0) -> 0 | BF117: =IF(N117="snížená",J117,0) -> 0 | BG117: =IF(N117="zákl. přenesená",J117,0) -> 0 | BH117: =IF(N117="sníž. přenesená",J117,0) -> 0 | BI117: =IF(N117="nulová",J117,0) -> 0 | BJ117: 1 | BK117: =ROUND(I117*H117,2) -> 0 | BL117: 4 | BM117: 6
D118: Online PSC | F118: https://podminky.urs.cz/item/CS_URS_2026_01/113107139 | AT118: Online PSC | AU118: 2
D119: VV | F119: Vybourání betonu 300x500mm | AT119: VV | AU119: 2 | AV119: 1 | AW119: True | AX119: 0 | AY119: ROZPOCET
D120: VV | F120: (12,306+0,8+0,8+4,307)*0,3 | H120: 5.464 | AT120: VV | AU120: 2 | AV120: 2 | AW120: True | AX120: 0 | AY120: ROZPOCET
D121: VV | F121: Součet | H121: 5.464 | AT121: VV | AU121: 2 | AV121: 4 | AW121: True | AX121: 1 | AY121: ROZPOCET
C122: 4 | D122: K | E122: 113107323 | F122: Odstranění podkladů nebo krytů strojně plochy jednotlivě do 50 m2 s přemístěním hmot na skládku na vzdálenost do 3 m nebo s naložením na dopravní prostředek z kameniva hrubého drceného, o tl. vrstvy přes 200 do 300 mm | G122: m2 | H122: 3.65 | J122: =ROUND(I122*H122,2) -> 0 | K122: CS ÚRS 2026 01 | N122: základní | P122: =O122*H122 -> 0 | Q122: 0 | R122: =Q122*H122 -> 0 | S122: 0 | T122: =S122*H122 -> 0 | AR122: 4 | AT122: K | AU122: 2 | AY122: ROZPOCET | BE122: =IF(N122="základní",J122,0) -> 0 | BF122: =IF(N122="snížená",J122,0) -> 0 | BG122: =IF(N122="zákl. přenesená",J122,0) -> 0 | BH122: =IF(N122="sníž. přenesená",J122,0) -> 0 | BI122: =IF(N122="nulová",J122,0) -> 0 | BJ122: 1 | BK122: =ROUND(I122*H122,2) -> 0 | BL122: 4 | BM122: 8
D123: Online PSC | F123: https://podminky.urs.cz/item/CS_URS_2026_01/113107323 | AT123: Online PSC | AU123: 2
D124: VV | F124: okapový chodník | AT124: VV | AU124: 2 | AV124: 1 | AW124: True | AX124: 0 | AY124: ROZPOCET
D125: VV | F125: (4,5+10,1)*0,25 | H125: 3.65 | AT125: VV | AU125: 2 | AV125: 2 | AW125: True | AX125: 0 | AY125: ROZPOCET
D126: VV | F126: Součet | H126: 3.65 | AT126: VV | AU126: 2 | AV126: 4 | AW126: True | AX126: 1 | AY126: ROZPOCET
C127: 5 | D127: K | E127: 113107324 | F127: Odstranění podkladů nebo krytů strojně plochy jednotlivě do 50 m2 s přemístěním hmot na skládku na vzdálenost do 3 m nebo s naložením na dopravní prostředek z kameniva hrubého drceného, o tl. vrstvy přes 300 do 400 mm | G127: m2 | H127: 46 | J127: =ROUND(I127*H127,2) -> 0 | K127: CS ÚRS 2026 01 | N127: základní | P127: =O127*H127 -> 0 | Q127: 0 | R127: =Q127*H127 -> 0 | S127: 0 | T127: =S127*H127 -> 0 | AR127: 4 | AT127: K | AU127: 2 | AY127: ROZPOCET | BE127: =IF(N127="základní",J127,0) -> 0 | BF127: =IF(N127="snížená",J127,0) -> 0 | BG127: =IF(N127="zákl. přenesená",J127,0) -> 0 | BH127: =IF(N127="sníž. přenesená",J127,0) -> 0 | BI127: =IF(N127="nulová",J127,0) -> 0 | BJ127: 1 | BK127: =ROUND(I127*H127,2) -> 0 | BL127: 4 | BM127: 10
D128: Online PSC | F128: https://podminky.urs.cz/item/CS_URS_2026_01/113107324 | AT128: Online PSC | AU128: 2
D129: VV | F129: bourání stávající dlažby 300x300x30mm | AT129: VV | AU129: 2 | AV129: 1 | AW129: True | AX129: 0 | AY129: ROZPOCET
D130: VV | F130: 46 | H130: 46 | AT130: VV | AU130: 2 | AV130: 2 | AW130: True | AX130: 0 | AY130: ROZPOCET
D131: VV | F131: Součet | H131: 46 | AT131: VV | AU131: 2 | AV131: 4 | AW131: True | AX131: 1 | AY131: ROZPOCET
C132: 6 | D132: K | E132: 113204111 | F132: Vytrhání obrub s vybouráním lože, s přemístěním hmot na skládku na vzdálenost do 3 m nebo s naložením na dopravní prostředek záhonových | G132: m | H132: 24.6 | J132: =ROUND(I132*H132,2) -> 0 | K132: CS ÚRS 2026 01 | N132: základní | P132: =O132*H132 -> 0 | Q132: 0 | R132: =Q132*H132 -> 0 | S132: 0 | T132: =S132*H132 -> 0 | AR132: 4 | AT132: K | AU132: 2 | AY132: ROZPOCET | BE132: =IF(N132="základní",J132,0) -> 0 | BF132: =IF(N132="snížená",J132,0) -> 0 | BG132: =IF(N132="zákl. přenesená",J132,0) -> 0 | BH132: =IF(N132="sníž. přenesená",J132,0) -> 0 | BI132: =IF(N132="nulová",J132,0) -> 0 | BJ132: 1 | BK132: =ROUND(I132*H132,2) -> 0 | BL132: 4 | BM132: 12
D133: Online PSC | F133: https://podminky.urs.cz/item/CS_URS_2026_01/113204111 | AT133: Online PSC | AU133: 2
...

Sheet D.1.2 - Ústřední vytápění
AT2: {9452554f-d09b-4c05-a70e-3a8eb2aec4ba}
AT3: 2
D4: KRYCÍ LIST SOUPISU PRACÍ | M4: v --- níže se nacházejí doplnkové a pomocné údaje k sestavám --- v | AT4: False
D6: Stavba:
E7: ='Rekapitulace stavby'!K6 -> Přístavba šaten ZŠ a MŠ Braňany
D8: Objekt:
E9: D.1.2 - Ústřední vytápění
D11: KSO: | I11: CC-CZ:
D12: Místo: | I12: Datum: | J12: ='Rekapitulace stavby'!AN8 -> 3. 7. 2026
D14: Zadavatel: | I14: IČ: | J14: =IF('Rekapitulace stavby'!AN10="","",'Rekapitulace stavby'!AN10)
E15: =IF('Rekapitulace stavby'!E11="","",'Rekapitulace stavby'!E11) -> Obec Braňany | I15: DIČ: | J15: =IF('Rekapitulace stavby'!AN11="","",'Rekapitulace stavby'!AN11)
D17: Účastník: | I17: IČ: | J17: ='Rekapitulace stavby'!AN13 -> Vyplň údaj
E18: ='Rekapitulace stavby'!E14 -> Vyplň údaj | I18: DIČ: | J18: ='Rekapitulace stavby'!AN14 -> Vyplň údaj
D20: Projektant: | I20: IČ: | J20: =IF('Rekapitulace stavby'!AN16="","",'Rekapitulace stavby'!AN16)
E21: =IF('Rekapitulace stavby'!E17="","",'Rekapitulace stavby'!E17) -> ISONOE INVEST a.s. | I21: DIČ: | J21: =IF('Rekapitulace stavby'!AN17="","",'Rekapitulace stavby'!AN17)
D23: Zpracovatel: | I23: IČ: | J23: =IF('Rekapitulace stavby'!AN19="","",'Rekapitulace stavby'!AN19)
E24: =IF('Rekapitulace stavby'!E20="","",'Rekapitulace stavby'!E20) -> Obec Braňany | I24: DIČ: | J24: =IF('Rekapitulace stavby'!AN20="","",'Rekapitulace stavby'!AN20)
D26: Poznámka:
D30: Cena bez DPH | J30: =ROUND(J85, 2) -> 0
F32: Základ daně | I32: Sazba daně | J32: Výše daně
D33: DPH | E33: základní | F33: =ROUND((SUM(BE85:BE144)), 2) -> 0 | I33: 0.21 | J33: =ROUND(((SUM(BE85:BE144))*I33), 2) -> 0
E34: snížená | F34: =ROUND((SUM(BF85:BF144)), 2) -> 0 | I34: 0.12 | J34: =ROUND(((SUM(BF85:BF144))*I34), 2) -> 0
E35: zákl. přenesená | F35: =ROUND((SUM(BG85:BG144)), 2) -> 0 | I35: 0.21 | J35: =0 -> 0
E36: sníž. přenesená | F36: =ROUND((SUM(BH85:BH144)), 2) -> 0 | I36: 0.12 | J36: =0 -> 0
E37: nulová | F37: =ROUND((SUM(BI85:BI144)), 2) -> 0 | I37: 0 | J37: =0 -> 0
D39: Cena s DPH | G39: v | H39: CZK | J39: =SUM(J30:J37) -> 0
C45: REKAPITULACE ČLENĚNÍ SOUPISU PRACÍ
C47: Stavba:
E48: =E7 -> Přístavba šaten ZŠ a MŠ Braňany
C49: Objekt:
E50: =E9 -> D.1.2 - Ústřední vytápění
C52: Místo: | F52: =F12 | I52: Datum: | J52: =IF(J12="","",J12) -> 3. 7. 2026
C54: Zadavatel: | F54: =E15 -> Obec Braňany | I54: Projektant: | J54: =E21 -> ISONOE INVEST a.s.
C55: Účastník: | F55: =IF(E18="","",E18) -> Vyplň údaj | I55: Zpracovatel: | J55: =E24 -> Obec Braňany
C57: Kód dílu - Popis | J57: Cena celkem [CZK]
C59: Náklady stavby celkem | J59: =J85 -> 0 | AU59: -1
D60: HSV - Práce a dodávky HSV | J60: =J86 -> 0
D61: 9 - Ostatní konstrukce a práce, bourání | J61: =J87 -> 0
D62: PSV - Práce a dodávky PSV | J62: =J90 -> 0
D63: 733 - Ústřední vytápění - rozvodné potrubí | J63: =J91 -> 0
D64: 734 - Ústřední vytápění - armatury | J64: =J104 -> 0
D65: 736 - Ústřední vytápění - plošné vytápění a chlazení | J65: =J112 -> 0
C72: SOUPIS PRACÍ
C74: Stavba:
E75: =E7 -> Přístavba šaten ZŠ a MŠ Braňany
C76: Objekt:
E77: =E9 -> D.1.2 - Ústřední vytápění
C79: Místo: | F79: =F12 | I79: Datum: | J79: =IF(J12="","",J12) -> 3. 7. 2026
C81: Zadavatel: | F81: =E15 -> Obec Braňany | I81: Projektant: | J81: =E21 -> ISONOE INVEST a.s.
C82: Účastník: | F82: =IF(E18="","",E18) -> Vyplň údaj | I82: Zpracovatel: | J82: =E24 -> Obec Braňany
C84: PČ | D84: Typ | E84: Kód | F84: Popis | G84: MJ | H84: Množství | I84: J.cena [CZK] | J84: Cena celkem [CZK] | K84: Cenová soustava | N84: DPH | O84: J. Nh [h] | P84: Nh celkem [h] | Q84: J. hmotnost [t] | R84: Hmotnost celkem [t] | S84: J. suť [t] | T84: Suť Celkem [t]
C85: Náklady soupisu celkem | J85: =BK85 -> 0 | P85: =P86+P90 -> 0 | R85: =R86+R90 -> 0 | T85: =T86+T90 -> 0 | AT85: D | AU85: -1 | BK85: =BK86+BK90 -> 0
D86: D | E86: HSV | F86: Práce a dodávky HSV | J86: =BK86 -> 0 | P86: =P87 -> 0 | R86: =R87 -> 0 | T86: =T87 -> 0 | AR86: 1 | AT86: D | AU86: 0 | AY86: ROZPOCET | BK86: =BK87 -> 0
D87: D | E87: 9 | F87: Ostatní konstrukce a práce, bourání | J87: =BK87 -> 0 | P87: =SUM(P88:P89) -> 0 | R87: =SUM(R88:R89) -> 0 | T87: =SUM(T88:T89) -> 0 | AR87: 1 | AT87: D | AU87: 1 | AY87: ROZPOCET | BK87: =SUM(BK88:BK89) -> 0
C88: 1 | D88: K | E88: 949101112 | F88: Lešení pomocné pracovní pro objekty pozemních staveb pro zatížení do 150 kg/m2, o výšce lešeňové podlahy přes 1,9 do 3,5 m | G88: m2 | H88: 20 | J88: =ROUND(I88*H88,2) -> 0 | K88: CS ÚRS 2026 01 | N88: základní | P88: =O88*H88 -> 0 | Q88: 0 | R88: =Q88*H88 -> 0 | S88: 0 | T88: =S88*H88 -> 0 | AR88: 4 | AT88: K | AU88: 2 | AY88: ROZPOCET | BE88: =IF(N88="základní",J88,0) -> 0 | BF88: =IF(N88="snížená",J88,0) -> 0 | BG88: =IF(N88="zákl. přenesená",J88,0) -> 0 | BH88: =IF(N88="sníž. přenesená",J88,0) -> 0 | BI88: =IF(N88="nulová",J88,0) -> 0 | BJ88: 1 | BK88: =ROUND(I88*H88,2) -> 0 | BL88: 4 | BM88: 2
D89: Online PSC | F89: https://podminky.urs.cz/item/CS_URS_2026_01/949101112 | AT89: Online PSC | AU89: 2
D90: D | E90: PSV | F90: Práce a dodávky PSV | J90: =BK90 -> 0 | P90: =P91+P104+P112 -> 0 | R90: =R91+R104+R112 -> 0 | T90: =T91+T104+T112 -> 0 | AR90: 2 | AT90: D | AU90: 0 | AY90: ROZPOCET | BK90: =BK91+BK104+BK112 -> 0
D91: D | E91: 733 | F91: Ústřední vytápění - rozvodné potrubí | J91: =BK91 -> 0 | P91: =SUM(P92:P103) -> 0 | R91: =SUM(R92:R103) -> 0 | T91: =SUM(T92:T103) -> 0 | AR91: 2 | AT91: D | AU91: 1 | AY91: ROZPOCET | BK91: =SUM(BK92:BK103) -> 0
C92: 2 | D92: K | E92: 733122227 | F92: Potrubí z trubek ocelových hladkých spojovaných lisováním z uhlíkové oceli tenkostěnné vně pozinkované PN 16, T= +110°C Ø 42/1,5 | G92: m | H92: 30 | J92: =ROUND(I92*H92,2) -> 0 | K92: CS ÚRS 2026 01 | N92: základní | P92: =O92*H92 -> 0 | Q92: 0 | R92: =Q92*H92 -> 0 | S92: 0 | T92: =S92*H92 -> 0 | AR92: 16 | AT92: K | AU92: 2 | AY92: ROZPOCET | BE92: =IF(N92="základní",J92,0) -> 0 | BF92: =IF(N92="snížená",J92,0) -> 0 | BG92: =IF(N92="zákl. přenesená",J92,0) -> 0 | BH92: =IF(N92="sníž. přenesená",J92,0) -> 0 | BI92: =IF(N92="nulová",J92,0) -> 0 | BJ92: 1 | BK92: =ROUND(I92*H92,2) -> 0 | BL92: 16 | BM92: 4
D93: Online PSC | F93: https://podminky.urs.cz/item/CS_URS_2026_01/733122227 | AT93: Online PSC | AU93: 2
C94: 3 | D94: K | E94: 733190217 | F94: Zkoušky těsnosti potrubí, manžety prostupové z trubek ocelových zkoušky těsnosti potrubí (za provozu) z trubek ocelových hladkých Ø do 51/2,6 | G94: m | H94: 30 | J94: =ROUND(I94*H94,2) -> 0 | K94: CS ÚRS 2026 01 | N94: základní | P94: =O94*H94 -> 0 | Q94: 0 | R94: =Q94*H94 -> 0 | S94: 0 | T94: =S94*H94 -> 0 | AR94: 16 | AT94: K | AU94: 2 | AY94: ROZPOCET | BE94: =IF(N94="základní",J94,0) -> 0 | BF94: =IF(N94="snížená",J94,0) -> 0 | BG94: =IF(N94="zákl. přenesená",J94,0) -> 0 | BH94: =IF(N94="sníž. přenesená",J94,0) -> 0 | BI94: =IF(N94="nulová",J94,0) -> 0 | BJ94: 1 | BK94: =ROUND(I94*H94,2) -> 0 | BL94: 16 | BM94: 6
D95: Online PSC | F95: https://podminky.urs.cz/item/CS_URS_2026_01/733190217 | AT95: Online PSC | AU95: 2
C96: 4 | D96: K | E96: 733191113 | F96: Zkoušky těsnosti potrubí, manžety prostupové z trubek ocelových manžety prostupové pro trubky DN přes 32 do 50 | G96: kus | H96: 4 | J96: =ROUND(I96*H96,2) -> 0 | K96: CS ÚRS 2026 01 | N96: základní | P96: =O96*H96 -> 0 | Q96: 0 | R96: =Q96*H96 -> 0 | S96: 0 | T96: =S96*H96 -> 0 | AR96: 16 | AT96: K | AU96: 2 | AY96: ROZPOCET | BE96: =IF(N96="základní",J96,0) -> 0 | BF96: =IF(N96="snížená",J96,0) -> 0 | BG96: =IF(N96="zákl. přenesená",J96,0) -> 0 | BH96: =IF(N96="sníž. přenesená",J96,0) -> 0 | BI96: =IF(N96="nulová",J96,0) -> 0 | BJ96: 1 | BK96: =ROUND(I96*H96,2) -> 0 | BL96: 16 | BM96: 8
D97: Online PSC | F97: https://podminky.urs.cz/item/CS_URS_2026_01/733191113 | AT97: Online PSC | AU97: 2
C98: 5 | D98: K | E98: 733811243 | F98: Ochrana potrubí termoizolačními trubicemi z pěnového polyetylenu PE přilepenými v příčných a podélných spojích, tloušťky izolace přes 13 do 20 mm, vnitřního průměru izolace DN přes 45 do 63 mm | G98: m | H98: 30 | J98: =ROUND(I98*H98,2) -> 0 | K98: CS ÚRS 2026 01 | N98: základní | P98: =O98*H98 -> 0 | Q98: 0 | R98: =Q98*H98 -> 0 | S98: 0 | T98: =S98*H98 -> 0 | AR98: 16 | AT98: K | AU98: 2 | AY98: ROZPOCET | BE98: =IF(N98="základní",J98,0) -> 0 | BF98: =IF(N98="snížená",J98,0) -> 0 | BG98: =IF(N98="zákl. přenesená",J98,0) -> 0 | BH98: =IF(N98="sníž. přenesená",J98,0) -> 0 | BI98: =IF(N98="nulová",J98,0) -> 0 | BJ98: 1 | BK98: =ROUND(I98*H98,2) -> 0 | BL98: 16 | BM98: 10
D99: Online PSC | F99: https://podminky.urs.cz/item/CS_URS_2026_01/733811243 | AT99: Online PSC | AU99: 2
D100: VV | F100: 30 | H100: 30 | AT100: VV | AU100: 2 | AV100: 2 | AW100: True | AX100: 0 | AY100: ROZPOCET
D101: VV | F101: Součet | H101: 30 | AT101: VV | AU101: 2 | AV101: 4 | AW101: True | AX101: 1 | AY101: ROZPOCET
C102: 6 | D102: K | E102: 998733101 | F102: Přesun hmot pro rozvody potrubí stanovený z hmotnosti přesunovaného materiálu vodorovná dopravní vzdálenost do 50 m základní v objektech výšky do 6 m | G102: t | H102: 0.073 | J102: =ROUND(I102*H102,2) -> 0 | K102: CS ÚRS 2026 01 | N102: základní | P102: =O102*H102 -> 0 | Q102: 0 | R102: =Q102*H102 -> 0 | S102: 0 | T102: =S102*H102 -> 0 | AR102: 16 | AT102: K | AU102: 2 | AY102: ROZPOCET | BE102: =IF(N102="základní",J102,0) -> 0 | BF102: =IF(N102="snížená",J102,0) -> 0 | BG102: =IF(N102="zákl. přenesená",J102,0) -> 0 | BH102: =IF(N102="sníž. přenesená",J102,0) -> 0 | BI102: =IF(N102="nulová",J102,0) -> 0 | BJ102: 1 | BK102: =ROUND(I102*H102,2) -> 0 | BL102: 16 | BM102: 12
D103: Online PSC | F103: https://podminky.urs.cz/item/CS_URS_2026_01/998733101 | AT103: Online PSC | AU103: 2
D104: D | E104: 734 | F104: Ústřední vytápění - armatury | J104: =BK104 -> 0 | P104: =SUM(P105:P111) -> 0 | R104: =SUM(R105:R111) -> 0 | T104: =SUM(T105:T111) -> 0 | AR104: 2 | AT104: D | AU104: 1 | AY104: ROZPOCET | BK104: =SUM(BK105:BK111) -> 0
C105: 7 | D105: K | E105: 734209103 | F105: Montáž závitových armatur s 1 závitem G 1/2 (DN 15) | G105: kus | H105: 2 | J105: =ROUND(I105*H105,2) -> 0 | K105: CS ÚRS 2026 01 | N105: základní | P105: =O105*H105 -> 0 | Q105: 0 | R105: =Q105*H105 -> 0 | S105: 0 | T105: =S105*H105 -> 0 | AR105: 16 | AT105: K | AU105: 2 | AY105: ROZPOCET | BE105: =IF(N105="základní",J105,0) -> 0 | BF105: =IF(N105="snížená",J105,0) -> 0 | BG105: =IF(N105="zákl. přenesená",J105,0) -> 0 | BH105: =IF(N105="sníž. přenesená",J105,0) -> 0 | BI105: =IF(N105="nulová",J105,0) -> 0 | BJ105: 1 | BK105: =ROUND(I105*H105,2) -> 0 | BL105: 16 | BM105: 14
D106: Online PSC | F106: https://podminky.urs.cz/item/CS_URS_2026_01/734209103 | AT106: Online PSC | AU106: 2
C107: 8 | D107: M | E107: 55111226 | F107: ventil přímý průchozí mosazný 1/2" | G107: kus | H107: 2 | J107: =ROUND(I107*H107,2) -> 0 | K107: CS ÚRS 2026 01 | N107: základní | P107: =O107*H107 -> 0 | Q107: 0 | R107: =Q107*H107 -> 0 | S107: 0 | T107: =S107*H107 -> 0 | AR107: 32 | AT107: M | AU107: 2 | AY107: ROZPOCET | BE107: =IF(N107="základní",J107,0) -> 0 | BF107: =IF(N107="snížená",J107,0) -> 0 | BG107: =IF(N107="zákl. přenesená",J107,0) -> 0 | BH107: =IF(N107="sníž. přenesená",J107,0) -> 0 | BI107: =IF(N107="nulová",J107,0) -> 0 | BJ107: 1 | BK107: =ROUND(I107*H107,2) -> 0 | BL107: 16 | BM107: 16
C108: 9 | D108: K | E108: 734211127 | F108: Ventily odvzdušňovací závitové automatické se zpětnou klapkou PN 14 do 120°C G 1/2 | G108: kus | H108: 2 | J108: =ROUND(I108*H108,2) -> 0 | K108: CS ÚRS 2026 01 | N108: základní | P108: =O108*H108 -> 0 | Q108: 0 | R108: =Q108*H108 -> 0 | S108: 0 | T108: =S108*H108 -> 0 | AR108: 16 | AT108: K | AU108: 2 | AY108: ROZPOCET | BE108: =IF(N108="základní",J108,0) -> 0 | BF108: =IF(N108="snížená",J108,0) -> 0 | BG108: =IF(N108="zákl. přenesená",J108,0) -> 0 | BH108: =IF(N108="sníž. přenesená",J108,0) -> 0 | BI108: =IF(N108="nulová",J108,0) -> 0 | BJ108: 1 | BK108: =ROUND(I108*H108,2) -> 0 | BL108: 16 | BM108: 18
D109: Online PSC | F109: https://podminky.urs.cz/item/CS_URS_2026_01/734211127 | AT109: Online PSC | AU109: 2
C110: 10 | D110: K | E110: 998734101 | F110: Přesun hmot pro armatury stanovený z hmotnosti přesunovaného materiálu vodorovná dopravní vzdálenost do 50 m základní v objektech výšky do 6 m | G110: t | H110: 0.001 | J110: =ROUND(I110*H110,2) -> 0 | K110: CS ÚRS 2026 01 | N110: základní | P110: =O110*H110 -> 0 | Q110: 0 | R110: =Q110*H110 -> 0 | S110: 0 | T110: =S110*H110 -> 0 | AR110: 16 | AT110: K | AU110: 2 | AY110: ROZPOCET | BE110: =IF(N110="základní",J110,0) -> 0 | BF110: =IF(N110="snížená",J110,0) -> 0 | BG110: =IF(N110="zákl. přenesená",J110,0) -> 0 | BH110: =IF(N110="sníž. přenesená",J110,0) -> 0 | BI110: =IF(N110="nulová",J110,0) -> 0 | BJ110: 1 | BK110: =ROUND(I110*H110,2) -> 0 | BL110: 16 | BM110: 20
D111: Online PSC | F111: https://podminky.urs.cz/item/CS_URS_2026_01/998734101 | AT111: Online PSC | AU111: 2
D112: D | E112: 736 | F112: Ústřední vytápění - plošné vytápění a chlazení | J112: =BK112 -> 0 | P112: =SUM(P113:P144) -> 0 | R112: =SUM(R113:R144) -> 0 | T112: =SUM(T113:T144) -> 0 | AR112: 2 | AT112: D | AU112: 1 | AY112: ROZPOCET | BK112: =SUM(BK113:BK144) -> 0
C113: 11 | D113: K | E113: 735511062 | F113: Trubkové teplovodní podlahové vytápění doplňkové prvky okrajový izolační pruh | G113: m | H113: 60 | J113: =ROUND(I113*H113,2) -> 0 | K113: CS ÚRS 2026 01 | N113: základní | P113: =O113*H113 -> 0 | Q113: 0 | R113: =Q113*H113 -> 0 | S113: 0 | T113: =S113*H113 -> 0 | AR113: 16 | AT113: K | AU113: 2 | AY113: ROZPOCET | BE113: =IF(N113="základní",J113,0) -> 0 | BF113: =IF(N113="snížená",J113,0) -> 0 | BG113: =IF(N113="zákl. přenesená",J113,0) -> 0 | BH113: =IF(N113="sníž. přenesená",J113,0) -> 0 | BI113: =IF(N113="nulová",J113,0) -> 0 | BJ113: 1 | BK113: =ROUND(I113*H113,2) -> 0 | BL113: 16 | BM113: 22
D114: Online PSC | F114: https://podminky.urs.cz/item/CS_URS_2026_01/735511062 | AT114: Online PSC | AU114: 2
C115: 12 | D115: K | E115: 735511063 | F115: Trubkové teplovodní podlahové vytápění doplňkové prvky ochranná trubka | G115: m | H115: 47 | J115: =ROUND(I115*H115,2) -> 0 | K115: CS ÚRS 2026 01 | N115: základní | P115: =O115*H115 -> 0 | Q115: 0 | R115: =Q115*H115 -> 0 | S115: 0 | T115: =S115*H115 -> 0 | AR115: 16 | AT115: K | AU115: 2 | AY115: ROZPOCET | BE115: =IF(N115="základní",J115,0) -> 0 | BF115: =IF(N115="snížená",J115,0) -> 0 | BG115: =IF(N115="zákl. přenesená",J115,0) -> 0 | BH115: =IF(N115="sníž. přenesená",J115,0) -> 0 | BI115: =IF(N115="nulová",J115,0) -> 0 | BJ115: 1 | BK115: =ROUND(I115*H115,2) -> 0 | BL115: 16 | BM115: 24
D116: Online PSC | F116: https://podminky.urs.cz/item/CS_URS_2026_01/735511063 | AT116: Online PSC | AU116: 2
C117: 13 | D117: K | E117: 736110262 | F117: Trubkové teplovodní podlahové vytápění systémová deska s tepelnou izolací, výšky 50 až 53 mm | G117: m2 | H117: 178 | J117: =ROUND(I117*H117,2) -> 0 | K117: CS ÚRS 2026 01 | N117: základní | P117: =O117*H117 -> 0 | Q117: 0 | R117: =Q117*H117 -> 0 | S117: 0 | T117: =S117*H117 -> 0 | AR117: 16 | AT117: K | AU117: 2 | AY117: ROZPOCET | BE117: =IF(N117="základní",J117,0) -> 0 | BF117: =IF(N117="snížená",J117,0) -> 0 | BG117: =IF(N117="zákl. přenesená",J117,0) -> 0 | BH117: =IF(N117="sníž. přenesená",J117,0) -> 0 | BI117: =IF(N117="nulová",J117,0) -> 0 | BJ117: 1 | BK117: =ROUND(I117*H117,2) -> 0 | BL117: 16 | BM117: 26
D118: Online PSC | F118: https://podminky.urs.cz/item/CS_URS_2026_01/736110262 | AT118: Online PSC | AU118: 2
D119: VV | F119: 178 | H119: 178 | AT119: VV | AU119: 2 | AV119: 2 | AW119: True | AX119: 0 | AY119: ROZPOCET
D120: VV | F120: Součet | H120: 178 | AT120: VV | AU120: 2 | AV120: 4 | AW120: True | AX120: 1 | AY120: ROZPOCET
C121: 14 | D121: K | E121: 736110402X | F121: Trubkové teplovodní podlahové vytápění rozvod v systémové desce potrubí vícevrstvý polyethylen (PE-XC/Al/PE-XC) rozvodné potrubí 14x1,5 mm, rozteč 150 mm | G121: m | H121: 1192.6 | J121: =ROUND(I121*H121,2) -> 0 | N121: základní | P121: =O121*H121 -> 0 | Q121: 0 | R121: =Q121*H121 -> 0 | S121: 0 | T121: =S121*H121 -> 0 | AR121: 16 | AT121: K | AU121: 2 | AY121: ROZPOCET | BE121: =IF(N121="základní",J121,0) -> 0 | BF121: =IF(N121="snížená",J121,0) -> 0 | BG121: =IF(N121="zákl. přenesená",J121,0) -> 0 | BH121: =IF(N121="sníž. přenesená",J121,0) -> 0 | BI121: =IF(N121="nulová",J121,0) -> 0 | BJ121: 1 | BK121: =ROUND(I121*H121,2) -> 0 | BL121: 16 | BM121: 28
D122: VV | F122: 178*6,7 | H122: 1192.6 | AT122: VV | AU122: 2 | AV122: 2 | AW122: True | AX122: 0 | AY122: ROZPOCET
D123: VV | F123: Součet | H123: 1192.6 | AT123: VV | AU123: 2 | AV123: 4 | AW123: True | AX123: 1 | AY123: ROZPOCET
C124: 15 | D124: K | E124: 736111008 | F124: Trubkové teplovodní podlahové vytápění rozdělovače mosazné s průtokoměry devítiokruhové | G124: kus | H124: 1 | J124: =ROUND(I124*H124,2) -> 0 | K124: CS ÚRS 2026 01 | N124: základní | P124: =O124*H124 -> 0 | Q124: 0 | R124: =Q124*H124 -> 0 | S124: 0 | T124: =S124*H124 -> 0 | AR124: 16 | AT124: K | AU124: 2 | AY124: ROZPOCET | BE124: =IF(N124="základní",J124,0) -> 0 | BF124: =IF(N124="snížená",J124,0) -> 0 | BG124: =IF(N124="zákl. přenesená",J124,0) -> 0 | BH124: =IF(N124="sníž. přenesená",J124,0) -> 0 | BI124: =IF(N124="nulová",J124,0) -> 0 | BJ124: 1 | BK124: =ROUND(I124*H124,2) -> 0 | BL124: 16 | BM124: 30
D125: Online PSC | F125: https://podminky.urs.cz/item/CS_URS_2026_01/736111008 | AT125: Online PSC | AU125: 2
C126: 16 | D126: K | E126: 736111032X | F126: Trubkové teplovodní podlahové vytápění připojovací šroubení rozdělovače, potrubí 14x1,5 mm | G126: kus | H126: 18 | J126: =ROUND(I126*H126,2) -> 0 | N126: základní | P126: =O126*H126 -> 0 | Q126: 0 | R126: =Q126*H126 -> 0 | S126: 0 | T126: =S126*H126 -> 0 | AR126: 16 | AT126: K | AU126: 2 | AY126: ROZPOCET | BE126: =IF(N126="základní",J126,0) -> 0 | BF126: =IF(N126="snížená",J126,0) -> 0 | BG126: =IF(N126="zákl. přenesená",J126,0) -> 0 | BH126: =IF(N126="sníž. přenesená",J126,0) -> 0 | BI126: =IF(N126="nulová",J126,0) -> 0 | BJ126: 1 | BK126: =ROUND(I126*H126,2) -> 0 | BL126: 16 | BM126: 32
D127: VV | F127: 9*2 | H127: 18 | AT127: VV | AU127: 2 | AV127: 2 | AW127: True | AX127: 0 | AY127: ROZPOCET
D128: VV | F128: Součet | H128: 18 | AT128: VV | AU128: 2 | AV128: 4 | AW128: True | AX128: 1 | AY128: ROZPOCET
C129: 17 | D129: K | E129: 736111104 | F129: Trubkové teplovodní podlahové vytápění skříně rozdělovače pod omítku, pro rozdělovač s počtem okruhů 8-12 | G129: kus | H129: 1 | J129: =ROUND(I129*H129,2) -> 0 | K129: CS ÚRS 2026 01 | N129: základní | P129: =O129*H129 -> 0 | Q129: 0 | R129: =Q129*H129 -> 0 | S129: 0 | T129: =S129*H129 -> 0 | AR129: 16 | AT129: K | AU129: 2 | AY129: ROZPOCET | BE129: =IF(N129="základní",J129,0) -> 0 | BF129: =IF(N129="snížená",J129,0) -> 0 | BG129: =IF(N129="zákl. přenesená",J129,0) -> 0 | BH129: =IF(N129="sníž. přenesená",J129,0) -> 0 | BI129: =IF(N129="nulová",J129,0) -> 0 | BJ129: 1 | BK129: =ROUND(I129*H129,2) -> 0 | BL129: 16 | BM129: 34
D130: Online PSC | F130: https://podminky.urs.cz/item/CS_URS_2026_01/736111104 | AT130: Online PSC | AU130: 2
C131: 18 | D131: K | E131: 736111121 | F131: Trubkové teplovodní podlahové vytápění sada pro připojení měřiče tepla | G131: kus | H131: 1 | J131: =ROUND(I131*H131,2) -> 0 | K131: CS ÚRS 2026 01 | N131: základní | P131: =O131*H131 -> 0 | Q131: 0 | R131: =Q131*H131 -> 0 | S131: 0 | T131: =S131*H131 -> 0 | AR131: 16 | AT131: K | AU131: 2 | AY131: ROZPOCET | BE131: =IF(N131="základní",J131,0) -> 0 | BF131: =IF(N131="snížená",J131,0) -> 0 | BG131: =IF(N131="zákl. přenesená",J131,0) -> 0 | BH131: =IF(N131="sníž. přenesená",J131,0) -> 0 | BI131: =IF(N131="nulová",J131,0) -> 0 | BJ131: 1 | BK131: =ROUND(I131*H131,2) -> 0 | BL131: 16 | BM131: 36
D132: Online PSC | F132: https://podminky.urs.cz/item/CS_URS_2026_01/736111121 | AT132: Online PSC | AU132: 2
C133: 19 | D133: K | E133: 736111132 | F133: Trubkové teplovodní podlahové vytápění regulační zařízení prostorový termostat drátový digitální programovatelný | G133: kus | H133: 1 | J133: =ROUND(I133*H133,2) -> 0 | K133: CS ÚRS 2026 01 | N133: základní | P133: =O133*H133 -> 0 | Q133: 0 | R133: =Q133*H133 -> 0 | S133: 0 | T133: =S133*H133 -> 0 | AR133: 16 | AT133: K | AU133: 2 | AY133: ROZPOCET | BE133: =IF(N133="základní",J133,0) -> 0 | BF133: =IF(N133="snížená",J133,0) -> 0 | BG133: =IF(N133="zákl. přenesená",J133,0) -> 0 | BH133: =IF(N133="sníž. přenesená",J133,0) -> 0 | BI133: =IF(N133="nulová",J133,0) -> 0 | BJ133: 1 | BK133: =ROUND(I133*H133,2) -> 0 | BL133: 16 | BM133: 38
...

Sheet D.1.3 - VZT
AT2: {69499ad2-efc2-48ea-8aaa-d212d70993d1}
AT3: 2
D4: KRYCÍ LIST SOUPISU PRACÍ | M4: v --- níže se nacházejí doplnkové a pomocné údaje k sestavám --- v | AT4: False
D6: Stavba:
E7: ='Rekapitulace stavby'!K6 -> Přístavba šaten ZŠ a MŠ Braňany
D8: Objekt:
E9: D.1.3 - VZT
D11: KSO: | I11: CC-CZ:
D12: Místo: | I12: Datum: | J12: ='Rekapitulace stavby'!AN8 -> 3. 7. 2026
D14: Zadavatel: | I14: IČ: | J14: =IF('Rekapitulace stavby'!AN10="","",'Rekapitulace stavby'!AN10)
E15: =IF('Rekapitulace stavby'!E11="","",'Rekapitulace stavby'!E11) -> Obec Braňany | I15: DIČ: | J15: =IF('Rekapitulace stavby'!AN11="","",'Rekapitulace stavby'!AN11)
D17: Účastník: | I17: IČ: | J17: ='Rekapitulace stavby'!AN13 -> Vyplň údaj
E18: ='Rekapitulace stavby'!E14 -> Vyplň údaj | I18: DIČ: | J18: ='Rekapitulace stavby'!AN14 -> Vyplň údaj
D20: Projektant: | I20: IČ: | J20: =IF('Rekapitulace stavby'!AN16="","",'Rekapitulace stavby'!AN16)
E21: =IF('Rekapitulace stavby'!E17="","",'Rekapitulace stavby'!E17) -> ISONOE INVEST a.s. | I21: DIČ: | J21: =IF('Rekapitulace stavby'!AN17="","",'Rekapitulace stavby'!AN17)
D23: Zpracovatel: | I23: IČ: | J23: =IF('Rekapitulace stavby'!AN19="","",'Rekapitulace stavby'!AN19)
E24: =IF('Rekapitulace stavby'!E20="","",'Rekapitulace stavby'!E20) -> Obec Braňany | I24: DIČ: | J24: =IF('Rekapitulace stavby'!AN20="","",'Rekapitulace stavby'!AN20)
D26: Poznámka:
D30: Cena bez DPH | J30: =ROUND(J83, 2) -> 0
F32: Základ daně | I32: Sazba daně | J32: Výše daně
D33: DPH | E33: základní | F33: =ROUND((SUM(BE83:BE118)), 2) -> 0 | I33: 0.21 | J33: =ROUND(((SUM(BE83:BE118))*I33), 2) -> 0
E34: snížená | F34: =ROUND((SUM(BF83:BF118)), 2) -> 0 | I34: 0.12 | J34: =ROUND(((SUM(BF83:BF118))*I34), 2) -> 0
E35: zákl. přenesená | F35: =ROUND((SUM(BG83:BG118)), 2) -> 0 | I35: 0.21 | J35: =0 -> 0
E36: sníž. přenesená | F36: =ROUND((SUM(BH83:BH118)), 2) -> 0 | I36: 0.12 | J36: =0 -> 0
E37: nulová | F37: =ROUND((SUM(BI83:BI118)), 2) -> 0 | I37: 0 | J37: =0 -> 0
D39: Cena s DPH | G39: v | H39: CZK | J39: =SUM(J30:J37) -> 0
C45: REKAPITULACE ČLENĚNÍ SOUPISU PRACÍ
C47: Stavba:
E48: =E7 -> Přístavba šaten ZŠ a MŠ Braňany
C49: Objekt:
E50: =E9 -> D.1.3 - VZT
C52: Místo: | F52: =F12 | I52: Datum: | J52: =IF(J12="","",J12) -> 3. 7. 2026
C54: Zadavatel: | F54: =E15 -> Obec Braňany | I54: Projektant: | J54: =E21 -> ISONOE INVEST a.s.
C55: Účastník: | F55: =IF(E18="","",E18) -> Vyplň údaj | I55: Zpracovatel: | J55: =E24 -> Obec Braňany
C57: Kód dílu - Popis | J57: Cena celkem [CZK]
C59: Náklady stavby celkem | J59: =J83 -> 0 | AU59: -1
D60: HSV - Práce a dodávky HSV | J60: =J84 -> 0
D61: 9 - Ostatní konstrukce a práce, bourání | J61: =J85 -> 0
D62: PSV - Práce a dodávky PSV | J62: =J88 -> 0
D63: 751 - Vzduchotechnika | J63: =J89 -> 0
C70: SOUPIS PRACÍ
C72: Stavba:
E73: =E7 -> Přístavba šaten ZŠ a MŠ Braňany
C74: Objekt:
E75: =E9 -> D.1.3 - VZT
C77: Místo: | F77: =F12 | I77: Datum: | J77: =IF(J12="","",J12) -> 3. 7. 2026
C79: Zadavatel: | F79: =E15 -> Obec Braňany | I79: Projektant: | J79: =E21 -> ISONOE INVEST a.s.
C80: Účastník: | F80: =IF(E18="","",E18) -> Vyplň údaj | I80: Zpracovatel: | J80: =E24 -> Obec Braňany
C82: PČ | D82: Typ | E82: Kód | F82: Popis | G82: MJ | H82: Množství | I82: J.cena [CZK] | J82: Cena celkem [CZK] | K82: Cenová soustava | N82: DPH | O82: J. Nh [h] | P82: Nh celkem [h] | Q82: J. hmotnost [t] | R82: Hmotnost celkem [t] | S82: J. suť [t] | T82: Suť Celkem [t]
C83: Náklady soupisu celkem | J83: =BK83 -> 0 | P83: =P84+P88 -> 0 | R83: =R84+R88 -> 0 | T83: =T84+T88 -> 0 | AT83: D | AU83: -1 | BK83: =BK84+BK88 -> 0
D84: D | E84: HSV | F84: Práce a dodávky HSV | J84: =BK84 -> 0 | P84: =P85 -> 0 | R84: =R85 -> 0 | T84: =T85 -> 0 | AR84: 1 | AT84: D | AU84: 0 | AY84: ROZPOCET | BK84: =BK85 -> 0
D85: D | E85: 9 | F85: Ostatní konstrukce a práce, bourání | J85: =BK85 -> 0 | P85: =SUM(P86:P87) -> 0 | R85: =SUM(R86:R87) -> 0 | T85: =SUM(T86:T87) -> 0 | AR85: 1 | AT85: D | AU85: 1 | AY85: ROZPOCET | BK85: =SUM(BK86:BK87) -> 0
C86: 1 | D86: K | E86: 949101112 | F86: Lešení pomocné pracovní pro objekty pozemních staveb pro zatížení do 150 kg/m2, o výšce lešeňové podlahy přes 1,9 do 3,5 m | G86: m2 | H86: 20 | J86: =ROUND(I86*H86,2) -> 0 | K86: CS ÚRS 2026 01 | N86: základní | P86: =O86*H86 -> 0 | Q86: 0 | R86: =Q86*H86 -> 0 | S86: 0 | T86: =S86*H86 -> 0 | AR86: 4 | AT86: K | AU86: 2 | AY86: ROZPOCET | BE86: =IF(N86="základní",J86,0) -> 0 | BF86: =IF(N86="snížená",J86,0) -> 0 | BG86: =IF(N86="zákl. přenesená",J86,0) -> 0 | BH86: =IF(N86="sníž. přenesená",J86,0) -> 0 | BI86: =IF(N86="nulová",J86,0) -> 0 | BJ86: 1 | BK86: =ROUND(I86*H86,2) -> 0 | BL86: 4 | BM86: 2
D87: Online PSC | F87: https://podminky.urs.cz/item/CS_URS_2026_01/949101112 | AT87: Online PSC | AU87: 2
D88: D | E88: PSV | F88: Práce a dodávky PSV | J88: =BK88 -> 0 | P88: =P89 -> 0 | R88: =R89 -> 0 | T88: =T89 -> 0 | AR88: 2 | AT88: D | AU88: 0 | AY88: ROZPOCET | BK88: =BK89 -> 0
D89: D | E89: 751 | F89: Vzduchotechnika | J89: =BK89 -> 0 | P89: =SUM(P90:P118) -> 0 | R89: =SUM(R90:R118) -> 0 | T89: =SUM(T90:T118) -> 0 | AR89: 2 | AT89: D | AU89: 1 | AY89: ROZPOCET | BK89: =SUM(BK90:BK118) -> 0
C90: 2 | D90: K | E90: 751111131 | F90: Montáž ventilátoru axiálního nízkotlakého potrubního základního, průměru do 200 mm | G90: kus | H90: 11 | J90: =ROUND(I90*H90,2) -> 0 | K90: CS ÚRS 2026 01 | N90: základní | P90: =O90*H90 -> 0 | Q90: 0 | R90: =Q90*H90 -> 0 | S90: 0 | T90: =S90*H90 -> 0 | AR90: 16 | AT90: K | AU90: 2 | AY90: ROZPOCET | BE90: =IF(N90="základní",J90,0) -> 0 | BF90: =IF(N90="snížená",J90,0) -> 0 | BG90: =IF(N90="zákl. přenesená",J90,0) -> 0 | BH90: =IF(N90="sníž. přenesená",J90,0) -> 0 | BI90: =IF(N90="nulová",J90,0) -> 0 | BJ90: 1 | BK90: =ROUND(I90*H90,2) -> 0 | BL90: 16 | BM90: 4
D91: Online PSC | F91: https://podminky.urs.cz/item/CS_URS_2026_01/751111131 | AT91: Online PSC | AU91: 2
C92: 3 | D92: M | E92: 42914101 | F92: ventilátor axiální potrubní skříň z plastu průtok 100m3/h IP44 13W D 100mm | G92: kus | H92: 11 | J92: =ROUND(I92*H92,2) -> 0 | K92: CS ÚRS 2026 01 | N92: základní | P92: =O92*H92 -> 0 | Q92: 0 | R92: =Q92*H92 -> 0 | S92: 0 | T92: =S92*H92 -> 0 | AR92: 32 | AT92: M | AU92: 2 | AY92: ROZPOCET | BE92: =IF(N92="základní",J92,0) -> 0 | BF92: =IF(N92="snížená",J92,0) -> 0 | BG92: =IF(N92="zákl. přenesená",J92,0) -> 0 | BH92: =IF(N92="sníž. přenesená",J92,0) -> 0 | BI92: =IF(N92="nulová",J92,0) -> 0 | BJ92: 1 | BK92: =ROUND(I92*H92,2) -> 0 | BL92: 16 | BM92: 6
C93: 4 | D93: K | E93: 751311142 | F93: Montáž vyústi velkoplošné výšky do 1 m stěnové, do kruhového potrubí, průměru přes 200 do 300 mm | G93: kus | H93: 6 | J93: =ROUND(I93*H93,2) -> 0 | K93: CS ÚRS 2026 01 | N93: základní | P93: =O93*H93 -> 0 | Q93: 0 | R93: =Q93*H93 -> 0 | S93: 0 | T93: =S93*H93 -> 0 | AR93: 16 | AT93: K | AU93: 2 | AY93: ROZPOCET | BE93: =IF(N93="základní",J93,0) -> 0 | BF93: =IF(N93="snížená",J93,0) -> 0 | BG93: =IF(N93="zákl. přenesená",J93,0) -> 0 | BH93: =IF(N93="sníž. přenesená",J93,0) -> 0 | BI93: =IF(N93="nulová",J93,0) -> 0 | BJ93: 1 | BK93: =ROUND(I93*H93,2) -> 0 | BL93: 16 | BM93: 8
D94: Online PSC | F94: https://podminky.urs.cz/item/CS_URS_2026_01/751311142 | AT94: Online PSC | AU94: 2
C95: 5 | D95: M | E95: 42972754 | F95: výusť velkoplošná půlkruhová stěnová připojení D 250mm, výška 970mm | G95: kus | H95: 6 | J95: =ROUND(I95*H95,2) -> 0 | K95: CS ÚRS 2026 01 | N95: základní | P95: =O95*H95 -> 0 | Q95: 0 | R95: =Q95*H95 -> 0 | S95: 0 | T95: =S95*H95 -> 0 | AR95: 32 | AT95: M | AU95: 2 | AY95: ROZPOCET | BE95: =IF(N95="základní",J95,0) -> 0 | BF95: =IF(N95="snížená",J95,0) -> 0 | BG95: =IF(N95="zákl. přenesená",J95,0) -> 0 | BH95: =IF(N95="sníž. přenesená",J95,0) -> 0 | BI95: =IF(N95="nulová",J95,0) -> 0 | BJ95: 1 | BK95: =ROUND(I95*H95,2) -> 0 | BL95: 16 | BM95: 10
C96: 6 | D96: K | E96: 751311302 | F96: Montáž vyústi textilní kruhové, průměru přes 200 do 400 mm | G96: m | H96: 36 | J96: =ROUND(I96*H96,2) -> 0 | K96: CS ÚRS 2026 01 | N96: základní | P96: =O96*H96 -> 0 | Q96: 0 | R96: =Q96*H96 -> 0 | S96: 0 | T96: =S96*H96 -> 0 | AR96: 16 | AT96: K | AU96: 2 | AY96: ROZPOCET | BE96: =IF(N96="základní",J96,0) -> 0 | BF96: =IF(N96="snížená",J96,0) -> 0 | BG96: =IF(N96="zákl. přenesená",J96,0) -> 0 | BH96: =IF(N96="sníž. přenesená",J96,0) -> 0 | BI96: =IF(N96="nulová",J96,0) -> 0 | BJ96: 1 | BK96: =ROUND(I96*H96,2) -> 0 | BL96: 16 | BM96: 12
D97: Online PSC | F97: https://podminky.urs.cz/item/CS_URS_2026_01/751311302 | AT97: Online PSC | AU97: 2
D98: VV | F98: 12*3 | H98: 36 | AT98: VV | AU98: 2 | AV98: 2 | AW98: True | AX98: 0 | AY98: ROZPOCET
D99: VV | F99: Součet | H99: 36 | AT99: VV | AU99: 2 | AV99: 4 | AW99: True | AX99: 1 | AY99: ROZPOCET
C100: 7 | D100: M | E100: M9652 | F100: Textilní výústka kruhová | G100: m | H100: 36 | J100: =ROUND(I100*H100,2) -> 0 | N100: základní | P100: =O100*H100 -> 0 | Q100: 0 | R100: =Q100*H100 -> 0 | S100: 0 | T100: =S100*H100 -> 0 | AR100: 32 | AT100: M | AU100: 2 | AY100: ROZPOCET | BE100: =IF(N100="základní",J100,0) -> 0 | BF100: =IF(N100="snížená",J100,0) -> 0 | BG100: =IF(N100="zákl. přenesená",J100,0) -> 0 | BH100: =IF(N100="sníž. přenesená",J100,0) -> 0 | BI100: =IF(N100="nulová",J100,0) -> 0 | BJ100: 1 | BK100: =ROUND(I100*H100,2) -> 0 | BL100: 16 | BM100: 14
C101: 8 | D101: K | E101: 751510042 | F101: Vzduchotechnické potrubí z pozinkovaného plechu kruhové, trouba spirálně vinutá bez příruby, průměru přes 100 do 200 mm | G101: m | H101: 25 | J101: =ROUND(I101*H101,2) -> 0 | K101: CS ÚRS 2026 01 | N101: základní | P101: =O101*H101 -> 0 | Q101: 0 | R101: =Q101*H101 -> 0 | S101: 0 | T101: =S101*H101 -> 0 | AR101: 16 | AT101: K | AU101: 2 | AY101: ROZPOCET | BE101: =IF(N101="základní",J101,0) -> 0 | BF101: =IF(N101="snížená",J101,0) -> 0 | BG101: =IF(N101="zákl. přenesená",J101,0) -> 0 | BH101: =IF(N101="sníž. přenesená",J101,0) -> 0 | BI101: =IF(N101="nulová",J101,0) -> 0 | BJ101: 1 | BK101: =ROUND(I101*H101,2) -> 0 | BL101: 16 | BM101: 16
D102: Online PSC | F102: https://podminky.urs.cz/item/CS_URS_2026_01/751510042 | AT102: Online PSC | AU102: 2
C103: 9 | D103: K | E103: 751510043 | F103: Vzduchotechnické potrubí z pozinkovaného plechu kruhové, trouba spirálně vinutá bez příruby, průměru přes 200 do 300 mm | G103: m | H103: 10 | J103: =ROUND(I103*H103,2) -> 0 | K103: CS ÚRS 2026 01 | N103: základní | P103: =O103*H103 -> 0 | Q103: 0 | R103: =Q103*H103 -> 0 | S103: 0 | T103: =S103*H103 -> 0 | AR103: 16 | AT103: K | AU103: 2 | AY103: ROZPOCET | BE103: =IF(N103="základní",J103,0) -> 0 | BF103: =IF(N103="snížená",J103,0) -> 0 | BG103: =IF(N103="zákl. přenesená",J103,0) -> 0 | BH103: =IF(N103="sníž. přenesená",J103,0) -> 0 | BI103: =IF(N103="nulová",J103,0) -> 0 | BJ103: 1 | BK103: =ROUND(I103*H103,2) -> 0 | BL103: 16 | BM103: 18
D104: Online PSC | F104: https://podminky.urs.cz/item/CS_URS_2026_01/751510043 | AT104: Online PSC | AU104: 2
C105: 10 | D105: K | E105: 751526736 | F105: Montáž protidešťové stříšky nebo výfukové hlavice do plastového potrubí kruhové s přírubou, průměru přes 100 do 200 mm | G105: kus | H105: 1 | J105: =ROUND(I105*H105,2) -> 0 | K105: CS ÚRS 2026 01 | N105: základní | P105: =O105*H105 -> 0 | Q105: 0 | R105: =Q105*H105 -> 0 | S105: 0 | T105: =S105*H105 -> 0 | AR105: 16 | AT105: K | AU105: 2 | AY105: ROZPOCET | BE105: =IF(N105="základní",J105,0) -> 0 | BF105: =IF(N105="snížená",J105,0) -> 0 | BG105: =IF(N105="zákl. přenesená",J105,0) -> 0 | BH105: =IF(N105="sníž. přenesená",J105,0) -> 0 | BI105: =IF(N105="nulová",J105,0) -> 0 | BJ105: 1 | BK105: =ROUND(I105*H105,2) -> 0 | BL105: 16 | BM105: 20
D106: Online PSC | F106: https://podminky.urs.cz/item/CS_URS_2026_01/751526736 | AT106: Online PSC | AU106: 2
C107: 11 | D107: M | E107: 42974005 | F107: stříška protidešťová s lemem Pz D 160mm | G107: kus | H107: 1 | J107: =ROUND(I107*H107,2) -> 0 | K107: CS ÚRS 2026 01 | N107: základní | P107: =O107*H107 -> 0 | Q107: 0 | R107: =Q107*H107 -> 0 | S107: 0 | T107: =S107*H107 -> 0 | AR107: 32 | AT107: M | AU107: 2 | AY107: ROZPOCET | BE107: =IF(N107="základní",J107,0) -> 0 | BF107: =IF(N107="snížená",J107,0) -> 0 | BG107: =IF(N107="zákl. přenesená",J107,0) -> 0 | BH107: =IF(N107="sníž. přenesená",J107,0) -> 0 | BI107: =IF(N107="nulová",J107,0) -> 0 | BJ107: 1 | BK107: =ROUND(I107*H107,2) -> 0 | BL107: 16 | BM107: 22
C108: 12 | D108: M | E108: 42981023 | F108: výfuková hlavice Pz D 150mm | G108: kus | H108: 1 | J108: =ROUND(I108*H108,2) -> 0 | K108: CS ÚRS 2026 01 | N108: základní | P108: =O108*H108 -> 0 | Q108: 0 | R108: =Q108*H108 -> 0 | S108: 0 | T108: =S108*H108 -> 0 | AR108: 32 | AT108: M | AU108: 2 | AY108: ROZPOCET | BE108: =IF(N108="základní",J108,0) -> 0 | BF108: =IF(N108="snížená",J108,0) -> 0 | BG108: =IF(N108="zákl. přenesená",J108,0) -> 0 | BH108: =IF(N108="sníž. přenesená",J108,0) -> 0 | BI108: =IF(N108="nulová",J108,0) -> 0 | BJ108: 1 | BK108: =ROUND(I108*H108,2) -> 0 | BL108: 16 | BM108: 24
C109: 13 | D109: M | E109: 42975209 | F109: příruba kruhová lisovaná Pz D 160mm | G109: kus | H109: 1 | J109: =ROUND(I109*H109,2) -> 0 | K109: CS ÚRS 2026 01 | N109: základní | P109: =O109*H109 -> 0 | Q109: 0 | R109: =Q109*H109 -> 0 | S109: 0 | T109: =S109*H109 -> 0 | AR109: 32 | AT109: M | AU109: 2 | AY109: ROZPOCET | BE109: =IF(N109="základní",J109,0) -> 0 | BF109: =IF(N109="snížená",J109,0) -> 0 | BG109: =IF(N109="zákl. přenesená",J109,0) -> 0 | BH109: =IF(N109="sníž. přenesená",J109,0) -> 0 | BI109: =IF(N109="nulová",J109,0) -> 0 | BJ109: 1 | BK109: =ROUND(I109*H109,2) -> 0 | BL109: 16 | BM109: 26
C110: 14 | D110: K | E110: 751611164 | F110: Montáž vzduchotechnické jednotky s rekuperací tepla lokální stojaté s výměnou vzduchu přes 500 do 1000 m3/h | G110: kus | H110: 3 | J110: =ROUND(I110*H110,2) -> 0 | K110: CS ÚRS 2026 01 | N110: základní | P110: =O110*H110 -> 0 | Q110: 0 | R110: =Q110*H110 -> 0 | S110: 0 | T110: =S110*H110 -> 0 | AR110: 16 | AT110: K | AU110: 2 | AY110: ROZPOCET | BE110: =IF(N110="základní",J110,0) -> 0 | BF110: =IF(N110="snížená",J110,0) -> 0 | BG110: =IF(N110="zákl. přenesená",J110,0) -> 0 | BH110: =IF(N110="sníž. přenesená",J110,0) -> 0 | BI110: =IF(N110="nulová",J110,0) -> 0 | BJ110: 1 | BK110: =ROUND(I110*H110,2) -> 0 | BL110: 16 | BM110: 28
D111: Online PSC | F111: https://podminky.urs.cz/item/CS_URS_2026_01/751611164 | AT111: Online PSC | AU111: 2
C112: 15 | D112: M | E112: M001 | F112: Decentrální jednotka s rekuperací 700m3/h, včetně kotvení a příslušenství | G112: kus | H112: 3 | J112: =ROUND(I112*H112,2) -> 0 | N112: základní | P112: =O112*H112 -> 0 | Q112: 0 | R112: =Q112*H112 -> 0 | S112: 0 | T112: =S112*H112 -> 0 | AR112: 32 | AT112: M | AU112: 2 | AY112: ROZPOCET | BE112: =IF(N112="základní",J112,0) -> 0 | BF112: =IF(N112="snížená",J112,0) -> 0 | BG112: =IF(N112="zákl. přenesená",J112,0) -> 0 | BH112: =IF(N112="sníž. přenesená",J112,0) -> 0 | BI112: =IF(N112="nulová",J112,0) -> 0 | BJ112: 1 | BK112: =ROUND(I112*H112,2) -> 0 | BL112: 16 | BM112: 30
D113: P | F113: Poznámka k položce:_x000D_ Poznámka k položce: Interiérová větrací jednotka je určena pro rovnotlaké větrání školních učeben, velkoprostorových kanceláří, provozoven, restaurací, obchodů, všude tam, kde je vyžadována jejich přímá vestavba do vnitřních pobytových prostor s požadovanou minimální hladinou akustického tlaku Větrací jednotka 850 / 10 - Fe.5 - Fi.5 - Digitálníregulace s internetem "E" - UC.W - D - D.C - DC.W - FG.V -PR.I2 - ErP 2016, 2018 | AT113: P | AU113: 2
C114: 16 | D114: K | E114: 751691111 | F114: Zaregulování systému vzduchotechnického zařízení za 1 koncový (distribuční) prvek | G114: kus | H114: 14 | J114: =ROUND(I114*H114,2) -> 0 | K114: CS ÚRS 2026 01 | N114: základní | P114: =O114*H114 -> 0 | Q114: 0 | R114: =Q114*H114 -> 0 | S114: 0 | T114: =S114*H114 -> 0 | AR114: 16 | AT114: K | AU114: 2 | AY114: ROZPOCET | BE114: =IF(N114="základní",J114,0) -> 0 | BF114: =IF(N114="snížená",J114,0) -> 0 | BG114: =IF(N114="zákl. přenesená",J114,0) -> 0 | BH114: =IF(N114="sníž. přenesená",J114,0) -> 0 | BI114: =IF(N114="nulová",J114,0) -> 0 | BJ114: 1 | BK114: =ROUND(I114*H114,2) -> 0 | BL114: 16 | BM114: 32
D115: Online PSC | F115: https://podminky.urs.cz/item/CS_URS_2026_01/751691111 | AT115: Online PSC | AU115: 2
C116: 17 | D116: K | E116: K001 | F116: M+D Zakrytí potrubí laminem 12mm buk + akustickou izolací tl. 50mm | G116: kpl | H116: 3 | J116: =ROUND(I116*H116,2) -> 0 | N116: základní | P116: =O116*H116 -> 0 | Q116: 0 | R116: =Q116*H116 -> 0 | S116: 0 | T116: =S116*H116 -> 0 | AR116: 16 | AT116: K | AU116: 2 | AY116: ROZPOCET | BE116: =IF(N116="základní",J116,0) -> 0 | BF116: =IF(N116="snížená",J116,0) -> 0 | BG116: =IF(N116="zákl. přenesená",J116,0) -> 0 | BH116: =IF(N116="sníž. přenesená",J116,0) -> 0 | BI116: =IF(N116="nulová",J116,0) -> 0 | BJ116: 1 | BK116: =ROUND(I116*H116,2) -> 0 | BL116: 16 | BM116: 34
C117: 18 | D117: K | E117: 998751101 | F117: Přesun hmot pro vzduchotechniku stanovený z hmotnosti přesunovaného materiálu vodorovná dopravní vzdálenost do 100 m základní v objektech výšky do 12 m | G117: t | H117: 0.237 | J117: =ROUND(I117*H117,2) -> 0 | K117: CS ÚRS 2026 01 | N117: základní | P117: =O117*H117 -> 0 | Q117: 0 | R117: =Q117*H117 -> 0 | S117: 0 | T117: =S117*H117 -> 0 | AR117: 16 | AT117: K | AU117: 2 | AY117: ROZPOCET | BE117: =IF(N117="základní",J117,0) -> 0 | BF117: =IF(N117="snížená",J117,0) -> 0 | BG117: =IF(N117="zákl. přenesená",J117,0) -> 0 | BH117: =IF(N117="sníž. přenesená",J117,0) -> 0 | BI117: =IF(N117="nulová",J117,0) -> 0 | BJ117: 1 | BK117: =ROUND(I117*H117,2) -> 0 | BL117: 16 | BM117: 36
D118: Online PSC | F118: https://podminky.urs.cz/item/CS_URS_2026_01/998751101 | AT118: Online PSC | AU118: 2

Sheet D.1.4 - Dešťová kanalizace
AT2: {d6d47393-3c52-484f-8bb5-3ab7d0454aaa}
AT3: 2
D4: KRYCÍ LIST SOUPISU PRACÍ | M4: v --- níže se nacházejí doplnkové a pomocné údaje k sestavám --- v | AT4: False
D6: Stavba:
E7: ='Rekapitulace stavby'!K6 -> Přístavba šaten ZŠ a MŠ Braňany
D8: Objekt:
E9: D.1.4 - Dešťová kanalizace
D11: KSO: | I11: CC-CZ:
D12: Místo: | I12: Datum: | J12: ='Rekapitulace stavby'!AN8 -> 3. 7. 2026
D14: Zadavatel: | I14: IČ: | J14: =IF('Rekapitulace stavby'!AN10="","",'Rekapitulace stavby'!AN10)
E15: =IF('Rekapitulace stavby'!E11="","",'Rekapitulace stavby'!E11) -> Obec Braňany | I15: DIČ: | J15: =IF('Rekapitulace stavby'!AN11="","",'Rekapitulace stavby'!AN11)
D17: Účastník: | I17: IČ: | J17: ='Rekapitulace stavby'!AN13 -> Vyplň údaj
E18: ='Rekapitulace stavby'!E14 -> Vyplň údaj | I18: DIČ: | J18: ='Rekapitulace stavby'!AN14 -> Vyplň údaj
D20: Projektant: | I20: IČ: | J20: =IF('Rekapitulace stavby'!AN16="","",'Rekapitulace stavby'!AN16)
E21: =IF('Rekapitulace stavby'!E17="","",'Rekapitulace stavby'!E17) -> ISONOE INVEST a.s. | I21: DIČ: | J21: =IF('Rekapitulace stavby'!AN17="","",'Rekapitulace stavby'!AN17)
D23: Zpracovatel: | I23: IČ: | J23: =IF('Rekapitulace stavby'!AN19="","",'Rekapitulace stavby'!AN19)
E24: =IF('Rekapitulace stavby'!E20="","",'Rekapitulace stavby'!E20) -> Obec Braňany | I24: DIČ: | J24: =IF('Rekapitulace stavby'!AN20="","",'Rekapitulace stavby'!AN20)
D26: Poznámka:
D30: Cena bez DPH | J30: =ROUND(J88, 2) -> 0
F32: Základ daně | I32: Sazba daně | J32: Výše daně
D33: DPH | E33: základní | F33: =ROUND((SUM(BE88:BE211)), 2) -> 0 | I33: 0.21 | J33: =ROUND(((SUM(BE88:BE211))*I33), 2) -> 0
E34: snížená | F34: =ROUND((SUM(BF88:BF211)), 2) -> 0 | I34: 0.12 | J34: =ROUND(((SUM(BF88:BF211))*I34), 2) -> 0
E35: zákl. přenesená | F35: =ROUND((SUM(BG88:BG211)), 2) -> 0 | I35: 0.21 | J35: =0 -> 0
E36: sníž. přenesená | F36: =ROUND((SUM(BH88:BH211)), 2) -> 0 | I36: 0.12 | J36: =0 -> 0
E37: nulová | F37: =ROUND((SUM(BI88:BI211)), 2) -> 0 | I37: 0 | J37: =0 -> 0
D39: Cena s DPH | G39: v | H39: CZK | J39: =SUM(J30:J37) -> 0
C45: REKAPITULACE ČLENĚNÍ SOUPISU PRACÍ
C47: Stavba:
E48: =E7 -> Přístavba šaten ZŠ a MŠ Braňany
C49: Objekt:
E50: =E9 -> D.1.4 - Dešťová kanalizace
C52: Místo: | F52: =F12 | I52: Datum: | J52: =IF(J12="","",J12) -> 3. 7. 2026
C54: Zadavatel: | F54: =E15 -> Obec Braňany | I54: Projektant: | J54: =E21 -> ISONOE INVEST a.s.
C55: Účastník: | F55: =IF(E18="","",E18) -> Vyplň údaj | I55: Zpracovatel: | J55: =E24 -> Obec Braňany
C57: Kód dílu - Popis | J57: Cena celkem [CZK]
C59: Náklady stavby celkem | J59: =J88 -> 0 | AU59: -1
D60: HSV - Práce a dodávky HSV | J60: =J89 -> 0
D61: 1 - Zemní práce | J61: =J90 -> 0
D62: 4 - Vodorovné konstrukce | J62: =J127 -> 0
D63: 8 - Trubní vedení | J63: =J132 -> 0
D64: 9 - Ostatní konstrukce a práce, bourání | J64: =J185 -> 0
D65: 998 - Přesun hmot | J65: =J188 -> 0
D66: PSV - Práce a dodávky PSV | J66: =J191 -> 0
D67: 721 - Zdravotechnika - vnitřní kanalizace | J67: =J192 -> 0
D68: 722 - Zdravotechnika - vnitřní vodovod | J68: =J203 -> 0
C75: SOUPIS PRACÍ
C77: Stavba:
E78: =E7 -> Přístavba šaten ZŠ a MŠ Braňany
C79: Objekt:
E80: =E9 -> D.1.4 - Dešťová kanalizace
C82: Místo: | F82: =F12 | I82: Datum: | J82: =IF(J12="","",J12) -> 3. 7. 2026
C84: Zadavatel: | F84: =E15 -> Obec Braňany | I84: Projektant: | J84: =E21 -> ISONOE INVEST a.s.
C85: Účastník: | F85: =IF(E18="","",E18) -> Vyplň údaj | I85: Zpracovatel: | J85: =E24 -> Obec Braňany
C87: PČ | D87: Typ | E87: Kód | F87: Popis | G87: MJ | H87: Množství | I87: J.cena [CZK] | J87: Cena celkem [CZK] | K87: Cenová soustava | N87: DPH | O87: J. Nh [h] | P87: Nh celkem [h] | Q87: J. hmotnost [t] | R87: Hmotnost celkem [t] | S87: J. suť [t] | T87: Suť Celkem [t]
C88: Náklady soupisu celkem | J88: =BK88 -> 0 | P88: =P89+P191 -> 0 | R88: =R89+R191 -> 0 | T88: =T89+T191 -> 0 | AT88: D | AU88: -1 | BK88: =BK89+BK191 -> 0
D89: D | E89: HSV | F89: Práce a dodávky HSV | J89: =BK89 -> 0 | P89: =P90+P127+P132+P185+P188 -> 0 | R89: =R90+R127+R132+R185+R188 -> 0 | T89: =T90+T127+T132+T185+T188 -> 0 | AR89: 1 | AT89: D | AU89: 0 | AY89: ROZPOCET | BK89: =BK90+BK127+BK132+BK185+BK188 -> 0
D90: D | E90: 1 | F90: Zemní práce | J90: =BK90 -> 0 | P90: =SUM(P91:P126) -> 0 | R90: =SUM(R91:R126) -> 0 | T90: =SUM(T91:T126) -> 0 | AR90: 1 | AT90: D | AU90: 1 | AY90: ROZPOCET | BK90: =SUM(BK91:BK126) -> 0
C91: 1 | D91: K | E91: 131251201 | F91: Hloubení zapažených jam a zářezů strojně s urovnáním dna do předepsaného profilu a spádu v hornině třídy těžitelnosti I skupiny 3 do 20 m3 | G91: m3 | H91: 3.375 | J91: =ROUND(I91*H91,2) -> 0 | K91: CS ÚRS 2026 01 | N91: základní | P91: =O91*H91 -> 0 | Q91: 0 | R91: =Q91*H91 -> 0 | S91: 0 | T91: =S91*H91 -> 0 | AR91: 4 | AT91: K | AU91: 2 | AY91: ROZPOCET | BE91: =IF(N91="základní",J91,0) -> 0 | BF91: =IF(N91="snížená",J91,0) -> 0 | BG91: =IF(N91="zákl. přenesená",J91,0) -> 0 | BH91: =IF(N91="sníž. přenesená",J91,0) -> 0 | BI91: =IF(N91="nulová",J91,0) -> 0 | BJ91: 1 | BK91: =ROUND(I91*H91,2) -> 0 | BL91: 4 | BM91: 2
D92: Online PSC | F92: https://podminky.urs.cz/item/CS_URS_2026_01/131251201 | AT92: Online PSC | AU92: 2
D93: VV | F93: šachty | AT93: VV | AU93: 2 | AV93: 1 | AW93: True | AX93: 0 | AY93: ROZPOCET
D94: VV | F94: 1,5*1,5*1,5 | H94: 3.375 | AT94: VV | AU94: 2 | AV94: 2 | AW94: True | AX94: 0 | AY94: ROZPOCET
D95: VV | F95: Součet | H95: 3.375 | AT95: VV | AU95: 2 | AV95: 4 | AW95: True | AX95: 1 | AY95: ROZPOCET
C96: 2 | D96: K | E96: 132351103 | F96: Hloubení nezapažených rýh šířky do 800 mm strojně s urovnáním dna do předepsaného profilu a spádu v hornině třídy těžitelnosti II skupiny 4 přes 50 do 100 m3 | G96: m3 | H96: 63 | J96: =ROUND(I96*H96,2) -> 0 | K96: CS ÚRS 2026 01 | N96: základní | P96: =O96*H96 -> 0 | Q96: 0 | R96: =Q96*H96 -> 0 | S96: 0 | T96: =S96*H96 -> 0 | AR96: 4 | AT96: K | AU96: 2 | AY96: ROZPOCET | BE96: =IF(N96="základní",J96,0) -> 0 | BF96: =IF(N96="snížená",J96,0) -> 0 | BG96: =IF(N96="zákl. přenesená",J96,0) -> 0 | BH96: =IF(N96="sníž. přenesená",J96,0) -> 0 | BI96: =IF(N96="nulová",J96,0) -> 0 | BJ96: 1 | BK96: =ROUND(I96*H96,2) -> 0 | BL96: 4 | BM96: 4
D97: Online PSC | F97: https://podminky.urs.cz/item/CS_URS_2026_01/132351103 | AT97: Online PSC | AU97: 2
D98: VV | F98: 35*1,8*1 | H98: 63 | AT98: VV | AU98: 2 | AV98: 2 | AW98: True | AX98: 0 | AY98: ROZPOCET
D99: VV | F99: Součet | H99: 63 | AT99: VV | AU99: 2 | AV99: 4 | AW99: True | AX99: 1 | AY99: ROZPOCET
C100: 3 | D100: K | E100: 162751137 | F100: Vodorovné přemístění výkopku nebo sypaniny po suchu na obvyklém dopravním prostředku, bez naložení výkopku, avšak se složením bez rozhrnutí z horniny třídy těžitelnosti II skupiny 4 a 5 na vzdálenost přes 9 000 do 10 000 m | G100: m3 | H100: 22.625 | J100: =ROUND(I100*H100,2) -> 0 | K100: CS ÚRS 2026 01 | N100: základní | P100: =O100*H100 -> 0 | Q100: 0 | R100: =Q100*H100 -> 0 | S100: 0 | T100: =S100*H100 -> 0 | AR100: 4 | AT100: K | AU100: 2 | AY100: ROZPOCET | BE100: =IF(N100="základní",J100,0) -> 0 | BF100: =IF(N100="snížená",J100,0) -> 0 | BG100: =IF(N100="zákl. přenesená",J100,0) -> 0 | BH100: =IF(N100="sníž. přenesená",J100,0) -> 0 | BI100: =IF(N100="nulová",J100,0) -> 0 | BJ100: 1 | BK100: =ROUND(I100*H100,2) -> 0 | BL100: 4 | BM100: 6
D101: Online PSC | F101: https://podminky.urs.cz/item/CS_URS_2026_01/162751137 | AT101: Online PSC | AU101: 2
D102: VV | F102: 3,375+14+5,25 | H102: 22.625 | AT102: VV | AU102: 2 | AV102: 2 | AW102: True | AX102: 0 | AY102: ROZPOCET
D103: VV | F103: Součet | H103: 22.625 | AT103: VV | AU103: 2 | AV103: 4 | AW103: True | AX103: 1 | AY103: ROZPOCET
C104: 4 | D104: K | E104: 162751139 | F104: Vodorovné přemístění výkopku nebo sypaniny po suchu na obvyklém dopravním prostředku, bez naložení výkopku, avšak se složením bez rozhrnutí z horniny třídy těžitelnosti II skupiny 4 a 5 na vzdálenost Příplatek k ceně za každých dalších i započatých 1 000 m | G104: m3 | H104: 226.25 | J104: =ROUND(I104*H104,2) -> 0 | K104: CS ÚRS 2026 01 | N104: základní | P104: =O104*H104 -> 0 | Q104: 0 | R104: =Q104*H104 -> 0 | S104: 0 | T104: =S104*H104 -> 0 | AR104: 4 | AT104: K | AU104: 2 | AY104: ROZPOCET | BE104: =IF(N104="základní",J104,0) -> 0 | BF104: =IF(N104="snížená",J104,0) -> 0 | BG104: =IF(N104="zákl. přenesená",J104,0) -> 0 | BH104: =IF(N104="sníž. přenesená",J104,0) -> 0 | BI104: =IF(N104="nulová",J104,0) -> 0 | BJ104: 1 | BK104: =ROUND(I104*H104,2) -> 0 | BL104: 4 | BM104: 8
D105: Online PSC | F105: https://podminky.urs.cz/item/CS_URS_2026_01/162751139 | AT105: Online PSC | AU105: 2
D106: VV | F106: 22,625*10 | H106: 226.25 | AT106: VV | AU106: 2 | AV106: 2 | AW106: True | AX106: 0 | AY106: ROZPOCET
D107: VV | F107: Součet | H107: 226.25 | AT107: VV | AU107: 2 | AV107: 4 | AW107: True | AX107: 1 | AY107: ROZPOCET
C108: 5 | D108: K | E108: 171201221 | F108: Poplatek za uložení zeminy a kamení na skládce (skládkovné) zatříděné do Katalogu odpadů pod kódem 17 05 04 | G108: t | H108: 40.725 | J108: =ROUND(I108*H108,2) -> 0 | K108: CS ÚRS 2026 01 | N108: základní | P108: =O108*H108 -> 0 | Q108: 0 | R108: =Q108*H108 -> 0 | S108: 0 | T108: =S108*H108 -> 0 | AR108: 4 | AT108: K | AU108: 2 | AY108: ROZPOCET | BE108: =IF(N108="základní",J108,0) -> 0 | BF108: =IF(N108="snížená",J108,0) -> 0 | BG108: =IF(N108="zákl. přenesená",J108,0) -> 0 | BH108: =IF(N108="sníž. přenesená",J108,0) -> 0 | BI108: =IF(N108="nulová",J108,0) -> 0 | BJ108: 1 | BK108: =ROUND(I108*H108,2) -> 0 | BL108: 4 | BM108: 10
D109: Online PSC | F109: https://podminky.urs.cz/item/CS_URS_2026_01/171201221 | AT109: Online PSC | AU109: 2
D110: VV | F110: 22,625*1,8 | H110: 40.725 | AT110: VV | AU110: 2 | AV110: 2 | AW110: True | AX110: 0 | AY110: ROZPOCET
D111: VV | F111: Součet | H111: 40.725 | AT111: VV | AU111: 2 | AV111: 4 | AW111: True | AX111: 1 | AY111: ROZPOCET
C112: 6 | D112: K | E112: 171251201 | F112: Uložení sypaniny na skládky nebo meziskládky bez hutnění s upravením uložené sypaniny do předepsaného tvaru | G112: m3 | H112: 22.625 | J112: =ROUND(I112*H112,2) -> 0 | K112: CS ÚRS 2026 01 | N112: základní | P112: =O112*H112 -> 0 | Q112: 0 | R112: =Q112*H112 -> 0 | S112: 0 | T112: =S112*H112 -> 0 | AR112: 4 | AT112: K | AU112: 2 | AY112: ROZPOCET | BE112: =IF(N112="základní",J112,0) -> 0 | BF112: =IF(N112="snížená",J112,0) -> 0 | BG112: =IF(N112="zákl. přenesená",J112,0) -> 0 | BH112: =IF(N112="sníž. přenesená",J112,0) -> 0 | BI112: =IF(N112="nulová",J112,0) -> 0 | BJ112: 1 | BK112: =ROUND(I112*H112,2) -> 0 | BL112: 4 | BM112: 12
D113: Online PSC | F113: https://podminky.urs.cz/item/CS_URS_2026_01/171251201 | AT113: Online PSC | AU113: 2
C114: 7 | D114: K | E114: 174101101 | F114: Zásyp sypaninou z jakékoliv horniny strojně s uložením výkopku ve vrstvách se zhutněním jam, šachet, rýh nebo kolem objektů v těchto vykopávkách | G114: m3 | H114: 43.75 | J114: =ROUND(I114*H114,2) -> 0 | K114: CS ÚRS 2026 01 | N114: základní | P114: =O114*H114 -> 0 | Q114: 0 | R114: =Q114*H114 -> 0 | S114: 0 | T114: =S114*H114 -> 0 | AR114: 4 | AT114: K | AU114: 2 | AY114: ROZPOCET | BE114: =IF(N114="základní",J114,0) -> 0 | BF114: =IF(N114="snížená",J114,0) -> 0 | BG114: =IF(N114="zákl. přenesená",J114,0) -> 0 | BH114: =IF(N114="sníž. přenesená",J114,0) -> 0 | BI114: =IF(N114="nulová",J114,0) -> 0 | BJ114: 1 | BK114: =ROUND(I114*H114,2) -> 0 | BL114: 4 | BM114: 14
D115: Online PSC | F115: https://podminky.urs.cz/item/CS_URS_2026_01/174101101 | AT115: Online PSC | AU115: 2
D116: VV | F116: 63 | H116: 63 | AT116: VV | AU116: 2 | AV116: 2 | AW116: True | AX116: 0 | AY116: ROZPOCET
D117: VV | F117: -14 | H117: -14 | AT117: VV | AU117: 2 | AV117: 2 | AW117: True | AX117: 0 | AY117: ROZPOCET
D118: VV | F118: -5,25 | H118: -5.25 | AT118: VV | AU118: 2 | AV118: 2 | AW118: True | AX118: 0 | AY118: ROZPOCET
D119: VV | F119: Součet | H119: 43.75 | AT119: VV | AU119: 2 | AV119: 4 | AW119: True | AX119: 1 | AY119: ROZPOCET
C120: 8 | D120: K | E120: 175151101 | F120: Obsypání potrubí strojně sypaninou z vhodných hornin třídy těžitelnosti I a II, skupiny 1 až 4 nebo materiálem připraveným podél výkopu ve vzdálenosti do 3 m od jeho kraje, pro jakoukoliv hloubku výkopu a míru zhutnění bez prohození sypaniny | G120: m3 | H120: 14 | J120: =ROUND(I120*H120,2) -> 0 | K120: CS ÚRS 2026 01 | N120: základní | P120: =O120*H120 -> 0 | Q120: 0 | R120: =Q120*H120 -> 0 | S120: 0 | T120: =S120*H120 -> 0 | AR120: 4 | AT120: K | AU120: 2 | AY120: ROZPOCET | BE120: =IF(N120="základní",J120,0) -> 0 | BF120: =IF(N120="snížená",J120,0) -> 0 | BG120: =IF(N120="zákl. přenesená",J120,0) -> 0 | BH120: =IF(N120="sníž. přenesená",J120,0) -> 0 | BI120: =IF(N120="nulová",J120,0) -> 0 | BJ120: 1 | BK120: =ROUND(I120*H120,2) -> 0 | BL120: 4 | BM120: 16
D121: Online PSC | F121: https://podminky.urs.cz/item/CS_URS_2026_01/175151101 | AT121: Online PSC | AU121: 2
D122: VV | F122: 35*0,4*1 | H122: 14 | AT122: VV | AU122: 2 | AV122: 2 | AW122: True | AX122: 0 | AY122: ROZPOCET
D123: VV | F123: Součet | H123: 14 | AT123: VV | AU123: 2 | AV123: 4 | AW123: True | AX123: 1 | AY123: ROZPOCET
C124: 9 | D124: M | E124: 58331200 | F124: štěrkopísek netříděný | G124: t | H124: 28 | J124: =ROUND(I124*H124,2) -> 0 | K124: CS ÚRS 2026 01 | N124: základní | P124: =O124*H124 -> 0 | Q124: 0 | R124: =Q124*H124 -> 0 | S124: 0 | T124: =S124*H124 -> 0 | AR124: 8 | AT124: M | AU124: 2 | AY124: ROZPOCET | BE124: =IF(N124="základní",J124,0) -> 0 | BF124: =IF(N124="snížená",J124,0) -> 0 | BG124: =IF(N124="zákl. přenesená",J124,0) -> 0 | BH124: =IF(N124="sníž. přenesená",J124,0) -> 0 | BI124: =IF(N124="nulová",J124,0) -> 0 | BJ124: 1 | BK124: =ROUND(I124*H124,2) -> 0 | BL124: 4 | BM124: 18
D125: VV | F125: 14*2 "Přepočtené koeficientem množství | H125: 28 | AT125: VV | AU125: 2 | AV125: 2 | AW125: True | AX125: 0 | AY125: ROZPOCET
D126: VV | F126: Součet | H126: 28 | AT126: VV | AU126: 2 | AV126: 4 | AW126: True | AX126: 1 | AY126: ROZPOCET
D127: D | E127: 4 | F127: Vodorovné konstrukce | J127: =BK127 -> 0 | P127: =SUM(P128:P131) -> 0 | R127: =SUM(R128:R131) -> 0 | T127: =SUM(T128:T131) -> 0 | AR127: 1 | AT127: D | AU127: 1 | AY127: ROZPOCET | BK127: =SUM(BK128:BK131) -> 0
C128: 10 | D128: K | E128: 451572111 | F128: Lože pod potrubí, stoky a drobné objekty v otevřeném výkopu z kameniva drobného těženého 0 až 4 mm | G128: m3 | H128: 5.25 | J128: =ROUND(I128*H128,2) -> 0 | K128: CS ÚRS 2026 01 | N128: základní | P128: =O128*H128 -> 0 | Q128: 0 | R128: =Q128*H128 -> 0 | S128: 0 | T128: =S128*H128 -> 0 | AR128: 4 | AT128: K | AU128: 2 | AY128: ROZPOCET | BE128: =IF(N128="základní",J128,0) -> 0 | BF128: =IF(N128="snížená",J128,0) -> 0 | BG128: =IF(N128="zákl. přenesená",J128,0) -> 0 | BH128: =IF(N128="sníž. přenesená",J128,0) -> 0 | BI128: =IF(N128="nulová",J128,0) -> 0 | BJ128: 1 | BK128: =ROUND(I128*H128,2) -> 0 | BL128: 4 | BM128: 20
D129: Online PSC | F129: https://podminky.urs.cz/item/CS_URS_2026_01/451572111 | AT129: Online PSC | AU129: 2
D130: VV | F130: 35*0,15*1 | H130: 5.25 | AT130: VV | AU130: 2 | AV130: 2 | AW130: True | AX130: 0 | AY130: ROZPOCET
D131: VV | F131: Součet | H131: 5.25 | AT131: VV | AU131: 2 | AV131: 4 | AW131: True | AX131: 1 | AY131: ROZPOCET
D132: D | E132: 8 | F132: Trubní vedení | J132: =BK132 -> 0 | P132: =SUM(P133:P184) -> 0 | R132: =SUM(R133:R184) -> 0 | T132: =SUM(T133:T184) -> 0 | AR132: 1 | AT132: D | AU132: 1 | AY132: ROZPOCET | BK132: =SUM(BK133:BK184) -> 0
C133: 11 | D133: K | E133: 871270310 | F133: Montáž kanalizačního potrubí z polypropylenu PP hladkého plnostěnného SN 10 DN 125 | G133: m | H133: 25 | J133: =ROUND(I133*H133,2) -> 0 | K133: CS ÚRS 2026 01 | N133: základní | P133: =O133*H133 -> 0 | Q133: 0 | R133: =Q133*H133 -> 0 | S133: 0 | T133: =S133*H133 -> 0 | AR133: 4 | AT133: K | AU133: 2 | AY133: ROZPOCET | BE133: =IF(N133="základní",J133,0) -> 0 | BF133: =IF(N133="snížená",J133,0) -> 0 | BG133: =IF(N133="zákl. přenesená",J133,0) -> 0 | BH133: =IF(N133="sníž. přenesená",J133,0) -> 0 | BI133: =IF(N133="nulová",J133,0) -> 0 | BJ133: 1 | BK133: =ROUND(I133*H133,2) -> 0 | BL133: 4 | BM133: 22
...

Sheet D.1.5 - Silnoproud
AT2: {c299eb07-c861-459c-b66c-5202a0a73e72}
AT3: 2
D4: KRYCÍ LIST SOUPISU PRACÍ | M4: v --- níže se nacházejí doplnkové a pomocné údaje k sestavám --- v | AT4: False
D6: Stavba:
E7: ='Rekapitulace stavby'!K6 -> Přístavba šaten ZŠ a MŠ Braňany
D8: Objekt:
E9: D.1.5 - Silnoproud
D11: KSO: | I11: CC-CZ:
D12: Místo: | I12: Datum: | J12: ='Rekapitulace stavby'!AN8 -> 3. 7. 2026
D14: Zadavatel: | I14: IČ: | J14: =IF('Rekapitulace stavby'!AN10="","",'Rekapitulace stavby'!AN10)
E15: =IF('Rekapitulace stavby'!E11="","",'Rekapitulace stavby'!E11) -> Obec Braňany | I15: DIČ: | J15: =IF('Rekapitulace stavby'!AN11="","",'Rekapitulace stavby'!AN11)
D17: Účastník: | I17: IČ: | J17: ='Rekapitulace stavby'!AN13 -> Vyplň údaj
E18: ='Rekapitulace stavby'!E14 -> Vyplň údaj | I18: DIČ: | J18: ='Rekapitulace stavby'!AN14 -> Vyplň údaj
D20: Projektant: | I20: IČ: | J20: =IF('Rekapitulace stavby'!AN16="","",'Rekapitulace stavby'!AN16)
E21: =IF('Rekapitulace stavby'!E17="","",'Rekapitulace stavby'!E17) -> ISONOE INVEST a.s. | I21: DIČ: | J21: =IF('Rekapitulace stavby'!AN17="","",'Rekapitulace stavby'!AN17)
D23: Zpracovatel: | I23: IČ: | J23: =IF('Rekapitulace stavby'!AN19="","",'Rekapitulace stavby'!AN19)
E24: =IF('Rekapitulace stavby'!E20="","",'Rekapitulace stavby'!E20) -> Obec Braňany | I24: DIČ: | J24: =IF('Rekapitulace stavby'!AN20="","",'Rekapitulace stavby'!AN20)
D26: Poznámka:
D30: Cena bez DPH | J30: =ROUND(J90, 2) -> 0
F32: Základ daně | I32: Sazba daně | J32: Výše daně
D33: DPH | E33: základní | F33: =ROUND((SUM(BE90:BE224)), 2) -> 0 | I33: 0.21 | J33: =ROUND(((SUM(BE90:BE224))*I33), 2) -> 0
E34: snížená | F34: =ROUND((SUM(BF90:BF224)), 2) -> 0 | I34: 0.12 | J34: =ROUND(((SUM(BF90:BF224))*I34), 2) -> 0
E35: zákl. přenesená | F35: =ROUND((SUM(BG90:BG224)), 2) -> 0 | I35: 0.21 | J35: =0 -> 0
E36: sníž. přenesená | F36: =ROUND((SUM(BH90:BH224)), 2) -> 0 | I36: 0.12 | J36: =0 -> 0
E37: nulová | F37: =ROUND((SUM(BI90:BI224)), 2) -> 0 | I37: 0 | J37: =0 -> 0
D39: Cena s DPH | G39: v | H39: CZK | J39: =SUM(J30:J37) -> 0
C45: REKAPITULACE ČLENĚNÍ SOUPISU PRACÍ
C47: Stavba:
E48: =E7 -> Přístavba šaten ZŠ a MŠ Braňany
C49: Objekt:
E50: =E9 -> D.1.5 - Silnoproud
C52: Místo: | F52: =F12 | I52: Datum: | J52: =IF(J12="","",J12) -> 3. 7. 2026
C54: Zadavatel: | F54: =E15 -> Obec Braňany | I54: Projektant: | J54: =E21 -> ISONOE INVEST a.s.
C55: Účastník: | F55: =IF(E18="","",E18) -> Vyplň údaj | I55: Zpracovatel: | J55: =E24 -> Obec Braňany
C57: Kód dílu - Popis | J57: Cena celkem [CZK]
C59: Náklady stavby celkem | J59: =J90 -> 0 | AU59: -1
D60: PSV - Práce a dodávky PSV | J60: =J91 -> 0
D61: 741 - Elektroinstalace - silnoproud | J61: =J92 -> 0
D62: KAB - Kabelové trasy | J62: =J93 -> 0
D63: KOMP - Kompletace | J63: =J110 -> 0
D64: RP - Rozvaděč patrový | J64: =J121 -> 0
D65: SV - Osvětlení | J65: =J126 -> 0
D66: TRAS - Doplnění kabelových tras | J66: =J132 -> 0
D67: M - Práce a dodávky M | J67: =J143 -> 0
D68: 21-M - Elektromontáže | J68: =J144 -> 0
D69: 46-M - Zemní práce při extr.mont.pracích | J69: =J191 -> 0
D70: OST - Ostatní | J70: =J208 -> 0
C77: SOUPIS PRACÍ
C79: Stavba:
E80: =E7 -> Přístavba šaten ZŠ a MŠ Braňany
C81: Objekt:
E82: =E9 -> D.1.5 - Silnoproud
C84: Místo: | F84: =F12 | I84: Datum: | J84: =IF(J12="","",J12) -> 3. 7. 2026
C86: Zadavatel: | F86: =E15 -> Obec Braňany | I86: Projektant: | J86: =E21 -> ISONOE INVEST a.s.
C87: Účastník: | F87: =IF(E18="","",E18) -> Vyplň údaj | I87: Zpracovatel: | J87: =E24 -> Obec Braňany
C89: PČ | D89: Typ | E89: Kód | F89: Popis | G89: MJ | H89: Množství | I89: J.cena [CZK] | J89: Cena celkem [CZK] | K89: Cenová soustava | N89: DPH | O89: J. Nh [h] | P89: Nh celkem [h] | Q89: J. hmotnost [t] | R89: Hmotnost celkem [t] | S89: J. suť [t] | T89: Suť Celkem [t]
C90: Náklady soupisu celkem | J90: =BK90 -> 0 | P90: =P91+P143+P208 -> 0 | R90: =R91+R143+R208 -> 0 | T90: =T91+T143+T208 -> 0 | AT90: D | AU90: -1 | BK90: =BK91+BK143+BK208 -> 0
D91: D | E91: PSV | F91: Práce a dodávky PSV | J91: =BK91 -> 0 | P91: =P92+P93+P110+P121+P126+P132 -> 0 | R91: =R92+R93+R110+R121+R126+R132 -> 0 | T91: =T92+T93+T110+T121+T126+T132 -> 0 | AR91: 2 | AT91: D | AU91: 0 | AY91: ROZPOCET | BK91: =BK92+BK93+BK110+BK121+BK126+BK132 -> 0
D92: D | E92: 741 | F92: Elektroinstalace - silnoproud | J92: =BK92 -> 0 | P92: 0 | R92: 0 | T92: 0 | AR92: 2 | AT92: D | AU92: 1 | AY92: ROZPOCET | BK92: 0
D93: D | E93: KAB | F93: Kabelové trasy | J93: =BK93 -> 0 | P93: =SUM(P94:P109) -> 0 | R93: =SUM(R94:R109) -> 0 | T93: =SUM(T94:T109) -> 0 | AR93: 1 | AT93: D | AU93: 1 | AY93: ROZPOCET | BK93: =SUM(BK94:BK109) -> 0
C94: 1 | D94: K | E94: 741120001 | F94: Montáž vodičů izolovaných měděných bez ukončení uložených pod omítku plných a laněných (např. CY), průřezu žíly 0,35 až 6 mm2 | G94: m | H94: 295 | J94: =ROUND(I94*H94,2) -> 0 | K94: CS ÚRS 2026 01 | N94: základní | P94: =O94*H94 -> 0 | Q94: 0 | R94: =Q94*H94 -> 0 | S94: 0 | T94: =S94*H94 -> 0 | AR94: 4 | AT94: K | AU94: 2 | AY94: ROZPOCET | BE94: =IF(N94="základní",J94,0) -> 0 | BF94: =IF(N94="snížená",J94,0) -> 0 | BG94: =IF(N94="zákl. přenesená",J94,0) -> 0 | BH94: =IF(N94="sníž. přenesená",J94,0) -> 0 | BI94: =IF(N94="nulová",J94,0) -> 0 | BJ94: 1 | BK94: =ROUND(I94*H94,2) -> 0 | BL94: 4 | BM94: 2
D95: Online PSC | F95: https://podminky.urs.cz/item/CS_URS_2026_01/741120001 | AT95: Online PSC | AU95: 2
C96: 2 | D96: M | E96: 34141027 | F96: vodič propojovací flexibilní jádro Cu lanované izolace PVC 450/750V (H07V-K) 1x6mm2 | G96: m | H96: 339.25 | J96: =ROUND(I96*H96,2) -> 0 | K96: CS ÚRS 2026 01 | N96: základní | P96: =O96*H96 -> 0 | Q96: 0 | R96: =Q96*H96 -> 0 | S96: 0 | T96: =S96*H96 -> 0 | AR96: 8 | AT96: M | AU96: 2 | AY96: ROZPOCET | BE96: =IF(N96="základní",J96,0) -> 0 | BF96: =IF(N96="snížená",J96,0) -> 0 | BG96: =IF(N96="zákl. přenesená",J96,0) -> 0 | BH96: =IF(N96="sníž. přenesená",J96,0) -> 0 | BI96: =IF(N96="nulová",J96,0) -> 0 | BJ96: 1 | BK96: =ROUND(I96*H96,2) -> 0 | BL96: 4 | BM96: 4
D97: P | F97: Poznámka k položce:_x000D_ Poznámka k položce: H07V-K CYA, průměr vodiče 5,3mm | AT97: P | AU97: 2
D98: VV | F98: 295*1,15 | H98: 339.25 | AT98: VV | AU98: 2 | AV98: 2 | AW98: True | AX98: 0 | AY98: ROZPOCET
D99: VV | F99: Součet | H99: 339.25 | AT99: VV | AU99: 2 | AV99: 4 | AW99: True | AX99: 1 | AY99: ROZPOCET
C100: 3 | D100: K | E100: 741122015 | F100: Montáž kabelů měděných bez ukončení uložených pod omítku plných kulatých (např. CYKY), počtu a průřezu žil 3x1,5 mm2 | G100: m | H100: 710 | J100: =ROUND(I100*H100,2) -> 0 | K100: CS ÚRS 2026 01 | N100: základní | P100: =O100*H100 -> 0 | Q100: 0 | R100: =Q100*H100 -> 0 | S100: 0 | T100: =S100*H100 -> 0 | AR100: 4 | AT100: K | AU100: 2 | AY100: ROZPOCET | BE100: =IF(N100="základní",J100,0) -> 0 | BF100: =IF(N100="snížená",J100,0) -> 0 | BG100: =IF(N100="zákl. přenesená",J100,0) -> 0 | BH100: =IF(N100="sníž. přenesená",J100,0) -> 0 | BI100: =IF(N100="nulová",J100,0) -> 0 | BJ100: 1 | BK100: =ROUND(I100*H100,2) -> 0 | BL100: 4 | BM100: 6
D101: Online PSC | F101: https://podminky.urs.cz/item/CS_URS_2026_01/741122015 | AT101: Online PSC | AU101: 2
C102: 4 | D102: M | E102: PKB.711018 | F102: CYKY-J 3x1,5 | G102: m | H102: 816.5 | J102: =ROUND(I102*H102,2) -> 0 | N102: základní | P102: =O102*H102 -> 0 | Q102: 0 | R102: =Q102*H102 -> 0 | S102: 0 | T102: =S102*H102 -> 0 | AR102: 8 | AT102: M | AU102: 2 | AY102: ROZPOCET | BE102: =IF(N102="základní",J102,0) -> 0 | BF102: =IF(N102="snížená",J102,0) -> 0 | BG102: =IF(N102="zákl. přenesená",J102,0) -> 0 | BH102: =IF(N102="sníž. přenesená",J102,0) -> 0 | BI102: =IF(N102="nulová",J102,0) -> 0 | BJ102: 1 | BK102: =ROUND(I102*H102,2) -> 0 | BL102: 4 | BM102: 8
D103: VV | F103: 710*1,15 | H103: 816.5 | AT103: VV | AU103: 2 | AV103: 2 | AW103: True | AX103: 0 | AY103: ROZPOCET
D104: VV | F104: Součet | H104: 816.5 | AT104: VV | AU104: 2 | AV104: 4 | AW104: True | AX104: 1 | AY104: ROZPOCET
C105: 5 | D105: K | E105: 741122016 | F105: Montáž kabelů měděných bez ukončení uložených pod omítku plných kulatých (např. CYKY), počtu a průřezu žil 3x2,5 až 6 mm2 | G105: m | H105: 480 | J105: =ROUND(I105*H105,2) -> 0 | K105: CS ÚRS 2026 01 | N105: základní | P105: =O105*H105 -> 0 | Q105: 0 | R105: =Q105*H105 -> 0 | S105: 0 | T105: =S105*H105 -> 0 | AR105: 4 | AT105: K | AU105: 2 | AY105: ROZPOCET | BE105: =IF(N105="základní",J105,0) -> 0 | BF105: =IF(N105="snížená",J105,0) -> 0 | BG105: =IF(N105="zákl. přenesená",J105,0) -> 0 | BH105: =IF(N105="sníž. přenesená",J105,0) -> 0 | BI105: =IF(N105="nulová",J105,0) -> 0 | BJ105: 1 | BK105: =ROUND(I105*H105,2) -> 0 | BL105: 4 | BM105: 10
D106: Online PSC | F106: https://podminky.urs.cz/item/CS_URS_2026_01/741122016 | AT106: Online PSC | AU106: 2
C107: 6 | D107: M | E107: PKB.711021 | F107: CYKY-J 3x2,5 | G107: m | H107: 552 | J107: =ROUND(I107*H107,2) -> 0 | N107: základní | P107: =O107*H107 -> 0 | Q107: 0 | R107: =Q107*H107 -> 0 | S107: 0 | T107: =S107*H107 -> 0 | AR107: 8 | AT107: M | AU107: 2 | AY107: ROZPOCET | BE107: =IF(N107="základní",J107,0) -> 0 | BF107: =IF(N107="snížená",J107,0) -> 0 | BG107: =IF(N107="zákl. přenesená",J107,0) -> 0 | BH107: =IF(N107="sníž. přenesená",J107,0) -> 0 | BI107: =IF(N107="nulová",J107,0) -> 0 | BJ107: 1 | BK107: =ROUND(I107*H107,2) -> 0 | BL107: 4 | BM107: 12
D108: VV | F108: 480*1,15 | H108: 552 | AT108: VV | AU108: 2 | AV108: 2 | AW108: True | AX108: 0 | AY108: ROZPOCET
D109: VV | F109: Součet | H109: 552 | AT109: VV | AU109: 2 | AV109: 4 | AW109: True | AX109: 1 | AY109: ROZPOCET
D110: D | E110: KOMP | F110: Kompletace | J110: =BK110 -> 0 | P110: =SUM(P111:P120) -> 0 | R110: =SUM(R111:R120) -> 0 | T110: =SUM(T111:T120) -> 0 | AR110: 1 | AT110: D | AU110: 1 | AY110: ROZPOCET | BK110: =SUM(BK111:BK120) -> 0
C111: 7 | D111: K | E111: 741130001 | F111: Ukončení vodičů izolovaných s označením a zapojením v rozváděči nebo na přístroji, průřezu žíly do 2,5 mm2 | G111: kus | H111: 1550 | J111: =ROUND(I111*H111,2) -> 0 | K111: CS ÚRS 2026 01 | N111: základní | P111: =O111*H111 -> 0 | Q111: 0 | R111: =Q111*H111 -> 0 | S111: 0 | T111: =S111*H111 -> 0 | AR111: 4 | AT111: K | AU111: 2 | AY111: ROZPOCET | BE111: =IF(N111="základní",J111,0) -> 0 | BF111: =IF(N111="snížená",J111,0) -> 0 | BG111: =IF(N111="zákl. přenesená",J111,0) -> 0 | BH111: =IF(N111="sníž. přenesená",J111,0) -> 0 | BI111: =IF(N111="nulová",J111,0) -> 0 | BJ111: 1 | BK111: =ROUND(I111*H111,2) -> 0 | BL111: 4 | BM111: 14
D112: Online PSC | F112: https://podminky.urs.cz/item/CS_URS_2026_01/741130001 | AT112: Online PSC | AU112: 2
C113: 8 | D113: K | E113: 741130003 | F113: Ukončení vodičů izolovaných s označením a zapojením v rozváděči nebo na přístroji, průřezu žíly do 4 mm2 | G113: kus | H113: 95 | J113: =ROUND(I113*H113,2) -> 0 | K113: CS ÚRS 2026 01 | N113: základní | P113: =O113*H113 -> 0 | Q113: 0 | R113: =Q113*H113 -> 0 | S113: 0 | T113: =S113*H113 -> 0 | AR113: 4 | AT113: K | AU113: 2 | AY113: ROZPOCET | BE113: =IF(N113="základní",J113,0) -> 0 | BF113: =IF(N113="snížená",J113,0) -> 0 | BG113: =IF(N113="zákl. přenesená",J113,0) -> 0 | BH113: =IF(N113="sníž. přenesená",J113,0) -> 0 | BI113: =IF(N113="nulová",J113,0) -> 0 | BJ113: 1 | BK113: =ROUND(I113*H113,2) -> 0 | BL113: 4 | BM113: 16
D114: Online PSC | F114: https://podminky.urs.cz/item/CS_URS_2026_01/741130003 | AT114: Online PSC | AU114: 2
C115: 9 | D115: K | E115: 741311003 | F115: Montáž spínačů speciálních se zapojením vodičů čidla pohybu vestavného | G115: kus | H115: 8 | J115: =ROUND(I115*H115,2) -> 0 | K115: CS ÚRS 2026 01 | N115: základní | P115: =O115*H115 -> 0 | Q115: 0 | R115: =Q115*H115 -> 0 | S115: 0 | T115: =S115*H115 -> 0 | AR115: 4 | AT115: K | AU115: 2 | AY115: ROZPOCET | BE115: =IF(N115="základní",J115,0) -> 0 | BF115: =IF(N115="snížená",J115,0) -> 0 | BG115: =IF(N115="zákl. přenesená",J115,0) -> 0 | BH115: =IF(N115="sníž. přenesená",J115,0) -> 0 | BI115: =IF(N115="nulová",J115,0) -> 0 | BJ115: 1 | BK115: =ROUND(I115*H115,2) -> 0 | BL115: 4 | BM115: 18
D116: Online PSC | F116: https://podminky.urs.cz/item/CS_URS_2026_01/741311003 | AT116: Online PSC | AU116: 2
C117: 10 | D117: M | E117: AUT1 | F117: Spánací automat vestavný, podélná křivka snímání 360°, 360° nebo do lištového systému , komplet dle PD | G117: kus | H117: 8 | J117: =ROUND(I117*H117,2) -> 0 | N117: základní | P117: =O117*H117 -> 0 | Q117: 0 | R117: =Q117*H117 -> 0 | S117: 0 | T117: =S117*H117 -> 0 | AR117: 8 | AT117: M | AU117: 2 | AY117: ROZPOCET | BE117: =IF(N117="základní",J117,0) -> 0 | BF117: =IF(N117="snížená",J117,0) -> 0 | BG117: =IF(N117="zákl. přenesená",J117,0) -> 0 | BH117: =IF(N117="sníž. přenesená",J117,0) -> 0 | BI117: =IF(N117="nulová",J117,0) -> 0 | BJ117: 1 | BK117: =ROUND(I117*H117,2) -> 0 | BL117: 4 | BM117: 20
C118: 11 | D118: K | E118: 741313001 | F118: Montáž zásuvek domovních se zapojením vodičů bezšroubové připojení polozapuštěných nebo zapuštěných 10/16 A, provedení 2P + PE | G118: kus | H118: 6 | J118: =ROUND(I118*H118,2) -> 0 | K118: CS ÚRS 2026 01 | N118: základní | P118: =O118*H118 -> 0 | Q118: 0 | R118: =Q118*H118 -> 0 | S118: 0 | T118: =S118*H118 -> 0 | AR118: 4 | AT118: K | AU118: 2 | AY118: ROZPOCET | BE118: =IF(N118="základní",J118,0) -> 0 | BF118: =IF(N118="snížená",J118,0) -> 0 | BG118: =IF(N118="zákl. přenesená",J118,0) -> 0 | BH118: =IF(N118="sníž. přenesená",J118,0) -> 0 | BI118: =IF(N118="nulová",J118,0) -> 0 | BJ118: 1 | BK118: =ROUND(I118*H118,2) -> 0 | BL118: 4 | BM118: 22
D119: Online PSC | F119: https://podminky.urs.cz/item/CS_URS_2026_01/741313001 | AT119: Online PSC | AU119: 2
C120: 12 | D120: M | E120: 34555202 | F120: zásuvka zápustná jednonásobná chráněná, šroubové svorky | G120: kus | H120: 6 | J120: =ROUND(I120*H120,2) -> 0 | K120: CS ÚRS 2026 01 | N120: základní | P120: =O120*H120 -> 0 | Q120: 0 | R120: =Q120*H120 -> 0 | S120: 0 | T120: =S120*H120 -> 0 | AR120: 8 | AT120: M | AU120: 2 | AY120: ROZPOCET | BE120: =IF(N120="základní",J120,0) -> 0 | BF120: =IF(N120="snížená",J120,0) -> 0 | BG120: =IF(N120="zákl. přenesená",J120,0) -> 0 | BH120: =IF(N120="sníž. přenesená",J120,0) -> 0 | BI120: =IF(N120="nulová",J120,0) -> 0 | BJ120: 1 | BK120: =ROUND(I120*H120,2) -> 0 | BL120: 4 | BM120: 24
D121: D | E121: RP | F121: Rozvaděč patrový | J121: =BK121 -> 0 | P121: =SUM(P122:P125) -> 0 | R121: =SUM(R122:R125) -> 0 | T121: =SUM(T122:T125) -> 0 | AR121: 1 | AT121: D | AU121: 1 | AY121: ROZPOCET | BK121: =SUM(BK122:BK125) -> 0
C122: 13 | D122: K | E122: 741321003 | F122: Montáž proudových chráničů se zapojením vodičů dvoupólových nn do 25 A ve skříni | G122: kus | H122: 5 | J122: =ROUND(I122*H122,2) -> 0 | K122: CS ÚRS 2026 01 | N122: základní | P122: =O122*H122 -> 0 | Q122: 0 | R122: =Q122*H122 -> 0 | S122: 0 | T122: =S122*H122 -> 0 | AR122: 4 | AT122: K | AU122: 2 | AY122: ROZPOCET | BE122: =IF(N122="základní",J122,0) -> 0 | BF122: =IF(N122="snížená",J122,0) -> 0 | BG122: =IF(N122="zákl. přenesená",J122,0) -> 0 | BH122: =IF(N122="sníž. přenesená",J122,0) -> 0 | BI122: =IF(N122="nulová",J122,0) -> 0 | BJ122: 1 | BK122: =ROUND(I122*H122,2) -> 0 | BL122: 4 | BM122: 26
D123: Online PSC | F123: https://podminky.urs.cz/item/CS_URS_2026_01/741321003 | AT123: Online PSC | AU123: 2
C124: 14 | D124: M | E124: RP5_JIS_CHR_10 | F124: Doávka jističo-chrániče 10A, char. B, 1N, 30mA | G124: kus | H124: 1 | J124: =ROUND(I124*H124,2) -> 0 | N124: základní | P124: =O124*H124 -> 0 | Q124: 0 | R124: =Q124*H124 -> 0 | S124: 0 | T124: =S124*H124 -> 0 | AR124: 8 | AT124: M | AU124: 2 | AY124: ROZPOCET | BE124: =IF(N124="základní",J124,0) -> 0 | BF124: =IF(N124="snížená",J124,0) -> 0 | BG124: =IF(N124="zákl. přenesená",J124,0) -> 0 | BH124: =IF(N124="sníž. přenesená",J124,0) -> 0 | BI124: =IF(N124="nulová",J124,0) -> 0 | BJ124: 1 | BK124: =ROUND(I124*H124,2) -> 0 | BL124: 4 | BM124: 28
C125: 15 | D125: M | E125: RP5_JIS_CHR_16 | F125: Doávka jističo-chrániče 16A, char. B, 1N, 30mA | G125: kus | H125: 4 | J125: =ROUND(I125*H125,2) -> 0 | N125: základní | P125: =O125*H125 -> 0 | Q125: 0 | R125: =Q125*H125 -> 0 | S125: 0 | T125: =S125*H125 -> 0 | AR125: 8 | AT125: M | AU125: 2 | AY125: ROZPOCET | BE125: =IF(N125="základní",J125,0) -> 0 | BF125: =IF(N125="snížená",J125,0) -> 0 | BG125: =IF(N125="zákl. přenesená",J125,0) -> 0 | BH125: =IF(N125="sníž. přenesená",J125,0) -> 0 | BI125: =IF(N125="nulová",J125,0) -> 0 | BJ125: 1 | BK125: =ROUND(I125*H125,2) -> 0 | BL125: 4 | BM125: 30
D126: D | E126: SV | F126: Osvětlení | J126: =BK126 -> 0 | P126: =SUM(P127:P131) -> 0 | R126: =SUM(R127:R131) -> 0 | T126: =SUM(T127:T131) -> 0 | AR126: 1 | AT126: D | AU126: 1 | AY126: ROZPOCET | BK126: =SUM(BK127:BK131) -> 0
C127: 16 | D127: K | E127: 741372112 | F127: Montáž svítidel s integrovaným zdrojem LED se zapojením vodičů interiérových vestavných stropních panelových hranatých nebo kruhových, plochy přes 0,09 do 0,36 m2 | G127: kus | H127: 33 | J127: =ROUND(I127*H127,2) -> 0 | K127: CS ÚRS 2026 01 | N127: základní | P127: =O127*H127 -> 0 | Q127: 0 | R127: =Q127*H127 -> 0 | S127: 0 | T127: =S127*H127 -> 0 | AR127: 4 | AT127: K | AU127: 2 | AY127: ROZPOCET | BE127: =IF(N127="základní",J127,0) -> 0 | BF127: =IF(N127="snížená",J127,0) -> 0 | BG127: =IF(N127="zákl. přenesená",J127,0) -> 0 | BH127: =IF(N127="sníž. přenesená",J127,0) -> 0 | BI127: =IF(N127="nulová",J127,0) -> 0 | BJ127: 1 | BK127: =ROUND(I127*H127,2) -> 0 | BL127: 4 | BM127: 32
D128: Online PSC | F128: https://podminky.urs.cz/item/CS_URS_2026_01/741372112 | AT128: Online PSC | AU128: 2
C129: 17 | D129: M | E129: A1 | F129: LED, Vestavné do rastru, Optický systém - Strukturovaný plast, LED driver proudově řízený, 19W, 2000lm, IP40. | G129: kus | H129: 33 | J129: =ROUND(I129*H129,2) -> 0 | N129: základní | P129: =O129*H129 -> 0 | Q129: 0 | R129: =Q129*H129 -> 0 | S129: 0 | T129: =S129*H129 -> 0 | AR129: 8 | AT129: M | AU129: 2 | AY129: ROZPOCET | BE129: =IF(N129="základní",J129,0) -> 0 | BF129: =IF(N129="snížená",J129,0) -> 0 | BG129: =IF(N129="zákl. přenesená",J129,0) -> 0 | BH129: =IF(N129="sníž. přenesená",J129,0) -> 0 | BI129: =IF(N129="nulová",J129,0) -> 0 | BJ129: 1 | BK129: =ROUND(I129*H129,2) -> 0 | BL129: 4 | BM129: 34
C130: 18 | D130: K | E130: NZ1 | F130: Montáž svítidla nouzového přisazeného LED | G130: kus | H130: 7 | J130: =ROUND(I130*H130,2) -> 0 | N130: základní | P130: =O130*H130 -> 0 | Q130: 0 | R130: =Q130*H130 -> 0 | S130: 0 | T130: =S130*H130 -> 0 | AR130: 4 | AT130: K | AU130: 2 | AY130: ROZPOCET | BE130: =IF(N130="základní",J130,0) -> 0 | BF130: =IF(N130="snížená",J130,0) -> 0 | BG130: =IF(N130="zákl. přenesená",J130,0) -> 0 | BH130: =IF(N130="sníž. přenesená",J130,0) -> 0 | BI130: =IF(N130="nulová",J130,0) -> 0 | BJ130: 1 | BK130: =ROUND(I130*H130,2) -> 0 | BL130: 4 | BM130: 36
C131: 19 | D131: M | E131: N1 | F131: Nouzové, LED, Do rastru(kruhové, střed kazety, Optický systém -Čirý plast, elektronický předřadník s nouzovým zdrojem (baterie LiFePO4, 3h), 2W, 270lm, IP65 | G131: kus | H131: 7 | J131: =ROUND(I131*H131,2) -> 0 | N131: základní | P131: =O131*H131 -> 0 | Q131: 0 | R131: =Q131*H131 -> 0 | S131: 0 | T131: =S131*H131 -> 0 | AR131: 8 | AT131: M | AU131: 2 | AY131: ROZPOCET | BE131: =IF(N131="základní",J131,0) -> 0 | BF131: =IF(N131="snížená",J131,0) -> 0 | BG131: =IF(N131="zákl. přenesená",J131,0) -> 0 | BH131: =IF(N131="sníž. přenesená",J131,0) -> 0 | BI131: =IF(N131="nulová",J131,0) -> 0 | BJ131: 1 | BK131: =ROUND(I131*H131,2) -> 0 | BL131: 4 | BM131: 38
D132: D | E132: TRAS | F132: Doplnění kabelových tras | J132: =BK132 -> 0 | P132: =SUM(P133:P142) -> 0 | R132: =SUM(R133:R142) -> 0 | T132: =SUM(T133:T142) -> 0 | AR132: 1 | AT132: D | AU132: 1 | AY132: ROZPOCET | BK132: =SUM(BK133:BK142) -> 0
C133: 20 | D133: K | E133: 468091212 | F133: Vysekání kapes nebo výklenků ve zdivu pro osazení kotevních prvků nebo elektroinstalačního zařízení betonovém nebo kamenném, velikosti 10x10x8 cm | G133: kus | H133: 6 | J133: =ROUND(I133*H133,2) -> 0 | K133: CS ÚRS 2026 01 | N133: základní | P133: =O133*H133 -> 0 | Q133: 0 | R133: =Q133*H133 -> 0 | S133: 0 | T133: =S133*H133 -> 0 | AR133: 4 | AT133: K | AU133: 2 | AY133: ROZPOCET | BE133: =IF(N133="základní",J133,0) -> 0 | BF133: =IF(N133="snížená",J133,0) -> 0 | BG133: =IF(N133="zákl. přenesená",J133,0) -> 0 | BH133: =IF(N133="sníž. přenesená",J133,0) -> 0 | BI133: =IF(N133="nulová",J133,0) -> 0 | BJ133: 1 | BK133: =ROUND(I133*H133,2) -> 0 | BL133: 4 | BM133: 40
...

Sheet VRN - Vedlejší rozpočtové...
AT2: {1829dd54-96c6-49b4-a036-c404f00ad3ce}
AT3: 2
D4: KRYCÍ LIST SOUPISU PRACÍ | M4: v --- níže se nacházejí doplnkové a pomocné údaje k sestavám --- v | AT4: False
D6: Stavba:
E7: ='Rekapitulace stavby'!K6 -> Přístavba šaten ZŠ a MŠ Braňany
D8: Objekt:
E9: VRN - Vedlejší rozpočtové...
D11: KSO: | I11: CC-CZ:
D12: Místo: | I12: Datum: | J12: ='Rekapitulace stavby'!AN8 -> 3. 7. 2026
D14: Zadavatel: | I14: IČ: | J14: =IF('Rekapitulace stavby'!AN10="","",'Rekapitulace stavby'!AN10)
E15: =IF('Rekapitulace stavby'!E11="","",'Rekapitulace stavby'!E11) -> Obec Braňany | I15: DIČ: | J15: =IF('Rekapitulace stavby'!AN11="","",'Rekapitulace stavby'!AN11)
D17: Účastník: | I17: IČ: | J17: ='Rekapitulace stavby'!AN13 -> Vyplň údaj
E18: ='Rekapitulace stavby'!E14 -> Vyplň údaj | I18: DIČ: | J18: ='Rekapitulace stavby'!AN14 -> Vyplň údaj
D20: Projektant: | I20: IČ: | J20: =IF('Rekapitulace stavby'!AN16="","",'Rekapitulace stavby'!AN16)
E21: =IF('Rekapitulace stavby'!E17="","",'Rekapitulace stavby'!E17) -> ISONOE INVEST a.s. | I21: DIČ: | J21: =IF('Rekapitulace stavby'!AN17="","",'Rekapitulace stavby'!AN17)
D23: Zpracovatel: | I23: IČ: | J23: =IF('Rekapitulace stavby'!AN19="","",'Rekapitulace stavby'!AN19)
E24: =IF('Rekapitulace stavby'!E20="","",'Rekapitulace stavby'!E20) -> Obec Braňany | I24: DIČ: | J24: =IF('Rekapitulace stavby'!AN20="","",'Rekapitulace stavby'!AN20)
D26: Poznámka:
D30: Cena bez DPH | J30: =ROUND(J86, 2) -> 0
F32: Základ daně | I32: Sazba daně | J32: Výše daně
D33: DPH | E33: základní | F33: =ROUND((SUM(BE86:BE106)), 2) -> 0 | I33: 0.21 | J33: =ROUND(((SUM(BE86:BE106))*I33), 2) -> 0
E34: snížená | F34: =ROUND((SUM(BF86:BF106)), 2) -> 0 | I34: 0.12 | J34: =ROUND(((SUM(BF86:BF106))*I34), 2) -> 0
E35: zákl. přenesená | F35: =ROUND((SUM(BG86:BG106)), 2) -> 0 | I35: 0.21 | J35: =0 -> 0
E36: sníž. přenesená | F36: =ROUND((SUM(BH86:BH106)), 2) -> 0 | I36: 0.12 | J36: =0 -> 0
E37: nulová | F37: =ROUND((SUM(BI86:BI106)), 2) -> 0 | I37: 0 | J37: =0 -> 0
D39: Cena s DPH | G39: v | H39: CZK | J39: =SUM(J30:J37) -> 0
C45: REKAPITULACE ČLENĚNÍ SOUPISU PRACÍ
C47: Stavba:
E48: =E7 -> Přístavba šaten ZŠ a MŠ Braňany
C49: Objekt:
E50: =E9 -> VRN - Vedlejší rozpočtové...
C52: Místo: | F52: =F12 | I52: Datum: | J52: =IF(J12="","",J12) -> 3. 7. 2026
C54: Zadavatel: | F54: =E15 -> Obec Braňany | I54: Projektant: | J54: =E21 -> ISONOE INVEST a.s.
C55: Účastník: | F55: =IF(E18="","",E18) -> Vyplň údaj | I55: Zpracovatel: | J55: =E24 -> Obec Braňany
C57: Kód dílu - Popis | J57: Cena celkem [CZK]
C59: Náklady stavby celkem | J59: =J86 -> 0 | AU59: -1
D60: VRN - Vedlejší rozpočtové náklady | J60: =J87 -> 0
D61: VRN1 - Průzkumné, geodetické a projektové práce | J61: =J88 -> 0
D62: VRN3 - Zařízení staveniště | J62: =J94 -> 0
D63: VRN4 - Inženýrská činnost | J63: =J96 -> 0
D64: VRN6 - Územní vlivy | J64: =J100 -> 0
D65: VRN7 - Provozní vlivy | J65: =J102 -> 0
D66: VRN9 - Ostatní náklady | J66: =J104 -> 0
C73: SOUPIS PRACÍ
C75: Stavba:
E76: =E7 -> Přístavba šaten ZŠ a MŠ Braňany
C77: Objekt:
E78: =E9 -> VRN - Vedlejší rozpočtové...
C80: Místo: | F80: =F12 | I80: Datum: | J80: =IF(J12="","",J12) -> 3. 7. 2026
C82: Zadavatel: | F82: =E15 -> Obec Braňany | I82: Projektant: | J82: =E21 -> ISONOE INVEST a.s.
C83: Účastník: | F83: =IF(E18="","",E18) -> Vyplň údaj | I83: Zpracovatel: | J83: =E24 -> Obec Braňany
C85: PČ | D85: Typ | E85: Kód | F85: Popis | G85: MJ | H85: Množství | I85: J.cena [CZK] | J85: Cena celkem [CZK] | K85: Cenová soustava | N85: DPH | O85: J. Nh [h] | P85: Nh celkem [h] | Q85: J. hmotnost [t] | R85: Hmotnost celkem [t] | S85: J. suť [t] | T85: Suť Celkem [t]
C86: Náklady soupisu celkem | J86: =BK86 -> 0 | P86: =P87 -> 0 | R86: =R87 -> 0 | T86: =T87 -> 0 | AT86: D | AU86: -1 | BK86: =BK87 -> 0
D87: D | E87: VRN | F87: Vedlejší rozpočtové náklady | J87: =BK87 -> 0 | P87: =P88+P94+P96+P100+P102+P104 -> 0 | R87: =R88+R94+R96+R100+R102+R104 -> 0 | T87: =T88+T94+T96+T100+T102+T104 -> 0 | AR87: 5 | AT87: D | AU87: 0 | AY87: ROZPOCET | BK87: =BK88+BK94+BK96+BK100+BK102+BK104 -> 0
D88: D | E88: VRN1 | F88: Průzkumné, geodetické a projektové práce | J88: =BK88 -> 0 | P88: =SUM(P89:P93) -> 0 | R88: =SUM(R89:R93) -> 0 | T88: =SUM(T89:T93) -> 0 | AR88: 5 | AT88: D | AU88: 1 | AY88: ROZPOCET | BK88: =SUM(BK89:BK93) -> 0
C89: 1 | D89: K | E89: 010001000R | F89: Průzkumné, geodetické a projektové práce | G89: kpl | H89: 1 | J89: =ROUND(I89*H89,2) -> 0 | N89: základní | P89: =O89*H89 -> 0 | Q89: 0 | R89: =Q89*H89 -> 0 | S89: 0 | T89: =S89*H89 -> 0 | AR89: 4 | AT89: K | AU89: 2 | AY89: ROZPOCET | BE89: =IF(N89="základní",J89,0) -> 0 | BF89: =IF(N89="snížená",J89,0) -> 0 | BG89: =IF(N89="zákl. přenesená",J89,0) -> 0 | BH89: =IF(N89="sníž. přenesená",J89,0) -> 0 | BI89: =IF(N89="nulová",J89,0) -> 0 | BJ89: 1 | BK89: =ROUND(I89*H89,2) -> 0 | BL89: 4 | BM89: 2
D90: P | F90: Poznámka k položce:_x000D_ Poznámka k položce: Průzkumné, geodetické a projektové práce před výstavbou, vytýčení stavebních objektů, inženýrských objektů a provozních souborů nebo jejich částí oprávněným geodetem včetně vypracování příslušných protokolů před výstavbou. | AT90: P | AU90: 2
C91: 2 | D91: K | E91: 013254000 | F91: Průzkumné, geodetické a projektové práce projektové práce dokumentace stavby (výkresová a textová) skutečného provedení stavby | G91: kpl | H91: 1 | J91: =ROUND(I91*H91,2) -> 0 | N91: základní | P91: =O91*H91 -> 0 | Q91: 0 | R91: =Q91*H91 -> 0 | S91: 0 | T91: =S91*H91 -> 0 | AR91: 4 | AT91: K | AU91: 2 | AY91: ROZPOCET | BE91: =IF(N91="základní",J91,0) -> 0 | BF91: =IF(N91="snížená",J91,0) -> 0 | BG91: =IF(N91="zákl. přenesená",J91,0) -> 0 | BH91: =IF(N91="sníž. přenesená",J91,0) -> 0 | BI91: =IF(N91="nulová",J91,0) -> 0 | BJ91: 1 | BK91: =ROUND(I91*H91,2) -> 0 | BL91: 4 | BM91: 4
C92: 3 | D92: K | E92: 013294000R | F92: Výrobní dokumentace, včetně vzorkování | G92: kpl | H92: 1 | J92: =ROUND(I92*H92,2) -> 0 | N92: základní | P92: =O92*H92 -> 0 | Q92: 0 | R92: =Q92*H92 -> 0 | S92: 0 | T92: =S92*H92 -> 0 | AR92: 4 | AT92: K | AU92: 2 | AY92: ROZPOCET | BE92: =IF(N92="základní",J92,0) -> 0 | BF92: =IF(N92="snížená",J92,0) -> 0 | BG92: =IF(N92="zákl. přenesená",J92,0) -> 0 | BH92: =IF(N92="sníž. přenesená",J92,0) -> 0 | BI92: =IF(N92="nulová",J92,0) -> 0 | BJ92: 1 | BK92: =ROUND(I92*H92,2) -> 0 | BL92: 4 | BM92: 6
D93: P | F93: Poznámka k položce:_x000D_ Poznámka k položce: Projektové práce - výrobní a dílenská dokumentace v rozsahu dle PD - Vypracování veškerých výrobně technických dokumentací v požadované formě a rozsahu nutném pro provedení díla, včetně projednání s dotčenými orgány, předání 1x v tištěné a 1x v digitální formě. | AT93: P | AU93: 2
D94: D | E94: VRN3 | F94: Zařízení staveniště | J94: =BK94 -> 0 | P94: =P95 -> 0 | R94: =R95 -> 0 | T94: =T95 -> 0 | AR94: 5 | AT94: D | AU94: 1 | AY94: ROZPOCET | BK94: =BK95 -> 0
C95: 4 | D95: K | E95: 030001000.1 | F95: Veškeré zařízení v rámci ZS a co předepisuje ZOV (vybudování ZS, oplocení, stavební přípojky, odběrná místa, dočasné komunikace a sjezdy včetně stání pro kontejnery, čistící zóny, oklepové zóny, zajištění zeleně proti poškození, zajištění okolních objektů nebo těch kterých se stavba jen dotýká, zimní opatření, náklady na energie během stavby, náklady na úklid ZS a okolí včetně komunikací, zabezpečení staveniště - označení (cedulky atp), buňkoviště včetně připojení na rozvody EL, vod a kan, strážní služba objektu, náklady na zrušení ZS a celkově veškeré požadavky dle ZOV | G95: kpl | H95: 1 | J95: =ROUND(I95*H95,2) -> 0 | N95: základní | P95: =O95*H95 -> 0 | Q95: 0 | R95: =Q95*H95 -> 0 | S95: 0 | T95: =S95*H95 -> 0 | AR95: 4 | AT95: K | AU95: 2 | AY95: ROZPOCET | BE95: =IF(N95="základní",J95,0) -> 0 | BF95: =IF(N95="snížená",J95,0) -> 0 | BG95: =IF(N95="zákl. přenesená",J95,0) -> 0 | BH95: =IF(N95="sníž. přenesená",J95,0) -> 0 | BI95: =IF(N95="nulová",J95,0) -> 0 | BJ95: 1 | BK95: =ROUND(I95*H95,2) -> 0 | BL95: 4 | BM95: 8
D96: D | E96: VRN4 | F96: Inženýrská činnost | J96: =BK96 -> 0 | P96: =SUM(P97:P99) -> 0 | R96: =SUM(R97:R99) -> 0 | T96: =SUM(T97:T99) -> 0 | AR96: 5 | AT96: D | AU96: 1 | AY96: ROZPOCET | BK96: =SUM(BK97:BK99) -> 0
C97: 5 | D97: K | E97: 040001000 | F97: Inženýrská činnost | G97: kpl | H97: 1 | J97: =ROUND(I97*H97,2) -> 0 | N97: základní | P97: =O97*H97 -> 0 | Q97: 0 | R97: =Q97*H97 -> 0 | S97: 0 | T97: =S97*H97 -> 0 | AR97: 4 | AT97: K | AU97: 2 | AY97: ROZPOCET | BE97: =IF(N97="základní",J97,0) -> 0 | BF97: =IF(N97="snížená",J97,0) -> 0 | BG97: =IF(N97="zákl. přenesená",J97,0) -> 0 | BH97: =IF(N97="sníž. přenesená",J97,0) -> 0 | BI97: =IF(N97="nulová",J97,0) -> 0 | BJ97: 1 | BK97: =ROUND(I97*H97,2) -> 0 | BL97: 4 | BM97: 10
C98: 6 | D98: K | E98: 042503000 | F98: Plán BOZP na staveništi | G98: kpl | H98: 1 | J98: =ROUND(I98*H98,2) -> 0 | N98: základní | P98: =O98*H98 -> 0 | Q98: 0 | R98: =Q98*H98 -> 0 | S98: 0 | T98: =S98*H98 -> 0 | AR98: 4 | AT98: K | AU98: 2 | AY98: ROZPOCET | BE98: =IF(N98="základní",J98,0) -> 0 | BF98: =IF(N98="snížená",J98,0) -> 0 | BG98: =IF(N98="zákl. přenesená",J98,0) -> 0 | BH98: =IF(N98="sníž. přenesená",J98,0) -> 0 | BI98: =IF(N98="nulová",J98,0) -> 0 | BJ98: 1 | BK98: =ROUND(I98*H98,2) -> 0 | BL98: 4 | BM98: 12
C99: 7 | D99: K | E99: 045303000 | F99: Koordinační činnost | G99: kpl | H99: 1 | J99: =ROUND(I99*H99,2) -> 0 | N99: základní | P99: =O99*H99 -> 0 | Q99: 0 | R99: =Q99*H99 -> 0 | S99: 0 | T99: =S99*H99 -> 0 | AR99: 4 | AT99: K | AU99: 2 | AY99: ROZPOCET | BE99: =IF(N99="základní",J99,0) -> 0 | BF99: =IF(N99="snížená",J99,0) -> 0 | BG99: =IF(N99="zákl. přenesená",J99,0) -> 0 | BH99: =IF(N99="sníž. přenesená",J99,0) -> 0 | BI99: =IF(N99="nulová",J99,0) -> 0 | BJ99: 1 | BK99: =ROUND(I99*H99,2) -> 0 | BL99: 4 | BM99: 14
D100: D | E100: VRN6 | F100: Územní vlivy | J100: =BK100 -> 0 | P100: =P101 -> 0 | R100: =R101 -> 0 | T100: =T101 -> 0 | AR100: 5 | AT100: D | AU100: 1 | AY100: ROZPOCET | BK100: =BK101 -> 0
C101: 8 | D101: K | E101: 065002000 | F101: Mimostaveništní doprava materiálů | G101: kpl | H101: 1 | J101: =ROUND(I101*H101,2) -> 0 | N101: základní | P101: =O101*H101 -> 0 | Q101: 0 | R101: =Q101*H101 -> 0 | S101: 0 | T101: =S101*H101 -> 0 | AR101: 4 | AT101: K | AU101: 2 | AY101: ROZPOCET | BE101: =IF(N101="základní",J101,0) -> 0 | BF101: =IF(N101="snížená",J101,0) -> 0 | BG101: =IF(N101="zákl. přenesená",J101,0) -> 0 | BH101: =IF(N101="sníž. přenesená",J101,0) -> 0 | BI101: =IF(N101="nulová",J101,0) -> 0 | BJ101: 1 | BK101: =ROUND(I101*H101,2) -> 0 | BL101: 4 | BM101: 16
D102: D | E102: VRN7 | F102: Provozní vlivy | J102: =BK102 -> 0 | P102: =P103 -> 0 | R102: =R103 -> 0 | T102: =T103 -> 0 | AR102: 5 | AT102: D | AU102: 1 | AY102: ROZPOCET | BK102: =BK103 -> 0
C103: 9 | D103: K | E103: 071002000 | F103: Provoz investora, třetích osob | G103: kpl | H103: 1 | J103: =ROUND(I103*H103,2) -> 0 | N103: základní | P103: =O103*H103 -> 0 | Q103: 0 | R103: =Q103*H103 -> 0 | S103: 0 | T103: =S103*H103 -> 0 | AR103: 4 | AT103: K | AU103: 2 | AY103: ROZPOCET | BE103: =IF(N103="základní",J103,0) -> 0 | BF103: =IF(N103="snížená",J103,0) -> 0 | BG103: =IF(N103="zákl. přenesená",J103,0) -> 0 | BH103: =IF(N103="sníž. přenesená",J103,0) -> 0 | BI103: =IF(N103="nulová",J103,0) -> 0 | BJ103: 1 | BK103: =ROUND(I103*H103,2) -> 0 | BL103: 4 | BM103: 18
D104: D | E104: VRN9 | F104: Ostatní náklady | J104: =BK104 -> 0 | P104: =SUM(P105:P106) -> 0 | R104: =SUM(R105:R106) -> 0 | T104: =SUM(T105:T106) -> 0 | AR104: 5 | AT104: D | AU104: 1 | AY104: ROZPOCET | BK104: =SUM(BK105:BK106) -> 0
C105: 10 | D105: K | E105: 090001000.1 | F105: Posudky, měření, kontrolní a revizní zkoušky stávajících a nově vybudovaných konstrukcí a objektů | G105: kpl | H105: 1 | J105: =ROUND(I105*H105,2) -> 0 | N105: základní | P105: =O105*H105 -> 0 | Q105: 0 | R105: =Q105*H105 -> 0 | S105: 0 | T105: =S105*H105 -> 0 | AR105: 4 | AT105: K | AU105: 2 | AY105: ROZPOCET | BE105: =IF(N105="základní",J105,0) -> 0 | BF105: =IF(N105="snížená",J105,0) -> 0 | BG105: =IF(N105="zákl. přenesená",J105,0) -> 0 | BH105: =IF(N105="sníž. přenesená",J105,0) -> 0 | BI105: =IF(N105="nulová",J105,0) -> 0 | BJ105: 1 | BK105: =ROUND(I105*H105,2) -> 0 | BL105: 4 | BM105: 20
C106: 11 | D106: K | E106: 01231140R | F106: Jeřábnické a vazačské práce | G106: hod | H106: 50 | J106: =ROUND(I106*H106,2) -> 0 | N106: základní | P106: =O106*H106 -> 0 | Q106: 0 | R106: =Q106*H106 -> 0 | S106: 0 | T106: =S106*H106 -> 0 | AR106: 4 | AT106: K | AU106: 2 | AY106: ROZPOCET | BE106: =IF(N106="základní",J106,0) -> 0 | BF106: =IF(N106="snížená",J106,0) -> 0 | BG106: =IF(N106="zákl. přenesená",J106,0) -> 0 | BH106: =IF(N106="sníž. přenesená",J106,0) -> 0 | BI106: =IF(N106="nulová",J106,0) -> 0 | BJ106: 1 | BK106: =ROUND(I106*H106,2) -> 0 | BL106: 4 | BM106: 22

Sheet Pokyny pro vyplnění
C3: Struktura údajů, formát souboru a metodika pro zpracování
C4: Struktura
C6: Soubor je složen ze záložky Rekapitulace stavby a záložek s názvem soupisu prací pro jednotlivé objekty ve formátu XLSX. Každá ze záložek přitom obsahuje
C7: ještě samostatné sestavy vymezené orámovaním a nadpisem sestavy.
C9: Rekapitulace stavby obsahuje sestavu Rekapitulace stavby a Rekapitulace objektů stavby a soupisů prací.
D10: V sestavě Rekapitulace stavby jsou uvedeny informace identifikující předmět veřejné zakázky na stavební práce, KSO, CC-CZ, CZ-CPV, CZ-CPA a rekapitulaci
D11: celkové nabídkové ceny účastníka.
D13: Termínem "učastník" (resp. zhotovitel) se myslí "účastník zadávacího řízení" ve smyslu zákona o zadávání veřejných zakázek.
D15: V sestavě Rekapitulace objektů stavby a soupisů prací je uvedena rekapitulace stavebních objektů, inženýrských objektů, provozních souborů,
D16: vedlejších a ostatních nákladů a ostatních nákladů s rekapitulací nabídkové ceny za jednotlivé soupisy prací. Na základě údaje Typ je možné
D17: identifikovat, zda se jedná o objekt nebo soupis prací pro daný objekt:
E18: STA | F18: Stavební objekt pozemní
E19: ING | F19: Stavební objekt inženýrský
E20: PRO | F20: Provozní soubor
E21: VON | F21: Vedlejší a ostatní náklady
E22: OST | F22: Ostatní
E23: Soupis | F23: Soupis prací pro daný typ objektu
C25: Soupis prací pro jednotlivé objekty obsahuje sestavy Krycí list soupisu prací, Rekapitulace členění soupisu prací, Soupis prací. Za soupis prací může být považován
C26: i objekt stavby v případě, že neobsahuje podřízenou zakázku.
D27: Krycí list soupisu obsahuje rekapitulaci informací o předmětu veřejné zakázky ze sestavy Rekapitulace stavby, informaci o zařazení objektu do KSO,
D28: CC-CZ, CZ-CPV, CZ-CPA a rekapitulaci celkové nabídkové ceny účastníka za aktuální soupis prací.
D30: Rekapitulace členění soupisu prací obsahuje rekapitulaci soupisu prací ve všech úrovních členění soupisu tak, jak byla tato členění použita (např.
D31: stavební díly, funkční díly, případně jiné členění) s rekapitulací nabídkové ceny.
D33: Soupis prací obsahuje položky veškerých stavebních nebo montážních prací, dodávek materiálů a služeb nezbytných pro zhotovení stavebního objektu,
D34: inženýrského objektu, provozního souboru, vedlejších a ostatních nákladů.
D35: Pro položky soupisu prací se zobrazují následující informace:
E36: PČ | G36: Pořadové číslo položky v aktuálním soupisu
E37: TYP | G37: Typ položky: K - konstrukce, M - materiál, PP - plný popis, PSC - poznámka k souboru cen, P - poznámka k položce, VV - výkaz výměr, FIG - rozpad figur
E38: Kód | G38: Kód položky
E39: Popis | G39: Zkrácený popis položky
E40: MJ | G40: Měrná jednotka položky
E41: Množství | G41: Množství v měrné jednotce
E42: J.cena | G42: Jednotková cena položky. Zadaní může obsahovat namísto J.ceny sloupce J.materiál a J.montáž, jejichž součet definuje
G43: J.cenu položky.
E44: Cena celkem | G44: Celková cena položky daná jako součin množství a j.ceny
E45: Cenová soustava | G45: Příslušnost položky do cenové soustavy
D47: Ke každé položce soupisu prací se na samostatných řádcích může zobrazovat:
E48: Plný popis položky
E49: Poznámka k souboru cen a poznámka zadavatele
E50: Výkaz výměr
D51: Pokud je k řádku výkazu výměr evidovaný údaj ve sloupci Kód, jedná se o definovaný odkaz, na který se může odvolávat výkaz výměr z jiné položky.
C52: Metodika pro zpracování
C54: Jednotlivé sestavy jsou v souboru provázány. Editovatelné pole jsou zvýrazněny žlutým podbarvením, ostatní pole neslouží k editaci a nesmí být jakkoliv
C55: modifikovány.
C57: Účastník je pro podání nabídky povinen vyplnit žlutě podbarvená pole:
D58: Pole Účastník v sestavě Rekapitulace stavby - zde účastník vyplní svůj název (název subjektu)
D59: Pole IČ a DIČ v sestavě Rekapitulace stavby - zde účastník vyplní svoje IČ a DIČ
D60: Datum v sestavě Rekapitulace stavby - zde účastník vyplní datum vytvoření nabídky
D61: J.cena = jednotková cena v sestavě Soupis prací o maximálním počtu desetinných míst uvedených v poli
D62: - pokud sestavy soupisů prací obsahují pole J.cena, měla by být všechna tato pole vyplněna nenulovými
D63: Poznámka - nepovinný údaj pro položku soupisu
D65: V případě, že sestavy soupisů prací neobsahují pole J.cena, potom ve všech soupisech prací obsahují pole:
D66: - J.materiál - jednotková cena materiálu
D67: - J.montáž - jednotková cena montáže
D68: Účastník v tomto případě by měl vyplnit všechna pole J.materiál a pole J.montáž nenulovými kladnými číslicemi. V případech, kdy položka
D69: neobsahuje žádný materiál je přípustné, aby pole J.materiál bylo vyplněno nulou. V případech, kdy položka neobsahuje žádnou montáž je přípustné,
D70: aby pole J.montáž bylo vyplněno nulou. Obě pole - J.materiál, J.Montáž u jedné položky by však neměly být vyplněny nulou.
C75: Rekapitulace stavby
C76: Název | F76: Povinný | H76: Popis | I76: Typ | J76: Max. počet
C77: atributu | F77: (A/N) | J77: znaků
C79: Kód | F79: A | H79: Kód stavby | I79: String | J79: 20
C80: Stavba | F80: A | H80: Název stavby | I80: String | J80: 120
C81: Místo | F81: N | H81: Místo stavby | I81: String | J81: 50
C82: Datum | F82: A | H82: Datum vykonaného exportu | I82: Date
C83: KSO | F83: N | H83: Klasifikace stavebního objektu | I83: String | J83: 15
C84: CC-CZ | F84: N | H84: Klasifikace stavbeních děl | I84: String | J84: 15
C85: CZ-CPV | F85: N | H85: Společný slovník pro veřejné zakázky | I85: String | J85: 20
C86: CZ-CPA | F86: N | H86: Klasifikace produkce podle činností | I86: String | J86: 20
C87: Zadavatel | F87: N | H87: Zadavatel zadaní | I87: String | J87: 50
C88: IČ | F88: N | H88: IČ zadavatele zadaní | I88: String | J88: 20
C89: DIČ | F89: N | H89: DIČ zadavatele zadaní | I89: String | J89: 20
C90: Účastník | F90: N | H90: Účastník veřejné zakázky | I90: String | J90: 50
C91: Projektant | F91: N | H91: Projektant | I91: String | J91: 50
C92: Poznámka | F92: N | H92: Poznámka k zadání | I92: String | J92: 255
C93: Sazba DPH | F93: A | H93: Rekapitulace sazeb DPH u položek soupisů | I93: eGSazbaDph
C94: Základna DPH | F94: A | H94: Základna DPH určena součtem celkové ceny z položek soupisů | I94: Double
C95: Hodnota DPH | F95: A | H95: Hodnota DPH | I95: Double
C96: Cena bez DPH | F96: A | H96: Celková cena bez DPH za celou stavbu. Sčítává se ze všech listů. | I96: Double
C97: Cena s DPH | F97: A | H97: Celková cena s DPH za celou stavbu | I97: Double
C102: Rekapitulace objektů stavby a soupisů prací
C103: Název | F103: Povinný | H103: Popis | I103: Typ | J103: Max. počet
C104: atributu | F104: (A/N) | J104: znaků
C106: Kód | F106: A | H106: Přebírá se z Rekapitulace stavby | I106: String | J106: 20
C107: Stavba | F107: A | H107: Přebírá se z Rekapitulace stavby | I107: String | J107: 120
C108: Místo | F108: N | H108: Přebírá se z Rekapitulace stavby | I108: String | J108: 50
C109: Datum | F109: A | H109: Přebírá se z Rekapitulace stavby | I109: Date
C110: Zadavatel | F110: N | H110: Přebírá se z Rekapitulace stavby | I110: String | J110: 50
C111: Projektant | F111: N | H111: Přebírá se z Rekapitulace stavby | I111: String | J111: 50
C112: Účastník | F112: N | H112: Přebírá se z Rekapitulace stavby | I112: String | J112: 50
C113: Kód | F113: A | H113: Kód objektu | I113: String | J113: 20
C114: Objektu, Soupis prací | F114: A | H114: Název objektu | I114: String | J114: 120
C115: Cena bez DPH | F115: A | H115: Cena bez DPH za daný objekt | I115: Double
C116: Cena s DPH | F116: A | H116: Cena spolu s DPH za daný objekt | I116: Double
C117: Typ | F117: A | H117: Typ zakázky | I117: eGTypZakazky
C122: Krycí list soupisu
C123: Název | F123: Povinný | H123: Popis | I123: Typ | J123: Max. počet
C124: atributu | F124: (A/N) | J124: znaků
C126: Stavba | F126: A | H126: Přebírá se z Rekapitulace stavby | I126: String | J126: 120
C127: Objekt | F127: A | H127: Kód a název objektu | I127: String | J127: 20 + 120
C128: Soupis | F128: A | H128: Kód a název soupisu | I128: String | J128: 20 + 120
...
