Workbook
Name CelkemDPHVypocet: Stavba!$H$47
Name CenaCelkem: Stavba!$G$29
Name CenaCelkemBezDPH: Stavba!$G$28
Name CenaCelkemVypocet: Stavba!$I$47
Name cisloobjektu: Stavba!$D$3
Name CisloRozpoctu: '[1]Krycí list'!$C$2
Name CisloStavby: Stavba!$D$2
Name cislostavby: '[1]Krycí list'!$A$7
Name CisloStavebnihoRozpoctu: Stavba!$D$4
Name dadresa: Stavba!$D$12:$G$12
Name DIČ: Stavba!$I$12
Name dmisto: Stavba!$E$13:$G$13
Name DPHSni: Stavba!$G$24
Name DPHZakl: Stavba!$G$26
Name dpsc: Stavba!$D$13
Name IČO: Stavba!$I$11
Name Mena: Stavba!$J$29
Name MistoStavby: Stavba!$D$4
Name nazevobjektu: Stavba!$E$3
Name NazevRozpoctu: '[1]Krycí list'!$D$2
Name NazevStavby: Stavba!$E$2
Name nazevstavby: '[1]Krycí list'!$C$7
Name NazevStavebnihoRozpoctu: Stavba!$E$4
Name oadresa: Stavba!$D$6
Name Objednatel: Stavba!$D$5
Name Objekt: Stavba!$B$38
Name odic: Stavba!$I$6
Name oico: Stavba!$I$5
Name omisto: Stavba!$E$7
Name onazev: Stavba!$D$6
Name opsc: Stavba!$D$7
Name padresa: Stavba!$D$9
Name pdic: Stavba!$I$9
Name pico: Stavba!$I$8
Name pmisto: Stavba!$E$10
Name PocetMJ: #REF!
Name PoptavkaID: Stavba!$A$1
Name pPSC: Stavba!$D$10
Name Projektant: Stavba!$D$8
Name SazbaDPH1: Stavba!$E$23
Name SazbaDPH1: '[1]Krycí list'!$C$30
Name SazbaDPH2: Stavba!$E$25
Name SazbaDPH2: '[1]Krycí list'!$C$32
Name SloupecCC: #REF!
Name SloupecCisloPol: #REF!
Name SloupecJC: #REF!
Name SloupecMJ: #REF!
Name SloupecMnozstvi: #REF!
Name SloupecNazPol: #REF!
Name SloupecPC: #REF!
Name Vypracoval: Stavba!$D$14
Name ZakladDPHSni: Stavba!$G$23
Name ZakladDPHSniVypocet: Stavba!$F$47
Name ZakladDPHZakl: Stavba!$G$25
Name ZakladDPHZaklVypocet: Stavba!$G$47
Name ZaObjednatele: Stavba!$G$34
Name Zaokrouhleni: Stavba!$G$27
Name ZaZhotovitele: Stavba!$D$34
Name Zhotovitel: Stavba!$D$11:$G$11

Sheet Pokyny pro vyplnění
A1: Pokyny pro vyplnění
A2: Ve všech listech tohoto souboru můžete měnit pouze buňky s modrým pozadím. Jedná se o tyto údaje : - údaje o firmě - jednotkové ceny položek zadané na maximálně dvě desetinná místa

Sheet Stavba
A1: #RTSROZP# | B1: Soupis stavebních prací, dodávek a služeb
B2: Stavba: | D2: 01 | E2: REKONSTRUKCE VOLNOČASOVÉHO CENTRA V UNÍNĚ - 2. etapa
B5: Zadavatel | H5: IČO:
H6: DIČ:
B8: Projektant: | D8: UNIPROJEKT spol. s r.o. | H8: IČO: | I8: 44041781
D9: Dvořáčkova 66 | H9: DIČ:
D10: 66601 | E10: Tišnov
B11: Zhotovitel: | D11: Jiří Kolář | H11: IČO: | I11: 44034121
D12: Formánkova 1875 | H12: DIČ: | I12: CZ6712170982
D13: 666 01 | E13: Tišnov
B14: Vypracoval:
B15: Rozpis ceny | I15: Celkem
A16: HSV | B16: HSV | I16: =SUMIF(F61:F92,A16,I61:I92)+SUMIF(F61:F92,"PSU",I61:I92) -> 2198355.8
A17: PSV | B17: PSV | I17: =SUMIF(F61:F92,A17,I61:I92) -> 563350.12
A18: MON | B18: MON | I18: =SUMIF(F61:F92,A18,I61:I92) -> 0
A19: VN | B19: Vedlejší náklady | I19: =SUMIF(F61:F92,A19,I61:I92) -> 59000
A20: ON | B20: Ostatní náklady | I20: =SUMIF(F61:F92,A20,I61:I92) -> 0
B21: Celkem | I21: =G41 -> 2820706
B22: Rekapitulace daní
A23: =ZakladDPHSni*SazbaDPH1/100 -> 0 | B23: Základ pro sníženou DPH | E23: 12 | F23: % | G23: =ZakladDPHSniVypocet -> 0 | J23: =Mena -> CZK
A24: =(A23-INT(A23))*100 -> 0 | B24: Snížená DPH | E24: =SazbaDPH1 -> 12 | F24: % | G24: =A23 -> 0 | J24: =Mena -> CZK
A25: =ZakladDPHZakl*SazbaDPH2/100 -> 592348.25 | B25: Základ pro základní DPH | E25: 21 | F25: % | G25: =ZakladDPHZaklVypocet -> 2820706 | J25: =Mena -> CZK
A26: =(A25-INT(A25))*100 -> 25.37 | B26: Základní DPH | E26: =SazbaDPH2 -> 21 | F26: % | G26: =A25 -> 592348.25 | J26: =Mena -> CZK
A27: =ZakladDPHSni+DPHSni+ZakladDPHZakl+DPHZakl -> 3413054.2 | B27: Zaokrouhlení | G27: =CenaCelkem-(ZakladDPHSni+DPHSni+ZakladDPHZakl+DPHZakl) -> 0 | J27: =Mena -> CZK
B28: Cena celkem bez DPH | G28: =ZakladDPHSniVypocet+ZakladDPHZaklVypocet -> 2820706 | J28: =Mena -> CZK
A29: =(A27-INT(A27))*100 -> 22.37 | B29: Cena celkem s DPH | G29: =A27 -> 3413054.2 | J29: CZK
C32: v | D32: Tišnově | F32: dne | H32: 46091
D35: Za zhotovitele | H35: Za objednatele
B37: Rekapitulace dílčích částí
A38: #CASTI>> | B38: Číslo | C38: Název | F38: =B23 -> Základ pro sníženou DPH | G38: =B25 -> Základ pro základní DPH | H38: DPH celkem | I38: Cena celkem | J38: %
A39: 1 | B39: Stavba | F39: ='S01 1) STAVBA Pol'!AD129+'S01 2) ZTI Pol'!AD126+'S01 3) PL Pol'!AE41+'S01 4) UT Pol'!AE98+'S01 5) ELEKTRO Pol'!AD133 -> 0 | G39: ='S01 1) STAVBA Pol'!AE129+'S01 2) ZTI Pol'!AE126+'S01 3) PL Pol'!AF41+'S01 4) UT Pol'!AF98+'S01 5) ELEKTRO Pol'!AE133 -> 2820706 | H39: =(F39*SazbaDPH1/100)+(G39*SazbaDPH2/100) -> 592348.25 | I39: =F39+G39+H39 -> 3413054.2 | J39: =IF(CenaCelkemVypocet=0,"",I39/CenaCelkemVypocet*100) -> 100
A40: 2 | C40: Stavební objekt | H40: =(F40*SazbaDPH1/100)+(G40*SazbaDPH2/100) -> 0
A41: 2 | B41: S01 | C41: VOLNOČASOVÉ CENTRUM | F41: ='S01 1) STAVBA Pol'!AD129+'S01 2) ZTI Pol'!AD126+'S01 3) PL Pol'!AE41+'S01 4) UT Pol'!AE98+'S01 5) ELEKTRO Pol'!AD133 -> 0 | G41: ='S01 1) STAVBA Pol'!AE129+'S01 2) ZTI Pol'!AE126+'S01 3) PL Pol'!AF41+'S01 4) UT Pol'!AF98+'S01 5) ELEKTRO Pol'!AE133 -> 2820706 | H41: =(F41*SazbaDPH1/100)+(G41*SazbaDPH2/100) -> 592348.25 | I41: =F41+G41+H41 -> 3413054.2 | J41: =IF(CenaCelkemVypocet=0,"",I41/CenaCelkemVypocet*100) -> 100
A42: 3 | B42: 1) STAVBA | C42: Stavební rozpočet | F42: ='S01 1) STAVBA Pol'!AD129 -> 0 | G42: ='S01 1) STAVBA Pol'!AE129 -> 909819.81 | H42: =(F42*SazbaDPH1/100)+(G42*SazbaDPH2/100) -> 191062.16 | I42: =F42+G42+H42 -> 1100882 | J42: =IF(CenaCelkemVypocet=0,"",I42/CenaCelkemVypocet*100) -> 32.255039
A43: 3 | B43: 2) ZTI | C43: Zdravotně technické instalace | F43: ='S01 2) ZTI Pol'!AD126 -> 0 | G43: ='S01 2) ZTI Pol'!AE126 -> 1320918 | H43: =(F43*SazbaDPH1/100)+(G43*SazbaDPH2/100) -> 277392.78 | I43: =F43+G43+H43 -> 1598310.8 | J43: =IF(CenaCelkemVypocet=0,"",I43/CenaCelkemVypocet*100) -> 46.829341
A44: 3 | B44: 3) PL | C44: Plynoinstalace | F44: ='S01 3) PL Pol'!AE41 -> 0 | G44: ='S01 3) PL Pol'!AF41 -> 0 | H44: =(F44*SazbaDPH1/100)+(G44*SazbaDPH2/100) -> 0 | I44: =F44+G44+H44 -> 0 | J44: =IF(CenaCelkemVypocet=0,"",I44/CenaCelkemVypocet*100) -> 0
A45: 3 | B45: 4) UT | C45: Vytápění stavby | F45: ='S01 4) UT Pol'!AE98 -> 0 | G45: ='S01 4) UT Pol'!AF98 -> 0 | H45: =(F45*SazbaDPH1/100)+(G45*SazbaDPH2/100) -> 0 | I45: =F45+G45+H45 -> 0 | J45: =IF(CenaCelkemVypocet=0,"",I45/CenaCelkemVypocet*100) -> 0
A46: 3 | B46: 5) ELEKTRO | C46: Silnoproud a slaboproud včetně bleskosvodu | F46: ='S01 5) ELEKTRO Pol'!AD133 -> 0 | G46: ='S01 5) ELEKTRO Pol'!AE133 -> 589968.14 | H46: =(F46*SazbaDPH1/100)+(G46*SazbaDPH2/100) -> 123893.31 | I46: =F46+G46+H46 -> 713861.45 | J46: =IF(CenaCelkemVypocet=0,"",I46/CenaCelkemVypocet*100) -> 20.91562
B47: Celkem za stavbu | F47: =SUMIF(A39:A46,"=1",F39:F46) -> 0 | G47: =SUMIF(A39:A46,"=1",G39:G46) -> 2820706 | H47: =SUMIF(A39:A46,"=1",H39:H46) -> 592348.25 | I47: =SUMIF(A39:A46,"=1",I39:I46) -> 3413054.2 | J47: =SUMIF(A39:A46,"=1",J39:J46) -> 100
A49: #POPS | B49: Popis stavby: 01 - REKONSTRUKCE VOLNOČASOVÉHO CENTRA V UNÍNĚ
A50: #POPO | B50: Popis objektu: S01 - VOLNOČASOVÉ CENTRUM
A51: #POPR | B51: Popis rozpočtu: 1) STAVBA - Stavební rozpočet
A52: #POPR | B52: Popis rozpočtu: 2) ZTI - Zdravotně technické instalace
A53: #POPR | B53: Popis rozpočtu: 3) PL - Plynoinstalace
A54: #POPR | B54: Popis rozpočtu: 4) UT - Vytápění stavby
A55: #POPR | B55: Popis rozpočtu: 5) ELEKTRO - Silnoproud a slaboproud včetně bleskosvodu
B58: Rekapitulace dílů
B60: Číslo | C60: Název | F60: Typ dílu | I60: Celkem | J60: %
B61: _1 | C61: ELEKTROMONTÁŽE SI + trubkování SLP - MATERIÁL NOSNÝ | F61: HSV | I61: ='S01 5) ELEKTRO Pol'!G8 -> 118625.4 | J61: =IF(I93=0,"",I61/I93*100) -> 4.2055216
B62: _13 | C62: (trubkování, krabice, kabelové žlaby - viz. Elektromontáže materiál nosný) | F62: HSV | I62: ='S01 5) ELEKTRO Pol'!G95 -> 33238.24 | J62: =IF(I93=0,"",I62/I93*100) -> 1.178366
B63: _14 | C63: SK - MONTÁŽNÍ PRÁCE | F63: HSV | I63: ='S01 5) ELEKTRO Pol'!G108 -> 34479.6 | J63: =IF(I93=0,"",I63/I93*100) -> 1.2223748
B64: _15 | C64: TV - TELEVIZNÍ ROZVODY - MATERIÁL NOSNÝ | F64: HSV | I64: ='S01 5) ELEKTRO Pol'!G113 -> 12335.72 | J64: =IF(I93=0,"",I64/I93*100) -> 0.4373274
B65: _16 | C65: TV - MONTÁŽNÍ PRÁCE | F65: HSV | I65: ='S01 5) ELEKTRO Pol'!G121 -> 10343.88 | J65: =IF(I93=0,"",I65/I93*100) -> 0.36671245
B66: _20 | C66: HZS - PRÁCE NEZAHRNUTNÉ DO MONTÁŽNÍHO CENÍKU | F66: HSV | I66: ='S01 5) ELEKTRO Pol'!G125 -> 69974 | J66: =IF(I93=0,"",I66/I93*100) -> 2.4807265
B67: _3 | C67: vodivé pospojování: | F67: HSV | I67: ='S01 5) ELEKTRO Pol'!G50 -> 8775.66 | J67: =IF(I93=0,"",I67/I93*100) -> 0.31111573
B68: _7 | C68: ELEKTROMONTÁŽE - MONTÁŽNÍ PRÁCE - SI + SLP | F68: HSV | I68: ='S01 5) ELEKTRO Pol'!G60 -> 219008 | J68: =IF(I93=0,"",I68/I93*100) -> 7.7642974
B69: _8 | C69: DODÁVKA ROZVADĚČŮ | F69: HSV | I69: ='S01 5) ELEKTRO Pol'!G64 -> 83033.06 | J69: =IF(I93=0,"",I69/I93*100) -> 2.9436978
B70: _9 | C70: DOPRAVA | F70: HSV | I70: ='S01 5) ELEKTRO Pol'!G92 -> 154.58 | J70: =IF(I93=0,"",I70/I93*100) -> 0.0054801884
B71: 1 | C71: Zemní práce | F71: HSV | I71: ='S01 1) STAVBA Pol'!G8+'S01 2) ZTI Pol'!G8+'S01 3) PL Pol'!G8 -> 498243.07 | J71: =IF(I93=0,"",I71/I93*100) -> 17.663772
B72: 2 | C72: Základy,zvláštní zakládání | F72: HSV | I72: ='S01 1) STAVBA Pol'!G12 -> 91436.45 | J72: =IF(I93=0,"",I72/I93*100) -> 3.2416158
B73: 3 | C73: Svislé a kompletní konstrukce | F73: HSV | I73: ='S01 1) STAVBA Pol'!G31+2194.8 -> 237305.39 | J73: =IF(I93=0,"",I73/I93*100) -> 8.4129786
B74: 8 | C74: Trubní vedení | F74: HSV | I74: ='S01 2) ZTI Pol'!G31 -> 149690.08 | J74: =IF(I93=0,"",I74/I93*100) -> 5.3068303
B75: 94 | C75: Lešení a stavební výtahy | F75: HSV | I75: ='S01 1) STAVBA Pol'!G67 -> 9770.4 | J75: =IF(I93=0,"",I75/I93*100) -> 0.34638137
B76: 95 | C76: Dokončovací kce na pozem.stav. | F76: HSV | I76: ='S01 1) STAVBA Pol'!G70 -> 24337.5 | J76: =IF(I93=0,"",I76/I93*100) -> 0.86281591
B77: 97 | C77: Prorážení otvorů | F77: HSV | I77: ='S01 1) STAVBA Pol'!G73+'S01 2) ZTI Pol'!G45+'S01 3) PL Pol'!G18+29913 -> 533254.82 | J77: =IF(I93=0,"",I77/I93*100) -> 18.905013
B78: 99 | C78: Staveništní přesun hmot | F78: HSV | I78: ='S01 1) STAVBA Pol'!G94 -> 64350 | J78: =IF(I93=0,"",I78/I93*100) -> 2.2813438
B79: 721 | C79: Vnitřní kanalizace | F79: PSV | I79: ='S01 1) STAVBA Pol'!G96+'S01 2) ZTI Pol'!G54 -> 286788.35 | J79: =IF(I93=0,"",I79/I93*100) -> 10.167254
B80: 722 | C80: Vnitřní vodovod | F80: PSV | I80: ='S01 2) ZTI Pol'!G79 -> 265295.27 | J80: =IF(I93=0,"",I80/I93*100) -> 9.4052791
B81: 723 | C81: Vnitřní plynovod | F81: PSV | I81: ='S01 3) PL Pol'!G21 -> 0 | J81: =IF(I93=0,"",I81/I93*100) -> 0
B82: 731 | C82: Ústřední vytápění - kotelny | F82: PSV | I82: ='S01 4) UT Pol'!G19 -> 0 | J82: =IF(I93=0,"",I82/I93*100) -> 0
B83: 732 | C83: Ústřední vytápění - strojovny | F83: PSV | I83: ='S01 4) UT Pol'!G27 -> 0 | J83: =IF(I93=0,"",I83/I93*100) -> 0
B84: 733 | C84: Ústřední vytápění - rozvodné potrubí | F84: PSV | I84: ='S01 4) UT Pol'!G33 -> 0 | J84: =IF(I93=0,"",I84/I93*100) -> 0
B85: 734 | C85: Ústřední vytápění - armatury | F85: PSV | I85: ='S01 4) UT Pol'!G47 -> 0 | J85: =IF(I93=0,"",I85/I93*100) -> 0
B86: 735 | C86: Ústřední vytápění - otopná tělesa | F86: PSV | I86: ='S01 4) UT Pol'!G65 -> 0 | J86: =IF(I93=0,"",I86/I93*100) -> 0
B87: 762 | C87: Konstrukce tesařské | F87: PSV | I87: ='S01 1) STAVBA Pol'!G114 -> 11266.5 | J87: =IF(I93=0,"",I87/I93*100) -> 0.39942128
B88: 783 | C88: Dokončovací práce - nátěry | F88: PSV | I88: ='S01 4) UT Pol'!G87 -> 0 | J88: =IF(I93=0,"",I88/I93*100) -> 0
B89: 783 | C89: Nátěry | F89: PSV | I89: ='S01 3) PL Pol'!G35 -> 0 | J89: =IF(I93=0,"",I89/I93*100) -> 0
B90: 799 | C90: Ostatní | F90: PSV | I90: ='S01 4) UT Pol'!G90 -> 0 | J90: =IF(I93=0,"",I90/I93*100) -> 0
B91: MAR 736 | C91: Měření a regulace | F91: MON | I91: ='S01 4) UT Pol'!G78 -> 0 | J91: =IF(I93=0,"",I91/I93*100) -> 0
B92: VN | C92: Vedlejší náklady | F92: VN | I92: ='S01 1) STAVBA Pol'!G117+'S01 3) PL Pol'!G37 -> 59000 | J92: =IF(I93=0,"",I92/I93*100) -> 2.0916749
B93: Cena celkem | I93: =I92+I87+I80+I79+I78+I77+I76+I75+I74+I73+I72+I71+I70+I69+I68+I67+I66+I65+I64+I63+I62+I61 -> 2820706 | J93: =SUM(J61:J92) -> 100

Sheet VzorPolozky
A1: Položkový rozpočet
A2: S:
A3: O:
A4: R:

Sheet S01 1) STAVBA Pol
A1: Položkový soupis prací a dodávek | AF1: #TypZaznamu#
A2: S: | B2: 01 | C2: REKONSTRUKCE VOLNOČASOVÉHO CENTRA V UNÍNĚ - 2. etapa | AF2: STA
A3: O: | B3: S01 | C3: VOLNOČASOVÉ CENTRUM | AB3: STA | AF3: OBJ
A4: R: | B4: 1) STAVBA | C4: Stavební rozpočet | AF4: ROZ
A6: P.č. | B6: Číslo položky | C6: Název položky | D6: MJ | E6: Množství | F6: Cena / MJ | G6: Celkem | H6: Dodávka | I6: Dodávka celk. | J6: Montáž | K6: Montáž celk. | L6: DPH | M6: Cena s DPH | N6: Hmotnost / MJ | O6: Hmotnost celk.(t) | P6: Dem. hmotnost / MJ | Q6: Dem. hmotnost celk.(t) | R6: Ceník | S6: Cen. soustava / platnost | T6: Cenová úroveň | U6: Nhod / MJ | V6: Nhod celk. | W6: Dodavatel | X6: Typ položky | Y6: Stav položky
A8: Díl: | B8: 1 | C8: Zemní práce | G8: =SUMIF(AF9:AF11,"<>NOR",G9:G11) -> 1765.68 | I8: =SUM(I9:I11) -> 505.26 | K8: =SUM(K9:K11) -> 987.42 | M8: =SUM(M9:M11) -> 2136.4728 | O8: =SUM(O9:O11) -> 1.4 | Q8: =SUM(Q9:Q11) -> 0 | V8: =SUM(V9:V11) -> 1.85 | AF8: DIL
A9: 8 | B9: 175200022RA0 | C9: Obsyp objektu štěrkopískem | D9: m3 | E9: 0.84 | F9: 2102 | G9: =ROUND(E9*F9,2) -> 1765.68 | H9: 601.5 | I9: =ROUND(E9*H9,2) -> 505.26 | J9: 1175.5 | K9: =ROUND(E9*J9,2) -> 987.42 | L9: 21 | M9: =G9*(1+L9/100) -> 2136.4728 | N9: 1.67 | O9: =ROUND(E9*N9,2) -> 1.4 | P9: 0 | Q9: =ROUND(E9*P9,2) -> 0 | S9: Vlastní | T9: Indiv | U9: 2.206 | V9: =ROUND(E9*U9,2) -> 1.85 | X9: Práce | Y9: Běžná | AF9: POL1_0
C10: Obsyp kolem vodměrné a revizní šachty | AF10: POP
C11: 0,5*0,6+0,9*0,6 | E11: 0.84 | AF11: VV | AG11: 0
A12: Díl: | B12: 2 | C12: Základy,zvláštní zakládání | G12: =SUMIF(AF13:AF30,"<>NOR",G13:G30) -> 91436.45 | I12: =SUM(I13:I30) -> 60237.64 | K12: =SUM(K13:K30) -> 11522.55 | M12: =SUM(M13:M30) -> 110638.1 | O12: =SUM(O13:O30) -> 48.66 | Q12: =SUM(Q13:Q30) -> 0 | V12: =SUM(V13:V30) -> 19.18 | AF12: DIL
A13: 9 | B13: 273321311R00 | C13: Železobeton základových desek C 16/20 | D13: m3 | E13: 11.43 | F13: 4868 | G13: =ROUND(E13*F13,2) -> 55641.24 | H13: 3230.72 | I13: =ROUND(E13*H13,2) -> 36927.13 | J13: 329.28 | K13: =ROUND(E13*J13,2) -> 3763.67 | L13: 21 | M13: =G13*(1+L13/100) -> 67325.9 | N13: 2.525 | O13: =ROUND(E13*N13,2) -> 28.86 | P13: 0 | Q13: =ROUND(E13*P13,2) -> 0 | S13: Vlastní | T13: Indiv | U13: 0.48 | V13: =ROUND(E13*U13,2) -> 5.49 | X13: Práce | Y13: Běžná | AF13: POL1_0
C14: 03, 04, 05 : 23,5*0,15 | E14: 3.52 | AF14: VV | AG14: 0
C15: 01, 08, 09, 10, 11, 12, 13, 14, 07 : 43*0,15 | E15: 6.45 | AF15: VV | AG15: 0
C16: 02 : 2,5*0,15 | E16: 0.38 | AF16: VV | AG16: 0
C17: 06 : 4*0,15 | E17: 0.6 | AF17: VV | AG17: 0
C18: Šachet : 1,35*0,15+1,85*0,15 | E18: 0.48 | AF18: VV | AG18: 0
A19: 10 | B19: 273361921RT5 | C19: Výztuž základových desek ze svařovaných sítí, KH 20, drát d 6,0 mm, oko 150 x 150 mm | D19: t | E19: 0.2973 | F19: 47353 | G19: =ROUND(E19*F19,2) -> 14078.05 | H19: 33422.49 | I19: =ROUND(E19*H19,2) -> 9936.51 | J19: 8377.51 | K19: =ROUND(E19*J19,2) -> 2490.63 | L19: 21 | M19: =G19*(1+L19/100) -> 17034.44 | N19: 1.07874 | O19: =ROUND(E19*N19,2) -> 0.32 | P19: 0 | Q19: =ROUND(E19*P19,2) -> 0 | S19: Vlastní | T19: Indiv | U19: 15.231 | V19: =ROUND(E19*U19,2) -> 4.53 | X19: Práce | Y19: Běžná | AF19: POL1_0
C20: Podkladního betonu : (23,5+43+2,5+4)*0,00303*1,1 | E20: 0.24 | AF20: VV | AG20: 0
C21: Zdvojení sítě pod příčkami : (1,7*3+1,2+1*4+4)*0,00303 | E21: 0.04 | AF21: VV | AG21: 0
C22: Šachet : (1,35+1,85)*0,00303*1,1 | E22: 0.01 | AF22: VV | AG22: 0
A23: 11 | B23: 271531115R00 | C23: Uložení polštáře z kameniva pod základ se zhutněním a urovnáním povrchu | D23: m3 | E23: 2 | F23: 684 | G23: =ROUND(E23*F23,2) -> 1368 | H23: 0 | I23: =ROUND(E23*H23,2) -> 0 | J23: 617 | K23: =ROUND(E23*J23,2) -> 1234 | L23: 21 | M23: =G23*(1+L23/100) -> 1655.28 | N23: 0 | O23: =ROUND(E23*N23,2) -> 0 | P23: 0 | Q23: =ROUND(E23*P23,2) -> 0 | S23: Vlastní | T23: Indiv | U23: 1.085 | V23: =ROUND(E23*U23,2) -> 2.17 | X23: Práce | Y23: Běžná | AF23: POL1_0
C24: Násyp pod venkovním schodištěm | AF24: POP
A25: 12 | B25: 583426801R | C25: Kamenivo drcené 16/32 prané Olbramovice, JHM | D25: t | E25: 3.8 | F25: 689.12 | G25: =ROUND(E25*F25,2) -> 2618.66 | H25: 596 | I25: =ROUND(E25*H25,2) -> 2264.8 | J25: 0 | K25: =ROUND(E25*J25,2) -> 0 | L25: 21 | M25: =G25*(1+L25/100) -> 3168.5786 | N25: 1 | O25: =ROUND(E25*N25,2) -> 3.8 | P25: 0 | Q25: =ROUND(E25*P25,2) -> 0 | S25: Vlastní | T25: Indiv | U25: 0 | V25: =ROUND(E25*U25,2) -> 0 | X25: Specifikace | Y25: Běžná | AF25: POL3_0
C26: 2*1,9 | E26: 3.8 | AF26: VV | AG26: 0
A27: 13 | B27: 271531111R00 | C27: Polštář základu z kameniva hr. drceného 16-63 mm | D27: m3 | E27: 5.95 | F27: 2080.34 | G27: =ROUND(E27*F27,2) -> 12378.02 | H27: 1258.71 | I27: =ROUND(E27*H27,2) -> 7489.32 | J27: 616.29 | K27: =ROUND(E27*J27,2) -> 3666.93 | L27: 21 | M27: =G27*(1+L27/100) -> 14977.404 | N27: 2.16 | O27: =ROUND(E27*N27,2) -> 12.85 | P27: 0 | Q27: =ROUND(E27*P27,2) -> 0 | S27: Vlastní | T27: Indiv | U27: 1.085 | V27: =ROUND(E27*U27,2) -> 6.46 | X27: Práce | Y27: Běžná | AF27: POL1_0
C28: 04, 05 a část 03 : 8,5*0,7 | E28: 5.95 | AF28: VV | AG28: 0
A29: 14 | B29: 274313611R00 | C29: Beton základových pasů prostý C 16/20 | D29: m3 | E29: 1.12 | F29: 4779 | G29: =ROUND(E29*F29,2) -> 5352.48 | H29: 3232.04 | I29: =ROUND(E29*H29,2) -> 3619.88 | J29: 327.96 | K29: =ROUND(E29*J29,2) -> 367.32 | L29: 21 | M29: =G29*(1+L29/100) -> 6476.5008 | N29: 2.525 | O29: =ROUND(E29*N29,2) -> 2.83 | P29: 0 | Q29: =ROUND(E29*P29,2) -> 0 | S29: Vlastní | T29: Indiv | U29: 0.477 | V29: =ROUND(E29*U29,2) -> 0.53 | X29: Práce | Y29: Běžná | AF29: POL1_0
C30: 3,2*0,5*0,7 | E30: 1.12 | AF30: VV | AG30: 0
A31: Díl: | B31: 3 | C31: Svislé a kompletní konstrukce | G31: =SUMIF(AF32:AF66,"<>NOR",G32:G66) -> 235110.59 | I31: =SUM(I32:I66) -> 108963.88 | K31: =SUM(K32:K66) -> 54449.77 | M31: =SUM(M32:M66) -> 284483.81 | O31: =SUM(O32:O66) -> 23.71 | Q31: =SUM(Q32:Q66) -> 0 | V31: =SUM(V32:V66) -> 91.09 | AF31: DIL
A32: 18 | B32: 342255026RT1 | C32: Příčky z desek pórobetonových tl. 125 mm, desky, 599 x 249 x 125 mm, spec. I.0 | D32: m2 | E32: 60.855 | F32: 1818.38 | G32: =ROUND(E32*F32,2) -> 110657.51 | H32: 779.28 | I32: =ROUND(E32*H32,2) -> 47423.08 | J32: 291.72 | K32: =ROUND(E32*J32,2) -> 17752.62 | L32: 21 | M32: =G32*(1+L32/100) -> 133895.59 | N32: 0.09481 | O32: =ROUND(E32*N32,2) -> 5.77 | P32: 0 | Q32: =ROUND(E32*P32,2) -> 0 | S32: Vlastní | T32: Indiv | U32: 0.535 | V32: =ROUND(E32*U32,2) -> 32.56 | X32: Práce | Y32: Běžná | AF32: POL1_0
C33: 2,8*3,7*2-0,8*2,02 | E33: 19.1 | AF33: VV | AG33: 0
C34: 7,45*3,7-(1*2,02+0,8*2,02*2+0,7*2,02) | E34: 20.9 | AF34: VV | AG34: 0
C35: 1,6*3,7*4-(0,7*2,02*2) | E35: 20.85 | AF35: VV | AG35: 0
A36: 19 | B36: 342255028RT1 | C36: Příčky z desek pŕobetonových tl. 150 mm, desky 599 x 249 x 150 mm, spec. I.1 | D36: m2 | E36: 14.326 | F36: 2107.48 | G36: =ROUND(E36*F36,2) -> 30191.76 | H36: 898.24 | I36: =ROUND(E36*H36,2) -> 12868.19 | J36: 302.76 | K36: =ROUND(E36*J36,2) -> 4337.34 | L36: 21 | M36: =G36*(1+L36/100) -> 36532.03 | N36: 0.11313 | O36: =ROUND(E36*N36,2) -> 1.62 | P36: 0 | Q36: =ROUND(E36*P36,2) -> 0 | S36: Vlastní | T36: Indiv | U36: 0.55489 | V36: =ROUND(E36*U36,2) -> 7.95 | X36: Práce | Y36: Běžná | AF36: POL1_0
C37: 2,8*3,7-0,9*2,02 | E37: 8.54 | AF37: VV | AG37: 0
C38: 2*3,7-0,8*2,02 | E38: 5.78 | AF38: VV | AG38: 0
A39: 21 | B39: 311112315RT2 | C39: Stěna z tvárnic ztraceného bednění, tl. 100 mm, zalití tvárnic betonem C 16/20 | D39: m2 | E39: 4.8 | F39: 1175.28 | G39: =ROUND(E39*F39,2) -> 5641.34 | H39: 762.08 | I39: =ROUND(E39*H39,2) -> 3657.98 | J39: 288.92 | K39: =ROUND(E39*J39,2) -> 1386.82 | L39: 21 | M39: =G39*(1+L39/100) -> 6826.0214 | N39: 0.37565 | O39: =ROUND(E39*N39,2) -> 1.8 | P39: 0 | Q39: =ROUND(E39*P39,2) -> 0 | S39: Vlastní | T39: Indiv | U39: 0.596 | V39: =ROUND(E39*U39,2) -> 2.86 | X39: Práce | Y39: Běžná | AF39: POL1_0
C40: 2,4*0,75+4*0,75 | E40: 4.8 | AF40: VV | AG40: 0
A41: 22 | B41: 311112315RT2 | C41: Stěna z tvárnic ztraceného bednění, tl. 150 mm, zalití tvárnic betonem C 16/20 | D41: m2 | E41: 6.9 | F41: 1335.76 | G41: =ROUND(E41*F41,2) -> 9216.74 | H41: 0 | I41: =ROUND(E41*H41,2) -> 0 | J41: 1151 | K41: =ROUND(E41*J41,2) -> 7941.9 | L41: 21 | M41: =G41*(1+L41/100) -> 11152.255 | N41: 0.37565 | O41: =ROUND(E41*N41,2) -> 2.59 | P41: 0 | Q41: =ROUND(E41*P41,2) -> 0 | S41: Vlastní | T41: Indiv | U41: 0.596 | V41: =ROUND(E41*U41,2) -> 4.11 | X41: R-položka | Y41: Běžná | AF41: POL12_1
C42: 4,3*0,75+4,9*0,75 | E42: 6.9 | AF42: VV | AG42: 0
A43: 23 | B43: 311112320RT2 | C43: Stěna z tvárnic ztraceného bednění, tl. 200 mm, zalití tvárnic betonem C 16/20 | D43: m2 | E43: 3.6 | F43: 1681.5 | G43: =ROUND(E43*F43,2) -> 6053.4 | H43: 958.84 | I43: =ROUND(E43*H43,2) -> 3451.82 | J43: 396.16 | K43: =ROUND(E43*J43,2) -> 1426.18 | L43: 21 | M43: =G43*(1+L43/100) -> 7324.614 | N43: 0.4847 | O43: =ROUND(E43*N43,2) -> 1.74 | P43: 0 | Q43: =ROUND(E43*P43,2) -> 0 | S43: Vlastní | T43: Indiv | U43: 0.698 | V43: =ROUND(E43*U43,2) -> 2.51 | X43: Práce | Y43: Běžná | AF43: POL1_0
A44: 24 | B44: 311361821R00 | C44: Výztuž nadzákladových zdí z betonářské oceli B500B (10 505) | D44: t | E44: 0.07497 | F44: 82246 | G44: =ROUND(E44*F44,2) -> 6165.98 | H44: 39518.14 | I44: =ROUND(E44*H44,2) -> 2962.67 | J44: 15281.86 | K44: =ROUND(E44*J44,2) -> 1145.68 | L44: 21 | M44: =G44*(1+L44/100) -> 7460.8358 | N44: 1.0211 | O44: =ROUND(E44*N44,2) -> 0.08 | P44: 0 | Q44: =ROUND(E44*P44,2) -> 0 | S44: Vlastní | T44: Indiv | U44: 25.271 | V44: =ROUND(E44*U44,2) -> 1.89 | X44: Práce | Y44: Běžná | AF44: POL1_0
C45: Šachty : (0,75*20+10)*0,000888*1,1 | E45: 0.02 | AF45: VV | AG45: 0
C46: Šachty : (0,75*17+9)*0,000888*1,1 | E46: 0.02 | AF46: VV | AG46: 0
C47: Schodišťové stěny : 30*0,000888*1,1 | E47: 0.03 | AF47: VV | AG47: 0
A48: 34 | B48: 346481111RT2 | C48: Zaplentování rýh, nosníků rabicovým pletivem, s použitím suché maltové směsi | D48: m2 | E48: 10.144 | F48: 587.64 | G48: =ROUND(E48*F48,2) -> 5961.02 | H48: 95.23 | I48: =ROUND(E48*H48,2) -> 966.01 | J48: 449.77 | K48: =ROUND(E48*J48,2) -> 4562.47 | L48: 21 | M48: =G48*(1+L48/100) -> 7212.8342 | N48: 0.00542 | O48: =ROUND(E48*N48,2) -> 0.05 | P48: 0 | Q48: =ROUND(E48*P48,2) -> 0 | S48: Vlastní | T48: Indiv | U48: 0.89205 | V48: =ROUND(E48*U48,2) -> 9.05 | X48: Práce | Y48: Běžná | AF48: POL1_0
C49: 4,7*0,3*2+0,5*0,8*4 | E49: 4.42 | AF49: VV | AG49: 0
C50: 0,65*1,6+1,6*0,3*2 | E50: 2 | AF50: VV | AG50: 0
C51: 2,3*0,3*2+1,7*0,52 | E51: 2.26 | AF51: VV | AG51: 0
C52: 1,6*0,3*2+1*0,5 | E52: 1.46 | AF52: VV | AG52: 0
A53: 35 | B53: 310239211RT2 | C53: Zazdívka otvorů plochy do 4 m2 cihlami na MVC, s použitím suché maltové směsi | D53: m3 | E53: 5.62765 | F53: 9621.72 | G53: =ROUND(E53*F53,2) -> 54147.67 | H53: 6277.84 | I53: =ROUND(E53*H53,2) -> 35329.49 | J53: 2107.16 | K53: =ROUND(E53*J53,2) -> 11858.36 | L53: 21 | M53: =G53*(1+L53/100) -> 65518.681 | N53: 1.71146 | O53: =ROUND(E53*N53,2) -> 9.63 | P53: 0 | Q53: =ROUND(E53*P53,2) -> 0 | S53: Vlastní | T53: Indiv | U53: 3.938 | V53: =ROUND(E53*U53,2) -> 22.16 | X53: Práce | Y53: Běžná | AF53: POL1_0
C54: 1,2*1,6*0,35 | E54: 0.67 | AF54: VV | AG54: 0
C55: 0,15*0,15*0,65 | E55: 0.01 | AF55: VV | AG55: 0
C56: 0,65*1,25*4,15 | E56: 3.37 | AF56: VV | AG56: 0
C57: 0,88*0,9+0,2*0,5+0,35*0,5+0,3*0,5 | E57: 1.22 | AF57: VV | AG57: 0
C58: 0,15*0,15*4 | E58: 0.09 | AF58: VV | AG58: 0
C59: 0,35*0,05*2,02+0,2*0,07*3*2 | E59: 0.12 | AF59: VV | AG59: 0
C60: 1,04*0,2*0,35+1*0,2*0,35 | E60: 0.14 | AF60: VV | AG60: 0
A61: 36 | B61: 953943113R00 | C61: Osazení kovových předmětů do zdiva, 15 kg / kus | D61: kus | E61: 16 | F61: 311.52 | G61: =ROUND(E61*F61,2) -> 4984.32 | H61: 28.6 | I61: =ROUND(E61*H61,2) -> 457.6 | J61: 252.4 | K61: =ROUND(E61*J61,2) -> 4038.4 | L61: 21 | M61: =G61*(1+L61/100) -> 6031.0272 | N61: 0.0234 | O61: =ROUND(E61*N61,2) -> 0.37 | P61: 0 | Q61: =ROUND(E61*P61,2) -> 0 | S61: Vlastní | T61: Indiv | U61: 0.5 | V61: =ROUND(E61*U61,2) -> 8 | X61: Práce | Y61: Běžná | AF61: POL1_0
C62: Osazení překladu z rovnoramenných L profilů | AF62: POP
A63: 37 | B63: 13231052R | C63: Tyč ocelová L rovnoramenná S235JR, rozměr 40 x 40 x 3 mm | D63: t | E63: 0.03698 | F63: 38468 | G63: =ROUND(E63*F63,2) -> 1422.55 | H63: 34470 | I63: =ROUND(E63*H63,2) -> 1274.7 | J63: 0 | K63: =ROUND(E63*J63,2) -> 0 | L63: 21 | M63: =G63*(1+L63/100) -> 1721.2855 | N63: 1 | O63: =ROUND(E63*N63,2) -> 0.04 | P63: 0 | Q63: =ROUND(E63*P63,2) -> 0 | S63: Vlastní | T63: Indiv | U63: 0 | V63: =ROUND(E63*U63,2) -> 0 | X63: Specifikace | Y63: Běžná | AF63: POL3_0
C64: (1,3*2+2,15*2+1*6+1,2*6)*0,00184 | E64: 0.04 | AF64: VV | AG64: 0
A65: 38 | B65: 133301510000R | C65: Tyč ocelová L rovnoramenná S235JR, rozměr 50 x 50 x 4 mm | D65: kg | E65: 17.136 | F65: 39 | G65: =ROUND(E65*F65,2) -> 668.3 | H65: 33.4 | I65: =ROUND(E65*H65,2) -> 572.34 | J65: 0 | K65: =ROUND(E65*J65,2) -> 0 | L65: 21 | M65: =G65*(1+L65/100) -> 808.643 | N65: 0.001 | O65: =ROUND(E65*N65,2) -> 0.02 | P65: 0 | Q65: =ROUND(E65*P65,2) -> 0 | S65: Vlastní | T65: Indiv | U65: 0 | V65: =ROUND(E65*U65,2) -> 0 | X65: Specifikace | Y65: Běžná | AF65: POL3_0
C66: (1,4*4)*3,06 | E66: 17.14 | AF66: VV | AG66: 0
A67: Díl: | B67: 94 | C67: Lešení a stavební výtahy | G67: =SUMIF(AF68:AF69,"<>NOR",G68:G69) -> 9770.4 | I67: =SUM(I68:I69) -> 6661.8 | K67: =SUM(K68:K69) -> 9718.2 | M67: =SUM(M68:M69) -> 11822.184 | O67: =SUM(O68:O69) -> 0.14 | Q67: =SUM(Q68:Q69) -> 0 | V67: =SUM(V68:V69) -> 19.26 | AF67: DIL
A68: 97 | B68: 941955002R00 | C68: Lešení lehké pomocné, výška podlahy do 1,9 m | D68: m2 | E68: 90 | F68: 108.56 | G68: =ROUND(E68*F68,2) -> 9770.4 | H68: 74.02 | I68: =ROUND(E68*H68,2) -> 6661.8 | J68: 107.98 | K68: =ROUND(E68*J68,2) -> 9718.2 | L68: 21 | M68: =G68*(1+L68/100) -> 11822.184 | N68: 0.00158 | O68: =ROUND(E68*N68,2) -> 0.14 | P68: 0 | Q68: =ROUND(E68*P68,2) -> 0 | S68: Vlastní | T68: Indiv | U68: 0.214 | V68: =ROUND(E68*U68,2) -> 19.26 | X68: Práce | Y68: Běžná | AF68: POL1_0
C69: 20,65+34,5+16,5+3,4+1,8+66,55+4,8+2,8+1,7+1,65+1,4+2,15+1,65+1,4 | E69: 160.95 | AF69: VV | AG69: 0
A70: Díl: | B70: 95 | C70: Dokončovací kce na pozem.stav. | G70: =SUMIF(AF71:AF72,"<>NOR",G71:G72) -> 24337.5 | I70: =SUM(I71:I72) -> 376.2 | K70: =SUM(K71:K72) -> 23053.8 | M70: =SUM(M71:M72) -> 29448.375 | O70: =SUM(O71:O72) -> 0.01 | Q70: =SUM(Q71:Q72) -> 0 | V70: =SUM(V71:V72) -> 50.82 | AF70: DIL
A71: 98 | B71: 952901111R00 | C71: Vyčištění budov o výšce podlaží do 4 m | D71: m2 | E71: 165 | F71: 147.5 | G71: =ROUND(E71*F71,2) -> 24337.5 | H71: 2.28 | I71: =ROUND(E71*H71,2) -> 376.2 | J71: 139.72 | K71: =ROUND(E71*J71,2) -> 23053.8 | L71: 21 | M71: =G71*(1+L71/100) -> 29448.375 | N71: 4e-05 | O71: =ROUND(E71*N71,2) -> 0.01 | P71: 0 | Q71: =ROUND(E71*P71,2) -> 0 | S71: Vlastní | T71: Indiv | U71: 0.308 | V71: =ROUND(E71*U71,2) -> 50.82 | X71: Práce | Y71: Běžná | AF71: POL1_0
C72: 160,95+169 | E72: 329.95 | AF72: VV | AG72: 0
A73: Díl: | B73: 97 | C73: Prorážení otvorů | G73: =SUMIF(AF74:AF93,"<>NOR",G74:G93) -> 367919.12 | I73: =SUM(I74:I93) -> 3320.88 | K73: =SUM(K74:K93) -> 520698 | M73: =SUM(M74:M93) -> 445182.14 | O73: =SUM(O74:O93) -> 0.01 | Q73: =SUM(Q74:Q93) -> 10.98 | V73: =SUM(V74:V93) -> 333.91 | AF73: DIL
A74: 141 | B74: 970251100R00 | C74: Řezání železobetonu hl. řezu 100 mm | D74: m | E74: 25 | F74: 632.48 | G74: =ROUND(E74*F74,2) -> 15812 | H74: 120.4 | I74: =ROUND(E74*H74,2) -> 3010 | J74: 628.6 | K74: =ROUND(E74*J74,2) -> 15715 | L74: 21 | M74: =G74*(1+L74/100) -> 19132.52 | N74: 0 | O74: =ROUND(E74*N74,2) -> 0 | P74: 0.00046 | Q74: =ROUND(E74*P74,2) -> 0.01 | S74: Vlastní | T74: Indiv | U74: 1 | V74: =ROUND(E74*U74,2) -> 25 | X74: Práce | Y74: Běžná | AF74: POL1_0
C75: 12,5*2 | E75: 25 | AF75: VV | AG75: 0
A76: 143 | B76: 978012191R00 | C76: Otlučení omítek vnitřních rákosov.stropů do 100 % | D76: m2 | E76: 160.95 | F76: 192.34 | G76: =ROUND(E76*F76,2) -> 30957.12 | H76: 0 | I76: =ROUND(E76*H76,2) -> 0 | J76: 192 | K76: =ROUND(E76*J76,2) -> 30902.4 | L76: 21 | M76: =G76*(1+L76/100) -> 37458.115 | N76: 0 | O76: =ROUND(E76*N76,2) -> 0 | P76: 0.05 | Q76: =ROUND(E76*P76,2) -> 8.05 | S76: Vlastní | T76: Indiv | U76: 0.462 | V76: =ROUND(E76*U76,2) -> 74.36 | X76: Práce | Y76: Běžná | AF76: POL1_0
C77: 12,2+34,5+13,3+8,35+66,55+7+5,8+1,5+2,55+1,3+5,5+1,35+1,05 | E77: 160.95 | AF77: VV | AG77: 0
A78: 144 | B78: 976076111R00 | C78: Vybourání kovových schránek, firemních štítů | D78: ks | E78: 1 | F78: 68.44 | G78: =ROUND(E78*F78,2) -> 68.44 | H78: 0 | I78: =ROUND(E78*H78,2) -> 0 | J78: 76 | K78: =ROUND(E78*J78,2) -> 76 | L78: 21 | M78: =G78*(1+L78/100) -> 82.8124 | N78: 0 | O78: =ROUND(E78*N78,2) -> 0 | P78: 0.017 | Q78: =ROUND(E78*P78,2) -> 0.02 | S78: Vlastní | T78: Indiv | U78: 0.183 | V78: =ROUND(E78*U78,2) -> 0.18 | X78: Práce | Y78: Běžná | AF78: POL1_0
C79: Demontáž štítku s číslem popisným | AF79: POP
A80: 145 | B80: 971052361R00 | C80: Vybourání otvorů zdi želbet. pl. 0,09 m2, tl. 60cm | D80: kus | E80: 5 | F80: 2773 | G80: =ROUND(E80*F80,2) -> 13865 | H80: 38.86 | I80: =ROUND(E80*H80,2) -> 194.3 | J80: 2471.14 | K80: =ROUND(E80*J80,2) -> 12355.7 | L80: 21 | M80: =G80*(1+L80/100) -> 16776.65 | N80: 0.00133 | O80: =ROUND(E80*N80,2) -> 0.01 | P80: 0.139 | Q80: =ROUND(E80*P80,2) -> 0.7 | S80: Vlastní | T80: Indiv | U80: 5.926 | V80: =ROUND(E80*U80,2) -> 29.63 | X80: Práce | Y80: Běžná | AF80: POL1_0
C81: Prostup základem pro provedení potrubí na odvětrání radonu. | AF81: POP
A82: 146 | B82: 971033361R00 | C82: Vybourání otv. zeď cihel. pl.0,09 m2, tl.60cm, MVC | D82: kus | E82: 3 | F82: 584 | G82: =ROUND(E82*F82,2) -> 1752 | H82: 38.86 | I82: =ROUND(E82*H82,2) -> 116.58 | J82: 487.14 | K82: =ROUND(E82*J82,2) -> 1461.42 | L82: 21 | M82: =G82*(1+L82/100) -> 2119.92 | N82: 0.00133 | O82: =ROUND(E82*N82,2) -> 0 | P82: 0.099 | Q82: =ROUND(E82*P82,2) -> 0.3 | S82: Vlastní | T82: Indiv | U82: 1.147 | V82: =ROUND(E82*U82,2) -> 3.44 | X82: Práce | Y82: Běžná | AF82: POL1_0
A83: 147 | B83: 978013191R00 | C83: Otlučení omítek vnitřních stěn v rozsahu do 100 % | D83: m2 | E83: 41.2 | F83: 108 | G83: =ROUND(E83*F83,2) -> 4449.6 | H83: 0 | I83: =ROUND(E83*H83,2) -> 0 | J83: 108 | K83: =ROUND(E83*J83,2) -> 4449.6 | L83: 21 | M83: =G83*(1+L83/100) -> 5384.016 | N83: 0 | O83: =ROUND(E83*N83,2) -> 0 | P83: 0.046 | Q83: =ROUND(E83*P83,2) -> 1.9 | S83: Vlastní | T83: Indiv | U83: 0.26 | V83: =ROUND(E83*U83,2) -> 10.71 | X83: Práce | Y83: Běžná | AF83: POL1_0
C84: Otlučení stávajících omítek v místě nových keramickcýh obkladů | AF84: POP
C85: 6,7*2+3*0,6+1,9*2+9*2+2,1*2 | E85: 41.2 | AF85: VV | AG85: 0
A86: 149 | B86: 979082111R00 | C86: Vnitrostaveništní doprava suti do 10 m | D86: t | E86: 124 | F86: 403.56 | G86: =ROUND(E86*F86,2) -> 50041.44 | H86: 0 | I86: =ROUND(E86*H86,2) -> 0 | J86: 391.5 | K86: =ROUND(E86*J86,2) -> 48546 | L86: 21 | M86: =G86*(1+L86/100) -> 60550.142 | N86: 0 | O86: =ROUND(E86*N86,2) -> 0 | P86: 0 | Q86: =ROUND(E86*P86,2) -> 0 | S86: Vlastní | T86: Indiv | U86: 0.942 | V86: =ROUND(E86*U86,2) -> 116.81 | X86: Práce | Y86: Běžná | AF86: POL1_0
A87: 150 | B87: 979082121R00 | C87: Příplatek k vnitrost. dopravě suti za dalších 5 m | D87: t | E87: 124 | F87: 33.04 | G87: =ROUND(E87*F87,2) -> 4096.96 | H87: 0 | I87: =ROUND(E87*H87,2) -> 0 | J87: 43.6 | K87: =ROUND(E87*J87,2) -> 5406.4 | L87: 21 | M87: =G87*(1+L87/100) -> 4957.3216 | N87: 0 | O87: =ROUND(E87*N87,2) -> 0 | P87: 0 | Q87: =ROUND(E87*P87,2) -> 0 | S87: Vlastní | T87: Indiv | U87: 0.105 | V87: =ROUND(E87*U87,2) -> 13.02 | X87: Práce | Y87: Běžná | AF87: POL1_0
A88: 151 | B88: 979081111R00 | C88: Odvoz suti a vybour. hmot na skládku do 1 km | D88: t | E88: 124 | F88: 474.36 | G88: =ROUND(E88*F88,2) -> 58820.64 | H88: 0 | I88: =ROUND(E88*H88,2) -> 0 | J88: 275.5 | K88: =ROUND(E88*J88,2) -> 34162 | L88: 21 | M88: =G88*(1+L88/100) -> 71172.974 | N88: 0 | O88: =ROUND(E88*N88,2) -> 0 | P88: 0 | Q88: =ROUND(E88*P88,2) -> 0 | S88: Vlastní | T88: Indiv | U88: 0.49 | V88: =ROUND(E88*U88,2) -> 60.76 | X88: Práce | Y88: Běžná | AF88: POL1_0
A89: 152 | B89: 979081121R00 | C89: Příplatek k odvozu za každý další 10 km | D89: t | E89: 124 | F89: 348.1 | G89: =ROUND(E89*F89,2) -> 43164.4 | H89: 0 | I89: =ROUND(E89*H89,2) -> 0 | J89: 250 | K89: =ROUND(E89*J89,2) -> 31000 | L89: 21 | M89: =G89*(1+L89/100) -> 52228.924 | N89: 0 | O89: =ROUND(E89*N89,2) -> 0 | P89: 0 | Q89: =ROUND(E89*P89,2) -> 0 | S89: Vlastní | T89: Indiv | U89: 0 | V89: =ROUND(E89*U89,2) -> 0 | X89: Práce | Y89: Běžná | AF89: POL1_0
A90: 153 | B90: 979990107R00 | C90: Poplatek za uložení suti - směs betonu, cihel, dřeva, skupina odpadu 170904 | D90: t | E90: 124 | F90: 1156.4 | G90: =ROUND(E90*F90,2) -> 143393.6 | H90: 0 | I90: =ROUND(E90*H90,2) -> 0 | J90: 2725 | K90: =ROUND(E90*J90,2) -> 337900 | L90: 21 | M90: =G90*(1+L90/100) -> 173506.26 | N90: 0 | O90: =ROUND(E90*N90,2) -> 0 | P90: 0 | Q90: =ROUND(E90*P90,2) -> 0 | S90: Vlastní | T90: Indiv | U90: 0 | V90: =ROUND(E90*U90,2) -> 0 | X90: Práce | Y90: Běžná | AF90: POL1_0
A91: 155 | B91: 979990109R00 | C91: Poplatek za uložení suti - skleněné tvárnice, skupina odpadu 070202 | D91: t | E91: 0.0715 | F91: 3115.2 | G91: =ROUND(E91*F91,2) -> 222.74 | H91: 0 | I91: =ROUND(E91*H91,2) -> 0 | J91: 2725 | K91: =ROUND(E91*J91,2) -> 194.84 | L91: 21 | M91: =G91*(1+L91/100) -> 269.5154 | N91: 0 | O91: =ROUND(E91*N91,2) -> 0 | P91: 0 | Q91: =ROUND(E91*P91,2) -> 0 | S91: Vlastní | T91: Indiv | U91: 0 | V91: =ROUND(E91*U91,2) -> 0 | X91: Práce | Y91: Běžná | AF91: POL1_0
A92: 156 | B92: 979990168R00 | C92: Poplatek za uložení suti - sklo, skupina odpadu 1702020 | D92: t | E92: 0.54033 | F92: 2360 | G92: =ROUND(E92*F92,2) -> 1275.18 | H92: 0 | I92: =ROUND(E92*H92,2) -> 0 | J92: 2205 | K92: =ROUND(E92*J92,2) -> 1191.43 | L92: 21 | M92: =G92*(1+L92/100) -> 1542.9678 | N92: 0 | O92: =ROUND(E92*N92,2) -> 0 | P92: 0 | Q92: =ROUND(E92*P92,2) -> 0 | S92: Vlastní | T92: Indiv | U92: 0 | V92: =ROUND(E92*U92,2) -> 0 | X92: Práce | Y92: Běžná | AF92: POL1_0
A93: 158 | B93: 979951111R00 | C93: Výkup kovů - železný šrot tl. do 4 mm | D93: t | E93: 0.98622 | F93: 0 | G93: =ROUND(E93*F93,2) -> 0 | H93: 0 | I93: =ROUND(E93*H93,2) -> 0 | J93: -2700 | K93: =ROUND(E93*J93,2) -> -2662.79 | L93: 21 | M93: =G93*(1+L93/100) -> 0 | N93: 0 | O93: =ROUND(E93*N93,2) -> 0 | P93: 0 | Q93: =ROUND(E93*P93,2) -> 0 | S93: Vlastní | T93: Indiv | U93: 0 | V93: =ROUND(E93*U93,2) -> 0 | X93: Práce | Y93: Běžná | AF93: POL1_0
A94: Díl: | B94: 99 | C94: Staveništní přesun hmot | G94: =SUMIF(AF95:AF95,"<>NOR",G95:G95) -> 64350 | I94: =SUM(I95:I95) -> 0 | K94: =SUM(K95:K95) -> 55055 | M94: =SUM(M95:M95) -> 77863.5 | O94: =SUM(O95:O95) -> 0 | Q94: =SUM(Q95:Q95) -> 0 | V94: =SUM(V95:V95) -> 110.76 | AF94: DIL
A95: 159 | B95: 998011001R00 | C95: Přesun hmot pro budovy zděné výšky do 6 m | D95: t | E95: 130 | F95: 495 | G95: =ROUND(E95*F95,2) -> 64350 | H95: 0 | I95: =ROUND(E95*H95,2) -> 0 | J95: 423.5 | K95: =ROUND(E95*J95,2) -> 55055 | L95: 21 | M95: =G95*(1+L95/100) -> 77863.5 | N95: 0 | O95: =ROUND(E95*N95,2) -> 0 | P95: 0 | Q95: =ROUND(E95*P95,2) -> 0 | S95: Vlastní | T95: Indiv | U95: 0.852 | V95: =ROUND(E95*U95,2) -> 110.76 | X95: Práce | Y95: Běžná | AF95: POL1_0
A96: Díl: | B96: 721 | C96: Vnitřní kanalizace | G96: =SUMIF(AF97:AF113,"<>NOR",G97:G113) -> 44863.57 | I96: =SUM(I97:I113) -> 28805.2 | K96: =SUM(K97:K113) -> 11435.78 | M96: =SUM(M97:M113) -> 54284.92 | O96: =SUM(O97:O113) -> 2.85 | Q96: =SUM(Q97:Q113) -> 0 | V96: =SUM(V97:V113) -> 20.5 | AF96: DIL
A97: 193 | B97: 721176127R00 | C97: Potrubí HT svodné (ležaté) v zemi, D 160 x 3,9 mm | D97: m | E97: 6.5 | F97: 1510 | G97: =ROUND(E97*F97,2) -> 9815 | H97: 1102.3 | I97: =ROUND(E97*H97,2) -> 7164.95 | J97: 315.7 | K97: =ROUND(E97*J97,2) -> 2052.05 | L97: 21 | M97: =G97*(1+L97/100) -> 11876.15 | N97: 0.00277 | O97: =ROUND(E97*N97,2) -> 0.02 | P97: 0 | Q97: =ROUND(E97*P97,2) -> 0 | S97: Vlastní | T97: Indiv | U97: 0.55 | V97: =ROUND(E97*U97,2) -> 3.58 | X97: Práce | Y97: Běžná | AF97: POL1_0
C98: Sběrné potrubí pro odvětrání radonu - ležaté, včetně tvarovek (odbočky kolena aj.) | AF98: POP
A99: 194 | B99: 721176117R00 | C99: Potrubí HT odpadní svislé, D 160 x 3,9 mm | D99: m | E99: 6.5 | F99: 1663 | G99: =ROUND(E99*F99,2) -> 10809.5 | H99: 1057.71 | I99: =ROUND(E99*H99,2) -> 6875.12 | J99: 429.29 | K99: =ROUND(E99*J99,2) -> 2790.39 | L99: 21 | M99: =G99*(1+L99/100) -> 13079.495 | N99: 0.00248 | O99: =ROUND(E99*N99,2) -> 0.02 | P99: 0 | Q99: =ROUND(E99*P99,2) -> 0 | S99: Vlastní | T99: Indiv | U99: 0.749 | V99: =ROUND(E99*U99,2) -> 4.87 | X99: Práce | Y99: Běžná | AF99: POL1_0
C100: Sběrné potrubí pro odvětrání radonu - svislá, včetně tvarovek (odbočky kolena aj.) | AF100: POP
A101: 195 | B101: 175101101RT2 | C101: Obsyp potrubí s dodáním štěrku a zhutněním | D101: m3 | E101: 1.44 | F101: 1902 | G101: =ROUND(E101*F101,2) -> 2738.88 | H101: 757.66 | I101: =ROUND(E101*H101,2) -> 1091.03 | J101: 919.34 | K101: =ROUND(E101*J101,2) -> 1323.85 | L101: 21 | M101: =G101*(1+L101/100) -> 3314.0448 | N101: 1.7 | O101: =ROUND(E101*N101,2) -> 2.45 | P101: 0 | Q101: =ROUND(E101*P101,2) -> 0 | S101: Vlastní | T101: Indiv | U101: 1.587 | V101: =ROUND(E101*U101,2) -> 2.29 | X101: Práce | Y101: Běžná | AF101: POL1_0
C102: 0,3*0,2*24 | E102: 1.44 | AF102: VV | AG102: 0
...

Sheet S01 2) ZTI Pol
A1: Položkový soupis prací a dodávek | AF1: #TypZaznamu#
A2: S: | B2: 01 | C2: REKONSTRUKCE VOLNOČASOVÉHO CENTRA V UNÍNĚ - 2. etapa | AF2: STA
A3: O: | B3: S01 | C3: VOLNOČASOVÉ CENTRUM | AB3: STA | AF3: OBJ
A4: R: | B4: 2) ZTI | C4: Zdravotně technické instalace | AF4: ROZ
A6: P.č. | B6: Číslo položky | C6: Název položky | D6: MJ | E6: Množství | F6: Cena / MJ | G6: Celkem | H6: Dodávka | I6: Dodávka celk. | J6: Montáž | K6: Montáž celk. | L6: DPH | M6: Cena s DPH | N6: Hmotnost / MJ | O6: Hmotnost celk.(t) | P6: Dem. hmotnost / MJ | Q6: Dem. hmotnost celk.(t) | R6: Ceník | S6: Cen. soustava / platnost | T6: Cenová úroveň | U6: Nhod / MJ | V6: Nhod celk. | W6: Dodavatel | X6: Typ položky | Y6: Stav položky
A8: Díl: | B8: 1 | C8: Zemní práce | G8: =SUMIF(AF9:AF30,"<>NOR",G9:G30) -> 496477.39 | I8: =SUM(I9:I30) -> 31094.87 | K8: =SUM(K9:K30) -> 386037.68 | M8: =SUM(M9:M30) -> 600737.64 | O8: =SUM(O9:O30) -> 65.7 | Q8: =SUM(Q9:Q30) -> 0 | V8: =SUM(V9:V30) -> 738.04 | AF8: DIL
A9: 1 | B9: 139601102R00 | C9: Ruční výkop jam, rýh a šachet v hornině tř. 3 | D9: m3 | E9: 127.8 | F9: 1781.8 | G9: =ROUND(E9*F9,2) -> 227714.04 | H9: 0 | I9: =ROUND(E9*H9,2) -> 0 | J9: 1527 | K9: =ROUND(E9*J9,2) -> 195150.6 | L9: 21 | M9: =G9*(1+L9/100) -> 275533.99 | N9: 0 | O9: =ROUND(E9*N9,2) -> 0 | P9: 0 | Q9: =ROUND(E9*P9,2) -> 0 | S9: Vlastní | T9: Indiv | U9: 3.533 | V9: =ROUND(E9*U9,2) -> 451.52 | X9: Práce | Y9: Běžná | AF9: POL1_0
C10: 60,1+2,8+64,9 | E10: 127.8 | AF10: VV | AG10: 0
A11: 2 | B11: 151101101R00 | C11: Pažení a rozepření stěn rýh - příložné - hl.do 2 m | D11: m2 | E11: 30.3 | F11: 177 | G11: =ROUND(E11*F11,2) -> 5363.1 | H11: 12.95 | I11: =ROUND(E11*H11,2) -> 392.39 | J11: 139.05 | K11: =ROUND(E11*J11,2) -> 4213.22 | L11: 21 | M11: =G11*(1+L11/100) -> 6489.351 | N11: 0.00099 | O11: =ROUND(E11*N11,2) -> 0.03 | P11: 0 | Q11: =ROUND(E11*P11,2) -> 0 | S11: Vlastní | T11: Indiv | U11: 0.236 | V11: =ROUND(E11*U11,2) -> 7.15 | X11: Práce | Y11: Běžná | AF11: POL1_0
C12: 30,3 | E12: 30.3 | AF12: VV | AG12: 0
A13: 3 | B13: 151101111R00 | C13: Odstranění pažení stěn rýh - příložné - hl. do 2 m | D13: m2 | E13: 30.3 | F13: 35.4 | G13: =ROUND(E13*F13,2) -> 1072.62 | H13: 0 | I13: =ROUND(E13*H13,2) -> 0 | J13: 33.1 | K13: =ROUND(E13*J13,2) -> 1002.93 | L13: 21 | M13: =G13*(1+L13/100) -> 1297.8702 | N13: 0 | O13: =ROUND(E13*N13,2) -> 0 | P13: 0 | Q13: =ROUND(E13*P13,2) -> 0 | S13: Vlastní | T13: Indiv | U13: 0.07 | V13: =ROUND(E13*U13,2) -> 2.12 | X13: Práce | Y13: Běžná | AF13: POL1_0
A14: 4 | B14: 151101102R00 | C14: Pažení a rozepření stěn rýh - příložné - hl.do 4 m | D14: m2 | E14: 60.6 | F14: 342.2 | G14: =ROUND(E14*F14,2) -> 20737.32 | H14: 24.39 | I14: =ROUND(E14*H14,2) -> 1478.03 | J14: 267.61 | K14: =ROUND(E14*J14,2) -> 16217.17 | L14: 21 | M14: =G14*(1+L14/100) -> 25092.157 | N14: 0.00086 | O14: =ROUND(E14*N14,2) -> 0.05 | P14: 0 | Q14: =ROUND(E14*P14,2) -> 0 | S14: Vlastní | T14: Indiv | U14: 0.479 | V14: =ROUND(E14*U14,2) -> 29.03 | X14: Práce | Y14: Běžná | AF14: POL1_0
C15: 60,6 | E15: 60.6 | AF15: VV | AG15: 0
A16: 5 | B16: 151101112R00 | C16: Odstranění pažení stěn rýh - příložné - hl. do 4 m | D16: m2 | E16: 60.6 | F16: 177 | G16: =ROUND(E16*F16,2) -> 10726.2 | H16: 0 | I16: =ROUND(E16*H16,2) -> 0 | J16: 154.5 | K16: =ROUND(E16*J16,2) -> 9362.7 | L16: 21 | M16: =G16*(1+L16/100) -> 12978.702 | N16: 0 | O16: =ROUND(E16*N16,2) -> 0 | P16: 0 | Q16: =ROUND(E16*P16,2) -> 0 | S16: Vlastní | T16: Indiv | U16: 0.327 | V16: =ROUND(E16*U16,2) -> 19.82 | X16: Práce | Y16: Běžná | AF16: POL1_0
A17: 6 | B17: 161101101R00 | C17: Svislé přemístění výkopku z hor.1-4 do 2,5 m | D17: m3 | E17: 62.9 | F17: 188.8 | G17: =ROUND(E17*F17,2) -> 11875.52 | H17: 0 | I17: =ROUND(E17*H17,2) -> 0 | J17: 153.5 | K17: =ROUND(E17*J17,2) -> 9655.15 | L17: 21 | M17: =G17*(1+L17/100) -> 14369.379 | N17: 0 | O17: =ROUND(E17*N17,2) -> 0 | P17: 0 | Q17: =ROUND(E17*P17,2) -> 0 | S17: Vlastní | T17: Indiv | U17: 0.345 | V17: =ROUND(E17*U17,2) -> 21.7 | X17: Práce | Y17: Běžná | AF17: POL1_0
C18: 60,1+2,8 | E18: 62.9 | AF18: VV | AG18: 0
A19: 7 | B19: 161101102R00 | C19: Svislé přemístění výkopku z hor.1-4 do 4,0 m | D19: m3 | E19: 64.9 | F19: 159.3 | G19: =ROUND(E19*F19,2) -> 10338.57 | H19: 0 | I19: =ROUND(E19*H19,2) -> 0 | J19: 245.5 | K19: =ROUND(E19*J19,2) -> 15932.95 | L19: 21 | M19: =G19*(1+L19/100) -> 12509.67 | N19: 0 | O19: =ROUND(E19*N19,2) -> 0 | P19: 0 | Q19: =ROUND(E19*P19,2) -> 0 | S19: Vlastní | T19: Indiv | U19: 0.519 | V19: =ROUND(E19*U19,2) -> 33.68 | X19: Práce | Y19: Běžná | AF19: POL1_0
A20: 8 | B20: 162701105R00 | C20: Vodorovné přemístění výkopku z hor.1-4 do 10000 m | D20: m3 | E20: 65.35 | F20: 542.8 | G20: =ROUND(E20*F20,2) -> 35471.98 | H20: 0 | I20: =ROUND(E20*H20,2) -> 0 | J20: 296 | K20: =ROUND(E20*J20,2) -> 19343.6 | L20: 21 | M20: =G20*(1+L20/100) -> 42921.096 | N20: 0 | O20: =ROUND(E20*N20,2) -> 0 | P20: 0 | Q20: =ROUND(E20*P20,2) -> 0 | S20: Vlastní | T20: Indiv | U20: 0.011 | V20: =ROUND(E20*U20,2) -> 0.72 | X20: Práce | Y20: Běžná | AF20: POL1_0
C21: 6,2+25,4 | E21: 31.6 | AF21: VV | AG21: 0
C22: 4,5*3*2,5 | E22: 33.75 | AF22: VV | AG22: 0
A23: 9 | B23: 162201210R00 | C23: Příplatek za dalš.10 m, kolečko, výkop. z hor.1- 4 | D23: m3 | E23: 65.35 | F23: 302.08 | G23: =ROUND(E23*F23,2) -> 19740.93 | H23: 0 | I23: =ROUND(E23*H23,2) -> 0 | J23: 263 | K23: =ROUND(E23*J23,2) -> 17187.05 | L23: 21 | M23: =G23*(1+L23/100) -> 23886.525 | N23: 0 | O23: =ROUND(E23*N23,2) -> 0 | P23: 0 | Q23: =ROUND(E23*P23,2) -> 0 | S23: Vlastní | T23: Indiv | U23: 0.591 | V23: =ROUND(E23*U23,2) -> 38.62 | X23: Práce | Y23: Běžná | AF23: POL1_0
A24: 10 | B24: 171201201R00 | C24: Uložení sypaniny na skl.-sypanina na výšku přes 2m | D24: m3 | E24: 65.35 | F24: 17.7 | G24: =ROUND(E24*F24,2) -> 1156.7 | H24: 0 | I24: =ROUND(E24*H24,2) -> 0 | J24: 18.8 | K24: =ROUND(E24*J24,2) -> 1228.58 | L24: 21 | M24: =G24*(1+L24/100) -> 1399.607 | N24: 0 | O24: =ROUND(E24*N24,2) -> 0 | P24: 0 | Q24: =ROUND(E24*P24,2) -> 0 | S24: Vlastní | T24: Indiv | U24: 0.009 | V24: =ROUND(E24*U24,2) -> 0.59 | X24: Práce | Y24: Běžná | AF24: POL1_0
A25: 11 | B25: 199000002R00 | C25: Poplatek za skládku horniny 1- 4 | D25: m3 | E25: 65.34 | F25: 731.6 | G25: =ROUND(E25*F25,2) -> 47802.74 | H25: 0 | I25: =ROUND(E25*H25,2) -> 0 | J25: 513 | K25: =ROUND(E25*J25,2) -> 33519.42 | L25: 21 | M25: =G25*(1+L25/100) -> 57841.315 | N25: 0 | O25: =ROUND(E25*N25,2) -> 0 | P25: 0 | Q25: =ROUND(E25*P25,2) -> 0 | S25: Vlastní | T25: Indiv | U25: 0 | V25: =ROUND(E25*U25,2) -> 0 | X25: Práce | Y25: Běžná | AF25: POL1_0
A26: 12 | B26: 174101102R00 | C26: Zásyp ruční se zhutněním | D26: m3 | E26: 62.46 | F26: 637.2 | G26: =ROUND(E26*F26,2) -> 39799.51 | H26: 0 | I26: =ROUND(E26*H26,2) -> 0 | J26: 576 | K26: =ROUND(E26*J26,2) -> 35976.96 | L26: 21 | M26: =G26*(1+L26/100) -> 48157.407 | N26: 0 | O26: =ROUND(E26*N26,2) -> 0 | P26: 0 | Q26: =ROUND(E26*P26,2) -> 0 | S26: Vlastní | T26: Indiv | U26: 1.15 | V26: =ROUND(E26*U26,2) -> 71.83 | X26: Práce | Y26: Běžná | AF26: POL1_0
A27: 13 | B27: 175101101RT2 | C27: Obsyp potrubí bez prohození sypaniny, s dodáním štěrkopísku frakce 0 - 22 mm | D27: m3 | E27: 38.6 | F27: 1675.6 | G27: =ROUND(E27*F27,2) -> 64678.16 | H27: 757.11 | I27: =ROUND(E27*H27,2) -> 29224.45 | J27: 705.89 | K27: =ROUND(E27*J27,2) -> 27247.35 | L27: 21 | M27: =G27*(1+L27/100) -> 78260.574 | N27: 1.7 | O27: =ROUND(E27*N27,2) -> 65.62 | P27: 0 | Q27: =ROUND(E27*P27,2) -> 0 | S27: Vlastní | T27: Indiv | U27: 1.587 | V27: =ROUND(E27*U27,2) -> 61.26 | X27: Práce | Y27: Běžná | AF27: POL1_0
C28: 6,2+25,4 | E28: 31.6 | AF28: VV | AG28: 0
C29: 4,5*2,5*0,2*2 | E29: 4.5 | AF29: VV | AG29: 0
C30: 2,5*2,5*0,2*2 | E30: 2.5 | AF30: VV | AG30: 0
A31: Díl: | B31: 8 | C31: Trubní vedení | G31: =SUMIF(AF32:AF41,"<>NOR",G32:G41) -> 149690.08 | I31: =SUM(I32:I41) -> 32020 | K31: =SUM(K32:K41) -> 95026 | M31: =SUM(M32:M41) -> 181125 | O31: =SUM(O32:O41) -> 0.12 | Q31: =SUM(Q32:Q41) -> 0 | V31: =SUM(V32:V41) -> 1.95 | AF31: DIL
A32: 14 | B32: 894432112R00 | C32: Osazení plastové šachty revizní prům.425 mm | D32: kus | E32: 3 | F32: 743.4 | G32: =ROUND(E32*F32,2) -> 2230.2 | H32: 0 | I32: =ROUND(E32*H32,2) -> 0 | J32: 642 | K32: =ROUND(E32*J32,2) -> 1926 | L32: 21 | M32: =G32*(1+L32/100) -> 2698.542 | N32: 0 | O32: =ROUND(E32*N32,2) -> 0 | P32: 0 | Q32: =ROUND(E32*P32,2) -> 0 | S32: Vlastní | T32: Indiv | U32: 0.65 | V32: =ROUND(E32*U32,2) -> 1.95 | X32: Práce | Y32: Běžná | AF32: POL1_0
A33: 15 | B33: 8-PC | C33: Adaptér teleskopický PP 425 | D33: kus | E33: 3 | F33: 1099.76 | G33: =ROUND(E33*F33,2) -> 3299.28 | H33: 940 | I33: =ROUND(E33*H33,2) -> 2820 | J33: 0 | K33: =ROUND(E33*J33,2) -> 0 | L33: 21 | M33: =G33*(1+L33/100) -> 3992.1288 | N33: 0.012 | O33: =ROUND(E33*N33,2) -> 0.04 | P33: 0 | Q33: =ROUND(E33*P33,2) -> 0 | S33: Vlastní | T33: Indiv | U33: 0 | V33: =ROUND(E33*U33,2) -> 0 | X33: Specifikace | Y33: Běžná | AF33: POL3_0
A34: 16 | B34: 286971402R | C34: Roura šachtová korugovaná bez hrdla 425/1500 mm | D34: kus | E34: 3 | F34: 2832 | G34: =ROUND(E34*F34,2) -> 8496 | H34: 2420 | I34: =ROUND(E34*H34,2) -> 7260 | J34: 0 | K34: =ROUND(E34*J34,2) -> 0 | L34: 21 | M34: =G34*(1+L34/100) -> 10280.16 | N34: 0.012 | O34: =ROUND(E34*N34,2) -> 0.04 | P34: 0 | Q34: =ROUND(E34*P34,2) -> 0 | S34: Vlastní | T34: Indiv | U34: 0 | V34: =ROUND(E34*U34,2) -> 0 | X34: Specifikace | Y34: Běžná | AF34: POL3_0
A35: 17 | B35: 8-PC | C35: Poklop do šachtové roury 425 mm/B125 | D35: kus | E35: 3 | F35: 3799.6 | G35: =ROUND(E35*F35,2) -> 11398.8 | H35: 3255 | I35: =ROUND(E35*H35,2) -> 9765 | J35: 0 | K35: =ROUND(E35*J35,2) -> 0 | L35: 21 | M35: =G35*(1+L35/100) -> 13792.548 | N35: 0.00192 | O35: =ROUND(E35*N35,2) -> 0.01 | P35: 0 | Q35: =ROUND(E35*P35,2) -> 0 | S35: Vlastní | T35: Indiv | U35: 0 | V35: =ROUND(E35*U35,2) -> 0 | X35: R-položka | Y35: Běžná | AF35: POL12_0
A36: 18 | B36: 2869716901R | C36: Dno šachtové výkyv. 425/150 přímé pro korug. | D36: kus | E36: 1 | F36: 4342.4 | G36: =ROUND(E36*F36,2) -> 4342.4 | H36: 3420 | I36: =ROUND(E36*H36,2) -> 3420 | J36: 0 | K36: =ROUND(E36*J36,2) -> 0 | L36: 21 | M36: =G36*(1+L36/100) -> 5254.304 | N36: 0.00895 | O36: =ROUND(E36*N36,2) -> 0.01 | P36: 0 | Q36: =ROUND(E36*P36,2) -> 0 | S36: Vlastní | T36: Indiv | U36: 0 | V36: =ROUND(E36*U36,2) -> 0 | X36: Specifikace | Y36: Běžná | AF36: POL3_0
A37: 19 | B37: 2869716905R | C37: Dno šachtové výkyv. 425/150 typ T pro korug. | D37: kus | E37: 1 | F37: 4625.6 | G37: =ROUND(E37*F37,2) -> 4625.6 | H37: 3650 | I37: =ROUND(E37*H37,2) -> 3650 | J37: 0 | K37: =ROUND(E37*J37,2) -> 0 | L37: 21 | M37: =G37*(1+L37/100) -> 5596.976 | N37: 0.00969 | O37: =ROUND(E37*N37,2) -> 0.01 | P37: 0 | Q37: =ROUND(E37*P37,2) -> 0 | S37: Vlastní | T37: Indiv | U37: 0 | V37: =ROUND(E37*U37,2) -> 0 | X37: Specifikace | Y37: Běžná | AF37: POL3_0
A38: 20 | B38: 2869716904R | C38: Dno šachtové výkyv. 425/150 90° pro korug. | D38: kus | E38: 1 | F38: 6372 | G38: =ROUND(E38*F38,2) -> 6372 | H38: 5105 | I38: =ROUND(E38*H38,2) -> 5105 | J38: 0 | K38: =ROUND(E38*J38,2) -> 0 | L38: 21 | M38: =G38*(1+L38/100) -> 7710.12 | N38: 0.00883 | O38: =ROUND(E38*N38,2) -> 0.01 | P38: 0 | Q38: =ROUND(E38*P38,2) -> 0 | S38: Vlastní | T38: Indiv | U38: 0 | V38: =ROUND(E38*U38,2) -> 0 | X38: Specifikace | Y38: Běžná | AF38: POL3_0
A39: 21 | B39: 8-PC | C39: Podzemní nádrž PP samonostná 4,160*2,5*2,160, +2xvstupní kominek + 2xpochůzí poklop+mont. | D39: soubor | E39: 1 | F39: 92040 | G39: =ROUND(E39*F39,2) -> 92040 | H39: 0 | I39: =ROUND(E39*H39,2) -> 0 | J39: 85000 | K39: =ROUND(E39*J39,2) -> 85000 | L39: 21 | M39: =G39*(1+L39/100) -> 111368.4 | N39: 0 | O39: =ROUND(E39*N39,2) -> 0 | P39: 0 | Q39: =ROUND(E39*P39,2) -> 0 | S39: Vlastní | T39: Indiv | U39: 0 | V39: =ROUND(E39*U39,2) -> 0 | X39: Práce | Y39: Běžná | AF39: POL1_0
A40: 22 | B40: 8-PC | C40: Podbetonování nádrží deska 200mm, s kari sítí | D40: m3 | E40: 2.7 | F40: 6254 | G40: =ROUND(E40*F40,2) -> 16885.8 | H40: 0 | I40: =ROUND(E40*H40,2) -> 0 | J40: 3000 | K40: =ROUND(E40*J40,2) -> 8100 | L40: 21 | M40: =G40*(1+L40/100) -> 20431.818 | N40: 0 | O40: =ROUND(E40*N40,2) -> 0 | P40: 0 | Q40: =ROUND(E40*P40,2) -> 0 | S40: Vlastní | T40: Indiv | U40: 0 | V40: =ROUND(E40*U40,2) -> 0 | X40: R-položka | Y40: Běžná | AF40: POL12_1
C41: 4,5*3*0,2 | E41: 2.7 | AF41: VV | AG41: 0
A42: Díl: | B42: 96 | C42: Bourání konstrukcí | G42: =SUMIF(AF43:AF44,"<>NOR",G43:G44) -> 29913 | I42: =SUM(I43:I44) -> 0 | K42: =SUM(K43:K44) -> 27300 | M42: =SUM(M43:M44) -> 36194.73 | O42: =SUM(O43:O44) -> 0 | Q42: =SUM(Q43:Q44) -> 21.45 | V42: =SUM(V43:V44) -> 57.2 | AF42: DIL
A43: 23 | B43: 965042241R00 | C43: Bourání mazanin betonových tl. nad 10 cm, nad 4 m2 | D43: m3 | E43: 9.75 | F43: 3068 | G43: =ROUND(E43*F43,2) -> 29913 | H43: 0 | I43: =ROUND(E43*H43,2) -> 0 | J43: 2800 | K43: =ROUND(E43*J43,2) -> 27300 | L43: 21 | M43: =G43*(1+L43/100) -> 36194.73 | N43: 0 | O43: =ROUND(E43*N43,2) -> 0 | P43: 2.2 | Q43: =ROUND(E43*P43,2) -> 21.45 | S43: Vlastní | T43: Indiv | U43: 5.867 | V43: =ROUND(E43*U43,2) -> 57.2 | X43: Práce | Y43: Běžná | AF43: POL1_0
C44: 65*1*0,15 | E44: 9.75 | AF44: VV | AG44: 0
A45: Díl: | B45: 97 | C45: Prorážení otvorů | G45: =SUMIF(AF46:AF51,"<>NOR",G46:G51) -> 135422.7 | I45: =SUM(I46:I51) -> 16819.38 | K45: =SUM(K46:K51) -> 101110.62 | M45: =SUM(M46:M51) -> 163861.47 | O45: =SUM(O46:O51) -> 0 | Q45: =SUM(Q46:Q51) -> 0.92 | V45: =SUM(V46:V51) -> 153.61 | AF45: DIL
A46: 24 | B46: 970031200R00 | C46: Vrtání jádrové do zdiva cihelného do D 200 mm | D46: m | E46: 12 | F46: 5144.8 | G46: =ROUND(E46*F46,2) -> 61737.6 | H46: 1320.24 | I46: =ROUND(E46*H46,2) -> 15842.88 | J46: 3319.76 | K46: =ROUND(E46*J46,2) -> 39837.12 | L46: 21 | M46: =G46*(1+L46/100) -> 74702.496 | N46: 0 | O46: =ROUND(E46*N46,2) -> 0 | P46: 0.05652 | Q46: =ROUND(E46*P46,2) -> 0.68 | S46: Vlastní | T46: Indiv | U46: 5.5 | V46: =ROUND(E46*U46,2) -> 66 | X46: Práce | Y46: Běžná | AF46: POL1_0
A47: 25 | B47: 974051212R00 | C47: Frézování drážky do 30x30 mm, zdivo,cihla plná | D47: m | E47: 150 | F47: 73.16 | G47: =ROUND(E47*F47,2) -> 10974 | H47: 6.51 | I47: =ROUND(E47*H47,2) -> 976.5 | J47: 62.29 | K47: =ROUND(E47*J47,2) -> 9343.5 | L47: 21 | M47: =G47*(1+L47/100) -> 13278.54 | N47: 0 | O47: =ROUND(E47*N47,2) -> 0 | P47: 0.00162 | Q47: =ROUND(E47*P47,2) -> 0.24 | S47: Vlastní | T47: Indiv | U47: 0.14 | V47: =ROUND(E47*U47,2) -> 21 | X47: Práce | Y47: Běžná | AF47: POL1_0
A48: 26 | B48: 979081111R00 | C48: Odvoz suti a vybour. hmot na skládku do 1 km | D48: t | E48: 22.5 | F48: 474.36 | G48: =ROUND(E48*F48,2) -> 10673.1 | H48: 0 | I48: =ROUND(E48*H48,2) -> 0 | J48: 271.5 | K48: =ROUND(E48*J48,2) -> 6108.75 | L48: 21 | M48: =G48*(1+L48/100) -> 12914.451 | N48: 0 | O48: =ROUND(E48*N48,2) -> 0 | P48: 0 | Q48: =ROUND(E48*P48,2) -> 0 | S48: Vlastní | T48: Indiv | U48: 0.49 | V48: =ROUND(E48*U48,2) -> 11.03 | X48: Práce | Y48: Běžná | AF48: POL1_0
A49: 27 | B49: 979081121R00 | C49: Příplatek k odvozu za každý další 1 km | D49: t | E49: 225 | F49: 35.4 | G49: =ROUND(E49*F49,2) -> 7965 | H49: 0 | I49: =ROUND(E49*H49,2) -> 0 | J49: 25 | K49: =ROUND(E49*J49,2) -> 5625 | L49: 21 | M49: =G49*(1+L49/100) -> 9637.65 | N49: 0 | O49: =ROUND(E49*N49,2) -> 0 | P49: 0 | Q49: =ROUND(E49*P49,2) -> 0 | S49: Vlastní | T49: Indiv | U49: 0 | V49: =ROUND(E49*U49,2) -> 0 | X49: Práce | Y49: Běžná | AF49: POL1_0
A50: 28 | B50: 979100011RA0 | C50: Odvoz suti a vyb.hmot do 10 km, vnitrost. 15 m | D50: t | E50: 22.5 | F50: 1486.8 | G50: =ROUND(E50*F50,2) -> 33453 | H50: 0 | I50: =ROUND(E50*H50,2) -> 0 | J50: 1342 | K50: =ROUND(E50*J50,2) -> 30195 | L50: 21 | M50: =G50*(1+L50/100) -> 40478.13 | N50: 0 | O50: =ROUND(E50*N50,2) -> 0 | P50: 0 | Q50: =ROUND(E50*P50,2) -> 0 | S50: Vlastní | T50: Indiv | U50: 2.47 | V50: =ROUND(E50*U50,2) -> 55.58 | X50: Agregovaná položka | Y50: Běžná | AF50: POL2_0
A51: 29 | B51: 979981104R00 | C51: Kontejner, přistavení na 24 h, odvoz a likvidace, suť bez příměsí, kapacita 9 t | D51: t | E51: 22.5 | F51: 472 | G51: =ROUND(E51*F51,2) -> 10620 | H51: 0 | I51: =ROUND(E51*H51,2) -> 0 | J51: 444.5 | K51: =ROUND(E51*J51,2) -> 10001.25 | L51: 21 | M51: =G51*(1+L51/100) -> 12850.2 | N51: 0 | O51: =ROUND(E51*N51,2) -> 0 | P51: 0 | Q51: =ROUND(E51*P51,2) -> 0 | S51: Vlastní | T51: Indiv | U51: 0 | V51: =ROUND(E51*U51,2) -> 0 | X51: Práce | Y51: Běžná | AF51: POL1_0
A52: Díl: | B52: 713 | C52: Izolace tepelné | G52: =SUMIF(AF53:AF53,"<>NOR",G53:G53) -> 2194.8 | I52: =SUM(I53:I53) -> 1298.13 | K52: =SUM(K53:K53) -> 309.87 | M52: =SUM(M53:M53) -> 2655.708 | O52: =SUM(O53:O53) -> 0 | Q52: =SUM(Q53:Q53) -> 0 | V52: =SUM(V53:V53) -> 0.55 | AF52: DIL
A53: 30 | B53: 713571115R00 | C53: Manžeta požárně ochranná na potrubí D110, +mont. | D53: kus | E53: 1 | F53: 2194.8 | G53: =ROUND(E53*F53,2) -> 2194.8 | H53: 1298.13 | I53: =ROUND(E53*H53,2) -> 1298.13 | J53: 309.87 | K53: =ROUND(E53*J53,2) -> 309.87 | L53: 21 | M53: =G53*(1+L53/100) -> 2655.708 | N53: 5e-05 | O53: =ROUND(E53*N53,2) -> 0 | P53: 0 | Q53: =ROUND(E53*P53,2) -> 0 | S53: Vlastní | T53: Indiv | U53: 0.55 | V53: =ROUND(E53*U53,2) -> 0.55 | X53: Práce | Y53: Běžná | AF53: POL1_0
A54: Díl: | B54: 721 | C54: Vnitřní kanalizace | G54: =SUMIF(AF55:AF78,"<>NOR",G55:G78) -> 241924.78 | I54: =SUM(I55:I78) -> 133036.95 | K54: =SUM(K55:K78) -> 81936.95 | M54: =SUM(M55:M78) -> 292728.98 | O54: =SUM(O55:O78) -> 0.42 | Q54: =SUM(Q55:Q78) -> 0.75 | V54: =SUM(V55:V78) -> 142.17 | AF54: DIL
A55: 31 | B55: 721140802R00 | C55: Demontáž potrubí litinového do DN 100 mm | D55: m | E55: 50 | F55: 200.6 | G55: =ROUND(E55*F55,2) -> 10030 | H55: 0 | I55: =ROUND(E55*H55,2) -> 0 | J55: 184 | K55: =ROUND(E55*J55,2) -> 9200 | L55: 21 | M55: =G55*(1+L55/100) -> 12136.3 | N55: 0 | O55: =ROUND(E55*N55,2) -> 0 | P55: 0.01492 | Q55: =ROUND(E55*P55,2) -> 0.75 | S55: Vlastní | T55: Indiv | U55: 0.413 | V55: =ROUND(E55*U55,2) -> 20.65 | X55: Práce | Y55: Běžná | AF55: POL1_0
A56: 32 | B56: 721290822R00 | C56: Přesun vybouraných hmot, vnitřní kanalizace, v objektech výšky přes 6 - 12 m | D56: t | E56: 0.76 | F56: 2124 | G56: =ROUND(E56*F56,2) -> 1614.24 | H56: 0 | I56: =ROUND(E56*H56,2) -> 0 | J56: 2450 | K56: =ROUND(E56*J56,2) -> 1862 | L56: 21 | M56: =G56*(1+L56/100) -> 1953.2304 | N56: 0 | O56: =ROUND(E56*N56,2) -> 0 | P56: 0 | Q56: =ROUND(E56*P56,2) -> 0 | S56: Vlastní | T56: Indiv | U56: 4.155 | V56: =ROUND(E56*U56,2) -> 3.16 | X56: Práce | Y56: Běžná | AF56: POL1_0
A57: 33 | B57: 721194104R00 | C57: Vyvedení odpadních výpustek D 40 x 1,8 | D57: kus | E57: 4 | F57: 102.66 | G57: =ROUND(E57*F57,2) -> 410.64 | H57: 0 | I57: =ROUND(E57*H57,2) -> 0 | J57: 88.5 | K57: =ROUND(E57*J57,2) -> 354 | L57: 21 | M57: =G57*(1+L57/100) -> 496.8744 | N57: 0 | O57: =ROUND(E57*N57,2) -> 0 | P57: 0 | Q57: =ROUND(E57*P57,2) -> 0 | S57: Vlastní | T57: Indiv | U57: 0.157 | V57: =ROUND(E57*U57,2) -> 0.63 | X57: Práce | Y57: Běžná | AF57: POL1_0
A58: 34 | B58: 721194105R00 | C58: Vyvedení odpadních výpustek D 50 x 1,8 | D58: kus | E58: 4 | F58: 113.28 | G58: =ROUND(E58*F58,2) -> 453.12 | H58: 0 | I58: =ROUND(E58*H58,2) -> 0 | J58: 98.1 | K58: =ROUND(E58*J58,2) -> 392.4 | L58: 21 | M58: =G58*(1+L58/100) -> 548.2752 | N58: 0 | O58: =ROUND(E58*N58,2) -> 0 | P58: 0 | Q58: =ROUND(E58*P58,2) -> 0 | S58: Vlastní | T58: Indiv | U58: 0.174 | V58: =ROUND(E58*U58,2) -> 0.7 | X58: Práce | Y58: Běžná | AF58: POL1_0
A59: 35 | B59: 721194109R00 | C59: Vyvedení odpadních výpustek D 110 x 2,3 | D59: kus | E59: 4 | F59: 167.56 | G59: =ROUND(E59*F59,2) -> 670.24 | H59: 0 | I59: =ROUND(E59*H59,2) -> 0 | J59: 146 | K59: =ROUND(E59*J59,2) -> 584 | L59: 21 | M59: =G59*(1+L59/100) -> 810.9904 | N59: 0 | O59: =ROUND(E59*N59,2) -> 0 | P59: 0 | Q59: =ROUND(E59*P59,2) -> 0 | S59: Vlastní | T59: Indiv | U59: 0.259 | V59: =ROUND(E59*U59,2) -> 1.04 | X59: Práce | Y59: Běžná | AF59: POL1_0
A60: 36 | B60: 721290123R00 | C60: Zkouška těsnosti kanalizace kouřem DN 300 | D60: m | E60: 35 | F60: 35.4 | G60: =ROUND(E60*F60,2) -> 1239 | H60: 0 | I60: =ROUND(E60*H60,2) -> 0 | J60: 33.3 | K60: =ROUND(E60*J60,2) -> 1165.5 | L60: 21 | M60: =G60*(1+L60/100) -> 1499.19 | N60: 0 | O60: =ROUND(E60*N60,2) -> 0 | P60: 0 | Q60: =ROUND(E60*P60,2) -> 0 | S60: Vlastní | T60: Indiv | U60: 0.059 | V60: =ROUND(E60*U60,2) -> 2.07 | X60: Práce | Y60: Běžná | AF60: POL1_0
A61: 37 | B61: 721290111R00 | C61: Zkouška těsnosti kanalizace vodou DN 125 | D61: m | E61: 70 | F61: 29.5 | G61: =ROUND(E61*F61,2) -> 2065 | H61: 0.83 | I61: =ROUND(E61*H61,2) -> 58.1 | J61: 27.07 | K61: =ROUND(E61*J61,2) -> 1894.9 | L61: 21 | M61: =G61*(1+L61/100) -> 2498.65 | N61: 0 | O61: =ROUND(E61*N61,2) -> 0 | P61: 0 | Q61: =ROUND(E61*P61,2) -> 0 | S61: Vlastní | T61: Indiv | U61: 0.048 | V61: =ROUND(E61*U61,2) -> 3.36 | X61: Práce | Y61: Běžná | AF61: POL1_0
A62: 38 | B62: 721290112R00 | C62: Zkouška těsnosti kanalizace vodou DN 200 | D62: m | E62: 55 | F62: 41.3 | G62: =ROUND(E62*F62,2) -> 2271.5 | H62: 3.32 | I62: =ROUND(E62*H62,2) -> 182.6 | J62: 33.28 | K62: =ROUND(E62*J62,2) -> 1830.4 | L62: 21 | M62: =G62*(1+L62/100) -> 2748.515 | N62: 0 | O62: =ROUND(E62*N62,2) -> 0 | P62: 0 | Q62: =ROUND(E62*P62,2) -> 0 | S62: Vlastní | T62: Indiv | U62: 0.059 | V62: =ROUND(E62*U62,2) -> 3.25 | X62: Práce | Y62: Běžná | AF62: POL1_0
A63: 39 | B63: 721176101R00 | C63: Potrubí HT připojovací, D 32 x 1,8 mm | D63: m | E63: 5 | F63: 398.84 | G63: =ROUND(E63*F63,2) -> 1994.2 | H63: 144.71 | I63: =ROUND(E63*H63,2) -> 723.55 | J63: 180.29 | K63: =ROUND(E63*J63,2) -> 901.45 | L63: 21 | M63: =G63*(1+L63/100) -> 2412.982 | N63: 0.00034 | O63: =ROUND(E63*N63,2) -> 0 | P63: 0 | Q63: =ROUND(E63*P63,2) -> 0 | S63: Vlastní | T63: Indiv | U63: 0.32 | V63: =ROUND(E63*U63,2) -> 1.6 | X63: Práce | Y63: Běžná | AF63: POL1_0
A64: 40 | B64: 721176102R00 | C64: Potrubí HT připojovací D 40 x 1,8 mm | D64: m | E64: 5 | F64: 371.7 | G64: =ROUND(E64*F64,2) -> 1858.5 | H64: 114.21 | I64: =ROUND(E64*H64,2) -> 571.05 | J64: 180.29 | K64: =ROUND(E64*J64,2) -> 901.45 | L64: 21 | M64: =G64*(1+L64/100) -> 2248.785 | N64: 0.00038 | O64: =ROUND(E64*N64,2) -> 0 | P64: 0 | Q64: =ROUND(E64*P64,2) -> 0 | S64: Vlastní | T64: Indiv | U64: 0.32 | V64: =ROUND(E64*U64,2) -> 1.6 | X64: Práce | Y64: Běžná | AF64: POL1_0
A65: 41 | B65: 721176103R00 | C65: Potr ubí HT připojovací D 50 x 1,8 mm | D65: m | E65: 5 | F65: 403.56 | G65: =ROUND(E65*F65,2) -> 2017.8 | H65: 127.25 | I65: =ROUND(E65*H65,2) -> 636.25 | J65: 202.25 | K65: =ROUND(E65*J65,2) -> 1011.25 | L65: 21 | M65: =G65*(1+L65/100) -> 2441.538 | N65: 0.00047 | O65: =ROUND(E65*N65,2) -> 0 | P65: 0 | Q65: =ROUND(E65*P65,2) -> 0 | S65: Vlastní | T65: Indiv | U65: 0.359 | V65: =ROUND(E65*U65,2) -> 1.8 | X65: Práce | Y65: Běžná | AF65: POL1_0
A66: 42 | B66: 721176114R00 | C66: Potrubí HT odpadní svislé D 75 x 1,9 mm | D66: m | E66: 5 | F66: 883.82 | G66: =ROUND(E66*F66,2) -> 4419.1 | H66: 292.19 | I66: =ROUND(E66*H66,2) -> 1460.95 | J66: 460.81 | K66: =ROUND(E66*J66,2) -> 2304.05 | L66: 21 | M66: =G66*(1+L66/100) -> 5347.111 | N66: 0.00078 | O66: =ROUND(E66*N66,2) -> 0 | P66: 0 | Q66: =ROUND(E66*P66,2) -> 0 | S66: Vlastní | T66: Indiv | U66: 0.819 | V66: =ROUND(E66*U66,2) -> 4.1 | X66: Práce | Y66: Běžná | AF66: POL1_0
... A72: 48 | B72: 721PC | C72: Izol. souprava pro tlakové prostupy DN100 | D72: kus | E72: 4 | F72: 2725.8 | G72: =ROUND(E72*F72,2) -> 10903.2 | H72: 1960 | I72: =ROUND(E72*H72,2) -> 7840 | J72: 0 | K72: =ROUND(E72*J72,2) -> 0 | L72: 21 | M72: =G72*(1+L72/100) -> 13192.872 | N72: 0.002 | O72: =ROUND(E72*N72,2) -> 0.01 | P72: 0 | Q72: =ROUND(E72*P72,2) -> 0 | S72: Vlastní | T72: Indiv | U72: 0 | V72: =ROUND(E72*U72,2) -> 0 | X72: R-položka | Y72: Běžná | AF72: POL12_0
A73: 49 | B73: 55162537.AR | C73: Hlavice větrací střešní DN 110 - souprava, +mont. | D73: kus | E73: 1 | F73: 896.8 | G73: =ROUND(E73*F73,2) -> 896.8 | H73: 800 | I73: =ROUND(E73*H73,2) -> 800 | J73: 0 | K73: =ROUND(E73*J73,2) -> 0 | L73: 21 | M73: =G73*(1+L73/100) -> 1085.128 | N73: 0.00027 | O73: =ROUND(E73*N73,2) -> 0 | P73: 0 | Q73: =ROUND(E73*P73,2) -> 0 | S73: Vlastní | T73: Indiv | U73: 0 | V73: =ROUND(E73*U73,2) -> 0 | X73: Specifikace | Y73: Běžná | Z73: m | AF73: POL3_0
A74: 50 | B74: 551625191R | C74: Lapač střešních splavenin DN 110/125 , horizontální připojení DN 110+mont. | D74: kus | E74: 5 | F74: 3502.24 | G74: =ROUND(E74*F74,2) -> 17511.2 | H74: 3320 | I74: =ROUND(E74*H74,2) -> 16600 | J74: 0 | K74: =ROUND(E74*J74,2) -> 0 | L74: 21 | M74: =G74*(1+L74/100) -> 21188.552 | N74: 0.00163 | O74: =ROUND(E74*N74,2) -> 0.01 | P74: 0 | Q74: =ROUND(E74*P74,2) -> 0 | S74: Vlastní | T74: Indiv | U74: 0 | V74: =ROUND(E74*U74,2) -> 0 | X74: Specifikace | Y74: Běžná | AF74: POL3_0
A75: 51 | B75: 28654741R | C75: Sifon kondenzační DN 40 PP vodorovný odtok, stavební výška 95 mm+mont. | D75: kus | E75: 1 | F75: 1463.2 | G75: =ROUND(E75*F75,2) -> 1463.2 | H75: 1130 | I75: =ROUND(E75*H75,2) -> 1130 | J75: 0 | K75: =ROUND(E75*J75,2) -> 0 | L75: 21 | M75: =G75*(1+L75/100) -> 1770.472 | N75: 0.00023 | O75: =ROUND(E75*N75,2) -> 0 | P75: 0 | Q75: =ROUND(E75*P75,2) -> 0 | S75: Vlastní | T75: Indiv | U75: 0 | V75: =ROUND(E75*U75,2) -> 0 | X75: Specifikace | Y75: Běžná | AF75: POL3_0
A76: 52 | B76: 55162400R | C76: Vpust podlahová DN 50/75/110, svislý odtok, sifonová vložka | D76: kus | E76: 1 | F76: 1998.92 | G76: =ROUND(E76*F76,2) -> 1998.92 | H76: 1877 | I76: =ROUND(E76*H76,2) -> 1877 | J76: 0 | K76: =ROUND(E76*J76,2) -> 0 | L76: 21 | M76: =G76*(1+L76/100) -> 2418.6932 | N76: 0.00075 | O76: =ROUND(E76*N76,2) -> 0 | P76: 0 | Q76: =ROUND(E76*P76,2) -> 0 | S76: Vlastní | T76: Indiv | U76: 0 | V76: =ROUND(E76*U76,2) -> 0 | X76: Specifikace | Y76: Běžná | AF76: POL3_0
A77: 53 | B77: 55162150.AR | C77: Vtok se zápachovou uzávěrkou DN 30+mont. | D77: kus | E77: 1 | F77: 573.48 | G77: =ROUND(E77*F77,2) -> 573.48 | H77: 527 | I77: =ROUND(E77*H77,2) -> 527 | J77: 0 | K77: =ROUND(E77*J77,2) -> 0 | L77: 21 | M77: =G77*(1+L77/100) -> 693.9108 | N77: 9e-05 | O77: =ROUND(E77*N77,2) -> 0 | P77: 0 | Q77: =ROUND(E77*P77,2) -> 0 | S77: Vlastní | T77: Indiv | U77: 0 | V77: =ROUND(E77*U77,2) -> 0 | X77: Specifikace | Y77: Běžná | AF77: POL3_0
A78: 54 | B78: 998721201R00 | C78: Přesun hmot pro vnitřní kanalizaci, výšky do 6 m | D78: % | E78: 2108 | F78: 1.18 | G78: =ROUND(E78*F78,2) -> 2487.44 | H78: 0 | I78: =ROUND(E78*H78,2) -> 0 | J78: 2 | K78: =ROUND(E78*J78,2) -> 4216 | L78: 21 | M78: =G78*(1+L78/100) -> 3009.8024 | N78: 0 | O78: =ROUND(E78*N78,2) -> 0 | P78: 0 | Q78: =ROUND(E78*P78,2) -> 0 | S78: Vlastní | T78: Indiv | U78: 0 | V78: =ROUND(E78*U78,2) -> 0 | X78: Práce | Y78: Běžná | AF78: POL1_0
A79: Díl: | B79: 722 | C79: Vnitřní vodovod | G79: =SUMIF(AF80:AF124,"<>NOR",G80:G124) -> 265295.27 | I79: =SUM(I80:I124) -> 29583.75 | K79: =SUM(K80:K124) -> 213073.96 | M79: =SUM(M80:M124) -> 321007.28 | O79: =SUM(O80:O124) -> 0.15 | Q79: =SUM(Q80:Q124) -> 0.34 | V79: =SUM(V80:V124) -> 331.52 | AF79: DIL
A80: 55 | B80: 722130803R00 | C80: Demontáž potrubí ocelových závitových, DN 50 mm | D80: m | E80: 50 | F80: 80.24 | G80: =ROUND(E80*F80,2) -> 4012 | H80: 0 | I80: =ROUND(E80*H80,2) -> 0 | J80: 106.5 | K80: =ROUND(E80*J80,2) -> 5325 | L80: 21 | M80: =G80*(1+L80/100) -> 4854.52 | N80: 0 | O80: =ROUND(E80*N80,2) -> 0 | P80: 0.0067 | Q80: =ROUND(E80*P80,2) -> 0.34 | S80: Vlastní | T80: Indiv | U80: 0.239 | V80: =ROUND(E80*U80,2) -> 11.95 | X80: Práce | Y80: Běžná | AF80: POL1_0
A81: 56 | B81: 722290822R00 | C81: Přesun vybouraných hmot - vodovody, H 6 - 12 m | D81: t | E81: 0.335 | F81: 1534 | G81: =ROUND(E81*F81,2) -> 513.89 | H81: 0 | I81: =ROUND(E81*H81,2) -> 0 | J81: 2450 | K81: =ROUND(E81*J81,2) -> 820.75 | L81: 21 | M81: =G81*(1+L81/100) -> 621.8069 | N81: 0 | O81: =ROUND(E81*N81,2) -> 0 | P81: 0 | Q81: =ROUND(E81*P81,2) -> 0 | S81: Vlastní | T81: Indiv | U81: 4.155 | V81: =ROUND(E81*U81,2) -> 1.39 | X81: Práce | Y81: Běžná | AF81: POL1_0
A82: 57 | B82: 722190401R00 | C82: Vyvedení a upevnění výpustek DN 15 | D82: ks | E82: 20 | F82: 292.64 | G82: =ROUND(E82*F82,2) -> 5852.8 | H82: 0 | I82: =ROUND(E82*H82,2) -> 0 | J82: 255.5 | K82: =ROUND(E82*J82,2) -> 5110 | L82: 21 | M82: =G82*(1+L82/100) -> 7081.888 | N82: 0 | O82: =ROUND(E82*N82,2) -> 0 | P82: 0 | Q82: =ROUND(E82*P82,2) -> 0 | S82: Vlastní | T82: Indiv | U82: 0.425 | V82: =ROUND(E82*U82,2) -> 8.5 | X82: Práce | Y82: Běžná | AF82: POL1_0
A83: 58 | B83: 722280109R00 | C83: Tlaková zkouška vodovodního potrubí DN 65 | D83: m | E83: 180 | F83: 11.8 | G83: =ROUND(E83*F83,2) -> 2124 | H83: 0.59 | I83: =ROUND(E83*H83,2) -> 106.2 | J83: 30.51 | K83: =ROUND(E83*J83,2) -> 5491.8 | L83: 21 | M83: =G83*(1+L83/100) -> 2570.04 | N83: 0 | O83: =ROUND(E83*N83,2) -> 0 | P83: 0 | Q83: =ROUND(E83*P83,2) -> 0 | S83: Vlastní | T83: Indiv | U83: 0.05 | V83: =ROUND(E83*U83,2) -> 9 | X83: Práce | Y83: Běžná | AF83: POL1_0
A84: 59 | B84: 722290234R00 | C84: Proplach a dezinfekce vodovod.potrubí DN 80 | D84: m | E84: 180 | F84: 21.24 | G84: =ROUND(E84*F84,2) -> 3823.2 | H84: 2.01 | I84: =ROUND(E84*H84,2) -> 361.8 | J84: 34.99 | K84: =ROUND(E84*J84,2) -> 6298.2 | L84: 21 | M84: =G84*(1+L84/100) -> 4626.072 | N84: 1e-05 | O84: =ROUND(E84*N84,2) -> 0 | P84: 0 | Q84: =ROUND(E84*P84,2) -> 0 | S84: Vlastní | T84: Indiv | U84: 0.062 | V84: =ROUND(E84*U84,2) -> 11.16 | X84: Práce | Y84: Běžná | AF84: POL1_0
A85: 60 | B85: 722181221RT7 | C85: Izolace návleková tl. stěny 6 mm, vnitřní průměr 22 mm | D85: m | E85: 65 | F85: 80.24 | G85: =ROUND(E85*F85,2) -> 5215.6 | H85: 25.97 | I85: =ROUND(E85*H85,2) -> 1688.05 | J85: 56.13 | K85: =ROUND(E85*J85,2) -> 3648.45 | L85: 21 | M85: =G85*(1+L85/100) -> 6310.876 | N85: 2e-05 | O85: =ROUND(E85*N85,2) -> 0 | P85: 0 | Q85: =ROUND(E85*P85,2) -> 0 | S85: Vlastní | T85: Indiv | U85: 0.129 | V85: =ROUND(E85*U85,2) -> 8.39 | X85: Práce | Y85: Běžná | AF85: POL1_0
A86: 61 | B86: 722181221RT9 | C86: Izolace návleková tl. stěny 6 mm, vnitřní průměr 28 mm | D86: m | E86: 20 | F86: 84.96 | G86: =ROUND(E86*F86,2) -> 1699.2 | H86: 29.37 | I86: =ROUND(E86*H86,2) -> 587.4 | J86: 56.13 | K86: =ROUND(E86*J86,2) -> 1122.6 | L86: 21 | M86: =G86*(1+L86/100) -> 2056.032 | N86: 3e-05 | O86: =ROUND(E86*N86,2) -> 0 | P86: 0 | Q86: =ROUND(E86*P86,2) -> 0 | S86: Vlastní | T86: Indiv | U86: 0.129 | V86: =ROUND(E86*U86,2) -> 2.58 | X86: Práce | Y86: Běžná | AF86: POL1_0
A87: 62 | B87: 722181221RU2 | C87: Izolace návleková tl. stěny 6 mm, vnitřní průměr 35 mm | D87: m | E87: 15 | F87: 100.3 | G87: =ROUND(E87*F87,2) -> 1504.5 | H87: 36.71 | I87: =ROUND(E87*H87,2) -> 550.65 | J87: 61.79 | K87: =ROUND(E87*J87,2) -> 926.85 | L87: 21 | M87: =G87*(1+L87/100) -> 1820.445 | N87: 4e-05 | O87: =ROUND(E87*N87,2) -> 0 | P87: 0 | Q87: =ROUND(E87*P87,2) -> 0 | S87: Vlastní | T87: Indiv | U87: 0.142 | V87: =ROUND(E87*U87,2) -> 2.13 | X87: Práce | Y87: Běžná | AF87: POL1_0
A88: 63 | B88: 722181224RT7 | C88: Izolace návleková tl. stěny 20 mm, vnitřní průměr 22 mm | D88: m | E88: 35 | F88: 154.58 | G88: =ROUND(E88*F88,2) -> 5410.3 | H88: 77.82 | I88: =ROUND(E88*H88,2) -> 2723.7 | J88: 66.68 | K88: =ROUND(E88*J88,2) -> 2333.8 | L88: 21 | M88: =G88*(1+L88/100) -> 6546.463 | N88: 3e-05 | O88: =ROUND(E88*N88,2) -> 0 | P88: 0 | Q88: =ROUND(E88*P88,2) -> 0 | S88: Vlastní | T88: Indiv | U88: 0.129 | V88: =ROUND(E88*U88,2) -> 4.52 | X88: Práce | Y88: Běžná | AF88: POL1_0
A89: 64 | B89: 722-PC | C89: Izolace návleková, tl.30mm, d35 | D89: m | E89: 45 | F89: 299.72 | G89: =ROUND(E89*F89,2) -> 13487.4 | H89: 0 | I89: =ROUND(E89*H89,2) -> 0 | J89: 270 | K89: =ROUND(E89*J89,2) -> 12150 | L89: 21 | M89: =G89*(1+L89/100) -> 16319.754 | N89: 0 | O89: =ROUND(E89*N89,2) -> 0 | P89: 0 | Q89: =ROUND(E89*P89,2) -> 0 | S89: Vlastní | T89: Indiv | U89: 0 | V89: =ROUND(E89*U89,2) -> 0 | X89: Práce | Y89: Běžná | AF89: POL1_0
A90: 65 | B90: 722182001RT1 | C90: Montáž izol.skruží na potrubí přímé DN 25,sam.spoj, samolepicí spoj nebo rychlouzávěr | D90: m | E90: 135 | F90: 48.38 | G90: =ROUND(E90*F90,2) -> 6531.3 | H90: 0 | I90: =ROUND(E90*H90,2) -> 0 | J90: 42.4 | K90: =ROUND(E90*J90,2) -> 5724 | L90: 21 | M90: =G90*(1+L90/100) -> 7902.873 | N90: 0 | O90: =ROUND(E90*N90,2) -> 0 | P90: 0 | Q90: =ROUND(E90*P90,2) -> 0 | S90: Vlastní | T90: Indiv | U90: 0.082 | V90: =ROUND(E90*U90,2) -> 11.07 | X90: Práce | Y90: Běžná | AF90: POL1_0
A91: 66 | B91: 722182004RT1 | C91: Montáž izol.skruží na potrubí přímé DN 40,sam.spoj, samolepicí spoj nebo rychlouzávěr | D91: m | E91: 45 | F91: 67.26 | G91: =ROUND(E91*F91,2) -> 3026.7 | H91: 0 | I91: =ROUND(E91*H91,2) -> 0 | J91: 59 | K91: =ROUND(E91*J91,2) -> 2655 | L91: 21 | M91: =G91*(1+L91/100) -> 3662.307 | N91: 0 | O91: =ROUND(E91*N91,2) -> 0 | P91: 0 | Q91: =ROUND(E91*P91,2) -> 0 | S91: Vlastní | T91: Indiv | U91: 0.114 | V91: =ROUND(E91*U91,2) -> 5.13 | X91: Práce | Y91: Běžná | AF91: POL1_0
... A124: 99 | B124: 998722201R00 | C124: Přesun hmot pro vnitřní vodovod, výšky do 6 m | D124: % | E124: 2394 | F124: 1.18 | G124: =ROUND(E124*F124,2) -> 2824.92 | H124: 0 | I124: =ROUND(E124*H124,2) -> 0 | J124: 1.4 | K124: =ROUND(E124*J124,2) -> 3351.6 | L124: 21 | M124: =G124*(1+L124/100) -> 3418.1532 | N124: 0 | O124: =ROUND(E124*N124,2) -> 0 | P124: 0 | Q124: =ROUND(E124*P124,2) -> 0 | S124: Vlastní | T124: Indiv | U124: 0 | V124: =ROUND(E124*U124,2) -> 0 | X124: Práce | Y124: Běžná | AF124: POL1_0
AD125: 12 | AE125: 21 | AF125: DPH
B126: Celkem | G126: =G79+G54+G52+G45+G42+G31+G8 -> 1320918 | AD126: =SUMIF(L7:L124,AD125,G7:G124) -> 0 | AE126: =SUMIF(L7:L124,AE125,G7:G124) -> 1320918 | AF126: SUM
AF127: END

Sheet S01 3) PL Pol
A1: Položkový soupis prací a dodávek | AG1: #TypZaznamu#
A2: S: | B2: 01 | C2: REKONSTRUKCE VOLNOČASOVÉHO CENTRA V UNÍNĚ - 2. etapa | M2: 0 | N2: 1. etapa | O2: NENACEŇOVAT | AG2: STA
A3: O: | B3: S01 | C3: VOLNOČASOVÉ CENTRUM | M3: 0 | N3: 3. etapa | O3: NENACEŇOVAT | AC3: STA | AG3: OBJ
A4: R: | B4: 3) PL | C4: Plynoinstalace | AG4: ROZ
A6: P.č. | B6: Číslo položky | C6: Název položky | D6: MJ | E6: Množství | F6: Cena / MJ | G6: Celkem | H6: Dodávka | I6: Dodávka celk. | J6: Montáž | K6: Montáž celk. | L6: DPH | M6: Cena s DPH | N6: Hmotnost / MJ | O6: Hmotnost celk.(t) | P6: Dem. hmotnost / MJ | Q6: Dem. hmotnost celk.(t) | R6: Ceník | S6: Cen. soustava / platnost | T6: Cenová úroveň | U6: Nhod / MJ | V6: Nhod celk. | W6: Dodavatel | X6: Typ položky | Y6: Stav položky
A8: Díl: | B8: 1 | C8: Zemní práce | G8: =SUMIF(AG9:AG17,"<>NOR",G9:G17) -> 0 | I8: =SUM(I9:I17) -> 2649.89 | K8: =SUM(K9:K17) -> 15084.27 | M8: =SUM(M9:M17) -> 0 | O8: =SUM(O9:O17) -> 5.95 | Q8: =SUM(Q9:Q17) -> 0 | V8: =SUM(V9:V17) -> 27.75 | AG8: DIL
A9: 1 | B9: 139601102R00 | C9: Ruční výkop jam, rýh a šachet v hornině tř. 3 | D9: m3 | E9: 5.6 | F9: 0 | G9: =ROUND(E9*F9,2) -> 0 | H9: 0 | I9: =ROUND(E9*H9,2) -> 0 | J9: 1527 | K9: =ROUND(E9*J9,2) -> 8551.2 | L9: 21 | M9: =G9*(1+L9/100) -> 0 | N9: 0 | O9: =ROUND(E9*N9,2) -> 0 | P9: 0 | Q9: =ROUND(E9*P9,2) -> 0 | S9: Vlastní | T9: Indiv | U9: 3.533 | V9: =ROUND(E9*U9,2) -> 19.78 | X9: Práce | Y9: Běžná | AG9: POL1_0
C10: 7*0,8*1 | E10: 5.6 | AG10: VV | AH10: 0
A11: 2 | B11: 161101101R00 | C11: Svislé přemístění výkopku z hor.1-4 do 2,5 m | D11: m3 | E11: 5.6 | F11: 0 | G11: =ROUND(E11*F11,2) -> 0 | H11: 0 | I11: =ROUND(E11*H11,2) -> 0 | J11: 153.5 | K11: =ROUND(E11*J11,2) -> 859.6 | L11: 21 | M11: =G11*(1+L11/100) -> 0 | N11: 0 | O11: =ROUND(E11*N11,2) -> 0 | P11: 0 | Q11: =ROUND(E11*P11,2) -> 0 | S11: Vlastní | T11: Indiv | U11: 0.345 | V11: =ROUND(E11*U11,2) -> 1.93 | X11: Práce | Y11: Běžná | AG11: POL1_0
A12: 3 | B12: 162701105R00 | C12: Vodorovné přemístění výkopku z hor.1-4 do 10000 m | D12: m3 | E12: 3.5 | F12: 0 | G12: =ROUND(E12*F12,2) -> 0 | H12: 0 | I12: =ROUND(E12*H12,2) -> 0 | J12: 296 | K12: =ROUND(E12*J12,2) -> 1036 | L12: 21 | M12: =G12*(1+L12/100) -> 0 | N12: 0 | O12: =ROUND(E12*N12,2) -> 0 | P12: 0 | Q12: =ROUND(E12*P12,2) -> 0 | S12: Vlastní | T12: Indiv | U12: 0.011 | V12: =ROUND(E12*U12,2) -> 0.04 | X12: Práce | Y12: Běžná | AG12: POL1_0
C13: 7*0,5*1 | E13: 3.5 | AG13: VV | AH13: 0
A14: 4 | B14: 171201201R00 | C14: Uložení sypaniny na skl.-sypanina na výšku přes 2m | D14: m3 | E14: 3.5 | F14: 0 | G14: =ROUND(E14*F14,2) -> 0 | H14: 0 | I14: =ROUND(E14*H14,2) -> 0 | J14: 18.8 | K14: =ROUND(E14*J14,2) -> 65.8 | L14: 21 | M14: =G14*(1+L14/100) -> 0 | N14: 0 | O14: =ROUND(E14*N14,2) -> 0 | P14: 0 | Q14: =ROUND(E14*P14,2) -> 0 | S14: Vlastní | T14: Indiv | U14: 0.009 | V14: =ROUND(E14*U14,2) -> 0.03 | X14: Práce | Y14: Běžná | AG14: POL1_0
A15: 5 | B15: 199000002R00 | C15: Poplatek za skládku horniny 1- 4 | D15: m3 | E15: 3.5 | F15: 0 | G15: =ROUND(E15*F15,2) -> 0 | H15: 0 | I15: =ROUND(E15*H15,2) -> 0 | J15: 513 | K15: =ROUND(E15*J15,2) -> 1795.5 | L15: 21 | M15: =G15*(1+L15/100) -> 0 | N15: 0 | O15: =ROUND(E15*N15,2) -> 0 | P15: 0 | Q15: =ROUND(E15*P15,2) -> 0 | S15: Vlastní | T15: Indiv | U15: 0 | V15: =ROUND(E15*U15,2) -> 0 | X15: Práce | Y15: Běžná | AG15: POL1_0
A16: 6 | B16: 174101101R00 | C16: Zásyp jam, rýh, šachet se zhutněním | D16: m3 | E16: 2.1 | F16: 0 | G16: =ROUND(E16*F16,2) -> 0 | H16: 0 | I16: =ROUND(E16*H16,2) -> 0 | J16: 145.5 | K16: =ROUND(E16*J16,2) -> 305.55 | L16: 21 | M16: =G16*(1+L16/100) -> 0 | N16: 0 | O16: =ROUND(E16*N16,2) -> 0 | P16: 0 | Q16: =ROUND(E16*P16,2) -> 0 | S16: Vlastní | T16: Indiv | U16: 0.202 | V16: =ROUND(E16*U16,2) -> 0.42 | X16: Práce | Y16: Běžná | AG16: POL1_0
A17: 7 | B17: 175101101RT2 | C17: Obsyp potrubí bez prohození sypaniny, s dodáním štěrkopísku frakce 0 - 22 mm | D17: m3 | E17: 3.5 | F17: 0 | G17: =ROUND(E17*F17,2) -> 0 | H17: 757.11 | I17: =ROUND(E17*H17,2) -> 2649.89 | J17: 705.89 | K17: =ROUND(E17*J17,2) -> 2470.62 | L17: 21 | M17: =G17*(1+L17/100) -> 0 | N17: 1.7 | O17: =ROUND(E17*N17,2) -> 5.95 | P17: 0 | Q17: =ROUND(E17*P17,2) -> 0 | S17: Vlastní | T17: Indiv | U17: 1.587 | V17: =ROUND(E17*U17,2) -> 5.55 | X17: Práce | Y17: Běžná | AG17: POL1_0
A18: Díl: | B18: 97 | C18: Prorážení otvorů | G18: =SUMIF(AG19:AG20,"<>NOR",G19:G20) -> 0 | I18: =SUM(I19:I20) -> 898.03 | K18: =SUM(K19:K20) -> 4566.97 | M18: =SUM(M19:M20) -> 0 | O18: =SUM(O19:O20) -> 0 | Q18: =SUM(Q19:Q20) -> 0.5 | V18: =SUM(V19:V20) -> 9.61 | AG18: DIL
A19: 8 | B19: 973100030RA0 | C19: Vysekání kapes ve zdivu z cihel, 50 x 50 x 30 cm | D19: kus | E19: 5 | F19: 0 | G19: =ROUND(E19*F19,2) -> 0 | H19: 26.47 | I19: =ROUND(E19*H19,2) -> 132.35 | J19: 631.53 | K19: =ROUND(E19*J19,2) -> 3157.65 | L19: 21 | M19: =G19*(1+L19/100) -> 0 | N19: 0.00091 | O19: =ROUND(E19*N19,2) -> 0 | P19: 0.097 | Q19: =ROUND(E19*P19,2) -> 0.49 | S19: Vlastní | T19: Indiv | U19: 1.45214 | V19: =ROUND(E19*U19,2) -> 7.26 | X19: Agregovaná položka | Y19: Běžná | AG19: POL2_0
A20: 9 | B20: 970031060R00 | C20: Vrtání jádrové do zdiva cihelného do D 60 mm | D20: m | E20: 1 | F20: 0 | G20: =ROUND(E20*F20,2) -> 0 | H20: 765.68 | I20: =ROUND(E20*H20,2) -> 765.68 | J20: 1409.32 | K20: =ROUND(E20*J20,2) -> 1409.32 | L20: 21 | M20: =G20*(1+L20/100) -> 0 | N20: 0 | O20: =ROUND(E20*N20,2) -> 0 | P20: 0.00509 | Q20: =ROUND(E20*P20,2) -> 0.01 | S20: Vlastní | T20: Indiv | U20: 2.35 | V20: =ROUND(E20*U20,2) -> 2.35 | X20: Práce | Y20: Běžná | AG20: POL1_0
A21: Díl: | B21: 723 | C21: Vnitřní plynovod | G21: =SUMIF(AG22:AG34,"<>NOR",G22:G34) -> 0 | I21: =SUM(I22:I34) -> 6710.64 | K21: =SUM(K22:K34) -> 8889.96 | M21: =SUM(M22:M34) -> 0 | O21: =SUM(O22:O34) -> 0.23 | Q21: =SUM(Q22:Q34) -> 0.02 | V21: =SUM(V22:V34) -> 11.74 | AG21: DIL
A22: 10 | B22: 723120804R00 | C22: Demontáž potrubí svařovaného závitového do DN 25 mm | D22: m | E22: 10 | F22: 0 | G22: =ROUND(E22*F22,2) -> 0 | H22: 49.56 | I22: =ROUND(E22*H22,2) -> 495.6 | J22: 13.34 | K22: =ROUND(E22*J22,2) -> 133.4 | L22: 21 | M22: =G22*(1+L22/100) -> 0 | N22: 0.00011 | O22: =ROUND(E22*N22,2) -> 0 | P22: 0.00215 | Q22: =ROUND(E22*P22,2) -> 0.02 | S22: Vlastní | T22: Indiv | U22: 0.03 | V22: =ROUND(E22*U22,2) -> 0.3 | X22: Práce | Y22: Běžná | AG22: POL1_0
A23: 11 | B23: 723120204R00 | C23: Potrubí ocelové závitové černé svařované DN 25 | D23: m | E23: 5 | F23: 0 | G23: =ROUND(E23*F23,2) -> 0 | H23: 277.72 | I23: =ROUND(E23*H23,2) -> 1388.6 | J23: 379.28 | K23: =ROUND(E23*J23,2) -> 1896.4 | L23: 21 | M23: =G23*(1+L23/100) -> 0 | N23: 0.01249 | O23: =ROUND(E23*N23,2) -> 0.06 | P23: 0 | Q23: =ROUND(E23*P23,2) -> 0 | S23: Vlastní | T23: Indiv | U23: 0.704 | V23: =ROUND(E23*U23,2) -> 3.52 | X23: Práce | Y23: Běžná | AG23: POL1_0
A24: 12 | B24: 723190252R00 | C24: Vyvedení a upevnění plynovodních výpustek DN 20 | D24: kus | E24: 1 | F24: 0 | G24: =ROUND(E24*F24,2) -> 0 | H24: 153.86 | I24: =ROUND(E24*H24,2) -> 153.86 | J24: 261.14 | K24: =ROUND(E24*J24,2) -> 261.14 | L24: 21 | M24: =G24*(1+L24/100) -> 0 | N24: 0.00104 | O24: =ROUND(E24*N24,2) -> 0 | P24: 0 | Q24: =ROUND(E24*P24,2) -> 0 | S24: Vlastní | T24: Indiv | U24: 0.424 | V24: =ROUND(E24*U24,2) -> 0.42 | X24: Práce | Y24: Běžná | AG24: POL1_0
A25: 13 | B25: 286136352R | C25: Trubka plynová GASLINE RC SDR11 32 x 3,0 mm | D25: m | E25: 10 | F25: 0 | G25: =ROUND(E25*F25,2) -> 0 | H25: 83.6 | I25: =ROUND(E25*H25,2) -> 836 | J25: 0 | K25: =ROUND(E25*J25,2) -> 0 | L25: 21 | M25: =G25*(1+L25/100) -> 0 | N25: 0.00048 | O25: =ROUND(E25*N25,2) -> 0 | P25: 0 | Q25: =ROUND(E25*P25,2) -> 0 | S25: Vlastní | T25: Indiv | U25: 0 | V25: =ROUND(E25*U25,2) -> 0 | X25: Specifikace | Y25: Běžná | AG25: POL3_0
A26: 14 | B26: 28314146.AR | C26: Fólie výstražná žlutá "POZOR PLYN", š. 300 mm | D26: m | E26: 10 | F26: 0 | G26: =ROUND(E26*F26,2) -> 0 | H26: 6.3 | I26: =ROUND(E26*H26,2) -> 63 | J26: 0 | K26: =ROUND(E26*J26,2) -> 0 | L26: 21 | M26: =G26*(1+L26/100) -> 0 | N26: 0 | O26: =ROUND(E26*N26,2) -> 0 | P26: 0 | Q26: =ROUND(E26*P26,2) -> 0 | S26: Vlastní | T26: Indiv | U26: 0 | V26: =ROUND(E26*U26,2) -> 0 | X26: Specifikace | Y26: Běžná | AG26: POL3_0
A27: 15 | B27: 34141301R | C27: Vodič silový pevné uložení CYY 2,5 mm2 | D27: m | E27: 10 | F27: 0 | G27: =ROUND(E27*F27,2) -> 0 | H27: 8.7 | I27: =ROUND(E27*H27,2) -> 87 | J27: 0 | K27: =ROUND(E27*J27,2) -> 0 | L27: 21 | M27: =G27*(1+L27/100) -> 0 | N27: 4e-05 | O27: =ROUND(E27*N27,2) -> 0 | P27: 0 | Q27: =ROUND(E27*P27,2) -> 0 | S27: Vlastní | T27: Indiv | U27: 0 | V27: =ROUND(E27*U27,2) -> 0 | X27: Specifikace | Y27: Běžná | AG27: POL3_0
A28: 16 | B28: 551310051R | C28: Kohout kulový plyn G3/4" | D28: kus | E28: 1 | F28: 0 | G28: =ROUND(E28*F28,2) -> 0 | H28: 568 | I28: =ROUND(E28*H28,2) -> 568 | J28: 0 | K28: =ROUND(E28*J28,2) -> 0 | L28: 21 | M28: =G28*(1+L28/100) -> 0 | N28: 0.00037 | O28: =ROUND(E28*N28,2) -> 0 | P28: 0 | Q28: =ROUND(E28*P28,2) -> 0 | S28: Vlastní | T28: Indiv | U28: 0 | V28: =ROUND(E28*U28,2) -> 0 | X28: Specifikace | Y28: Běžná | AG28: POL3_0
A29: 17 | B29: 723239102R00 | C29: Montáž plynovodních armatur, 2 závity, G 3/4 | D29: kus | E29: 1 | F29: 0 | G29: =ROUND(E29*F29,2) -> 0 | H29: 5.73 | I29: =ROUND(E29*H29,2) -> 5.73 | J29: 127.27 | K29: =ROUND(E29*J29,2) -> 127.27 | L29: 21 | M29: =G29*(1+L29/100) -> 0 | N29: 3e-05 | O29: =ROUND(E29*N29,2) -> 0 | P29: 0 | Q29: =ROUND(E29*P29,2) -> 0 | S29: Vlastní | T29: Indiv | U29: 0.206 | V29: =ROUND(E29*U29,2) -> 0.21 | X29: Práce | Y29: Běžná | AG29: POL1_0
A30: 18 | B30: 723190909R00 | C30: Zkouška tlaková plynového potrubí | D30: kus | E30: 2 | F30: 0 | G30: =ROUND(E30*F30,2) -> 0 | H30: 0 | I30: =ROUND(E30*H30,2) -> 0 | J30: 297 | K30: =ROUND(E30*J30,2) -> 594 | L30: 21 | M30: =G30*(1+L30/100) -> 0 | N30: 0 | O30: =ROUND(E30*N30,2) -> 0 | P30: 0 | Q30: =ROUND(E30*P30,2) -> 0 | S30: Vlastní | T30: Indiv | U30: 0.482 | V30: =ROUND(E30*U30,2) -> 0.96 | X30: Práce | Y30: Běžná | AG30: POL1_0
A31: 19 | B31: 723190907R00 | C31: Odvzdušnění a napuštění plynového potrubí | D31: m | E31: 15 | F31: 0 | G31: =ROUND(E31*F31,2) -> 0 | H31: 0 | I31: =ROUND(E31*H31,2) -> 0 | J31: 35 | K31: =ROUND(E31*J31,2) -> 525 | L31: 21 | M31: =G31*(1+L31/100) -> 0 | N31: 0 | O31: =ROUND(E31*N31,2) -> 0 | P31: 0 | Q31: =ROUND(E31*P31,2) -> 0 | S31: Vlastní | T31: Indiv | U31: 0.062 | V31: =ROUND(E31*U31,2) -> 0.93 | X31: Práce | Y31: Běžná | AG31: POL1_0
A32: 20 | B32: 723-PC | C32: Ochranná trubka D63 na potrubí DN25+mont. | D32: m | E32: 5 | F32: 0 | G32: =ROUND(E32*F32,2) -> 0 | H32: 622.57 | I32: =ROUND(E32*H32,2) -> 3112.85 | J32: 27.43 | K32: =ROUND(E32*J32,2) -> 137.15 | L32: 21 | M32: =G32*(1+L32/100) -> 0 | N32: 0.02825 | O32: =ROUND(E32*N32,2) -> 0.14 | P32: 0 | Q32: =ROUND(E32*P32,2) -> 0 | S32: Vlastní | T32: Indiv | U32: 0.9 | V32: =ROUND(E32*U32,2) -> 4.5 | X32: Práce | Y32: Běžná | AG32: POL1_0
A33: 21 | B33: 723-PC | C33: Revizní zpráva | D33: soubor | E33: 1 | F33: 0 | G33: =ROUND(E33*F33,2) -> 0 | H33: 0 | I33: =ROUND(E33*H33,2) -> 0 | J33: 5000 | K33: =ROUND(E33*J33,2) -> 5000 | L33: 21 | M33: =G33*(1+L33/100) -> 0 | N33: 0.02825 | O33: =ROUND(E33*N33,2) -> 0.03 | P33: 0 | Q33: =ROUND(E33*P33,2) -> 0 | S33: Vlastní | T33: Indiv | U33: 0.9 | V33: =ROUND(E33*U33,2) -> 0.9 | X33: R-položka | Y33: Běžná | AG33: POL12_1
A34: 22 | B34: 998723201R00 | C34: Přesun hmot pro vnitřní plynovod, výšky do 6 m | D34: % | E34: 154 | F34: 0 | G34: =ROUND(E34*F34,2) -> 0 | H34: 0 | I34: =ROUND(E34*H34,2) -> 0 | J34: 1.4 | K34: =ROUND(E34*J34,2) -> 215.6 | L34: 21 | M34: =G34*(1+L34/100) -> 0 | N34: 0 | O34: =ROUND(E34*N34,2) -> 0 | P34: 0 | Q34: =ROUND(E34*P34,2) -> 0 | S34: Vlastní | T34: Indiv | U34: 0 | V34: =ROUND(E34*U34,2) -> 0 | X34: Práce | Y34: Běžná | AG34: POL1_0
A35: Díl: | B35: 783 | C35: Nátěry | G35: =SUMIF(AG36:AG36,"<>NOR",G36:G36) -> 0 | I35: =SUM(I36:I36) -> 69.9 | K35: =SUM(K36:K36) -> 251.1 | M35: =SUM(M36:M36) -> 0 | O35: =SUM(O36:O36) -> 0 | Q35: =SUM(Q36:Q36) -> 0 | V35: =SUM(V36:V36) -> 0.45 | AG35: DIL
A36: 23 | B36: 783424240R00 | C36: Nátěr syntet. potrubí do DN 50 mm Z+1x +1x email | D36: m | E36: 5 | F36: 0 | G36: =ROUND(E36*F36,2) -> 0 | H36: 13.98 | I36: =ROUND(E36*H36,2) -> 69.9 | J36: 50.22 | K36: =ROUND(E36*J36,2) -> 251.1 | L36: 21 | M36: =G36*(1+L36/100) -> 0 | N36: 7e-05 | O36: =ROUND(E36*N36,2) -> 0 | P36: 0 | Q36: =ROUND(E36*P36,2) -> 0 | S36: Vlastní | T36: Indiv | U36: 0.089 | V36: =ROUND(E36*U36,2) -> 0.45 | X36: Práce | Y36: Běžná | AG36: POL1_0
A37: Díl: | B37: VN | C37: Vedlejší náklady | G37: =SUMIF(AG38:AG39,"<>NOR",G38:G39) -> 0 | I37: =SUM(I38:I39) -> 0 | K37: =SUM(K38:K39) -> 10000 | M37: =SUM(M38:M39) -> 0 | O37: =SUM(O38:O39) -> 0 | Q37: =SUM(Q38:Q39) -> 0 | V37: =SUM(V38:V39) -> 0 | AG37: DIL
A38: 24 | B38: 005241020R | C38: Geodetické zaměření skutečného provedení | D38: Soubor | E38: 1 | F38: 0 | G38: =ROUND(E38*F38,2) -> 0 | H38: 0 | I38: =ROUND(E38*H38,2) -> 0 | J38: 5000 | K38: =ROUND(E38*J38,2) -> 5000 | L38: 21 | M38: =G38*(1+L38/100) -> 0 | N38: 0 | O38: =ROUND(E38*N38,2) -> 0 | P38: 0 | Q38: =ROUND(E38*P38,2) -> 0 | S38: Vlastní | T38: Indiv | U38: 0 | V38: =ROUND(E38*U38,2) -> 0 | X38: Práce | Y38: Běžná | AG38: POL1_0
A39: 25 | B39: 005241010R | C39: Dokumentace skutečného provedení | D39: Soubor | E39: 1 | F39: 0 | G39: =ROUND(E39*F39,2) -> 0 | H39: 0 | I39: =ROUND(E39*H39,2) -> 0 | J39: 5000 | K39: =ROUND(E39*J39,2) -> 5000 | L39: 21 | M39: =G39*(1+L39/100) -> 0 | N39: 0 | O39: =ROUND(E39*N39,2) -> 0 | P39: 0 | Q39: =ROUND(E39*P39,2) -> 0 | S39: Vlastní | T39: Indiv | U39: 0 | V39: =ROUND(E39*U39,2) -> 0 | X39: Práce | Y39: Běžná | AG39: POL1_0
AE40: 12 | AF40: 21 | AG40: DPH
B41: Celkem | G41: =G8+G18+G21+G35+G37 -> 0 | AE41: =SUMIF(L7:L39,AE40,G7:G39) -> 0 | AF41: =SUMIF(L7:L39,AF40,G7:G39) -> 0 | AG41: SUM
AG42: END

Sheet S01 4) UT Pol
A1: Položkový soupis prací a dodávek | AG1: #TypZaznamu#
A2: S: | B2: 01 | C2: REKONSTRUKCE VOLNOČASOVÉHO CENTRA V UNÍNĚ - 2.etapa | M2: 0 | N2: 1. etapa | O2: NENACEŇOVAT | AG2: STA
A3: O: | B3: S01 | C3: VOLNOČASOVÉ CENTRUM | M3: 0 | N3: 3. etapa | O3: NENACEŇOVAT | AC3: STA | AG3: OBJ
A4: R: | B4: 4) UT | C4: Vytápění stavby | AG4: ROZ
A6: P.č. | B6: Číslo položky | C6: Název položky | D6: MJ | E6: Množství | F6: Cena / MJ | G6: Celkem | H6: Dodávka | I6: Dodávka celk. | J6: Montáž | K6: Montáž celk. | L6: DPH | M6: Cena s DPH | N6: Hmotnost / MJ | O6: Hmotnost celk.(t) | P6: Dem. hmotnost / MJ | Q6: Dem. hmotnost celk.(t) | R6: Ceník | S6: Cen. soustava / platnost | T6: Cenová úroveň | U6: Nhod / MJ | V6: Nhod celk. | W6: Dodavatel | X6: Typ položky | Y6: Stav položky
A8: Díl: | B8: 713 | C8: Izolace tepelné | G8: =SUMIF(AG9:AG18,"<>NOR",G9:G18) -> 0 | I8: =SUM(I9:I18) -> 3910.1 | K8: =SUM(K9:K18) -> 9383.64 | M8: =SUM(M9:M18) -> 0 | O8: =SUM(O9:O18) -> 2.35 | Q8: =SUM(Q9:Q18) -> 0 | V8: =SUM(V9:V18) -> 0 | AG8: DIL
A9: 1 | B9: 713411111 | C9: Montáž izolace tepelné potrubí pásy nebo rohožemi bez úpravy staženými drátem 1x | D9: m2 | E9: 60 | F9: 0 | G9: =ROUND(E9*F9,2) -> 0 | H9: 0 | I9: =ROUND(E9*H9,2) -> 0 | J9: 155 | K9: =ROUND(E9*J9,2) -> 9300 | L9: 21 | M9: =G9*(1+L9/100) -> 0 | N9: 0.006 | O9: =ROUND(E9*N9,2) -> 0.36 | P9: 0 | Q9: =ROUND(E9*P9,2) -> 0 | S9: Vlastní | T9: Indiv | U9: 0 | V9: =ROUND(E9*U9,2) -> 0 | X9: Práce | Y9: Běžná | AG9: POL1_7
A10: 2 | B10: Plánovaná cena | C10: Návleková izolace NI d 15 tl. 10 mm | D10: m | E10: 120 | F10: 0 | G10: =ROUND(E10*F10,2) -> 0 | H10: 12.5 | I10: =ROUND(E10*H10,2) -> 1500 | J10: 0 | K10: =ROUND(E10*J10,2) -> 0 | L10: 21 | M10: =G10*(1+L10/100) -> 0 | N10: 0.012 | O10: =ROUND(E10*N10,2) -> 1.44 | P10: 0 | Q10: =ROUND(E10*P10,2) -> 0 | S10: Vlastní | T10: Indiv | U10: 0 | V10: =ROUND(E10*U10,2) -> 0 | X10: Specifikace | Y10: Běžná | AG10: POL3_0
A11: 3 | B11: Plánovaná cena | C11: Návleková izolace NI d 18 tl. 10 mm | D11: m | E11: 13 | F11: 0 | G11: =ROUND(E11*F11,2) -> 0 | H11: 13.8 | I11: =ROUND(E11*H11,2) -> 179.4 | J11: 0 | K11: =ROUND(E11*J11,2) -> 0 | L11: 21 | M11: =G11*(1+L11/100) -> 0 | N11: 0.00195 | O11: =ROUND(E11*N11,2) -> 0.03 | P11: 0 | Q11: =ROUND(E11*P11,2) -> 0 | S11: Vlastní | T11: Indiv | U11: 0 | V11: =ROUND(E11*U11,2) -> 0 | X11: R-položka | Y11: Běžná | AG11: POL12_0
A12: 4 | B12: Plánovaná cena | C12: Návleková izolace NI d 22 tl. 10 mm | D12: m | E12: 39 | F12: 0 | G12: =ROUND(E12*F12,2) -> 0 | H12: 16.3 | I12: =ROUND(E12*H12,2) -> 635.7 | J12: 0 | K12: =ROUND(E12*J12,2) -> 0 | L12: 21 | M12: =G12*(1+L12/100) -> 0 | N12: 0.00975 | O12: =ROUND(E12*N12,2) -> 0.38 | P12: 0 | Q12: =ROUND(E12*P12,2) -> 0 | S12: Vlastní | T12: Indiv | U12: 0 | V12: =ROUND(E12*U12,2) -> 0 | X12: R-položka | Y12: Běžná | AG12: POL12_0
A13: 5 | B13: Plánovaná cena | C13: Návleková izolace NI d 28 tl. 15 mm | D13: m | E13: 17 | F13: 0 | G13: =ROUND(E13*F13,2) -> 0 | H13: 29 | I13: =ROUND(E13*H13,2) -> 493 | J13: 0 | K13: =ROUND(E13*J13,2) -> 0 | L13: 21 | M13: =G13*(1+L13/100) -> 0 | N13: 0.00765 | O13: =ROUND(E13*N13,2) -> 0.13 | P13: 0 | Q13: =ROUND(E13*P13,2) -> 0 | S13: Vlastní | T13: Indiv | U13: 0 | V13: =ROUND(E13*U13,2) -> 0 | X13: R-položka | Y13: Běžná | AG13: POL12_0
A14: 6 | B14: Plánovaná cena | C14: NI chloroprénové lepidlo 400 ml | D14: BAL | E14: 2 | F14: 0 | G14: =ROUND(E14*F14,2) -> 0 | H14: 73 | I14: =ROUND(E14*H14,2) -> 146 | J14: 0 | K14: =ROUND(E14*J14,2) -> 0 | L14: 21 | M14: =G14*(1+L14/100) -> 0 | N14: 0.0008 | O14: =ROUND(E14*N14,2) -> 0 | P14: 0 | Q14: =ROUND(E14*P14,2) -> 0 | S14: Vlastní | T14: Indiv | U14: 0 | V14: =ROUND(E14*U14,2) -> 0 | X14: R-položka | Y14: Běžná | AG14: POL12_0
A15: 7 | B15: 63154530 | C15: pouzdro izolační potrubní z minerální vlny s Al fólií max. 250/100°C 22/30mm | D15: m | E15: 1 | F15: 0 | G15: =ROUND(E15*F15,2) -> 0 | H15: 126 | I15: =ROUND(E15*H15,2) -> 126 | J15: 0 | K15: =ROUND(E15*J15,2) -> 0 | L15: 21 | M15: =G15*(1+L15/100) -> 0 | N15: 0.00027 | O15: =ROUND(E15*N15,2) -> 0 | P15: 0 | Q15: =ROUND(E15*P15,2) -> 0 | S15: Vlastní | T15: Indiv | U15: 0 | V15: =ROUND(E15*U15,2) -> 0 | X15: Specifikace | Y15: Běžná | AG15: POL3_0
A16: 8 | B16: 63154571 | C16: pouzdro izolační potrubní s jednostrannou Al fólií max. 250/100 °C 28/40 mm | D16: m | E16: 5 | F16: 0 | G16: =ROUND(E16*F16,2) -> 0 | H16: 166 | I16: =ROUND(E16*H16,2) -> 830 | J16: 0 | K16: =ROUND(E16*J16,2) -> 0 | L16: 21 | M16: =G16*(1+L16/100) -> 0 | N16: 0.00295 | O16: =ROUND(E16*N16,2) -> 0.01 | P16: 0 | Q16: =ROUND(E16*P16,2) -> 0 | S16: Vlastní | T16: Indiv | U16: 0 | V16: =ROUND(E16*U16,2) -> 0 | X16: Specifikace | Y16: Běžná | AG16: POL3_0
A17: 9 | B17: 998713101 | C17: Přesun hmot tonážní pro izolace tepelné v objektech v do 6 m | D17: t | E17: 0.041 | F17: 0 | G17: =ROUND(E17*F17,2) -> 0 | H17: 0 | I17: =ROUND(E17*H17,2) -> 0 | J17: 1520 | K17: =ROUND(E17*J17,2) -> 62.32 | L17: 21 | M17: =G17*(1+L17/100) -> 0 | N17: 0 | O17: =ROUND(E17*N17,2) -> 0 | P17: 0 | Q17: =ROUND(E17*P17,2) -> 0 | S17: Vlastní | T17: Indiv | U17: 0 | V17: =ROUND(E17*U17,2) -> 0 | X17: Práce | Y17: Běžná | AG17: POL1_7
A18: 10 | B18: 998713193 | C18: Příplatek k přesunu hmot tonážní 713 za zvětšený přesun do 500 m | D18: t | E18: 0.041 | F18: 0 | G18: =ROUND(E18*F18,2) -> 0 | H18: 0 | I18: =ROUND(E18*H18,2) -> 0 | J18: 520 | K18: =ROUND(E18*J18,2) -> 21.32 | L18: 21 | M18: =G18*(1+L18/100) -> 0 | N18: 0 | O18: =ROUND(E18*N18,2) -> 0 | P18: 0 | Q18: =ROUND(E18*P18,2) -> 0 | S18: Vlastní | T18: Indiv | U18: 0 | V18: =ROUND(E18*U18,2) -> 0 | X18: Práce | Y18: Běžná | AG18: POL1_7
A19: Díl: | B19: 731 | C19: Ústřední vytápění - kotelny | G19: =SUMIF(AG20:AG26,"<>NOR",G20:G26) -> 0 | I19: =SUM(I20:I26) -> 63000 | K19: =SUM(K20:K26) -> 15870.8 | M19: =SUM(M20:M26) -> 0 | O19: =SUM(O20:O26) -> 0.06 | Q19: =SUM(Q20:Q26) -> 0 | V19: =SUM(V20:V26) -> 0 | AG19: DIL
A20: 11 | B20: 731244492 | C20: Montáž kotle ocelového závěsného na plyn kondenzačního o výkonu přes 14 do 20 kW | D20: soubor | E20: 1 | F20: 0 | G20: =ROUND(E20*F20,2) -> 0 | H20: 0 | I20: =ROUND(E20*H20,2) -> 0 | J20: 5210 | K20: =ROUND(E20*J20,2) -> 5210 | L20: 21 | M20: =G20*(1+L20/100) -> 0 | N20: 0.00252 | O20: =ROUND(E20*N20,2) -> 0 | P20: 0 | Q20: =ROUND(E20*P20,2) -> 0 | S20: Vlastní | T20: Indiv | U20: 0 | V20: =ROUND(E20*U20,2) -> 0 | X20: Práce | Y20: Běžná | AG20: POL1_7
A21: 12 | B21: Plánovaná cena | C21: Kondenzační plynový kotel závěsný, VÝKON 3,5-18,2 kW při spádu 80/60 °C, vč. sady pro ohřev TV,, čidla venkovní teploty a prostor. přístroje | D21: ks | E21: 1 | F21: 0 | G21: =ROUND(E21*F21,2) -> 0 | H21: 63000 | I21: =ROUND(E21*H21,2) -> 63000 | J21: 0 | K21: =ROUND(E21*J21,2) -> 0 | L21: 21 | M21: =G21*(1+L21/100) -> 0 | N21: 0.055 | O21: =ROUND(E21*N21,2) -> 0.06 | P21: 0 | Q21: =ROUND(E21*P21,2) -> 0 | S21: Vlastní | T21: Indiv | U21: 0 | V21: =ROUND(E21*U21,2) -> 0 | X21: R-položka | Y21: Běžná | AG21: POL12_0
A22: 13 | B22: 731810332 | C22: Nucený odtah spalin soustředným potrubím pro kondenzační kotel svislý 80/125 mm přes šikmou střechu | D22: soubor | E22: 1 | F22: 0 | G22: =ROUND(E22*F22,2) -> 0 | H22: 0 | I22: =ROUND(E22*H22,2) -> 0 | J22: 4950 | K22: =ROUND(E22*J22,2) -> 4950 | L22: 21 | M22: =G22*(1+L22/100) -> 0 | N22: 0.00152 | O22: =ROUND(E22*N22,2) -> 0 | P22: 0 | Q22: =ROUND(E22*P22,2) -> 0 | S22: Vlastní | T22: Indiv | U22: 0 | V22: =ROUND(E22*U22,2) -> 0 | X22: Práce | Y22: Běžná | AG22: POL1_7
A23: 14 | B23: 731810342 | C23: Prodloužení soustředného potrubí pro kondenzační kotel průměru 80/125 mm | D23: m | E23: 3 | F23: 0 | G23: =ROUND(E23*F23,2) -> 0 | H23: 0 | I23: =ROUND(E23*H23,2) -> 0 | J23: 1260 | K23: =ROUND(E23*J23,2) -> 3780 | L23: 21 | M23: =G23*(1+L23/100) -> 0 | N23: 0.00132 | O23: =ROUND(E23*N23,2) -> 0 | P23: 0 | Q23: =ROUND(E23*P23,2) -> 0 | S23: Vlastní | T23: Indiv | U23: 0 | V23: =ROUND(E23*U23,2) -> 0 | X23: Práce | Y23: Běžná | AG23: POL1_7
A24: 15 | B24: Plánovaná cena | C24: Uvedení kotle do provozu | D24: hod | E24: 3 | F24: 0 | G24: =ROUND(E24*F24,2) -> 0 | H24: 0 | I24: =ROUND(E24*H24,2) -> 0 | J24: 550 | K24: =ROUND(E24*J24,2) -> 1650 | L24: 21 | M24: =G24*(1+L24/100) -> 0 | N24: 0 | O24: =ROUND(E24*N24,2) -> 0 | P24: 0 | Q24: =ROUND(E24*P24,2) -> 0 | S24: Vlastní | T24: Indiv | U24: 0 | V24: =ROUND(E24*U24,2) -> 0 | X24: Práce | Y24: Běžná | AG24: POL1_7
A25: 16 | B25: 998731101 | C25: Přesun hmot tonážní pro kotelny v objektech v do 6 m | D25: t | E25: 0.06 | F25: 0 | G25: =ROUND(E25*F25,2) -> 0 | H25: 0 | I25: =ROUND(E25*H25,2) -> 0 | J25: 2930 | K25: =ROUND(E25*J25,2) -> 175.8 | L25: 21 | M25: =G25*(1+L25/100) -> 0 | N25: 0 | O25: =ROUND(E25*N25,2) -> 0 | P25: 0 | Q25: =ROUND(E25*P25,2) -> 0 | S25: Vlastní | T25: Indiv | U25: 0 | V25: =ROUND(E25*U25,2) -> 0 | X25: Práce | Y25: Běžná | AG25: POL1_7
A26: 17 | B26: 998731193 | C26: Příplatek k přesunu hmot tonážní 731 za zvětšený přesun do 500 m | D26: t | E26: 0.06 | F26: 0 | G26: =ROUND(E26*F26,2) -> 0 | H26: 0 | I26: =ROUND(E26*H26,2) -> 0 | J26: 1750 | K26: =ROUND(E26*J26,2) -> 105 | L26: 21 | M26: =G26*(1+L26/100) -> 0 | N26: 0 | O26: =ROUND(E26*N26,2) -> 0 | P26: 0 | Q26: =ROUND(E26*P26,2) -> 0 | S26: Vlastní | T26: Indiv | U26: 0 | V26: =ROUND(E26*U26,2) -> 0 | X26: Práce | Y26: Běžná | AG26: POL1_7
A27: Díl: | B27: 732 | C27: Ústřední vytápění - strojovny | G27: =SUMIF(AG28:AG32,"<>NOR",G28:G32) -> 0 | I27: =SUM(I28:I32) -> 26400 | K27: =SUM(K28:K32) -> 5837.76 | M27: =SUM(M28:M32) -> 0 | O27: =SUM(O28:O32) -> 0.09 | Q27: =SUM(Q28:Q32) -> 0 | V27: =SUM(V28:V32) -> 0 | AG27: DIL
A28: 18 | B28: 732219301 | C28: Montáž ohříváku vody stojatého kombinovaného do 200 litrů | D28: soubor | E28: 1 | F28: 0 | G28: =ROUND(E28*F28,2) -> 0 | H28: 0 | I28: =ROUND(E28*H28,2) -> 0 | J28: 2010 | K28: =ROUND(E28*J28,2) -> 2010 | L28: 21 | M28: =G28*(1+L28/100) -> 0 | N28: 0.00124 | O28: =ROUND(E28*N28,2) -> 0 | P28: 0 | Q28: =ROUND(E28*P28,2) -> 0 | S28: Vlastní | T28: Indiv | U28: 0 | V28: =ROUND(E28*U28,2) -> 0 | X28: Práce | Y28: Běžná | AG28: POL1_7
A29: 19 | B29: Plánovaná cena | C29: Zásobníkový ohřívač stacionární svislý, smalt 1 výměník, objem 200 l | D29: ks | E29: 1 | F29: 0 | G29: =ROUND(E29*F29,2) -> 0 | H29: 26400 | I29: =ROUND(E29*H29,2) -> 26400 | J29: 0 | K29: =ROUND(E29*J29,2) -> 0 | L29: 21 | M29: =G29*(1+L29/100) -> 0 | N29: 0.09 | O29: =ROUND(E29*N29,2) -> 0.09 | P29: 0 | Q29: =ROUND(E29*P29,2) -> 0 | S29: Vlastní | T29: Indiv | U29: 0 | V29: =ROUND(E29*U29,2) -> 0 | X29: R-položka | Y29: Běžná | AG29: POL12_0
A30: 20 | B30: 732331613 | C30: Nádoba tlaková expanzní pro topnou a chladicí soustavu s membránou závitové připojení PN 0,4 o, objemu 18 l | D30: soubor | E30: 1 | F30: 0 | G30: =ROUND(E30*F30,2) -> 0 | H30: 0 | I30: =ROUND(E30*H30,2) -> 0 | J30: 3510 | K30: =ROUND(E30*J30,2) -> 3510 | L30: 21 | M30: =G30*(1+L30/100) -> 0 | N30: 0.00499 | O30: =ROUND(E30*N30,2) -> 0 | P30: 0 | Q30: =ROUND(E30*P30,2) -> 0 | S30: Vlastní | T30: Indiv | U30: 0 | V30: =ROUND(E30*U30,2) -> 0 | X30: Práce | Y30: Běžná | AG30: POL1_7
A31: 21 | B31: 998732101 | C31: Přesun hmot tonážní pro strojovny v objektech v do 6 m | D31: t | E31: 0.096 | F31: 0 | G31: =ROUND(E31*F31,2) -> 0 | H31: 0 | I31: =ROUND(E31*H31,2) -> 0 | J31: 2290 | K31: =ROUND(E31*J31,2) -> 219.84 | L31: 21 | M31: =G31*(1+L31/100) -> 0 | N31: 0 | O31: =ROUND(E31*N31,2) -> 0 | P31: 0 | Q31: =ROUND(E31*P31,2) -> 0 | S31: Vlastní | T31: Indiv | U31: 0 | V31: =ROUND(E31*U31,2) -> 0 | X31: Práce | Y31: Běžná | AG31: POL1_7
A32: 22 | B32: 998732193 | C32: Příplatek k přesunu hmot tonážní 732 za zvětšený přesun do 500 m | D32: t | E32: 0.096 | F32: 0 | G32: =ROUND(E32*F32,2) -> 0 | H32: 0 | I32: =ROUND(E32*H32,2) -> 0 | J32: 1020 | K32: =ROUND(E32*J32,2) -> 97.92 | L32: 21 | M32: =G32*(1+L32/100) -> 0 | N32: 0 | O32: =ROUND(E32*N32,2) -> 0 | P32: 0 | Q32: =ROUND(E32*P32,2) -> 0 | S32: Vlastní | T32: Indiv | U32: 0 | V32: =ROUND(E32*U32,2) -> 0 | X32: Práce | Y32: Běžná | AG32: POL1_7
A33: Díl: | B33: 733 | C33: Ústřední vytápění - rozvodné potrubí | G33: =SUMIF(AG34:AG46,"<>NOR",G34:G46) -> 0 | I33: =SUM(I34:I46) -> 0 | K33: =SUM(K34:K46) -> 128256.42 | M33: =SUM(M34:M46) -> 0 | O33: =SUM(O34:O46) -> 8.44 | Q33: =SUM(Q34:Q46) -> 0 | V33: =SUM(V34:V46) -> 0 | AG33: DIL
A34: 23 | B34: 722174002 | C34: Potrubí vodovodní plastové PPR svar polyfuze PN 16 D 20 x 2,8 mm | D34: m | E34: 1 | F34: 0 | G34: =ROUND(E34*F34,2) -> 0 | H34: 0 | I34: =ROUND(E34*H34,2) -> 0 | J34: 379 | K34: =ROUND(E34*J34,2) -> 379 | L34: 21 | M34: =G34*(1+L34/100) -> 0 | N34: 0.00075 | O34: =ROUND(E34*N34,2) -> 0 | P34: 0 | Q34: =ROUND(E34*P34,2) -> 0 | S34: Vlastní | T34: Indiv | U34: 0 | V34: =ROUND(E34*U34,2) -> 0 | X34: Práce | Y34: Běžná | AG34: POL1_7
A35: 24 | B35: 733222302. | C35: Potrubí měděné polotvrdé spojované lisováním D 15x1 mm | D35: m | E35: 120 | F35: 0 | G35: =ROUND(E35*F35,2) -> 0 | H35: 0 | I35: =ROUND(E35*H35,2) -> 0 | J35: 449 | K35: =ROUND(E35*J35,2) -> 53880 | L35: 21 | M35: =G35*(1+L35/100) -> 0 | N35: 0.0552 | O35: =ROUND(E35*N35,2) -> 6.62 | P35: 0 | Q35: =ROUND(E35*P35,2) -> 0 | S35: Vlastní | T35: Indiv | U35: 0 | V35: =ROUND(E35*U35,2) -> 0 | X35: Práce | Y35: Běžná | AG35: POL1_7
A36: 25 | B36: 733222303. | C36: Potrubí měděné polotvrdé spojované lisováním D 18x1 mm | D36: m | E36: 13 | F36: 0 | G36: =ROUND(E36*F36,2) -> 0 | H36: 0 | I36: =ROUND(E36*H36,2) -> 0 | J36: 525 | K36: =ROUND(E36*J36,2) -> 6825 | L36: 21 | M36: =G36*(1+L36/100) -> 0 | N36: 0.00715 | O36: =ROUND(E36*N36,2) -> 0.09 | P36: 0 | Q36: =ROUND(E36*P36,2) -> 0 | S36: Vlastní | T36: Indiv | U36: 0 | V36: =ROUND(E36*U36,2) -> 0 | X36: Práce | Y36: Běžná | AG36: POL1_7
A37: 26 | B37: 733222304. | C37: Potrubí měděné polotvrdé spojované lisováním D 22x1 mm | D37: m | E37: 40 | F37: 0 | G37: =ROUND(E37*F37,2) -> 0 | H37: 0 | I37: =ROUND(E37*H37,2) -> 0 | J37: 630 | K37: =ROUND(E37*J37,2) -> 25200 | L37: 21 | M37: =G37*(1+L37/100) -> 0 | N37: 0.028 | O37: =ROUND(E37*N37,2) -> 1.12 | P37: 0 | Q37: =ROUND(E37*P37,2) -> 0 | S37: Vlastní | T37: Indiv | U37: 0 | V37: =ROUND(E37*U37,2) -> 0 | X37: Práce | Y37: Běžná | AG37: POL1_7
A38: 27 | B38: 733223304. | C38: Potrubí měděné tvrdé spojované lisováním D 28x1,5 mm | D38: m | E38: 22 | F38: 0 | G38: =ROUND(E38*F38,2) -> 0 | H38: 0 | I38: =ROUND(E38*H38,2) -> 0 | J38: 1030 | K38: =ROUND(E38*J38,2) -> 22660 | L38: 21 | M38: =G38*(1+L38/100) -> 0 | N38: 0.02728 | O38: =ROUND(E38*N38,2) -> 0.6 | P38: 0 | Q38: =ROUND(E38*P38,2) -> 0 | S38: Vlastní | T38: Indiv | U38: 0 | V38: =ROUND(E38*U38,2) -> 0 | X38: Práce | Y38: Běžná | AG38: POL1_7
A39: 28 | B39: 733224204 | C39: Příplatek k potrubí měděnému za potrubí vedené v kotelnách nebo strojovnách D 22x1 | D39: m | E39: 1 | F39: 0 | G39: =ROUND(E39*F39,2) -> 0 | H39: 0 | I39: =ROUND(E39*H39,2) -> 0 | J39: 105 | K39: =ROUND(E39*J39,2) -> 105 | L39: 21 | M39: =G39*(1+L39/100) -> 0 | N39: 3e-05 | O39: =ROUND(E39*N39,2) -> 0 | P39: 0 | Q39: =ROUND(E39*P39,2) -> 0 | S39: Vlastní | T39: Indiv | U39: 0 | V39: =ROUND(E39*U39,2) -> 0 | X39: Práce | Y39: Běžná | AG39: POL1_7
A40: 29 | B40: 733224205 | C40: Příplatek k potrubí měděnému za potrubí vedené v kotelnách nebo strojovnách D 28x1,5 | D40: m | E40: 4 | F40: 0 | G40: =ROUND(E40*F40,2) -> 0 | H40: 0 | I40: =ROUND(E40*H40,2) -> 0 | J40: 210 | K40: =ROUND(E40*J40,2) -> 840 | L40: 21 | M40: =G40*(1+L40/100) -> 0 | N40: 0.0002 | O40: =ROUND(E40*N40,2) -> 0 | P40: 0 | Q40: =ROUND(E40*P40,2) -> 0 | S40: Vlastní | T40: Indiv | U40: 0 | V40: =ROUND(E40*U40,2) -> 0 | X40: Práce | Y40: Běžná | AG40: POL1_7
A41: 30 | B41: 733224222 | C41: Příplatek k potrubí měděnému za zhotovení přípojky z trubek měděných D 15x1 mm | D41: kus | E41: 38 | F41: 0 | G41: =ROUND(E41*F41,2) -> 0 | H41: 0 | I41: =ROUND(E41*H41,2) -> 0 | J41: 209 | K41: =ROUND(E41*J41,2) -> 7942 | L41: 21 | M41: =G41*(1+L41/100) -> 0 | N41: 0.00038 | O41: =ROUND(E41*N41,2) -> 0.01 | P41: 0 | Q41: =ROUND(E41*P41,2) -> 0 | S41: Vlastní | T41: Indiv | U41: 0 | V41: =ROUND(E41*U41,2) -> 0 | X41: Práce | Y41: Běžná | AG41: POL1_7
A42: 31 | B42: 733224224 | C42: Příplatek k potrubí měděnému za zhotovení přípojky z trubek měděných D 22x1 | D42: kus | E42: 1 | F42: 0 | G42: =ROUND(E42*F42,2) -> 0 | H42: 0 | I42: =ROUND(E42*H42,2) -> 0 | J42: 149 | K42: =ROUND(E42*J42,2) -> 149 | L42: 21 | M42: =G42*(1+L42/100) -> 0 | N42: 3e-05 | O42: =ROUND(E42*N42,2) -> 0 | P42: 0 | Q42: =ROUND(E42*P42,2) -> 0 | S42: Vlastní | T42: Indiv | U42: 0 | V42: =ROUND(E42*U42,2) -> 0 | X42: Práce | Y42: Běžná | AG42: POL1_7
A43: 32 | B43: 733224225 | C43: Příplatek k potrubí měděnému za zhotovení přípojky z trubek měděných D 28x1,5 mm | D43: kus | E43: 2 | F43: 0 | G43: =ROUND(E43*F43,2) -> 0 | H43: 0 | I43: =ROUND(E43*H43,2) -> 0 | J43: 273 | K43: =ROUND(E43*J43,2) -> 546 | L43: 21 | M43: =G43*(1+L43/100) -> 0 | N43: 0.0001 | O43: =ROUND(E43*N43,2) -> 0 | P43: 0 | Q43: =ROUND(E43*P43,2) -> 0 | S43: Vlastní | T43: Indiv | U43: 0 | V43: =ROUND(E43*U43,2) -> 0 | X43: Práce | Y43: Běžná | AG43: POL1_7
A44: 33 | B44: 733291101 | C44: Zkouška těsnosti potrubí měděné D do 35x1,5 | D44: m | E44: 389 | F44: 0 | G44: =ROUND(E44*F44,2) -> 0 | H44: 0 | I44: =ROUND(E44*H44,2) -> 0 | J44: 24.5 | K44: =ROUND(E44*J44,2) -> 9530.5 | L44: 21 | M44: =G44*(1+L44/100) -> 0 | N44: 0 | O44: =ROUND(E44*N44,2) -> 0 | P44: 0 | Q44: =ROUND(E44*P44,2) -> 0 | S44: Vlastní | T44: Indiv | U44: 0 | V44: =ROUND(E44*U44,2) -> 0 | X44: Práce | Y44: Běžná | AG44: POL1_7
A45: 34 | B45: 998733101 | C45: Přesun hmot tonážní pro rozvody potrubí v objektech v do 6 m | D45: t | E45: 0.119 | F45: 0 | G45: =ROUND(E45*F45,2) -> 0 | H45: 0 | I45: =ROUND(E45*H45,2) -> 0 | J45: 1040 | K45: =ROUND(E45*J45,2) -> 123.76 | L45: 21 | M45: =G45*(1+L45/100) -> 0 | N45: 0 | O45: =ROUND(E45*N45,2) -> 0 | P45: 0 | Q45: =ROUND(E45*P45,2) -> 0 | S45: Vlastní | T45: Indiv | U45: 0 | V45: =ROUND(E45*U45,2) -> 0 | X45: Práce | Y45: Běžná | AG45: POL1_7
A46: 35 | B46: 998733193 | C46: Příplatek k přesunu hmot tonážní 733 za zvětšený přesun do 500 m | D46: t | E46: 0.119 | F46: 0 | G46: =ROUND(E46*F46,2) -> 0 | H46: 0 | I46: =ROUND(E46*H46,2) -> 0 | J46: 640 | K46: =ROUND(E46*J46,2) -> 76.16 | L46: 21 | M46: =G46*(1+L46/100) -> 0 | N46: 0 | O46: =ROUND(E46*N46,2) -> 0 | P46: 0 | Q46: =ROUND(E46*P46,2) -> 0 | S46: Vlastní | T46: Indiv | U46: 0 | V46: =ROUND(E46*U46,2) -> 0 | X46: Práce | Y46: Běžná | AG46: POL1_7
A47: Díl: | B47: 734 | C47: Ústřední vytápění - armatury | G47: =SUMIF(AG48:AG64,"<>NOR",G48:G64) -> 0 | I47: =SUM(I48:I64) -> 35282.1 | K47: =SUM(K48:K64) -> 9892.16 | M47: =SUM(M48:M64) -> 0 | O47: =SUM(O48:O64) -> 0.44 | Q47: =SUM(Q48:Q64) -> 0 | V47: =SUM(V48:V64) -> 0 | AG47: DIL
A48: 36 | B48: 734209113 | C48: Montáž armatury závitové s dvěma závity G 1/2 | D48: kus | E48: 38 | F48: 0 | G48: =ROUND(E48*F48,2) -> 0 | H48: 0 | I48: =ROUND(E48*H48,2) -> 0 | J48: 101 | K48: =ROUND(E48*J48,2) -> 3838 | L48: 21 | M48: =G48*(1+L48/100) -> 0 | N48: 0.00304 | O48: =ROUND(E48*N48,2) -> 0.12 | P48: 0 | Q48: =ROUND(E48*P48,2) -> 0 | S48: Vlastní | T48: Indiv | U48: 0 | V48: =ROUND(E48*U48,2) -> 0 | X48: Práce | Y48: Běžná | AG48: POL1_7
A49: 37 | B49: 734209114 | C49: Montáž armatury závitové s dvěma závity G 3/4 | D49: kus | E49: 1 | F49: 0 | G49: =ROUND(E49*F49,2) -> 0 | H49: 0 | I49: =ROUND(E49*H49,2) -> 0 | J49: 126 | K49: =ROUND(E49*J49,2) -> 126 | L49: 21 | M49: =G49*(1+L49/100) -> 0 | N49: 0.0001 | O49: =ROUND(E49*N49,2) -> 0 | P49: 0 | Q49: =ROUND(E49*P49,2) -> 0 | S49: Vlastní | T49: Indiv | U49: 0 | V49: =ROUND(E49*U49,2) -> 0 | X49: Práce | Y49: Běžná | AG49: POL1_7
A50: 38 | B50: 734209115 | C50: Montáž armatury závitové s dvěma závity G 1 | D50: kus | E50: 1 | F50: 0 | G50: =ROUND(E50*F50,2) -> 0 | H50: 0 | I50: =ROUND(E50*H50,2) -> 0 | J50: 141 | K50: =ROUND(E50*J50,2) -> 141 | L50: 21 | M50: =G50*(1+L50/100) -> 0 | N50: 0.00014 | O50: =ROUND(E50*N50,2) -> 0 | P50: 0 | Q50: =ROUND(E50*P50,2) -> 0 | S50: Vlastní | T50: Indiv | U50: 0 | V50: =ROUND(E50*U50,2) -> 0 | X50: Práce | Y50: Běžná | AG50: POL1_7
A51: 39 | B51: 734291123 | C51: Kohout plnící a vypouštěcí G 1/2 PN 10 do 110°C závitový | D51: kus | E51: 4 | F51: 0 | G51: =ROUND(E51*F51,2) -> 0 | H51: 0 | I51: =ROUND(E51*H51,2) -> 0 | J51: 292 | K51: =ROUND(E51*J51,2) -> 1168 | L51: 21 | M51: =G51*(1+L51/100) -> 0 | N51: 0.00088 | O51: =ROUND(E51*N51,2) -> 0 | P51: 0 | Q51: =ROUND(E51*P51,2) -> 0 | S51: Vlastní | T51: Indiv | U51: 0 | V51: =ROUND(E51*U51,2) -> 0 | X51: Práce | Y51: Běžná | AG51: POL1_7
A52: 40 | B52: 734292715 | C52: Kohout kulový přímý G 1 PN 42 do 185°C vnitřní závit | D52: kus | E52: 4 | F52: 0 | G52: =ROUND(E52*F52,2) -> 0 | H52: 0 | I52: =ROUND(E52*H52,2) -> 0 | J52: 620 | K52: =ROUND(E52*J52,2) -> 2480 | L52: 21 | M52: =G52*(1+L52/100) -> 0 | N52: 0.002 | O52: =ROUND(E52*N52,2) -> 0.01 | P52: 0 | Q52: =ROUND(E52*P52,2) -> 0 | S52: Vlastní | T52: Indiv | U52: 0 | V52: =ROUND(E52*U52,2) -> 0 | X52: Práce | Y52: Běžná | AG52: POL1_7
A53: 41 | B53: 734211127 | C53: Ventil závitový odvzdušňovací G 1/2 PN 14 do 120°C automatický se zpětnou klapkou otopných těles | D53: kus | E53: 1 | F53: 0 | G53: =ROUND(E53*F53,2) -> 0 | H53: 0 | I53: =ROUND(E53*H53,2) -> 0 | J53: 375 | K53: =ROUND(E53*J53,2) -> 375 | L53: 21 | M53: =G53*(1+L53/100) -> 0 | N53: 0.00027 | O53: =ROUND(E53*N53,2) -> 0 | P53: 0 | Q53: =ROUND(E53*P53,2) -> 0 | S53: Vlastní | T53: Indiv | U53: 0 | V53: =ROUND(E53*U53,2) -> 0 | X53: Práce | Y53: Běžná | AG53: POL1_7
A54: 42 | B54: Plánovaná cena | C54: Kulový kohout MK 3/4 k exp. nádobám | D54: ks | E54: 1 | F54: 0 | G54: =ROUND(E54*F54,2) -> 0 | H54: 1180 | I54: =ROUND(E54*H54,2) -> 1180 | J54: 0 | K54: =ROUND(E54*J54,2) -> 0 | L54: 21 | M54: =G54*(1+L54/100) -> 0 | N54: 0.0005 | O54: =ROUND(E54*N54,2) -> 0 | P54: 0 | Q54: =ROUND(E54*P54,2) -> 0 | S54: Vlastní | T54: Indiv | U54: 0 | V54: =ROUND(E54*U54,2) -> 0 | X54: R-položka | Y54: Běžná | AG54: POL12_0
A55: 43 | B55: Plánovaná cena | C55: Separátor nečistot s magnetem a filtrem - 1" | D55: ks | E55: 1 | F55: 0 | G55: =ROUND(E55*F55,2) -> 0 | H55: 3860 | I55: =ROUND(E55*H55,2) -> 3860 | J55: 0 | K55: =ROUND(E55*J55,2) -> 0 | L55: 21 | M55: =G55*(1+L55/100) -> 0 | N55: 0.0015 | O55: =ROUND(E55*N55,2) -> 0 | P55: 0 | Q55: =ROUND(E55*P55,2) -> 0 | S55: Vlastní | T55: Indiv | U55: 0 | V55: =ROUND(E55*U55,2) -> 0 | X55: R-položka | Y55: Běžná | AG55: POL12_0
A56: 44 | B56: Plánovaná cena | C56: Připojovací šroubení pro tělesa VK, rohové, připojení 1/2-3/4 | D56: kus | E56: 14 | F56: 0 | G56: =ROUND(E56*F56,2) -> 0 | H56: 633.5 | I56: =ROUND(E56*H56,2) -> 8869 | J56: 0 | K56: =ROUND(E56*J56,2) -> 0 | L56: 21 | M56: =G56*(1+L56/100) -> 0 | N56: 0.00602 | O56: =ROUND(E56*N56,2) -> 0.08 | P56: 0 | Q56: =ROUND(E56*P56,2) -> 0 | S56: Vlastní | T56: Indiv | U56: 0 | V56: =ROUND(E56*U56,2) -> 0 | X56: R-položka | Y56: Běžná | AG56: POL12_0
A57: 45 | B57: Plánovaná cena | C57: Rohový ventil pro středové připojení dvoutrubka poniklovaný 1/2-3/4 | D57: kus | E57: 5 | F57: 0 | G57: =ROUND(E57*F57,2) -> 0 | H57: 1316.7 | I57: =ROUND(E57*H57,2) -> 6583.5 | J57: 0 | K57: =ROUND(E57*J57,2) -> 0 | L57: 21 | M57: =G57*(1+L57/100) -> 0 | N57: 0.00285 | O57: =ROUND(E57*N57,2) -> 0.01 | P57: 0 | Q57: =ROUND(E57*P57,2) -> 0 | S57: Vlastní | T57: Indiv | U57: 0 | V57: =ROUND(E57*U57,2) -> 0 | X57: R-položka | Y57: Běžná | AG57: POL12_0
A58: 46 | B58: Plánovaná cena | C58: Termostatická hlavice s ochranou proti odcizení | D58: kus | E58: 19 | F58: 0 | G58: =ROUND(E58*F58,2) -> 0 | H58: 489.8 | I58: =ROUND(E58*H58,2) -> 9306.2 | J58: 0 | K58: =ROUND(E58*J58,2) -> 0 | L58: 21 | M58: =G58*(1+L58/100) -> 0 | N58: 0.0038 | O58: =ROUND(E58*N58,2) -> 0.07 | P58: 0 | Q58: =ROUND(E58*P58,2) -> 0 | S58: Vlastní | T58: Indiv | U58: 0 | V58: =ROUND(E58*U58,2) -> 0 | X58: R-položka | Y58: Běžná | AG58: POL12_0
A59: 47 | B59: Plánovaná cena | C59: Svorné šroubení pro vnější závit 3/4" x Cu 15 | D59: kus | E59: 38 | F59: 0 | G59: =ROUND(E59*F59,2) -> 0 | H59: 95.3 | I59: =ROUND(E59*H59,2) -> 3621.4 | J59: 0 | K59: =ROUND(E59*J59,2) -> 0 | L59: 21 | M59: =G59*(1+L59/100) -> 0 | N59: 0.0038 | O59: =ROUND(E59*N59,2) -> 0.14 | P59: 0 | Q59: =ROUND(E59*P59,2) -> 0 | S59: Vlastní | T59: Indiv | U59: 0 | V59: =ROUND(E59*U59,2) -> 0 | X59: R-položka | Y59: Běžná | AG59: POL12_0
... A64: 52 | B64: 998734193 | C64: Příplatek k přesunu hmot tonážnímu pro armatury za zvětšený přesun do 500 m | D64: t | E64: 0.028 | F64: 0 | G64: =ROUND(E64*F64,2) -> 0 | H64: 0 | I64: =ROUND(E64*H64,2) -> 0 | J64: 1940 | K64: =ROUND(E64*J64,2) -> 54.32 | L64: 21 | M64: =G64*(1+L64/100) -> 0 | N64: 0 | O64: =ROUND(E64*N64,2) -> 0 | P64: 0 | Q64: =ROUND(E64*P64,2) -> 0 | S64: Vlastní | T64: Indiv | U64: 0 | V64: =ROUND(E64*U64,2) -> 0 | X64: Práce | Y64: Běžná | AG64: POL1_7
A65: Díl: | B65: 735 | C65: Ústřední vytápění - otopná tělesa | G65: =SUMIF(AG66:AG77,"<>NOR",G66:G77) -> 0 | I65: =SUM(I66:I77) -> 18230 | K65: =SUM(K66:K77) -> 68248.99 | M65: =SUM(M66:M77) -> 0 | O65: =SUM(O66:O77) -> 2.51 | Q65: =SUM(Q66:Q77) -> 0 | V65: =SUM(V66:V77) -> 0 | AG65: DIL
A66: 53 | B66: 735152275 | C66: Otopné těleso panelové VK jednodeskové 1 přídavná přestupní plocha výška/délka 600/800 mm výkon 802, W | D66: kus | E66: 1 | F66: 0 | G66: =ROUND(E66*F66,2) -> 0 | H66: 0 | I66: =ROUND(E66*H66,2) -> 0 | J66: 3590 | K66: =ROUND(E66*J66,2) -> 3590 | L66: 21 | M66: =G66*(1+L66/100) -> 0 | N66: 0.0186 | O66: =ROUND(E66*N66,2) -> 0.02 | P66: 0 | Q66: =ROUND(E66*P66,2) -> 0 | S66: Vlastní | T66: Indiv | U66: 0 | V66: =ROUND(E66*U66,2) -> 0 | X66: Práce | Y66: Běžná | AG66: POL1_7
A67: 54 | B67: 735152294 | C67: Otopné těleso panelové VK jednodeskové 1 přídavná přestupní plocha výška/délka 900/700 mm výkon 976, W | D67: kus | E67: 1 | F67: 0 | G67: =ROUND(E67*F67,2) -> 0 | H67: 0 | I67: =ROUND(E67*H67,2) -> 0 | J67: 4210 | K67: =ROUND(E67*J67,2) -> 4210 | L67: 21 | M67: =G67*(1+L67/100) -> 0 | N67: 0.01417 | O67: =ROUND(E67*N67,2) -> 0.01 | P67: 0 | Q67: =ROUND(E67*P67,2) -> 0 | S67: Vlastní | T67: Indiv | U67: 0 | V67: =ROUND(E67*U67,2) -> 0 | X67: Práce | Y67: Běžná | AG67: POL1_7
A68: 55 | B68: 735152573 | C68: Otopné těleso panelové VK dvoudeskové 2 přídavné přestupní plochy výška/délka 600/600 mm výkon 1007, W | D68: kus | E68: 1 | F68: 0 | G68: =ROUND(E68*F68,2) -> 0 | H68: 0 | I68: =ROUND(E68*H68,2) -> 0 | J68: 4080 | K68: =ROUND(E68*J68,2) -> 4080 | L68: 21 | M68: =G68*(1+L68/100) -> 0 | N68: 0.02176 | O68: =ROUND(E68*N68,2) -> 0.02 | P68: 0 | Q68: =ROUND(E68*P68,2) -> 0 | S68: Vlastní | T68: Indiv | U68: 0 | V68: =ROUND(E68*U68,2) -> 0 | X68: Práce | Y68: Běžná | AG68: POL1_7
A69: 56 | B69: 735152576 | C69: Otopné těleso panelové VK dvoudeskové 2 přídavné přestupní plochy výška/délka 600/900 mm výkon 1511, W | D69: kus | E69: 8 | F69: 0 | G69: =ROUND(E69*F69,2) -> 0 | H69: 0 | I69: =ROUND(E69*H69,2) -> 0 | J69: 4830 | K69: =ROUND(E69*J69,2) -> 38640 | L69: 21 | M69: =G69*(1+L69/100) -> 0 | N69: 0.25232 | O69: =ROUND(E69*N69,2) -> 2.02 | P69: 0 | Q69: =ROUND(E69*P69,2) -> 0 | S69: Vlastní | T69: Indiv | U69: 0 | V69: =ROUND(E69*U69,2) -> 0 | X69: Práce | Y69: Běžná | AG69: POL1_7
A70: 57 | B70: 735152577 | C70: Otopné těleso panelové VK dvoudeskové 2 přídavné přestupní plochy výška/délka 600/1000 mm výkon 1679, W | D70: kus | E70: 3 | F70: 0 | G70: =ROUND(E70*F70,2) -> 0 | H70: 0 | I70: =ROUND(E70*H70,2) -> 0 | J70: 4990 | K70: =ROUND(E70*J70,2) -> 14970 | L70: 21 | M70: =G70*(1+L70/100) -> 0 | N70: 0.1044 | O70: =ROUND(E70*N70,2) -> 0.31 | P70: 0 | Q70: =ROUND(E70*P70,2) -> 0 | S70: Vlastní | T70: Indiv | U70: 0 | V70: =ROUND(E70*U70,2) -> 0 | X70: Práce | Y70: Běžná | AG70: POL1_7
A71: 58 | B71: Plánovaná cena | C71: Koupelnové trubkové těleso výška 700 mm, šířka 450 mm - výkon 230 W pří spádu 75/65 °C a vntřní, teplotě 24°C - se středovým připojením | D71: ks | E71: 1 | F71: 0 | G71: =ROUND(E71*F71,2) -> 0 | H71: 2690 | I71: =ROUND(E71*H71,2) -> 2690 | J71: 0 | K71: =ROUND(E71*J71,2) -> 0 | L71: 21 | M71: =G71*(1+L71/100) -> 0 | N71: 0.007 | O71: =ROUND(E71*N71,2) -> 0.01 | P71: 0 | Q71: =ROUND(E71*P71,2) -> 0 | S71: Vlastní | T71: Indiv | U71: 0 | V71: =ROUND(E71*U71,2) -> 0 | X71: R-položka | Y71: Běžná | AG71: POL12_0
A72: 59 | B72: Plánovaná cena | C72: Koupelnové trubkové těleso výška 1220 mm, šířka 450 mm - výkon 416 W pří spádu 75/65 °C a vntřní, teplotě 24°C - se středovým připojením | D72: ks | E72: 2 | F72: 0 | G72: =ROUND(E72*F72,2) -> 0 | H72: 3410 | I72: =ROUND(E72*H72,2) -> 6820 | J72: 0 | K72: =ROUND(E72*J72,2) -> 0 | L72: 21 | M72: =G72*(1+L72/100) -> 0 | N72: 0.024 | O72: =ROUND(E72*N72,2) -> 0.05 | P72: 0 | Q72: =ROUND(E72*P72,2) -> 0 | S72: Vlastní | T72: Indiv | U72: 0 | V72: =ROUND(E72*U72,2) -> 0 | X72: R-položka | Y72: Běžná | AG72: POL12_0
A73: 60 | B73: Plánovaná cena | C73: Koupelnové trubkové těleso výška 1820 mm, šířka 500 mm - výkon 717 W pří spádu 75/65 °C a vntřní, teplotě 24°C - se středovým připojením | D73: ks | E73: 2 | F73: 0 | G73: =ROUND(E73*F73,2) -> 0 | H73: 4360 | I73: =ROUND(E73*H73,2) -> 8720 | J73: 0 | K73: =ROUND(E73*J73,2) -> 0 | L73: 21 | M73: =G73*(1+L73/100) -> 0 | N73: 0.036 | O73: =ROUND(E73*N73,2) -> 0.07 | P73: 0 | Q73: =ROUND(E73*P73,2) -> 0 | S73: Vlastní | T73: Indiv | U73: 0 | V73: =ROUND(E73*U73,2) -> 0 | X73: R-položka | Y73: Běžná | AG73: POL12_0
A74: 61 | B74: 735164511 | C74: Montáž otopného tělesa trubkového na stěnu výšky tělesa do 1500 mm | D74: kus | E74: 3 | F74: 0 | G74: =ROUND(E74*F74,2) -> 0 | H74: 0 | I74: =ROUND(E74*H74,2) -> 0 | J74: 333 | K74: =ROUND(E74*J74,2) -> 999 | L74: 21 | M74: =G74*(1+L74/100) -> 0 | N74: 0 | O74: =ROUND(E74*N74,2) -> 0 | P74: 0 | Q74: =ROUND(E74*P74,2) -> 0 | S74: Vlastní | T74: Indiv | U74: 0 | V74: =ROUND(E74*U74,2) -> 0 | X74: Práce | Y74: Běžná | AG74: POL1_7
A75: 62 | B75: 735164512 | C75: Montáž otopného tělesa trubkového na stěnu výšky tělesa přes 1500 mm | D75: kus | E75: 2 | F75: 0 | G75: =ROUND(E75*F75,2) -> 0 | H75: 0 | I75: =ROUND(E75*H75,2) -> 0 | J75: 353 | K75: =ROUND(E75*J75,2) -> 706 | L75: 21 | M75: =G75*(1+L75/100) -> 0 | N75: 0 | O75: =ROUND(E75*N75,2) -> 0 | P75: 0 | Q75: =ROUND(E75*P75,2) -> 0 | S75: Vlastní | T75: Indiv | U75: 0 | V75: =ROUND(E75*U75,2) -> 0 | X75: Práce | Y75: Běžná | AG75: POL1_7
A76: 63 | B76: 998735101 | C76: Přesun hmot tonážní pro otopná tělesa v objektech v do 6 m | D76: t | E76: 0.478 | F76: 0 | G76: =ROUND(E76*F76,2) -> 0 | H76: 0 | I76: =ROUND(E76*H76,2) -> 0 | J76: 1520 | K76: =ROUND(E76*J76,2) -> 726.56 | L76: 21 | M76: =G76*(1+L76/100) -> 0 | N76: 0 | O76: =ROUND(E76*N76,2) -> 0 | P76: 0 | Q76: =ROUND(E76*P76,2) -> 0 | S76: Vlastní | T76: Indiv | U76: 0 | V76: =ROUND(E76*U76,2) -> 0 | X76: Práce | Y76: Běžná | AG76: POL1_7
A77: 64 | B77: 998735193 | C77: Příplatek k přesunu hmot tonážní 735 za zvětšený přesun do 500 m | D77: t | E77: 0.478 | F77: 0 | G77: =ROUND(E77*F77,2) -> 0 | H77: 0 | I77: =ROUND(E77*H77,2) -> 0 | J77: 685 | K77: =ROUND(E77*J77,2) -> 327.43 | L77: 21 | M77: =G77*(1+L77/100) -> 0 | N77: 0 | O77: =ROUND(E77*N77,2) -> 0 | P77: 0 | Q77: =ROUND(E77*P77,2) -> 0 | S77: Vlastní | T77: Indiv | U77: 0 | V77: =ROUND(E77*U77,2) -> 0 | X77: Práce | Y77: Běžná | AG77: POL1_7
A78: Díl: | B78: MAR 736 | C78: Měření a regulace | G78: =SUMIF(AG79:AG80,"<>NOR",G79:G80) -> 0 | I78: =SUM(I79:I80) -> 0 | K78: =SUM(K79:K80) -> 3300 | M78: =SUM(M79:M80) -> 0 | O78: =SUM(O79:O80) -> 0.02 | Q78: =SUM(Q79:Q80) -> 0 | V78: =SUM(V79:V80) -> 0 | AG78: DIL
A79: 65 | B79: MTZRMAR1 | C79: Montáž prvků měření a regulace | D79: hod | E79: 4 | F79: 0 | G79: =ROUND(E79*F79,2) -> 0 | H79: 0 | I79: =ROUND(E79*H79,2) -> 0 | J79: 550 | K79: =ROUND(E79*J79,2) -> 2200 | L79: 21 | M79: =G79*(1+L79/100) -> 0 | N79: 0.004 | O79: =ROUND(E79*N79,2) -> 0.02 | P79: 0 | Q79: =ROUND(E79*P79,2) -> 0 | S79: Vlastní | T79: Indiv | U79: 0 | V79: =ROUND(E79*U79,2) -> 0 | X79: Práce | Y79: Běžná | AG79: POL1_9
A80: 66 | B80: UVEDREGPR1 | C80: Uvedení regulace do provozu | D80: hod | E80: 2 | F80: 0 | G80: =ROUND(E80*F80,2) -> 0 | H80: 0 | I80: =ROUND(E80*H80,2) -> 0 | J80: 550 | K80: =ROUND(E80*J80,2) -> 1100 | L80: 21 | M80: =G80*(1+L80/100) -> 0 | N80: 0 | O80: =ROUND(E80*N80,2) -> 0 | P80: 0 | Q80: =ROUND(E80*P80,2) -> 0 | S80: Vlastní | T80: Indiv | U80: 0 | V80: =ROUND(E80*U80,2) -> 0 | X80: Práce | Y80: Běžná | AG80: POL1_9
A81: Díl: | B81: 767 | C81: Konstrukce zámečnické | G81: =SUMIF(AG82:AG86,"<>NOR",G82:G86) -> 0 | I81: =SUM(I82:I86) -> 904.33 | K81: =SUM(K82:K86) -> 6582.25 | M81: =SUM(M82:M86) -> 0 | O81: =SUM(O82:O86) -> 0.15 | Q81: =SUM(Q82:Q86) -> 0 | V81: =SUM(V82:V86) -> 0 | AG81: DIL
A82: 67 | B82: 767995112 | C82: Montáž atypických zámečnických konstrukcí hmotnosti do 10 kg | D82: kg | E82: 50 | F82: 0 | G82: =ROUND(E82*F82,2) -> 0 | H82: 0 | I82: =ROUND(E82*H82,2) -> 0 | J82: 129 | K82: =ROUND(E82*J82,2) -> 6450 | L82: 21 | M82: =G82*(1+L82/100) -> 0 | N82: 0.003 | O82: =ROUND(E82*N82,2) -> 0.15 | P82: 0 | Q82: =ROUND(E82*P82,2) -> 0 | S82: Vlastní | T82: Indiv | U82: 0 | V82: =ROUND(E82*U82,2) -> 0 | X82: Práce | Y82: Běžná | AG82: POL1_7
A83: 68 | B83: 132310620 | C83: tyč ocelová L rovnoramenná jak.11373 45x45x4 mm | D83: t | E83: 0.045 | F83: 0 | G83: =ROUND(E83*F83,2) -> 0 | H83: 18285 | I83: =ROUND(E83*H83,2) -> 822.83 | J83: 0 | K83: =ROUND(E83*J83,2) -> 0 | L83: 21 | M83: =G83*(1+L83/100) -> 0 | N83: 0.045 | O83: =ROUND(E83*N83,2) -> 0 | P83: 0 | Q83: =ROUND(E83*P83,2) -> 0 | S83: Vlastní | T83: Indiv | U83: 0 | V83: =ROUND(E83*U83,2) -> 0 | X83: Specifikace | Y83: Běžná | AG83: POL3_0
A84: 69 | B84: 132112140 | C84: tyč ocelová kruhová jak.11373 D 6 mm | D84: t | E84: 0.005 | F84: 0 | G84: =ROUND(E84*F84,2) -> 0 | H84: 16300 | I84: =ROUND(E84*H84,2) -> 81.5 | J84: 0 | K84: =ROUND(E84*J84,2) -> 0 | L84: 21 | M84: =G84*(1+L84/100) -> 0 | N84: 0.005 | O84: =ROUND(E84*N84,2) -> 0 | P84: 0 | Q84: =ROUND(E84*P84,2) -> 0 | S84: Vlastní | T84: Indiv | U84: 0 | V84: =ROUND(E84*U84,2) -> 0 | X84: Specifikace | Y84: Běžná | AG84: POL3_0
A85: 70 | B85: 998767101 | C85: Přesun hmot tonážní pro zámečnické konstrukce v objektech v do 6 m | D85: t | E85: 0.05 | F85: 0 | G85: =ROUND(E85*F85,2) -> 0 | H85: 0 | I85: =ROUND(E85*H85,2) -> 0 | J85: 1690 | K85: =ROUND(E85*J85,2) -> 84.5 | L85: 21 | M85: =G85*(1+L85/100) -> 0 | N85: 0 | O85: =ROUND(E85*N85,2) -> 0 | P85: 0 | Q85: =ROUND(E85*P85,2) -> 0 | S85: Vlastní | T85: Indiv | U85: 0 | V85: =ROUND(E85*U85,2) -> 0 | X85: Práce | Y85: Běžná | AG85: POL1_7
A86: 71 | B86: 998767192 | C86: Příplatek k přesunu hmot tonážní 767 za zvětšený přesun do 100 m | D86: t | E86: 0.05 | F86: 0 | G86: =ROUND(E86*F86,2) -> 0 | H86: 0 | I86: =ROUND(E86*H86,2) -> 0 | J86: 955 | K86: =ROUND(E86*J86,2) -> 47.75 | L86: 21 | M86: =G86*(1+L86/100) -> 0 | N86: 0 | O86: =ROUND(E86*N86,2) -> 0 | P86: 0 | Q86: =ROUND(E86*P86,2) -> 0 | S86: Vlastní | T86: Indiv | U86: 0 | V86: =ROUND(E86*U86,2) -> 0 | X86: Práce | Y86: Běžná | AG86: POL1_7
A87: Díl: | B87: 783 | C87: Dokončovací práce - nátěry | G87: =SUMIF(AG88:AG89,"<>NOR",G88:G89) -> 0 | I87: =SUM(I88:I89) -> 0 | K87: =SUM(K88:K89) -> 136 | M87: =SUM(M88:M89) -> 0 | O87: =SUM(O88:O89) -> 0 | Q87: =SUM(Q88:Q89) -> 0 | V87: =SUM(V88:V89) -> 0 | AG87: DIL
A88: 72 | B88: 783314101 | C88: Základní jednonásobný syntetický nátěr zámečnických konstrukcí | D88: m2 | E88: 0.5 | F88: 0 | G88: =ROUND(E88*F88,2) -> 0 | H88: 0 | I88: =ROUND(E88*H88,2) -> 0 | J88: 137 | K88: =ROUND(E88*J88,2) -> 68.5 | L88: 21 | M88: =G88*(1+L88/100) -> 0 | N88: 7e-05 | O88: =ROUND(E88*N88,2) -> 0 | P88: 0 | Q88: =ROUND(E88*P88,2) -> 0 | S88: Vlastní | T88: Indiv | U88: 0 | V88: =ROUND(E88*U88,2) -> 0 | X88: Práce | Y88: Běžná | AG88: POL1_7
A89: 73 | B89: 783317101 | C89: Krycí jednonásobný syntetický standardní nátěr zámečnických konstrukcí | D89: m2 | E89: 0.5 | F89: 0 | G89: =ROUND(E89*F89,2) -> 0 | H89: 0 | I89: =ROUND(E89*H89,2) -> 0 | J89: 135 | K89: =ROUND(E89*J89,2) -> 67.5 | L89: 21 | M89: =G89*(1+L89/100) -> 0 | N89: 6e-05 | O89: =ROUND(E89*N89,2) -> 0 | P89: 0 | Q89: =ROUND(E89*P89,2) -> 0 | S89: Vlastní | T89: Indiv | U89: 0 | V89: =ROUND(E89*U89,2) -> 0 | X89: Práce | Y89: Běžná | AG89: POL1_7
A90: Díl: | B90: 799 | C90: Ostatní | G90: =SUMIF(AG91:AG96,"<>NOR",G91:G96) -> 0 | I90: =SUM(I91:I96) -> 4000 | K90: =SUM(K91:K96) -> 17730 | M90: =SUM(M91:M96) -> 0 | O90: =SUM(O91:O96) -> 0 | Q90: =SUM(Q91:Q96) -> 0 | V90: =SUM(V91:V96) -> 0 | AG90: DIL
A91: 74 | B91: Plánovaná cena | C91: Topná zkouška | D91: hod | E91: 24 | F91: 0 | G91: =ROUND(E91*F91,2) -> 0 | H91: 0 | I91: =ROUND(E91*H91,2) -> 0 | J91: 550 | K91: =ROUND(E91*J91,2) -> 13200 | L91: 21 | M91: =G91*(1+L91/100) -> 0 | N91: 0 | O91: =ROUND(E91*N91,2) -> 0 | P91: 0 | Q91: =ROUND(E91*P91,2) -> 0 | S91: Vlastní | T91: Indiv | U91: 0 | V91: =ROUND(E91*U91,2) -> 0 | X91: R-položka | Y91: Běžná | AG91: POL12_1
A92: 75 | B92: Plánovaná cena | C92: Revize expanzní nádoby (1. provozní + výchozí) | D92: ks | E92: 1 | F92: 0 | G92: =ROUND(E92*F92,2) -> 0 | H92: 0 | I92: =ROUND(E92*H92,2) -> 0 | J92: 950 | K92: =ROUND(E92*J92,2) -> 950 | L92: 21 | M92: =G92*(1+L92/100) -> 0 | N92: 0 | O92: =ROUND(E92*N92,2) -> 0 | P92: 0 | Q92: =ROUND(E92*P92,2) -> 0 | S92: Vlastní | T92: Indiv | U92: 0 | V92: =ROUND(E92*U92,2) -> 0 | X92: R-položka | Y92: Běžná | AG92: POL12_1
A93: 76 | B93: Plánovaná cena | C93: Hzs-zkousky (dilatační zkouška á 8 hod) | D93: soubor | E93: 1 | F93: 0 | G93: =ROUND(E93*F93,2) -> 0 | H93: 4000 | I93: =ROUND(E93*H93,2) -> 4000 | J93: 0 | K93: =ROUND(E93*J93,2) -> 0 | L93: 21 | M93: =G93*(1+L93/100) -> 0 | N93: 0 | O93: =ROUND(E93*N93,2) -> 0 | P93: 0 | Q93: =ROUND(E93*P93,2) -> 0 | S93: Vlastní | T93: Indiv | U93: 0 | V93: =ROUND(E93*U93,2) -> 0 | X93: R-položka | Y93: Běžná | AG93: POL12_0
A94: 77 | B94: Plánovaná cena | C94: Napuštění upravenou vodou | D94: m3 | E94: 0.15 | F94: 0 | G94: =ROUND(E94*F94,2) -> 0 | H94: 0 | I94: =ROUND(E94*H94,2) -> 0 | J94: 4200 | K94: =ROUND(E94*J94,2) -> 630 | L94: 21 | M94: =G94*(1+L94/100) -> 0 | N94: 0 | O94: =ROUND(E94*N94,2) -> 0 | P94: 0 | Q94: =ROUND(E94*P94,2) -> 0 | S94: Vlastní | T94: Indiv | U94: 0 | V94: =ROUND(E94*U94,2) -> 0 | X94: R-položka | Y94: Běžná | AG94: POL12_1
A95: 78 | B95: Plánovaná cena | C95: Revize spallnové cesty | D95: hod | E95: 3 | F95: 0 | G95: =ROUND(E95*F95,2) -> 0 | H95: 0 | I95: =ROUND(E95*H95,2) -> 0 | J95: 550 | K95: =ROUND(E95*J95,2) -> 1650 | L95: 21 | M95: =G95*(1+L95/100) -> 0 | N95: 0 | O95: =ROUND(E95*N95,2) -> 0 | P95: 0 | Q95: =ROUND(E95*P95,2) -> 0 | S95: Vlastní | T95: Indiv | U95: 0 | V95: =ROUND(E95*U95,2) -> 0 | X95: R-položka | Y95: Běžná | AG95: POL12_1
A96: 79 | B96: Plánovaná cena | C96: Inhibitor koroze do topného systému ( 1:100) 1 l | D96: hod | E96: 2 | F96: 0 | G96: =ROUND(E96*F96,2) -> 0 | H96: 0 | I96: =ROUND(E96*H96,2) -> 0 | J96: 650 | K96: =ROUND(E96*J96,2) -> 1300 | L96: 21 | M96: =G96*(1+L96/100) -> 0 | N96: 0 | O96: =ROUND(E96*N96,2) -> 0 | P96: 0 | Q96: =ROUND(E96*P96,2) -> 0 | S96: Vlastní | T96: Indiv | U96: 0 | V96: =ROUND(E96*U96,2) -> 0 | X96: R-položka | Y96: Běžná | AG96: POL12_1
AE97: 12 | AF97: 21 | AG97: DPH
B98: Celkem | G98: =G8+G19+G27+G33+G47+G65+G78+G81+G87+G90 -> 0 | AE98: =SUMIF(L7:L96,AE97,G7:G96) -> 0 | AF98: =SUMIF(L7:L96,AF97,G7:G96) -> 0 | AG98: SUM
AG99: END

Sheet S01 5) ELEKTRO Pol
A1: Položkový soupis prací a dodávek | AF1: #TypZaznamu#
A2: S: | B2: 01 | C2: REKONSTRUKCE VOLNOČASOVÉHO CENTRA V UNÍNĚ - 2.etapa | AF2: STA
A3: O: | B3: S01 | C3: VOLNOČASOVÉ CENTRUM | AB3: STA | AF3: OBJ
A4: R: | B4: 5) ELEKTRO | C4: Silnoproud a slaboproud včetně bleskosvodu | AF4: ROZ
A6: P.č. | B6: Číslo položky | C6: Název položky | D6: MJ | E6: Množství | F6: Cena / MJ | G6: Celkem | H6: Dodávka | I6: Dodávka celk. | J6: Montáž | K6: Montáž celk. | L6: DPH | M6: Cena s DPH | N6: Hmotnost / MJ | O6: Hmotnost celk.(t) | P6: Dem. hmotnost / MJ | Q6: Dem. hmotnost celk.(t) | R6: Ceník | S6: Cen. soustava / platnost | T6: Cenová úroveň | U6: Nhod / MJ | V6: Nhod celk. | W6: Dodavatel | X6: Typ položky | Y6: Stav položky
A8: Díl: | B8: _1 | C8: ELEKTROMONTÁŽE SI + trubkování SLP - MATERIÁL NOSNÝ | G8: =SUMIF(AF9:AF49,"<>NOR",G9:G49) -> 118625.4 | I8: =SUM(I9:I49) -> 0 | K8: =SUM(K9:K49) -> 64684.48 | M8: =SUM(M9:M49) -> 143536.73 | O8: =SUM(O9:O49) -> 0 | Q8: =SUM(Q9:Q49) -> 0 | V8: =SUM(V9:V49) -> 0 | AF8: DIL
A9: 1 | B9: Pol__0001 | C9: TRUBKA SMNF 16 OHEBNÁ | D9: M | E9: 220 | F9: 15.34 | G9: =ROUND(E9*F9,2) -> 3374.8 | H9: 0 | I9: =ROUND(E9*H9,2) -> 0 | J9: 7.2 | K9: =ROUND(E9*J9,2) -> 1584 | L9: 21 | M9: =G9*(1+L9/100) -> 4083.508 | N9: 0 | O9: =ROUND(E9*N9,2) -> 0 | P9: 0 | Q9: =ROUND(E9*P9,2) -> 0 | S9: Vlastní | T9: Indiv | U9: 0 | V9: =ROUND(E9*U9,2) -> 0 | X9: Práce | Y9: Běžná | AF9: POL1_1
A10: 2 | B10: Pol__0002 | C10: TRUBKA SMNF 20 OHEBNÁ | D10: M | E10: 120 | F10: 17.7 | G10: =ROUND(E10*F10,2) -> 2124 | H10: 0 | I10: =ROUND(E10*H10,2) -> 0 | J10: 9.5 | K10: =ROUND(E10*J10,2) -> 1140 | L10: 21 | M10: =G10*(1+L10/100) -> 2570.04 | N10: 0 | O10: =ROUND(E10*N10,2) -> 0 | P10: 0 | Q10: =ROUND(E10*P10,2) -> 0 | S10: Vlastní | T10: Indiv | U10: 0 | V10: =ROUND(E10*U10,2) -> 0 | X10: Práce | Y10: Běžná | AF10: POL1_1
A11: 3 | B11: Pol__0003 | C11: TRUBKA SMNF 25 OHEBNÁ | D11: M | E11: 50 | F11: 30.68 | G11: =ROUND(E11*F11,2) -> 1534 | H11: 0 | I11: =ROUND(E11*H11,2) -> 0 | J11: 15.9 | K11: =ROUND(E11*J11,2) -> 795 | L11: 21 | M11: =G11*(1+L11/100) -> 1856.14 | N11: 0 | O11: =ROUND(E11*N11,2) -> 0 | P11: 0 | Q11: =ROUND(E11*P11,2) -> 0 | S11: Vlastní | T11: Indiv | U11: 0 | V11: =ROUND(E11*U11,2) -> 0 | X11: Práce | Y11: Běžná | AF11: POL1_1
A12: 4 | B12: Pol__0004 | C12: TRUBKA SMNF 32 OHEBNÁ | D12: M | E12: 50 | F12: 37.76 | G12: =ROUND(E12*F12,2) -> 1888 | H12: 0 | I12: =ROUND(E12*H12,2) -> 0 | J12: 24.3 | K12: =ROUND(E12*J12,2) -> 1215 | L12: 21 | M12: =G12*(1+L12/100) -> 2284.48 | N12: 0 | O12: =ROUND(E12*N12,2) -> 0 | P12: 0 | Q12: =ROUND(E12*P12,2) -> 0 | S12: Vlastní | T12: Indiv | U12: 0 | V12: =ROUND(E12*U12,2) -> 0 | X12: Práce | Y12: Běžná | AF12: POL1_1
A13: 5 | B13: Pol__0005 | C13: TRUBKA SMNF 40 OHEBNÁ | D13: M | E13: 40 | F13: 38.94 | G13: =ROUND(E13*F13,2) -> 1557.6 | H13: 0 | I13: =ROUND(E13*H13,2) -> 0 | J13: 29.8 | K13: =ROUND(E13*J13,2) -> 1192 | L13: 21 | M13: =G13*(1+L13/100) -> 1884.696 | N13: 0 | O13: =ROUND(E13*N13,2) -> 0 | P13: 0 | Q13: =ROUND(E13*P13,2) -> 0 | S13: Vlastní | T13: Indiv | U13: 0 | V13: =ROUND(E13*U13,2) -> 0 | X13: Práce | Y13: Běžná | AF13: POL1_1
A14: 6 | B14: Pol__0006 | C14: TRUBKA SMNF 50 OHEBNÁ | D14: M | E14: 40 | F14: 38.94 | G14: =ROUND(E14*F14,2) -> 1557.6 | H14: 0 | I14: =ROUND(E14*H14,2) -> 0 | J14: 32.1 | K14: =ROUND(E14*J14,2) -> 1284 | L14: 21 | M14: =G14*(1+L14/100) -> 1884.696 | N14: 0 | O14: =ROUND(E14*N14,2) -> 0 | P14: 0 | Q14: =ROUND(E14*P14,2) -> 0 | S14: Vlastní | T14: Indiv | U14: 0 | V14: =ROUND(E14*U14,2) -> 0 | X14: Práce | Y14: Běžná | AF14: POL1_1
A15: 7 | B15: Pol__0007 | C15: TRUBKA PVC 16 - TUHÁ | D15: M | E15: 40 | F15: 37.76 | G15: =ROUND(E15*F15,2) -> 1510.4 | H15: 0 | I15: =ROUND(E15*H15,2) -> 0 | J15: 16.5 | K15: =ROUND(E15*J15,2) -> 660 | L15: 21 | M15: =G15*(1+L15/100) -> 1827.584 | N15: 0 | O15: =ROUND(E15*N15,2) -> 0 | P15: 0 | Q15: =ROUND(E15*P15,2) -> 0 | S15: Vlastní | T15: Indiv | U15: 0 | V15: =ROUND(E15*U15,2) -> 0 | X15: Práce | Y15: Běžná | AF15: POL1_1
A16: 8 | B16: Pol__0008 | C16: TRUBKA KPF 40 | D16: M | E16: 20 | F16: 30.68 | G16: =ROUND(E16*F16,2) -> 613.6 | H16: 0 | I16: =ROUND(E16*H16,2) -> 0 | J16: 12.5 | K16: =ROUND(E16*J16,2) -> 250 | L16: 21 | M16: =G16*(1+L16/100) -> 742.456 | N16: 0 | O16: =ROUND(E16*N16,2) -> 0 | P16: 0 | Q16: =ROUND(E16*P16,2) -> 0 | S16: Vlastní | T16: Indiv | U16: 0 | V16: =ROUND(E16*U16,2) -> 0 | X16: Práce | Y16: Běžná | AF16: POL1_1
A17: 9 | B17: Pol__0009 | C17: TRUBKA KPF 125 | D17: M | E17: 5 | F17: 146.32 | G17: =ROUND(E17*F17,2) -> 731.6 | H17: 0 | I17: =ROUND(E17*H17,2) -> 0 | J17: 36 | K17: =ROUND(E17*J17,2) -> 180 | L17: 21 | M17: =G17*(1+L17/100) -> 885.236 | N17: 0 | O17: =ROUND(E17*N17,2) -> 0 | P17: 0 | Q17: =ROUND(E17*P17,2) -> 0 | S17: Vlastní | T17: Indiv | U17: 0 | V17: =ROUND(E17*U17,2) -> 0 | X17: Práce | Y17: Běžná | AF17: POL1_1
A18: 10 | B18: Pol__0010 | C18: TRUBKA HDPE 40 x 32 | D18: m | E18: 15 | F18: 47.2 | G18: =ROUND(E18*F18,2) -> 708 | H18: 0 | I18: =ROUND(E18*H18,2) -> 0 | J18: 32.5 | K18: =ROUND(E18*J18,2) -> 487.5 | L18: 21 | M18: =G18*(1+L18/100) -> 856.68 | N18: 0 | O18: =ROUND(E18*N18,2) -> 0 | P18: 0 | Q18: =ROUND(E18*P18,2) -> 0 | S18: Vlastní | T18: Indiv | U18: 0 | V18: =ROUND(E18*U18,2) -> 0 | X18: Práce | Y18: Běžná | AF18: POL1_1
A19: 11 | B19: Pol__0011 | C19: KRABICE PŘÍSTROJOVÁ KP 67 - ZDIVO | D19: KS | E19: 48 | F19: 17.7 | G19: =ROUND(E19*F19,2) -> 849.6 | H19: 0 | I19: =ROUND(E19*H19,2) -> 0 | J19: 8.1 | K19: =ROUND(E19*J19,2) -> 388.8 | L19: 21 | M19: =G19*(1+L19/100) -> 1028.016 | N19: 0 | O19: =ROUND(E19*N19,2) -> 0 | P19: 0 | Q19: =ROUND(E19*P19,2) -> 0 | S19: Vlastní | T19: Indiv | U19: 0 | V19: =ROUND(E19*U19,2) -> 0 | X19: Práce | Y19: Běžná | AF19: POL1_1
A20: 12 | B20: Pol__0012 | C20: KRABICE PŘÍSTROJOVÁ KPR 68 | D20: KS | E20: 55 | F20: 34.22 | G20: =ROUND(E20*F20,2) -> 1882.1 | H20: 0 | I20: =ROUND(E20*H20,2) -> 0 | J20: 23.8 | K20: =ROUND(E20*J20,2) -> 1309 | L20: 21 | M20: =G20*(1+L20/100) -> 2277.341 | N20: 0 | O20: =ROUND(E20*N20,2) -> 0 | P20: 0 | Q20: =ROUND(E20*P20,2) -> 0 | S20: Vlastní | T20: Indiv | U20: 0 | V20: =ROUND(E20*U20,2) -> 0 | X20: Práce | Y20: Běžná | AF20: POL1_1
... A49: 41 | B49: Pol__0041 | C49: NEHOŘLAVÁ PODLOŽKA 15 X 15 cm | D49: KS | E49: 15 | F49: 27.14 | G49: =ROUND(E49*F49,2) -> 407.1 | H49: 0 | I49: =ROUND(E49*H49,2) -> 0 | J49: 55 | K49: =ROUND(E49*J49,2) -> 825 | L49: 21 | M49: =G49*(1+L49/100) -> 492.591 | N49: 0 | O49: =ROUND(E49*N49,2) -> 0 | P49: 0 | Q49: =ROUND(E49*P49,2) -> 0 | S49: Vlastní | T49: Indiv | U49: 0 | V49: =ROUND(E49*U49,2) -> 0 | X49: Práce | Y49: Běžná | AF49: POL1_1
A50: Díl: | B50: _3 | C50: vodivé pospojování: | G50: =SUMIF(AF51:AF59,"<>NOR",G51:G59) -> 8775.66 | I50: =SUM(I51:I59) -> 0 | K50: =SUM(K51:K59) -> 4232.2 | M50: =SUM(M51:M59) -> 10618.549 | O50: =SUM(O51:O59) -> 0 | Q50: =SUM(Q51:Q59) -> 0 | V50: =SUM(V51:V59) -> 0 | AF50: DIL
A51: 53 | B51: Pol__0053 | C51: VODIČ CYA 4 zž | D51: M | E51: 60 | F51: 30.68 | G51: =ROUND(E51*F51,2) -> 1840.8 | H51: 0 | I51: =ROUND(E51*H51,2) -> 0 | J51: 6.2 | K51: =ROUND(E51*J51,2) -> 372 | L51: 21 | M51: =G51*(1+L51/100) -> 2227.368 | N51: 0 | O51: =ROUND(E51*N51,2) -> 0 | P51: 0 | Q51: =ROUND(E51*P51,2) -> 0 | S51: Vlastní | T51: Indiv | U51: 0 | V51: =ROUND(E51*U51,2) -> 0 | X51: Práce | Y51: Běžná | AF51: POL1_1
A52: 54 | B52: Pol__0054 | C52: VODIČ CYA 6 zž | D52: M | E52: 40 | F52: 41.3 | G52: =ROUND(E52*F52,2) -> 1652 | H52: 0 | I52: =ROUND(E52*H52,2) -> 0 | J52: 13.7 | K52: =ROUND(E52*J52,2) -> 548 | L52: 21 | M52: =G52*(1+L52/100) -> 1998.92 | N52: 0 | O52: =ROUND(E52*N52,2) -> 0 | P52: 0 | Q52: =ROUND(E52*P52,2) -> 0 | S52: Vlastní | T52: Indiv | U52: 0 | V52: =ROUND(E52*U52,2) -> 0 | X52: Práce | Y52: Běžná | AF52: POL1_1
A53: 55 | B53: Pol__0055 | C53: VODIČ CYA 10 zž | D53: M | E53: 50 | F53: 68.44 | G53: =ROUND(E53*F53,2) -> 3422 | H53: 0 | I53: =ROUND(E53*H53,2) -> 0 | J53: 58 | K53: =ROUND(E53*J53,2) -> 2900 | L53: 21 | M53: =G53*(1+L53/100) -> 4140.62 | N53: 0 | O53: =ROUND(E53*N53,2) -> 0 | P53: 0 | Q53: =ROUND(E53*P53,2) -> 0 | S53: Vlastní | T53: Indiv | U53: 0 | V53: =ROUND(E53*U53,2) -> 0 | X53: Práce | Y53: Běžná | AF53: POL1_1
A54: 56 | B54: Pol__0056 | C54: SVORKA SZ, ZKUŠEBNÍ | D54: KS | E54: 1 | F54: 49.56 | G54: =ROUND(E54*F54,2) -> 49.56 | H54: 0 | I54: =ROUND(E54*H54,2) -> 0 | J54: 22.2 | K54: =ROUND(E54*J54,2) -> 22.2 | L54: 21 | M54: =G54*(1+L54/100) -> 59.9676 | N54: 0 | O54: =ROUND(E54*N54,2) -> 0 | P54: 0 | Q54: =ROUND(E54*P54,2) -> 0 | S54: Vlastní | T54: Indiv | U54: 0 | V54: =ROUND(E54*U54,2) -> 0 | X54: Práce | Y54: Běžná | AF54: POL1_1
A55: 57 | B55: Pol__0057 | C55: SVORKA SS, SPOJOVACÍ | D55: KS | E55: 5 | F55: 25.96 | G55: =ROUND(E55*F55,2) -> 129.8 | H55: 0 | I55: =ROUND(E55*H55,2) -> 0 | J55: 7.2 | K55: =ROUND(E55*J55,2) -> 36 | L55: 21 | M55: =G55*(1+L55/100) -> 157.058 | N55: 0 | O55: =ROUND(E55*N55,2) -> 0 | P55: 0 | Q55: =ROUND(E55*P55,2) -> 0 | S55: Vlastní | T55: Indiv | U55: 0 | V55: =ROUND(E55*U55,2) -> 0 | X55: Práce | Y55: Běžná | AF55: POL1_1
A56: 58 | B56: Pol__0058 | C56: SVORKA ST 1, NA POTRUBÍ | D56: KS | E56: 5 | F56: 60.18 | G56: =ROUND(E56*F56,2) -> 300.9 | H56: 0 | I56: =ROUND(E56*H56,2) -> 0 | J56: 28.3 | K56: =ROUND(E56*J56,2) -> 141.5 | L56: 21 | M56: =G56*(1+L56/100) -> 364.089 | N56: 0 | O56: =ROUND(E56*N56,2) -> 0 | P56: 0 | Q56: =ROUND(E56*P56,2) -> 0 | S56: Vlastní | T56: Indiv | U56: 0 | V56: =ROUND(E56*U56,2) -> 0 | X56: Práce | Y56: Běžná | AF56: POL1_1
A57: 59 | B57: Pol__0059 | C57: SVORKA ZEMNÍCÍ ZS 4 | D57: KS | E57: 5 | F57: 47.2 | G57: =ROUND(E57*F57,2) -> 236 | H57: 0 | I57: =ROUND(E57*H57,2) -> 0 | J57: 16.5 | K57: =ROUND(E57*J57,2) -> 82.5 | L57: 21 | M57: =G57*(1+L57/100) -> 285.56 | N57: 0 | O57: =ROUND(E57*N57,2) -> 0 | P57: 0 | Q57: =ROUND(E57*P57,2) -> 0 | S57: Vlastní | T57: Indiv | U57: 0 | V57: =ROUND(E57*U57,2) -> 0 | X57: Práce | Y57: Běžná | AF57: POL1_1
A58: 60 | B58: Pol__0060 | C58: SVORKA ZEMNÍCÍ ZSA 16 | D58: KS | E58: 5 | F58: 66.08 | G58: =ROUND(E58*F58,2) -> 330.4 | H58: 0 | I58: =ROUND(E58*H58,2) -> 0 | J58: 12 | K58: =ROUND(E58*J58,2) -> 60 | L58: 21 | M58: =G58*(1+L58/100) -> 399.784 | N58: 0 | O58: =ROUND(E58*N58,2) -> 0 | P58: 0 | Q58: =ROUND(E58*P58,2) -> 0 | S58: Vlastní | T58: Indiv | U58: 0 | V58: =ROUND(E58*U58,2) -> 0 | X58: Práce | Y58: Běžná | AF58: POL1_1
A59: 61 | B59: Pol__0061 | C59: ZEMNÍCÍ PÁSEK PRO ZSA 16, Cu DL. 0,5 M | D59: KS | E59: 5 | F59: 162.84 | G59: =ROUND(E59*F59,2) -> 814.2 | H59: 0 | I59: =ROUND(E59*H59,2) -> 0 | J59: 14 | K59: =ROUND(E59*J59,2) -> 70 | L59: 21 | M59: =G59*(1+L59/100) -> 985.182 | N59: 0 | O59: =ROUND(E59*N59,2) -> 0 | P59: 0 | Q59: =ROUND(E59*P59,2) -> 0 | S59: Vlastní | T59: Indiv | U59: 0 | V59: =ROUND(E59*U59,2) -> 0 | X59: Práce | Y59: Běžná | AF59: POL1_1
A60: Díl: | B60: _7 | C60: ELEKTROMONTÁŽE - MONTÁŽNÍ PRÁCE - SI + SLP | G60: =SUMIF(AF61:AF63,"<>NOR",G61:G63) -> 219008 | I60: =SUM(I61:I63) -> 0 | K60: =SUM(K61:K63) -> 192000 | M60: =SUM(M61:M63) -> 264999.68 | O60: =SUM(O61:O63) -> 0 | Q60: =SUM(Q61:Q63) -> 0 | V60: =SUM(V61:V63) -> 0 | AF60: DIL
A61: 82 | B61: Pol__0082 | C61: MONTÁŽNÍ PRÁCE DLE KAPITOLY "MATERIÁL NOSNÝ" | D61: KS | E61: 1 | F61: 190452 | G61: =ROUND(E61*F61,2) -> 190452 | H61: 0 | I61: =ROUND(E61*H61,2) -> 0 | J61: 180000 | K61: =ROUND(E61*J61,2) -> 180000 | L61: 21 | M61: =G61*(1+L61/100) -> 230446.92 | N61: 0 | O61: =ROUND(E61*N61,2) -> 0 | P61: 0 | Q61: =ROUND(E61*P61,2) -> 0 | S61: Vlastní | T61: Indiv | U61: 0 | V61: =ROUND(E61*U61,2) -> 0 | X61: Práce | Y61: Běžná | Z61: částečně | AF61: POL1_1
A62: 84 | B62: Pol__0084 | C62: PŘIDRUŽENÉ PRACOVNÍ VÝKONY (doprava, uskladnění materiálu, nářadí a jejich zabezpečení, přístup k, vodě, soc.zařízení) | D62: KS | E62: 1 | F62: 10620 | G62: =ROUND(E62*F62,2) -> 10620 | H62: 0 | I62: =ROUND(E62*H62,2) -> 0 | J62: 8500 | K62: =ROUND(E62*J62,2) -> 8500 | L62: 21 | M62: =G62*(1+L62/100) -> 12850.2 | N62: 0 | O62: =ROUND(E62*N62,2) -> 0 | P62: 0 | Q62: =ROUND(E62*P62,2) -> 0 | S62: Vlastní | T62: Indiv | U62: 0 | V62: =ROUND(E62*U62,2) -> 0 | X62: Práce | Y62: Běžná | AF62: POL1_1
A63: 85 | B63: Pol__0085 | C63: UKONČENÍ VODIČŮ V ROZVADĚČÍCH DLE KAPITOLY "DODÁVKA ROZVADĚČŮ" (ukončení a zapojení vodičů na, svorkách) | D63: KS | E63: 1 | F63: 17936 | G63: =ROUND(E63*F63,2) -> 17936 | H63: 0 | I63: =ROUND(E63*H63,2) -> 0 | J63: 3500 | K63: =ROUND(E63*J63,2) -> 3500 | L63: 21 | M63: =G63*(1+L63/100) -> 21702.56 | N63: 0 | O63: =ROUND(E63*N63,2) -> 0 | P63: 0 | Q63: =ROUND(E63*P63,2) -> 0 | S63: Vlastní | T63: Indiv | U63: 0 | V63: =ROUND(E63*U63,2) -> 0 | X63: Práce | Y63: Běžná | AF63: POL1_1
A64: Díl: | B64: _8 | C64: DODÁVKA ROZVADĚČŮ | G64: =SUMIF(AF65:AF91,"<>NOR",G65:G91) -> 83033.06 | I64: =SUM(I65:I91) -> 0 | K64: =SUM(K65:K91) -> 68348 | M64: =SUM(M65:M91) -> 100470 | O64: =SUM(O65:O91) -> 0 | Q64: =SUM(Q65:Q91) -> 0 | V64: =SUM(V65:V91) -> 0 | AF64: DIL
C65: RE - typizovaný elektroměrový pilíř | AF65: POP
A66: 86 | B66: Pol__0086 | C66: TYP ER 212 - Esta Ivančice | D66: KS | E66: 1 | F66: 15741.2 | G66: =ROUND(E66*F66,2) -> 15741.2 | H66: 0 | I66: =ROUND(E66*H66,2) -> 0 | J66: 12500 | K66: =ROUND(E66*J66,2) -> 12500 | L66: 21 | M66: =G66*(1+L66/100) -> 19046.852 | N66: 0 | O66: =ROUND(E66*N66,2) -> 0 | P66: 0 | Q66: =ROUND(E66*P66,2) -> 0 | S66: Vlastní | T66: Indiv | U66: 0 | V66: =ROUND(E66*U66,2) -> 0 | X66: Práce | Y66: Běžná | AF66: POL1_1
A67: 87 | B67: Pol__0087 | C67: JISTIČ 25B/3 | D67: KS | E67: 1 | F67: 719.8 | G67: =ROUND(E67*F67,2) -> 719.8 | H67: 0 | I67: =ROUND(E67*H67,2) -> 0 | J67: 175 | K67: =ROUND(E67*J67,2) -> 175 | L67: 21 | M67: =G67*(1+L67/100) -> 870.958 | N67: 0 | O67: =ROUND(E67*N67,2) -> 0 | P67: 0 | Q67: =ROUND(E67*P67,2) -> 0 | S67: Vlastní | T67: Indiv | U67: 0 | V67: =ROUND(E67*U67,2) -> 0 | X67: Práce | Y67: Běžná | AF67: POL1_1
A68: 88 | B68: Pol__0088 | C68: JISTIČ 2B/1 | D68: KS | E68: 1 | F68: 293.82 | G68: =ROUND(E68*F68,2) -> 293.82 | H68: 0 | I68: =ROUND(E68*H68,2) -> 0 | J68: 230 | K68: =ROUND(E68*J68,2) -> 230 | L68: 21 | M68: =G68*(1+L68/100) -> 355.5222 | N68: 0 | O68: =ROUND(E68*N68,2) -> 0 | P68: 0 | Q68: =ROUND(E68*P68,2) -> 0 | S68: Vlastní | T68: Indiv | U68: 0 | V68: =ROUND(E68*U68,2) -> 0 | X68: Práce | Y68: Běžná | AF68: POL1_1
A69: 89 | B69: Pol__0089 | C69: VYPINAČ 3P/63 | D69: KS | E69: 1 | F69: 719.8 | G69: =ROUND(E69*F69,2) -> 719.8 | H69: 0 | I69: =ROUND(E69*H69,2) -> 0 | J69: 890 | K69: =ROUND(E69*J69,2) -> 890 | L69: 21 | M69: =G69*(1+L69/100) -> 870.958 | N69: 0 | O69: =ROUND(E69*N69,2) -> 0 | P69: 0 | Q69: =ROUND(E69*P69,2) -> 0 | S69: Vlastní | T69: Indiv | U69: 0 | V69: =ROUND(E69*U69,2) -> 0 | X69: Práce | Y69: Běžná | AF69: POL1_1
C70: RH - hlavní rozvaděč objektu | AF70: POP
C71: OCEP. ROZVADĚČ DO ZDIVA | AF71: POP
A72: 90 | B72: Pol__0090 | C72: IP40/20, ROZM.: 600 X 900 X 200 | D72: KS | E72: 1 | F72: 7658.2 | G72: =ROUND(E72*F72,2) -> 7658.2 | H72: 0 | I72: =ROUND(E72*H72,2) -> 0 | J72: 12500 | K72: =ROUND(E72*J72,2) -> 12500 | L72: 21 | M72: =G72*(1+L72/100) -> 9266.422 | N72: 0 | O72: =ROUND(E72*N72,2) -> 0 | P72: 0 | Q72: =ROUND(E72*P72,2) -> 0 | S72: Vlastní | T72: Indiv | U72: 0 | V72: =ROUND(E72*U72,2) -> 0 | X72: Práce | Y72: Běžná | AF72: POL1_1
A73: 91 | B73: Pol__0091 | C73: VYPINAČ 3P/63 | D73: KS | E73: 1 | F73: 520.38 | G73: =ROUND(E73*F73,2) -> 520.38 | H73: 0 | I73: =ROUND(E73*H73,2) -> 0 | J73: 698 | K73: =ROUND(E73*J73,2) -> 698 | L73: 21 | M73: =G73*(1+L73/100) -> 629.6598 | N73: 0 | O73: =ROUND(E73*N73,2) -> 0 | P73: 0 | Q73: =ROUND(E73*P73,2) -> 0 | S73: Vlastní | T73: Indiv | U73: 0 | V73: =ROUND(E73*U73,2) -> 0 | X73: Práce | Y73: Běžná | AF73: POL1_1
A74: 92 | B74: Pol__0092 | C74: SVODIČ PŘEPĚTÍ T1 + T2, TNC, In=25 kA/p | D74: KS | E74: 1 | F74: 4130 | G74: =ROUND(E74*F74,2) -> 4130 | H74: 0 | I74: =ROUND(E74*H74,2) -> 0 | J74: 12600 | K74: =ROUND(E74*J74,2) -> 12600 | L74: 21 | M74: =G74*(1+L74/100) -> 4997.3 | N74: 0 | O74: =ROUND(E74*N74,2) -> 0 | P74: 0 | Q74: =ROUND(E74*P74,2) -> 0 | S74: Vlastní | T74: Indiv | U74: 0 | V74: =ROUND(E74*U74,2) -> 0 | X74: Práce | Y74: Běžná | AF74: POL1_1
A75: 93 | B75: Pol__0093 | C75: SPINACÍ HODINY 1-KANÁL., 16A, 250V | D75: KS | E75: 1 | F75: 1705.1 | G75: =ROUND(E75*F75,2) -> 1705.1 | H75: 0 | I75: =ROUND(E75*H75,2) -> 0 | J75: 1850 | K75: =ROUND(E75*J75,2) -> 1850 | L75: 21 | M75: =G75*(1+L75/100) -> 2063.171 | N75: 0 | O75: =ROUND(E75*N75,2) -> 0 | P75: 0 | Q75: =ROUND(E75*P75,2) -> 0 | S75: Vlastní | T75: Indiv | U75: 0 | V75: =ROUND(E75*U75,2) -> 0 | X75: Práce | Y75: Běžná | AF75: POL1_1
A76: 94 | B76: Pol__0094 | C76: TRAFO ZVONKOVÉ 230/8-12-24V | D76: KS | E76: 1 | F76: 847.24 | G76: =ROUND(E76*F76,2) -> 847.24 | H76: 0 | I76: =ROUND(E76*H76,2) -> 0 | J76: 425 | K76: =ROUND(E76*J76,2) -> 425 | L76: 21 | M76: =G76*(1+L76/100) -> 1025.1604 | N76: 0 | O76: =ROUND(E76*N76,2) -> 0 | P76: 0 | Q76: =ROUND(E76*P76,2) -> 0 | S76: Vlastní | T76: Indiv | U76: 0 | V76: =ROUND(E76*U76,2) -> 0 | X76: Práce | Y76: Běžná | AF76: POL1_1
A77: 95 | B77: Pol__0095 | C77: ZÁSUVKA VESTAVNÁ 16A, 250V, 5-TI PÓL. | D77: KS | E77: 1 | F77: 545.16 | G77: =ROUND(E77*F77,2) -> 545.16 | H77: 0 | I77: =ROUND(E77*H77,2) -> 0 | J77: 456 | K77: =ROUND(E77*J77,2) -> 456 | L77: 21 | M77: =G77*(1+L77/100) -> 659.6436 | N77: 0 | O77: =ROUND(E77*N77,2) -> 0 | P77: 0 | Q77: =ROUND(E77*P77,2) -> 0 | S77: Vlastní | T77: Indiv | U77: 0 | V77: =ROUND(E77*U77,2) -> 0 | X77: Práce | Y77: Běžná | AF77: POL1_1
A78: 96 | B78: Pol__0096 | C78: PROUDOVÝ CHRÁNIČ KOMBINOVANÝ LFI 10C/1N/0,03 | D78: KS | E78: 5 | F78: 1439.6 | G78: =ROUND(E78*F78,2) -> 7198 | H78: 0 | I78: =ROUND(E78*H78,2) -> 0 | J78: 1050 | K78: =ROUND(E78*J78,2) -> 5250 | L78: 21 | M78: =G78*(1+L78/100) -> 8709.58 | N78: 0 | O78: =ROUND(E78*N78,2) -> 0 | P78: 0 | Q78: =ROUND(E78*P78,2) -> 0 | S78: Vlastní | T78: Indiv | U78: 0 | V78: =ROUND(E78*U78,2) -> 0 | X78: Práce | Y78: Běžná | AF78: POL1_1
A79: 97 | B79: Pol__0097 | C79: PROUDOVÝ CHRÁNIČ 40/4/0,03 | D79: KS | E79: 1 | F79: 1982.4 | G79: =ROUND(E79*F79,2) -> 1982.4 | H79: 0 | I79: =ROUND(E79*H79,2) -> 0 | J79: 1690 | K79: =ROUND(E79*J79,2) -> 1690 | L79: 21 | M79: =G79*(1+L79/100) -> 2398.704 | N79: 0 | O79: =ROUND(E79*N79,2) -> 0 | P79: 0 | Q79: =ROUND(E79*P79,2) -> 0 | S79: Vlastní | T79: Indiv | U79: 0 | V79: =ROUND(E79*U79,2) -> 0 | X79: Práce | Y79: Běžná | AF79: POL1_1
A80: 98 | B80: Pol__0098 | C80: JISTIČ 6C/1 | D80: KS | E80: 4 | F80: 177 | G80: =ROUND(E80*F80,2) -> 708 | H80: 0 | I80: =ROUND(E80*H80,2) -> 0 | J80: 230 | K80: =ROUND(E80*J80,2) -> 920 | L80: 21 | M80: =G80*(1+L80/100) -> 856.68 | N80: 0 | O80: =ROUND(E80*N80,2) -> 0 | P80: 0 | Q80: =ROUND(E80*P80,2) -> 0 | S80: Vlastní | T80: Indiv | U80: 0 | V80: =ROUND(E80*U80,2) -> 0 | X80: Práce | Y80: Běžná | AF80: POL1_1
A81: 99 | B81: Pol__0099 | C81: JISTIČ 10C/1 | D81: KS | E81: 6 | F81: 177 | G81: =ROUND(E81*F81,2) -> 1062 | H81: 0 | I81: =ROUND(E81*H81,2) -> 0 | J81: 132 | K81: =ROUND(E81*J81,2) -> 792 | L81: 21 | M81: =G81*(1+L81/100) -> 1285.02 | N81: 0 | O81: =ROUND(E81*N81,2) -> 0 | P81: 0 | Q81: =ROUND(E81*P81,2) -> 0 | S81: Vlastní | T81: Indiv | U81: 0 | V81: =ROUND(E81*U81,2) -> 0 | X81: Práce | Y81: Běžná | AF81: POL1_1
A82: 100 | B82: Pol__0100 | C82: JISTIČ 16C/1 | D82: KS | E82: 22 | F82: 177 | G82: =ROUND(E82*F82,2) -> 3894 | H82: 0 | I82: =ROUND(E82*H82,2) -> 0 | J82: 143 | K82: =ROUND(E82*J82,2) -> 3146 | L82: 21 | M82: =G82*(1+L82/100) -> 4711.74 | N82: 0 | O82: =ROUND(E82*N82,2) -> 0 | P82: 0 | Q82: =ROUND(E82*P82,2) -> 0 | S82: Vlastní | T82: Indiv | U82: 0 | V82: =ROUND(E82*U82,2) -> 0 | X82: Práce | Y82: Běžná | AF82: POL1_1
A83: 101 | B83: Pol__0101 | C83: JISTIČ 10C/3 | D83: KS | E83: 1 | F83: 613.6 | G83: =ROUND(E83*F83,2) -> 613.6 | H83: 0 | I83: =ROUND(E83*H83,2) -> 0 | J83: 410 | K83: =ROUND(E83*J83,2) -> 410 | L83: 21 | M83: =G83*(1+L83/100) -> 742.456 | N83: 0 | O83: =ROUND(E83*N83,2) -> 0 | P83: 0 | Q83: =ROUND(E83*P83,2) -> 0 | S83: Vlastní | T83: Indiv | U83: 0 | V83: =ROUND(E83*U83,2) -> 0 | X83: Práce | Y83: Běžná | AF83: POL1_1
... A88: 106 | B88: Pol__0106 | C88: KOMPLETACE ROZVADĚČE | D88: KS | E88: 1 | F88: 16874 | G88: =ROUND(E88*F88,2) -> 16874 | H88: 0 | I88: =ROUND(E88*H88,2) -> 0 | J88: 8900 | K88: =ROUND(E88*J88,2) -> 8900 | L88: 21 | M88: =G88*(1+L88/100) -> 20417.54 | N88: 0 | O88: =ROUND(E88*N88,2) -> 0 | P88: 0 | Q88: =ROUND(E88*P88,2) -> 0 | S88: Vlastní | T88: Indiv | U88: 0 | V88: =ROUND(E88*U88,2) -> 0 | X88: Práce | Y88: Běžná | AF88: POL1_1
C89: SOUPIS ROZVADĚČŮ | AF89: POP
A90: 107 | B90: Pol__0107 | C90: RE | D90: KS | E90: 1 | F90: 3894 | G90: =ROUND(E90*F90,2) -> 3894 | H90: 0 | I90: =ROUND(E90*H90,2) -> 0 | J90: 0 | K90: =ROUND(E90*J90,2) -> 0 | L90: 21 | M90: =G90*(1+L90/100) -> 4711.74 | N90: 0 | O90: =ROUND(E90*N90,2) -> 0 | P90: 0 | Q90: =ROUND(E90*P90,2) -> 0 | S90: Vlastní | T90: Indiv | U90: 0 | V90: =ROUND(E90*U90,2) -> 0 | X90: Práce | Y90: Běžná | AF90: POL1_1
A91: 108 | B91: Pol__0108 | C91: RH | D91: KS | E91: 1 | F91: 3658 | G91: =ROUND(E91*F91,2) -> 3658 | H91: 0 | I91: =ROUND(E91*H91,2) -> 0 | J91: 0 | K91: =ROUND(E91*J91,2) -> 0 | L91: 21 | M91: =G91*(1+L91/100) -> 4426.18 | N91: 0 | O91: =ROUND(E91*N91,2) -> 0 | P91: 0 | Q91: =ROUND(E91*P91,2) -> 0 | S91: Vlastní | T91: Indiv | U91: 0 | V91: =ROUND(E91*U91,2) -> 0 | X91: Práce | Y91: Běžná | AF91: POL1_1
A92: Díl: | B92: _9 | C92: DOPRAVA | G92: =SUMIF(AF93:AF94,"<>NOR",G93:G94) -> 154.58 | I92: =SUM(I93:I94) -> 0 | K92: =SUM(K93:K94) -> 4100.88 | M92: =SUM(M93:M94) -> 187.0418 | O92: =SUM(O93:O94) -> 0 | Q92: =SUM(Q93:Q94) -> 0 | V92: =SUM(V93:V94) -> 0 | AF92: DIL
A93: 109 | B93: Pol__0109 | C93: MIMOSTAVENIŠTNÍ DOPRAVA DLE KAPITOLY "DODÁVKA ROZVADĚČŮ"(doprava rozvaděčů na stavbu) | D93: KS | E93: 0.05 | F93: 2950 | G93: =ROUND(E93*F93,2) -> 147.5 | H93: 0 | I93: =ROUND(E93*H93,2) -> 0 | J93: 68348 | K93: =ROUND(E93*J93,2) -> 3417.4 | L93: 21 | M93: =G93*(1+L93/100) -> 178.475 | N93: 0 | O93: =ROUND(E93*N93,2) -> 0 | P93: 0 | Q93: =ROUND(E93*P93,2) -> 0 | S93: Vlastní | T93: Indiv | U93: 0 | V93: =ROUND(E93*U93,2) -> 0 | X93: Práce | Y93: Běžná | Z93: částečně | AF93: POL1_1
A94: 110 | B94: Pol__0110 | C94: VNITROSTAVENIŠTNÍ DOPRAVA DLE KAPITOLY "DODÁVKA ROZVADĚČŮ"(doprava rozvaděčů na samotné stavbě) | D94: KS | E94: 0.01 | F94: 708 | G94: =ROUND(E94*F94,2) -> 7.08 | H94: 0 | I94: =ROUND(E94*H94,2) -> 0 | J94: 68348 | K94: =ROUND(E94*J94,2) -> 683.48 | L94: 21 | M94: =G94*(1+L94/100) -> 8.5668 | N94: 0 | O94: =ROUND(E94*N94,2) -> 0 | P94: 0 | Q94: =ROUND(E94*P94,2) -> 0 | S94: Vlastní | T94: Indiv | U94: 0 | V94: =ROUND(E94*U94,2) -> 0 | X94: Práce | Y94: Běžná | Z94: částečně | AF94: POL1_1
A95: Díl: | B95: _13 | C95: (trubkování, krabice, kabelové žlaby - viz. Elektromontáže materiál nosný) | G95: =SUMIF(AF96:AF107,"<>NOR",G96:G107) -> 33238.24 | I95: =SUM(I96:I107) -> 0 | K95: =SUM(K96:K107) -> 21680.2 | M95: =SUM(M96:M107) -> 40218.27 | O95: =SUM(O96:O107) -> 0 | Q95: =SUM(Q96:Q107) -> 0 | V95: =SUM(V96:V107) -> 0 | AF95: DIL
A96: 130 | B96: Pol__0130 | C96: ZÁSUVKA DATOVÁ, 1x RJ 45, CAT 6, VČ. RÁMEČKU | D96: KS | E96: 1 | F96: 280.84 | G96: =ROUND(E96*F96,2) -> 280.84 | H96: 0 | I96: =ROUND(E96*H96,2) -> 0 | J96: 186.2 | K96: =ROUND(E96*J96,2) -> 186.2 | L96: 21 | M96: =G96*(1+L96/100) -> 339.8164 | N96: 0 | O96: =ROUND(E96*N96,2) -> 0 | P96: 0 | Q96: =ROUND(E96*P96,2) -> 0 | S96: Vlastní | T96: Indiv | U96: 0 | V96: =ROUND(E96*U96,2) -> 0 | X96: Práce | Y96: Běžná | AF96: POL1_1
A97: 131 | B97: Pol__0131 | C97: ZÁSUVKA DATOVÁ, 2x RJ 45, CAT 6, VČ. RÁMEČKU | D97: KS | E97: 14 | F97: 317.42 | G97: =ROUND(E97*F97,2) -> 4443.88 | H97: 0 | I97: =ROUND(E97*H97,2) -> 0 | J97: 242.2 | K97: =ROUND(E97*J97,2) -> 3390.8 | L97: 21 | M97: =G97*(1+L97/100) -> 5377.0948 | N97: 0 | O97: =ROUND(E97*N97,2) -> 0 | P97: 0 | Q97: =ROUND(E97*P97,2) -> 0 | S97: Vlastní | T97: Indiv | U97: 0 | V97: =ROUND(E97*U97,2) -> 0 | X97: Práce | Y97: Běžná | AF97: POL1_1
A98: 132 | B98: Pol__0132 | C98: KABEL UTP 4x2x0,5 CAT 6 | D98: M | E98: 380 | F98: 20.06 | G98: =ROUND(E98*F98,2) -> 7622.8 | H98: 0 | I98: =ROUND(E98*H98,2) -> 0 | J98: 11.62 | K98: =ROUND(E98*J98,2) -> 4415.6 | L98: 21 | M98: =G98*(1+L98/100) -> 9223.588 | N98: 0 | O98: =ROUND(E98*N98,2) -> 0 | P98: 0 | Q98: =ROUND(E98*P98,2) -> 0 | S98: Vlastní | T98: Indiv | U98: 0 | V98: =ROUND(E98*U98,2) -> 0 | X98: Práce | Y98: Běžná | AF98: POL1_1
A99: 133 | B99: Pol__0133 | C99: KABEL HDMI, DL. 10 m | D99: KS | E99: 1 | F99: 769.36 | G99: =ROUND(E99*F99,2) -> 769.36 | H99: 0 | I99: =ROUND(E99*H99,2) -> 0 | J99: 1350 | K99: =ROUND(E99*J99,2) -> 1350 | L99: 21 | M99: =G99*(1+L99/100) -> 930.9256 | N99: 0 | O99: =ROUND(E99*N99,2) -> 0 | P99: 0 | Q99: =ROUND(E99*P99,2) -> 0 | S99: Vlastní | T99: Indiv | U99: 0 | V99: =ROUND(E99*U99,2) -> 0 | X99: Práce | Y99: Běžná | AF99: POL1_1
A100: 134 | B100: Pol__0134 | C100: NÁSTĚN. ROZV. RACK RUA 15U/400mm, 600x600x400 | D100: KS | E100: 1 | F100: 8260 | G100: =ROUND(E100*F100,2) -> 8260 | H100: 0 | I100: =ROUND(E100*H100,2) -> 0 | J100: 5500 | K100: =ROUND(E100*J100,2) -> 5500 | L100: 21 | M100: =G100*(1+L100/100) -> 9994.6 | N100: 0 | O100: =ROUND(E100*N100,2) -> 0 | P100: 0 | Q100: =ROUND(E100*P100,2) -> 0 | S100: Vlastní | T100: Indiv | U100: 0 | V100: =ROUND(E100*U100,2) -> 0 | X100: Práce | Y100: Běžná | AF100: POL1_1
A101: 135 | B101: Pol__0135 | C101: NAPÁJECÍ PANEL 19", 6x230 V, VYPÍNAČ | D101: KS | E101: 1 | F101: 1947 | G101: =ROUND(E101*F101,2) -> 1947 | H101: 0 | I101: =ROUND(E101*H101,2) -> 0 | J101: 1190 | K101: =ROUND(E101*J101,2) -> 1190 | L101: 21 | M101: =G101*(1+L101/100) -> 2355.87 | N101: 0 | O101: =ROUND(E101*N101,2) -> 0 | P101: 0 | Q101: =ROUND(E101*P101,2) -> 0 | S101: Vlastní | T101: Indiv | U101: 0 | V101: =ROUND(E101*U101,2) -> 0 | X101: Práce | Y101: Běžná | AF101: POL1_1
A102: 136 | B102: Pol__0136 | C102: PATCH PANEL 1U, 24x RJ 45, MODULÁRNÍ, CELOKOV | D102: KS | E102: 1 | F102: 2702.2 | G102: =ROUND(E102*F102,2) -> 2702.2 | H102: 0 | I102: =ROUND(E102*H102,2) -> 0 | J102: 546 | K102: =ROUND(E102*J102,2) -> 546 | L102: 21 | M102: =G102*(1+L102/100) -> 3269.662 | N102: 0 | O102: =ROUND(E102*N102,2) -> 0 | P102: 0 | Q102: =ROUND(E102*P102,2) -> 0 | S102: Vlastní | T102: Indiv | U102: 0 | V102: =ROUND(E102*U102,2) -> 0 | X102: Práce | Y102: Běžná | AF102: POL1_1
A103: 137 | B103: Pol__0137 | C103: KEYSTONE RJ 45, CAT 6, NESTÍNĚNÝ | D103: KS | E103: 12 | F103: 80.24 | G103: =ROUND(E103*F103,2) -> 962.88 | H103: 0 | I103: =ROUND(E103*H103,2) -> 0 | J103: 58.8 | K103: =ROUND(E103*J103,2) -> 705.6 | L103: 21 | M103: =G103*(1+L103/100) -> 1165.0848 | N103: 0 | O103: =ROUND(E103*N103,2) -> 0 | P103: 0 | Q103: =ROUND(E103*P103,2) -> 0 | S103: Vlastní | T103: Indiv | U103: 0 | V103: =ROUND(E103*U103,2) -> 0 | X103: Práce | Y103: Běžná | AF103: POL1_1
A104: 138 | B104: Pol__0138 | C104: KONEKTOR RJ 45 CAT 6 | D104: KS | E104: 12 | F104: 80.24 | G104: =ROUND(E104*F104,2) -> 962.88 | H104: 0 | I104: =ROUND(E104*H104,2) -> 0 | J104: 77 | K104: =ROUND(E104*J104,2) -> 924 | L104: 21 | M104: =G104*(1+L104/100) -> 1165.0848 | N104: 0 | O104: =ROUND(E104*N104,2) -> 0 | P104: 0 | Q104: =ROUND(E104*P104,2) -> 0 | S104: Vlastní | T104: Indiv | U104: 0 | V104: =ROUND(E104*U104,2) -> 0 | X104: Práce | Y104: Běžná | AF104: POL1_1
A105: 139 | B105: Pol__0139 | C105: POLIČKA 19", HLOUBKA 450 MM | D105: KS | E105: 1 | F105: 1593 | G105: =ROUND(E105*F105,2) -> 1593 | H105: 0 | I105: =ROUND(E105*H105,2) -> 0 | J105: 532 | K105: =ROUND(E105*J105,2) -> 532 | L105: 21 | M105: =G105*(1+L105/100) -> 1927.53 | N105: 0 | O105: =ROUND(E105*N105,2) -> 0 | P105: 0 | Q105: =ROUND(E105*P105,2) -> 0 | S105: Vlastní | T105: Indiv | U105: 0 | V105: =ROUND(E105*U105,2) -> 0 | X105: Práce | Y105: Běžná | AF105: POL1_1
A106: 140 | B106: Pol__0140 | C106: VYVAZOVACÍ PANEL 19" | D106: KS | E106: 1 | F106: 625.4 | G106: =ROUND(E106*F106,2) -> 625.4 | H106: 0 | I106: =ROUND(E106*H106,2) -> 0 | J106: 490 | K106: =ROUND(E106*J106,2) -> 490 | L106: 21 | M106: =G106*(1+L106/100) -> 756.734 | N106: 0 | O106: =ROUND(E106*N106,2) -> 0 | P106: 0 | Q106: =ROUND(E106*P106,2) -> 0 | S106: Vlastní | T106: Indiv | U106: 0 | V106: =ROUND(E106*U106,2) -> 0 | X106: Práce | Y106: Běžná | AF106: POL1_1
A107: 141 | B107: Pol__0141 | C107: PODRUŽNÝ MATERIÁL (sádra, úchytný materiál, svorky, řezací kotouče, hmoždinky, atd.) | D107: KS | E107: 1 | F107: 3068 | G107: =ROUND(E107*F107,2) -> 3068 | H107: 0 | I107: =ROUND(E107*H107,2) -> 0 | J107: 2450 | K107: =ROUND(E107*J107,2) -> 2450 | L107: 21 | M107: =G107*(1+L107/100) -> 3712.28 | N107: 0 | O107: =ROUND(E107*N107,2) -> 0 | P107: 0 | Q107: =ROUND(E107*P107,2) -> 0 | S107: Vlastní | T107: Indiv | U107: 0 | V107: =ROUND(E107*U107,2) -> 0 | X107: Práce | Y107: Běžná | AF107: POL1_1
A108: Díl: | B108: _14 | C108: SK - MONTÁŽNÍ PRÁCE | G108: =SUMIF(AF109:AF112,"<>NOR",G109:G112) -> 34479.6 | I108: =SUM(I109:I112) -> 0 | K108: =SUM(K109:K112) -> 36940 | M108: =SUM(M109:M112) -> 41720.316 | O108: =SUM(O109:O112) -> 0 | Q108: =SUM(Q109:Q112) -> 0 | V108: =SUM(V109:V112) -> 0 | AF108: DIL
A109: 142 | B109: Pol__0142 | C109: MONTÁŽNÍ PRÁCE DLE KAPITOLY "MATERIÁL NOSNÝ" | D109: KS | E109: 1 | F109: 24190 | G109: =ROUND(E109*F109,2) -> 24190 | H109: 0 | I109: =ROUND(E109*H109,2) -> 0 | J109: 32000 | K109: =ROUND(E109*J109,2) -> 32000 | L109: 21 | M109: =G109*(1+L109/100) -> 29269.9 | N109: 0 | O109: =ROUND(E109*N109,2) -> 0 | P109: 0 | Q109: =ROUND(E109*P109,2) -> 0 | S109: Vlastní | T109: Indiv | U109: 0 | V109: =ROUND(E109*U109,2) -> 0 | X109: Práce | Y109: Běžná | AF109: POL1_1
A110: 143 | B110: Pol__0143 | C110: PŘIDRUŽENÉ PRACOVNÍ VÝKONY (doprava, uskladnění materiálu, nářadí a jejich zabezpečenÍ,, soc.zařízení) | D110: KS | E110: 1 | F110: 3068 | G110: =ROUND(E110*F110,2) -> 3068 | H110: 0 | I110: =ROUND(E110*H110,2) -> 0 | J110: 2300 | K110: =ROUND(E110*J110,2) -> 2300 | L110: 21 | M110: =G110*(1+L110/100) -> 3712.28 | N110: 0 | O110: =ROUND(E110*N110,2) -> 0 | P110: 0 | Q110: =ROUND(E110*P110,2) -> 0 | S110: Vlastní | T110: Indiv | U110: 0 | V110: =ROUND(E110*U110,2) -> 0 | X110: Práce | Y110: Běžná | AF110: POL1_1
A111: 144 | B111: Pol__0144 | C111: UKONČENÍ - FORMA NA KABELU UTP | D111: KS | E111: 24 | F111: 148.68 | G111: =ROUND(E111*F111,2) -> 3568.32 | H111: 0 | I111: =ROUND(E111*H111,2) -> 0 | J111: 55 | K111: =ROUND(E111*J111,2) -> 1320 | L111: 21 | M111: =G111*(1+L111/100) -> 4317.6672 | N111: 0 | O111: =ROUND(E111*N111,2) -> 0 | P111: 0 | Q111: =ROUND(E111*P111,2) -> 0 | S111: Vlastní | T111: Indiv | U111: 0 | V111: =ROUND(E111*U111,2) -> 0 | X111: Práce | Y111: Běžná | AF111: POL1_1
A112: 145 | B112: Pol__0145 | C112: MĚŘENÍ 1 KABELU CAT6, VYHOTOVENÍ PROTOKOLU | D112: KS | E112: 12 | F112: 304.44 | G112: =ROUND(E112*F112,2) -> 3653.28 | H112: 0 | I112: =ROUND(E112*H112,2) -> 0 | J112: 110 | K112: =ROUND(E112*J112,2) -> 1320 | L112: 21 | M112: =G112*(1+L112/100) -> 4420.4688 | N112: 0 | O112: =ROUND(E112*N112,2) -> 0 | P112: 0 | Q112: =ROUND(E112*P112,2) -> 0 | S112: Vlastní | T112: Indiv | U112: 0 | V112: =ROUND(E112*U112,2) -> 0 | X112: Práce | Y112: Běžná | AF112: POL1_1
A113: Díl: | B113: _15 | C113: TV - TELEVIZNÍ ROZVODY - MATERIÁL NOSNÝ | G113: =SUMIF(AF114:AF120,"<>NOR",G114:G120) -> 12335.72 | I113: =SUM(I114:I120) -> 0 | K113: =SUM(K114:K120) -> 12746 | M113: =SUM(M114:M120) -> 14926.221 | O113: =SUM(O114:O120) -> 0 | Q113: =SUM(Q114:Q120) -> 0 | V113: =SUM(V114:V120) -> 0 | AF113: DIL
C114: (trubkování, krabice, kabelové žlaby - viz. Elektromontáže materiál nosný) | AF114: POP
A115: 146 | B115: Pol__0146 | C115: TV ANTÉNA PRO PŘÍJEM DVBT2 VČ. STOŽÁRU | D115: KS | E115: 1 | F115: 4366 | G115: =ROUND(E115*F115,2) -> 4366 | H115: 0 | I115: =ROUND(E115*H115,2) -> 0 | J115: 4452 | K115: =ROUND(E115*J115,2) -> 4452 | L115: 21 | M115: =G115*(1+L115/100) -> 5282.86 | N115: 0 | O115: =ROUND(E115*N115,2) -> 0 | P115: 0 | Q115: =ROUND(E115*P115,2) -> 0 | S115: Vlastní | T115: Indiv | U115: 0 | V115: =ROUND(E115*U115,2) -> 0 | X115: Práce | Y115: Běžná | AF115: POL1_1
A116: 147 | B116: Pol__0147 | C116: PLAST. SKŘÍŇ PRO STA, SLUČOVAČ, ZESILOVAČ, ROZBOČOVAČ | D116: KS | E116: 1 | F116: 2065 | G116: =ROUND(E116*F116,2) -> 2065 | H116: 0 | I116: =ROUND(E116*H116,2) -> 0 | J116: 4900 | K116: =ROUND(E116*J116,2) -> 4900 | L116: 21 | M116: =G116*(1+L116/100) -> 2498.65 | N116: 0 | O116: =ROUND(E116*N116,2) -> 0 | P116: 0 | Q116: =ROUND(E116*P116,2) -> 0 | S116: Vlastní | T116: Indiv | U116: 0 | V116: =ROUND(E116*U116,2) -> 0 | X116: Práce | Y116: Běžná | AF116: POL1_1
A117: 148 | B117: Pol__0148 | C117: ZÁSUVKA TV+R+SAT, VČ. RÁMEČKU | D117: KS | E117: 2 | F117: 297.36 | G117: =ROUND(E117*F117,2) -> 594.72 | H117: 0 | I117: =ROUND(E117*H117,2) -> 0 | J117: 282.8 | K117: =ROUND(E117*J117,2) -> 565.6 | L117: 21 | M117: =G117*(1+L117/100) -> 719.6112 | N117: 0 | O117: =ROUND(E117*N117,2) -> 0 | P117: 0 | Q117: =ROUND(E117*P117,2) -> 0 | S117: Vlastní | T117: Indiv | U117: 0 | V117: =ROUND(E117*U117,2) -> 0 | X117: Práce | Y117: Běžná | AF117: POL1_1
A118: 149 | B118: Pol__0149 | C118: KOAX. KABEL H121 Cu, BELDEN | D118: M | E118: 90 | F118: 22.42 | G118: =ROUND(E118*F118,2) -> 2017.8 | H118: 0 | I118: =ROUND(E118*H118,2) -> 0 | J118: 20.3 | K118: =ROUND(E118*J118,2) -> 1827 | L118: 21 | M118: =G118*(1+L118/100) -> 2441.538 | N118: 0 | O118: =ROUND(E118*N118,2) -> 0 | P118: 0 | Q118: =ROUND(E118*P118,2) -> 0 | S118: Vlastní | T118: Indiv | U118: 0 | V118: =ROUND(E118*U118,2) -> 0 | X118: Práce | Y118: Běžná | AF118: POL1_1
A119: 150 | B119: Pol__0150 | C119: KOAX. KABEL H121 Cu PE, BELDEN | D119: M | E119: 10 | F119: 23.6 | G119: =ROUND(E119*F119,2) -> 236 | H119: 0 | I119: =ROUND(E119*H119,2) -> 0 | J119: 35.14 | K119: =ROUND(E119*J119,2) -> 351.4 | L119: 21 | M119: =G119*(1+L119/100) -> 285.56 | N119: 0 | O119: =ROUND(E119*N119,2) -> 0 | P119: 0 | Q119: =ROUND(E119*P119,2) -> 0 | S119: Vlastní | T119: Indiv | U119: 0 | V119: =ROUND(E119*U119,2) -> 0 | X119: Práce | Y119: Běžná | AF119: POL1_1
A120: 151 | B120: Pol__0151 | C120: PODRUŽNÝ MATERIÁL (sádra, úchytný materiál, svorky, řezací kotouče, hmoždinky, atd.) | D120: KS | E120: 1 | F120: 3056.2 | G120: =ROUND(E120*F120,2) -> 3056.2 | H120: 0 | I120: =ROUND(E120*H120,2) -> 0 | J120: 650 | K120: =ROUND(E120*J120,2) -> 650 | L120: 21 | M120: =G120*(1+L120/100) -> 3698.002 | N120: 0 | O120: =ROUND(E120*N120,2) -> 0 | P120: 0 | Q120: =ROUND(E120*P120,2) -> 0 | S120: Vlastní | T120: Indiv | U120: 0 | V120: =ROUND(E120*U120,2) -> 0 | X120: Práce | Y120: Běžná | AF120: POL1_1
A121: Díl: | B121: _16 | C121: TV - MONTÁŽNÍ PRÁCE | G121: =SUMIF(AF122:AF124,"<>NOR",G122:G124) -> 10343.88 | I121: =SUM(I122:I124) -> 0 | K121: =SUM(K122:K124) -> 21320 | M121: =SUM(M122:M124) -> 12516.095 | O121: =SUM(O122:O124) -> 0 | Q121: =SUM(Q122:Q124) -> 0 | V121: =SUM(V122:V124) -> 0 | AF121: DIL
A122: 152 | B122: Pol__0152 | C122: MONTÁŽNÍ PRÁCE DLE KAPITOLY "MATERIÁL NOSNÝ" | D122: KS | E122: 1 | F122: 5605 | G122: =ROUND(E122*F122,2) -> 5605 | H122: 0 | I122: =ROUND(E122*H122,2) -> 0 | J122: 20000 | K122: =ROUND(E122*J122,2) -> 20000 | L122: 21 | M122: =G122*(1+L122/100) -> 6782.05 | N122: 0 | O122: =ROUND(E122*N122,2) -> 0 | P122: 0 | Q122: =ROUND(E122*P122,2) -> 0 | S122: Vlastní | T122: Indiv | U122: 0 | V122: =ROUND(E122*U122,2) -> 0 | X122: Práce | Y122: Běžná | AF122: POL1_1
A123: 153 | B123: Pol__0153 | C123: PŘIDRUŽENÉ PRACOVNÍ VÝKONY (doprava, uskladnění materiálu, nářadí a jejich zabezpečenÍ,, soc.zařízení) | D123: KS | E123: 1 | F123: 3134.08 | G123: =ROUND(E123*F123,2) -> 3134.08 | H123: 0 | I123: =ROUND(E123*H123,2) -> 0 | J123: 1100 | K123: =ROUND(E123*J123,2) -> 1100 | L123: 21 | M123: =G123*(1+L123/100) -> 3792.2368 | N123: 0 | O123: =ROUND(E123*N123,2) -> 0 | P123: 0 | Q123: =ROUND(E123*P123,2) -> 0 | S123: Vlastní | T123: Indiv | U123: 0 | V123: =ROUND(E123*U123,2) -> 0 | X123: Práce | Y123: Běžná | AF123: POL1_1
A124: 154 | B124: Pol__0154 | C124: UKONČENÍ - FORMA NA KOAX H121 | D124: KS | E124: 4 | F124: 401.2 | G124: =ROUND(E124*F124,2) -> 1604.8 | H124: 0 | I124: =ROUND(E124*H124,2) -> 0 | J124: 55 | K124: =ROUND(E124*J124,2) -> 220 | L124: 21 | M124: =G124*(1+L124/100) -> 1941.808 | N124: 0 | O124: =ROUND(E124*N124,2) -> 0 | P124: 0 | Q124: =ROUND(E124*P124,2) -> 0 | S124: Vlastní | T124: Indiv | U124: 0 | V124: =ROUND(E124*U124,2) -> 0 | X124: Práce | Y124: Běžná | AF124: POL1_1
A125: Díl: | B125: _20 | C125: HZS - PRÁCE NEZAHRNUTNÉ DO MONTÁŽNÍHO CENÍKU | G125: =SUMIF(AF126:AF131,"<>NOR",G126:G131) -> 69974 | I125: =SUM(I126:I131) -> 0 | K125: =SUM(K126:K131) -> 99450 | M125: =SUM(M126:M131) -> 84668.54 | O125: =SUM(O126:O131) -> 0 | Q125: =SUM(Q126:Q131) -> 0 | V125: =SUM(V126:V131) -> 0 | AF125: DIL
A126: 177 | B126: Pol__0177 | C126: DEMONTÁŽE STÁVAJÍCÍCH SI A SLP ROZVODŮ, SVÍTIDEL, ROZVADĚČŮ | D126: HOD | E126: 20 | F126: 590 | G126: =ROUND(E126*F126,2) -> 11800 | H126: 0 | I126: =ROUND(E126*H126,2) -> 0 | J126: 650 | K126: =ROUND(E126*J126,2) -> 13000 | L126: 21 | M126: =G126*(1+L126/100) -> 14278 | N126: 0 | O126: =ROUND(E126*N126,2) -> 0 | P126: 0 | Q126: =ROUND(E126*P126,2) -> 0 | S126: Vlastní | T126: Indiv | U126: 0 | V126: =ROUND(E126*U126,2) -> 0 | X126: Práce | Y126: Běžná | AF126: POL1_1
A127: 178 | B127: Pol__0178 | C127: KOORDINACE POSTUPU PRACÍ S PROFESEMI ÚT a ZTI, UPŘESNĚNÍ UMÍSTĚNÍ ZÁSUVKOVÝCH VÝVODŮ UŽIVATELEM | D127: HOD | E127: 5 | F127: 590 | G127: =ROUND(E127*F127,2) -> 2950 | H127: 0 | I127: =ROUND(E127*H127,2) -> 0 | J127: 650 | K127: =ROUND(E127*J127,2) -> 3250 | L127: 21 | M127: =G127*(1+L127/100) -> 3569.5 | N127: 0 | O127: =ROUND(E127*N127,2) -> 0 | P127: 0 | Q127: =ROUND(E127*P127,2) -> 0 | S127: Vlastní | T127: Indiv | U127: 0 | V127: =ROUND(E127*U127,2) -> 0 | X127: Práce | Y127: Běžná | AF127: POL1_1
A128: 179 | B128: Pol__0179 | C128: ZEDNICKÉ VÝPOMOCI | D128: HOD | E128: 100 | F128: 377.6 | G128: =ROUND(E128*F128,2) -> 37760 | H128: 0 | I128: =ROUND(E128*H128,2) -> 0 | J128: 650 | K128: =ROUND(E128*J128,2) -> 65000 | L128: 21 | M128: =G128*(1+L128/100) -> 45689.6 | N128: 0 | O128: =ROUND(E128*N128,2) -> 0 | P128: 0 | Q128: =ROUND(E128*P128,2) -> 0 | S128: Vlastní | T128: Indiv | U128: 0 | V128: =ROUND(E128*U128,2) -> 0 | X128: Práce | Y128: Běžná | AF128: POL1_1
A129: 180 | B129: Pol__0180 | C129: PRÁCE SPOJENÉ SE ZABEZPEČENÍM MONT.PRACOVIŠŤ | D129: HOD | E129: 10 | F129: 590 | G129: =ROUND(E129*F129,2) -> 5900 | H129: 0 | I129: =ROUND(E129*H129,2) -> 0 | J129: 650 | K129: =ROUND(E129*J129,2) -> 6500 | L129: 21 | M129: =G129*(1+L129/100) -> 7139 | N129: 0 | O129: =ROUND(E129*N129,2) -> 0 | P129: 0 | Q129: =ROUND(E129*P129,2) -> 0 | S129: Vlastní | T129: Indiv | U129: 0 | V129: =ROUND(E129*U129,2) -> 0 | X129: Práce | Y129: Běžná | AF129: POL1_1
A130: 181 | B130: Pol__0181 | C130: PRÁCE NEPŘEDVÍDANÉ | D130: HOD | E130: 10 | F130: 590 | G130: =ROUND(E130*F130,2) -> 5900 | H130: 0 | I130: =ROUND(E130*H130,2) -> 0 | J130: 650 | K130: =ROUND(E130*J130,2) -> 6500 | L130: 21 | M130: =G130*(1+L130/100) -> 7139 | N130: 0 | O130: =ROUND(E130*N130,2) -> 0 | P130: 0 | Q130: =ROUND(E130*P130,2) -> 0 | S130: Vlastní | T130: Indiv | U130: 0 | V130: =ROUND(E130*U130,2) -> 0 | X130: Práce | Y130: Běžná | AF130: POL1_1
A131: 182 | B131: Pol__0182 | C131: DOKUMENTACE SKUTEČNÉHO PROVEDENÍ | D131: HOD | E131: 8 | F131: 708 | G131: =ROUND(E131*F131,2) -> 5664 | H131: 0 | I131: =ROUND(E131*H131,2) -> 0 | J131: 650 | K131: =ROUND(E131*J131,2) -> 5200 | L131: 21 | M131: =G131*(1+L131/100) -> 6853.44 | N131: 0 | O131: =ROUND(E131*N131,2) -> 0 | P131: 0 | Q131: =ROUND(E131*P131,2) -> 0 | S131: Vlastní | T131: Indiv | U131: 0 | V131: =ROUND(E131*U131,2) -> 0 | X131: Práce | Y131: Běžná | AF131: POL1_1
AD132: 12 | AE132: 21 | AF132: DPH
B133: Celkem | G133: =G125+G121+G113+G108+G95+G92+G64+G60+G50+G8 -> 589968.14 | AD133: =SUMIF(L7:L131,AD132,G7:G131) -> 0 | AE133: =SUMIF(L7:L131,AE132,G7:G131) -> 589968.14 | AF133: SUM
AF134: END
