Workbook
Name CelkemDPHVypocet: Stavba!$H$47
Name CenaCelkem: Stavba!$G$29
Name CenaCelkemBezDPH: Stavba!$G$28
Name CenaCelkemVypocet: Stavba!$I$47
Name cisloobjektu: Stavba!$D$3
Name CisloRozpoctu: '[1]Krycí list'!$C$2
Name CisloStavby: Stavba!$D$2
Name cislostavby: '[1]Krycí list'!$A$7
Name CisloStavebnihoRozpoctu: Stavba!$D$4
Name dadresa: Stavba!$D$12:$G$12
Name DIČ: Stavba!$I$12
Name dmisto: Stavba!$E$13:$G$13
Name DPHSni: Stavba!$G$24
Name DPHZakl: Stavba!$G$26
Name dpsc: Stavba!$D$13
Name IČO: Stavba!$I$11
Name Mena: Stavba!$J$29
Name MistoStavby: Stavba!$D$4
Name nazevobjektu: Stavba!$E$3
Name NazevRozpoctu: '[1]Krycí list'!$D$2
Name NazevStavby: Stavba!$E$2
Name nazevstavby: '[1]Krycí list'!$C$7
Name NazevStavebnihoRozpoctu: Stavba!$E$4
Name oadresa: Stavba!$D$6
Name Objednatel: Stavba!$D$5
Name Objekt: Stavba!$B$38
Name odic: Stavba!$I$6
Name oico: Stavba!$I$5
Name omisto: Stavba!$E$7
Name onazev: Stavba!$D$6
Name opsc: Stavba!$D$7
Name padresa: Stavba!$D$9
Name pdic: Stavba!$I$9
Name pico: Stavba!$I$8
Name pmisto: Stavba!$E$10
Name PocetMJ: #REF!
Name PoptavkaID: Stavba!$A$1
Name pPSC: Stavba!$D$10
Name Projektant: Stavba!$D$8
Name SazbaDPH1: Stavba!$E$23
Name SazbaDPH1: '[1]Krycí list'!$C$30
Name SazbaDPH2: Stavba!$E$25
Name SazbaDPH2: '[1]Krycí list'!$C$32
Name SloupecCC: #REF!
Name SloupecCisloPol: #REF!
Name SloupecJC: #REF!
Name SloupecMJ: #REF!
Name SloupecMnozstvi: #REF!
Name SloupecNazPol: #REF!
Name SloupecPC: #REF!
Name Vypracoval: Stavba!$D$14
Name ZakladDPHSni: Stavba!$G$23
Name ZakladDPHSniVypocet: Stavba!$F$47
Name ZakladDPHZakl: Stavba!$G$25
Name ZakladDPHZaklVypocet: Stavba!$G$47
Name ZaObjednatele: Stavba!$G$34
Name Zaokrouhleni: Stavba!$G$27
Name ZaZhotovitele: Stavba!$D$34
Name Zhotovitel: Stavba!$D$11:$G$11

Sheet Pokyny pro vyplnění
A1: Pokyny pro vyplnění
A2: Ve všech listech tohoto souboru můžete měnit pouze buňky s modrým pozadím. Jedná se o tyto údaje : - údaje o firmě - jednotkové ceny položek zadané na maximálně dvě desetinná místa

Sheet Stavba
A1: #RTSROZP# | B1: Soupis stavebních prací, dodávek a služeb
B2: Stavba: | D2: 01 | E2: REKONSTRUKCE VOLNOČASOVÉHO CENTRA V UNÍNĚ - 2. etapa
B5: Zadavatel | H5: IČO:
H6: DIČ:
B8: Projektant: | D8: UNIPROJEKT spol. s r.o. | H8: IČO: | I8: 44041781
D9: Dvořáčkova 66 | H9: DIČ:
D10: 66601 | E10: Tišnov
B11: Zhotovitel: | D11: Jiří Kolář | H11: IČO: | I11: 44034121
D12: Formánkova 1875 | H12: DIČ: | I12: CZ6712170982
D13: 666 01 | E13: Tišnov
B14: Vypracoval:
B15: Rozpis ceny | I15: Celkem
A16: HSV | B16: HSV | I16: =SUMIF(F61:F92,A16,I61:I92)+SUMIF(F61:F92,"PSU",I61:I92) -> 2198355.8
A17: PSV | B17: PSV | I17: =SUMIF(F61:F92,A17,I61:I92) -> 563350.12
A18: MON | B18: MON | I18: =SUMIF(F61:F92,A18,I61:I92) -> 0
A19: VN | B19: Vedlejší náklady | I19: =SUMIF(F61:F92,A19,I61:I92) -> 59000
A20: ON | B20: Ostatní náklady | I20: =SUMIF(F61:F92,A20,I61:I92) -> 0
B21: Celkem | I21: =G41 -> 2820706
B22: Rekapitulace daní
A23: =ZakladDPHSni*SazbaDPH1/100 -> 0 | B23: Základ pro sníženou DPH | E23: 12 | F23: % | G23: =ZakladDPHSniVypocet -> 0 | J23: =Mena -> CZK
A24: =(A23-INT(A23))*100 -> 0 | B24: Snížená DPH | E24: =SazbaDPH1 -> 12 | F24: % | G24: =A23 -> 0 | J24: =Mena -> CZK
A25: =ZakladDPHZakl*SazbaDPH2/100 -> 592348.25 | B25: Základ pro základní DPH | E25: 21 | F25: % | G25: =ZakladDPHZaklVypocet -> 2820706 | J25: =Mena -> CZK
A26: =(A25-INT(A25))*100 -> 25.37 | B26: Základní DPH | E26: =SazbaDPH2 -> 21 | F26: % | G26: =A25 -> 592348.25 | J26: =Mena -> CZK
A27: =ZakladDPHSni+DPHSni+ZakladDPHZakl+DPHZakl -> 3413054.2 | B27: Zaokrouhlení | G27: =CenaCelkem-(ZakladDPHSni+DPHSni+ZakladDPHZakl+DPHZakl) -> 0 | J27: =Mena -> CZK
B28: Cena celkem bez DPH | G28: =ZakladDPHSniVypocet+ZakladDPHZaklVypocet -> 2820706 | J28: =Mena -> CZK
A29: =(A27-INT(A27))*100 -> 22.37 | B29: Cena celkem s DPH | G29: =A27 -> 3413054.2 | J29: CZK
C32: v | D32: Tišnově | F32: dne | H32: 46091
D35: Za zhotovitele | H35: Za objednatele
B37: Rekapitulace dílčích částí
A38: #CASTI>> | B38: Číslo | C38: Název | F38: =B23 -> Základ pro sníženou DPH | G38: =B25 -> Základ pro základní DPH | H38: DPH celkem | I38: Cena celkem | J38: %
A39: 1 | B39: Stavba | F39: ='S01 1) STAVBA Pol'!AD129+'S01 2) ZTI Pol'!AD126+'S01 3) PL Pol'!AE41+'S01 4) UT Pol'!AE98+'S01 5) ELEKTRO Pol'!AD133 -> 0 | G39: ='S01 1) STAVBA Pol'!AE129+'S01 2) ZTI Pol'!AE126+'S01 3) PL Pol'!AF41+'S01 4) UT Pol'!AF98+'S01 5) ELEKTRO Pol'!AE133 -> 2820706 | H39: =(F39*SazbaDPH1/100)+(G39*SazbaDPH2/100) -> 592348.25 | I39: =F39+G39+H39 -> 3413054.2 | J39: =IF(CenaCelkemVypocet=0,"",I39/CenaCelkemVypocet*100) -> 100
A40: 2 | C40: Stavební objekt | H40: =(F40*SazbaDPH1/100)+(G40*SazbaDPH2/100) -> 0
A41: 2 | B41: S01 | C41: VOLNOČASOVÉ CENTRUM | F41: ='S01 1) STAVBA Pol'!AD129+'S01 2) ZTI Pol'!AD126+'S01 3) PL Pol'!AE41+'S01 4) UT Pol'!AE98+'S01 5) ELEKTRO Pol'!AD133 -> 0 | G41: ='S01 1) STAVBA Pol'!AE129+'S01 2) ZTI Pol'!AE126+'S01 3) PL Pol'!AF41+'S01 4) UT Pol'!AF98+'S01 5) ELEKTRO Pol'!AE133 -> 2820706 | H41: =(F41*SazbaDPH1/100)+(G41*SazbaDPH2/100) -> 592348.25 | I41: =F41+G41+H41 -> 3413054.2 | J41: =IF(CenaCelkemVypocet=0,"",I41/CenaCelkemVypocet*100) -> 100
A42: 3 | B42: 1) STAVBA | C42: Stavební rozpočet | F42: ='S01 1) STAVBA Pol'!AD129 -> 0 | G42: ='S01 1) STAVBA Pol'!AE129 -> 909819.81 | H42: =(F42*SazbaDPH1/100)+(G42*SazbaDPH2/100) -> 191062.16 | I42: =F42+G42+H42 -> 1100882 | J42: =IF(CenaCelkemVypocet=0,"",I42/CenaCelkemVypocet*100) -> 32.255039
A43: 3 | B43: 2) ZTI | C43: Zdravotně technické instalace | F43: ='S01 2) ZTI Pol'!AD126 -> 0 | G43: ='S01 2) ZTI Pol'!AE126 -> 1320918 | H43: =(F43*SazbaDPH1/100)+(G43*SazbaDPH2/100) -> 277392.78 | I43: =F43+G43+H43 -> 1598310.8 | J43: =IF(CenaCelkemVypocet=0,"",I43/CenaCelkemVypocet*100) -> 46.829341
A44: 3 | B44: 3) PL | C44: Plynoinstalace | F44: ='S01 3) PL Pol'!AE41 -> 0 | G44: ='S01 3) PL Pol'!AF41 -> 0 | H44: =(F44*SazbaDPH1/100)+(G44*SazbaDPH2/100) -> 0 | I44: =F44+G44+H44 -> 0 | J44: =IF(CenaCelkemVypocet=0,"",I44/CenaCelkemVypocet*100) -> 0
A45: 3 | B45: 4) UT | C45: Vytápění stavby | F45: ='S01 4) UT Pol'!AE98 -> 0 | G45: ='S01 4) UT Pol'!AF98 -> 0 | H45: =(F45*SazbaDPH1/100)+(G45*SazbaDPH2/100) -> 0 | I45: =F45+G45+H45 -> 0 | J45: =IF(CenaCelkemVypocet=0,"",I45/CenaCelkemVypocet*100) -> 0
A46: 3 | B46: 5) ELEKTRO | C46: Silnoproud a slaboproud včetně bleskosvodu | F46: ='S01 5) ELEKTRO Pol'!AD133 -> 0 | G46: ='S01 5) ELEKTRO Pol'!AE133 -> 589968.14 | H46: =(F46*SazbaDPH1/100)+(G46*SazbaDPH2/100) -> 123893.31 | I46: =F46+G46+H46 -> 713861.45 | J46: =IF(CenaCelkemVypocet=0,"",I46/CenaCelkemVypocet*100) -> 20.91562
B47: Celkem za stavbu | F47: =SUMIF(A39:A46,"=1",F39:F46) -> 0 | G47: =SUMIF(A39:A46,"=1",G39:G46) -> 2820706 | H47: =SUMIF(A39:A46,"=1",H39:H46) -> 592348.25 | I47: =SUMIF(A39:A46,"=1",I39:I46) -> 3413054.2 | J47: =SUMIF(A39:A46,"=1",J39:J46) -> 100
A49: #POPS | B49: Popis stavby: 01 - REKONSTRUKCE VOLNOČASOVÉHO CENTRA V UNÍNĚ
...

Sheet VzorPolozky
A1: Položkový rozpočet
A2: S:
A3: O:
A4: R:

Sheet S01 1) STAVBA Pol
A1: Položkový soupis prací a dodávek | AF1: #TypZaznamu#
A2: S: | B2: 01 | C2: REKONSTRUKCE VOLNOČASOVÉHO CENTRA V UNÍNĚ - 2. etapa | AF2: STA
A3: O: | B3: S01 | C3: VOLNOČASOVÉ CENTRUM | AB3: STA | AF3: OBJ
A4: R: | B4: 1) STAVBA | C4: Stavební rozpočet | AF4: ROZ
A6: P.č. | B6: Číslo položky | C6: Název položky | D6: MJ | E6: Množství | F6: Cena / MJ | G6: Celkem | H6: Dodávka | I6: Dodávka celk. | J6: Montáž | K6: Montáž celk. | L6: DPH | M6: Cena s DPH | N6: Hmotnost / MJ | O6: Hmotnost celk.(t) | P6: Dem. hmotnost / MJ | Q6: Dem. hmotnost celk.(t) | R6: Ceník | S6: Cen. soustava / platnost | T6: Cenová úroveň | U6: Nhod / MJ | V6: Nhod celk. | W6: Dodavatel | X6: Typ položky | Y6: Stav položky
A8: Díl: | B8: 1 | C8: Zemní práce | G8: =SUMIF(AF9:AF11,"<>NOR",G9:G11) -> 1765.68 | I8: =SUM(I9:I11) -> 505.26 | K8: =SUM(K9:K11) -> 987.42 | M8: =SUM(M9:M11) -> 2136.4728 | O8: =SUM(O9:O11) -> 1.4 | Q8: =SUM(Q9:Q11) -> 0 | V8: =SUM(V9:V11) -> 1.85 | AF8: DIL
A9: 8 | B9: 175200022RA0 | C9: Obsyp objektu štěrkopískem | D9: m3 | E9: 0.84 | F9: 2102 | G9: =ROUND(E9*F9,2) -> 1765.68 | H9: 601.5 | I9: =ROUND(E9*H9,2) -> 505.26 | J9: 1175.5 | K9: =ROUND(E9*J9,2) -> 987.42 | L9: 21 | M9: =G9*(1+L9/100) -> 2136.4728 | N9: 1.67 | O9: =ROUND(E9*N9,2) -> 1.4 | P9: 0 | Q9: =ROUND(E9*P9,2) -> 0 | S9: Vlastní | T9: Indiv | U9: 2.206 | V9: =ROUND(E9*U9,2) -> 1.85 | X9: Práce | Y9: Běžná | AF9: POL1_0
C10: Obsyp kolem vodměrné a revizní šachty | AF10: POP
C11: 0,5*0,6+0,9*0,6 | E11: 0.84 | AF11: VV | AG11: 0
A12: Díl: | B12: 2 | C12: Základy,zvláštní zakládání | G12: =SUMIF(AF13:AF30,"<>NOR",G13:G30) -> 91436.45 | I12: =SUM(I13:I30) -> 60237.64 | K12: =SUM(K13:K30) -> 11522.55 | M12: =SUM(M13:M30) -> 110638.1 | O12: =SUM(O13:O30) -> 48.66 | Q12: =SUM(Q13:Q30) -> 0 | V12: =SUM(V13:V30) -> 19.18 | AF12: DIL
A13: 9 | B13: 273321311R00 | C13: Železobeton základových desek C 16/20 | D13: m3 | E13: 11.43 | F13: 4868 | G13: =ROUND(E13*F13,2) -> 55641.24 | H13: 3230.72 | I13: =ROUND(E13*H13,2) -> 36927.13 | J13: 329.28 | K13: =ROUND(E13*J13,2) -> 3763.67 | L13: 21 | M13: =G13*(1+L13/100) -> 67325.9 | N13: 2.525 | O13: =ROUND(E13*N13,2) -> 28.86 | P13: 0 | Q13: =ROUND(E13*P13,2) -> 0 | S13: Vlastní | T13: Indiv | U13: 0.48 | V13: =ROUND(E13*U13,2) -> 5.49 | X13: Práce | Y13: Běžná | AF13: POL1_0
C14: 03, 04, 05 : 23,5*0,15 | E14: 3.52 | AF14: VV | AG14: 0
C15: 01, 08, 09, 10, 11, 12, 13, 14, 07 : 43*0,15 | E15: 6.45 | AF15: VV | AG15: 0
C16: 02 : 2,5*0,15 | E16: 0.38 | AF16: VV | AG16: 0
C17: 06 : 4*0,15 | E17: 0.6 | AF17: VV | AG17: 0
C18: Šachet : 1,35*0,15+1,85*0,15 | E18: 0.48 | AF18: VV | AG18: 0
A19: 10 | B19: 273361921RT5 | C19: Výztuž základových desek ze svařovaných sítí, KH 20, drát d 6,0 mm, oko 150 x 150 mm | D19: t | E19: 0.2973 | F19: 47353 | G19: =ROUND(E19*F19,2) -> 14078.05 | H19: 33422.49 | I19: =ROUND(E19*H19,2) -> 9936.51 | J19: 8377.51 | K19: =ROUND(E19*J19,2) -> 2490.63 | L19: 21 | M19: =G19*(1+L19/100) -> 17034.44 | N19: 1.07874 | O19: =ROUND(E19*N19,2) -> 0.32 | P19: 0 | Q19: =ROUND(E19*P19,2) -> 0 | S19: Vlastní | T19: Indiv | U19: 15.231 | V19: =ROUND(E19*U19,2) -> 4.53 | X19: Práce | Y19: Běžná | AF19: POL1_0
C20: Podkladního betonu : (23,5+43+2,5+4)*0,00303*1,1 | E20: 0.24 | AF20: VV | AG20: 0
C21: Zdvojení sítě pod příčkami : (1,7*3+1,2+1*4+4)*0,00303 | E21: 0.04 | AF21: VV | AG21: 0
C22: Šachet : (1,35+1,85)*0,00303*1,1 | E22: 0.01 | AF22: VV | AG22: 0
A23: 11 | B23: 271531115R00 | C23: Uložení polštáře z kameniva pod základ se zhutněním a urovnáním povrchu | D23: m3 | E23: 2 | F23: 684 | G23: =ROUND(E23*F23,2) -> 1368 | H23: 0 | I23: =ROUND(E23*H23,2) -> 0 | J23: 617 | K23: =ROUND(E23*J23,2) -> 1234 | L23: 21 | M23: =G23*(1+L23/100) -> 1655.28 | N23: 0 | O23: =ROUND(E23*N23,2) -> 0 | P23: 0 | Q23: =ROUND(E23*P23,2) -> 0 | S23: Vlastní | T23: Indiv | U23: 1.085 | V23: =ROUND(E23*U23,2) -> 2.17 | X23: Práce | Y23: Běžná | AF23: POL1_0
C24: Násyp pod venkovním schodištěm | AF24: POP
A25: 12 | B25: 583426801R | C25: Kamenivo drcené 16/32 prané Olbramovice, JHM | D25: t | E25: 3.8 | F25: 689.12 | G25: =ROUND(E25*F25,2) -> 2618.66 | H25: 596 | I25: =ROUND(E25*H25,2) -> 2264.8 | J25: 0 | K25: =ROUND(E25*J25,2) -> 0 | L25: 21 | M25: =G25*(1+L25/100) -> 3168.5786 | N25: 1 | O25: =ROUND(E25*N25,2) -> 3.8 | P25: 0 | Q25: =ROUND(E25*P25,2) -> 0 | S25: Vlastní | T25: Indiv | U25: 0 | V25: =ROUND(E25*U25,2) -> 0 | X25: Specifikace | Y25: Běžná | AF25: POL3_0
C26: 2*1,9 | E26: 3.8 | AF26: VV | AG26: 0
A27: 13 | B27: 271531111R00 | C27: Polštář základu z kameniva hr. drceného 16-63 mm | D27: m3 | E27: 5.95 | F27: 2080.34 | G27: =ROUND(E27*F27,2) -> 12378.02 | H27: 1258.71 | I27: =ROUND(E27*H27,2) -> 7489.32 | J27: 616.29 | K27: =ROUND(E27*J27,2) -> 3666.93 | L27: 21 | M27: =G27*(1+L27/100) -> 14977.404 | N27: 2.16 | O27: =ROUND(E27*N27,2) -> 12.85 | P27: 0 | Q27: =ROUND(E27*P27,2) -> 0 | S27: Vlastní | T27: Indiv | U27: 1.085 | V27: =ROUND(E27*U27,2) -> 6.46 | X27: Práce | Y27: Běžná | AF27: POL1_0
C28: 04, 05 a část 03 : 8,5*0,7 | E28: 5.95 | AF28: VV | AG28: 0
A29: 14 | B29: 274313611R00 | C29: Beton základových pasů prostý C 16/20 | D29: m3 | E29: 1.12 | F29: 4779 | G29: =ROUND(E29*F29,2) -> 5352.48 | H29: 3232.04 | I29: =ROUND(E29*H29,2) -> 3619.88 | J29: 327.96 | K29: =ROUND(E29*J29,2) -> 367.32 | L29: 21 | M29: =G29*(1+L29/100) -> 6476.5008 | N29: 2.525 | O29: =ROUND(E29*N29,2) -> 2.83 | P29: 0 | Q29: =ROUND(E29*P29,2) -> 0 | S29: Vlastní | T29: Indiv | U29: 0.477 | V29: =ROUND(E29*U29,2) -> 0.53 | X29: Práce | Y29: Běžná | AF29: POL1_0
C30: 3,2*0,5*0,7 | E30: 1.12 | AF30: VV | AG30: 0
A31: Díl: | B31: 3 | C31: Svislé a kompletní konstrukce | G31: =SUMIF(AF32:AF66,"<>NOR",G32:G66) -> 235110.59 | I31: =SUM(I32:I66) -> 108963.88 | K31: =SUM(K32:K66) -> 54449.77 | M31: =SUM(M32:M66) -> 284483.81 | O31: =SUM(O32:O66) -> 23.71 | Q31: =SUM(Q32:Q66) -> 0 | V31: =SUM(V32:V66) -> 91.09 | AF31: DIL
A32: 18 | B32: 342255026RT1 | C32: Příčky z desek pórobetonových tl. 125 mm, desky, 599 x 249 x 125 mm, spec. I.0 | D32: m2 | E32: 60.855 | F32: 1818.38 | G32: =ROUND(E32*F32,2) -> 110657.51 | H32: 779.28 | I32: =ROUND(E32*H32,2) -> 47423.08 | J32: 291.72 | K32: =ROUND(E32*J32,2) -> 17752.62 | L32: 21 | M32: =G32*(1+L32/100) -> 133895.59 | N32: 0.09481 | O32: =ROUND(E32*N32,2) -> 5.77 | P32: 0 | Q32: =ROUND(E32*P32,2) -> 0 | S32: Vlastní | T32: Indiv | U32: 0.535 | V32: =ROUND(E32*U32,2) -> 32.56 | X32: Práce | Y32: Běžná | AF32: POL1_0
C33: 2,8*3,7*2-0,8*2,02 | E33: 19.1 | AF33: VV | AG33: 0
C34: 7,45*3,7-(1*2,02+0,8*2,02*2+0,7*2,02) | E34: 20.9 | AF34: VV | AG34: 0
C35: 1,6*3,7*4-(0,7*2,02*2) | E35: 20.85 | AF35: VV | AG35: 0
A36: 19 | B36: 342255028RT1 | C36: Příčky z desek pŕobetonových tl. 150 mm, desky 599 x 249 x 150 mm, spec. I.1 | D36: m2 | E36: 14.326 | F36: 2107.48 | G36: =ROUND(E36*F36,2) -> 30191.76 | H36: 898.24 | I36: =ROUND(E36*H36,2) -> 12868.19 | J36: 302.76 | K36: =ROUND(E36*J36,2) -> 4337.34 | L36: 21 | M36: =G36*(1+L36/100) -> 36532.03 | N36: 0.11313 | O36: =ROUND(E36*N36,2) -> 1.62 | P36: 0 | Q36: =ROUND(E36*P36,2) -> 0 | S36: Vlastní | T36: Indiv | U36: 0.55489 | V36: =ROUND(E36*U36,2) -> 7.95 | X36: Práce | Y36: Běžná | AF36: POL1_0
C37: 2,8*3,7-0,9*2,02 | E37: 8.54 | AF37: VV | AG37: 0
C38: 2*3,7-0,8*2,02 | E38: 5.78 | AF38: VV | AG38: 0
A39: 21 | B39: 311112315RT2 | C39: Stěna z tvárnic ztraceného bednění, tl. 100 mm, zalití tvárnic betonem C 16/20 | D39: m2 | E39: 4.8 | F39: 1175.28 | G39: =ROUND(E39*F39,2) -> 5641.34 | H39: 762.08 | I39: =ROUND(E39*H39,2) -> 3657.98 | J39: 288.92 | K39: =ROUND(E39*J39,2) -> 1386.82 | L39: 21 | M39: =G39*(1+L39/100) -> 6826.0214 | N39: 0.37565 | O39: =ROUND(E39*N39,2) -> 1.8 | P39: 0 | Q39: =ROUND(E39*P39,2) -> 0 | S39: Vlastní | T39: Indiv | U39: 0.596 | V39: =ROUND(E39*U39,2) -> 2.86 | X39: Práce | Y39: Běžná | AF39: POL1_0
C40: 2,4*0,75+4*0,75 | E40: 4.8 | AF40: VV | AG40: 0
A41: 22 | B41: 311112315RT2 | C41: Stěna z tvárnic ztraceného bednění, tl. 150 mm, zalití tvárnic betonem C 16/20 | D41: m2 | E41: 6.9 | F41: 1335.76 | G41: =ROUND(E41*F41,2) -> 9216.74 | H41: 0 | I41: =ROUND(E41*H41,2) -> 0 | J41: 1151 | K41: =ROUND(E41*J41,2) -> 7941.9 | L41: 21 | M41: =G41*(1+L41/100) -> 11152.255 | N41: 0.37565 | O41: =ROUND(E41*N41,2) -> 2.59 | P41: 0 | Q41: =ROUND(E41*P41,2) -> 0 | S41: Vlastní | T41: Indiv | U41: 0.596 | V41: =ROUND(E41*U41,2) -> 4.11 | X41: R-položka | Y41: Běžná | AF41: POL12_1
C42: 4,3*0,75+4,9*0,75 | E42: 6.9 | AF42: VV | AG42: 0
...

Sheet S01 2) ZTI Pol
A1: Položkový soupis prací a dodávek | AF1: #TypZaznamu#
A2: S: | B2: 01 | C2: REKONSTRUKCE VOLNOČASOVÉHO CENTRA V UNÍNĚ - 2. etapa | AF2: STA
A3: O: | B3: S01 | C3: VOLNOČASOVÉ CENTRUM | AB3: STA | AF3: OBJ
A4: R: | B4: 2) ZTI | C4: Zdravotně technické instalace | AF4: ROZ
A6: P.č. | B6: Číslo položky | C6: Název položky | D6: MJ | E6: Množství | F6: Cena / MJ | G6: Celkem | H6: Dodávka | I6: Dodávka celk. | J6: Montáž | K6: Montáž celk. | L6: DPH | M6: Cena s DPH | N6: Hmotnost / MJ | O6: Hmotnost celk.(t) | P6: Dem. hmotnost / MJ | Q6: Dem. hmotnost celk.(t) | R6: Ceník | S6: Cen. soustava / platnost | T6: Cenová úroveň | U6: Nhod / MJ | V6: Nhod celk. | W6: Dodavatel | X6: Typ položky | Y6: Stav položky
A8: Díl: | B8: 1 | C8: Zemní práce | G8: =SUMIF(AF9:AF30,"<>NOR",G9:G30) -> 496477.39 | I8: =SUM(I9:I30) -> 31094.87 | K8: =SUM(K9:K30) -> 386037.68 | M8: =SUM(M9:M30) -> 600737.64 | O8: =SUM(O9:O30) -> 65.7 | Q8: =SUM(Q9:Q30) -> 0 | V8: =SUM(V9:V30) -> 738.04 | AF8: DIL
A9: 1 | B9: 139601102R00 | C9: Ruční výkop jam, rýh a šachet v hornině tř. 3 | D9: m3 | E9: 127.8 | F9: 1781.8 | G9: =ROUND(E9*F9,2) -> 227714.04 | H9: 0 | I9: =ROUND(E9*H9,2) -> 0 | J9: 1527 | K9: =ROUND(E9*J9,2) -> 195150.6 | L9: 21 | M9: =G9*(1+L9/100) -> 275533.99 | N9: 0 | O9: =ROUND(E9*N9,2) -> 0 | P9: 0 | Q9: =ROUND(E9*P9,2) -> 0 | S9: Vlastní | T9: Indiv | U9: 3.533 | V9: =ROUND(E9*U9,2) -> 451.52 | X9: Práce | Y9: Běžná | AF9: POL1_0
C10: 60,1+2,8+64,9 | E10: 127.8 | AF10: VV | AG10: 0
A11: 2 | B11: 151101101R00 | C11: Pažení a rozepření stěn rýh - příložné - hl.do 2 m | D11: m2 | E11: 30.3 | F11: 177 | G11: =ROUND(E11*F11,2) -> 5363.1 | H11: 12.95 | I11: =ROUND(E11*H11,2) -> 392.39 | J11: 139.05 | K11: =ROUND(E11*J11,2) -> 4213.22 | L11: 21 | M11: =G11*(1+L11/100) -> 6489.351 | N11: 0.00099 | O11: =ROUND(E11*N11,2) -> 0.03 | P11: 0 | Q11: =ROUND(E11*P11,2) -> 0 | S11: Vlastní | T11: Indiv | U11: 0.236 | V11: =ROUND(E11*U11,2) -> 7.15 | X11: Práce | Y11: Běžná | AF11: POL1_0
C12: 30,3 | E12: 30.3 | AF12: VV | AG12: 0
A13: 3 | B13: 151101111R00 | C13: Odstranění pažení stěn rýh - příložné - hl. do 2 m | D13: m2 | E13: 30.3 | F13: 35.4 | G13: =ROUND(E13*F13,2) -> 1072.62 | H13: 0 | I13: =ROUND(E13*H13,2) -> 0 | J13: 33.1 | K13: =ROUND(E13*J13,2) -> 1002.93 | L13: 21 | M13: =G13*(1+L13/100) -> 1297.8702 | N13: 0 | O13: =ROUND(E13*N13,2) -> 0 | P13: 0 | Q13: =ROUND(E13*P13,2) -> 0 | S13: Vlastní | T13: Indiv | U13: 0.07 | V13: =ROUND(E13*U13,2) -> 2.12 | X13: Práce | Y13: Běžná | AF13: POL1_0
A14: 4 | B14: 151101102R00 | C14: Pažení a rozepření stěn rýh - příložné - hl.do 4 m | D14: m2 | E14: 60.6 | F14: 342.2 | G14: =ROUND(E14*F14,2) -> 20737.32 | H14: 24.39 | I14: =ROUND(E14*H14,2) -> 1478.03 | J14: 267.61 | K14: =ROUND(E14*J14,2) -> 16217.17 | L14: 21 | M14: =G14*(1+L14/100) -> 25092.157 | N14: 0.00086 | O14: =ROUND(E14*N14,2) -> 0.05 | P14: 0 | Q14: =ROUND(E14*P14,2) -> 0 | S14: Vlastní | T14: Indiv | U14: 0.479 | V14: =ROUND(E14*U14,2) -> 29.03 | X14: Práce | Y14: Běžná | AF14: POL1_0
C15: 60,6 | E15: 60.6 | AF15: VV | AG15: 0
A16: 5 | B16: 151101112R00 | C16: Odstranění pažení stěn rýh - příložné - hl. do 4 m | D16: m2 | E16: 60.6 | F16: 177 | G16: =ROUND(E16*F16,2) -> 10726.2 | H16: 0 | I16: =ROUND(E16*H16,2) -> 0 | J16: 154.5 | K16: =ROUND(E16*J16,2) -> 9362.7 | L16: 21 | M16: =G16*(1+L16/100) -> 12978.702 | N16: 0 | O16: =ROUND(E16*N16,2) -> 0 | P16: 0 | Q16: =ROUND(E16*P16,2) -> 0 | S16: Vlastní | T16: Indiv | U16: 0.327 | V16: =ROUND(E16*U16,2) -> 19.82 | X16: Práce | Y16: Běžná | AF16: POL1_0
A17: 6 | B17: 161101101R00 | C17: Svislé přemístění výkopku z hor.1-4 do 2,5 m | D17: m3 | E17: 62.9 | F17: 188.8 | G17: =ROUND(E17*F17,2) -> 11875.52 | H17: 0 | I17: =ROUND(E17*H17,2) -> 0 | J17: 153.5 | K17: =ROUND(E17*J17,2) -> 9655.15 | L17: 21 | M17: =G17*(1+L17/100) -> 14369.379 | N17: 0 | O17: =ROUND(E17*N17,2) -> 0 | P17: 0 | Q17: =ROUND(E17*P17,2) -> 0 | S17: Vlastní | T17: Indiv | U17: 0.345 | V17: =ROUND(E17*U17,2) -> 21.7 | X17: Práce | Y17: Běžná | AF17: POL1_0
C18: 60,1+2,8 | E18: 62.9 | AF18: VV | AG18: 0
A19: 7 | B19: 161101102R00 | C19: Svislé přemístění výkopku z hor.1-4 do 4,0 m | D19: m3 | E19: 64.9 | F19: 159.3 | G19: =ROUND(E19*F19,2) -> 10338.57 | H19: 0 | I19: =ROUND(E19*H19,2) -> 0 | J19: 245.5 | K19: =ROUND(E19*J19,2) -> 15932.95 | L19: 21 | M19: =G19*(1+L19/100) -> 12509.67 | N19: 0 | O19: =ROUND(E19*N19,2) -> 0 | P19: 0 | Q19: =ROUND(E19*P19,2) -> 0 | S19: Vlastní | T19: Indiv | U19: 0.519 | V19: =ROUND(E19*U19,2) -> 33.68 | X19: Práce | Y19: Běžná | AF19: POL1_0
A20: 8 | B20: 162701105R00 | C20: Vodorovné přemístění výkopku z hor.1-4 do 10000 m | D20: m3 | E20: 65.35 | F20: 542.8 | G20: =ROUND(E20*F20,2) -> 35471.98 | H20: 0 | I20: =ROUND(E20*H20,2) -> 0 | J20: 296 | K20: =ROUND(E20*J20,2) -> 19343.6 | L20: 21 | M20: =G20*(1+L20/100) -> 42921.096 | N20: 0 | O20: =ROUND(E20*N20,2) -> 0 | P20: 0 | Q20: =ROUND(E20*P20,2) -> 0 | S20: Vlastní | T20: Indiv | U20: 0.011 | V20: =ROUND(E20*U20,2) -> 0.72 | X20: Práce | Y20: Běžná | AF20: POL1_0
C21: 6,2+25,4 | E21: 31.6 | AF21: VV | AG21: 0
C22: 4,5*3*2,5 | E22: 33.75 | AF22: VV | AG22: 0
A23: 9 | B23: 162201210R00 | C23: Příplatek za dalš.10 m, kolečko, výkop. z hor.1- 4 | D23: m3 | E23: 65.35 | F23: 302.08 | G23: =ROUND(E23*F23,2) -> 19740.93 | H23: 0 | I23: =ROUND(E23*H23,2) -> 0 | J23: 263 | K23: =ROUND(E23*J23,2) -> 17187.05 | L23: 21 | M23: =G23*(1+L23/100) -> 23886.525 | N23: 0 | O23: =ROUND(E23*N23,2) -> 0 | P23: 0 | Q23: =ROUND(E23*P23,2) -> 0 | S23: Vlastní | T23: Indiv | U23: 0.591 | V23: =ROUND(E23*U23,2) -> 38.62 | X23: Práce | Y23: Běžná | AF23: POL1_0
A24: 10 | B24: 171201201R00 | C24: Uložení sypaniny na skl.-sypanina na výšku přes 2m | D24: m3 | E24: 65.35 | F24: 17.7 | G24: =ROUND(E24*F24,2) -> 1156.7 | H24: 0 | I24: =ROUND(E24*H24,2) -> 0 | J24: 18.8 | K24: =ROUND(E24*J24,2) -> 1228.58 | L24: 21 | M24: =G24*(1+L24/100) -> 1399.607 | N24: 0 | O24: =ROUND(E24*N24,2) -> 0 | P24: 0 | Q24: =ROUND(E24*P24,2) -> 0 | S24: Vlastní | T24: Indiv | U24: 0.009 | V24: =ROUND(E24*U24,2) -> 0.59 | X24: Práce | Y24: Běžná | AF24: POL1_0
A25: 11 | B25: 199000002R00 | C25: Poplatek za skládku horniny 1- 4 | D25: m3 | E25: 65.34 | F25: 731.6 | G25: =ROUND(E25*F25,2) -> 47802.74 | H25: 0 | I25: =ROUND(E25*H25,2) -> 0 | J25: 513 | K25: =ROUND(E25*J25,2) -> 33519.42 | L25: 21 | M25: =G25*(1+L25/100) -> 57841.315 | N25: 0 | O25: =ROUND(E25*N25,2) -> 0 | P25: 0 | Q25: =ROUND(E25*P25,2) -> 0 | S25: Vlastní | T25: Indiv | U25: 0 | V25: =ROUND(E25*U25,2) -> 0 | X25: Práce | Y25: Běžná | AF25: POL1_0
A26: 12 | B26: 174101102R00 | C26: Zásyp ruční se zhutněním | D26: m3 | E26: 62.46 | F26: 637.2 | G26: =ROUND(E26*F26,2) -> 39799.51 | H26: 0 | I26: =ROUND(E26*H26,2) -> 0 | J26: 576 | K26: =ROUND(E26*J26,2) -> 35976.96 | L26: 21 | M26: =G26*(1+L26/100) -> 48157.407 | N26: 0 | O26: =ROUND(E26*N26,2) -> 0 | P26: 0 | Q26: =ROUND(E26*P26,2) -> 0 | S26: Vlastní | T26: Indiv | U26: 1.15 | V26: =ROUND(E26*U26,2) -> 71.83 | X26: Práce | Y26: Běžná | AF26: POL1_0
A27: 13 | B27: 175101101RT2 | C27: Obsyp potrubí bez prohození sypaniny, s dodáním štěrkopísku frakce 0 - 22 mm | D27: m3 | E27: 38.6 | F27: 1675.6 | G27: =ROUND(E27*F27,2) -> 64678.16 | H27: 757.11 | I27: =ROUND(E27*H27,2) -> 29224.45 | J27: 705.89 | K27: =ROUND(E27*J27,2) -> 27247.35 | L27: 21 | M27: =G27*(1+L27/100) -> 78260.574 | N27: 1.7 | O27: =ROUND(E27*N27,2) -> 65.62 | P27: 0 | Q27: =ROUND(E27*P27,2) -> 0 | S27: Vlastní | T27: Indiv | U27: 1.587 | V27: =ROUND(E27*U27,2) -> 61.26 | X27: Práce | Y27: Běžná | AF27: POL1_0
C28: 6,2+25,4 | E28: 31.6 | AF28: VV | AG28: 0
C29: 4,5*2,5*0,2*2 | E29: 4.5 | AF29: VV | AG29: 0
C30: 2,5*2,5*0,2*2 | E30: 2.5 | AF30: VV | AG30: 0
A31: Díl: | B31: 8 | C31: Trubní vedení | G31: =SUMIF(AF32:AF41,"<>NOR",G32:G41) -> 149690.08 | I31: =SUM(I32:I41) -> 32020 | K31: =SUM(K32:K41) -> 95026 | M31: =SUM(M32:M41) -> 181125 | O31: =SUM(O32:O41) -> 0.12 | Q31: =SUM(Q32:Q41) -> 0 | V31: =SUM(V32:V41) -> 1.95 | AF31: DIL
A32: 14 | B32: 894432112R00 | C32: Osazení plastové šachty revizní prům.425 mm | D32: kus | E32: 3 | F32: 743.4 | G32: =ROUND(E32*F32,2) -> 2230.2 | H32: 0 | I32: =ROUND(E32*H32,2) -> 0 | J32: 642 | K32: =ROUND(E32*J32,2) -> 1926 | L32: 21 | M32: =G32*(1+L32/100) -> 2698.542 | N32: 0 | O32: =ROUND(E32*N32,2) -> 0 | P32: 0 | Q32: =ROUND(E32*P32,2) -> 0 | S32: Vlastní | T32: Indiv | U32: 0.65 | V32: =ROUND(E32*U32,2) -> 1.95 | X32: Práce | Y32: Běžná | AF32: POL1_0
A33: 15 | B33: 8-PC | C33: Adaptér teleskopický PP 425 | D33: kus | E33: 3 | F33: 1099.76 | G33: =ROUND(E33*F33,2) -> 3299.28 | H33: 940 | I33: =ROUND(E33*H33,2) -> 2820 | J33: 0 | K33: =ROUND(E33*J33,2) -> 0 | L33: 21 | M33: =G33*(1+L33/100) -> 3992.1288 | N33: 0.012 | O33: =ROUND(E33*N33,2) -> 0.04 | P33: 0 | Q33: =ROUND(E33*P33,2) -> 0 | S33: Vlastní | T33: Indiv | U33: 0 | V33: =ROUND(E33*U33,2) -> 0 | X33: Specifikace | Y33: Běžná | AF33: POL3_0
A34: 16 | B34: 286971402R | C34: Roura šachtová korugovaná bez hrdla 425/1500 mm | D34: kus | E34: 3 | F34: 2832 | G34: =ROUND(E34*F34,2) -> 8496 | H34: 2420 | I34: =ROUND(E34*H34,2) -> 7260 | J34: 0 | K34: =ROUND(E34*J34,2) -> 0 | L34: 21 | M34: =G34*(1+L34/100) -> 10280.16 | N34: 0.012 | O34: =ROUND(E34*N34,2) -> 0.04 | P34: 0 | Q34: =ROUND(E34*P34,2) -> 0 | S34: Vlastní | T34: Indiv | U34: 0 | V34: =ROUND(E34*U34,2) -> 0 | X34: Specifikace | Y34: Běžná | AF34: POL3_0
A35: 17 | B35: 8-PC | C35: Poklop do šachtové roury 425 mm/B125 | D35: kus | E35: 3 | F35: 3799.6 | G35: =ROUND(E35*F35,2) -> 11398.8 | H35: 3255 | I35: =ROUND(E35*H35,2) -> 9765 | J35: 0 | K35: =ROUND(E35*J35,2) -> 0 | L35: 21 | M35: =G35*(1+L35/100) -> 13792.548 | N35: 0.00192 | O35: =ROUND(E35*N35,2) -> 0.01 | P35: 0 | Q35: =ROUND(E35*P35,2) -> 0 | S35: Vlastní | T35: Indiv | U35: 0 | V35: =ROUND(E35*U35,2) -> 0 | X35: R-položka | Y35: Běžná | AF35: POL12_0
A36: 18 | B36: 2869716901R | C36: Dno šachtové výkyv. 425/150 přímé pro korug. | D36: kus | E36: 1 | F36: 4342.4 | G36: =ROUND(E36*F36,2) -> 4342.4 | H36: 3420 | I36: =ROUND(E36*H36,2) -> 3420 | J36: 0 | K36: =ROUND(E36*J36,2) -> 0 | L36: 21 | M36: =G36*(1+L36/100) -> 5254.304 | N36: 0.00895 | O36: =ROUND(E36*N36,2) -> 0.01 | P36: 0 | Q36: =ROUND(E36*P36,2) -> 0 | S36: Vlastní | T36: Indiv | U36: 0 | V36: =ROUND(E36*U36,2) -> 0 | X36: Specifikace | Y36: Běžná | AF36: POL3_0
A37: 19 | B37: 2869716905R | C37: Dno šachtové výkyv. 425/150 typ T pro korug. | D37: kus | E37: 1 | F37: 4625.6 | G37: =ROUND(E37*F37,2) -> 4625.6 | H37: 3650 | I37: =ROUND(E37*H37,2) -> 3650 | J37: 0 | K37: =ROUND(E37*J37,2) -> 0 | L37: 21 | M37: =G37*(1+L37/100) -> 5596.976 | N37: 0.00969 | O37: =ROUND(E37*N37,2) -> 0.01 | P37: 0 | Q37: =ROUND(E37*P37,2) -> 0 | S37: Vlastní | T37: Indiv | U37: 0 | V37: =ROUND(E37*U37,2) -> 0 | X37: Specifikace | Y37: Běžná | AF37: POL3_0
A38: 20 | B38: 2869716904R | C38: Dno šachtové výkyv. 425/150 90° pro korug. | D38: kus | E38: 1 | F38: 6372 | G38: =ROUND(E38*F38,2) -> 6372 | H38: 5105 | I38: =ROUND(E38*H38,2) -> 5105 | J38: 0 | K38: =ROUND(E38*J38,2) -> 0 | L38: 21 | M38: =G38*(1+L38/100) -> 7710.12 | N38: 0.00883 | O38: =ROUND(E38*N38,2) -> 0.01 | P38: 0 | Q38: =ROUND(E38*P38,2) -> 0 | S38: Vlastní | T38: Indiv | U38: 0 | V38: =ROUND(E38*U38,2) -> 0 | X38: Specifikace | Y38: Běžná | AF38: POL3_0
A39: 21 | B39: 8-PC | C39: Podzemní nádrž PP samonostná 4,160*2,5*2,160, +2xvstupní kominek + 2xpochůzí poklop+mont. | D39: soubor | E39: 1 | F39: 92040 | G39: =ROUND(E39*F39,2) -> 92040 | H39: 0 | I39: =ROUND(E39*H39,2) -> 0 | J39: 85000 | K39: =ROUND(E39*J39,2) -> 85000 | L39: 21 | M39: =G39*(1+L39/100) -> 111368.4 | N39: 0 | O39: =ROUND(E39*N39,2) -> 0 | P39: 0 | Q39: =ROUND(E39*P39,2) -> 0 | S39: Vlastní | T39: Indiv | U39: 0 | V39: =ROUND(E39*U39,2) -> 0 | X39: Práce | Y39: Běžná | AF39: POL1_0
A40: 22 | B40: 8-PC | C40: Podbetonování nádrží deska 200mm, s kari sítí | D40: m3 | E40: 2.7 | F40: 6254 | G40: =ROUND(E40*F40,2) -> 16885.8 | H40: 0 | I40: =ROUND(E40*H40,2) -> 0 | J40: 3000 | K40: =ROUND(E40*J40,2) -> 8100 | L40: 21 | M40: =G40*(1+L40/100) -> 20431.818 | N40: 0 | O40: =ROUND(E40*N40,2) -> 0 | P40: 0 | Q40: =ROUND(E40*P40,2) -> 0 | S40: Vlastní | T40: Indiv | U40: 0 | V40: =ROUND(E40*U40,2) -> 0 | X40: R-položka | Y40: Běžná | AF40: POL12_1
C41: 4,5*3*0,2 | E41: 2.7 | AF41: VV | AG41: 0
A42: Díl: | B42: 96 | C42: Bourání konstrukcí | G42: =SUMIF(AF43:AF44,"<>NOR",G43:G44) -> 29913 | I42: =SUM(I43:I44) -> 0 | K42: =SUM(K43:K44) -> 27300 | M42: =SUM(M43:M44) -> 36194.73 | O42: =SUM(O43:O44) -> 0 | Q42: =SUM(Q43:Q44) -> 21.45 | V42: =SUM(V43:V44) -> 57.2 | AF42: DIL
...

Sheet S01 3) PL Pol
A1: Položkový soupis prací a dodávek | AG1: #TypZaznamu#
A2: S: | B2: 01 | C2: REKONSTRUKCE VOLNOČASOVÉHO CENTRA V UNÍNĚ - 2. etapa | M2: 0 | N2: 1. etapa | O2: NENACEŇOVAT | AG2: STA
A3: O: | B3: S01 | C3: VOLNOČASOVÉ CENTRUM | M3: 0 | N3: 3. etapa | O3: NENACEŇOVAT | AC3: STA | AG3: OBJ
A4: R: | B4: 3) PL | C4: Plynoinstalace | AG4: ROZ
A6: P.č. | B6: Číslo položky | C6: Název položky | D6: MJ | E6: Množství | F6: Cena / MJ | G6: Celkem | H6: Dodávka | I6: Dodávka celk. | J6: Montáž | K6: Montáž celk. | L6: DPH | M6: Cena s DPH | N6: Hmotnost / MJ | O6: Hmotnost celk.(t) | P6: Dem. hmotnost / MJ | Q6: Dem. hmotnost celk.(t) | R6: Ceník | S6: Cen. soustava / platnost | T6: Cenová úroveň | U6: Nhod / MJ | V6: Nhod celk. | W6: Dodavatel | X6: Typ položky | Y6: Stav položky
A8: Díl: | B8: 1 | C8: Zemní práce | G8: =SUMIF(AG9:AG17,"<>NOR",G9:G17) -> 0 | I8: =SUM(I9:I17) -> 2649.89 | K8: =SUM(K9:K17) -> 15084.27 | M8: =SUM(M9:M17) -> 0 | O8: =SUM(O9:O17) -> 5.95 | Q8: =SUM(Q9:Q17) -> 0 | V8: =SUM(V9:V17) -> 27.75 | AG8: DIL
A9: 1 | B9: 139601102R00 | C9: Ruční výkop jam, rýh a šachet v hornině tř. 3 | D9: m3 | E9: 5.6 | F9: 0 | G9: =ROUND(E9*F9,2) -> 0 | H9: 0 | I9: =ROUND(E9*H9,2) -> 0 | J9: 1527 | K9: =ROUND(E9*J9,2) -> 8551.2 | L9: 21 | M9: =G9*(1+L9/100) -> 0 | N9: 0 | O9: =ROUND(E9*N9,2) -> 0 | P9: 0 | Q9: =ROUND(E9*P9,2) -> 0 | S9: Vlastní | T9: Indiv | U9: 3.533 | V9: =ROUND(E9*U9,2) -> 19.78 | X9: Práce | Y9: Běžná | AG9: POL1_0
C10: 7*0,8*1 | E10: 5.6 | AG10: VV | AH10: 0
A11: 2 | B11: 161101101R00 | C11: Svislé přemístění výkopku z hor.1-4 do 2,5 m | D11: m3 | E11: 5.6 | F11: 0 | G11: =ROUND(E11*F11,2) -> 0 | H11: 0 | I11: =ROUND(E11*H11,2) -> 0 | J11: 153.5 | K11: =ROUND(E11*J11,2) -> 859.6 | L11: 21 | M11: =G11*(1+L11/100) -> 0 | N11: 0 | O11: =ROUND(E11*N11,2) -> 0 | P11: 0 | Q11: =ROUND(E11*P11,2) -> 0 | S11: Vlastní | T11: Indiv | U11: 0.345 | V11: =ROUND(E11*U11,2) -> 1.93 | X11: Práce | Y11: Běžná | AG11: POL1_0
A12: 3 | B12: 162701105R00 | C12: Vodorovné přemístění výkopku z hor.1-4 do 10000 m | D12: m3 | E12: 3.5 | F12: 0 | G12: =ROUND(E12*F12,2) -> 0 | H12: 0 | I12: =ROUND(E12*H12,2) -> 0 | J12: 296 | K12: =ROUND(E12*J12,2) -> 1036 | L12: 21 | M12: =G12*(1+L12/100) -> 0 | N12: 0 | O12: =ROUND(E12*N12,2) -> 0 | P12: 0 | Q12: =ROUND(E12*P12,2) -> 0 | S12: Vlastní | T12: Indiv | U12: 0.011 | V12: =ROUND(E12*U12,2) -> 0.04 | X12: Práce | Y12: Běžná | AG12: POL1_0
C13: 7*0,5*1 | E13: 3.5 | AG13: VV | AH13: 0
A14: 4 | B14: 171201201R00 | C14: Uložení sypaniny na skl.-sypanina na výšku přes 2m | D14: m3 | E14: 3.5 | F14: 0 | G14: =ROUND(E14*F14,2) -> 0 | H14: 0 | I14: =ROUND(E14*H14,2) -> 0 | J14: 18.8 | K14: =ROUND(E14*J14,2) -> 65.8 | L14: 21 | M14: =G14*(1+L14/100) -> 0 | N14: 0 | O14: =ROUND(E14*N14,2) -> 0 | P14: 0 | Q14: =ROUND(E14*P14,2) -> 0 | S14: Vlastní | T14: Indiv | U14: 0.009 | V14: =ROUND(E14*U14,2) -> 0.03 | X14: Práce | Y14: Běžná | AG14: POL1_0
A15: 5 | B15: 199000002R00 | C15: Poplatek za skládku horniny 1- 4 | D15: m3 | E15: 3.5 | F15: 0 | G15: =ROUND(E15*F15,2) -> 0 | H15: 0 | I15: =ROUND(E15*H15,2) -> 0 | J15: 513 | K15: =ROUND(E15*J15,2) -> 1795.5 | L15: 21 | M15: =G15*(1+L15/100) -> 0 | N15: 0 | O15: =ROUND(E15*N15,2) -> 0 | P15: 0 | Q15: =ROUND(E15*P15,2) -> 0 | S15: Vlastní | T15: Indiv | U15: 0 | V15: =ROUND(E15*U15,2) -> 0 | X15: Práce | Y15: Běžná | AG15: POL1_0
A16: 6 | B16: 174101101R00 | C16: Zásyp jam, rýh, šachet se zhutněním | D16: m3 | E16: 2.1 | F16: 0 | G16: =ROUND(E16*F16,2) -> 0 | H16: 0 | I16: =ROUND(E16*H16,2) -> 0 | J16: 145.5 | K16: =ROUND(E16*J16,2) -> 305.55 | L16: 21 | M16: =G16*(1+L16/100) -> 0 | N16: 0 | O16: =ROUND(E16*N16,2) -> 0 | P16: 0 | Q16: =ROUND(E16*P16,2) -> 0 | S16: Vlastní | T16: Indiv | U16: 0.202 | V16: =ROUND(E16*U16,2) -> 0.42 | X16: Práce | Y16: Běžná | AG16: POL1_0
A17: 7 | B17: 175101101RT2 | C17: Obsyp potrubí bez prohození sypaniny, s dodáním štěrkopísku frakce 0 - 22 mm | D17: m3 | E17: 3.5 | F17: 0 | G17: =ROUND(E17*F17,2) -> 0 | H17: 757.11 | I17: =ROUND(E17*H17,2) -> 2649.89 | J17: 705.89 | K17: =ROUND(E17*J17,2) -> 2470.62 | L17: 21 | M17: =G17*(1+L17/100) -> 0 | N17: 1.7 | O17: =ROUND(E17*N17,2) -> 5.95 | P17: 0 | Q17: =ROUND(E17*P17,2) -> 0 | S17: Vlastní | T17: Indiv | U17: 1.587 | V17: =ROUND(E17*U17,2) -> 5.55 | X17: Práce | Y17: Běžná | AG17: POL1_0
A18: Díl: | B18: 97 | C18: Prorážení otvorů | G18: =SUMIF(AG19:AG20,"<>NOR",G19:G20) -> 0 | I18: =SUM(I19:I20) -> 898.03 | K18: =SUM(K19:K20) -> 4566.97 | M18: =SUM(M19:M20) -> 0 | O18: =SUM(O19:O20) -> 0 | Q18: =SUM(Q19:Q20) -> 0.5 | V18: =SUM(V19:V20) -> 9.61 | AG18: DIL
A19: 8 | B19: 973100030RA0 | C19: Vysekání kapes ve zdivu z cihel, 50 x 50 x 30 cm | D19: kus | E19: 5 | F19: 0 | G19: =ROUND(E19*F19,2) -> 0 | H19: 26.47 | I19: =ROUND(E19*H19,2) -> 132.35 | J19: 631.53 | K19: =ROUND(E19*J19,2) -> 3157.65 | L19: 21 | M19: =G19*(1+L19/100) -> 0 | N19: 0.00091 | O19: =ROUND(E19*N19,2) -> 0 | P19: 0.097 | Q19: =ROUND(E19*P19,2) -> 0.49 | S19: Vlastní | T19: Indiv | U19: 1.45214 | V19: =ROUND(E19*U19,2) -> 7.26 | X19: Agregovaná položka | Y19: Běžná | AG19: POL2_0
A20: 9 | B20: 970031060R00 | C20: Vrtání jádrové do zdiva cihelného do D 60 mm | D20: m | E20: 1 | F20: 0 | G20: =ROUND(E20*F20,2) -> 0 | H20: 765.68 | I20: =ROUND(E20*H20,2) -> 765.68 | J20: 1409.32 | K20: =ROUND(E20*J20,2) -> 1409.32 | L20: 21 | M20: =G20*(1+L20/100) -> 0 | N20: 0 | O20: =ROUND(E20*N20,2) -> 0 | P20: 0.00509 | Q20: =ROUND(E20*P20,2) -> 0.01 | S20: Vlastní | T20: Indiv | U20: 2.35 | V20: =ROUND(E20*U20,2) -> 2.35 | X20: Práce | Y20: Běžná | AG20: POL1_0
A21: Díl: | B21: 723 | C21: Vnitřní plynovod | G21: =SUMIF(AG22:AG34,"<>NOR",G22:G34) -> 0 | I21: =SUM(I22:I34) -> 6710.64 | K21: =SUM(K22:K34) -> 8889.96 | M21: =SUM(M22:M34) -> 0 | O21: =SUM(O22:O34) -> 0.23 | Q21: =SUM(Q22:Q34) -> 0.02 | V21: =SUM(V22:V34) -> 11.74 | AG21: DIL
A22: 10 | B22: 723120804R00 | C22: Demontáž potrubí svařovaného závitového do DN 25 mm | D22: m | E22: 10 | F22: 0 | G22: =ROUND(E22*F22,2) -> 0 | H22: 49.56 | I22: =ROUND(E22*H22,2) -> 495.6 | J22: 13.34 | K22: =ROUND(E22*J22,2) -> 133.4 | L22: 21 | M22: =G22*(1+L22/100) -> 0 | N22: 0.00011 | O22: =ROUND(E22*N22,2) -> 0 | P22: 0.00215 | Q22: =ROUND(E22*P22,2) -> 0.02 | S22: Vlastní | T22: Indiv | U22: 0.03 | V22: =ROUND(E22*U22,2) -> 0.3 | X22: Práce | Y22: Běžná | AG22: POL1_0
A23: 11 | B23: 723120204R00 | C23: Potrubí ocelové závitové černé svařované DN 25 | D23: m | E23: 5 | F23: 0 | G23: =ROUND(E23*F23,2) -> 0 | H23: 277.72 | I23: =ROUND(E23*H23,2) -> 1388.6 | J23: 379.28 | K23: =ROUND(E23*J23,2) -> 1896.4 | L23: 21 | M23: =G23*(1+L23/100) -> 0 | N23: 0.01249 | O23: =ROUND(E23*N23,2) -> 0.06 | P23: 0 | Q23: =ROUND(E23*P23,2) -> 0 | S23: Vlastní | T23: Indiv | U23: 0.704 | V23: =ROUND(E23*U23,2) -> 3.52 | X23: Práce | Y23: Běžná | AG23: POL1_0
A24: 12 | B24: 723190252R00 | C24: Vyvedení a upevnění plynovodních výpustek DN 20 | D24: kus | E24: 1 | F24: 0 | G24: =ROUND(E24*F24,2) -> 0 | H24: 153.86 | I24: =ROUND(E24*H24,2) -> 153.86 | J24: 261.14 | K24: =ROUND(E24*J24,2) -> 261.14 | L24: 21 | M24: =G24*(1+L24/100) -> 0 | N24: 0.00104 | O24: =ROUND(E24*N24,2) -> 0 | P24: 0 | Q24: =ROUND(E24*P24,2) -> 0 | S24: Vlastní | T24: Indiv | U24: 0.424 | V24: =ROUND(E24*U24,2) -> 0.42 | X24: Práce | Y24: Běžná | AG24: POL1_0
A25: 13 | B25: 286136352R | C25: Trubka plynová GASLINE RC SDR11 32 x 3,0 mm | D25: m | E25: 10 | F25: 0 | G25: =ROUND(E25*F25,2) -> 0 | H25: 83.6 | I25: =ROUND(E25*H25,2) -> 836 | J25: 0 | K25: =ROUND(E25*J25,2) -> 0 | L25: 21 | M25: =G25*(1+L25/100) -> 0 | N25: 0.00048 | O25: =ROUND(E25*N25,2) -> 0 | P25: 0 | Q25: =ROUND(E25*P25,2) -> 0 | S25: Vlastní | T25: Indiv | U25: 0 | V25: =ROUND(E25*U25,2) -> 0 | X25: Specifikace | Y25: Běžná | AG25: POL3_0
A26: 14 | B26: 28314146.AR | C26: Fólie výstražná žlutá "POZOR PLYN", š. 300 mm | D26: m | E26: 10 | F26: 0 | G26: =ROUND(E26*F26,2) -> 0 | H26: 6.3 | I26: =ROUND(E26*H26,2) -> 63 | J26: 0 | K26: =ROUND(E26*J26,2) -> 0 | L26: 21 | M26: =G26*(1+L26/100) -> 0 | N26: 0 | O26: =ROUND(E26*N26,2) -> 0 | P26: 0 | Q26: =ROUND(E26*P26,2) -> 0 | S26: Vlastní | T26: Indiv | U26: 0 | V26: =ROUND(E26*U26,2) -> 0 | X26: Specifikace | Y26: Běžná | AG26: POL3_0
A27: 15 | B27: 34141301R | C27: Vodič silový pevné uložení CYY 2,5 mm2 | D27: m | E27: 10 | F27: 0 | G27: =ROUND(E27*F27,2) -> 0 | H27: 8.7 | I27: =ROUND(E27*H27,2) -> 87 | J27: 0 | K27: =ROUND(E27*J27,2) -> 0 | L27: 21 | M27: =G27*(1+L27/100) -> 0 | N27: 4e-05 | O27: =ROUND(E27*N27,2) -> 0 | P27: 0 | Q27: =ROUND(E27*P27,2) -> 0 | S27: Vlastní | T27: Indiv | U27: 0 | V27: =ROUND(E27*U27,2) -> 0 | X27: Specifikace | Y27: Běžná | AG27: POL3_0
A28: 16 | B28: 551310051R | C28: Kohout kulový plyn G3/4" | D28: kus | E28: 1 | F28: 0 | G28: =ROUND(E28*F28,2) -> 0 | H28: 568 | I28: =ROUND(E28*H28,2) -> 568 | J28: 0 | K28: =ROUND(E28*J28,2) -> 0 | L28: 21 | M28: =G28*(1+L28/100) -> 0 | N28: 0.00037 | O28: =ROUND(E28*N28,2) -> 0 | P28: 0 | Q28: =ROUND(E28*P28,2) -> 0 | S28: Vlastní | T28: Indiv | U28: 0 | V28: =ROUND(E28*U28,2) -> 0 | X28: Specifikace | Y28: Běžná | AG28: POL3_0
A29: 17 | B29: 723239102R00 | C29: Montáž plynovodních armatur, 2 závity, G 3/4 | D29: kus | E29: 1 | F29: 0 | G29: =ROUND(E29*F29,2) -> 0 | H29: 5.73 | I29: =ROUND(E29*H29,2) -> 5.73 | J29: 127.27 | K29: =ROUND(E29*J29,2) -> 127.27 | L29: 21 | M29: =G29*(1+L29/100) -> 0 | N29: 3e-05 | O29: =ROUND(E29*N29,2) -> 0 | P29: 0 | Q29: =ROUND(E29*P29,2) -> 0 | S29: Vlastní | T29: Indiv | U29: 0.206 | V29: =ROUND(E29*U29,2) -> 0.21 | X29: Práce | Y29: Běžná | AG29: POL1_0
A30: 18 | B30: 723190909R00 | C30: Zkouška tlaková plynového potrubí | D30: kus | E30: 2 | F30: 0 | G30: =ROUND(E30*F30,2) -> 0 | H30: 0 | I30: =ROUND(E30*H30,2) -> 0 | J30: 297 | K30: =ROUND(E30*J30,2) -> 594 | L30: 21 | M30: =G30*(1+L30/100) -> 0 | N30: 0 | O30: =ROUND(E30*N30,2) -> 0 | P30: 0 | Q30: =ROUND(E30*P30,2) -> 0 | S30: Vlastní | T30: Indiv | U30: 0.482 | V30: =ROUND(E30*U30,2) -> 0.96 | X30: Práce | Y30: Běžná | AG30: POL1_0
A31: 19 | B31: 723190907R00 | C31: Odvzdušnění a napuštění plynového potrubí | D31: m | E31: 15 | F31: 0 | G31: =ROUND(E31*F31,2) -> 0 | H31: 0 | I31: =ROUND(E31*H31,2) -> 0 | J31: 35 | K31: =ROUND(E31*J31,2) -> 525 | L31: 21 | M31: =G31*(1+L31/100) -> 0 | N31: 0 | O31: =ROUND(E31*N31,2) -> 0 | P31: 0 | Q31: =ROUND(E31*P31,2) -> 0 | S31: Vlastní | T31: Indiv | U31: 0.062 | V31: =ROUND(E31*U31,2) -> 0.93 | X31: Práce | Y31: Běžná | AG31: POL1_0
A32: 20 | B32: 723-PC | C32: Ochranná trubka D63 na potrubí DN25+mont. | D32: m | E32: 5 | F32: 0 | G32: =ROUND(E32*F32,2) -> 0 | H32: 622.57 | I32: =ROUND(E32*H32,2) -> 3112.85 | J32: 27.43 | K32: =ROUND(E32*J32,2) -> 137.15 | L32: 21 | M32: =G32*(1+L32/100) -> 0 | N32: 0.02825 | O32: =ROUND(E32*N32,2) -> 0.14 | P32: 0 | Q32: =ROUND(E32*P32,2) -> 0 | S32: Vlastní | T32: Indiv | U32: 0.9 | V32: =ROUND(E32*U32,2) -> 4.5 | X32: Práce | Y32: Běžná | AG32: POL1_0
A33: 21 | B33: 723-PC | C33: Revizní zpráva | D33: soubor | E33: 1 | F33: 0 | G33: =ROUND(E33*F33,2) -> 0 | H33: 0 | I33: =ROUND(E33*H33,2) -> 0 | J33: 5000 | K33: =ROUND(E33*J33,2) -> 5000 | L33: 21 | M33: =G33*(1+L33/100) -> 0 | N33: 0.02825 | O33: =ROUND(E33*N33,2) -> 0.03 | P33: 0 | Q33: =ROUND(E33*P33,2) -> 0 | S33: Vlastní | T33: Indiv | U33: 0.9 | V33: =ROUND(E33*U33,2) -> 0.9 | X33: R-položka | Y33: Běžná | AG33: POL12_1
A34: 22 | B34: 998723201R00 | C34: Přesun hmot pro vnitřní plynovod, výšky do 6 m | D34: % | E34: 154 | F34: 0 | G34: =ROUND(E34*F34,2) -> 0 | H34: 0 | I34: =ROUND(E34*H34,2) -> 0 | J34: 1.4 | K34: =ROUND(E34*J34,2) -> 215.6 | L34: 21 | M34: =G34*(1+L34/100) -> 0 | N34: 0 | O34: =ROUND(E34*N34,2) -> 0 | P34: 0 | Q34: =ROUND(E34*P34,2) -> 0 | S34: Vlastní | T34: Indiv | U34: 0 | V34: =ROUND(E34*U34,2) -> 0 | X34: Práce | Y34: Běžná | AG34: POL1_0
A35: Díl: | B35: 783 | C35: Nátěry | G35: =SUMIF(AG36:AG36,"<>NOR",G36:G36) -> 0 | I35: =SUM(I36:I36) -> 69.9 | K35: =SUM(K36:K36) -> 251.1 | M35: =SUM(M36:M36) -> 0 | O35: =SUM(O36:O36) -> 0 | Q35: =SUM(Q36:Q36) -> 0 | V35: =SUM(V36:V36) -> 0.45 | AG35: DIL
A36: 23 | B36: 783424240R00 | C36: Nátěr syntet. potrubí do DN 50 mm Z+1x +1x email | D36: m | E36: 5 | F36: 0 | G36: =ROUND(E36*F36,2) -> 0 | H36: 13.98 | I36: =ROUND(E36*H36,2) -> 69.9 | J36: 50.22 | K36: =ROUND(E36*J36,2) -> 251.1 | L36: 21 | M36: =G36*(1+L36/100) -> 0 | N36: 7e-05 | O36: =ROUND(E36*N36,2) -> 0 | P36: 0 | Q36: =ROUND(E36*P36,2) -> 0 | S36: Vlastní | T36: Indiv | U36: 0.089 | V36: =ROUND(E36*U36,2) -> 0.45 | X36: Práce | Y36: Běžná | AG36: POL1_0
A37: Díl: | B37: VN | C37: Vedlejší náklady | G37: =SUMIF(AG38:AG39,"<>NOR",G38:G39) -> 0 | I37: =SUM(I38:I39) -> 0 | K37: =SUM(K38:K39) -> 10000 | M37: =SUM(M38:M39) -> 0 | O37: =SUM(O38:O39) -> 0 | Q37: =SUM(Q38:Q39) -> 0 | V37: =SUM(V38:V39) -> 0 | AG37: DIL
A38: 24 | B38: 005241020R | C38: Geodetické zaměření skutečného provedení | D38: Soubor | E38: 1 | F38: 0 | G38: =ROUND(E38*F38,2) -> 0 | H38: 0 | I38: =ROUND(E38*H38,2) -> 0 | J38: 5000 | K38: =ROUND(E38*J38,2) -> 5000 | L38: 21 | M38: =G38*(1+L38/100) -> 0 | N38: 0 | O38: =ROUND(E38*N38,2) -> 0 | P38: 0 | Q38: =ROUND(E38*P38,2) -> 0 | S38: Vlastní | T38: Indiv | U38: 0 | V38: =ROUND(E38*U38,2) -> 0 | X38: Práce | Y38: Běžná | AG38: POL1_0
A39: 25 | B39: 005241010R | C39: Dokumentace skutečného provedení | D39: Soubor | E39: 1 | F39: 0 | G39: =ROUND(E39*F39,2) -> 0 | H39: 0 | I39: =ROUND(E39*H39,2) -> 0 | J39: 5000 | K39: =ROUND(E39*J39,2) -> 5000 | L39: 21 | M39: =G39*(1+L39/100) -> 0 | N39: 0 | O39: =ROUND(E39*N39,2) -> 0 | P39: 0 | Q39: =ROUND(E39*P39,2) -> 0 | S39: Vlastní | T39: Indiv | U39: 0 | V39: =ROUND(E39*U39,2) -> 0 | X39: Práce | Y39: Běžná | AG39: POL1_0
AE40: 12 | AF40: 21 | AG40: DPH
B41: Celkem | G41: =G8+G18+G21+G35+G37 -> 0 | AE41: =SUMIF(L7:L39,AE40,G7:G39) -> 0 | AF41: =SUMIF(L7:L39,AF40,G7:G39) -> 0 | AG41: SUM
AG42: END

Sheet S01 4) UT Pol
A1: Položkový soupis prací a dodávek | AG1: #TypZaznamu#
A2: S: | B2: 01 | C2: REKONSTRUKCE VOLNOČASOVÉHO CENTRA V UNÍNĚ - 2.etapa | M2: 0 | N2: 1. etapa | O2: NENACEŇOVAT | AG2: STA
A3: O: | B3: S01 | C3: VOLNOČASOVÉ CENTRUM | M3: 0 | N3: 3. etapa | O3: NENACEŇOVAT | AC3: STA | AG3: OBJ
A4: R: | B4: 4) UT | C4: Vytápění stavby | AG4: ROZ
A6: P.č. | B6: Číslo položky | C6: Název položky | D6: MJ | E6: Množství | F6: Cena / MJ | G6: Celkem | H6: Dodávka | I6: Dodávka celk. | J6: Montáž | K6: Montáž celk. | L6: DPH | M6: Cena s DPH | N6: Hmotnost / MJ | O6: Hmotnost celk.(t) | P6: Dem. hmotnost / MJ | Q6: Dem. hmotnost celk.(t) | R6: Ceník | S6: Cen. soustava / platnost | T6: Cenová úroveň | U6: Nhod / MJ | V6: Nhod celk. | W6: Dodavatel | X6: Typ položky | Y6: Stav položky
A8: Díl: | B8: 713 | C8: Izolace tepelné | G8: =SUMIF(AG9:AG18,"<>NOR",G9:G18) -> 0 | I8: =SUM(I9:I18) -> 3910.1 | K8: =SUM(K9:K18) -> 9383.64 | M8: =SUM(M9:M18) -> 0 | O8: =SUM(O9:O18) -> 2.35 | Q8: =SUM(Q9:Q18) -> 0 | V8: =SUM(V9:V18) -> 0 | AG8: DIL
A9: 1 | B9: 713411111 | C9: Montáž izolace tepelné potrubí pásy nebo rohožemi bez úpravy staženými drátem 1x | D9: m2 | E9: 60 | F9: 0 | G9: =ROUND(E9*F9,2) -> 0 | H9: 0 | I9: =ROUND(E9*H9,2) -> 0 | J9: 155 | K9: =ROUND(E9*J9,2) -> 9300 | L9: 21 | M9: =G9*(1+L9/100) -> 0 | N9: 0.006 | O9: =ROUND(E9*N9,2) -> 0.36 | P9: 0 | Q9: =ROUND(E9*P9,2) -> 0 | S9: Vlastní | T9: Indiv | U9: 0 | V9: =ROUND(E9*U9,2) -> 0 | X9: Práce | Y9: Běžná | AG9: POL1_7
A10: 2 | B10: Plánovaná cena | C10: Návleková izolace NI d 15 tl. 10 mm | D10: m | E10: 120 | F10: 0 | G10: =ROUND(E10*F10,2) -> 0 | H10: 12.5 | I10: =ROUND(E10*H10,2) -> 1500 | J10: 0 | K10: =ROUND(E10*J10,2) -> 0 | L10: 21 | M10: =G10*(1+L10/100) -> 0 | N10: 0.012 | O10: =ROUND(E10*N10,2) -> 1.44 | P10: 0 | Q10: =ROUND(E10*P10,2) -> 0 | S10: Vlastní | T10: Indiv | U10: 0 | V10: =ROUND(E10*U10,2) -> 0 | X10: Specifikace | Y10: Běžná | AG10: POL3_0
A11: 3 | B11: Plánovaná cena | C11: Návleková izolace NI d 18 tl. 10 mm | D11: m | E11: 13 | F11: 0 | G11: =ROUND(E11*F11,2) -> 0 | H11: 13.8 | I11: =ROUND(E11*H11,2) -> 179.4 | J11: 0 | K11: =ROUND(E11*J11,2) -> 0 | L11: 21 | M11: =G11*(1+L11/100) -> 0 | N11: 0.00195 | O11: =ROUND(E11*N11,2) -> 0.03 | P11: 0 | Q11: =ROUND(E11*P11,2) -> 0 | S11: Vlastní | T11: Indiv | U11: 0 | V11: =ROUND(E11*U11,2) -> 0 | X11: R-položka | Y11: Běžná | AG11: POL12_0
A12: 4 | B12: Plánovaná cena | C12: Návleková izolace NI d 22 tl. 10 mm | D12: m | E12: 39 | F12: 0 | G12: =ROUND(E12*F12,2) -> 0 | H12: 16.3 | I12: =ROUND(E12*H12,2) -> 635.7 | J12: 0 | K12: =ROUND(E12*J12,2) -> 0 | L12: 21 | M12: =G12*(1+L12/100) -> 0 | N12: 0.00975 | O12: =ROUND(E12*N12,2) -> 0.38 | P12: 0 | Q12: =ROUND(E12*P12,2) -> 0 | S12: Vlastní | T12: Indiv | U12: 0 | V12: =ROUND(E12*U12,2) -> 0 | X12: R-položka | Y12: Běžná | AG12: POL12_0
A13: 5 | B13: Plánovaná cena | C13: Návleková izolace NI d 28 tl. 15 mm | D13: m | E13: 17 | F13: 0 | G13: =ROUND(E13*F13,2) -> 0 | H13: 29 | I13: =ROUND(E13*H13,2) -> 493 | J13: 0 | K13: =ROUND(E13*J13,2) -> 0 | L13: 21 | M13: =G13*(1+L13/100) -> 0 | N13: 0.00765 | O13: =ROUND(E13*N13,2) -> 0.13 | P13: 0 | Q13: =ROUND(E13*P13,2) -> 0 | S13: Vlastní | T13: Indiv | U13: 0 | V13: =ROUND(E13*U13,2) -> 0 | X13: R-položka | Y13: Běžná | AG13: POL12_0
A14: 6 | B14: Plánovaná cena | C14: NI chloroprénové lepidlo 400 ml | D14: BAL | E14: 2 | F14: 0 | G14: =ROUND(E14*F14,2) -> 0 | H14: 73 | I14: =ROUND(E14*H14,2) -> 146 | J14: 0 | K14: =ROUND(E14*J14,2) -> 0 | L14: 21 | M14: =G14*(1+L14/100) -> 0 | N14: 0.0008 | O14: =ROUND(E14*N14,2) -> 0 | P14: 0 | Q14: =ROUND(E14*P14,2) -> 0 | S14: Vlastní | T14: Indiv | U14: 0 | V14: =ROUND(E14*U14,2) -> 0 | X14: R-položka | Y14: Běžná | AG14: POL12_0
A15: 7 | B15: 63154530 | C15: pouzdro izolační potrubní z minerální vlny s Al fólií max. 250/100°C 22/30mm | D15: m | E15: 1 | F15: 0 | G15: =ROUND(E15*F15,2) -> 0 | H15: 126 | I15: =ROUND(E15*H15,2) -> 126 | J15: 0 | K15: =ROUND(E15*J15,2) -> 0 | L15: 21 | M15: =G15*(1+L15/100) -> 0 | N15: 0.00027 | O15: =ROUND(E15*N15,2) -> 0 | P15: 0 | Q15: =ROUND(E15*P15,2) -> 0 | S15: Vlastní | T15: Indiv | U15: 0 | V15: =ROUND(E15*U15,2) -> 0 | X15: Specifikace | Y15: Běžná | AG15: POL3_0
A16: 8 | B16: 63154571 | C16: pouzdro izolační potrubní s jednostrannou Al fólií max. 250/100 °C 28/40 mm | D16: m | E16: 5 | F16: 0 | G16: =ROUND(E16*F16,2) -> 0 | H16: 166 | I16: =ROUND(E16*H16,2) -> 830 | J16: 0 | K16: =ROUND(E16*J16,2) -> 0 | L16: 21 | M16: =G16*(1+L16/100) -> 0 | N16: 0.00295 | O16: =ROUND(E16*N16,2) -> 0.01 | P16: 0 | Q16: =ROUND(E16*P16,2) -> 0 | S16: Vlastní | T16: Indiv | U16: 0 | V16: =ROUND(E16*U16,2) -> 0 | X16: Specifikace | Y16: Běžná | AG16: POL3_0
A17: 9 | B17: 998713101 | C17: Přesun hmot tonážní pro izolace tepelné v objektech v do 6 m | D17: t | E17: 0.041 | F17: 0 | G17: =ROUND(E17*F17,2) -> 0 | H17: 0 | I17: =ROUND(E17*H17,2) -> 0 | J17: 1520 | K17: =ROUND(E17*J17,2) -> 62.32 | L17: 21 | M17: =G17*(1+L17/100) -> 0 | N17: 0 | O17: =ROUND(E17*N17,2) -> 0 | P17: 0 | Q17: =ROUND(E17*P17,2) -> 0 | S17: Vlastní | T17: Indiv | U17: 0 | V17: =ROUND(E17*U17,2) -> 0 | X17: Práce | Y17: Běžná | AG17: POL1_7
A18: 10 | B18: 998713193 | C18: Příplatek k přesunu hmot tonážní 713 za zvětšený přesun do 500 m | D18: t | E18: 0.041 | F18: 0 | G18: =ROUND(E18*F18,2) -> 0 | H18: 0 | I18: =ROUND(E18*H18,2) -> 0 | J18: 520 | K18: =ROUND(E18*J18,2) -> 21.32 | L18: 21 | M18: =G18*(1+L18/100) -> 0 | N18: 0 | O18: =ROUND(E18*N18,2) -> 0 | P18: 0 | Q18: =ROUND(E18*P18,2) -> 0 | S18: Vlastní | T18: Indiv | U18: 0 | V18: =ROUND(E18*U18,2) -> 0 | X18: Práce | Y18: Běžná | AG18: POL1_7
A19: Díl: | B19: 731 | C19: Ústřední vytápění - kotelny | G19: =SUMIF(AG20:AG26,"<>NOR",G20:G26) -> 0 | I19: =SUM(I20:I26) -> 63000 | K19: =SUM(K20:K26) -> 15870.8 | M19: =SUM(M20:M26) -> 0 | O19: =SUM(O20:O26) -> 0.06 | Q19: =SUM(Q20:Q26) -> 0 | V19: =SUM(V20:V26) -> 0 | AG19: DIL
A20: 11 | B20: 731244492 | C20: Montáž kotle ocelového závěsného na plyn kondenzačního o výkonu přes 14 do 20 kW | D20: soubor | E20: 1 | F20: 0 | G20: =ROUND(E20*F20,2) -> 0 | H20: 0 | I20: =ROUND(E20*H20,2) -> 0 | J20: 5210 | K20: =ROUND(E20*J20,2) -> 5210 | L20: 21 | M20: =G20*(1+L20/100) -> 0 | N20: 0.00252 | O20: =ROUND(E20*N20,2) -> 0 | P20: 0 | Q20: =ROUND(E20*P20,2) -> 0 | S20: Vlastní | T20: Indiv | U20: 0 | V20: =ROUND(E20*U20,2) -> 0 | X20: Práce | Y20: Běžná | AG20: POL1_7
A21: 12 | B21: Plánovaná cena | C21: Kondenzační plynový kotel závěsný, VÝKON 3,5-18,2 kW při spádu 80/60 °C, vč. sady pro ohřev TV,, čidla venkovní teploty a prostor. přístroje | D21: ks | E21: 1 | F21: 0 | G21: =ROUND(E21*F21,2) -> 0 | H21: 63000 | I21: =ROUND(E21*H21,2) -> 63000 | J21: 0 | K21: =ROUND(E21*J21,2) -> 0 | L21: 21 | M21: =G21*(1+L21/100) -> 0 | N21: 0.055 | O21: =ROUND(E21*N21,2) -> 0.06 | P21: 0 | Q21: =ROUND(E21*P21,2) -> 0 | S21: Vlastní | T21: Indiv | U21: 0 | V21: =ROUND(E21*U21,2) -> 0 | X21: R-položka | Y21: Běžná | AG21: POL12_0
A22: 13 | B22: 731810332 | C22: Nucený odtah spalin soustředným potrubím pro kondenzační kotel svislý 80/125 mm přes šikmou střechu | D22: soubor | E22: 1 | F22: 0 | G22: =ROUND(E22*F22,2) -> 0 | H22: 0 | I22: =ROUND(E22*H22,2) -> 0 | J22: 4950 | K22: =ROUND(E22*J22,2) -> 4950 | L22: 21 | M22: =G22*(1+L22/100) -> 0 | N22: 0.00152 | O22: =ROUND(E22*N22,2) -> 0 | P22: 0 | Q22: =ROUND(E22*P22,2) -> 0 | S22: Vlastní | T22: Indiv | U22: 0 | V22: =ROUND(E22*U22,2) -> 0 | X22: Práce | Y22: Běžná | AG22: POL1_7
A23: 14 | B23: 731810342 | C23: Prodloužení soustředného potrubí pro kondenzační kotel průměru 80/125 mm | D23: m | E23: 3 | F23: 0 | G23: =ROUND(E23*F23,2) -> 0 | H23: 0 | I23: =ROUND(E23*H23,2) -> 0 | J23: 1260 | K23: =ROUND(E23*J23,2) -> 3780 | L23: 21 | M23: =G23*(1+L23/100) -> 0 | N23: 0.00132 | O23: =ROUND(E23*N23,2) -> 0 | P23: 0 | Q23: =ROUND(E23*P23,2) -> 0 | S23: Vlastní | T23: Indiv | U23: 0 | V23: =ROUND(E23*U23,2) -> 0 | X23: Práce | Y23: Běžná | AG23: POL1_7
A24: 15 | B24: Plánovaná cena | C24: Uvedení kotle do provozu | D24: hod | E24: 3 | F24: 0 | G24: =ROUND(E24*F24,2) -> 0 | H24: 0 | I24: =ROUND(E24*H24,2) -> 0 | J24: 550 | K24: =ROUND(E24*J24,2) -> 1650 | L24: 21 | M24: =G24*(1+L24/100) -> 0 | N24: 0 | O24: =ROUND(E24*N24,2) -> 0 | P24: 0 | Q24: =ROUND(E24*P24,2) -> 0 | S24: Vlastní | T24: Indiv | U24: 0 | V24: =ROUND(E24*U24,2) -> 0 | X24: Práce | Y24: Běžná | AG24: POL1_7
A25: 16 | B25: 998731101 | C25: Přesun hmot tonážní pro kotelny v objektech v do 6 m | D25: t | E25: 0.06 | F25: 0 | G25: =ROUND(E25*F25,2) -> 0 | H25: 0 | I25: =ROUND(E25*H25,2) -> 0 | J25: 2930 | K25: =ROUND(E25*J25,2) -> 175.8 | L25: 21 | M25: =G25*(1+L25/100) -> 0 | N25: 0 | O25: =ROUND(E25*N25,2) -> 0 | P25: 0 | Q25: =ROUND(E25*P25,2) -> 0 | S25: Vlastní | T25: Indiv | U25: 0 | V25: =ROUND(E25*U25,2) -> 0 | X25: Práce | Y25: Běžná | AG25: POL1_7
A26: 17 | B26: 998731193 | C26: Příplatek k přesunu hmot tonážní 731 za zvětšený přesun do 500 m | D26: t | E26: 0.06 | F26: 0 | G26: =ROUND(E26*F26,2) -> 0 | H26: 0 | I26: =ROUND(E26*H26,2) -> 0 | J26: 1750 | K26: =ROUND(E26*J26,2) -> 105 | L26: 21 | M26: =G26*(1+L26/100) -> 0 | N26: 0 | O26: =ROUND(E26*N26,2) -> 0 | P26: 0 | Q26: =ROUND(E26*P26,2) -> 0 | S26: Vlastní | T26: Indiv | U26: 0 | V26: =ROUND(E26*U26,2) -> 0 | X26: Práce | Y26: Běžná | AG26: POL1_7
A27: Díl: | B27: 732 | C27: Ústřední vytápění - strojovny | G27: =SUMIF(AG28:AG32,"<>NOR",G28:G32) -> 0 | I27: =SUM(I28:I32) -> 26400 | K27: =SUM(K28:K32) -> 5837.76 | M27: =SUM(M28:M32) -> 0 | O27: =SUM(O28:O32) -> 0.09 | Q27: =SUM(Q28:Q32) -> 0 | V27: =SUM(V28:V32) -> 0 | AG27: DIL
A28: 18 | B28: 732219301 | C28: Montáž ohříváku vody stojatého kombinovaného do 200 litrů | D28: soubor | E28: 1 | F28: 0 | G28: =ROUND(E28*F28,2) -> 0 | H28: 0 | I28: =ROUND(E28*H28,2) -> 0 | J28: 2010 | K28: =ROUND(E28*J28,2) -> 2010 | L28: 21 | M28: =G28*(1+L28/100) -> 0 | N28: 0.00124 | O28: =ROUND(E28*N28,2) -> 0 | P28: 0 | Q28: =ROUND(E28*P28,2) -> 0 | S28: Vlastní | T28: Indiv | U28: 0 | V28: =ROUND(E28*U28,2) -> 0 | X28: Práce | Y28: Běžná | AG28: POL1_7
A29: 19 | B29: Plánovaná cena | C29: Zásobníkový ohřívač stacionární svislý, smalt 1 výměník, objem 200 l | D29: ks | E29: 1 | F29: 0 | G29: =ROUND(E29*F29,2) -> 0 | H29: 26400 | I29: =ROUND(E29*H29,2) -> 26400 | J29: 0 | K29: =ROUND(E29*J29,2) -> 0 | L29: 21 | M29: =G29*(1+L29/100) -> 0 | N29: 0.09 | O29: =ROUND(E29*N29,2) -> 0.09 | P29: 0 | Q29: =ROUND(E29*P29,2) -> 0 | S29: Vlastní | T29: Indiv | U29: 0 | V29: =ROUND(E29*U29,2) -> 0 | X29: R-položka | Y29: Běžná | AG29: POL12_0
A30: 20 | B30: 732331613 | C30: Nádoba tlaková expanzní pro topnou a chladicí soustavu s membránou závitové připojení PN 0,4 o, objemu 18 l | D30: soubor | E30: 1 | F30: 0 | G30: =ROUND(E30*F30,2) -> 0 | H30: 0 | I30: =ROUND(E30*H30,2) -> 0 | J30: 3510 | K30: =ROUND(E30*J30,2) -> 3510 | L30: 21 | M30: =G30*(1+L30/100) -> 0 | N30: 0.00499 | O30: =ROUND(E30*N30,2) -> 0 | P30: 0 | Q30: =ROUND(E30*P30,2) -> 0 | S30: Vlastní | T30: Indiv | U30: 0 | V30: =ROUND(E30*U30,2) -> 0 | X30: Práce | Y30: Běžná | AG30: POL1_7
A31: 21 | B31: 998732101 | C31: Přesun hmot tonážní pro strojovny v objektech v do 6 m | D31: t | E31: 0.096 | F31: 0 | G31: =ROUND(E31*F31,2) -> 0 | H31: 0 | I31: =ROUND(E31*H31,2) -> 0 | J31: 2290 | K31: =ROUND(E31*J31,2) -> 219.84 | L31: 21 | M31: =G31*(1+L31/100) -> 0 | N31: 0 | O31: =ROUND(E31*N31,2) -> 0 | P31: 0 | Q31: =ROUND(E31*P31,2) -> 0 | S31: Vlastní | T31: Indiv | U31: 0 | V31: =ROUND(E31*U31,2) -> 0 | X31: Práce | Y31: Běžná | AG31: POL1_7
A32: 22 | B32: 998732193 | C32: Příplatek k přesunu hmot tonážní 732 za zvětšený přesun do 500 m | D32: t | E32: 0.096 | F32: 0 | G32: =ROUND(E32*F32,2) -> 0 | H32: 0 | I32: =ROUND(E32*H32,2) -> 0 | J32: 1020 | K32: =ROUND(E32*J32,2) -> 97.92 | L32: 21 | M32: =G32*(1+L32/100) -> 0 | N32: 0 | O32: =ROUND(E32*N32,2) -> 0 | P32: 0 | Q32: =ROUND(E32*P32,2) -> 0 | S32: Vlastní | T32: Indiv | U32: 0 | V32: =ROUND(E32*U32,2) -> 0 | X32: Práce | Y32: Běžná | AG32: POL1_7
A33: Díl: | B33: 733 | C33: Ústřední vytápění - rozvodné potrubí | G33: =SUMIF(AG34:AG46,"<>NOR",G34:G46) -> 0 | I33: =SUM(I34:I46) -> 0 | K33: =SUM(K34:K46) -> 128256.42 | M33: =SUM(M34:M46) -> 0 | O33: =SUM(O34:O46) -> 8.44 | Q33: =SUM(Q34:Q46) -> 0 | V33: =SUM(V34:V46) -> 0 | AG33: DIL
A34: 23 | B34: 722174002 | C34: Potrubí vodovodní plastové PPR svar polyfuze PN 16 D 20 x 2,8 mm | D34: m | E34: 1 | F34: 0 | G34: =ROUND(E34*F34,2) -> 0 | H34: 0 | I34: =ROUND(E34*H34,2) -> 0 | J34: 379 | K34: =ROUND(E34*J34,2) -> 379 | L34: 21 | M34: =G34*(1+L34/100) -> 0 | N34: 0.00075 | O34: =ROUND(E34*N34,2) -> 0 | P34: 0 | Q34: =ROUND(E34*P34,2) -> 0 | S34: Vlastní | T34: Indiv | U34: 0 | V34: =ROUND(E34*U34,2) -> 0 | X34: Práce | Y34: Běžná | AG34: POL1_7
A35: 24 | B35: 733222302. | C35: Potrubí měděné polotvrdé spojované lisováním D 15x1 mm | D35: m | E35: 120 | F35: 0 | G35: =ROUND(E35*F35,2) -> 0 | H35: 0 | I35: =ROUND(E35*H35,2) -> 0 | J35: 449 | K35: =ROUND(E35*J35,2) -> 53880 | L35: 21 | M35: =G35*(1+L35/100) -> 0 | N35: 0.0552 | O35: =ROUND(E35*N35,2) -> 6.62 | P35: 0 | Q35: =ROUND(E35*P35,2) -> 0 | S35: Vlastní | T35: Indiv | U35: 0 | V35: =ROUND(E35*U35,2) -> 0 | X35: Práce | Y35: Běžná | AG35: POL1_7
A36: 25 | B36: 733222303. | C36: Potrubí měděné polotvrdé spojované lisováním D 18x1 mm | D36: m | E36: 13 | F36: 0 | G36: =ROUND(E36*F36,2) -> 0 | H36: 0 | I36: =ROUND(E36*H36,2) -> 0 | J36: 525 | K36: =ROUND(E36*J36,2) -> 6825 | L36: 21 | M36: =G36*(1+L36/100) -> 0 | N36: 0.00715 | O36: =ROUND(E36*N36,2) -> 0.09 | P36: 0 | Q36: =ROUND(E36*P36,2) -> 0 | S36: Vlastní | T36: Indiv | U36: 0 | V36: =ROUND(E36*U36,2) -> 0 | X36: Práce | Y36: Běžná | AG36: POL1_7
A37: 26 | B37: 733222304. | C37: Potrubí měděné polotvrdé spojované lisováním D 22x1 mm | D37: m | E37: 40 | F37: 0 | G37: =ROUND(E37*F37,2) -> 0 | H37: 0 | I37: =ROUND(E37*H37,2) -> 0 | J37: 630 | K37: =ROUND(E37*J37,2) -> 25200 | L37: 21 | M37: =G37*(1+L37/100) -> 0 | N37: 0.028 | O37: =ROUND(E37*N37,2) -> 1.12 | P37: 0 | Q37: =ROUND(E37*P37,2) -> 0 | S37: Vlastní | T37: Indiv | U37: 0 | V37: =ROUND(E37*U37,2) -> 0 | X37: Práce | Y37: Běžná | AG37: POL1_7
A38: 27 | B38: 733223304. | C38: Potrubí měděné tvrdé spojované lisováním D 28x1,5 mm | D38: m | E38: 22 | F38: 0 | G38: =ROUND(E38*F38,2) -> 0 | H38: 0 | I38: =ROUND(E38*H38,2) -> 0 | J38: 1030 | K38: =ROUND(E38*J38,2) -> 22660 | L38: 21 | M38: =G38*(1+L38/100) -> 0 | N38: 0.02728 | O38: =ROUND(E38*N38,2) -> 0.6 | P38: 0 | Q38: =ROUND(E38*P38,2) -> 0 | S38: Vlastní | T38: Indiv | U38: 0 | V38: =ROUND(E38*U38,2) -> 0 | X38: Práce | Y38: Běžná | AG38: POL1_7
A39: 28 | B39: 733224204 | C39: Příplatek k potrubí měděnému za potrubí vedené v kotelnách nebo strojovnách D 22x1 | D39: m | E39: 1 | F39: 0 | G39: =ROUND(E39*F39,2) -> 0 | H39: 0 | I39: =ROUND(E39*H39,2) -> 0 | J39: 105 | K39: =ROUND(E39*J39,2) -> 105 | L39: 21 | M39: =G39*(1+L39/100) -> 0 | N39: 3e-05 | O39: =ROUND(E39*N39,2) -> 0 | P39: 0 | Q39: =ROUND(E39*P39,2) -> 0 | S39: Vlastní | T39: Indiv | U39: 0 | V39: =ROUND(E39*U39,2) -> 0 | X39: Práce | Y39: Běžná | AG39: POL1_7
A40: 29 | B40: 733224205 | C40: Příplatek k potrubí měděnému za potrubí vedené v kotelnách nebo strojovnách D 28x1,5 | D40: m | E40: 4 | F40: 0 | G40: =ROUND(E40*F40,2) -> 0 | H40: 0 | I40: =ROUND(E40*H40,2) -> 0 | J40: 210 | K40: =ROUND(E40*J40,2) -> 840 | L40: 21 | M40: =G40*(1+L40/100) -> 0 | N40: 0.0002 | O40: =ROUND(E40*N40,2) -> 0 | P40: 0 | Q40: =ROUND(E40*P40,2) -> 0 | S40: Vlastní | T40: Indiv | U40: 0 | V40: =ROUND(E40*U40,2) -> 0 | X40: Práce | Y40: Běžná | AG40: POL1_7
A41: 30 | B41: 733224222 | C41: Příplatek k potrubí měděnému za zhotovení přípojky z trubek měděných D 15x1 mm | D41: kus | E41: 38 | F41: 0 | G41: =ROUND(E41*F41,2) -> 0 | H41: 0 | I41: =ROUND(E41*H41,2) -> 0 | J41: 209 | K41: =ROUND(E41*J41,2) -> 7942 | L41: 21 | M41: =G41*(1+L41/100) -> 0 | N41: 0.00038 | O41: =ROUND(E41*N41,2) -> 0.01 | P41: 0 | Q41: =ROUND(E41*P41,2) -> 0 | S41: Vlastní | T41: Indiv | U41: 0 | V41: =ROUND(E41*U41,2) -> 0 | X41: Práce | Y41: Běžná | AG41: POL1_7
A42: 31 | B42: 733224224 | C42: Příplatek k potrubí měděnému za zhotovení přípojky z trubek měděných D 22x1 | D42: kus | E42: 1 | F42: 0 | G42: =ROUND(E42*F42,2) -> 0 | H42: 0 | I42: =ROUND(E42*H42,2) -> 0 | J42: 149 | K42: =ROUND(E42*J42,2) -> 149 | L42: 21 | M42: =G42*(1+L42/100) -> 0 | N42: 3e-05 | O42: =ROUND(E42*N42,2) -> 0 | P42: 0 | Q42: =ROUND(E42*P42,2) -> 0 | S42: Vlastní | T42: Indiv | U42: 0 | V42: =ROUND(E42*U42,2) -> 0 | X42: Práce | Y42: Běžná | AG42: POL1_7
...

Sheet S01 5) ELEKTRO Pol
A1: Položkový soupis prací a dodávek | AF1: #TypZaznamu#
A2: S: | B2: 01 | C2: REKONSTRUKCE VOLNOČASOVÉHO CENTRA V UNÍNĚ - 2.etapa | AF2: STA
A3: O: | B3: S01 | C3: VOLNOČASOVÉ CENTRUM | AB3: STA | AF3: OBJ
A4: R: | B4: 5) ELEKTRO | C4: Silnoproud a slaboproud včetně bleskosvodu | AF4: ROZ
A6: P.č. | B6: Číslo položky | C6: Název položky | D6: MJ | E6: Množství | F6: Cena / MJ | G6: Celkem | H6: Dodávka | I6: Dodávka celk. | J6: Montáž | K6: Montáž celk. | L6: DPH | M6: Cena s DPH | N6: Hmotnost / MJ | O6: Hmotnost celk.(t) | P6: Dem. hmotnost / MJ | Q6: Dem. hmotnost celk.(t) | R6: Ceník | S6: Cen. soustava / platnost | T6: Cenová úroveň | U6: Nhod / MJ | V6: Nhod celk. | W6: Dodavatel | X6: Typ položky | Y6: Stav položky
A8: Díl: | B8: _1 | C8: ELEKTROMONTÁŽE SI + trubkování SLP - MATERIÁL NOSNÝ | G8: =SUMIF(AF9:AF49,"<>NOR",G9:G49) -> 118625.4 | I8: =SUM(I9:I49) -> 0 | K8: =SUM(K9:K49) -> 64684.48 | M8: =SUM(M9:M49) -> 143536.73 | O8: =SUM(O9:O49) -> 0 | Q8: =SUM(Q9:Q49) -> 0 | V8: =SUM(V9:V49) -> 0 | AF8: DIL
A9: 1 | B9: Pol__0001 | C9: TRUBKA SMNF 16 OHEBNÁ | D9: M | E9: 220 | F9: 15.34 | G9: =ROUND(E9*F9,2) -> 3374.8 | H9: 0 | I9: =ROUND(E9*H9,2) -> 0 | J9: 7.2 | K9: =ROUND(E9*J9,2) -> 1584 | L9: 21 | M9: =G9*(1+L9/100) -> 4083.508 | N9: 0 | O9: =ROUND(E9*N9,2) -> 0 | P9: 0 | Q9: =ROUND(E9*P9,2) -> 0 | S9: Vlastní | T9: Indiv | U9: 0 | V9: =ROUND(E9*U9,2) -> 0 | X9: Práce | Y9: Běžná | AF9: POL1_1
