Workbook
Name vorn_sum: VORN!$I$45

Sheet Rozpočet - rekapitulace
A1: Slepý stavební rozpočet - rekapitulace
A2: Název stavby: | D2: ='Stavební rozpočet'!C2 -> Výměna podlahy tělocvična ZŠ Hanušovice | G2: Doba výstavby: | H2: ='Stavební rozpočet'!G2 | I2: Objednatel: | J2: ='Stavební rozpočet'!I2 -> Město Hanušovice
A4: Druh stavby: | D4: ='Stavební rozpočet'!C4 -> Oprava a udržovací práce | G4: Začátek výstavby: | H4: ='Stavební rozpočet'!G4 | I4: Projektant: | J4: ='Stavební rozpočet'!I4 -> Ing.Ladislav Trčka - PROINK
A6: Lokalita: | D6: ='Stavební rozpočet'!C6 -> Hanušovice | G6: Konec výstavby: | H6: ='Stavební rozpočet'!G6 | I6: Zhotovitel: | J6: ='Stavební rozpočet'!I6 -> 0
A8: JKSO: | D8: ='Stavební rozpočet'!C8 | G8: Zpracováno dne: | H8: ='Stavební rozpočet'!G8 -> 0 | I8: Zpracoval: | J8: ='Stavební rozpočet'!I8 -> 0
K10: Náklady (Kč) | L10: Hmotnost (t)
A11: Kód | B11: Zkrácený popis | K11: Celkem | L11: Celkem
A12: 61 | B12: Úprava povrchů vnitřní | K12: =ROUND('Stavební rozpočet'!H12,2) -> 0 | L12: ='Stavební rozpočet'!J12 -> 0.8027382 | M12: T | N12: =IF(M12="F",0,K12) -> 0 | P12: =IF(M12="T",0,K12) -> 0
A13: 63 | B13: Podlahy a podlahové konstrukce | K13: =ROUND('Stavební rozpočet'!H22,2) -> 0 | L13: ='Stavební rozpočet'!J22 -> 22.144984 | M13: T | N13: =IF(M13="F",0,K13) -> 0 | P13: =IF(M13="T",0,K13) -> 0
A14: 762 | B14: Konstrukce tesařské | K14: =ROUND('Stavební rozpočet'!H33,2) -> 0 | L14: ='Stavební rozpočet'!J33 -> 19.546526 | M14: T | N14: =IF(M14="F",0,K14) -> 0 | P14: =IF(M14="T",0,K14) -> 0
A15: 763 | B15: Dřevostavby | K15: =ROUND('Stavební rozpočet'!H59,2) -> 0 | L15: ='Stavební rozpočet'!J59 -> 0.8351838 | M15: T | N15: =IF(M15="F",0,K15) -> 0 | P15: =IF(M15="T",0,K15) -> 0
A16: 766 | B16: Konstrukce truhlářské | K16: =ROUND('Stavební rozpočet'!H69,2) -> 0 | L16: ='Stavební rozpočet'!J69 -> 2.6873865 | M16: T | N16: =IF(M16="F",0,K16) -> 0 | P16: =IF(M16="T",0,K16) -> 0
A17: 767 | B17: Konstrukce doplňkové stavební (zámečnické) | K17: =ROUND('Stavební rozpočet'!H78,2) -> 0 | L17: ='Stavební rozpočet'!J78 -> 0.00256 | M17: T | N17: =IF(M17="F",0,K17) -> 0 | P17: =IF(M17="T",0,K17) -> 0
A18: 775 | B18: Podlahy vlysové a parketové | K18: =ROUND('Stavební rozpočet'!H85,2) -> 0 | L18: ='Stavební rozpočet'!J85 -> 9.513 | M18: T | N18: =IF(M18="F",0,K18) -> 0 | P18: =IF(M18="T",0,K18) -> 0
A19: 776 | B19: Podlahy povlakové | K19: =ROUND('Stavební rozpočet'!H89,2) -> 0 | L19: ='Stavební rozpočet'!J89 -> 9.0074693 | M19: T | N19: =IF(M19="F",0,K19) -> 0 | P19: =IF(M19="T",0,K19) -> 0
A20: 777 | B20: Podlahy ze syntetických hmot | K20: =ROUND('Stavební rozpočet'!H133,2) -> 0 | L20: ='Stavební rozpočet'!J133 -> 0.044841 | M20: T | N20: =IF(M20="F",0,K20) -> 0 | P20: =IF(M20="T",0,K20) -> 0
A21: 783 | B21: Nátěry | K21: =ROUND('Stavební rozpočet'!H141,2) -> 0 | L21: ='Stavební rozpočet'!J141 -> 0.4425 | M21: T | N21: =IF(M21="F",0,K21) -> 0 | P21: =IF(M21="T",0,K21) -> 0
A22: 90 | B22: Hodinové zúčtovací sazby (HZS) | K22: =ROUND('Stavební rozpočet'!H149,2) -> 0 | L22: ='Stavební rozpočet'!J149 -> 0 | M22: T | N22: =IF(M22="F",0,K22) -> 0 | P22: =IF(M22="T",0,K22) -> 0
A23: 94 | B23: Lešení a stavební výtahy | K23: =ROUND('Stavební rozpočet'!H153,2) -> 0 | L23: ='Stavební rozpočet'!J153 -> 0.026136 | M23: T | N23: =IF(M23="F",0,K23) -> 0 | P23: =IF(M23="T",0,K23) -> 0
A24: 97 | B24: Prorážení otvorů a ostatní bourací práce | K24: =ROUND('Stavební rozpočet'!H156,2) -> 0 | L24: ='Stavební rozpočet'!J156 -> 0 | M24: T | N24: =IF(M24="F",0,K24) -> 0 | P24: =IF(M24="T",0,K24) -> 0
A25: H99 | B25: Ostatní přesuny hmot | K25: =ROUND('Stavební rozpočet'!H167,2) -> 0 | L25: ='Stavební rozpočet'!J167 -> 0 | M25: T | N25: =IF(M25="F",0,K25) -> 0 | P25: =IF(M25="T",0,K25) -> 0
A26: S | B26: Přesuny sutí | K26: =ROUND('Stavební rozpočet'!H170,2) -> 0 | L26: ='Stavební rozpočet'!J170 -> 0 | M26: T | N26: =IF(M26="F",0,K26) -> 0 | P26: =IF(M26="T",0,K26) -> 0
A27: 03VRN | B27: Zařízení staveniště | K27: =ROUND('Stavební rozpočet'!H186,2) -> 0 | L27: ='Stavební rozpočet'!J186 -> 0 | M27: T | N27: =IF(M27="F",0,K27) -> 0 | P27: =IF(M27="T",0,K27) -> 0
A28: 09VRN | B28: Ostatní náklady | K28: =ROUND('Stavební rozpočet'!H190,2) -> 0 | L28: ='Stavební rozpočet'!J190 -> 0 | M28: T | N28: =IF(M28="F",0,K28) -> 0 | P28: =IF(M28="T",0,K28) -> 0
I29: Celkem: | K29: =ROUND(SUM(N12:N28),0) -> 0 | L29: =SUM(L12:L28) -> 65.053325
A30: Poznámka:

Sheet Krycí list rozpočtu
A1: Krycí list slepého rozpočtu
A2: Název stavby: | C2: ='Stavební rozpočet'!C2 -> Výměna podlahy tělocvična ZŠ Hanušovice | E2: Objednatel: | F2: ='Stavební rozpočet'!I2 -> Město Hanušovice | H2: IČO/DIČ:
A4: Druh stavby: | C4: ='Stavební rozpočet'!C4 -> Oprava a udržovací práce | E4: Projektant: | F4: ='Stavební rozpočet'!I4 -> Ing.Ladislav Trčka - PROINK | H4: IČO/DIČ:
A6: Lokalita: | C6: ='Stavební rozpočet'!C6 -> Hanušovice | E6: Zhotovitel: | F6: ='Stavební rozpočet'!I6 -> 0 | H6: IČO/DIČ:
A8: Začátek výstavby: | C8: ='Stavební rozpočet'!G4 | E8: Konec výstavby: | F8: ='Stavební rozpočet'!G6 | H8: Položek: | I8: 50
A10: JKSO: | C10: ='Stavební rozpočet'!C8 | E10: Zpracoval: | F10: ='Stavební rozpočet'!I8 -> 0 | H10: Datum: | I10: ='Stavební rozpočet'!G8 -> 0
A12: Rozpočtové náklady v Kč
A13: A | B13: Základní rozpočtové náklady | D13: B | E13: Doplňkové náklady | G13: C | H13: Náklady na umístění stavby (NUS)
A14: HSV | B14: Dodávky | C14: =SUM('Stavební rozpočet'!AB12:AB386) -> 0 | D14: Práce přesčas | F14: =VORN!I15 -> 0 | G14: Zařízení staveniště | I14: =VORN!I21 -> 0
B15: Montáž | C15: =SUM('Stavební rozpočet'!AC12:AC386) -> 0 | D15: Bez pevné podl. | F15: =VORN!I16 -> 0 | G15: Mimostav. doprava | I15: =VORN!I22 -> 0
A16: PSV | B16: Dodávky | C16: =SUM('Stavební rozpočet'!AD12:AD386) -> 0 | D16: Kulturní památka | F16: =VORN!I17 -> 0 | G16: Územní vlivy | I16: =VORN!I23 -> 0
B17: Montáž | C17: =SUM('Stavební rozpočet'!AE12:AE386) -> 0 | G17: Provozní vlivy | I17: =VORN!I24 -> 0
A18: "M" | B18: Dodávky | C18: =SUM('Stavební rozpočet'!AF12:AF386) -> 0 | G18: Ostatní | I18: =VORN!I25 -> 0
B19: Montáž | C19: =SUM('Stavební rozpočet'!AG12:AG386) -> 0 | G19: NUS z rozpočtu | I19: =VORN!I26 -> 0
A20: Ostatní materiál | C20: =SUM('Stavební rozpočet'!AH12:AH386) -> 0
A21: Přesun hmot a sutí | C21: =SUM('Stavební rozpočet'!Z12:Z386) -> 0
A22: ZRN celkem | C22: =ROUND(SUM(C14:C21),0) -> 0 | D22: DN celkem | F22: =SUM(F14:F21) -> 0 | G22: NUS celkem | I22: =SUM(I14:I21) -> 0
D23: DN celkem z obj. | F23: 0 | G23: NUS celkem z obj. | I23: 0
G24: VORN celkem | I24: =vorn_sum -> 0
G25: VORN celkem z obj. | I25: 0
A27: Základ 0% | C27: =ROUND(SUM('Stavební rozpočet'!AJ12:AJ386),0) -> 0
A28: Základ 12% | C28: =ROUND(SUM('Stavební rozpočet'!AK12:AK386),0) -> 0 | D28: DPH 12% | F28: =ROUND(C28*(12/100),2) -> 0 | G28: Celkem bez DPH | I28: =ROUND(SUM(C27:C29),0) -> 0
A29: Základ 21% | C29: =ROUND(SUM('Stavební rozpočet'!AL12:AL386),0) -> 0 | D29: DPH 21% | F29: =ROUND(C29*(21/100),2) -> 0 | G29: Celkem včetně DPH | I29: =ROUND(SUM(F28:F29)+I28,0) -> 0
A31: Projektant | D31: Objednatel | G31: Zhotovitel
A35: Datum, razítko a podpis | D35: Datum, razítko a podpis | G35: Datum, razítko a podpis
A36: Poznámka:

Sheet VORN
A1: Vedlejší a ostatní rozpočtové náklady
A2: Název stavby: | C2: ='Stavební rozpočet'!C2 -> Výměna podlahy tělocvična ZŠ Hanušovice | E2: Objednatel: | F2: ='Stavební rozpočet'!I2 -> Město Hanušovice | H2: IČO/DIČ:
A4: Druh stavby: | C4: ='Stavební rozpočet'!C4 -> Oprava a udržovací práce | E4: Projektant: | F4: ='Stavební rozpočet'!I4 -> Ing.Ladislav Trčka - PROINK | H4: IČO/DIČ:
A6: Lokalita: | C6: ='Stavební rozpočet'!C6 -> Hanušovice | E6: Zhotovitel: | F6: ='Stavební rozpočet'!I6 -> 0 | H6: IČO/DIČ:
A8: Začátek výstavby: | C8: ='Stavební rozpočet'!G4 | E8: Konec výstavby: | F8: ='Stavební rozpočet'!G6 | H8: Položek: | I8: 50
A10: JKSO: | C10: ='Stavební rozpočet'!C8 | E10: Zpracoval: | F10: ='Stavební rozpočet'!I8 -> 0 | H10: Datum: | I10: ='Stavební rozpočet'!G8 -> 0
A13: Vedlejší rozpočtové náklady VRN
A14: Doplňkové náklady DN | F14: Kč | G14: % | H14: Základna | I14: Kč
A15: Práce přesčas | F15: 0 | I15: =F15 -> 0
A16: Bez pevné podl. | F16: 0 | I16: =F16 -> 0
A17: Kulturní památka | F17: 0 | I17: =F17 -> 0
A18: Celkem DN | I18: =SUM(I15:I17) -> 0
A20: Náklady na umístění stavby (NUS) | F20: Kč | G20: % | H20: Základna | I20: Kč
A21: Zařízení staveniště | F21: 0 | I21: =F21 -> 0
A22: Mimostav. doprava | F22: 0 | I22: =F22 -> 0
A23: Územní vlivy | F23: 0 | I23: =F23 -> 0
A24: Provozní vlivy | F24: 0 | I24: =F24 -> 0
A25: Ostatní | F25: 0 | I25: =F25 -> 0
A26: NUS z rozpočtu | F26: 0 | I26: =F26 -> 0
A27: Celkem NUS | I27: =SUM(I21:I26) -> 0
A29: Celkem VRN | F29: =I18+I27 -> 0
A33: Vedlejší a ostatní rozpočtové náklady VORN
A34: Ostatní rozpočtové náklady (VORN) | F34: Kč | G34: % | H34: Základna | I34: Kč
A35: Průzkumy, geodetické a projektové práce | F35: =SUM('Stavební rozpočet'!BM12:BM386) -> 0 | I35: =F35 -> 0
A36: Příprava staveniště | F36: =SUM('Stavební rozpočet'!BN12:BN386) -> 0 | I36: =F36 -> 0
A37: Zařízení staveniště | F37: =SUM('Stavební rozpočet'!BO12:BO386) -> 0 | I37: =F37 -> 0
A38: Inženýrské činnosti | F38: =SUM('Stavební rozpočet'!BP12:BP386) -> 0 | I38: =F38 -> 0
A39: Finanční náklady | F39: =SUM('Stavební rozpočet'!BQ12:BQ386) -> 0 | I39: =F39 -> 0
A40: Územní vlivy | F40: =SUM('Stavební rozpočet'!BR12:BR386) -> 0 | I40: =F40 -> 0
A41: Provozní vlivy | F41: =SUM('Stavební rozpočet'!BS12:BS386) -> 0 | I41: =F41 -> 0
A42: Náklady na pracovníky | F42: =SUM('Stavební rozpočet'!BT12:BT386) -> 0 | I42: =F42 -> 0
A43: Ostatní náklady | F43: =SUM('Stavební rozpočet'!BU12:BU386) -> 0 | I43: =F43 -> 0
A44: Vlastní VORN | F44: =SUM('Stavební rozpočet'!BV12:BV386) -> 0 | I44: =F44 -> 0
A45: Celkem VORN | I45: =SUM(I35:I44) -> 0

Sheet Stavební rozpočet
A1: Slepý stavební rozpočet | AS1: =SUM(AJ1:AJ2) -> 0 | AT1: =SUM(AK1:AK2) -> 0 | AU1: =SUM(AL1:AL2) -> 0
A2: Název stavby: | C2: Výměna podlahy tělocvična ZŠ Hanušovice | E2: Doba výstavby: | H2: Objednatel: | I2: Město Hanušovice
A4: Druh stavby: | C4: Oprava a udržovací práce | E4: Začátek výstavby: | H4: Projektant: | I4: Ing.Ladislav Trčka - PROINK
A6: Lokalita: | C6: Hanušovice | E6: Konec výstavby: | H6: Zhotovitel:
A8: JKSO: | E8: Zpracováno dne: | H8: Zpracoval:
A10: Č | B10: Kód | C10: Zkrácený popis | E10: MJ | F10: Množství | G10: Cena/MJ | H10: Náklady (Kč) | I10: Hmotnost (t) | BK10: ISWORK | BL10: GROUPCODE | BW10: VATTAX
C11: Rozměry | G11: (Kč) | H11: Celkem | I11: Jednot. | J11: Celkem | Z11: Přesuny | AA11: Typ skupiny | AB11: HSV mat | AC11: HSV prac | AD11: PSV mat | AE11: PSV prac | AF11: Mont mat | AG11: Mont prac | AH11: Ostatní mat. | BH11: MAT | BI11: WORK | BJ11: CELK
B12: 61 | C12: Úprava povrchů vnitřní | H12: =ROUND(SUM(H13:H13),0) -> 0 | J12: =SUM(J13:J13) -> 0.8027382 | AS12: =SUM(AJ13:AJ13) -> 0 | AT12: =SUM(AK13:AK13) -> 0 | AU12: =SUM(AL13:AL13) -> 0
A13: 1 | B13: 612421231RT2 | C13: Oprava vápen.omítek stěn do 10 % pl. - štukových (podklad lepených koberců) | E13: m2 | F13: 221.14 | G13: 0 | H13: =ROUND(F13*G13,0) -> 0 | I13: 0.00363 | J13: =F13*I13 -> 0.8027382 | Z13: =ROUND(IF(AQ13="5",BJ13,0),2) -> 0 | AB13: =ROUND(IF(AQ13="1",BH13,0),2) -> 0 | AC13: =ROUND(IF(AQ13="1",BI13,0),2) -> 0 | AD13: =ROUND(IF(AQ13="7",BH13,0),2) -> 0 | AE13: =ROUND(IF(AQ13="7",BI13,0),2) -> 0 | AF13: =ROUND(IF(AQ13="2",BH13,0),2) -> 0 | AG13: =ROUND(IF(AQ13="2",BI13,0),2) -> 0 | AH13: =ROUND(IF(AQ13="0",BJ13,0),2) -> 0 | AJ13: =IF(AN13=0,H13,0) -> 0 | AK13: =IF(AN13=12,H13,0) -> 0 | AL13: =IF(AN13=21,H13,0) -> 0 | AN13: 21 | AO13: =G13*0.194218346 -> 0 | AP13: =G13*(1-0.194218346) -> 0 | AQ13: 1 | AV13: =ROUND(AW13+AX13,2) -> 0 | AW13: =ROUND(F13*AO13,2) -> 0 | AX13: =ROUND(F13*AP13,2) -> 0 | AY13: 61_ | AZ13: 6_ | BA13: _ | BB13: 100013 | BC13: =AW13+AX13 -> 0 | BD13: =G13/(100-BE13)*100 -> 0 | BE13: 0 | BF13: =J13 -> 0.8027382 | BH13: =F13*AO13 -> 0 | BI13: =F13*AP13 -> 0 | BJ13: =F13*G13 -> 0 | BK13: P | BL13: 61 | BW13: 21 | BX13: Oprava vápen.omítek stěn do 10 % pl. - štukových (podklad lepených koberců)
C14: s použitím suché maltové směsi
C15: 43,5 | D15: štítová stěna se vstupy | F15: 43.5
C16: 2*5,8*0,2 | D16: ostění a nadpraží dveří | F16: 2.32
C17: 50,10 | D17: štítová stěna bez vstupů | F17: 50.1
C18: 67,0 | D18: stěna pod galerií | F18: 67
C19: 6*4,9*0,05+7,9*0,05 | D19: ostění a nadpraží dveří | F19: 1.86
C20: 40,2 | D20: stěna s okny | F20: 40.2
C21: 35,9*0,45 | D21: parapet předstěny pod okny | F21: 16.16
B22: 63 | C22: Podlahy a podlahové konstrukce | H22: =ROUND(SUM(H23:H30),0) -> 0 | J22: =SUM(J23:J30) -> 22.144984 | AS22: =SUM(AJ23:AJ30) -> 0 | AT22: =SUM(AK23:AK30) -> 0 | AU22: =SUM(AL23:AL30) -> 0
A23: 2 | B23: 635213232.001 | C23: Pokládka podlahových desek ve dvou vrstvách 2x OSB 3 4PDB tl. 12 mm, na roštu | E23: m2 | F23: 679.5 | G23: 0 | H23: =ROUND(F23*G23,0) -> 0 | I23: 0.016 | J23: =F23*I23 -> 10.872 | Z23: =ROUND(IF(AQ23="5",BJ23,0),2) -> 0 | AB23: =ROUND(IF(AQ23="1",BH23,0),2) -> 0 | AC23: =ROUND(IF(AQ23="1",BI23,0),2) -> 0 | AD23: =ROUND(IF(AQ23="7",BH23,0),2) -> 0 | AE23: =ROUND(IF(AQ23="7",BI23,0),2) -> 0 | AF23: =ROUND(IF(AQ23="2",BH23,0),2) -> 0 | AG23: =ROUND(IF(AQ23="2",BI23,0),2) -> 0 | AH23: =ROUND(IF(AQ23="0",BJ23,0),2) -> 0 | AJ23: =IF(AN23=0,H23,0) -> 0 | AK23: =IF(AN23=12,H23,0) -> 0 | AL23: =IF(AN23=21,H23,0) -> 0 | AN23: 21 | AO23: =G23*0.19101092 -> 0 | AP23: =G23*(1-0.19101092) -> 0 | AQ23: 1 | AV23: =ROUND(AW23+AX23,2) -> 0 | AW23: =ROUND(F23*AO23,2) -> 0 | AX23: =ROUND(F23*AP23,2) -> 0 | AY23: 63_ | AZ23: 6_ | BA23: _ | BB23: 100009 | BC23: =AW23+AX23 -> 0 | BD23: =G23/(100-BE23)*100 -> 0 | BE23: 0 | BF23: =J23 -> 10.872 | BH23: =F23*AO23 -> 0 | BI23: =F23*AP23 -> 0 | BJ23: =F23*G23 -> 0 | BK23: P | BL23: 63 | BW23: 21 | BX23: Pokládka podlahových desek ve dvou vrstvách 2x OSB 3 4PDB tl. 12 mm, na roštu
C24: desky vzájemně celoplošně lepené a sešroubované, lepené spoje
C25: 632,5 | D25: tělocvična (generovaná výměry) | F25: 632.5
C26: 47,0 | D26: nářaďovna (generovaná výměra) | F26: 47
A27: 3 | B27: 60726010.A | C27: Deska dřevoštěpková OSB 3, 4PD tl. 12 mm, nebroušená | E27: m2 | F27: 713.48 | G27: 0 | H27: =ROUND(F27*G27,0) -> 0 | I27: 0.0079 | J27: =F27*I27 -> 5.636492 | Z27: =ROUND(IF(AQ27="5",BJ27,0),2) -> 0 | AB27: =ROUND(IF(AQ27="1",BH27,0),2) -> 0 | AC27: =ROUND(IF(AQ27="1",BI27,0),2) -> 0 | AD27: =ROUND(IF(AQ27="7",BH27,0),2) -> 0 | AE27: =ROUND(IF(AQ27="7",BI27,0),2) -> 0 | AF27: =ROUND(IF(AQ27="2",BH27,0),2) -> 0 | AG27: =ROUND(IF(AQ27="2",BI27,0),2) -> 0 | AH27: =ROUND(IF(AQ27="0",BJ27,0),2) -> 0 | AJ27: =IF(AN27=0,H27,0) -> 0 | AK27: =IF(AN27=12,H27,0) -> 0 | AL27: =IF(AN27=21,H27,0) -> 0 | AN27: 21 | AO27: =G27*1 -> 0 | AP27: =G27*(1-1) -> 0 | AQ27: 1 | AV27: =ROUND(AW27+AX27,2) -> 0 | AW27: =ROUND(F27*AO27,2) -> 0 | AX27: =ROUND(F27*AP27,2) -> 0 | AY27: 63_ | AZ27: 6_ | BA27: _ | BC27: =AW27+AX27 -> 0 | BD27: =G27/(100-BE27)*100 -> 0 | BE27: 0 | BF27: =J27 -> 5.636492 | BH27: =F27*AO27 -> 0 | BI27: =F27*AP27 -> 0 | BJ27: =F27*G27 -> 0 | BK27: M | BL27: 63 | BW27: 21 | BX27: Deska dřevoštěpková OSB 3, 4PD tl. 12 mm, nebroušená
C28: 679,5 | F28: 679.5
C29: ;ztratné 5%; 33,975 | F29: 33.98
A30: 4 | B30: 60726010.B | C30: Deska dřevoštěpková OSB 3, 4PD tl. 12 mm, broušená | E30: m2 | F30: 713.48 | G30: 0 | H30: =ROUND(F30*G30,0) -> 0 | I30: 0.0079 | J30: =F30*I30 -> 5.636492 | Z30: =ROUND(IF(AQ30="5",BJ30,0),2) -> 0 | AB30: =ROUND(IF(AQ30="1",BH30,0),2) -> 0 | AC30: =ROUND(IF(AQ30="1",BI30,0),2) -> 0 | AD30: =ROUND(IF(AQ30="7",BH30,0),2) -> 0 | AE30: =ROUND(IF(AQ30="7",BI30,0),2) -> 0 | AF30: =ROUND(IF(AQ30="2",BH30,0),2) -> 0 | AG30: =ROUND(IF(AQ30="2",BI30,0),2) -> 0 | AH30: =ROUND(IF(AQ30="0",BJ30,0),2) -> 0 | AJ30: =IF(AN30=0,H30,0) -> 0 | AK30: =IF(AN30=12,H30,0) -> 0 | AL30: =IF(AN30=21,H30,0) -> 0 | AN30: 21 | AO30: =G30*1 -> 0 | AP30: =G30*(1-1) -> 0 | AQ30: 1 | AV30: =ROUND(AW30+AX30,2) -> 0 | AW30: =ROUND(F30*AO30,2) -> 0 | AX30: =ROUND(F30*AP30,2) -> 0 | AY30: 63_ | AZ30: 6_ | BA30: _ | BC30: =AW30+AX30 -> 0 | BD30: =G30/(100-BE30)*100 -> 0 | BE30: 0 | BF30: =J30 -> 5.636492 | BH30: =F30*AO30 -> 0 | BI30: =F30*AP30 -> 0 | BJ30: =F30*G30 -> 0 | BK30: M | BL30: 63 | BW30: 21 | BX30: Deska dřevoštěpková OSB 3, 4PD tl. 12 mm, broušená
C31: 679,5 | F31: 679.5
C32: ;ztratné 5%; 33,975 | F32: 33.98
B33: 762 | C33: Konstrukce tesařské | H33: =ROUND(SUM(H34:H56),0) -> 0 | J33: =SUM(J34:J56) -> 19.546526 | AS33: =SUM(AJ34:AJ56) -> 0 | AT33: =SUM(AK34:AK56) -> 0 | AU33: =SUM(AL34:AL56) -> 0
A34: 5 | B34: 762526110.001 | C34: Položení polštářů pod podlahy rozteče 500 mm | E34: m2 | F34: 679.5 | G34: 0 | H34: =ROUND(F34*G34,0) -> 0 | I34: 0 | J34: =F34*I34 -> 0 | Z34: =ROUND(IF(AQ34="5",BJ34,0),2) -> 0 | AB34: =ROUND(IF(AQ34="1",BH34,0),2) -> 0 | AC34: =ROUND(IF(AQ34="1",BI34,0),2) -> 0 | AD34: =ROUND(IF(AQ34="7",BH34,0),2) -> 0 | AE34: =ROUND(IF(AQ34="7",BI34,0),2) -> 0 | AF34: =ROUND(IF(AQ34="2",BH34,0),2) -> 0 | AG34: =ROUND(IF(AQ34="2",BI34,0),2) -> 0 | AH34: =ROUND(IF(AQ34="0",BJ34,0),2) -> 0 | AJ34: =IF(AN34=0,H34,0) -> 0 | AK34: =IF(AN34=12,H34,0) -> 0 | AL34: =IF(AN34=21,H34,0) -> 0 | AN34: 21 | AO34: =G34*0 -> 0 | AP34: =G34*(1-0) -> 0 | AQ34: 7 | AV34: =ROUND(AW34+AX34,2) -> 0 | AW34: =ROUND(F34*AO34,2) -> 0 | AX34: =ROUND(F34*AP34,2) -> 0 | AY34: 762_ | AZ34: 76_ | BA34: _ | BB34: 100012 | BC34: =AW34+AX34 -> 0 | BD34: =G34/(100-BE34)*100 -> 0 | BE34: 0 | BF34: =J34 -> 0 | BH34: =F34*AO34 -> 0 | BI34: =F34*AP34 -> 0 | BJ34: =F34*G34 -> 0 | BK34: P | BL34: 762 | BW34: 21 | BX34: Položení polštářů pod podlahy rozteče 500 mm
C35: spodní desky křížového roštu
C36: 679,5 | F36: 679.5
A37: 6 | B37: 762526110.002 | C37: Položení polštářů pod podlahy rozteče 277,8 mm | E37: m2 | F37: 679.5 | G37: 0 | H37: =ROUND(F37*G37,0) -> 0 | I37: 0 | J37: =F37*I37 -> 0 | Z37: =ROUND(IF(AQ37="5",BJ37,0),2) -> 0 | AB37: =ROUND(IF(AQ37="1",BH37,0),2) -> 0 | AC37: =ROUND(IF(AQ37="1",BI37,0),2) -> 0 | AD37: =ROUND(IF(AQ37="7",BH37,0),2) -> 0 | AE37: =ROUND(IF(AQ37="7",BI37,0),2) -> 0 | AF37: =ROUND(IF(AQ37="2",BH37,0),2) -> 0 | AG37: =ROUND(IF(AQ37="2",BI37,0),2) -> 0 | AH37: =ROUND(IF(AQ37="0",BJ37,0),2) -> 0 | AJ37: =IF(AN37=0,H37,0) -> 0 | AK37: =IF(AN37=12,H37,0) -> 0 | AL37: =IF(AN37=21,H37,0) -> 0 | AN37: 21 | AO37: =G37*0 -> 0 | AP37: =G37*(1-0) -> 0 | AQ37: 7 | AV37: =ROUND(AW37+AX37,2) -> 0 | AW37: =ROUND(F37*AO37,2) -> 0 | AX37: =ROUND(F37*AP37,2) -> 0 | AY37: 762_ | AZ37: 76_ | BA37: _ | BB37: 100012 | BC37: =AW37+AX37 -> 0 | BD37: =G37/(100-BE37)*100 -> 0 | BE37: 0 | BF37: =J37 -> 0 | BH37: =F37*AO37 -> 0 | BI37: =F37*AP37 -> 0 | BJ37: =F37*G37 -> 0 | BK37: P | BL37: 762 | BW37: 21 | BX37: Položení polštářů pod podlahy rozteče 277,8 mm
C38: horní desky křížového roštu
C39: 679,5 | F39: 679.5
A40: 7 | B40: 60511081 | C40: Prkna sušená (vlhkost max.18%) SM/BO jakost II tl. 22 mm, š. 100 mm, 3 - 6 m | E40: m3 | F40: 8.13 | G40: 0 | H40: =ROUND(F40*G40,0) -> 0 | I40: 0.55 | J40: =F40*I40 -> 4.4715 | Z40: =ROUND(IF(AQ40="5",BJ40,0),2) -> 0 | AB40: =ROUND(IF(AQ40="1",BH40,0),2) -> 0 | AC40: =ROUND(IF(AQ40="1",BI40,0),2) -> 0 | AD40: =ROUND(IF(AQ40="7",BH40,0),2) -> 0 | AE40: =ROUND(IF(AQ40="7",BI40,0),2) -> 0 | AF40: =ROUND(IF(AQ40="2",BH40,0),2) -> 0 | AG40: =ROUND(IF(AQ40="2",BI40,0),2) -> 0 | AH40: =ROUND(IF(AQ40="0",BJ40,0),2) -> 0 | AJ40: =IF(AN40=0,H40,0) -> 0 | AK40: =IF(AN40=12,H40,0) -> 0 | AL40: =IF(AN40=21,H40,0) -> 0 | AN40: 21 | AO40: =G40*1 -> 0 | AP40: =G40*(1-1) -> 0 | AQ40: 7 | AV40: =ROUND(AW40+AX40,2) -> 0 | AW40: =ROUND(F40*AO40,2) -> 0 | AX40: =ROUND(F40*AP40,2) -> 0 | AY40: 762_ | AZ40: 76_ | BA40: _ | BC40: =AW40+AX40 -> 0 | BD40: =G40/(100-BE40)*100 -> 0 | BE40: 0 | BF40: =J40 -> 4.4715 | BH40: =F40*AO40 -> 0 | BI40: =F40*AP40 -> 0 | BJ40: =F40*G40 -> 0 | BK40: M | BL40: 762 | BW40: 21 | BX40: Prkna sušená (vlhkost max.18%) SM/BO jakost II tl. 22 mm, š. 100 mm, 3 - 6 m
C41: 17,05*0,1*0,022*35,9/0,5 | D41: spodní desky křížového roštu | F41: 2.69
C42: 35,9*0,1*0,022*17,05/0,278 | D42: horní desky křížového roštu | F42: 4.84
C43: ;ztratné 8%; 0,6024 | F43: 0.6
A44: 8 | B44: 762595000R00 | C44: Spojovací a ochranné prostředky k položení podlah | E44: m3 | F44: 7.53 | G44: 0 | H44: =ROUND(F44*G44,0) -> 0 | I44: 0.00295 | J44: =F44*I44 -> 0.0222135 | Z44: =ROUND(IF(AQ44="5",BJ44,0),2) -> 0 | AB44: =ROUND(IF(AQ44="1",BH44,0),2) -> 0 | AC44: =ROUND(IF(AQ44="1",BI44,0),2) -> 0 | AD44: =ROUND(IF(AQ44="7",BH44,0),2) -> 0 | AE44: =ROUND(IF(AQ44="7",BI44,0),2) -> 0 | AF44: =ROUND(IF(AQ44="2",BH44,0),2) -> 0 | AG44: =ROUND(IF(AQ44="2",BI44,0),2) -> 0 | AH44: =ROUND(IF(AQ44="0",BJ44,0),2) -> 0 | AJ44: =IF(AN44=0,H44,0) -> 0 | AK44: =IF(AN44=12,H44,0) -> 0 | AL44: =IF(AN44=21,H44,0) -> 0 | AN44: 21 | AO44: =G44*1.000046702 -> 0 | AP44: =G44*(1-1.000046702) -> 0 | AQ44: 7 | AV44: =ROUND(AW44+AX44,2) -> 0 | AW44: =ROUND(F44*AO44,2) -> 0 | AX44: =ROUND(F44*AP44,2) -> 0 | AY44: 762_ | AZ44: 76_ | BA44: _ | BB44: 100012 | BC44: =AW44+AX44 -> 0 | BD44: =G44/(100-BE44)*100 -> 0 | BE44: 0 | BF44: =J44 -> 0.0222135 | BH44: =F44*AO44 -> 0 | BI44: =F44*AP44 -> 0 | BJ44: =F44*G44 -> 0 | BK44: P | BL44: 762 | BW44: 21 | BX44: Spojovací a ochranné prostředky k položení podlah
C45: 2,69+4,84 | F45: 7.53
A46: 9 | B46: 762911125R00 | C46: Impregnace řeziva tlakovakuová Bochemit FORTE PROFI | E46: m3 | F46: 8.13 | G46: 0 | H46: =ROUND(F46*G46,0) -> 0 | I46: 0.0121 | J46: =F46*I46 -> 0.098373 | Z46: =ROUND(IF(AQ46="5",BJ46,0),2) -> 0 | AB46: =ROUND(IF(AQ46="1",BH46,0),2) -> 0 | AC46: =ROUND(IF(AQ46="1",BI46,0),2) -> 0 | AD46: =ROUND(IF(AQ46="7",BH46,0),2) -> 0 | AE46: =ROUND(IF(AQ46="7",BI46,0),2) -> 0 | AF46: =ROUND(IF(AQ46="2",BH46,0),2) -> 0 | AG46: =ROUND(IF(AQ46="2",BI46,0),2) -> 0 | AH46: =ROUND(IF(AQ46="0",BJ46,0),2) -> 0 | AJ46: =IF(AN46=0,H46,0) -> 0 | AK46: =IF(AN46=12,H46,0) -> 0 | AL46: =IF(AN46=21,H46,0) -> 0 | AN46: 21 | AO46: =G46*0.994045311 -> 0 | AP46: =G46*(1-0.994045311) -> 0 | AQ46: 7 | AV46: =ROUND(AW46+AX46,2) -> 0 | AW46: =ROUND(F46*AO46,2) -> 0 | AX46: =ROUND(F46*AP46,2) -> 0 | AY46: 762_ | AZ46: 76_ | BA46: _ | BB46: 100012 | BC46: =AW46+AX46 -> 0 | BD46: =G46/(100-BE46)*100 -> 0 | BE46: 0 | BF46: =J46 -> 0.098373 | BH46: =F46*AO46 -> 0 | BI46: =F46*AP46 -> 0 | BJ46: =F46*G46 -> 0 | BK46: P | BL46: 762 | BW46: 21 | BX46: Impregnace řeziva tlakovakuová Bochemit FORTE PROFI
C47: 8,13 | F47: 8.13
A48: 10 | B48: 762999.001 | C48: Podložení a vyrovnání spodních prken roštu dřevěnými podkladky na pružných podložkách D+M | E48: ks | F48: 136 | G48: 0 | H48: =ROUND(F48*G48,0) -> 0 | I48: 0 | J48: =F48*I48 -> 0 | Z48: =ROUND(IF(AQ48="5",BJ48,0),2) -> 0 | AB48: =ROUND(IF(AQ48="1",BH48,0),2) -> 0 | AC48: =ROUND(IF(AQ48="1",BI48,0),2) -> 0 | AD48: =ROUND(IF(AQ48="7",BH48,0),2) -> 0 | AE48: =ROUND(IF(AQ48="7",BI48,0),2) -> 0 | AF48: =ROUND(IF(AQ48="2",BH48,0),2) -> 0 | AG48: =ROUND(IF(AQ48="2",BI48,0),2) -> 0 | AH48: =ROUND(IF(AQ48="0",BJ48,0),2) -> 0 | AJ48: =IF(AN48=0,H48,0) -> 0 | AK48: =IF(AN48=12,H48,0) -> 0 | AL48: =IF(AN48=21,H48,0) -> 0 | AN48: 21 | AO48: =G48*0.166666667 -> 0 | AP48: =G48*(1-0.166666667) -> 0 | AQ48: 7 | AV48: =ROUND(AW48+AX48,2) -> 0 | AW48: =ROUND(F48*AO48,2) -> 0 | AX48: =ROUND(F48*AP48,2) -> 0 | AY48: 762_ | AZ48: 76_ | BA48: _ | BB48: 100012 | BC48: =AW48+AX48 -> 0 | BD48: =G48/(100-BE48)*100 -> 0 | BE48: 0 | BF48: =J48 -> 0 | BH48: =F48*AO48 -> 0 | BI48: =F48*AP48 -> 0 | BJ48: =F48*G48 -> 0 | BK48: P | BL48: 762 | BW48: 21 | BX48: Podložení a vyrovnání spodních prken roštu dřevěnými podkladky na pružných podložkách D+M
C49: předpoklad 5 ks/m2 (celkem 679,5/5=135,9 ks); vč dřevěných podkladků; pružné podložky ve specifikaci
C50: 136 | F50: 136
A51: 11 | B51: 27314383 | C51: Pružná podložka EPDM pod podkladky cca 100 x 100 mm, tl.10 mm | E51: kus | F51: 136 | G51: 0 | H51: =ROUND(F51*G51,0) -> 0 | I51: 4e-05 | J51: =F51*I51 -> 0.00544 | Z51: =ROUND(IF(AQ51="5",BJ51,0),2) -> 0 | AB51: =ROUND(IF(AQ51="1",BH51,0),2) -> 0 | AC51: =ROUND(IF(AQ51="1",BI51,0),2) -> 0 | AD51: =ROUND(IF(AQ51="7",BH51,0),2) -> 0 | AE51: =ROUND(IF(AQ51="7",BI51,0),2) -> 0 | AF51: =ROUND(IF(AQ51="2",BH51,0),2) -> 0 | AG51: =ROUND(IF(AQ51="2",BI51,0),2) -> 0 | AH51: =ROUND(IF(AQ51="0",BJ51,0),2) -> 0 | AJ51: =IF(AN51=0,H51,0) -> 0 | AK51: =IF(AN51=12,H51,0) -> 0 | AL51: =IF(AN51=21,H51,0) -> 0 | AN51: 21 | AO51: =G51*1 -> 0 | AP51: =G51*(1-1) -> 0 | AQ51: 7 | AV51: =ROUND(AW51+AX51,2) -> 0 | AW51: =ROUND(F51*AO51,2) -> 0 | AX51: =ROUND(F51*AP51,2) -> 0 | AY51: 762_ | AZ51: 76_ | BA51: _ | BC51: =AW51+AX51 -> 0 | BD51: =G51/(100-BE51)*100 -> 0 | BE51: 0 | BF51: =J51 -> 0.00544 | BH51: =F51*AO51 -> 0 | BI51: =F51*AP51 -> 0 | BJ51: =F51*G51 -> 0 | BK51: M | BL51: 762 | BW51: 21 | BX51: Pružná podložka EPDM pod podkladky cca 100 x 100 mm, tl.10 mm
C52: 136 | F52: 136
A53: 12 | B53: 762521900.001 | C53: Demontáž křížového roštu s hranotků rozměru 100-120x45mm vč podepření spodního roštu | E53: m2 | F53: 679.5 | G53: 0 | H53: =ROUND(F53*G53,0) -> 0 | I53: 0.01 | J53: =F53*I53 -> 6.795 | Z53: =ROUND(IF(AQ53="5",BJ53,0),2) -> 0 | AB53: =ROUND(IF(AQ53="1",BH53,0),2) -> 0 | AC53: =ROUND(IF(AQ53="1",BI53,0),2) -> 0 | AD53: =ROUND(IF(AQ53="7",BH53,0),2) -> 0 | AE53: =ROUND(IF(AQ53="7",BI53,0),2) -> 0 | AF53: =ROUND(IF(AQ53="2",BH53,0),2) -> 0 | AG53: =ROUND(IF(AQ53="2",BI53,0),2) -> 0 | AH53: =ROUND(IF(AQ53="0",BJ53,0),2) -> 0 | AI53: 009 | AJ53: =IF(AN53=0,H53,0) -> 0 | AK53: =IF(AN53=12,H53,0) -> 0 | AL53: =IF(AN53=21,H53,0) -> 0 | AN53: 21 | AO53: =G53*0 -> 0 | AP53: =G53*(1-0) -> 0 | AQ53: 7 | AV53: =ROUND(AW53+AX53,2) -> 0 | AW53: =ROUND(F53*AO53,2) -> 0 | AX53: =ROUND(F53*AP53,2) -> 0 | AY53: 762_ | AZ53: 76_ | BA53: 009_ | BB53: 100015 | BC53: =AW53+AX53 -> 0 | BD53: =G53/(100-BE53)*100 -> 0 | BE53: 0 | BF53: =J53 -> 6.795 | BH53: =F53*AO53 -> 0 | BI53: =F53*AP53 -> 0 | BJ53: =F53*G53 -> 0 | BK53: P | BL53: 762 | BW53: 21 | BX53: Demontáž křížového roštu s hranotků rozměru 100-120x45mm vč podepření spodního roštu
C54: Horní rošt-osová vzdál.650-700mm, spodní rošt-osová vzdál.750-800mm
C55: 679,5 | F55: 679.5
A56: 13 | B56: 762811811.001 | C56: Demontáž hrubé podlahy z prken tl.20mm - položeno na křížovém roštu | E56: m2 | F56: 679.5 | G56: 0 | H56: =ROUND(F56*G56,0) -> 0 | I56: 0.012 | J56: =F56*I56 -> 8.154 | Z56: =ROUND(IF(AQ56="5",BJ56,0),2) -> 0 | AB56: =ROUND(IF(AQ56="1",BH56,0),2) -> 0 | AC56: =ROUND(IF(AQ56="1",BI56,0),2) -> 0 | AD56: =ROUND(IF(AQ56="7",BH56,0),2) -> 0 | AE56: =ROUND(IF(AQ56="7",BI56,0),2) -> 0 | AF56: =ROUND(IF(AQ56="2",BH56,0),2) -> 0 | AG56: =ROUND(IF(AQ56="2",BI56,0),2) -> 0 | AH56: =ROUND(IF(AQ56="0",BJ56,0),2) -> 0 | AI56: 009 | AJ56: =IF(AN56=0,H56,0) -> 0 | AK56: =IF(AN56=12,H56,0) -> 0 | AL56: =IF(AN56=21,H56,0) -> 0 | AN56: 21 | AO56: =G56*0 -> 0 | AP56: =G56*(1-0) -> 0 | AQ56: 7 | AV56: =ROUND(AW56+AX56,2) -> 0 | AW56: =ROUND(F56*AO56,2) -> 0 | AX56: =ROUND(F56*AP56,2) -> 0 | AY56: 762_ | AZ56: 76_ | BA56: 009_ | BB56: 100015 | BC56: =AW56+AX56 -> 0 | BD56: =G56/(100-BE56)*100 -> 0 | BE56: 0 | BF56: =J56 -> 8.154 | BH56: =F56*AO56 -> 0 | BI56: =F56*AP56 -> 0 | BJ56: =F56*G56 -> 0 | BK56: P | BL56: 762 | BW56: 21 | BX56: Demontáž hrubé podlahy z prken tl.20mm - položeno na křížovém roštu
C57: hrubé prkna š=6,5-11cm s mezerama 10mm
C58: 679,5 | F58: 679.5
B59: 763 | C59: Dřevostavby | H59: =ROUND(SUM(H60:H66),0) -> 0 | J59: =SUM(J60:J66) -> 0.8351838 | AS59: =SUM(AJ60:AJ66) -> 0 | AT59: =SUM(AK60:AK66) -> 0 | AU59: =SUM(AL60:AL66) -> 0
A60: 14 | B60: 762111121.001 | C60: Nosná konstrukce vnitřní předstěny z dřevěných KVH hranolů 60 x 40 mm, rozteč stojek 500 mm, výška stěny do 2,0m | E60: m2 | F60: 82.21 | G60: 0 | H60: =ROUND(F60*G60,0) -> 0 | I60: 0.008 | J60: =F60*I60 -> 0.65768 | Z60: =ROUND(IF(AQ60="5",BJ60,0),2) -> 0 | AB60: =ROUND(IF(AQ60="1",BH60,0),2) -> 0 | AC60: =ROUND(IF(AQ60="1",BI60,0),2) -> 0 | AD60: =ROUND(IF(AQ60="7",BH60,0),2) -> 0 | AE60: =ROUND(IF(AQ60="7",BI60,0),2) -> 0 | AF60: =ROUND(IF(AQ60="2",BH60,0),2) -> 0 | AG60: =ROUND(IF(AQ60="2",BI60,0),2) -> 0 | AH60: =ROUND(IF(AQ60="0",BJ60,0),2) -> 0 | AJ60: =IF(AN60=0,H60,0) -> 0 | AK60: =IF(AN60=12,H60,0) -> 0 | AL60: =IF(AN60=21,H60,0) -> 0 | AN60: 21 | AO60: =G60*0.17262107 -> 0 | AP60: =G60*(1-0.17262107) -> 0 | AQ60: 7 | AV60: =ROUND(AW60+AX60,2) -> 0 | AW60: =ROUND(F60*AO60,2) -> 0 | AX60: =ROUND(F60*AP60,2) -> 0 | AY60: 763_ | AZ60: 76_ | BA60: _ | BB60: 100008 | BC60: =AW60+AX60 -> 0 | BD60: =G60/(100-BE60)*100 -> 0 | BE60: 0 | BF60: =J60 -> 0.65768 | BH60: =F60*AO60 -> 0 | BI60: =F60*AP60 -> 0 | BJ60: =F60*G60 -> 0 | BK60: P | BL60: 763 | BW60: 21 | BX60: Nosná konstrukce vnitřní předstěny z dřevěných KVH hranolů 60 x 40 mm, rozteč stojek 500 mm, výška stěny do 2,0m
C61: vč. spojovacích prostředků
C62: 35,90*1,84+35,90*0,45 | F62: 82.21
A63: 15 | B63: 763612132.001 | C63: Dod.+mont. obložení stěn z dřevoštěpkových desek P+D tl. do 18 mm, šroubováním, lepené spoje desek | E63: m2 | F63: 66.06 | G63: 0 | H63: =ROUND(F63*G63,0) -> 0 | I63: 0.00073 | J63: =F63*I63 -> 0.0482238 | Z63: =ROUND(IF(AQ63="5",BJ63,0),2) -> 0 | AB63: =ROUND(IF(AQ63="1",BH63,0),2) -> 0 | AC63: =ROUND(IF(AQ63="1",BI63,0),2) -> 0 | AD63: =ROUND(IF(AQ63="7",BH63,0),2) -> 0 | AE63: =ROUND(IF(AQ63="7",BI63,0),2) -> 0 | AF63: =ROUND(IF(AQ63="2",BH63,0),2) -> 0 | AG63: =ROUND(IF(AQ63="2",BI63,0),2) -> 0 | AH63: =ROUND(IF(AQ63="0",BJ63,0),2) -> 0 | AJ63: =IF(AN63=0,H63,0) -> 0 | AK63: =IF(AN63=12,H63,0) -> 0 | AL63: =IF(AN63=21,H63,0) -> 0 | AN63: 21 | AO63: =G63*0.612217338 -> 0 | AP63: =G63*(1-0.612217338) -> 0 | AQ63: 7 | AV63: =ROUND(AW63+AX63,2) -> 0 | AW63: =ROUND(F63*AO63,2) -> 0 | AX63: =ROUND(F63*AP63,2) -> 0 | AY63: 763_ | AZ63: 76_ | BA63: _ | BB63: 100008 | BC63: =AW63+AX63 -> 0 | BD63: =G63/(100-BE63)*100 -> 0 | BE63: 0 | BF63: =J63 -> 0.0482238 | BH63: =F63*AO63 -> 0 | BI63: =F63*AP63 -> 0 | BJ63: =F63*G63 -> 0 | BK63: P | BL63: 763 | BW63: 21 | BX63: Dod.+mont. obložení stěn z dřevoštěpkových desek P+D tl. do 18 mm, šroubováním, lepené spoje desek
C64: včetně dodávky desky OSB 3 4PD tl. 15 mm
C65: 35,90*1,84 | F65: 66.06
A66: 16 | B66: 763613132.001 | C66: Montáž záklopu předstěny z desek do tl. 18 mm, P+D, šroubováním, lepené spoje desek | E66: m2 | F66: 16.16 | G66: 0 | H66: =ROUND(F66*G66,0) -> 0 | I66: 0.008 | J66: =F66*I66 -> 0.12928 | Z66: =ROUND(IF(AQ66="5",BJ66,0),2) -> 0 | AB66: =ROUND(IF(AQ66="1",BH66,0),2) -> 0 | AC66: =ROUND(IF(AQ66="1",BI66,0),2) -> 0 | AD66: =ROUND(IF(AQ66="7",BH66,0),2) -> 0 | AE66: =ROUND(IF(AQ66="7",BI66,0),2) -> 0 | AF66: =ROUND(IF(AQ66="2",BH66,0),2) -> 0 | AG66: =ROUND(IF(AQ66="2",BI66,0),2) -> 0 | AH66: =ROUND(IF(AQ66="0",BJ66,0),2) -> 0 | AJ66: =IF(AN66=0,H66,0) -> 0 | AK66: =IF(AN66=12,H66,0) -> 0 | AL66: =IF(AN66=21,H66,0) -> 0 | AN66: 21 | AO66: =G66*0.660752467 -> 0 | AP66: =G66*(1-0.660752467) -> 0 | AQ66: 7 | AV66: =ROUND(AW66+AX66,2) -> 0 | AW66: =ROUND(F66*AO66,2) -> 0 | AX66: =ROUND(F66*AP66,2) -> 0 | AY66: 763_ | AZ66: 76_ | BA66: _ | BB66: 100008 | BC66: =AW66+AX66 -> 0 | BD66: =G66/(100-BE66)*100 -> 0 | BE66: 0 | BF66: =J66 -> 0.12928 | BH66: =F66*AO66 -> 0 | BI66: =F66*AP66 -> 0 | BJ66: =F66*G66 -> 0 | BK66: P | BL66: 763 | BW66: 21 | BX66: Montáž záklopu předstěny z desek do tl. 18 mm, P+D, šroubováním, lepené spoje desek
C67: včetně dodávky desky OSB 3 4PD tl. 15 mm
C68: 35,90*0,45 | F68: 16.16
B69: 766 | C69: Konstrukce truhlářské | H69: =ROUND(SUM(H70:H76),0) -> 0 | J69: =SUM(J70:J76) -> 2.6873865 | AS69: =SUM(AJ70:AJ76) -> 0 | AT69: =SUM(AK70:AK76) -> 0 | AU69: =SUM(AL70:AL76) -> 0
A70: 17 | B70: 766411822R00 | C70: Demontáž roštu předstěny | E70: m2 | F70: 82.21 | G70: 0 | H70: =ROUND(F70*G70,0) -> 0 | I70: 0.008 | J70: =F70*I70 -> 0.65768 | Z70: =ROUND(IF(AQ70="5",BJ70,0),2) -> 0 | AB70: =ROUND(IF(AQ70="1",BH70,0),2) -> 0 | AC70: =ROUND(IF(AQ70="1",BI70,0),2) -> 0 | AD70: =ROUND(IF(AQ70="7",BH70,0),2) -> 0 | AE70: =ROUND(IF(AQ70="7",BI70,0),2) -> 0 | AF70: =ROUND(IF(AQ70="2",BH70,0),2) -> 0 | AG70: =ROUND(IF(AQ70="2",BI70,0),2) -> 0 | AH70: =ROUND(IF(AQ70="0",BJ70,0),2) -> 0 | AI70: 009 | AJ70: =IF(AN70=0,H70,0) -> 0 | AK70: =IF(AN70=12,H70,0) -> 0 | AL70: =IF(AN70=21,H70,0) -> 0 | AN70: 21 | AO70: =G70*0 -> 0 | AP70: =G70*(1-0) -> 0 | AQ70: 7 | AV70: =ROUND(AW70+AX70,2) -> 0 | AW70: =ROUND(F70*AO70,2) -> 0 | AX70: =ROUND(F70*AP70,2) -> 0 | AY70: 766_ | AZ70: 76_ | BA70: 009_ | BB70: 100019 | BC70: =AW70+AX70 -> 0 | BD70: =G70/(100-BE70)*100 -> 0 | BE70: 0 | BF70: =J70 -> 0.65768 | BH70: =F70*AO70 -> 0 | BI70: =F70*AP70 -> 0 | BJ70: =F70*G70 -> 0 | BK70: P | BL70: 766 | BW70: 21 | BX70: Demontáž roštu předstěny
C71: 35,9*1,84+35,9*0,45 | F71: 82.21
A72: 18 | B72: 766411811R00 | C72: Demontáž obložení stěn panely velikosti do 1,5 m2 | E72: m2 | F72: 82.21 | G72: 0 | H72: =ROUND(F72*G72,0) -> 0 | I72: 0.02465 | J72: =F72*I72 -> 2.0264765 | Z72: =ROUND(IF(AQ72="5",BJ72,0),2) -> 0 | AB72: =ROUND(IF(AQ72="1",BH72,0),2) -> 0 | AC72: =ROUND(IF(AQ72="1",BI72,0),2) -> 0 | AD72: =ROUND(IF(AQ72="7",BH72,0),2) -> 0 | AE72: =ROUND(IF(AQ72="7",BI72,0),2) -> 0 | AF72: =ROUND(IF(AQ72="2",BH72,0),2) -> 0 | AG72: =ROUND(IF(AQ72="2",BI72,0),2) -> 0 | AH72: =ROUND(IF(AQ72="0",BJ72,0),2) -> 0 | AI72: 009 | AJ72: =IF(AN72=0,H72,0) -> 0 | AK72: =IF(AN72=12,H72,0) -> 0 | AL72: =IF(AN72=21,H72,0) -> 0 | AN72: 21 | AO72: =G72*0 -> 0 | AP72: =G72*(1-0) -> 0 | AQ72: 7 | AV72: =ROUND(AW72+AX72,2) -> 0 | AW72: =ROUND(F72*AO72,2) -> 0 | AX72: =ROUND(F72*AP72,2) -> 0 | AY72: 766_ | AZ72: 76_ | BA72: 009_ | BB72: 100005 | BC72: =AW72+AX72 -> 0 | BD72: =G72/(100-BE72)*100 -> 0 | BE72: 0 | BF72: =J72 -> 2.0264765 | BH72: =F72*AO72 -> 0 | BI72: =F72*AP72 -> 0 | BJ72: =F72*G72 -> 0 | BK72: P | BL72: 766 | BW72: 21 | BX72: Demontáž obložení stěn panely velikosti do 1,5 m2
C73: 35,9*1,84+35,9*0,45 | F73: 82.21
A74: 19 | B74: 766900-001 | C74: Zpětná montáž žebřin v=3,0m | E74: kus | F74: 16 | G74: 0 | H74: =ROUND(F74*G74,0) -> 0 | I74: 0.00019 | J74: =F74*I74 -> 0.00304 | Z74: =ROUND(IF(AQ74="5",BJ74,0),2) -> 0 | AB74: =ROUND(IF(AQ74="1",BH74,0),2) -> 0 | AC74: =ROUND(IF(AQ74="1",BI74,0),2) -> 0 | AD74: =ROUND(IF(AQ74="7",BH74,0),2) -> 0 | AE74: =ROUND(IF(AQ74="7",BI74,0),2) -> 0 | AF74: =ROUND(IF(AQ74="2",BH74,0),2) -> 0 | AG74: =ROUND(IF(AQ74="2",BI74,0),2) -> 0 | AH74: =ROUND(IF(AQ74="0",BJ74,0),2) -> 0 | AJ74: =IF(AN74=0,H74,0) -> 0 | AK74: =IF(AN74=12,H74,0) -> 0 | AL74: =IF(AN74=21,H74,0) -> 0 | AN74: 21 | AO74: =G74*0.00990099 -> 0 | AP74: =G74*(1-0.00990099) -> 0 | AQ74: 7 | AV74: =ROUND(AW74+AX74,2) -> 0 | AW74: =ROUND(F74*AO74,2) -> 0 | AX74: =ROUND(F74*AP74,2) -> 0 | AY74: 766_ | AZ74: 76_ | BA74: _ | BB74: 100005 | BC74: =AW74+AX74 -> 0 | BD74: =G74/(100-BE74)*100 -> 0 | BE74: 0 | BF74: =J74 -> 0.00304 | BH74: =F74*AO74 -> 0 | BI74: =F74*AP74 -> 0 | BJ74: =F74*G74 -> 0 | BK74: P | BL74: 766 | BW74: 21 | BX74: Zpětná montáž žebřin v=3,0m
C75: 16 | F75: 16
A76: 20 | B76: 766900-002 | C76: Zpětná montáž sloupové kladiny dl.=5,0m uchycení na stěnu | E76: kus | F76: 1 | G76: 0 | H76: =ROUND(F76*G76,0) -> 0 | I76: 0.00019 | J76: =F76*I76 -> 0.00019 | Z76: =ROUND(IF(AQ76="5",BJ76,0),2) -> 0 | AB76: =ROUND(IF(AQ76="1",BH76,0),2) -> 0 | AC76: =ROUND(IF(AQ76="1",BI76,0),2) -> 0 | AD76: =ROUND(IF(AQ76="7",BH76,0),2) -> 0 | AE76: =ROUND(IF(AQ76="7",BI76,0),2) -> 0 | AF76: =ROUND(IF(AQ76="2",BH76,0),2) -> 0 | AG76: =ROUND(IF(AQ76="2",BI76,0),2) -> 0 | AH76: =ROUND(IF(AQ76="0",BJ76,0),2) -> 0 | AJ76: =IF(AN76=0,H76,0) -> 0 | AK76: =IF(AN76=12,H76,0) -> 0 | AL76: =IF(AN76=21,H76,0) -> 0 | AN76: 21 | AO76: =G76*0.007633588 -> 0 | AP76: =G76*(1-0.007633588) -> 0 | AQ76: 7 | AV76: =ROUND(AW76+AX76,2) -> 0 | AW76: =ROUND(F76*AO76,2) -> 0 | AX76: =ROUND(F76*AP76,2) -> 0 | AY76: 766_ | AZ76: 76_ | BA76: _ | BB76: 100005 | BC76: =AW76+AX76 -> 0 | BD76: =G76/(100-BE76)*100 -> 0 | BE76: 0 | BF76: =J76 -> 0.00019 | BH76: =F76*AO76 -> 0 | BI76: =F76*AP76 -> 0 | BJ76: =F76*G76 -> 0 | BK76: P | BL76: 766 | BW76: 21 | BX76: Zpětná montáž sloupové kladiny dl.=5,0m uchycení na stěnu
C77: 1 | F77: 1
B78: 767 | C78: Konstrukce doplňkové stavební (zámečnické) | H78: =ROUND(SUM(H79:H79),0) -> 0 | J78: =SUM(J79:J79) -> 0.00256 | AS78: =SUM(AJ79:AJ79) -> 0 | AT78: =SUM(AK79:AK79) -> 0 | AU78: =SUM(AL79:AL79) -> 0
A79: 21 | B79: 767900.001 | C79: Zpětná montáž kotvících prvků pro přenosná zařízení | E79: ks | F79: 32 | G79: 0 | H79: =ROUND(F79*G79,0) -> 0 | I79: 8e-05 | J79: =F79*I79 -> 0.00256 | Z79: =ROUND(IF(AQ79="5",BJ79,0),2) -> 0 | AB79: =ROUND(IF(AQ79="1",BH79,0),2) -> 0 | AC79: =ROUND(IF(AQ79="1",BI79,0),2) -> 0 | AD79: =ROUND(IF(AQ79="7",BH79,0),2) -> 0 | AE79: =ROUND(IF(AQ79="7",BI79,0),2) -> 0 | AF79: =ROUND(IF(AQ79="2",BH79,0),2) -> 0 | AG79: =ROUND(IF(AQ79="2",BI79,0),2) -> 0 | AH79: =ROUND(IF(AQ79="0",BJ79,0),2) -> 0 | AJ79: =IF(AN79=0,H79,0) -> 0 | AK79: =IF(AN79=12,H79,0) -> 0 | AL79: =IF(AN79=21,H79,0) -> 0 | AN79: 21 | AO79: =G79*0 -> 0 | AP79: =G79*(1-0) -> 0 | AQ79: 7 | AV79: =ROUND(AW79+AX79,2) -> 0 | AW79: =ROUND(F79*AO79,2) -> 0 | AX79: =ROUND(F79*AP79,2) -> 0 | AY79: 767_ | AZ79: 76_ | BA79: _ | BB79: 100006 | BC79: =AW79+AX79 -> 0 | BD79: =G79/(100-BE79)*100 -> 0 | BE79: 0 | BF79: =J79 -> 0.00256 | BH79: =F79*AO79 -> 0 | BI79: =F79*AP79 -> 0 | BJ79: =F79*G79 -> 0 | BK79: P | BL79: 767 | BW79: 21 | BX79: Zpětná montáž kotvících prvků pro přenosná zařízení
C80: 8 | D80: šplhací tyče | F80: 8
C81: 4 | D81: kotvení sloupků přenosné hrazdy | F81: 4
C82: 8 | D82: záklopky pro kotvení hrazdy | F82: 8
C83: 8 | D83: kotvení sloupků (tenis volejbal apod) | F83: 8
C84: 4 | D84: kotvení branek | F84: 4
B85: 775 | C85: Podlahy vlysové a parketové | H85: =ROUND(SUM(H86:H86),0) -> 0 | J85: =SUM(J86:J86) -> 9.513 | AS85: =SUM(AJ86:AJ86) -> 0 | AT85: =SUM(AK86:AK86) -> 0 | AU85: =SUM(AL86:AL86) -> 0
A86: 22 | B86: 775511800.001 | C86: Demontáž podlahy vlysové lepené ve spojích | E86: m2 | F86: 679.5 | G86: 0 | H86: =ROUND(F86*G86,0) -> 0 | I86: 0.014 | J86: =F86*I86 -> 9.513 | Z86: =ROUND(IF(AQ86="5",BJ86,0),2) -> 0 | AB86: =ROUND(IF(AQ86="1",BH86,0),2) -> 0 | AC86: =ROUND(IF(AQ86="1",BI86,0),2) -> 0 | AD86: =ROUND(IF(AQ86="7",BH86,0),2) -> 0 | AE86: =ROUND(IF(AQ86="7",BI86,0),2) -> 0 | AF86: =ROUND(IF(AQ86="2",BH86,0),2) -> 0 | AG86: =ROUND(IF(AQ86="2",BI86,0),2) -> 0 | AH86: =ROUND(IF(AQ86="0",BJ86,0),2) -> 0 | AI86: 009 | AJ86: =IF(AN86=0,H86,0) -> 0 | AK86: =IF(AN86=12,H86,0) -> 0 | AL86: =IF(AN86=21,H86,0) -> 0 | AN86: 21 | AO86: =G86*0 -> 0 | AP86: =G86*(1-0) -> 0 | AQ86: 7 | AV86: =ROUND(AW86+AX86,2) -> 0 | AW86: =ROUND(F86*AO86,2) -> 0 | AX86: =ROUND(F86*AP86,2) -> 0 | AY86: 775_ | AZ86: 77_ | BA86: 009_ | BB86: 100016 | BC86: =AW86+AX86 -> 0 | BD86: =G86/(100-BE86)*100 -> 0 | BE86: 0 | BF86: =J86 -> 9.513 | BH86: =F86*AO86 -> 0 | BI86: =F86*AP86 -> 0 | BJ86: =F86*G86 -> 0 | BK86: P | BL86: 775 | BW86: 21 | BX86: Demontáž podlahy vlysové lepené ve spojích
C87: třívrstvá lamela tl.22mm, š.120mm
C88: 679,5 | F88: 679.5
B89: 776 | C89: Podlahy povlakové | H89: =ROUND(SUM(H90:H124),0) -> 0 | J89: =SUM(J90:J124) -> 9.0074693 | AS89: =SUM(AJ90:AJ124) -> 0 | AT89: =SUM(AK90:AK124) -> 0 | AU89: =SUM(AL90:AL124) -> 0
A90: 23 | B90: 777561010.001 | C90: Tmelení spár a hlaviček šroubů, celoplošné přebroušení s vysátím | E90: m2 | F90: 679.5 | G90: 0 | H90: =ROUND(F90*G90,0) -> 0 | I90: 0.0012 | J90: =F90*I90 -> 0.8154 | Z90: =ROUND(IF(AQ90="5",BJ90,0),2) -> 0 | AB90: =ROUND(IF(AQ90="1",BH90,0),2) -> 0 | AC90: =ROUND(IF(AQ90="1",BI90,0),2) -> 0 | AD90: =ROUND(IF(AQ90="7",BH90,0),2) -> 0 | AE90: =ROUND(IF(AQ90="7",BI90,0),2) -> 0 | AF90: =ROUND(IF(AQ90="2",BH90,0),2) -> 0 | AG90: =ROUND(IF(AQ90="2",BI90,0),2) -> 0 | AH90: =ROUND(IF(AQ90="0",BJ90,0),2) -> 0 | AJ90: =IF(AN90=0,H90,0) -> 0 | AK90: =IF(AN90=12,H90,0) -> 0 | AL90: =IF(AN90=21,H90,0) -> 0 | AN90: 21 | AO90: =G90*0.444442307 -> 0 | AP90: =G90*(1-0.444442307) -> 0 | AQ90: 7 | AV90: =ROUND(AW90+AX90,2) -> 0 | AW90: =ROUND(F90*AO90,2) -> 0 | AX90: =ROUND(F90*AP90,2) -> 0 | AY90: 776_ | AZ90: 77_ | BA90: _ | BB90: 100002 | BC90: =AW90+AX90 -> 0 | BD90: =G90/(100-BE90)*100 -> 0 | BE90: 0 | BF90: =J90 -> 0.8154 | BH90: =F90*AO90 -> 0 | BI90: =F90*AP90 -> 0 | BJ90: =F90*G90 -> 0 | BK90: P | BL90: 776 | BW90: 21 | BX90: Tmelení spár a hlaviček šroubů, celoplošné přebroušení s vysátím
C91: vč. dodávky tmelu (např. Uzin NC405)
C92: 679,5 | F92: 679.5
A93: 24 | B93: 776101101R00 | C93: Vysávání podlahy průmyslovým vysavačem pod povlakové podlahy | E93: m2 | F93: 679.5 | G93: 0 | H93: =ROUND(F93*G93,0) -> 0 | I93: 0 | J93: =F93*I93 -> 0 | Z93: =ROUND(IF(AQ93="5",BJ93,0),2) -> 0 | AB93: =ROUND(IF(AQ93="1",BH93,0),2) -> 0 | AC93: =ROUND(IF(AQ93="1",BI93,0),2) -> 0 | AD93: =ROUND(IF(AQ93="7",BH93,0),2) -> 0 | AE93: =ROUND(IF(AQ93="7",BI93,0),2) -> 0 | AF93: =ROUND(IF(AQ93="2",BH93,0),2) -> 0 | AG93: =ROUND(IF(AQ93="2",BI93,0),2) -> 0 | AH93: =ROUND(IF(AQ93="0",BJ93,0),2) -> 0 | AJ93: =IF(AN93=0,H93,0) -> 0 | AK93: =IF(AN93=12,H93,0) -> 0 | AL93: =IF(AN93=21,H93,0) -> 0 | AN93: 21 | AO93: =G93*0 -> 0 | AP93: =G93*(1-0) -> 0 | AQ93: 7 | AV93: =ROUND(AW93+AX93,2) -> 0 | AW93: =ROUND(F93*AO93,2) -> 0 | AX93: =ROUND(F93*AP93,2) -> 0 | AY93: 776_ | AZ93: 77_ | BA93: _ | BB93: 100002 | BC93: =AW93+AX93 -> 0 | BD93: =G93/(100-BE93)*100 -> 0 | BE93: 0 | BF93: =J93 -> 0 | BH93: =F93*AO93 -> 0 | BI93: =F93*AP93 -> 0 | BJ93: =F93*G93 -> 0 | BK93: P | BL93: 776 | BW93: 21 | BX93: Vysávání podlahy průmyslovým vysavačem pod povlakové podlahy
C94: 679,5 | F94: 679.5
A95: 25 | B95: 776521100R00 | C95: Lepení povlakové podlahy z pásů na lepidlo - víceúčelová sportovní vinylová podlahová krytina | E95: m2 | F95: 679.5 | G95: 0 | H95: =ROUND(F95*G95,0) -> 0 | I95: 0.00038 | J95: =F95*I95 -> 0.25821 | Z95: =ROUND(IF(AQ95="5",BJ95,0),2) -> 0 | AB95: =ROUND(IF(AQ95="1",BH95,0),2) -> 0 | AC95: =ROUND(IF(AQ95="1",BI95,0),2) -> 0 | AD95: =ROUND(IF(AQ95="7",BH95,0),2) -> 0 | AE95: =ROUND(IF(AQ95="7",BI95,0),2) -> 0 | AF95: =ROUND(IF(AQ95="2",BH95,0),2) -> 0 | AG95: =ROUND(IF(AQ95="2",BI95,0),2) -> 0 | AH95: =ROUND(IF(AQ95="0",BJ95,0),2) -> 0 | AJ95: =IF(AN95=0,H95,0) -> 0 | AK95: =IF(AN95=12,H95,0) -> 0 | AL95: =IF(AN95=21,H95,0) -> 0 | AN95: 21 | AO95: =G95*0.290078144 -> 0 | AP95: =G95*(1-0.290078144) -> 0 | AQ95: 7 | AV95: =ROUND(AW95+AX95,2) -> 0 | AW95: =ROUND(F95*AO95,2) -> 0 | AX95: =ROUND(F95*AP95,2) -> 0 | AY95: 776_ | AZ95: 77_ | BA95: _ | BB95: 100002 | BC95: =AW95+AX95 -> 0 | BD95: =G95/(100-BE95)*100 -> 0 | BE95: 0 | BF95: =J95 -> 0.25821 | BH95: =F95*AO95 -> 0 | BI95: =F95*AP95 -> 0 | BJ95: =F95*G95 -> 0 | BK95: P | BL95: 776 | BW95: 21 | BX95: Lepení povlakové podlahy z pásů na lepidlo - víceúčelová sportovní vinylová podlahová krytina
C96: krytina složena ze tří barev (výměry dekorů - 83,70m2, 98,9m2, 496,9m2)
C97: 632,5 | D97: tělocvična (generovaná výměry) | F97: 632.5
C98: 47,0 | D98: nářaďovna (generovaná výměra) | F98: 47
A99: 26 | B99: 61194299 | C99: Víceúčelová sportovní vinilová podlah.krytina tl. 6,0 mm, heterogenní (pěnová podložka+vinylová vrchní vrstva) | E99: m2 | F99: 747.45 | G99: 0 | H99: =ROUND(F99*G99,0) -> 0 | I99: 0.00857 | J99: =F99*I99 -> 6.4056465 | Z99: =ROUND(IF(AQ99="5",BJ99,0),2) -> 0 | AB99: =ROUND(IF(AQ99="1",BH99,0),2) -> 0 | AC99: =ROUND(IF(AQ99="1",BI99,0),2) -> 0 | AD99: =ROUND(IF(AQ99="7",BH99,0),2) -> 0 | AE99: =ROUND(IF(AQ99="7",BI99,0),2) -> 0 | AF99: =ROUND(IF(AQ99="2",BH99,0),2) -> 0 | AG99: =ROUND(IF(AQ99="2",BI99,0),2) -> 0 | AH99: =ROUND(IF(AQ99="0",BJ99,0),2) -> 0 | AJ99: =IF(AN99=0,H99,0) -> 0 | AK99: =IF(AN99=12,H99,0) -> 0 | AL99: =IF(AN99=21,H99,0) -> 0 | AN99: 21 | AO99: =G99*1 -> 0 | AP99: =G99*(1-1) -> 0 | AQ99: 7 | AV99: =ROUND(AW99+AX99,2) -> 0 | AW99: =ROUND(F99*AO99,2) -> 0 | AX99: =ROUND(F99*AP99,2) -> 0 | AY99: 776_ | AZ99: 77_ | BA99: _ | BC99: =AW99+AX99 -> 0 | BD99: =G99/(100-BE99)*100 -> 0 | BE99: 0 | BF99: =J99 -> 6.4056465 | BH99: =F99*AO99 -> 0 | BI99: =F99*AP99 -> 0 | BJ99: =F99*G99 -> 0 | BK99: M | BL99: 776 | BW99: 21 | BX99: Víceúčelová sportovní vinilová podlah.krytina tl. 6,0 mm, heterogenní (pěnová podložka+vinylová vrchní vrstva)
C100: 679,5 | F100: 679.5
C101: ;ztratné 10%; 67,95 | F101: 67.95
A102: 27 | B102: 776721119.001 | C102: Lepení pásů textilních na stěnu vč.lepidla | E102: m2 | F102: 285.34 | G102: 0 | H102: =ROUND(F102*G102,0) -> 0 | I102: 0.00029 | J102: =F102*I102 -> 0.0827486 | Z102: =ROUND(IF(AQ102="5",BJ102,0),2) -> 0 | AB102: =ROUND(IF(AQ102="1",BH102,0),2) -> 0 | AC102: =ROUND(IF(AQ102="1",BI102,0),2) -> 0 | AD102: =ROUND(IF(AQ102="7",BH102,0),2) -> 0 | AE102: =ROUND(IF(AQ102="7",BI102,0),2) -> 0 | AF102: =ROUND(IF(AQ102="2",BH102,0),2) -> 0 | AG102: =ROUND(IF(AQ102="2",BI102,0),2) -> 0 | AH102: =ROUND(IF(AQ102="0",BJ102,0),2) -> 0 | AJ102: =IF(AN102=0,H102,0) -> 0 | AK102: =IF(AN102=12,H102,0) -> 0 | AL102: =IF(AN102=21,H102,0) -> 0 | AN102: 21 | AO102: =G102*0.189188831 -> 0 | AP102: =G102*(1-0.189188831) -> 0 | AQ102: 7 | AV102: =ROUND(AW102+AX102,2) -> 0 | AW102: =ROUND(F102*AO102,2) -> 0 | AX102: =ROUND(F102*AP102,2) -> 0 | AY102: 776_ | AZ102: 77_ | BA102: _ | BB102: 100002 | BC102: =AW102+AX102 -> 0 | BD102: =G102/(100-BE102)*100 -> 0 | BE102: 0 | BF102: =J102 -> 0.0827486 | BH102: =F102*AO102 -> 0 | BI102: =F102*AP102 -> 0 | BJ102: =F102*G102 -> 0 | BK102: P | BL102: 776 | BW102: 21 | BX102: Lepení pásů textilních na stěnu vč.lepidla
C103: 43,5 | D103: štítová stěna se vstupy | F103: 43.5
C104: 2*5,8*0,2 | D104: ostění a nadpraží dveří | F104: 2.32
...
