Workbook
Name vorn_sum: VORN!$I$45

Sheet Rozpočet - rekapitulace
A1: Slepý stavební rozpočet - rekapitulace
A2: Název stavby: | D2: ='Stavební rozpočet'!C2 -> Výměna podlahy tělocvična ZŠ Hanušovice | G2: Doba výstavby: | H2: ='Stavební rozpočet'!G2 | I2: Objednatel: | J2: ='Stavební rozpočet'!I2 -> Město Hanušovice
A4: Druh stavby: | D4: ='Stavební rozpočet'!C4 -> Oprava a udržovací práce | G4: Začátek výstavby: | H4: ='Stavební rozpočet'!G4 | I4: Projektant: | J4: ='Stavební rozpočet'!I4 -> Ing.Ladislav Trčka - PROINK
A6: Lokalita: | D6: ='Stavební rozpočet'!C6 -> Hanušovice | G6: Konec výstavby: | H6: ='Stavební rozpočet'!G6 | I6: Zhotovitel: | J6: ='Stavební rozpočet'!I6 -> 0
A8: JKSO: | D8: ='Stavební rozpočet'!C8 | G8: Zpracováno dne: | H8: ='Stavební rozpočet'!G8 -> 0 | I8: Zpracoval: | J8: ='Stavební rozpočet'!I8 -> 0
K10: Náklady (Kč) | L10: Hmotnost (t)
A11: Kód | B11: Zkrácený popis | K11: Celkem | L11: Celkem
A12: 61 | B12: Úprava povrchů vnitřní | K12: =ROUND('Stavební rozpočet'!H12,2) -> 0 | L12: ='Stavební rozpočet'!J12 -> 0.8027382 | M12: T | N12: =IF(M12="F",0,K12) -> 0 | P12: =IF(M12="T",0,K12) -> 0
A13: 63 | B13: Podlahy a podlahové konstrukce | K13: =ROUND('Stavební rozpočet'!H22,2) -> 0 | L13: ='Stavební rozpočet'!J22 -> 22.144984 | M13: T | N13: =IF(M13="F",0,K13) -> 0 | P13: =IF(M13="T",0,K13) -> 0
A14: 762 | B14: Konstrukce tesařské | K14: =ROUND('Stavební rozpočet'!H33,2) -> 0 | L14: ='Stavební rozpočet'!J33 -> 19.546526 | M14: T | N14: =IF(M14="F",0,K14) -> 0 | P14: =IF(M14="T",0,K14) -> 0
A15: 763 | B15: Dřevostavby | K15: =ROUND('Stavební rozpočet'!H59,2) -> 0 | L15: ='Stavební rozpočet'!J59 -> 0.8351838 | M15: T | N15: =IF(M15="F",0,K15) -> 0 | P15: =IF(M15="T",0,K15) -> 0
A16: 766 | B16: Konstrukce truhlářské | K16: =ROUND('Stavební rozpočet'!H69,2) -> 0 | L16: ='Stavební rozpočet'!J69 -> 2.6873865 | M16: T | N16: =IF(M16="F",0,K16) -> 0 | P16: =IF(M16="T",0,K16) -> 0
A17: 767 | B17: Konstrukce doplňkové stavební (zámečnické) | K17: =ROUND('Stavební rozpočet'!H78,2) -> 0 | L17: ='Stavební rozpočet'!J78 -> 0.00256 | M17: T | N17: =IF(M17="F",0,K17) -> 0 | P17: =IF(M17="T",0,K17) -> 0
A18: 775 | B18: Podlahy vlysové a parketové | K18: =ROUND('Stavební rozpočet'!H85,2) -> 0 | L18: ='Stavební rozpočet'!J85 -> 9.513 | M18: T | N18: =IF(M18="F",0,K18) -> 0 | P18: =IF(M18="T",0,K18) -> 0
A19: 776 | B19: Podlahy povlakové | K19: =ROUND('Stavební rozpočet'!H89,2) -> 0 | L19: ='Stavební rozpočet'!J89 -> 9.0074693 | M19: T | N19: =IF(M19="F",0,K19) -> 0 | P19: =IF(M19="T",0,K19) -> 0
A20: 777 | B20: Podlahy ze syntetických hmot | K20: =ROUND('Stavební rozpočet'!H133,2) -> 0 | L20: ='Stavební rozpočet'!J133 -> 0.044841 | M20: T | N20: =IF(M20="F",0,K20) -> 0 | P20: =IF(M20="T",0,K20) -> 0
A21: 783 | B21: Nátěry | K21: =ROUND('Stavební rozpočet'!H141,2) -> 0 | L21: ='Stavební rozpočet'!J141 -> 0.4425 | M21: T | N21: =IF(M21="F",0,K21) -> 0 | P21: =IF(M21="T",0,K21) -> 0
A22: 90 | B22: Hodinové zúčtovací sazby (HZS) | K22: =ROUND('Stavební rozpočet'!H149,2) -> 0 | L22: ='Stavební rozpočet'!J149 -> 0 | M22: T | N22: =IF(M22="F",0,K22) -> 0 | P22: =IF(M22="T",0,K22) -> 0
A23: 94 | B23: Lešení a stavební výtahy | K23: =ROUND('Stavební rozpočet'!H153,2) -> 0 | L23: ='Stavební rozpočet'!J153 -> 0.026136 | M23: T | N23: =IF(M23="F",0,K23) -> 0 | P23: =IF(M23="T",0,K23) -> 0
A24: 97 | B24: Prorážení otvorů a ostatní bourací práce | K24: =ROUND('Stavební rozpočet'!H156,2) -> 0 | L24: ='Stavební rozpočet'!J156 -> 0 | M24: T | N24: =IF(M24="F",0,K24) -> 0 | P24: =IF(M24="T",0,K24) -> 0
A25: H99 | B25: Ostatní přesuny hmot | K25: =ROUND('Stavební rozpočet'!H167,2) -> 0 | L25: ='Stavební rozpočet'!J167 -> 0 | M25: T | N25: =IF(M25="F",0,K25) -> 0 | P25: =IF(M25="T",0,K25) -> 0
A26: S | B26: Přesuny sutí | K26: =ROUND('Stavební rozpočet'!H170,2) -> 0 | L26: ='Stavební rozpočet'!J170 -> 0 | M26: T | N26: =IF(M26="F",0,K26) -> 0 | P26: =IF(M26="T",0,K26) -> 0
A27: 03VRN | B27: Zařízení staveniště | K27: =ROUND('Stavební rozpočet'!H186,2) -> 0 | L27: ='Stavební rozpočet'!J186 -> 0 | M27: T | N27: =IF(M27="F",0,K27) -> 0 | P27: =IF(M27="T",0,K27) -> 0
A28: 09VRN | B28: Ostatní náklady | K28: =ROUND('Stavební rozpočet'!H190,2) -> 0 | L28: ='Stavební rozpočet'!J190 -> 0 | M28: T | N28: =IF(M28="F",0,K28) -> 0 | P28: =IF(M28="T",0,K28) -> 0
I29: Celkem: | K29: =ROUND(SUM(N12:N28),0) -> 0 | L29: =SUM(L12:L28) -> 65.053325
A30: Poznámka:

Sheet Krycí list rozpočtu
A1: Krycí list slepého rozpočtu
A2: Název stavby: | C2: ='Stavební rozpočet'!C2 -> Výměna podlahy tělocvična ZŠ Hanušovice | E2: Objednatel: | F2: ='Stavební rozpočet'!I2 -> Město Hanušovice | H2: IČO/DIČ:
A4: Druh stavby: | C4: ='Stavební rozpočet'!C4 -> Oprava a udržovací práce | E4: Projektant: | F4: ='Stavební rozpočet'!I4 -> Ing.Ladislav Trčka - PROINK | H4: IČO/DIČ:
A6: Lokalita: | C6: ='Stavební rozpočet'!C6 -> Hanušovice | E6: Zhotovitel: | F6: ='Stavební rozpočet'!I6 -> 0 | H6: IČO/DIČ:
A8: Začátek výstavby: | C8: ='Stavební rozpočet'!G4 | E8: Konec výstavby: | F8: ='Stavební rozpočet'!G6 | H8: Položek: | I8: 50
A10: JKSO: | C10: ='Stavební rozpočet'!C8 | E10: Zpracoval: | F10: ='Stavební rozpočet'!I8 -> 0 | H10: Datum: | I10: ='Stavební rozpočet'!G8 -> 0
A12: Rozpočtové náklady v Kč
A13: A | B13: Základní rozpočtové náklady | D13: B | E13: Doplňkové náklady | G13: C | H13: Náklady na umístění stavby (NUS)
A14: HSV | B14: Dodávky | C14: =SUM('Stavební rozpočet'!AB12:AB386) -> 0 | D14: Práce přesčas | F14: =VORN!I15 -> 0 | G14: Zařízení staveniště | I14: =VORN!I21 -> 0
B15: Montáž | C15: =SUM('Stavební rozpočet'!AC12:AC386) -> 0 | D15: Bez pevné podl. | F15: =VORN!I16 -> 0 | G15: Mimostav. doprava | I15: =VORN!I22 -> 0
A16: PSV | B16: Dodávky | C16: =SUM('Stavební rozpočet'!AD12:AD386) -> 0 | D16: Kulturní památka | F16: =VORN!I17 -> 0 | G16: Územní vlivy | I16: =VORN!I23 -> 0
B17: Montáž | C17: =SUM('Stavební rozpočet'!AE12:AE386) -> 0 | G17: Provozní vlivy | I17: =VORN!I24 -> 0
A18: "M" | B18: Dodávky | C18: =SUM('Stavební rozpočet'!AF12:AF386) -> 0 | G18: Ostatní | I18: =VORN!I25 -> 0
B19: Montáž | C19: =SUM('Stavební rozpočet'!AG12:AG386) -> 0 | G19: NUS z rozpočtu | I19: =VORN!I26 -> 0
A20: Ostatní materiál | C20: =SUM('Stavební rozpočet'!AH12:AH386) -> 0
A21: Přesun hmot a sutí | C21: =SUM('Stavební rozpočet'!Z12:Z386) -> 0
A22: ZRN celkem | C22: =ROUND(SUM(C14:C21),0) -> 0 | D22: DN celkem | F22: =SUM(F14:F21) -> 0 | G22: NUS celkem | I22: =SUM(I14:I21) -> 0
D23: DN celkem z obj. | F23: 0 | G23: NUS celkem z obj. | I23: 0
G24: VORN celkem | I24: =vorn_sum -> 0
G25: VORN celkem z obj. | I25: 0
A27: Základ 0% | C27: =ROUND(SUM('Stavební rozpočet'!AJ12:AJ386),0) -> 0
A28: Základ 12% | C28: =ROUND(SUM('Stavební rozpočet'!AK12:AK386),0) -> 0 | D28: DPH 12% | F28: =ROUND(C28*(12/100),2) -> 0 | G28: Celkem bez DPH | I28: =ROUND(SUM(C27:C29),0) -> 0
A29: Základ 21% | C29: =ROUND(SUM('Stavební rozpočet'!AL12:AL386),0) -> 0 | D29: DPH 21% | F29: =ROUND(C29*(21/100),2) -> 0 | G29: Celkem včetně DPH | I29: =ROUND(SUM(F28:F29)+I28,0) -> 0
A31: Projektant | D31: Objednatel | G31: Zhotovitel
A35: Datum, razítko a podpis | D35: Datum, razítko a podpis | G35: Datum, razítko a podpis
A36: Poznámka:

Sheet VORN
A1: Vedlejší a ostatní rozpočtové náklady
A2: Název stavby: | C2: ='Stavební rozpočet'!C2 -> Výměna podlahy tělocvična ZŠ Hanušovice | E2: Objednatel: | F2: ='Stavební rozpočet'!I2 -> Město Hanušovice | H2: IČO/DIČ:
A4: Druh stavby: | C4: ='Stavební rozpočet'!C4 -> Oprava a udržovací práce | E4: Projektant: | F4: ='Stavební rozpočet'!I4 -> Ing.Ladislav Trčka - PROINK | H4: IČO/DIČ:
A6: Lokalita: | C6: ='Stavební rozpočet'!C6 -> Hanušovice | E6: Zhotovitel: | F6: ='Stavební rozpočet'!I6 -> 0 | H6: IČO/DIČ:
A8: Začátek výstavby: | C8: ='Stavební rozpočet'!G4 | E8: Konec výstavby: | F8: ='Stavební rozpočet'!G6 | H8: Položek: | I8: 50
A10: JKSO: | C10: ='Stavební rozpočet'!C8 | E10: Zpracoval: | F10: ='Stavební rozpočet'!I8 -> 0 | H10: Datum: | I10: ='Stavební rozpočet'!G8 -> 0
A13: Vedlejší rozpočtové náklady VRN
A14: Doplňkové náklady DN | F14: Kč | G14: % | H14: Základna | I14: Kč
A15: Práce přesčas | F15: 0 | I15: =F15 -> 0
A16: Bez pevné podl. | F16: 0 | I16: =F16 -> 0
A17: Kulturní památka | F17: 0 | I17: =F17 -> 0
A18: Celkem DN | I18: =SUM(I15:I17) -> 0
A20: Náklady na umístění stavby (NUS) | F20: Kč | G20: % | H20: Základna | I20: Kč
A21: Zařízení staveniště | F21: 0 | I21: =F21 -> 0
A22: Mimostav. doprava | F22: 0 | I22: =F22 -> 0
A23: Územní vlivy | F23: 0 | I23: =F23 -> 0
A24: Provozní vlivy | F24: 0 | I24: =F24 -> 0
A25: Ostatní | F25: 0 | I25: =F25 -> 0
A26: NUS z rozpočtu | F26: 0 | I26: =F26 -> 0
A27: Celkem NUS | I27: =SUM(I21:I26) -> 0
A29: Celkem VRN | F29: =I18+I27 -> 0
A33: Vedlejší a ostatní rozpočtové náklady VORN
A34: Ostatní rozpočtové náklady (VORN) | F34: Kč | G34: % | H34: Základna | I34: Kč
A35: Průzkumy, geodetické a projektové práce | F35: =SUM('Stavební rozpočet'!BM12:BM386) -> 0 | I35: =F35 -> 0
A36: Příprava staveniště | F36: =SUM('Stavební rozpočet'!BN12:BN386) -> 0 | I36: =F36 -> 0
A37: Zařízení staveniště | F37: =SUM('Stavební rozpočet'!BO12:BO386) -> 0 | I37: =F37 -> 0
A38: Inženýrské činnosti | F38: =SUM('Stavební rozpočet'!BP12:BP386) -> 0 | I38: =F38 -> 0
A39: Finanční náklady | F39: =SUM('Stavební rozpočet'!BQ12:BQ386) -> 0 | I39: =F39 -> 0
A40: Územní vlivy | F40: =SUM('Stavební rozpočet'!BR12:BR386) -> 0 | I40: =F40 -> 0
A41: Provozní vlivy | F41: =SUM('Stavební rozpočet'!BS12:BS386) -> 0 | I41: =F41 -> 0
A42: Náklady na pracovníky | F42: =SUM('Stavební rozpočet'!BT12:BT386) -> 0 | I42: =F42 -> 0
A43: Ostatní náklady | F43: =SUM('Stavební rozpočet'!BU12:BU386) -> 0 | I43: =F43 -> 0
A44: Vlastní VORN | F44: =SUM('Stavební rozpočet'!BV12:BV386) -> 0 | I44: =F44 -> 0
A45: Celkem VORN | I45: =SUM(I35:I44) -> 0

Sheet Stavební rozpočet
A1: Slepý stavební rozpočet | AS1: =SUM(AJ1:AJ2) -> 0 | AT1: =SUM(AK1:AK2) -> 0 | AU1: =SUM(AL1:AL2) -> 0
A2: Název stavby: | C2: Výměna podlahy tělocvična ZŠ Hanušovice | E2: Doba výstavby: | H2: Objednatel: | I2: Město Hanušovice
A4: Druh stavby: | C4: Oprava a udržovací práce | E4: Začátek výstavby: | H4: Projektant: | I4: Ing.Ladislav Trčka - PROINK
A6: Lokalita: | C6: Hanušovice | E6: Konec výstavby: | H6: Zhotovitel:
A8: JKSO: | E8: Zpracováno dne: | H8: Zpracoval:
A10: Č | B10: Kód | C10: Zkrácený popis | E10: MJ | F10: Množství | G10: Cena/MJ | H10: Náklady (Kč) | I10: Hmotnost (t) | BK10: ISWORK | BL10: GROUPCODE | BW10: VATTAX
C11: Rozměry | G11: (Kč) | H11: Celkem | I11: Jednot. | J11: Celkem | Z11: Přesuny | AA11: Typ skupiny | AB11: HSV mat | AC11: HSV prac | AD11: PSV mat | AE11: PSV prac | AF11: Mont mat | AG11: Mont prac | AH11: Ostatní mat. | BH11: MAT | BI11: WORK | BJ11: CELK
B12: 61 | C12: Úprava povrchů vnitřní | H12: =ROUND(SUM(H13:H13),0) -> 0 | J12: =SUM(J13:J13) -> 0.8027382 | AS12: =SUM(AJ13:AJ13) -> 0 | AT12: =SUM(AK13:AK13) -> 0 | AU12: =SUM(AL13:AL13) -> 0
A13: 1 | B13: 612421231RT2 | C13: Oprava vápen.omítek stěn do 10 % pl. - štukových (podklad lepených koberců) | E13: m2 | F13: 221.14 | G13: 0 | H13: =ROUND(F13*G13,0) -> 0 | I13: 0.00363 | J13: =F13*I13 -> 0.8027382 | Z13: =ROUND(IF(AQ13="5",BJ13,0),2) -> 0 | AB13: =ROUND(IF(AQ13="1",BH13,0),2) -> 0 | AC13: =ROUND(IF(AQ13="1",BI13,0),2) -> 0 | AD13: =ROUND(IF(AQ13="7",BH13,0),2) -> 0 | AE13: =ROUND(IF(AQ13="7",BI13,0),2) -> 0 | AF13: =ROUND(IF(AQ13="2",BH13,0),2) -> 0 | AG13: =ROUND(IF(AQ13="2",BI13,0),2) -> 0 | AH13: =ROUND(IF(AQ13="0",BJ13,0),2) -> 0 | AJ13: =IF(AN13=0,H13,0) -> 0 | AK13: =IF(AN13=12,H13,0) -> 0 | AL13: =IF(AN13=21,H13,0) -> 0 | AN13: 21 | AO13: =G13*0.194218346 -> 0 | AP13: =G13*(1-0.194218346) -> 0 | AQ13: 1 | AV13: =ROUND(AW13+AX13,2) -> 0 | AW13: =ROUND(F13*AO13,2) -> 0 | AX13: =ROUND(F13*AP13,2) -> 0 | AY13: 61_ | AZ13: 6_ | BA13: _ | BB13: 100013 | BC13: =AW13+AX13 -> 0 | BD13: =G13/(100-BE13)*100 -> 0 | BE13: 0 | BF13: =J13 -> 0.8027382 | BH13: =F13*AO13 -> 0 | BI13: =F13*AP13 -> 0 | BJ13: =F13*G13 -> 0 | BK13: P | BL13: 61 | BW13: 21 | BX13: Oprava vápen.omítek stěn do 10 % pl. - štukových (podklad lepených koberců)
C14: s použitím suché maltové směsi
C15: 43,5 | D15: štítová stěna se vstupy | F15: 43.5
C16: 2*5,8*0,2 | D16: ostění a nadpraží dveří | F16: 2.32
C17: 50,10 | D17: štítová stěna bez vstupů | F17: 50.1
C18: 67,0 | D18: stěna pod galerií | F18: 67
C19: 6*4,9*0,05+7,9*0,05 | D19: ostění a nadpraží dveří | F19: 1.86
C20: 40,2 | D20: stěna s okny | F20: 40.2
C21: 35,9*0,45 | D21: parapet předstěny pod okny | F21: 16.16
B22: 63 | C22: Podlahy a podlahové konstrukce | H22: =ROUND(SUM(H23:H30),0) -> 0 | J22: =SUM(J23:J30) -> 22.144984 | AS22: =SUM(AJ23:AJ30) -> 0 | AT22: =SUM(AK23:AK30) -> 0 | AU22: =SUM(AL23:AL30) -> 0
A23: 2 | B23: 635213232.001 | C23: Pokládka podlahových desek ve dvou vrstvách 2x OSB 3 4PDB tl. 12 mm, na roštu | E23: m2 | F23: 679.5 | G23: 0 | H23: =ROUND(F23*G23,0) -> 0 | I23: 0.016 | J23: =F23*I23 -> 10.872 | Z23: =ROUND(IF(AQ23="5",BJ23,0),2) -> 0 | AB23: =ROUND(IF(AQ23="1",BH23,0),2) -> 0 | AC23: =ROUND(IF(AQ23="1",BI23,0),2) -> 0 | AD23: =ROUND(IF(AQ23="7",BH23,0),2) -> 0 | AE23: =ROUND(IF(AQ23="7",BI23,0),2) -> 0 | AF23: =ROUND(IF(AQ23="2",BH23,0),2) -> 0 | AG23: =ROUND(IF(AQ23="2",BI23,0),2) -> 0 | AH23: =ROUND(IF(AQ23="0",BJ23,0),2) -> 0 | AJ23: =IF(AN23=0,H23,0) -> 0 | AK23: =IF(AN23=12,H23,0) -> 0 | AL23: =IF(AN23=21,H23,0) -> 0 | AN23: 21 | AO23: =G23*0.19101092 -> 0 | AP23: =G23*(1-0.19101092) -> 0 | AQ23: 1 | AV23: =ROUND(AW23+AX23,2) -> 0 | AW23: =ROUND(F23*AO23,2) -> 0 | AX23: =ROUND(F23*AP23,2) -> 0 | AY23: 63_ | AZ23: 6_ | BA23: _ | BB23: 100009 | BC23: =AW23+AX23 -> 0 | BD23: =G23/(100-BE23)*100 -> 0 | BE23: 0 | BF23: =J23 -> 10.872 | BH23: =F23*AO23 -> 0 | BI23: =F23*AP23 -> 0 | BJ23: =F23*G23 -> 0 | BK23: P | BL23: 63 | BW23: 21 | BX23: Pokládka podlahových desek ve dvou vrstvách 2x OSB 3 4PDB tl. 12 mm, na roštu
C24: desky vzájemně celoplošně lepené a sešroubované, lepené spoje
C25: 632,5 | D25: tělocvična (generovaná výměry) | F25: 632.5
C26: 47,0 | D26: nářaďovna (generovaná výměra) | F26: 47
A27: 3 | B27: 60726010.A | C27: Deska dřevoštěpková OSB 3, 4PD tl. 12 mm, nebroušená | E27: m2 | F27: 713.48 | G27: 0 | H27: =ROUND(F27*G27,0) -> 0 | I27: 0.0079 | J27: =F27*I27 -> 5.636492 | Z27: =ROUND(IF(AQ27="5",BJ27,0),2) -> 0 | AB27: =ROUND(IF(AQ27="1",BH27,0),2) -> 0 | AC27: =ROUND(IF(AQ27="1",BI27,0),2) -> 0 | AD27: =ROUND(IF(AQ27="7",BH27,0),2) -> 0 | AE27: =ROUND(IF(AQ27="7",BI27,0),2) -> 0 | AF27: =ROUND(IF(AQ27="2",BH27,0),2) -> 0 | AG27: =ROUND(IF(AQ27="2",BI27,0),2) -> 0 | AH27: =ROUND(IF(AQ27="0",BJ27,0),2) -> 0 | AJ27: =IF(AN27=0,H27,0) -> 0 | AK27: =IF(AN27=12,H27,0) -> 0 | AL27: =IF(AN27=21,H27,0) -> 0 | AN27: 21 | AO27: =G27*1 -> 0 | AP27: =G27*(1-1) -> 0 | AQ27: 1 | AV27: =ROUND(AW27+AX27,2) -> 0 | AW27: =ROUND(F27*AO27,2) -> 0 | AX27: =ROUND(F27*AP27,2) -> 0 | AY27: 63_ | AZ27: 6_ | BA27: _ | BC27: =AW27+AX27 -> 0 | BD27: =G27/(100-BE27)*100 -> 0 | BE27: 0 | BF27: =J27 -> 5.636492 | BH27: =F27*AO27 -> 0 | BI27: =F27*AP27 -> 0 | BJ27: =F27*G27 -> 0 | BK27: M | BL27: 63 | BW27: 21 | BX27: Deska dřevoštěpková OSB 3, 4PD tl. 12 mm, nebroušená
C28: 679,5 | F28: 679.5
C29: ;ztratné 5%; 33,975 | F29: 33.98
A30: 4 | B30: 60726010.B | C30: Deska dřevoštěpková OSB 3, 4PD tl. 12 mm, broušená | E30: m2 | F30: 713.48 | G30: 0 | H30: =ROUND(F30*G30,0) -> 0 | I30: 0.0079 | J30: =F30*I30 -> 5.636492 | Z30: =ROUND(IF(AQ30="5",BJ30,0),2) -> 0 | AB30: =ROUND(IF(AQ30="1",BH30,0),2) -> 0 | AC30: =ROUND(IF(AQ30="1",BI30,0),2) -> 0 | AD30: =ROUND(IF(AQ30="7",BH30,0),2) -> 0 | AE30: =ROUND(IF(AQ30="7",BI30,0),2) -> 0 | AF30: =ROUND(IF(AQ30="2",BH30,0),2) -> 0 | AG30: =ROUND(IF(AQ30="2",BI30,0),2) -> 0 | AH30: =ROUND(IF(AQ30="0",BJ30,0),2) -> 0 | AJ30: =IF(AN30=0,H30,0) -> 0 | AK30: =IF(AN30=12,H30,0) -> 0 | AL30: =IF(AN30=21,H30,0) -> 0 | AN30: 21 | AO30: =G30*1 -> 0 | AP30: =G30*(1-1) -> 0 | AQ30: 1 | AV30: =ROUND(AW30+AX30,2) -> 0 | AW30: =ROUND(F30*AO30,2) -> 0 | AX30: =ROUND(F30*AP30,2) -> 0 | AY30: 63_ | AZ30: 6_ | BA30: _ | BC30: =AW30+AX30 -> 0 | BD30: =G30/(100-BE30)*100 -> 0 | BE30: 0 | BF30: =J30 -> 5.636492 | BH30: =F30*AO30 -> 0 | BI30: =F30*AP30 -> 0 | BJ30: =F30*G30 -> 0 | BK30: M | BL30: 63 | BW30: 21 | BX30: Deska dřevoštěpková OSB 3, 4PD tl. 12 mm, broušená
C31: 679,5 | F31: 679.5
C32: ;ztratné 5%; 33,975 | F32: 33.98
B33: 762 | C33: Konstrukce tesařské | H33: =ROUND(SUM(H34:H56),0) -> 0 | J33: =SUM(J34:J56) -> 19.546526 | AS33: =SUM(AJ34:AJ56) -> 0 | AT33: =SUM(AK34:AK56) -> 0 | AU33: =SUM(AL34:AL56) -> 0
A34: 5 | B34: 762526110.001 | C34: Položení polštářů pod podlahy rozteče 500 mm | E34: m2 | F34: 679.5 | G34: 0 | H34: =ROUND(F34*G34,0) -> 0 | I34: 0 | J34: =F34*I34 -> 0 | Z34: =ROUND(IF(AQ34="5",BJ34,0),2) -> 0 | AB34: =ROUND(IF(AQ34="1",BH34,0),2) -> 0 | AC34: =ROUND(IF(AQ34="1",BI34,0),2) -> 0 | AD34: =ROUND(IF(AQ34="7",BH34,0),2) -> 0 | AE34: =ROUND(IF(AQ34="7",BI34,0),2) -> 0 | AF34: =ROUND(IF(AQ34="2",BH34,0),2) -> 0 | AG34: =ROUND(IF(AQ34="2",BI34,0),2) -> 0 | AH34: =ROUND(IF(AQ34="0",BJ34,0),2) -> 0 | AJ34: =IF(AN34=0,H34,0) -> 0 | AK34: =IF(AN34=12,H34,0) -> 0 | AL34: =IF(AN34=21,H34,0) -> 0 | AN34: 21 | AO34: =G34*0 -> 0 | AP34: =G34*(1-0) -> 0 | AQ34: 7 | AV34: =ROUND(AW34+AX34,2) -> 0 | AW34: =ROUND(F34*AO34,2) -> 0 | AX34: =ROUND(F34*AP34,2) -> 0 | AY34: 762_ | AZ34: 76_ | BA34: _ | BB34: 100012 | BC34: =AW34+AX34 -> 0 | BD34: =G34/(100-BE34)*100 -> 0 | BE34: 0 | BF34: =J34 -> 0 | BH34: =F34*AO34 -> 0 | BI34: =F34*AP34 -> 0 | BJ34: =F34*G34 -> 0 | BK34: P | BL34: 762 | BW34: 21 | BX34: Položení polštářů pod podlahy rozteče 500 mm
C35: spodní desky křížového roštu
C36: 679,5 | F36: 679.5
A37: 6 | B37: 762526110.002 | C37: Položení polštářů pod podlahy rozteče 277,8 mm | E37: m2 | F37: 679.5 | G37: 0 | H37: =ROUND(F37*G37,0) -> 0 | I37: 0 | J37: =F37*I37 -> 0 | Z37: =ROUND(IF(AQ37="5",BJ37,0),2) -> 0 | AB37: =ROUND(IF(AQ37="1",BH37,0),2) -> 0 | AC37: =ROUND(IF(AQ37="1",BI37,0),2) -> 0 | AD37: =ROUND(IF(AQ37="7",BH37,0),2) -> 0 | AE37: =ROUND(IF(AQ37="7",BI37,0),2) -> 0 | AF37: =ROUND(IF(AQ37="2",BH37,0),2) -> 0 | AG37: =ROUND(IF(AQ37="2",BI37,0),2) -> 0 | AH37: =ROUND(IF(AQ37="0",BJ37,0),2) -> 0 | AJ37: =IF(AN37=0,H37,0) -> 0 | AK37: =IF(AN37=12,H37,0) -> 0 | AL37: =IF(AN37=21,H37,0) -> 0 | AN37: 21 | AO37: =G37*0 -> 0 | AP37: =G37*(1-0) -> 0 | AQ37: 7 | AV37: =ROUND(AW37+AX37,2) -> 0 | AW37: =ROUND(F37*AO37,2) -> 0 | AX37: =ROUND(F37*AP37,2) -> 0 | AY37: 762_ | AZ37: 76_ | BA37: _ | BB37: 100012 | BC37: =AW37+AX37 -> 0 | BD37: =G37/(100-BE37)*100 -> 0 | BE37: 0 | BF37: =J37 -> 0 | BH37: =F37*AO37 -> 0 | BI37: =F37*AP37 -> 0 | BJ37: =F37*G37 -> 0 | BK37: P | BL37: 762 | BW37: 21 | BX37: Položení polštářů pod podlahy rozteče 277,8 mm
C38: horní desky křížového roštu
C39: 679,5 | F39: 679.5
A40: 7 | B40: 60511081 | C40: Prkna sušená (vlhkost max.18%) SM/BO jakost II tl. 22 mm, š. 100 mm, 3 - 6 m | E40: m3 | F40: 8.13 | G40: 0 | H40: =ROUND(F40*G40,0) -> 0 | I40: 0.55 | J40: =F40*I40 -> 4.4715 | Z40: =ROUND(IF(AQ40="5",BJ40,0),2) -> 0 | AB40: =ROUND(IF(AQ40="1",BH40,0),2) -> 0 | AC40: =ROUND(IF(AQ40="1",BI40,0),2) -> 0 | AD40: =ROUND(IF(AQ40="7",BH40,0),2) -> 0 | AE40: =ROUND(IF(AQ40="7",BI40,0),2) -> 0 | AF40: =ROUND(IF(AQ40="2",BH40,0),2) -> 0 | AG40: =ROUND(IF(AQ40="2",BI40,0),2) -> 0 | AH40: =ROUND(IF(AQ40="0",BJ40,0),2) -> 0 | AJ40: =IF(AN40=0,H40,0) -> 0 | AK40: =IF(AN40=12,H40,0) -> 0 | AL40: =IF(AN40=21,H40,0) -> 0 | AN40: 21 | AO40: =G40*1 -> 0 | AP40: =G40*(1-1) -> 0 | AQ40: 7 | AV40: =ROUND(AW40+AX40,2) -> 0 | AW40: =ROUND(F40*AO40,2) -> 0 | AX40: =ROUND(F40*AP40,2) -> 0 | AY40: 762_ | AZ40: 76_ | BA40: _ | BC40: =AW40+AX40 -> 0 | BD40: =G40/(100-BE40)*100 -> 0 | BE40: 0 | BF40: =J40 -> 4.4715 | BH40: =F40*AO40 -> 0 | BI40: =F40*AP40 -> 0 | BJ40: =F40*G40 -> 0 | BK40: M | BL40: 762 | BW40: 21 | BX40: Prkna sušená (vlhkost max.18%) SM/BO jakost II tl. 22 mm, š. 100 mm, 3 - 6 m
C41: 17,05*0,1*0,022*35,9/0,5 | D41: spodní desky křížového roštu | F41: 2.69
C42: 35,9*0,1*0,022*17,05/0,278 | D42: horní desky křížového roštu | F42: 4.84
C43: ;ztratné 8%; 0,6024 | F43: 0.6
A44: 8 | B44: 762595000R00 | C44: Spojovací a ochranné prostředky k položení podlah | E44: m3 | F44: 7.53 | G44: 0 | H44: =ROUND(F44*G44,0) -> 0 | I44: 0.00295 | J44: =F44*I44 -> 0.0222135 | Z44: =ROUND(IF(AQ44="5",BJ44,0),2) -> 0 | AB44: =ROUND(IF(AQ44="1",BH44,0),2) -> 0 | AC44: =ROUND(IF(AQ44="1",BI44,0),2) -> 0 | AD44: =ROUND(IF(AQ44="7",BH44,0),2) -> 0 | AE44: =ROUND(IF(AQ44="7",BI44,0),2) -> 0 | AF44: =ROUND(IF(AQ44="2",BH44,0),2) -> 0 | AG44: =ROUND(IF(AQ44="2",BI44,0),2) -> 0 | AH44: =ROUND(IF(AQ44="0",BJ44,0),2) -> 0 | AJ44: =IF(AN44=0,H44,0) -> 0 | AK44: =IF(AN44=12,H44,0) -> 0 | AL44: =IF(AN44=21,H44,0) -> 0 | AN44: 21 | AO44: =G44*1.000046702 -> 0 | AP44: =G44*(1-1.000046702) -> 0 | AQ44: 7 | AV44: =ROUND(AW44+AX44,2) -> 0 | AW44: =ROUND(F44*AO44,2) -> 0 | AX44: =ROUND(F44*AP44,2) -> 0 | AY44: 762_ | AZ44: 76_ | BA44: _ | BB44: 100012 | BC44: =AW44+AX44 -> 0 | BD44: =G44/(100-BE44)*100 -> 0 | BE44: 0 | BF44: =J44 -> 0.0222135 | BH44: =F44*AO44 -> 0 | BI44: =F44*AP44 -> 0 | BJ44: =F44*G44 -> 0 | BK44: P | BL44: 762 | BW44: 21 | BX44: Spojovací a ochranné prostředky k položení podlah
...
