Workbook

Sheet Výkaz výměr
A2: Výkaz Výměr
A4: Výsyp nádob
A6: Sběrné nádoby na SKO | B6: Četnost vývozu** | C6: Jednotková cena bez DPH (za jeden výsyp jedné nádoby)*
A7: 120 l | B7: různá
A8: 1 100 l | B8: různá
A10: *cena zahrnuje veškeré činnosti stanovené v zadávací dokumentace, s výjimkou činností, které jsou oceněny samostatně, účastník je oprávněn ocenit položku nulou, případně záporným číslem, záporně oceněná položka bude chápana jako platba zadavateli za převzaté odpady .
A11: ** zadavatel si vyhrazuje právo upravovat četnost svozu dle aktuálních potřeb a požadavků občanů města, případně realizovat vývoz na výzvu
A14: Výkaz výměr - pronájem nádob
A16: Pronájem nádob | B16: Jednotka | C16: Jednotková cena bez DPH za pronájem jedné nádoby, kontejneru za měsíc
A17: 120 l | B17: 1 kus / měsíc
A18: 1 100 l | B18: 1 kus / měsíc
A21: Výkaz výměr - mytí nádob
A23: Mytí nádob | B23: Jednotka | C23: Jednotková cena bez DPH za mytí jedné nádoby
A24: 120 l | B24: 1 kus
A25: 1 100 l | B25: 1 kus
A28: Výkaz výměr - Spotřební materiál
A30: Dodání spotřebního materiálu | B30: Jednotka | C30: Jednotková cena bez DPH za 1 ks
A31: Pytle na SKO – 60 l | B31: kus
A32: Pytle na SKO – 120 l | B32: kus
A33: Známka na nádobu | B33: kus
A37: Výkaz výměr - Odpad - nakládání
A39: Cena za nakládání s odpady v rámci svozu SKO a separovaných odpadů
A40: Odpad – nakládání* | B40: Jednotkové množství | C40: Jednotková cena bez DPH (za 1 t)**
A41: Směsný komunální odpad (kat. č. 200301)** - skládkování | B41: t
A42: Směsný komunální odpad (kat. č. 20 03 01) - jiné nakládání než skládkování | B42: t
A43: Poplatek za uložení odpadu na skládku | B43: t | C43: v zákonné výši
A44: * cena zahrnuje pouze nakládání s odpady, ostatní náklady spojené s výsypem nádob na SKO jsou zahrnuty v jednotkové ceně za výsyp nádob, účastník je oprávněn ocenit položku nulou, případně záporným číslem, záporně oceněná položka bude chápana jako platba zadavateli za převzaté odpady.
A45: ** ceny jsou uvedeny bez poplatku za uložení odpadu na skládku, poplatek bude k ceně připočten v aktuální výši dle zákona.
A49: Uchazeč uvede jakým jiným způsobem než skládkováním bude nakládat se Směsným komunálním odpadem:

Sheet Celkové náklady
A4: Nabídková cena dle výkazu výměr - Stanovení nabídkové ceny
A7: Cena celkem za rok 2027 bez DPH (Kč) | C7: ='Stanovení ceny '!C89 -> 702660
A8: Výše DPH za rok 2027 (Kč)
A9: Cena celkem za rok 2027 včetně DPH (Kč) | C9: =C7+C8 -> 702660
A11: Cena celkem za rok 2028 bez DPH (Kč) | C11: ='Stanovení ceny '!D89 -> 942586
A12: Výše DPH za rok 2028 (Kč)
A13: Cena celkem za rok 2028 včetně DPH (Kč) | C13: =C11+C12 -> 942586
A15: Cena celkem za rok 2029 bez DPH (Kč) | C15: ='Stanovení ceny '!E89 -> 1034328
A16: Výše DPH za rok 2029 (Kč)
A17: Cena celkem za rok 2029 včetně DPH (Kč) | C17: =C15+C16 -> 1034328
A20: Nabídková cena bez DPH v Kč za 34 měsíců | C20: =C7+C11+C15 -> 2679574
A22: Výše DPH v Kč za 34 měsíců | C22: =C8+C12+C16 -> 0
A24: Nabídková cena včetně DPH v Kč za 34 měsíců | C24: =C20+C22 -> 2679574
A26: * Za správnost stanovené sazby DPH nese odpovědnost účastník zadávacího řízení.
A32: Návod pro vyplnění: účastník vyplní pouze vyznačená, tzn. odemčená a podbarvená pole - žlutě, na všech záložkách
A39: Účastník:

Sheet Stanovení ceny 
A2: Výkaz výměr - stanovení nabídkové ceny
A5: Vývoz nádob - SKO
A7: Objem sběrných nádob | B7: Počet nádob | C7: Počet svozů / rok | D7: Jednotková cena bez DPH (za jeden výsyp jedné nádoby) | E7: Cena za vývoz celkem bez DPH
A8: 120 l | B8: 359 | C8: 52 | D8: =('Výkaz výměr'!C7) -> 0 | E8: =B8*C8*D8 -> 0
A9: 120 l | B9: 16 | C9: 43 | D9: =('Výkaz výměr'!C7) -> 0 | E9: =B9*C9*D9 -> 0
A10: 120 l | B10: 1145 | C10: 26 | D10: =('Výkaz výměr'!C7) -> 0 | E10: =B10*C10*D10 -> 0
A11: 120 l | B11: 445 | C11: 13 | D11: =('Výkaz výměr'!C7) -> 0 | E11: =B11*C11*D11 -> 0
A12: 1 100 l | B12: 50 | C12: 52 | D12: =('Výkaz výměr'!C8) -> 0 | E12: =B12*C12*D12 -> 0
A13: 1 100 l | B13: 7 | C13: 26 | D13: =('Výkaz výměr'!C8) -> 0 | E13: =B13*C13*D13 -> 0
A14: Celkem vývoz nádob SKO | E14: =SUM(E8:E13) -> 0
A18: Pronájem nádob
A20: Nádoba | B20: Počet nádob | C20: Délka pronájmu / měsíc | D20: Jednotková cena bez DPH za pronájem jedné nádoby (kontejneru) za měsíc | E20: Cena za pronájem nádob celkem za rok bez DPH
A21: 120 l | B21: 1966 | C21: 12 | D21: =('Výkaz výměr'!C17) -> 0 | E21: =B21*C21*D21 -> 0
A22: 1 100 l | B22: 57 | C22: 12 | D22: =('Výkaz výměr'!C18) -> 0 | E22: =B22*C22*D22 -> 0
A23: Celkem | E23: =SUM(E21:E22) -> 0
A26: Mytí nádob
A28: Nádoba | B28: Počet nádob | C28: počet mytí za rok | D28: Jednotková cena bez DPH za mytí jedné nádoby (kontejneru) za měsíc | E28: Cena za mytí nádob celkem za rok bez DPH
A29: 120 l | B29: 1966 | C29: 1 | D29: =('Výkaz výměr'!C24) -> 0 | E29: =B29*C29*D29 -> 0
A30: 1 100 l | B30: 57 | C30: 1 | D30: =('Výkaz výměr'!C25) -> 0 | E30: =B30*C30*D30 -> 0
A31: Celkem | E31: =SUM(E29:E30) -> 0
A35: Dodání spotřebního materiálu
A37: Dodávka | B37: počet / ks / rok | C37: Jednotková cena bez DPH za 1 kus | D37: Cena za rok
A38: Pytle na SKO – 60 l | B38: 250 | C38: =('Výkaz výměr'!C31) -> 0 | D38: =B38*C38 -> 0
A39: Pytle na SKO – 120 l | B39: 2000 | C39: =('Výkaz výměr'!C32) -> 0 | D39: =B39*C39 -> 0
A40: Známka na nádobu | B40: 2100 | C40: =('Výkaz výměr'!C33) -> 0 | D40: =B40*C40 -> 0
A41: Dodání materiálu - celkem | D41: =SUM(D38:D40) -> 0
A47: Nakládání s SKO
A49: Množství produkovaného SKO * | B49: 1050
A51: *jedná se o předpokládané (pro stanovení nabídkové ceny závazné) množství odpadu 1050 t (kód 200301), jehož produkce se předpokládá a které by mohlo být uloženo na skládce. V případě, že uchazeč bude s převzatým odpadem nakládat jiným konečným způsobem než skládkováním, (např. energetické využití), pak je oprávněn o toto množství výše uvednou hodnotu ponížit, (doplní ho do podžluceného pole) což se promítne do řádku Poplatek za skládkování. Uchazeč současně do nabídky uvede jakým jiným způsobem bude s odpadem (kód 200301) nakládat a toto sdělení (zejména množství odpadů 200301, které nebude skládkováno) bude pro uchazeče závazné a bude zapracováno do smlouvy o dílo před jejím podpisem.
A54: ROK: | C54: 2027 | D54: 2028 | E54: 2029
A55: Cena za nakládání | B55: Množství skládkovného odpadu | C55: =C56 -> 875 | D55: =D56 -> 1050 | E55: =E56 -> 1050
B56: Směsný komunální odpad (kat. č. 20 03 01) - skládkování | C56: =(B49-C59)/12*10 -> 875 | D56: =(B49-D59) -> 1050 | E56: =(B49-E59) -> 1050
B57: Jednotková cena za 1 t | C57: =('Výkaz výměr'!C41) -> 0 | D57: =('Výkaz výměr'!C41) -> 0 | E57: =('Výkaz výměr'!C41) -> 0
B58: Cena za nakládání | C58: =C57*C56 -> 0 | D58: =D57*D56 -> 0 | E58: =E57*E56 -> 0
B59: Směsný komunální odpad (kat. č. 20 03 01) - jiné nakládání než skládkování | C59: 0 | D59: 0 | E59: 0 | F59: Lze uvést 0 až 1050 t, pro rok 2027 jen 0 až 875
B60: Jednotková cena za 1 t | C60: =('Výkaz výměr'!C42) -> 0 | D60: =('Výkaz výměr'!C42) -> 0 | E60: =('Výkaz výměr'!C42) -> 0
B61: Cena za nakládání | C61: =C60*C59 -> 0 | D61: =D60*D59 -> 0 | E61: =E60*E59 -> 0
B62: Cena za nakládání s SKO celkem | C62: =C58+C61 -> 0 | D62: =D58+D61 -> 0 | E62: =E58+E61 -> 0
A65: Počet obyvatel obce: | B65: 5606
B68: Množství skládkovaného SKO | C68: =C55 -> 875 | D68: =D55 -> 1050 | E68: =E55 -> 1050
A70: ROK: | C70: 2027 | D70: 2028 | E70: 2029
A71: Poplatek za skládkování | B71: Limit pro slevu (t/obyv) | C71: =(0.14/12*10) -> 0.11666667 | D71: 0.13 | E71: 0.12
B72: Poplatek se slevou za 1 t | C72: 500 | D72: 500 | E72: 500
B73: Max. množství odpadu se slevou (t): | C73: =B65*C71 -> 654.03333 | D73: =B65*D71 -> 728.78 | E73: =B65*E71 -> 672.72
B74: Množství odpadu se slevou (t): | C74: =IF(C68<C$73,C68,C$73) -> 654.03333 | D74: =IF(D68<D$73,D68,D$73) -> 728.78 | E74: =IF(E68<E$73,E68,E$73) -> 672.72
B75: Poplatek bez slevy za 1 t | C75: 1700 | D75: 1800 | E75: 1850
B76: Max. množství odpadu bez slevy (t): | C76: =C68-B65*C71 -> 220.96667 | D76: =D68-B65*D71 -> 321.22 | E76: =E68-B65*E71 -> 377.28
B77: Množství odpadu bez slevy (t): | C77: =IF(C$76<0,0,C$76) -> 220.96667 | D77: =IF(D$76<0,0,D$76) -> 321.22 | E77: =IF(E$76<0,0,E$76) -> 377.28
B79: Výše poplatku se slevou (§157) | C79: =(C74*C72) -> 327016.67 | D79: =(D74*D72) -> 364390 | E79: =(E74*E72) -> 336360
B80: Ostatní - poplatek bez slevy | C80: =C77*C75 -> 375643.33 | D80: =D77*D75 -> 578196 | E80: =E77*E75 -> 697968
B81: Poplatek za skládkování celkem | C81: =SUM(C79:C80) -> 702660 | D81: =SUM(D79:D80) -> 942586 | E81: =SUM(E79:E80) -> 1034328
B83: Vývoz nádob SKO | C83: =$E14 -> 0 | D83: =$E14 -> 0 | E83: =$E14 -> 0
B84: Pronájem nádob | C84: =$E23 -> 0 | D84: =$E23 -> 0 | E84: =$E23 -> 0
B85: Mytí nádob | C85: =$E31 -> 0 | D85: =$E31 -> 0 | E85: =$E31 -> 0
B86: Nákup spotřebního vybavení | C86: =D41 -> 0 | D86: =D41 -> 0 | E86: =D41 -> 0
B87: Nakládání s SKO | C87: =C62 -> 0 | D87: =D62 -> 0 | E87: =E62 -> 0
B88: Poplatek za skládkování | C88: =C81 -> 702660 | D88: =D81 -> 942586 | E88: =E81 -> 1034328
B89: Cena celkem za rok* | C89: =SUM(C83:C88) -> 702660 | D89: =SUM(D83:D88) -> 942586 | E89: =SUM(E83:E88) -> 1034328
