Workbook
Name GROUP_ID: [1]Zakázka!$B$6:$B$188
Name ITEM_PRICES: [1]Zakázka!$J$6:$J$188

Sheet Rekapitulace
B2: REKAPITULACE STAVEBNÍCH NÁKLADŮ - ZŠ M. CHOCEŇSKÉHO, KOLLÁROVA 688, CHOCEŇ
C3: NÁVRH ÚPRAV HYGIENICKÉHO ZÁZEMÍ
B6: D.1.1 ARCHITEKTONICKO STAVEBNÍ ŘEŠENÍ | D6: ='Arch stav'!J30 -> 0
B8: D.1.4.1 SVĚTELNÉ A SILNOPROUDÉ ROZVODY | D8: ='Světel. a silnop. rozvody'!J6 -> 0
B10: D.1.4.2_ZTI | D10: =Zti!J28 -> 0
B12: D.1.4.4 VZDUCHOTECHNIKA | D12: =Vzduchotechnika!G15 -> 0
B18: VEDLEJŠÍ A OSTATNÍ NÁKLADY | D18: =VRN!J102 -> 0
B21: CELKEM (KČ, BEZ DPH) | D21: =D6+D8+D10+D12+D14+D16+D18 -> 0
B23: DPH 21% | D23: =D21*0.21 -> 0

Sheet Arch stav
L2: >> skryté sloupce << | AT2: {ef71b03c-45b6-4669-a277-cef3501a08ec}
AT3: 2
D4: KRYCÍ LIST SOUPISU PRACÍ | M4: v --- níže se nacházejí doplnkové a pomocné údaje k sestavám --- v | AT4: False
D6: Stavba:
E7: Choceň - rekonstrukce ZŠ M. Choceňského
D9: KSO: | I9: CC-CZ:
D10: Místo: | I10: Datum: | J10: 19. 6. 2025
D12: Zadavatel: | I12: IČ:
I13: DIČ:
D15: Uchazeč: | I15: IČ: | J15: Vyplň údaj
E16: Vyplň údaj | I16: DIČ: | J16: Vyplň údaj
D18: Projektant: | I18: IČ:
I19: DIČ:
D21: Zpracovatel: | I21: IČ:
I22: DIČ:
D24: Poznámka:
D28: Náklady z rozpočtu | J28: =J94 -> 0
D29: Ostatní náklady | J29: =J112 -> 0
D30: Cena bez DPH | J30: =ROUND(J28 + J29, 2) -> 0
F32: Základ daně | I32: Sazba daně | J32: Výše daně
D33: DPH | E33: základní | F33: =ROUND((SUM(BE112:BE119) + SUM(BE137:BE223)), 2) -> 0 | I33: 0.21 | J33: =ROUND(((SUM(BE112:BE119) + SUM(BE137:BE223))*I33), 2) -> 0
E34: snížená | F34: =ROUND((SUM(BF112:BF119) + SUM(BF137:BF223)), 2) -> 0 | I34: 0.12 | J34: =ROUND(((SUM(BF112:BF119) + SUM(BF137:BF223))*I34), 2) -> 0
E35: zákl. přenesená | F35: =ROUND((SUM(BG112:BG119) + SUM(BG137:BG223)), 2) -> 0 | I35: 0.21 | J35: =0 -> 0
E36: sníž. přenesená | F36: =ROUND((SUM(BH112:BH119) + SUM(BH137:BH223)), 2) -> 0 | I36: 0.12 | J36: =0 -> 0
E37: nulová | F37: =ROUND((SUM(BI112:BI119) + SUM(BI137:BI223)), 2) -> 0 | I37: 0 | J37: =0 -> 0
D39: Cena s DPH | G39: v | H39: CZK | J39: =SUM(J30:J37) -> 0
D50: Projektant | G50: Zpracovatel
D61: Datum a podpis: | F61: Razítko | G61: Datum a podpis: | J61: Razítko
D65: Objednavatel | G65: Uchazeč
D76: Datum a podpis: | F76: Razítko | G76: Datum a podpis: | J76: Razítko
C82: REKAPITULACE ČLENĚNÍ SOUPISU PRACÍ
C84: Stavba:
E85: =E7 -> Choceň - rekonstrukce ZŠ M. Choceňského
C87: Místo: | F87: =F10 | I87: Datum: | J87: =IF(J10="","",J10) -> 19. 6. 2025
C89: Zadavatel: | F89: =E13 | I89: Projektant: | J89: =E19
C90: Uchazeč: | F90: =IF(E16="","",E16) -> Vyplň údaj | I90: Zpracovatel: | J90: =E22
C92: Kód dílu - Popis | J92: Cena celkem [CZK]
C94: 1) Náklady ze soupisu prací | J94: =J137 -> 0 | AU94: -1
D95: HSV - Práce a dodávky HSV | J95: =J138 -> 0
D96: 3 - Svislé a kompletní konstrukce | J96: =J139 -> 0
D97: 4 - Vodorovné konstrukce | J97: =J142 -> 0
D98: 6 - Úpravy povrchů, podlahy a osazování výplní | J98: =J144 -> 0
D99: 9 - Ostatní konstrukce a práce, bourání | J99: =J161 -> 0
D100: 997 - Doprava suti a vybouraných hmot | J100: =J171 -> 0
D101: 998 - Přesun hmot | J101: =J178 -> 0
D102: PSV - Práce a dodávky PSV | J102: =J181 -> 0
D103: 766 - Konstrukce truhlářské | J103: =J182 -> 0
D104: 771 - Podlahy z dlaždic | J104: =J193 -> 0
D105: 781 - Dokončovací práce - obklady | J105: =J201 -> 0
D106: 784 - Dokončovací práce - malby a tapety | J106: =J208 -> 0
D107: VRN - Vedlejší rozpočtové náklady | J107: =J219 -> 0
D108: VRN4 - Inženýrská činnost | J108: =J220 -> 0
D109: VRN7 - Provozní vlivy | J109: =J222 -> 0
C112: 2) Ostatní náklady | J112: =ROUND(J113 + J114 + J115 + J116 + J117 + J118,2) -> 0 | N112: DPH
D113: Zařízení staveniště | J113: 0 | N113: základní | AY113: VRN | BE113: =IF(N113="základní",J113,0) -> 0 | BF113: =IF(N113="snížená",J113,0) -> 0 | BG113: =IF(N113="zákl. přenesená",J113,0) -> 0 | BH113: =IF(N113="sníž. přenesená",J113,0) -> 0 | BI113: =IF(N113="nulová",J113,0) -> 0 | BJ113: 1
D114: Projektové práce | J114: 0 | N114: základní | AY114: VRN | BE114: =IF(N114="základní",J114,0) -> 0 | BF114: =IF(N114="snížená",J114,0) -> 0 | BG114: =IF(N114="zákl. přenesená",J114,0) -> 0 | BH114: =IF(N114="sníž. přenesená",J114,0) -> 0 | BI114: =IF(N114="nulová",J114,0) -> 0 | BJ114: 1
D115: Územní vlivy | J115: 0 | N115: základní | AY115: VRN | BE115: =IF(N115="základní",J115,0) -> 0 | BF115: =IF(N115="snížená",J115,0) -> 0 | BG115: =IF(N115="zákl. přenesená",J115,0) -> 0 | BH115: =IF(N115="sníž. přenesená",J115,0) -> 0 | BI115: =IF(N115="nulová",J115,0) -> 0 | BJ115: 1
D116: Provozní vlivy | J116: 0 | N116: základní | AY116: VRN | BE116: =IF(N116="základní",J116,0) -> 0 | BF116: =IF(N116="snížená",J116,0) -> 0 | BG116: =IF(N116="zákl. přenesená",J116,0) -> 0 | BH116: =IF(N116="sníž. přenesená",J116,0) -> 0 | BI116: =IF(N116="nulová",J116,0) -> 0 | BJ116: 1
D117: Jiné VRN | J117: 0 | N117: základní | AY117: VRN | BE117: =IF(N117="základní",J117,0) -> 0 | BF117: =IF(N117="snížená",J117,0) -> 0 | BG117: =IF(N117="zákl. přenesená",J117,0) -> 0 | BH117: =IF(N117="sníž. přenesená",J117,0) -> 0 | BI117: =IF(N117="nulová",J117,0) -> 0 | BJ117: 1
D118: Kompletační činnost | J118: =ROUND(J28*T118,2) -> 0 | N118: základní | AY118: KOMPLETACNA | BE118: =IF(N118="základní",J118,0) -> 0 | BF118: =IF(N118="snížená",J118,0) -> 0 | BG118: =IF(N118="zákl. přenesená",J118,0) -> 0 | BH118: =IF(N118="sníž. přenesená",J118,0) -> 0 | BI118: =IF(N118="nulová",J118,0) -> 0 | BJ118: 1
C120: Celkové náklady za stavbu 1) + 2) | J120: =ROUND(J94+J112,2) -> 0
C126: SOUPIS PRACÍ
C128: Stavba:
E129: =E7 -> Choceň - rekonstrukce ZŠ M. Choceňského
C131: Místo: | F131: =F10 | I131: Datum: | J131: =IF(J10="","",J10) -> 19. 6. 2025
C133: Zadavatel: | F133: =E13 | I133: Projektant: | J133: =E19
C134: Uchazeč: | F134: =IF(E16="","",E16) -> Vyplň údaj | I134: Zpracovatel: | J134: =E22
C136: PČ | D136: Typ | E136: Kód | F136: Popis | G136: MJ | H136: Množství | I136: J.cena [CZK] | J136: Cena celkem [CZK] | K136: Cenová soustava | N136: DPH | O136: J. Nh [h] | P136: Nh celkem [h] | Q136: J. hmotnost [t] | R136: Hmotnost celkem [t] | S136: J. suť [t] | T136: Suť Celkem [t]
C137: Náklady soupisu celkem | J137: =BK137 -> 0 | P137: =P138+P181+P219 -> 0 | R137: =R138+R181+R219 -> 75.179976 | T137: =T138+T181+T219 -> 69.54203 | AT137: D | AU137: -1 | BK137: =BK138+BK181+BK219 -> 0
D138: D | E138: HSV | F138: Práce a dodávky HSV | J138: =BK138 -> 0 | P138: =P139+P142+P144+P161+P171+P178 -> 0 | R138: =R139+R142+R144+R161+R171+R178 -> 61.456516 | T138: =T139+T142+T144+T161+T171+T178 -> 63.0116 | AR138: 1 | AT138: D | AU138: 0 | AY138: ROZPOCET | BK138: =BK139+BK142+BK144+BK161+BK171+BK178 -> 0
D139: D | E139: 3 | F139: Svislé a kompletní konstrukce | J139: =BK139 -> 0 | P139: =SUM(P140:P141) -> 0 | R139: =SUM(R140:R141) -> 4.549854 | T139: =SUM(T140:T141) -> 0 | AR139: 1 | AT139: D | AU139: 1 | AY139: ROZPOCET | BK139: =SUM(BK140:BK141) -> 0
C140: 1 | D140: K | E140: 342272225 | F140: Příčka z pórobetonových hladkých tvárnic na tenkovrstvou maltu tl 100 mm | G140: m2 | H140: 44.2 | J140: =ROUND(I140*H140,2) -> 0 | N140: základní | P140: =O140*H140 -> 0 | Q140: 0.06172 | R140: =Q140*H140 -> 2.728024 | S140: 0 | T140: =S140*H140 -> 0 | AR140: 4 | AT140: K | AU140: 2 | AY140: ROZPOCET | BE140: =IF(N140="základní",J140,0) -> 0 | BF140: =IF(N140="snížená",J140,0) -> 0 | BG140: =IF(N140="zákl. přenesená",J140,0) -> 0 | BH140: =IF(N140="sníž. přenesená",J140,0) -> 0 | BI140: =IF(N140="nulová",J140,0) -> 0 | BJ140: 1 | BK140: =ROUND(I140*H140,2) -> 0 | BL140: 4 | BM140: 1680027326
C141: 2 | D141: K | E141: 342272245 | F141: Příčka z pórobetonových hladkých tvárnic na tenkovrstvou maltu tl 150 mm | G141: m2 | H141: 23 | J141: =ROUND(I141*H141,2) -> 0 | N141: základní | P141: =O141*H141 -> 0 | Q141: 0.07921 | R141: =Q141*H141 -> 1.82183 | S141: 0 | T141: =S141*H141 -> 0 | AR141: 4 | AT141: K | AU141: 2 | AY141: ROZPOCET | BE141: =IF(N141="základní",J141,0) -> 0 | BF141: =IF(N141="snížená",J141,0) -> 0 | BG141: =IF(N141="zákl. přenesená",J141,0) -> 0 | BH141: =IF(N141="sníž. přenesená",J141,0) -> 0 | BI141: =IF(N141="nulová",J141,0) -> 0 | BJ141: 1 | BK141: =ROUND(I141*H141,2) -> 0 | BL141: 4 | BM141: 1615023034
D142: D | E142: 4 | F142: Vodorovné konstrukce | J142: =BK142 -> 0 | P142: =P143 -> 0 | R142: =R143 -> 2.4941223 | T142: =T143 -> 0 | AR142: 1 | AT142: D | AU142: 1 | AY142: ROZPOCET | BK142: =BK143 -> 0
C143: 3 | D143: K | E143: 411388531 | F143: Zabetonování otvorů pl do 1 m2 ve stropech | G143: m3 | H143: 1.035 | J143: =ROUND(I143*H143,2) -> 0 | N143: základní | P143: =O143*H143 -> 0 | Q143: 2.40978 | R143: =Q143*H143 -> 2.4941223 | S143: 0 | T143: =S143*H143 -> 0 | AR143: 4 | AT143: K | AU143: 2 | AY143: ROZPOCET | BE143: =IF(N143="základní",J143,0) -> 0 | BF143: =IF(N143="snížená",J143,0) -> 0 | BG143: =IF(N143="zákl. přenesená",J143,0) -> 0 | BH143: =IF(N143="sníž. přenesená",J143,0) -> 0 | BI143: =IF(N143="nulová",J143,0) -> 0 | BJ143: 1 | BK143: =ROUND(I143*H143,2) -> 0 | BL143: 4 | BM143: -1386271586
D144: D | E144: 6 | F144: Úpravy povrchů, podlahy a osazování výplní | J144: =BK144 -> 0 | P144: =SUM(P145:P160) -> 0 | R144: =SUM(R145:R160) -> 54.40285 | T144: =SUM(T145:T160) -> 0 | AR144: 1 | AT144: D | AU144: 1 | AY144: ROZPOCET | BK144: =SUM(BK145:BK160) -> 0
C145: 4 | D145: K | E145: 631311124 | F145: Mazanina tl přes 80 do 120 mm z betonu prostého bez zvýšených nároků na prostředí tř. C 16/20 | G145: m3 | H145: 16 | J145: =ROUND(I145*H145,2) -> 0 | N145: základní | P145: =O145*H145 -> 0 | Q145: 2.30102 | R145: =Q145*H145 -> 36.81632 | S145: 0 | T145: =S145*H145 -> 0 | AR145: 4 | AT145: K | AU145: 2 | AY145: ROZPOCET | BE145: =IF(N145="základní",J145,0) -> 0 | BF145: =IF(N145="snížená",J145,0) -> 0 | BG145: =IF(N145="zákl. přenesená",J145,0) -> 0 | BH145: =IF(N145="sníž. přenesená",J145,0) -> 0 | BI145: =IF(N145="nulová",J145,0) -> 0 | BJ145: 1 | BK145: =ROUND(I145*H145,2) -> 0 | BL145: 4 | BM145: -1322230892
C146: 5 | D146: K | E146: 631319173 | F146: Příplatek k mazanině tl přes 80 do 120 mm za stržení povrchu spodní vrstvy před vložením výztuže | G146: m3 | H146: 16 | J146: =ROUND(I146*H146,2) -> 0 | N146: základní | P146: =O146*H146 -> 0 | Q146: 0 | R146: =Q146*H146 -> 0 | S146: 0 | T146: =S146*H146 -> 0 | AR146: 4 | AT146: K | AU146: 2 | AY146: ROZPOCET | BE146: =IF(N146="základní",J146,0) -> 0 | BF146: =IF(N146="snížená",J146,0) -> 0 | BG146: =IF(N146="zákl. přenesená",J146,0) -> 0 | BH146: =IF(N146="sníž. přenesená",J146,0) -> 0 | BI146: =IF(N146="nulová",J146,0) -> 0 | BJ146: 1 | BK146: =ROUND(I146*H146,2) -> 0 | BL146: 4 | BM146: 679533399
C147: 6 | D147: K | E147: 631319012 | F147: Příplatek k mazanině tl přes 80 do 120 mm za přehlazení povrchu | G147: m3 | H147: 16 | J147: =ROUND(I147*H147,2) -> 0 | N147: základní | P147: =O147*H147 -> 0 | Q147: 0 | R147: =Q147*H147 -> 0 | S147: 0 | T147: =S147*H147 -> 0 | AR147: 4 | AT147: K | AU147: 2 | AY147: ROZPOCET | BE147: =IF(N147="základní",J147,0) -> 0 | BF147: =IF(N147="snížená",J147,0) -> 0 | BG147: =IF(N147="zákl. přenesená",J147,0) -> 0 | BH147: =IF(N147="sníž. přenesená",J147,0) -> 0 | BI147: =IF(N147="nulová",J147,0) -> 0 | BJ147: 1 | BK147: =ROUND(I147*H147,2) -> 0 | BL147: 4 | BM147: -22584253
C148: 7 | D148: K | E148: 631362021 | F148: Výztuž mazanin svařovanými sítěmi Kari | G148: t | H148: 0.69 | J148: =ROUND(I148*H148,2) -> 0 | N148: základní | P148: =O148*H148 -> 0 | Q148: 1.06277 | R148: =Q148*H148 -> 0.7333113 | S148: 0 | T148: =S148*H148 -> 0 | AR148: 4 | AT148: K | AU148: 2 | AY148: ROZPOCET | BE148: =IF(N148="základní",J148,0) -> 0 | BF148: =IF(N148="snížená",J148,0) -> 0 | BG148: =IF(N148="zákl. přenesená",J148,0) -> 0 | BH148: =IF(N148="sníž. přenesená",J148,0) -> 0 | BI148: =IF(N148="nulová",J148,0) -> 0 | BJ148: 1 | BK148: =ROUND(I148*H148,2) -> 0 | BL148: 4 | BM148: -625577744
C149: 8 | D149: K | E149: 631312141 | F149: Doplnění rýh v dosavadních mazaninách betonem prostým | G149: m3 | H149: 2.32 | J149: =ROUND(I149*H149,2) -> 0 | N149: základní | P149: =O149*H149 -> 0 | Q149: 2.50187 | R149: =Q149*H149 -> 5.8043384 | S149: 0 | T149: =S149*H149 -> 0 | AR149: 4 | AT149: K | AU149: 2 | AY149: ROZPOCET | BE149: =IF(N149="základní",J149,0) -> 0 | BF149: =IF(N149="snížená",J149,0) -> 0 | BG149: =IF(N149="zákl. přenesená",J149,0) -> 0 | BH149: =IF(N149="sníž. přenesená",J149,0) -> 0 | BI149: =IF(N149="nulová",J149,0) -> 0 | BJ149: 1 | BK149: =ROUND(I149*H149,2) -> 0 | BL149: 4 | BM149: -331878245
C150: 9 | D150: K | E150: 611325402 | F150: Oprava vnitřní vápenocementové hrubé omítky tl do 20 mm stropů v rozsahu plochy přes 10 do 30 % | G150: m2 | H150: 68 | J150: =ROUND(I150*H150,2) -> 0 | N150: základní | P150: =O150*H150 -> 0 | Q150: 0.0163 | R150: =Q150*H150 -> 1.1084 | S150: 0 | T150: =S150*H150 -> 0 | AR150: 4 | AT150: K | AU150: 2 | AY150: ROZPOCET | BE150: =IF(N150="základní",J150,0) -> 0 | BF150: =IF(N150="snížená",J150,0) -> 0 | BG150: =IF(N150="zákl. přenesená",J150,0) -> 0 | BH150: =IF(N150="sníž. přenesená",J150,0) -> 0 | BI150: =IF(N150="nulová",J150,0) -> 0 | BJ150: 1 | BK150: =ROUND(I150*H150,2) -> 0 | BL150: 4 | BM150: -1627879363
C151: 10 | D151: K | E151: 611325417 | F151: Oprava vnitřní vápenocementové hladké omítky tl do 20 mm stropů v rozsahu plochy přes 10 do 30 % s celoplošným přeštukováním tl do 3 mm | G151: m2 | H151: 68 | J151: =ROUND(I151*H151,2) -> 0 | N151: základní | P151: =O151*H151 -> 0 | Q151: 0.0219 | R151: =Q151*H151 -> 1.4892 | S151: 0 | T151: =S151*H151 -> 0 | AR151: 4 | AT151: K | AU151: 2 | AY151: ROZPOCET | BE151: =IF(N151="základní",J151,0) -> 0 | BF151: =IF(N151="snížená",J151,0) -> 0 | BG151: =IF(N151="zákl. přenesená",J151,0) -> 0 | BH151: =IF(N151="sníž. přenesená",J151,0) -> 0 | BI151: =IF(N151="nulová",J151,0) -> 0 | BJ151: 1 | BK151: =ROUND(I151*H151,2) -> 0 | BL151: 4 | BM151: 113905006
C152: 11 | D152: K | E152: 612325402 | F152: Oprava vnitřní vápenocementové hrubé omítky tl do 20 mm stěn v rozsahu plochy přes 10 do 30 % | G152: m2 | H152: 128 | J152: =ROUND(I152*H152,2) -> 0 | N152: základní | P152: =O152*H152 -> 0 | Q152: 0.0163 | R152: =Q152*H152 -> 2.0864 | S152: 0 | T152: =S152*H152 -> 0 | AR152: 4 | AT152: K | AU152: 2 | AY152: ROZPOCET | BE152: =IF(N152="základní",J152,0) -> 0 | BF152: =IF(N152="snížená",J152,0) -> 0 | BG152: =IF(N152="zákl. přenesená",J152,0) -> 0 | BH152: =IF(N152="sníž. přenesená",J152,0) -> 0 | BI152: =IF(N152="nulová",J152,0) -> 0 | BJ152: 1 | BK152: =ROUND(I152*H152,2) -> 0 | BL152: 4 | BM152: 59395912
C153: 12 | D153: K | E153: 612325417 | F153: Oprava vnitřní vápenocementové hladké omítky tl do 20 mm stěn v rozsahu plochy přes 10 do 30 % s celoplošným přeštukováním tl do 3 mm | G153: m2 | H153: 128 | J153: =ROUND(I153*H153,2) -> 0 | N153: základní | P153: =O153*H153 -> 0 | Q153: 0.0206 | R153: =Q153*H153 -> 2.6368 | S153: 0 | T153: =S153*H153 -> 0 | AR153: 4 | AT153: K | AU153: 2 | AY153: ROZPOCET | BE153: =IF(N153="základní",J153,0) -> 0 | BF153: =IF(N153="snížená",J153,0) -> 0 | BG153: =IF(N153="zákl. přenesená",J153,0) -> 0 | BH153: =IF(N153="sníž. přenesená",J153,0) -> 0 | BI153: =IF(N153="nulová",J153,0) -> 0 | BJ153: 1 | BK153: =ROUND(I153*H153,2) -> 0 | BL153: 4 | BM153: 753997803
C154: 13 | D154: K | E154: 612142001 | F154: Pletivo sklovláknité vnitřních stěn vtlačené do tmelu | G154: m2 | H154: 134 | J154: =ROUND(I154*H154,2) -> 0 | N154: základní | P154: =O154*H154 -> 0 | Q154: 0.00438 | R154: =Q154*H154 -> 0.58692 | S154: 0 | T154: =S154*H154 -> 0 | AR154: 4 | AT154: K | AU154: 2 | AY154: ROZPOCET | BE154: =IF(N154="základní",J154,0) -> 0 | BF154: =IF(N154="snížená",J154,0) -> 0 | BG154: =IF(N154="zákl. přenesená",J154,0) -> 0 | BH154: =IF(N154="sníž. přenesená",J154,0) -> 0 | BI154: =IF(N154="nulová",J154,0) -> 0 | BJ154: 1 | BK154: =ROUND(I154*H154,2) -> 0 | BL154: 4 | BM154: 1438750884
C155: 14 | D155: K | E155: 612321141 | F155: Vápenocementová omítka štuková dvouvrstvá vnitřních stěn nanášená ručně | G155: m2 | H155: 134 | J155: =ROUND(I155*H155,2) -> 0 | N155: základní | P155: =O155*H155 -> 0 | Q155: 0.01838 | R155: =Q155*H155 -> 2.46292 | S155: 0 | T155: =S155*H155 -> 0 | AR155: 4 | AT155: K | AU155: 2 | AY155: ROZPOCET | BE155: =IF(N155="základní",J155,0) -> 0 | BF155: =IF(N155="snížená",J155,0) -> 0 | BG155: =IF(N155="zákl. přenesená",J155,0) -> 0 | BH155: =IF(N155="sníž. přenesená",J155,0) -> 0 | BI155: =IF(N155="nulová",J155,0) -> 0 | BJ155: 1 | BK155: =ROUND(I155*H155,2) -> 0 | BL155: 4 | BM155: -1126825503
C156: 15 | D156: K | E156: 642942111 | F156: Osazování zárubní nebo rámů dveřních kovových do 2,5 m2 na MC | G156: kus | H156: 16 | J156: =ROUND(I156*H156,2) -> 0 | N156: základní | P156: =O156*H156 -> 0 | Q156: 0.01777 | R156: =Q156*H156 -> 0.28432 | S156: 0 | T156: =S156*H156 -> 0 | AR156: 4 | AT156: K | AU156: 2 | AY156: ROZPOCET | BE156: =IF(N156="základní",J156,0) -> 0 | BF156: =IF(N156="snížená",J156,0) -> 0 | BG156: =IF(N156="zákl. přenesená",J156,0) -> 0 | BH156: =IF(N156="sníž. přenesená",J156,0) -> 0 | BI156: =IF(N156="nulová",J156,0) -> 0 | BJ156: 1 | BK156: =ROUND(I156*H156,2) -> 0 | BL156: 4 | BM156: -2047385382
... C160: 19 | D160: M | E160: 55331612 | F160: pouzdro stavební do zdiva pro 1 křídlo posuvných dveří š 800mm v do 2100mm | G160: kus | H160: 2 | J160: =ROUND(I160*H160,2) -> 0 | N160: základní | P160: =O160*H160 -> 0 | Q160: 0.0425 | R160: =Q160*H160 -> 0.085 | S160: 0 | T160: =S160*H160 -> 0 | AR160: 8 | AT160: M | AU160: 2 | AY160: ROZPOCET | BE160: =IF(N160="základní",J160,0) -> 0 | BF160: =IF(N160="snížená",J160,0) -> 0 | BG160: =IF(N160="zákl. přenesená",J160,0) -> 0 | BH160: =IF(N160="sníž. přenesená",J160,0) -> 0 | BI160: =IF(N160="nulová",J160,0) -> 0 | BJ160: 1 | BK160: =ROUND(I160*H160,2) -> 0 | BL160: 4 | BM160: -1413108947
D161: D | E161: 9 | F161: Ostatní konstrukce a práce, bourání | J161: =BK161 -> 0 | P161: =SUM(P162:P170) -> 0 | R161: =SUM(R162:R170) -> 0.00969 | T161: =SUM(T162:T170) -> 63.0116 | AR161: 1 | AT161: D | AU161: 1 | AY161: ROZPOCET | BK161: =SUM(BK162:BK170) -> 0
C162: 20 | D162: K | E162: 949101111 | F162: Lešení pomocné pro objekty pozemních staveb s lešeňovou podlahou v do 1,9 m zatížení do 150 kg/m2 | G162: m2 | H162: 277 | J162: =ROUND(I162*H162,2) -> 0 | N162: základní | P162: =O162*H162 -> 0 | Q162: 0 | R162: =Q162*H162 -> 0 | S162: 0 | T162: =S162*H162 -> 0 | AR162: 4 | AT162: K | AU162: 2 | AY162: ROZPOCET | BE162: =IF(N162="základní",J162,0) -> 0 | BF162: =IF(N162="snížená",J162,0) -> 0 | BG162: =IF(N162="zákl. přenesená",J162,0) -> 0 | BH162: =IF(N162="sníž. přenesená",J162,0) -> 0 | BI162: =IF(N162="nulová",J162,0) -> 0 | BJ162: 1 | BK162: =ROUND(I162*H162,2) -> 0 | BL162: 4 | BM162: -1084068380
C163: 21 | D163: K | E163: 952901105 | F163: Čištění budov omytí dvojitých nebo zdvojených oken nebo balkonových dveří pl do 0,6 m2 | G163: m2 | H163: 30 | J163: =ROUND(I163*H163,2) -> 0 | N163: základní | P163: =O163*H163 -> 0 | Q163: 1e-05 | R163: =Q163*H163 -> 0.0003 | S163: 0 | T163: =S163*H163 -> 0 | AR163: 4 | AT163: K | AU163: 2 | AY163: ROZPOCET | BE163: =IF(N163="základní",J163,0) -> 0 | BF163: =IF(N163="snížená",J163,0) -> 0 | BG163: =IF(N163="zákl. přenesená",J163,0) -> 0 | BH163: =IF(N163="sníž. přenesená",J163,0) -> 0 | BI163: =IF(N163="nulová",J163,0) -> 0 | BJ163: 1 | BK163: =ROUND(I163*H163,2) -> 0 | BL163: 4 | BM163: 1595638719
C164: 22 | D164: K | E164: 952902031 | F164: Čištění budov omytí hladkých podlah | G164: m2 | H164: 831 | J164: =ROUND(I164*H164,2) -> 0 | N164: základní | P164: =O164*H164 -> 0 | Q164: 1e-05 | R164: =Q164*H164 -> 0.00831 | S164: 0 | T164: =S164*H164 -> 0 | AR164: 4 | AT164: K | AU164: 2 | AY164: ROZPOCET | BE164: =IF(N164="základní",J164,0) -> 0 | BF164: =IF(N164="snížená",J164,0) -> 0 | BG164: =IF(N164="zákl. přenesená",J164,0) -> 0 | BH164: =IF(N164="sníž. přenesená",J164,0) -> 0 | BI164: =IF(N164="nulová",J164,0) -> 0 | BJ164: 1 | BK164: =ROUND(I164*H164,2) -> 0 | BL164: 4 | BM164: -1854569780
C165: 23 | D165: K | E165: 952902231 | F165: Čištění budov omytí schodišť | G165: m2 | H165: 108 | J165: =ROUND(I165*H165,2) -> 0 | N165: základní | P165: =O165*H165 -> 0 | Q165: 1e-05 | R165: =Q165*H165 -> 0.00108 | S165: 0 | T165: =S165*H165 -> 0 | AR165: 4 | AT165: K | AU165: 2 | AY165: ROZPOCET | BE165: =IF(N165="základní",J165,0) -> 0 | BF165: =IF(N165="snížená",J165,0) -> 0 | BG165: =IF(N165="zákl. přenesená",J165,0) -> 0 | BH165: =IF(N165="sníž. přenesená",J165,0) -> 0 | BI165: =IF(N165="nulová",J165,0) -> 0 | BJ165: 1 | BK165: =ROUND(I165*H165,2) -> 0 | BL165: 4 | BM165: 1901713374
C166: 24 | D166: K | E166: 962031011 | F166: Bourání příček nebo přizdívek z cihel děrovaných tl do 100 mm | G166: m2 | H166: 147 | J166: =ROUND(I166*H166,2) -> 0 | N166: základní | P166: =O166*H166 -> 0 | Q166: 0 | R166: =Q166*H166 -> 0 | S166: 0.128 | T166: =S166*H166 -> 18.816 | AR166: 4 | AT166: K | AU166: 2 | AY166: ROZPOCET | BE166: =IF(N166="základní",J166,0) -> 0 | BF166: =IF(N166="snížená",J166,0) -> 0 | BG166: =IF(N166="zákl. přenesená",J166,0) -> 0 | BH166: =IF(N166="sníž. přenesená",J166,0) -> 0 | BI166: =IF(N166="nulová",J166,0) -> 0 | BJ166: 1 | BK166: =ROUND(I166*H166,2) -> 0 | BL166: 4 | BM166: 1131309231
C167: 25 | D167: K | E167: 962031013 | F167: Bourání příček nebo přizdívek z cihel děrovaných tl přes 100 do 150 mm | G167: m2 | H167: 20.7 | J167: =ROUND(I167*H167,2) -> 0 | N167: základní | P167: =O167*H167 -> 0 | Q167: 0 | R167: =Q167*H167 -> 0 | S167: 0.188 | T167: =S167*H167 -> 3.8916 | AR167: 4 | AT167: K | AU167: 2 | AY167: ROZPOCET | BE167: =IF(N167="základní",J167,0) -> 0 | BF167: =IF(N167="snížená",J167,0) -> 0 | BG167: =IF(N167="zákl. přenesená",J167,0) -> 0 | BH167: =IF(N167="sníž. přenesená",J167,0) -> 0 | BI167: =IF(N167="nulová",J167,0) -> 0 | BJ167: 1 | BK167: =ROUND(I167*H167,2) -> 0 | BL167: 4 | BM167: 282109646
C168: 26 | D168: K | E168: 962032111 | F168: Bourání zdiva z keramických děrovaných cihel na MVC do 1 m3 | G168: m3 | H168: 1 | J168: =ROUND(I168*H168,2) -> 0 | N168: základní | P168: =O168*H168 -> 0 | Q168: 0 | R168: =Q168*H168 -> 0 | S168: 1 | T168: =S168*H168 -> 1 | AR168: 4 | AT168: K | AU168: 2 | AY168: ROZPOCET | BE168: =IF(N168="základní",J168,0) -> 0 | BF168: =IF(N168="snížená",J168,0) -> 0 | BG168: =IF(N168="zákl. přenesená",J168,0) -> 0 | BH168: =IF(N168="sníž. přenesená",J168,0) -> 0 | BI168: =IF(N168="nulová",J168,0) -> 0 | BJ168: 1 | BK168: =ROUND(I168*H168,2) -> 0 | BL168: 4 | BM168: -469374465
C169: 27 | D169: K | E169: 965042241 | F169: Bourání podkladů pod dlažby nebo mazanin betonových nebo z litého asfaltu tl přes 100 mm pl přes 4 m2 | G169: m3 | H169: 16 | J169: =ROUND(I169*H169,2) -> 0 | N169: základní | P169: =O169*H169 -> 0 | Q169: 0 | R169: =Q169*H169 -> 0 | S169: 2.2 | T169: =S169*H169 -> 35.2 | AR169: 4 | AT169: K | AU169: 2 | AY169: ROZPOCET | BE169: =IF(N169="základní",J169,0) -> 0 | BF169: =IF(N169="snížená",J169,0) -> 0 | BG169: =IF(N169="zákl. přenesená",J169,0) -> 0 | BH169: =IF(N169="sníž. přenesená",J169,0) -> 0 | BI169: =IF(N169="nulová",J169,0) -> 0 | BJ169: 1 | BK169: =ROUND(I169*H169,2) -> 0 | BL169: 4 | BM169: -1999522372
C170: 28 | D170: K | E170: 968072455 | F170: Vybourání kovových dveřních zárubní pl do 2 m2 | G170: m2 | H170: 54 | J170: =ROUND(I170*H170,2) -> 0 | N170: základní | P170: =O170*H170 -> 0 | Q170: 0 | R170: =Q170*H170 -> 0 | S170: 0.076 | T170: =S170*H170 -> 4.104 | AR170: 4 | AT170: K | AU170: 2 | AY170: ROZPOCET | BE170: =IF(N170="základní",J170,0) -> 0 | BF170: =IF(N170="snížená",J170,0) -> 0 | BG170: =IF(N170="zákl. přenesená",J170,0) -> 0 | BH170: =IF(N170="sníž. přenesená",J170,0) -> 0 | BI170: =IF(N170="nulová",J170,0) -> 0 | BJ170: 1 | BK170: =ROUND(I170*H170,2) -> 0 | BL170: 4 | BM170: 701801721
D171: D | E171: 997 | F171: Doprava suti a vybouraných hmot | J171: =BK171 -> 0 | P171: =SUM(P172:P177) -> 0 | R171: =SUM(R172:R177) -> 0 | T171: =SUM(T172:T177) -> 0 | AR171: 1 | AT171: D | AU171: 1 | AY171: ROZPOCET | BK171: =SUM(BK172:BK177) -> 0
...

Sheet Světel. a silnop. rozvody
F1: Choceň - ZŠ M.Choceňského, Kollárova 688, úpravy hygienického zázemí - Nabídka
C4: Poř. | D4: Typ | E4: Kód | F4: Popis | G4: MJ | H4: Výměra | I4: Jedn. Cena | J4: Cena | K4: Jedn. hmotn. | L4: Hmotnost | M4: Jedn. suť | N4: Suť | O4: Sazba DPH | P4: DPH | Q4: Cena s DPH
A6: S | B6: 1 | D6: Stavba | F6: S | J6: =SUBTOTAL(9,J7:J187) -> 0 | L6: =SUBTOTAL(9,L7:L187) -> 1.60612 | N6: =SUBTOTAL(9,N7:N187) -> 3.566 | P6: =SUBTOTAL(9,P7:P187) -> 0 | Q6: =SUBTOTAL(9,Q7:Q187) -> 0
A7: S/. | B7: 2 | D7: Objekt | F7: .: Světelné a silnoproudé rozvody - třída č. 2 | J7: =SUBTOTAL(9,J8:J81) -> 0 | L7: =SUBTOTAL(9,L8:L81) -> 0.12744 | N7: =SUBTOTAL(9,N8:N81) -> 0.072 | P7: =SUBTOTAL(9,P8:P81) -> 0 | Q7: =SUBTOTAL(9,Q8:Q81) -> 0
A8: S/./006 | B8: 3 | D8: Oddíl | F8: 006: Úpravy povrchu | J8: =SUBTOTAL(9,J9:J10) -> 0 | L8: =SUBTOTAL(9,L9:L10) -> 0.06384 | N8: =SUBTOTAL(9,N9:N10) -> 0 | P8: =SUBTOTAL(9,P9:P10) -> 0 | Q8: =SUBTOTAL(9,Q9:Q10) -> 0
C9: 1 | D9: SP | E9: 612135101 | F9: Hrubá výplň rýh ve stěnách maltou jakékoli šířky rýhy | G9: m2 | H9: 1.14 | I9: 0 | J9: =H9*I9 -> 0 | K9: 0.056 | L9: =H9*K9 -> 0.06384 | N9: =H9*M9 -> 0 | O9: 21 | P9: =J9*(O9/100) -> 0 | Q9: =J9+P9 -> 0
A11: S/./009 | B11: 3 | D11: Oddíl | F11: 009: Ostatní konstrukce a práce | J11: =SUBTOTAL(9,J12:J16) -> 0 | L11: =SUBTOTAL(9,L12:L16) -> 0 | N11: =SUBTOTAL(9,N12:N16) -> 0.072 | P11: =SUBTOTAL(9,P12:P16) -> 0 | Q11: =SUBTOTAL(9,Q12:Q16) -> 0
C12: 1 | D12: SP | E12: 973031714 | F12: Vysekání kapes v klenbách z cihel na MV nebo MVC pro špalíky do 50x50x50 mm | G12: kus | H12: 4 | I12: 0 | J12: =H12*I12 -> 0 | L12: =H12*K12 -> 0 | N12: =H12*M12 -> 0 | O12: 21 | P12: =J12*(O12/100) -> 0 | Q12: =J12+P12 -> 0
C13: 2 | D13: SP | E13: 973031716 | F13: Vysekání kapes v klenbách z cihel na MV nebo MVC pro špalíky do 100x100x50 mm | G13: kus | H13: 4 | I13: 0 | J13: =H13*I13 -> 0 | L13: =H13*K13 -> 0 | M13: 0.001 | N13: =H13*M13 -> 0.004 | O13: 21 | P13: =J13*(O13/100) -> 0 | Q13: =J13+P13 -> 0
C14: 3 | D14: SP | E14: 974031121 | F14: Vysekání rýh ve zdivu cihelném hl do 30 mm š do 30 mm | G14: m | H14: 10 | I14: 0 | J14: =H14*I14 -> 0 | L14: =H14*K14 -> 0 | M14: 0.002 | N14: =H14*M14 -> 0.02 | O14: 21 | P14: =J14*(O14/100) -> 0 | Q14: =J14+P14 -> 0
C15: 4 | D15: SP | E15: 974031122 | F15: Vysekání rýh ve zdivu cihelném hl do 30 mm š do 70 mm | G15: m | H15: 12 | I15: 0 | J15: =H15*I15 -> 0 | L15: =H15*K15 -> 0 | M15: 0.004 | N15: =H15*M15 -> 0.048 | O15: 21 | P15: =J15*(O15/100) -> 0 | Q15: =J15+P15 -> 0
A17: S/./740 | B17: 3 | D17: Oddíl | F17: 740: Silnoproud | J17: =SUBTOTAL(9,J18:J81) -> 0 | L17: =SUBTOTAL(9,L18:L81) -> 0.0636 | N17: =SUBTOTAL(9,N18:N81) -> 0 | P17: =SUBTOTAL(9,P18:P81) -> 0 | Q17: =SUBTOTAL(9,Q18:Q81) -> 0
C18: 1 | D18: H | E18: 34111005 | F18: kabel instalační jádro Cu plné izolace PVC plášť PVC 450/750V (CYKY) 2x1,5mm2 | G18: m | H18: 5 | I18: 0 | J18: =H18*I18 -> 0 | K18: 0.0001 | L18: =H18*K18 -> 0.0005 | N18: =H18*M18 -> 0 | O18: 21 | P18: =J18*(O18/100) -> 0 | Q18: =J18+P18 -> 0
C19: 2 | D19: H | E19: 34111030 | F19: kabel instalační jádro Cu plné izolace PVC plášť PVC 450/750V (CYKY) 3x1,5mm2 | G19: m | H19: 77 | I19: 0 | J19: =H19*I19 -> 0 | K19: 0.00012 | L19: =H19*K19 -> 0.00924 | N19: =H19*M19 -> 0 | O19: 21 | P19: =J19*(O19/100) -> 0 | Q19: =J19+P19 -> 0
E20: Výkaz výměr: | F20: 72+5 | H20: 77
F21: 3C+3A | H21: 0
C23: 3 | D23: H | E23: 34111036 | F23: kabel instalační jádro Cu plné izolace PVC plášť PVC 450/750V (CYKY) 3x2,5mm2 | G23: m | H23: 198 | I23: 0 | J23: =H23*I23 -> 0 | K23: 0.00017 | L23: =H23*K23 -> 0.03366 | N23: =H23*M23 -> 0 | O23: 21 | P23: =J23*(O23/100) -> 0 | Q23: =J23+P23 -> 0
C24: 4 | D24: H | E24: 34111100 | F24: kabel instalační jádro Cu plné izolace PVC plášť PVC 450/750V (CYKY) 5x6mm2 | G24: m | H24: 20 | I24: 0 | J24: =H24*I24 -> 0 | K24: 0.00053 | L24: =H24*K24 -> 0.0106 | N24: =H24*M24 -> 0 | O24: 21 | P24: =J24*(O24/100) -> 0 | Q24: =J24+P24 -> 0
C25: 5 | D25: H | E25: 34140844 | F25: vodič propojovací jádro Cu lanované izolace PVC 450/750V (H07V-R) 1x6mm2 | G25: m | H25: 30 | J25: =H25*I25 -> 0 | K25: 9e-05 | L25: =H25*K25 -> 0.0027 | N25: =H25*M25 -> 0 | O25: 21 | P25: =J25*(O25/100) -> 0 | Q25: =J25+P25 -> 0
C26: 6 | D26: H | E26: 34535000 | F26: spínač kompletní, zápustný, jednopólový, řazení 1, šroubové svorky | G26: kus | H26: 1 | I26: 0 | J26: =H26*I26 -> 0 | K26: 4e-05 | L26: =H26*K26 -> 4e-05 | N26: =H26*M26 -> 0 | O26: 21 | P26: =J26*(O26/100) -> 0 | Q26: =J26+P26 -> 0
C27: 7 | D27: H | E27: 34535002 | F27: přepínač sériový kompletní, zápustný, řazení 5, šroubové svorky | G27: kus | H27: 1 | I27: 0 | J27: =H27*I27 -> 0 | K27: 6e-05 | L27: =H27*K27 -> 6e-05 | N27: =H27*M27 -> 0 | O27: 21 | P27: =J27*(O27/100) -> 0 | Q27: =J27+P27 -> 0
C28: 8 | D28: H | E28: 34555202 | F28: zásuvka zápustná jednonásobná chráněná, šroubové svorky | G28: kus | H28: 2 | I28: 0 | J28: =H28*I28 -> 0 | K28: 7e-05 | L28: =H28*K28 -> 0.00014 | N28: =H28*M28 -> 0 | O28: 21 | P28: =J28*(O28/100) -> 0 | Q28: =J28+P28 -> 0
C29: 9 | D29: H | E29: 34571043 | F29: lišta podlahová přechodová oblá pro vedení kabelů běžný provoz plast š 75mm | G29: m | H29: 6 | I29: 0 | J29: =H29*I29 -> 0 | K29: 0.00046 | L29: =H29*K29 -> 0.00276 | N29: =H29*M29 -> 0 | O29: 21 | P29: =J29*(O29/100) -> 0 | Q29: =J29+P29 -> 0
C30: 10 | D30: H | E30: 34571074 | F30: trubka elektroinstalační ohebná z PVC oranžová d 32mm | G30: m | H30: 20 | I30: 0 | J30: =H30*I30 -> 0 | K30: 0.0001 | L30: =H30*K30 -> 0.002 | N30: =H30*M30 -> 0 | O30: 21 | P30: =J30*(O30/100) -> 0 | Q30: =J30+P30 -> 0
C31: 11 | D31: H | E31: 34571451 | F31: krabice pod omítku PVC přístrojová kruhová D 70mm hluboká | G31: kus | H31: 4 | I31: 0 | J31: =H31*I31 -> 0 | K31: 5e-05 | L31: =H31*K31 -> 0.0002 | N31: =H31*M31 -> 0 | O31: 21 | P31: =J31*(O31/100) -> 0 | Q31: =J31+P31 -> 0
C32: 12 | D32: H | E32: 34571482 | F32: krabice v uzavřeném provedení PVC s krytím IP 54 čtvercová 100x100mm | G32: kus | H32: 3 | I32: 0 | J32: =H32*I32 -> 0 | K32: 0.00015 | L32: =H32*K32 -> 0.00045 | N32: =H32*M32 -> 0 | O32: 21 | P32: =J32*(O32/100) -> 0 | Q32: =J32+P32 -> 0
E33: Výkaz výměr: | F33: 3 | H33: 3
F34: vč. svorkovnice S 66 | H34: 0
C36: 13 | D36: H | E36: 34571484 | F36: krabice v uzavřeném provedení PVC s krytím IP 54 čtvercová 170x170mm | G36: kus | H36: 1 | I36: 0 | J36: =H36*I36 -> 0 | K36: 0.00057 | L36: =H36*K36 -> 0.00057 | N36: =H36*M36 -> 0 | O36: 21 | P36: =J36*(O36/100) -> 0 | Q36: =J36+P36 -> 0
E37: Výkaz výměr: | F37: 1 | H37: 1
F38: vč. svorkovnice SP 96 | H38: 0
C40: 14 | D40: H | E40: 34571521 | F40: krabice pod omítku PVC odbočná kruhová D 70mm s víčkem a svorkovnicí | G40: kus | H40: 4 | I40: 0 | J40: =H40*I40 -> 0 | K40: 9e-05 | L40: =H40*K40 -> 0.00036 | N40: =H40*M40 -> 0 | O40: 21 | P40: =J40*(O40/100) -> 0 | Q40: =J40+P40 -> 0
C41: 15 | D41: H | E41: 35441895 | F41: svorka připojovací k připojení kovových částí | G41: kus | H41: 2 | I41: 0 | J41: =H41*I41 -> 0 | K41: 0.00016 | L41: =H41*K41 -> 0.00032 | N41: =H41*M41 -> 0 | O41: 21 | P41: =J41*(O41/100) -> 0 | Q41: =J41+P41 -> 0
C42: 16 | D42: SP | E42: 741110042 | F42: Montáž trubka plastová ohebná D přes 23 do 35 mm uložená pevně | G42: m | H42: 20 | I42: 0 | J42: =H42*I42 -> 0 | L42: =H42*K42 -> 0 | N42: =H42*M42 -> 0 | O42: 21 | P42: =J42*(O42/100) -> 0 | Q42: =J42+P42 -> 0
C43: 17 | D43: SP | E43: 741110512 | F43: Montáž lišta a kanálek vkládací šířky přes 60 do 120 mm s víčkem | G43: m | H43: 6 | I43: 0 | J43: =H43*I43 -> 0 | L43: =H43*K43 -> 0 | N43: =H43*M43 -> 0 | O43: 21 | P43: =J43*(O43/100) -> 0 | Q43: =J43+P43 -> 0
C44: 18 | D44: SP | E44: 741112001 | F44: Montáž krabice zapuštěná plastová kruhová | G44: kus | H44: 4 | I44: 0 | J44: =H44*I44 -> 0 | L44: =H44*K44 -> 0 | N44: =H44*M44 -> 0 | O44: 21 | P44: =J44*(O44/100) -> 0 | Q44: =J44+P44 -> 0
C45: 19 | D45: SP | E45: 741112021 | F45: Montáž krabice nástěnná plastová čtyřhranná do 100x100 mm | G45: kus | H45: 3 | I45: 0 | J45: =H45*I45 -> 0 | L45: =H45*K45 -> 0 | N45: =H45*M45 -> 0 | O45: 21 | P45: =J45*(O45/100) -> 0 | Q45: =J45+P45 -> 0
C46: 20 | D46: SP | E46: 741112023 | F46: Montáž krabice nástěnná plastová čtyřhranná do 250x250 mm | G46: kus | H46: 1 | I46: 0 | J46: =H46*I46 -> 0 | L46: =H46*K46 -> 0 | N46: =H46*M46 -> 0 | O46: 21 | P46: =J46*(O46/100) -> 0 | Q46: =J46+P46 -> 0
C47: 21 | D47: SP | E47: 741112061 | F47: Montáž krabice přístrojová zapuštěná plastová kruhová | G47: kus | H47: 4 | I47: 0 | J47: =H47*I47 -> 0 | L47: =H47*K47 -> 0 | N47: =H47*M47 -> 0 | O47: 21 | P47: =J47*(O47/100) -> 0 | Q47: =J47+P47 -> 0
C48: 22 | D48: SP | E48: 741120001 | F48: Montáž vodič Cu izolovaný plný a laněný žíla 0,35-6 mm2 pod omítku (např. CY) | G48: m | H48: 30 | I48: 0 | J48: =H48*I48 -> 0 | L48: =H48*K48 -> 0 | N48: =H48*M48 -> 0 | O48: 21 | P48: =J48*(O48/100) -> 0 | Q48: =J48+P48 -> 0
C49: 23 | D49: SP | E49: 741122601 | F49: Montáž kabel Cu plný kulatý žíla 2x1,5 až 6 mm2 uložený pevně (např. CYKY) | G49: m | H49: 5 | I49: 0 | J49: =H49*I49 -> 0 | L49: =H49*K49 -> 0 | N49: =H49*M49 -> 0 | O49: 21 | P49: =J49*(O49/100) -> 0 | Q49: =J49+P49 -> 0
C50: 24 | D50: SP | E50: 741122611 | F50: Montáž kabel Cu plný kulatý žíla 3x1,5 až 6 mm2 uložený pevně (např. CYKY) | G50: m | H50: 285 | I50: 0 | J50: =H50*I50 -> 0 | L50: =H50*K50 -> 0 | N50: =H50*M50 -> 0 | O50: 21 | P50: =J50*(O50/100) -> 0 | Q50: =J50+P50 -> 0
C51: 25 | D51: SP | E51: 741122642 | F51: Montáž kabel Cu plný kulatý žíla 5x4 až 6 mm2 uložený pevně (např. CYKY) | G51: m | H51: 20 | I51: 0 | J51: =H51*I51 -> 0 | L51: =H51*K51 -> 0 | N51: =H51*M51 -> 0 | O51: 21 | P51: =J51*(O51/100) -> 0 | Q51: =J51+P51 -> 0
C52: 26 | D52: SP | E52: 741130001 | F52: Ukončení vodič izolovaný do 2,5 mm2 v rozváděči nebo na přístroji | G52: kus | H52: 42 | I52: 0 | J52: =H52*I52 -> 0 | L52: =H52*K52 -> 0 | N52: =H52*M52 -> 0 | O52: 21 | P52: =J52*(O52/100) -> 0 | Q52: =J52+P52 -> 0
C53: 27 | D53: SP | E53: 741130003 | F53: Ukončení vodič izolovaný do 4 mm2 v rozváděči nebo na přístroji | G53: kus | H53: 10 | I53: 0 | J53: =H53*I53 -> 0 | L53: =H53*K53 -> 0 | N53: =H53*M53 -> 0 | O53: 21 | P53: =J53*(O53/100) -> 0 | Q53: =J53+P53 -> 0
... C80: 54 | D80: MP | E80: XE93 | F80: Provedení revizních zkoušek, vč. revizní zprávy dle ČSN 33 1500, ČSN 33 2000-6 ed.2 | G80: hod | H80: 8 | I80: 0 | J80: =H80*I80 -> 0 | L80: =H80*K80 -> 0 | N80: =H80*M80 -> 0 | O80: 21 | P80: =J80*(O80/100) -> 0 | Q80: =J80+P80 -> 0
A82: S/.. | B82: 2 | D82: Objekt | F82: ..: Světelné a silnoproudé rozvody- 1.NP + 2.NP | J82: =SUBTOTAL(9,J83:J186) -> 0 | L82: =SUBTOTAL(9,L83:L186) -> 1.47868 | N82: =SUBTOTAL(9,N83:N186) -> 3.494 | P82: =SUBTOTAL(9,P83:P186) -> 0 | Q82: =SUBTOTAL(9,Q83:Q186) -> 0
A83: S/../001 | B83: 3 | D83: Oddíl | F83: 001: Zemní práce | J83: =SUBTOTAL(9,J84:J86) -> 0 | L83: =SUBTOTAL(9,L84:L86) -> 0 | N83: =SUBTOTAL(9,N84:N86) -> 2.75 | P83: =SUBTOTAL(9,P84:P86) -> 0 | Q83: =SUBTOTAL(9,Q84:Q86) -> 0
C84: 1 | D84: SP | E84: 113106123 | F84: Rozebrání dlažeb ze zámkových dlaždic komunikací pro pěší ručně | G84: m2 | H84: 5 | I84: 0 | J84: =H84*I84 -> 0 | L84: =H84*K84 -> 0 | M84: 0.26 | N84: =H84*M84 -> 1.3 | O84: 21 | P84: =J84*(O84/100) -> 0 | Q84: =J84+P84 -> 0
C85: 2 | D85: SP | E85: 113107162 | F85: Odstranění podkladu z kameniva drceného tl přes 100 do 200 mm strojně pl přes 50 do 200 m2 | G85: m2 | H85: 5 | I85: 0 | J85: =H85*I85 -> 0 | L85: =H85*K85 -> 0 | M85: 0.29 | N85: =H85*M85 -> 1.45 | O85: 21 | P85: =J85*(O85/100) -> 0 | Q85: =J85+P85 -> 0
A87: S/../005 | B87: 3 | D87: Oddíl | F87: 005: Komunikace | J87: =SUBTOTAL(9,J88:J90) -> 0 | L87: =SUBTOTAL(9,L88:L90) -> 0.56515 | N87: =SUBTOTAL(9,N88:N90) -> 0 | P87: =SUBTOTAL(9,P88:P90) -> 0 | Q87: =SUBTOTAL(9,Q88:Q90) -> 0
C88: 1 | D88: SP | E88: 564251011 | F88: Podklad nebo podsyp ze štěrkopísku ŠP plochy do 100 m2 tl 150 mm | G88: m2 | H88: 5 | I88: 0 | J88: =H88*I88 -> 0 | L88: =H88*K88 -> 0 | N88: =H88*M88 -> 0 | O88: 21 | P88: =J88*(O88/100) -> 0 | Q88: =J88+P88 -> 0
C89: 2 | D89: SP | E89: 596212312 | F89: Kladení zámkové dlažby pozemních komunikací ručně tl do 100 mm skupiny A pl do 300 m2 | G89: m2 | H89: 5 | I89: 0 | J89: =H89*I89 -> 0 | K89: 0.11303 | L89: =H89*K89 -> 0.56515 | N89: =H89*M89 -> 0 | O89: 21 | P89: =J89*(O89/100) -> 0 | Q89: =J89+P89 -> 0
A91: S/../006 | B91: 3 | D91: Oddíl | F91: 006: Úpravy povrchu | J91: =SUBTOTAL(9,J92:J93) -> 0 | L91: =SUBTOTAL(9,L92:L93) -> 0.6272 | N91: =SUBTOTAL(9,N92:N93) -> 0 | P91: =SUBTOTAL(9,P92:P93) -> 0 | Q91: =SUBTOTAL(9,Q92:Q93) -> 0
C92: 1 | D92: SP | E92: 612135101 | F92: Hrubá výplň rýh ve stěnách maltou jakékoli šířky rýhy | G92: m2 | H92: 11.2 | I92: 0 | J92: =H92*I92 -> 0 | K92: 0.056 | L92: =H92*K92 -> 0.6272 | N92: =H92*M92 -> 0 | O92: 21 | P92: =J92*(O92/100) -> 0 | Q92: =J92+P92 -> 0
A94: S/../009 | B94: 3 | D94: Oddíl | F94: 009: Ostatní konstrukce a práce | J94: =SUBTOTAL(9,J95:J100) -> 0 | L94: =SUBTOTAL(9,L95:L100) -> 0 | N94: =SUBTOTAL(9,N95:N100) -> 0.744 | P94: =SUBTOTAL(9,P95:P100) -> 0 | Q94: =SUBTOTAL(9,Q95:Q100) -> 0
C95: 1 | D95: SP | E95: 973031714 | F95: Vysekání kapes v klenbách z cihel na MV nebo MVC pro špalíky do 50x50x50 mm | G95: kus | H95: 121 | I95: 0 | J95: =H95*I95 -> 0 | L95: =H95*K95 -> 0 | N95: =H95*M95 -> 0 | O95: 21 | P95: =J95*(O95/100) -> 0 | Q95: =J95+P95 -> 0
C96: 2 | D96: SP | E96: 973031716 | F96: Vysekání kapes v klenbách z cihel na MV nebo MVC pro špalíky do 100x100x50 mm | G96: kus | H96: 64 | I96: 0 | J96: =H96*I96 -> 0 | L96: =H96*K96 -> 0 | M96: 0.001 | N96: =H96*M96 -> 0.064 | O96: 21 | P96: =J96*(O96/100) -> 0 | Q96: =J96+P96 -> 0
C97: 3 | D97: SP | E97: 974031121 | F97: Vysekání rýh ve zdivu cihelném hl do 30 mm š do 30 mm | G97: m | H97: 140 | I97: 0 | J97: =H97*I97 -> 0 | L97: =H97*K97 -> 0 | M97: 0.002 | N97: =H97*M97 -> 0.28 | O97: 21 | P97: =J97*(O97/100) -> 0 | Q97: =J97+P97 -> 0
C98: 4 | D98: SP | E98: 974031122 | F98: Vysekání rýh ve zdivu cihelném hl do 30 mm š do 70 mm | G98: m | H98: 100 | I98: 0 | J98: =H98*I98 -> 0 | L98: =H98*K98 -> 0 | M98: 0.004 | N98: =H98*M98 -> 0.4 | O98: 21 | P98: =J98*(O98/100) -> 0 | Q98: =J98+P98 -> 0
C99: 5 | D99: SP | E99: 979054451 | F99: Očištění vybouraných zámkových dlaždic s původním spárováním z kameniva těženého | G99: m2 | H99: 5 | I99: 0 | J99: =H99*I99 -> 0 | L99: =H99*K99 -> 0 | N99: =H99*M99 -> 0 | O99: 21 | P99: =J99*(O99/100) -> 0 | Q99: =J99+P99 -> 0
A101: S/../046 | B101: 3 | D101: Oddíl | F101: 046: Zemní práce pro montážní práce | J101: =SUBTOTAL(9,J102:J104) -> 0 | L101: =SUBTOTAL(9,L102:L104) -> 0 | N101: =SUBTOTAL(9,N102:N104) -> 0 | P101: =SUBTOTAL(9,P102:P104) -> 0 | Q101: =SUBTOTAL(9,Q102:Q104) -> 0
C102: 1 | D102: MP | E102: 460171162 | F102: Hloubení kabelových nezapažených rýh strojně š 35 cm hl 70 cm v hornině tř I skupiny 3 | G102: m | H102: 20 | I102: 0 | J102: =H102*I102 -> 0 | L102: =H102*K102 -> 0 | N102: =H102*M102 -> 0 | O102: 21 | P102: =J102*(O102/100) -> 0 | Q102: =J102+P102 -> 0
C103: 2 | D103: MP | E103: 460451172 | F103: Zásyp kabelových rýh strojně se zhutněním š 35 cm hl 70 cm z horniny tř I skupiny 3 | G103: m | H103: 20 | I103: 0 | J103: =H103*I103 -> 0 | L103: =H103*K103 -> 0 | N103: =H103*M103 -> 0 | O103: 21 | P103: =J103*(O103/100) -> 0 | Q103: =J103+P103 -> 0
A105: S/../740 | B105: 3 | D105: Oddíl | F105: 740: Silnoproud | J105: =SUBTOTAL(9,J106:J186) -> 0 | L105: =SUBTOTAL(9,L106:L186) -> 0.28633 | N105: =SUBTOTAL(9,N106:N186) -> 0 | P105: =SUBTOTAL(9,P106:P186) -> 0 | Q105: =SUBTOTAL(9,Q106:Q186) -> 0
C106: 1 | D106: H | E106: 34111005 | F106: kabel instalační jádro Cu plné izolace PVC plášť PVC 450/750V (CYKY) 2x1,5mm2 | G106: m | H106: 145 | I106: 0 | J106: =H106*I106 -> 0 | K106: 0.0001 | L106: =H106*K106 -> 0.0145 | N106: =H106*M106 -> 0 | O106: 21 | P106: =J106*(O106/100) -> 0 | Q106: =J106+P106 -> 0
C107: 2 | D107: H | E107: 34111030 | F107: kabel instalační jádro Cu plné izolace PVC plášť PVC 450/750V (CYKY) 3x1,5mm2 | G107: m | H107: 983 | I107: 0 | J107: =H107*I107 -> 0 | K107: 0.00012 | L107: =H107*K107 -> 0.11796 | N107: =H107*M107 -> 0 | O107: 21 | P107: =J107*(O107/100) -> 0 | Q107: =J107+P107 -> 0
E108: Výkaz výměr: | F108: 343+640 | H108: 983
F109: 3A+3C | H109: 0
C111: 3 | D111: H | E111: 34111036 | F111: kabel instalační jádro Cu plné izolace PVC plášť PVC 450/750V (CYKY) 3x2,5mm2 | G111: m | H111: 438 | I111: 0 | J111: =H111*I111 -> 0 | K111: 0.00017 | L111: =H111*K111 -> 0.07446 | N111: =H111*M111 -> 0 | O111: 21 | P111: =J111*(O111/100) -> 0 | Q111: =J111+P111 -> 0
C112: 4 | D112: H | E112: 34111090 | F112: kabel instalační jádro Cu plné izolace PVC plášť PVC 450/750V (CYKY) 5x1,5mm2 | G112: m | H112: 110 | I112: 0 | J112: =H112*I112 -> 0 | K112: 0.00016 | L112: =H112*K112 -> 0.0176 | N112: =H112*M112 -> 0 | O112: 21 | P112: =J112*(O112/100) -> 0 | Q112: =J112+P112 -> 0
C113: 5 | D113: H | E113: 34140844 | F113: vodič propojovací jádro Cu lanované izolace PVC 450/750V (H07V-R) 1x6mm2 | G113: m | H113: 80 | I113: 0 | J113: =H113*I113 -> 0 | K113: 9e-05 | L113: =H113*K113 -> 0.0072 | N113: =H113*M113 -> 0 | O113: 21 | P113: =J113*(O113/100) -> 0 | Q113: =J113+P113 -> 0
C114: 6 | D114: H | E114: 34140850 | F114: vodič propojovací jádro Cu lanované izolace PVC 450/750V (H07V-R) 1x25mm2 | G114: m | H114: 40 | I114: 0 | J114: =H114*I114 -> 0 | K114: 0.00034 | L114: =H114*K114 -> 0.0136 | N114: =H114*M114 -> 0 | O114: 21 | P114: =J114*(O114/100) -> 0 | Q114: =J114+P114 -> 0
C115: 7 | D115: H | E115: 34535000 | F115: spínač kompletní, zápustný, jednopólový, řazení 1, šroubové svorky | G115: kus | H115: 9 | I115: 0 | J115: =H115*I115 -> 0 | K115: 4e-05 | L115: =H115*K115 -> 0.00036 | N115: =H115*M115 -> 0 | O115: 21 | P115: =J115*(O115/100) -> 0 | Q115: =J115+P115 -> 0
C116: 8 | D116: H | E116: 34535002 | F116: přepínač sériový kompletní, zápustný, řazení 5, šroubové svorky | G116: kus | H116: 1 | I116: 0 | J116: =H116*I116 -> 0 | K116: 6e-05 | L116: =H116*K116 -> 6e-05 | N116: =H116*M116 -> 0 | O116: 21 | P116: =J116*(O116/100) -> 0 | Q116: =J116+P116 -> 0
C117: 9 | D117: H | E117: 34535003 | F117: přepínač střídavý kompletní, zápustný, řazení 6, šroubové svorky | G117: kus | H117: 14 | I117: 0 | J117: =H117*I117 -> 0 | K117: 4e-05 | L117: =H117*K117 -> 0.00056 | N117: =H117*M117 -> 0 | O117: 21 | P117: =J117*(O117/100) -> 0 | Q117: =J117+P117 -> 0
C118: 10 | D118: H | E118: 34535004 | F118: přepínač křížový kompletní, zápustný, řazení 7, šroubové svorky | G118: kus | H118: 10 | I118: 0 | J118: =H118*I118 -> 0 | K118: 6e-05 | L118: =H118*K118 -> 0.0006 | N118: =H118*M118 -> 0 | O118: 21 | P118: =J118*(O118/100) -> 0 | Q118: =J118+P118 -> 0
C119: 11 | D119: H | E119: 34535008 | F119: ovládač zapínací kompletní, zápustný, řazení 1/0, šroubové svorky | G119: kus | H119: 6 | I119: 0 | J119: =H119*I119 -> 0 | K119: 4e-05 | L119: =H119*K119 -> 0.00024 | N119: =H119*M119 -> 0 | O119: 21 | P119: =J119*(O119/100) -> 0 | Q119: =J119+P119 -> 0
C120: 12 | D120: H | E120: 34555202 | F120: zásuvka zápustná jednonásobná chráněná, šroubové svorky | G120: kus | H120: 24 | I120: 0 | J120: =H120*I120 -> 0 | K120: 7e-05 | L120: =H120*K120 -> 0.00168 | N120: =H120*M120 -> 0 | O120: 21 | P120: =J120*(O120/100) -> 0 | Q120: =J120+P120 -> 0
C121: 13 | D121: H | E121: 34555203 | F121: zásuvka zápustná dvojnásobná, s optickou přepěťovou ochranou, šroubové svorky | G121: kus | H121: 6 | I121: 0 | J121: =H121*I121 -> 0 | K121: 0.00016 | L121: =H121*K121 -> 0.00096 | N121: =H121*M121 -> 0 | O121: 21 | P121: =J121*(O121/100) -> 0 | Q121: =J121+P121 -> 0
C122: 14 | D122: H | E122: 34555238 | F122: zásuvka zápustná dvojnásobná, šroubové svorky | G122: kus | H122: 7 | I122: 0 | J122: =H122*I122 -> 0 | K122: 0.0001 | L122: =H122*K122 -> 0.0007 | N122: =H122*M122 -> 0 | O122: 21 | P122: =J122*(O122/100) -> 0 | Q122: =J122+P122 -> 0
... C130: 22 | D130: H | E130: 35441997 | F130: svorka na potrubí 1/2" - 22mm, FeZn | G130: kus | H130: 8 | I130: 0 | J130: =H130*I130 -> 0 | K130: 7e-05 | L130: =H130*K130 -> 0.00056 | N130: =H130*M130 -> 0 | O130: 21 | P130: =J130*(O130/100) -> 0 | Q130: =J130+P130 -> 0
C131: 23 | D131: SP | E131: 741110043 | F131: Montáž trubka plastová ohebná D přes 35 mm uložená pevně | G131: m | H131: 30 | I131: 0 | J131: =H131*I131 -> 0 | L131: =H131*K131 -> 0 | N131: =H131*M131 -> 0 | O131: 21 | P131: =J131*(O131/100) -> 0 | Q131: =J131+P131 -> 0
C132: 24 | D132: SP | E132: 741112001 | F132: Montáž krabice zapuštěná plastová kruhová | G132: kus | H132: 64 | I132: 0 | J132: =H132*I132 -> 0 | L132: =H132*K132 -> 0 | N132: =H132*M132 -> 0 | O132: 21 | P132: =J132*(O132/100) -> 0 | Q132: =J132+P132 -> 0
C133: 25 | D133: SP | E133: 741112061 | F133: Montáž krabice přístrojová zapuštěná plastová kruhová | G133: kus | H133: 121 | I133: 0 | J133: =H133*I133 -> 0 | L133: =H133*K133 -> 0 | N133: =H133*M133 -> 0 | O133: 21 | P133: =J133*(O133/100) -> 0 | Q133: =J133+P133 -> 0
C134: 26 | D134: SP | E134: 741120001 | F134: Montáž vodič Cu izolovaný plný a laněný žíla 0,35-6 mm2 pod omítku (např. CY) | G134: m | H134: 80 | I134: 0 | J134: =H134*I134 -> 0 | L134: =H134*K134 -> 0 | N134: =H134*M134 -> 0 | O134: 21 | P134: =J134*(O134/100) -> 0 | Q134: =J134+P134 -> 0
C135: 26 | D135: SP | E135: 741120005 | F135: Montáž vodič Cu izolovaný plný a laněný žíla 25-35 mm2 pod omítku (např. CY) | G135: m | H135: 40 | I135: 0 | J135: =H135*I135 -> 0 | L135: =H135*K135 -> 0 | N135: =H135*M135 -> 0 | O135: 21 | P135: =J135*(O135/100) -> 0 | Q135: =J135+P135 -> 0
C136: 27 | D136: SP | E136: 741122601 | F136: Montáž kabel Cu plný kulatý žíla 2x1,5 až 6 mm2 uložený pevně (např. CYKY) | G136: m | H136: 145 | I136: 0 | J136: =H136*I136 -> 0 | L136: =H136*K136 -> 0 | N136: =H136*M136 -> 0 | O136: 21 | P136: =J136*(O136/100) -> 0 | Q136: =J136+P136 -> 0
C137: 28 | D137: SP | E137: 741122611 | F137: Montáž kabel Cu plný kulatý žíla 3x1,5 až 6 mm2 uložený pevně (např. CYKY) | G137: m | H137: 1421 | I137: 0 | J137: =H137*I137 -> 0 | L137: =H137*K137 -> 0 | N137: =H137*M137 -> 0 | O137: 21 | P137: =J137*(O137/100) -> 0 | Q137: =J137+P137 -> 0
C138: 29 | D138: SP | E138: 741122641 | F138: Montáž kabel Cu plný kulatý žíla 5x1,5 až 2,5 mm2 uložený pevně (např. CYKY) | G138: m | H138: 110 | I138: 0 | J138: =H138*I138 -> 0 | L138: =H138*K138 -> 0 | N138: =H138*M138 -> 0 | O138: 21 | P138: =J138*(O138/100) -> 0 | Q138: =J138+P138 -> 0
C139: 30 | D139: SP | E139: 741130001 | F139: Ukončení vodič izolovaný do 2,5 mm2 v rozváděči nebo na přístroji | G139: kus | H139: 252 | I139: 0 | J139: =H139*I139 -> 0 | L139: =H139*K139 -> 0 | N139: =H139*M139 -> 0 | O139: 21 | P139: =J139*(O139/100) -> 0 | Q139: =J139+P139 -> 0
C140: 31 | D140: SP | E140: 741310101 | F140: Montáž spínač (polo)zapuštěný bezšroubové připojení 1-jednopólový se zapojením vodičů | G140: kus | H140: 9 | I140: 0 | J140: =H140*I140 -> 0 | L140: =H140*K140 -> 0 | N140: =H140*M140 -> 0 | O140: 21 | P140: =J140*(O140/100) -> 0 | Q140: =J140+P140 -> 0
C141: 32 | D141: SP | E141: 741310112 | F141: Montáž ovladač (polo)zapuštěný bezšroubové připojení 1/0-tlačítkový zapínací se zapojením vodičů | G141: kus | H141: 6 | I141: 0 | J141: =H141*I141 -> 0 | L141: =H141*K141 -> 0 | N141: =H141*M141 -> 0 | O141: 21 | P141: =J141*(O141/100) -> 0 | Q141: =J141+P141 -> 0
C142: 33 | D142: SP | E142: 741310121 | F142: Montáž přepínač (polo)zapuštěný bezšroubové připojení 5-sériový se zapojením vodičů | G142: kus | H142: 1 | I142: 0 | J142: =H142*I142 -> 0 | L142: =H142*K142 -> 0 | N142: =H142*M142 -> 0 | O142: 21 | P142: =J142*(O142/100) -> 0 | Q142: =J142+P142 -> 0
... C172: 62 | D172: H | E172: XE38 | F172: Rozvodnice R5-2 ( 1.NP-vlevo) - cena dle specifikace | G172: kus | H172: 1 | I172: 0 | J172: =H172*I172 -> 0 | L172: =H172*K172 -> 0 | N172: =H172*M172 -> 0 | O172: 21 | P172: =J172*(O172/100) -> 0 | Q172: =J172+P172 -> 0
C173: 63 | D173: H | E173: XE39 | F173: Rozvodnice R6-2 ( 2.NP-vlevo) - cena dle specifikace | G173: kus | H173: 1 | J173: =H173*I173 -> 0 | L173: =H173*K173 -> 0 | N173: =H173*M173 -> 0 | O173: 21 | P173: =J173*(O173/100) -> 0 | Q173: =J173+P173 -> 0
C174: 65 | D174: H | E174: XE40 | F174: Montáž požár. odolných dveří rozvaděče, vč. výměny přístrojových vložek | G174: kus | H174: 4 | I174: 0 | J174: =H174*I174 -> 0 | L174: =H174*K174 -> 0 | N174: =H174*M174 -> 0 | O174: 21 | P174: =J174*(O174/100) -> 0 | Q174: =J174+P174 -> 0
C175: 64 | D175: H | E175: XE40 | F175: Dveře rozvodnice s požárním uzávěrem - SZ L-0706-EI30 DPI1-S, rám s dveřmi pod omítku | G175: kus | H175: 4 | I175: 0 | J175: =H175*I175 -> 0 | L175: =H175*K175 -> 0 | N175: =H175*M175 -> 0 | O175: 21 | P175: =J175*(O175/100) -> 0 | Q175: =J175+P175 -> 0
E176: Výkaz výměr: | F176: 4 | H176: 4
F177: vnitřní rozměry 495 x 695 mm ( šxv ), vnější rozměry 560 x 750 mm ( š x v ) | H177: 0
...

Sheet Zti
AT2: {d58dca98-89db-4b36-96e2-73ce7cd9c991}
AT3: 2
D4: KRYCÍ LIST SOUPISU PRACÍ | M4: v --- níže se nacházejí doplnkové a pomocné údaje k sestavám --- v | AT4: False
D6: Stavba:
E7: ZŠ M. CHOCEŇSKÉHO, KOLLÁROVA 688, CHOCEŇ, NÁVRH ÚPRAV HYGIENICKÉHO ZÁZEMÍ_D.1.4.1_ZTI
D9: KSO: | I9: CC-CZ:
D10: Místo: | F10: Choceň | I10: Datum: | J10: ='[2]Rekapitulace stavby'!AN8 -> 13. 2. 2025
D12: Zadavatel: | I12: IČ: | J12: =IF('[2]Rekapitulace stavby'!AN10="","",'[2]Rekapitulace stavby'!AN10)
E13: =IF('[2]Rekapitulace stavby'!E11="","",'[2]Rekapitulace stavby'!E11) | I13: DIČ: | J13: =IF('[2]Rekapitulace stavby'!AN11="","",'[2]Rekapitulace stavby'!AN11)
D15: Účastník: | I15: IČ: | J15: ='[2]Rekapitulace stavby'!AN13 -> Vyplň údaj
E16: ='[2]Rekapitulace stavby'!E14 -> Vyplň údaj | I16: DIČ: | J16: ='[2]Rekapitulace stavby'!AN14 -> Vyplň údaj
D18: Projektant: | I18: IČ:
E19: Ing. Horyna | I19: DIČ:
D21: Zpracovatel: | I21: IČ:
E22: Ing. Horyna | I22: DIČ:
D24: Poznámka:
E25: Soupis prací je sestaven s využitím Cenové soustavy ÚRS. Položky, které pochází z této cenové soustavy, jsou ve sloupci 'Cenová soustava' označeny popisem 'CS ÚRS' a úrovní příslušného kalendářního pololetí. Veškeré další informace vymezující popis a podmínky použití těchto položek z Cenové soustavy, které nejsou uvedeny přímo v soupisu prací, jsou neomezeně dálkově k dispozici na webu podminky.urs.cz.
D28: Cena bez DPH | J28: =ROUND(J90, 2) -> 0
F30: Základ daně | I30: Sazba daně | J30: Výše daně
D31: DPH | E31: základní | F31: =ROUND((SUM(BE90:BE844)), 2) -> 0 | I31: 0.21 | J31: =ROUND(((SUM(BE90:BE844))*I31), 2) -> 0
E32: snížená | F32: =ROUND((SUM(BF90:BF844)), 2) -> 0 | I32: 0.12 | J32: =ROUND(((SUM(BF90:BF844))*I32), 2) -> 0
E33: zákl. přenesená | F33: =ROUND((SUM(BG90:BG844)), 2) -> 0 | I33: 0.21 | J33: =0 -> 0
E34: sníž. přenesená | F34: =ROUND((SUM(BH90:BH844)), 2) -> 0 | I34: 0.12 | J34: =0 -> 0
E35: nulová | F35: =ROUND((SUM(BI90:BI844)), 2) -> 0 | I35: 0 | J35: =0 -> 0
D37: Cena s DPH | G37: v | H37: CZK | J37: =SUM(J28:J35) -> 0
C43: REKAPITULACE ČLENĚNÍ SOUPISU PRACÍ
C45: Stavba:
E46: =E7 -> ZŠ M. CHOCEŇSKÉHO, KOLLÁROVA 688, CHOCEŇ, NÁVRH ÚPRAV HYGIENICKÉHO ZÁZEMÍ_D.1.4.1_ZTI
C48: Místo: | F48: =F10 -> Choceň | I48: Datum: | J48: =IF(J10="","",J10) -> 13. 2. 2025
C50: Zadavatel: | F50: =E13 | I50: Projektant: | J50: =E19 -> Ing. Horyna
C51: Účastník: | F51: =IF(E16="","",E16) -> Vyplň údaj | I51: Zpracovatel: | J51: =E22 -> Ing. Horyna
C53: Kód dílu - Popis | J53: Cena celkem [CZK]
C55: Náklady stavby celkem | J55: =J90 -> 0 | AU55: -1
D56: HSV - Práce a dodávky HSV | J56: =J91 -> 0
D57: 1 - Zemní práce | J57: =J92 -> 0
D58: 4 - Vodorovné konstrukce | J58: =J299 -> 0
D59: 5 - Komunikace pozemní | J59: =J353 -> 0
D60: 6 - Úpravy povrchů, podlahy a osazování výplní | J60: =J358 -> 0
D61: 8 - Vedení trubní dálková a přípojná | J61: =J386 -> 0
D62: 9 - Ostatní konstrukce a práce, bourání | J62: =J407 -> 0
D63: 997 - Přesun sutě | J63: =J440 -> 0
D64: 998 - Přesun hmot | J64: =J454 -> 0
D65: PSV - Práce a dodávky PSV | J65: =J461 -> 0
D66: 721 - Zdravotechnika - vnitřní kanalizace | J66: =J462 -> 0
D67: 722 - Zdravotechnika - vnitřní vodovod | J67: =J546 -> 0
D68: 725 - Zdravotechnika - zařizovací předměty | J68: =J647 -> 0
D69: 733 - Ústřední vytápění - rozvodné potrubí | J69: =J717 -> 0
D70: 734 - Ústřední vytápění - armatury | J70: =J778 -> 0
D71: 735 - Ústřední vytápění - otopná tělesa | J71: =J797 -> 0
D72: 783 - Dokončovací práce - nátěry | J72: =J834 -> 0
C79: SOUPIS PRACÍ
C81: Stavba:
E82: =E7 -> ZŠ M. CHOCEŇSKÉHO, KOLLÁROVA 688, CHOCEŇ, NÁVRH ÚPRAV HYGIENICKÉHO ZÁZEMÍ_D.1.4.1_ZTI
C84: Místo: | F84: =F10 -> Choceň | I84: Datum: | J84: =IF(J10="","",J10) -> 13. 2. 2025
C86: Zadavatel: | F86: =E13 | I86: Projektant: | J86: =E19 -> Ing. Horyna
C87: Účastník: | F87: =IF(E16="","",E16) -> Vyplň údaj | I87: Zpracovatel: | J87: =E22 -> Ing. Horyna
C89: PČ | D89: Typ | E89: Kód | F89: Popis | G89: MJ | H89: Množství | I89: J.cena [CZK] | J89: Cena celkem [CZK] | K89: Cenová soustava | N89: DPH | O89: J. Nh [h] | P89: Nh celkem [h] | Q89: J. hmotnost [t] | R89: Hmotnost celkem [t] | S89: J. suť [t] | T89: Suť Celkem [t]
C90: Náklady soupisu celkem | J90: =BK90 -> 0 | P90: =P91+P461 -> 0 | R90: =R91+R461 -> 315.30539 | T90: =T91+T461 -> 75.84352 | AT90: D | AU90: -1 | BK90: =BK91+BK461 -> 0
D91: D | E91: HSV | F91: Práce a dodávky HSV | J91: =BK91 -> 0 | P91: =P92+P299+P353+P358+P386+P407+P440+P454 -> 0 | R91: =R92+R299+R353+R358+R386+R407+R440+R454 -> 312.24973 | T91: =T92+T299+T353+T358+T386+T407+T440+T454 -> 71.1746 | AR91: 1 | AT91: D | AU91: 0 | AY91: ROZPOCET | BK91: =BK92+BK299+BK353+BK358+BK386+BK407+BK440+BK454 -> 0
D92: D | E92: 1 | F92: Zemní práce | J92: =BK92 -> 0 | P92: =SUM(P93:P298) -> 0 | R92: =SUM(R93:R298) -> 269.92736 | T92: =SUM(T93:T298) -> 67.469 | AR92: 1 | AT92: D | AU92: 1 | AY92: ROZPOCET | BK92: =SUM(BK93:BK298) -> 0
C93: 74 | D93: K | E93: 113106171 | F93: Rozebrání dlažeb vozovek ze zámkové dlažby s ložem z kameniva ručně | G93: m2 | H93: 45 | J93: =ROUND(I93*H93,2) -> 0 | K93: CS ÚRS 2025 01 | N93: základní | P93: =O93*H93 -> 0 | Q93: 0 | R93: =Q93*H93 -> 0 | S93: 0.295 | T93: =S93*H93 -> 13.275 | AR93: 4 | AT93: K | AU93: 2 | AY93: ROZPOCET | BE93: =IF(N93="základní",J93,0) -> 0 | BF93: =IF(N93="snížená",J93,0) -> 0 | BG93: =IF(N93="zákl. přenesená",J93,0) -> 0 | BH93: =IF(N93="sníž. přenesená",J93,0) -> 0 | BI93: =IF(N93="nulová",J93,0) -> 0 | BJ93: 1 | BK93: =ROUND(I93*H93,2) -> 0 | BL93: 4 | BM93: -2144213119
D94: PP | F94: Rozebrání dlažeb vozovek a ploch s přemístěním hmot na skládku na vzdálenost do 3 m nebo s naložením na dopravní prostředek, s jakoukoliv výplní spár ručně ze zámkové dlažby s ložem z kameniva | AT94: PP | AU94: 2
D95: Online PSC | F95: https://podminky.urs.cz/item/CS_URS_2025_01/113106171 | AT95: Online PSC | AU95: 2
D96: VV | F96: 30*1,5 | H96: 45 | AT96: VV | AU96: 2 | AV96: 2 | AW96: True | AX96: 1 | AY96: ROZPOCET
C97: 37 | D97: K | E97: 113107031 | F97: Odstranění podkladu z betonu prostého tl přes 100 do 150 mm při překopech ručně | G97: m2 | H97: 71 | J97: =ROUND(I97*H97,2) -> 0 | K97: CS ÚRS 2025 01 | N97: základní | P97: =O97*H97 -> 0 | Q97: 0 | R97: =Q97*H97 -> 0 | S97: 0.325 | T97: =S97*H97 -> 23.075 | AR97: 4 | AT97: K | AU97: 2 | AY97: ROZPOCET | BE97: =IF(N97="základní",J97,0) -> 0 | BF97: =IF(N97="snížená",J97,0) -> 0 | BG97: =IF(N97="zákl. přenesená",J97,0) -> 0 | BH97: =IF(N97="sníž. přenesená",J97,0) -> 0 | BI97: =IF(N97="nulová",J97,0) -> 0 | BJ97: 1 | BK97: =ROUND(I97*H97,2) -> 0 | BL97: 4 | BM97: 491288807
D98: PP | F98: Odstranění podkladů nebo krytů při překopech inženýrských sítí s přemístěním hmot na skládku ve vzdálenosti do 3 m nebo s naložením na dopravní prostředek ručně z betonu prostého, o tl. vrstvy přes 100 do 150 mm | AT98: PP | AU98: 2
D99: Online PSC | F99: https://podminky.urs.cz/item/CS_URS_2025_01/113107031 | AT99: Online PSC | AU99: 2
D100: VV | F100: 10*0,6 | H100: 6 | AT100: VV | AU100: 2 | AV100: 2 | AW100: True | AX100: 0 | AY100: ROZPOCET
D101: VV | F101: 12*1 | H101: 12 | AT101: VV | AU101: 2 | AV101: 2 | AW101: True | AX101: 0 | AY101: ROZPOCET
D102: VV | F102: 10*0,6 | H102: 6 | AT102: VV | AU102: 2 | AV102: 2 | AW102: True | AX102: 0 | AY102: ROZPOCET
D103: VV | F103: 22*0,6 | H103: 13.2 | AT103: VV | AU103: 2 | AV103: 2 | AW103: True | AX103: 0 | AY103: ROZPOCET
D104: VV | F104: 2*0,6 | H104: 1.2 | AT104: VV | AU104: 2 | AV104: 2 | AW104: True | AX104: 0 | AY104: ROZPOCET
D105: VV | F105: 5*1 | H105: 5 | AT105: VV | AU105: 2 | AV105: 2 | AW105: True | AX105: 0 | AY105: ROZPOCET
D106: VV | F106: 4*0,6 | H106: 2.4 | AT106: VV | AU106: 2 | AV106: 2 | AW106: True | AX106: 0 | AY106: ROZPOCET
D107: VV | F107: 4*0,6 | H107: 2.4 | AT107: VV | AU107: 2 | AV107: 2 | AW107: True | AX107: 0 | AY107: ROZPOCET
D108: VV | F108: 1*0,6 | H108: 0.6 | AT108: VV | AU108: 2 | AV108: 2 | AW108: True | AX108: 0 | AY108: ROZPOCET
D109: VV | F109: 37*0,6 | H109: 22.2 | AT109: VV | AU109: 2 | AV109: 2 | AW109: True | AX109: 0 | AY109: ROZPOCET
D110: VV | F110: Součet | H110: 71 | AT110: VV | AU110: 2 | AV110: 4 | AW110: True | AX110: 1 | AY110: ROZPOCET
C111: 38 | D111: K | E111: 113107035 | F111: Odstranění podkladu z betonu vyztuženého sítěmi tl do 100 mm při překopech ručně | G111: m2 | H111: 71 | J111: =ROUND(I111*H111,2) -> 0 | K111: CS ÚRS 2025 01 | N111: základní | P111: =O111*H111 -> 0 | Q111: 0 | R111: =Q111*H111 -> 0 | S111: 0.243 | T111: =S111*H111 -> 17.253 | AR111: 4 | AT111: K | AU111: 2 | AY111: ROZPOCET | BE111: =IF(N111="základní",J111,0) -> 0 | BF111: =IF(N111="snížená",J111,0) -> 0 | BG111: =IF(N111="zákl. přenesená",J111,0) -> 0 | BH111: =IF(N111="sníž. přenesená",J111,0) -> 0 | BI111: =IF(N111="nulová",J111,0) -> 0 | BJ111: 1 | BK111: =ROUND(I111*H111,2) -> 0 | BL111: 4 | BM111: -1645655169
D112: PP | F112: Odstranění podkladů nebo krytů při překopech inženýrských sítí s přemístěním hmot na skládku ve vzdálenosti do 3 m nebo s naložením na dopravní prostředek ručně z betonu vyztuženého sítěmi, o tl. vrstvy do 100 mm | AT112: PP | AU112: 2
D113: Online PSC | F113: https://podminky.urs.cz/item/CS_URS_2025_01/113107035 | AT113: Online PSC | AU113: 2
C114: 41 | D114: K | E114: 113107135 | F114: Odstranění podkladu z betonu vyztuženého sítěmi tl do 100 mm ručně | G114: m2 | H114: 52 | J114: =ROUND(I114*H114,2) -> 0 | K114: CS ÚRS 2025 01 | N114: základní | P114: =O114*H114 -> 0 | Q114: 0 | R114: =Q114*H114 -> 0 | S114: 0.243 | T114: =S114*H114 -> 12.636 | AR114: 4 | AT114: K | AU114: 2 | AY114: ROZPOCET | BE114: =IF(N114="základní",J114,0) -> 0 | BF114: =IF(N114="snížená",J114,0) -> 0 | BG114: =IF(N114="zákl. přenesená",J114,0) -> 0 | BH114: =IF(N114="sníž. přenesená",J114,0) -> 0 | BI114: =IF(N114="nulová",J114,0) -> 0 | BJ114: 1 | BK114: =ROUND(I114*H114,2) -> 0 | BL114: 4 | BM114: -31442896
D115: PP | F115: Odstranění podkladů nebo krytů ručně s přemístěním hmot na skládku na vzdálenost do 3 m nebo s naložením na dopravní prostředek z betonu vyztuženého sítěmi, o tl. vrstvy do 100 mm | AT115: PP | AU115: 2
D116: Online PSC | F116: https://podminky.urs.cz/item/CS_URS_2025_01/113107135 | AT116: Online PSC | AU116: 2
D117: VV | F117: odstravěví instal. kanálu | AT117: VV | AU117: 2 | AV117: 1 | AW117: True | AX117: 0 | AY117: ROZPOCET
D118: VV | F118: 14*2 | H118: 28 | AT118: VV | AU118: 2 | AV118: 2 | AW118: True | AX118: 0 | AY118: ROZPOCET
D119: VV | F119: 12*2 | H119: 24 | AT119: VV | AU119: 2 | AV119: 2 | AW119: True | AX119: 0 | AY119: ROZPOCET
D120: VV | F120: Součet | H120: 52 | AT120: VV | AU120: 2 | AV120: 4 | AW120: True | AX120: 1 | AY120: ROZPOCET
C121: 75 | D121: K | E121: 113202111 | F121: Vytrhání obrub krajníků obrubníků stojatých | G121: m | H121: 6 | J121: =ROUND(I121*H121,2) -> 0 | K121: CS ÚRS 2025 01 | N121: základní | P121: =O121*H121 -> 0 | Q121: 0 | R121: =Q121*H121 -> 0 | S121: 0.205 | T121: =S121*H121 -> 1.23 | AR121: 4 | AT121: K | AU121: 2 | AY121: ROZPOCET | BE121: =IF(N121="základní",J121,0) -> 0 | BF121: =IF(N121="snížená",J121,0) -> 0 | BG121: =IF(N121="zákl. přenesená",J121,0) -> 0 | BH121: =IF(N121="sníž. přenesená",J121,0) -> 0 | BI121: =IF(N121="nulová",J121,0) -> 0 | BJ121: 1 | BK121: =ROUND(I121*H121,2) -> 0 | BL121: 4 | BM121: -1800237800
D122: PP | F122: Vytrhání obrub s vybouráním lože, s přemístěním hmot na skládku na vzdálenost do 3 m nebo s naložením na dopravní prostředek z krajníků nebo obrubníků stojatých | AT122: PP | AU122: 2
D123: Online PSC | F123: https://podminky.urs.cz/item/CS_URS_2025_01/113202111 | AT123: Online PSC | AU123: 2
D124: VV | F124: 3+3 | H124: 6 | AT124: VV | AU124: 2 | AV124: 2 | AW124: True | AX124: 1 | AY124: ROZPOCET
C125: 2 | D125: K | E125: 132112121 | F125: Hloubení zapažených rýh šířky do 800 mm v soudržných horninách třídy těžitelnosti I skupiny 1 a 2 ručně | G125: m3 | H125: 73.34 | J125: =ROUND(I125*H125,2) -> 0 | K125: CS ÚRS 2025 01 | N125: základní | P125: =O125*H125 -> 0 | Q125: 0 | R125: =Q125*H125 -> 0 | S125: 0 | T125: =S125*H125 -> 0 | AR125: 4 | AT125: K | AU125: 2 | AY125: ROZPOCET | BE125: =IF(N125="základní",J125,0) -> 0 | BF125: =IF(N125="snížená",J125,0) -> 0 | BG125: =IF(N125="zákl. přenesená",J125,0) -> 0 | BH125: =IF(N125="sníž. přenesená",J125,0) -> 0 | BI125: =IF(N125="nulová",J125,0) -> 0 | BJ125: 1 | BK125: =ROUND(I125*H125,2) -> 0 | BL125: 4 | BM125: -1261227175
D126: PP | F126: Hloubení zapažených rýh šířky do 800 mm ručně s urovnáním dna do předepsaného profilu a spádu v hornině třídy těžitelnosti I skupiny 1 a 2 soudržných | AT126: PP | AU126: 2
D127: Online PSC | F127: https://podminky.urs.cz/item/CS_URS_2025_01/132112121 | AT127: Online PSC | AU127: 2
D128: VV | F128: vnitřní kanalizace | AT128: VV | AU128: 2 | AV128: 1 | AW128: True | AX128: 0 | AY128: ROZPOCET
D129: VV | F129: 1_1 | AT129: VV | AU129: 2 | AV129: 1 | AW129: True | AX129: 0 | AY129: ROZPOCET
D130: VV | F130: 10*0,6*0,8 | H130: 4.8 | AT130: VV | AU130: 2 | AV130: 2 | AW130: True | AX130: 0 | AY130: ROZPOCET
D131: VV | F131: 2_2 | AT131: VV | AU131: 2 | AV131: 1 | AW131: True | AX131: 0 | AY131: ROZPOCET
D132: VV | F132: 12*1*1,9 | H132: 22.8 | AT132: VV | AU132: 2 | AV132: 2 | AW132: True | AX132: 0 | AY132: ROZPOCET
...

Sheet Vzduchotechnika
A1: Typ | B1: Kód | C1: Popis | D1: MJ | E1: Množství | F1: J.cena [CZK] | G1: Cena celkem [CZK] | H1: Cenová soustava
C3: Zařízení č.1 - větrání
A4: K | B4: 1.1 | C4: Radiální ventilátor pro zabudování do podhledu JS 100mm, zpětná klapka, kuličková ložiska, časový doběh - Vod=50m3/hod, pext=100Pa - 230V/25W | D4: ks | E4: 4 | F4: 0 | G4: =ROUND(F4*E4,2) -> 0 | H4: vlastní
A5: K | B5: 1.2 | C5: Nástěnný radiální ventilátor s AC motorem, kuličková ložiska, zpětná klapka, časový doběh JS 100mm- V=150m3/hod, pext=120Pa, 230V/46W | D5: ks | E5: 1 | F5: 0 | G5: =ROUND(F5*E5,2) -> 0 | H5: vlastní
A6: K | B6: 1.3 | C6: Nástěnný axiální ventilátor s AC motorem, zpětná klapka, časový doběh JS 100mm- V=60m3/hod, pext=80Pa, 230V/35W | D6: ks | E6: 2 | F6: 0 | G6: =ROUND(F6*E6,2) -> 0 | H6: vlastní
A7: K | B7: 1.4 | C7: Ohebné hliníkové potrubí JS 100mm - 5m | D7: ks | E7: 1 | F7: 0 | G7: =ROUND(F7*E7,2) -> 0 | H7: vlastní
A8: K | B8: 1.5 | C8: Výfuková hlavice JS 100mm | D8: ks | E8: 1 | F8: 0 | G8: =ROUND(F8*E8,2) -> 0 | H8: vlastní
A9: K | B9: 1.6 | C9: Koncový kryt s odvodem kondenzátu DR 100mm | D9: ks | E9: 1 | F9: 0 | G9: =ROUND(F9*E9,2) -> 0 | H9: vlastní
A10: K | B10: 1.7 | C10: OBJ 90 100 100 | D10: ks | E10: 3 | F10: 0 | G10: =ROUND(F10*E10,2) -> 0 | H10: vlastní
A11: K | B11: 1.8 | C11: OS 90 100 | D11: ks | E11: 1 | F11: 0 | G11: =ROUND(F11*E11,2) -> 0 | H11: vlastní
A12: K | B12: 1.9 | C12: Potrubí Spiro 100/3m | D12: ks | E12: 2 | F12: 0 | G12: =ROUND(F12*E12,2) -> 0 | H12: vlastní
A13: K | B13: 1.- | C13: Tepelná izolace ze syntetického kaučuku tl.20mm - samolepící povrch se zvýšenou přilnavostí , povrchová úprava hliníkovou fólií se sklenou mřížkou (l£0,038W/(mK) dle EN 12667) | D13: m2 | E13: 1 | F13: 0 | G13: =ROUND(F13*E13,2) -> 0 | H13: vlastní
A14: K | B14: 1.- | C14: Montážní a těsnící materiál, materiál na závěsy | D14: kg | E14: 20 | F14: 0 | G14: =ROUND(F14*E14,2) -> 0 | H14: vlastní
C15: Celkem | G15: =SUM(G4:G14) -> 0

Sheet VRN
L2: >> skryté sloupce << | AT2: {607ea316-52da-4d7b-bc61-4e12e7d8c6b5}
AT3: 2
D4: KRYCÍ LIST SOUPISU PRACÍ | M4: v --- níže se nacházejí doplnkové a pomocné údaje k sestavám --- v | AT4: False
D6: Stavba:
D8: Objekt:
E9: VRN - VRN
D11: KSO: | I11: CC-CZ:
D12: Místo: | I12: Datum: | J12: ='[3]Rekapitulace stavby'!AN8 -> 26. 2. 2025
D14: Zadavatel: | I14: IČ: | J14: =IF('[3]Rekapitulace stavby'!AN10="","",'[3]Rekapitulace stavby'!AN10)
E15: =IF('[3]Rekapitulace stavby'!E11="","",'[3]Rekapitulace stavby'!E11) | I15: DIČ: | J15: =IF('[3]Rekapitulace stavby'!AN11="","",'[3]Rekapitulace stavby'!AN11)
D17: Zhotovitel: | I17: IČ: | J17: ='[3]Rekapitulace stavby'!AN13
E18: ='[3]Rekapitulace stavby'!E14 | I18: DIČ: | J18: ='[3]Rekapitulace stavby'!AN14
D20: Projektant: | I20: IČ: | J20: =IF('[3]Rekapitulace stavby'!AN16="","",'[3]Rekapitulace stavby'!AN16)
E21: =IF('[3]Rekapitulace stavby'!E17="","",'[3]Rekapitulace stavby'!E17) | I21: DIČ: | J21: =IF('[3]Rekapitulace stavby'!AN17="","",'[3]Rekapitulace stavby'!AN17)
D23: Zpracovatel: | I23: IČ: | J23: =IF('[3]Rekapitulace stavby'!AN19="","",'[3]Rekapitulace stavby'!AN19)
E24: =IF('[3]Rekapitulace stavby'!E20="","",'[3]Rekapitulace stavby'!E20) | I24: DIČ: | J24: =IF('[3]Rekapitulace stavby'!AN20="","",'[3]Rekapitulace stavby'!AN20)
D26: Poznámka:
D30: Náklady z rozpočtu | J30: =J96 -> 0
D31: Ostatní náklady | J31: =J100 -> 0
D32: Cena bez DPH | J32: =ROUND(J30 + J31, 2) -> 0
F34: Základ daně | I34: Sazba daně | J34: Výše daně
D35: DPH | E35: základní | F35: =ROUND((SUM(BE100:BE101) + SUM(BE121:BE129)), 2) -> 0 | I35: 0.21 | J35: =ROUND(((SUM(BE100:BE101) + SUM(BE121:BE129))*I35), 2) -> 0
E36: snížená | F36: =ROUND((SUM(BF100:BF101) + SUM(BF121:BF129)), 2) -> 0 | I36: 0.12 | J36: =ROUND(((SUM(BF100:BF101) + SUM(BF121:BF129))*I36), 2) -> 0
E37: zákl. přenesená | F37: =ROUND((SUM(BG100:BG101) + SUM(BG121:BG129)), 2) -> 0 | I37: 0.21 | J37: =0 -> 0
E38: sníž. přenesená | F38: =ROUND((SUM(BH100:BH101) + SUM(BH121:BH129)), 2) -> 0 | I38: 0.12 | J38: =0 -> 0
E39: nulová | F39: =ROUND((SUM(BI100:BI101) + SUM(BI121:BI129)), 2) -> 0 | I39: 0 | J39: =0 -> 0
D41: Cena s DPH | G41: v | H41: CZK | J41: =SUM(J32:J39) -> 0
D50: Projektant | G50: Zpracovatel
D61: Datum a podpis: | F61: Razítko | G61: Datum a podpis: | J61: Razítko
D65: Objednavatel | G65: Zhotovitel
D76: Datum a podpis: | F76: Razítko | G76: Datum a podpis: | J76: Razítko
C82: REKAPITULACE ČLENĚNÍ SOUPISU PRACÍ
C84: Stavba:
E85: =E7 -> 0
C86: Objekt:
E87: =E9 -> VRN - VRN
C89: Místo: | F89: =F12 | I89: Datum: | J89: =IF(J12="","",J12) -> 26. 2. 2025
C91: Zadavatel: | F91: =E15 | I91: Projektant: | J91: =E21
C92: Zhotovitel: | F92: =IF(E18="","",E18) | I92: Zpracovatel: | J92: =E24
C94: Kód dílu - Popis | J94: Cena celkem [CZK]
C96: 1) Náklady ze soupisu prací | J96: =J121 -> 0 | AU96: -1
D97: VRN - Vedlejší rozpočtové náklady | J97: =J122 -> 0
C100: 2) Ostatní náklady | J100: 0 | N100: DPH
C102: Celkové náklady za stavbu 1) + 2) | J102: =ROUND(J96+J100,2) -> 0
C108: SOUPIS PRACÍ
C110: Stavba:
E111: =E7 -> 0
C112: Objekt:
E113: =E9 -> VRN - VRN
C115: Místo: | F115: =F12 | I115: Datum: | J115: =IF(J12="","",J12) -> 26. 2. 2025
C117: Zadavatel: | F117: =E15 | I117: Projektant: | J117: =E21
C118: Zhotovitel: | F118: =IF(E18="","",E18) | I118: Zpracovatel: | J118: =E24
C120: PČ | D120: Typ | E120: Kód | F120: Popis | G120: MJ | H120: Množství | I120: J.cena [CZK] | J120: Cena celkem [CZK] | K120: Cenová soustava | N120: DPH | O120: J. Nh [h] | P120: Nh celkem [h] | Q120: J. hmotnost [t] | R120: Hmotnost celkem [t] | S120: J. suť [t] | T120: Suť Celkem [t]
C121: Náklady soupisu celkem | J121: =BK121 -> 0 | P121: =P122 -> 0 | R121: =R122 -> 0 | T121: =T122 -> 0 | AT121: D | AU121: -1 | BK121: =BK122 -> 0
D122: D | E122: VRN | F122: Vedlejší rozpočtové náklady | J122: =BK122 -> 0 | P122: =SUM(P123:P129) -> 0 | R122: =SUM(R123:R129) -> 0 | T122: =SUM(T123:T129) -> 0 | AR122: 5 | AT122: D | AU122: 0 | AY122: ROZPOCET | BK122: =SUM(BK123:BK129) -> 0
C123: 1 | D123: K | E123: 010001000 | F123: Výrobní dokumentace | G123: … | H123: 1 | I123: 0 | J123: =ROUND(I123*H123,2) -> 0 | N123: základní | O123: 0 | P123: =O123*H123 -> 0 | Q123: 0 | R123: =Q123*H123 -> 0 | S123: 0 | T123: =S123*H123 -> 0 | AR123: 1024 | AT123: K | AU123: 1 | AY123: ROZPOCET | BE123: =IF(N123="základní",J123,0) -> 0 | BF123: =IF(N123="snížená",J123,0) -> 0 | BG123: =IF(N123="zákl. přenesená",J123,0) -> 0 | BH123: =IF(N123="sníž. přenesená",J123,0) -> 0 | BI123: =IF(N123="nulová",J123,0) -> 0 | BJ123: 1 | BK123: =ROUND(I123*H123,2) -> 0 | BL123: 1024 | BM123: 1120396468
C124: 3 | D124: K | E124: 030001000 | F124: Dokumentace skutečného provedení | G124: … | H124: 1 | I124: 0 | J124: =ROUND(I124*H124,2) -> 0 | N124: základní | O124: 0 | P124: =O124*H124 -> 0 | Q124: 0 | R124: =Q124*H124 -> 0 | S124: 0 | T124: =S124*H124 -> 0 | AR124: 1024 | AT124: K | AU124: 1 | AY124: ROZPOCET | BE124: =IF(N124="základní",J124,0) -> 0 | BF124: =IF(N124="snížená",J124,0) -> 0 | BG124: =IF(N124="zákl. přenesená",J124,0) -> 0 | BH124: =IF(N124="sníž. přenesená",J124,0) -> 0 | BI124: =IF(N124="nulová",J124,0) -> 0 | BJ124: 1 | BK124: =ROUND(I124*H124,2) -> 0 | BL124: 1024 | BM124: 261446599
C125: 5 | D125: K | E125: 050001000 | F125: Provozní vlivy investora | G125: … | H125: 1 | I125: 0 | J125: =ROUND(I125*H125,2) -> 0 | N125: základní | O125: 0 | P125: =O125*H125 -> 0 | Q125: 0 | R125: =Q125*H125 -> 0 | S125: 0 | T125: =S125*H125 -> 0 | AR125: 1024 | AT125: K | AU125: 1 | AY125: ROZPOCET | BE125: =IF(N125="základní",J125,0) -> 0 | BF125: =IF(N125="snížená",J125,0) -> 0 | BG125: =IF(N125="zákl. přenesená",J125,0) -> 0 | BH125: =IF(N125="sníž. přenesená",J125,0) -> 0 | BI125: =IF(N125="nulová",J125,0) -> 0 | BJ125: 1 | BK125: =ROUND(I125*H125,2) -> 0 | BL125: 1024 | BM125: -1936426786
C126: 6 | D126: K | E126: 060001000 | F126: Zabezpečení staveniště | G126: … | H126: 1 | I126: 0 | J126: =ROUND(I126*H126,2) -> 0 | N126: základní | O126: 0 | P126: =O126*H126 -> 0 | Q126: 0 | R126: =Q126*H126 -> 0 | S126: 0 | T126: =S126*H126 -> 0 | AR126: 1024 | AT126: K | AU126: 1 | AY126: ROZPOCET | BE126: =IF(N126="základní",J126,0) -> 0 | BF126: =IF(N126="snížená",J126,0) -> 0 | BG126: =IF(N126="zákl. přenesená",J126,0) -> 0 | BH126: =IF(N126="sníž. přenesená",J126,0) -> 0 | BI126: =IF(N126="nulová",J126,0) -> 0 | BJ126: 1 | BK126: =ROUND(I126*H126,2) -> 0 | BL126: 1024 | BM126: 350537908
C127: 7 | D127: K | E127: 070001000 | F127: Zařízení staveniště | G127: … | H127: 1 | I127: 0 | J127: =ROUND(I127*H127,2) -> 0 | N127: základní | O127: 0 | P127: =O127*H127 -> 0 | Q127: 0 | R127: =Q127*H127 -> 0 | S127: 0 | T127: =S127*H127 -> 0 | AR127: 1024 | AT127: K | AU127: 1 | AY127: ROZPOCET | BE127: =IF(N127="základní",J127,0) -> 0 | BF127: =IF(N127="snížená",J127,0) -> 0 | BG127: =IF(N127="zákl. přenesená",J127,0) -> 0 | BH127: =IF(N127="sníž. přenesená",J127,0) -> 0 | BI127: =IF(N127="nulová",J127,0) -> 0 | BJ127: 1 | BK127: =ROUND(I127*H127,2) -> 0 | BL127: 1024 | BM127: 1335934197
C128: 8 | D128: K | E128: 070001000R | F128: Úklid staveniště | G128: … | H128: 1 | I128: 0 | J128: =ROUND(I128*H128,2) -> 0 | N128: základní | O128: 0 | P128: =O128*H128 -> 0 | Q128: 0 | R128: =Q128*H128 -> 0 | S128: 0 | T128: =S128*H128 -> 0 | AR128: 1024 | AT128: K | AU128: 1 | AY128: ROZPOCET | BE128: =IF(N128="základní",J128,0) -> 0 | BF128: =IF(N128="snížená",J128,0) -> 0 | BG128: =IF(N128="zákl. přenesená",J128,0) -> 0 | BH128: =IF(N128="sníž. přenesená",J128,0) -> 0 | BI128: =IF(N128="nulová",J128,0) -> 0 | BJ128: 1 | BK128: =ROUND(I128*H128,2) -> 0 | BL128: 1024 | BM128: 1099577102
C129: 9 | D129: K | E129: 070001000R1 | F129: Zakrývání folií | G129: … | H129: 1 | I129: 0 | J129: =ROUND(I129*H129,2) -> 0 | N129: základní | O129: 0 | P129: =O129*H129 -> 0 | Q129: 0 | R129: =Q129*H129 -> 0 | S129: 0 | T129: =S129*H129 -> 0 | AR129: 1024 | AT129: K | AU129: 1 | AY129: ROZPOCET | BE129: =IF(N129="základní",J129,0) -> 0 | BF129: =IF(N129="snížená",J129,0) -> 0 | BG129: =IF(N129="zákl. přenesená",J129,0) -> 0 | BH129: =IF(N129="sníž. přenesená",J129,0) -> 0 | BI129: =IF(N129="nulová",J129,0) -> 0 | BJ129: 1 | BK129: =ROUND(I129*H129,2) -> 0 | BL129: 1024 | BM129: 1072379831
