Workbook
Name GROUP_ID: [1]Zakázka!$B$6:$B$188
Name ITEM_PRICES: [1]Zakázka!$J$6:$J$188

Sheet Rekapitulace
B2: REKAPITULACE STAVEBNÍCH NÁKLADŮ - ZŠ M. CHOCEŇSKÉHO, KOLLÁROVA 688, CHOCEŇ
C3: NÁVRH ÚPRAV HYGIENICKÉHO ZÁZEMÍ
B6: D.1.1 ARCHITEKTONICKO STAVEBNÍ ŘEŠENÍ | D6: ='Arch stav'!J30 -> 0
B8: D.1.4.1 SVĚTELNÉ A SILNOPROUDÉ ROZVODY | D8: ='Světel. a silnop. rozvody'!J6 -> 0
B10: D.1.4.2_ZTI | D10: =Zti!J28 -> 0
B12: D.1.4.4 VZDUCHOTECHNIKA | D12: =Vzduchotechnika!G15 -> 0
B18: VEDLEJŠÍ A OSTATNÍ NÁKLADY | D18: =VRN!J102 -> 0
B21: CELKEM (KČ, BEZ DPH) | D21: =D6+D8+D10+D12+D14+D16+D18 -> 0
B23: DPH 21% | D23: =D21*0.21 -> 0

Sheet Arch stav
L2: >> skryté sloupce << | AT2: {ef71b03c-45b6-4669-a277-cef3501a08ec}
AT3: 2
D4: KRYCÍ LIST SOUPISU PRACÍ | M4: v --- níže se nacházejí doplnkové a pomocné údaje k sestavám --- v | AT4: False
D6: Stavba:
E7: Choceň - rekonstrukce ZŠ M. Choceňského
D9: KSO: | I9: CC-CZ:
D10: Místo: | I10: Datum: | J10: 19. 6. 2025
D12: Zadavatel: | I12: IČ:
I13: DIČ:
D15: Uchazeč: | I15: IČ: | J15: Vyplň údaj
E16: Vyplň údaj | I16: DIČ: | J16: Vyplň údaj
D18: Projektant: | I18: IČ:
I19: DIČ:
D21: Zpracovatel: | I21: IČ:
I22: DIČ:
D24: Poznámka:
D28: Náklady z rozpočtu | J28: =J94 -> 0
D29: Ostatní náklady | J29: =J112 -> 0
D30: Cena bez DPH | J30: =ROUND(J28 + J29, 2) -> 0
F32: Základ daně | I32: Sazba daně | J32: Výše daně
D33: DPH | E33: základní | F33: =ROUND((SUM(BE112:BE119) + SUM(BE137:BE223)), 2) -> 0 | I33: 0.21 | J33: =ROUND(((SUM(BE112:BE119) + SUM(BE137:BE223))*I33), 2) -> 0
E34: snížená | F34: =ROUND((SUM(BF112:BF119) + SUM(BF137:BF223)), 2) -> 0 | I34: 0.12 | J34: =ROUND(((SUM(BF112:BF119) + SUM(BF137:BF223))*I34), 2) -> 0
E35: zákl. přenesená | F35: =ROUND((SUM(BG112:BG119) + SUM(BG137:BG223)), 2) -> 0 | I35: 0.21 | J35: =0 -> 0
E36: sníž. přenesená | F36: =ROUND((SUM(BH112:BH119) + SUM(BH137:BH223)), 2) -> 0 | I36: 0.12 | J36: =0 -> 0
E37: nulová | F37: =ROUND((SUM(BI112:BI119) + SUM(BI137:BI223)), 2) -> 0 | I37: 0 | J37: =0 -> 0
D39: Cena s DPH | G39: v | H39: CZK | J39: =SUM(J30:J37) -> 0
D50: Projektant | G50: Zpracovatel
D61: Datum a podpis: | F61: Razítko | G61: Datum a podpis: | J61: Razítko
D65: Objednavatel | G65: Uchazeč
D76: Datum a podpis: | F76: Razítko | G76: Datum a podpis: | J76: Razítko
C82: REKAPITULACE ČLENĚNÍ SOUPISU PRACÍ
C84: Stavba:
E85: =E7 -> Choceň - rekonstrukce ZŠ M. Choceňského
C87: Místo: | F87: =F10 | I87: Datum: | J87: =IF(J10="","",J10) -> 19. 6. 2025
C89: Zadavatel: | F89: =E13 | I89: Projektant: | J89: =E19
C90: Uchazeč: | F90: =IF(E16="","",E16) -> Vyplň údaj | I90: Zpracovatel: | J90: =E22
C92: Kód dílu - Popis | J92: Cena celkem [CZK]
C94: 1) Náklady ze soupisu prací | J94: =J137 -> 0 | AU94: -1
D95: HSV - Práce a dodávky HSV | J95: =J138 -> 0
D96: 3 - Svislé a kompletní konstrukce | J96: =J139 -> 0
...

Sheet Světel. a silnop. rozvody
F1: Choceň - ZŠ M.Choceňského, Kollárova 688, úpravy hygienického zázemí - Nabídka
C4: Poř. | D4: Typ | E4: Kód | F4: Popis | G4: MJ | H4: Výměra | I4: Jedn. Cena | J4: Cena | K4: Jedn. hmotn. | L4: Hmotnost | M4: Jedn. suť | N4: Suť | O4: Sazba DPH | P4: DPH | Q4: Cena s DPH
A6: S | B6: 1 | D6: Stavba | F6: S | J6: =SUBTOTAL(9,J7:J187) -> 0 | L6: =SUBTOTAL(9,L7:L187) -> 1.60612 | N6: =SUBTOTAL(9,N7:N187) -> 3.566 | P6: =SUBTOTAL(9,P7:P187) -> 0 | Q6: =SUBTOTAL(9,Q7:Q187) -> 0
A7: S/. | B7: 2 | D7: Objekt | F7: .: Světelné a silnoproudé rozvody - třída č. 2 | J7: =SUBTOTAL(9,J8:J81) -> 0 | L7: =SUBTOTAL(9,L8:L81) -> 0.12744 | N7: =SUBTOTAL(9,N8:N81) -> 0.072 | P7: =SUBTOTAL(9,P8:P81) -> 0 | Q7: =SUBTOTAL(9,Q8:Q81) -> 0
A8: S/./006 | B8: 3 | D8: Oddíl | F8: 006: Úpravy povrchu | J8: =SUBTOTAL(9,J9:J10) -> 0 | L8: =SUBTOTAL(9,L9:L10) -> 0.06384 | N8: =SUBTOTAL(9,N9:N10) -> 0 | P8: =SUBTOTAL(9,P9:P10) -> 0 | Q8: =SUBTOTAL(9,Q9:Q10) -> 0
C9: 1 | D9: SP | E9: 612135101 | F9: Hrubá výplň rýh ve stěnách maltou jakékoli šířky rýhy | G9: m2 | H9: 1.14 | I9: 0 | J9: =H9*I9 -> 0 | K9: 0.056 | L9: =H9*K9 -> 0.06384 | N9: =H9*M9 -> 0 | O9: 21 | P9: =J9*(O9/100) -> 0 | Q9: =J9+P9 -> 0
A11: S/./009 | B11: 3 | D11: Oddíl | F11: 009: Ostatní konstrukce a práce | J11: =SUBTOTAL(9,J12:J16) -> 0 | L11: =SUBTOTAL(9,L12:L16) -> 0 | N11: =SUBTOTAL(9,N12:N16) -> 0.072 | P11: =SUBTOTAL(9,P12:P16) -> 0 | Q11: =SUBTOTAL(9,Q12:Q16) -> 0
C12: 1 | D12: SP | E12: 973031714 | F12: Vysekání kapes v klenbách z cihel na MV nebo MVC pro špalíky do 50x50x50 mm | G12: kus | H12: 4 | I12: 0 | J12: =H12*I12 -> 0 | L12: =H12*K12 -> 0 | N12: =H12*M12 -> 0 | O12: 21 | P12: =J12*(O12/100) -> 0 | Q12: =J12+P12 -> 0
C13: 2 | D13: SP | E13: 973031716 | F13: Vysekání kapes v klenbách z cihel na MV nebo MVC pro špalíky do 100x100x50 mm | G13: kus | H13: 4 | I13: 0 | J13: =H13*I13 -> 0 | L13: =H13*K13 -> 0 | M13: 0.001 | N13: =H13*M13 -> 0.004 | O13: 21 | P13: =J13*(O13/100) -> 0 | Q13: =J13+P13 -> 0
C14: 3 | D14: SP | E14: 974031121 | F14: Vysekání rýh ve zdivu cihelném hl do 30 mm š do 30 mm | G14: m | H14: 10 | I14: 0 | J14: =H14*I14 -> 0 | L14: =H14*K14 -> 0 | M14: 0.002 | N14: =H14*M14 -> 0.02 | O14: 21 | P14: =J14*(O14/100) -> 0 | Q14: =J14+P14 -> 0
C15: 4 | D15: SP | E15: 974031122 | F15: Vysekání rýh ve zdivu cihelném hl do 30 mm š do 70 mm | G15: m | H15: 12 | I15: 0 | J15: =H15*I15 -> 0 | L15: =H15*K15 -> 0 | M15: 0.004 | N15: =H15*M15 -> 0.048 | O15: 21 | P15: =J15*(O15/100) -> 0 | Q15: =J15+P15 -> 0
A17: S/./740 | B17: 3 | D17: Oddíl | F17: 740: Silnoproud | J17: =SUBTOTAL(9,J18:J81) -> 0 | L17: =SUBTOTAL(9,L18:L81) -> 0.0636 | N17: =SUBTOTAL(9,N18:N81) -> 0 | P17: =SUBTOTAL(9,P18:P81) -> 0 | Q17: =SUBTOTAL(9,Q18:Q81) -> 0
C18: 1 | D18: H | E18: 34111005 | F18: kabel instalační jádro Cu plné izolace PVC plášť PVC 450/750V (CYKY) 2x1,5mm2 | G18: m | H18: 5 | I18: 0 | J18: =H18*I18 -> 0 | K18: 0.0001 | L18: =H18*K18 -> 0.0005 | N18: =H18*M18 -> 0 | O18: 21 | P18: =J18*(O18/100) -> 0 | Q18: =J18+P18 -> 0
C19: 2 | D19: H | E19: 34111030 | F19: kabel instalační jádro Cu plné izolace PVC plášť PVC 450/750V (CYKY) 3x1,5mm2 | G19: m | H19: 77 | I19: 0 | J19: =H19*I19 -> 0 | K19: 0.00012 | L19: =H19*K19 -> 0.00924 | N19: =H19*M19 -> 0 | O19: 21 | P19: =J19*(O19/100) -> 0 | Q19: =J19+P19 -> 0
E20: Výkaz výměr: | F20: 72+5 | H20: 77
F21: 3C+3A | H21: 0
C23: 3 | D23: H | E23: 34111036 | F23: kabel instalační jádro Cu plné izolace PVC plášť PVC 450/750V (CYKY) 3x2,5mm2 | G23: m | H23: 198 | I23: 0 | J23: =H23*I23 -> 0 | K23: 0.00017 | L23: =H23*K23 -> 0.03366 | N23: =H23*M23 -> 0 | O23: 21 | P23: =J23*(O23/100) -> 0 | Q23: =J23+P23 -> 0
C24: 4 | D24: H | E24: 34111100 | F24: kabel instalační jádro Cu plné izolace PVC plášť PVC 450/750V (CYKY) 5x6mm2 | G24: m | H24: 20 | I24: 0 | J24: =H24*I24 -> 0 | K24: 0.00053 | L24: =H24*K24 -> 0.0106 | N24: =H24*M24 -> 0 | O24: 21 | P24: =J24*(O24/100) -> 0 | Q24: =J24+P24 -> 0
C25: 5 | D25: H | E25: 34140844 | F25: vodič propojovací jádro Cu lanované izolace PVC 450/750V (H07V-R) 1x6mm2 | G25: m | H25: 30 | J25: =H25*I25 -> 0 | K25: 9e-05 | L25: =H25*K25 -> 0.0027 | N25: =H25*M25 -> 0 | O25: 21 | P25: =J25*(O25/100) -> 0 | Q25: =J25+P25 -> 0
C26: 6 | D26: H | E26: 34535000 | F26: spínač kompletní, zápustný, jednopólový, řazení 1, šroubové svorky | G26: kus | H26: 1 | I26: 0 | J26: =H26*I26 -> 0 | K26: 4e-05 | L26: =H26*K26 -> 4e-05 | N26: =H26*M26 -> 0 | O26: 21 | P26: =J26*(O26/100) -> 0 | Q26: =J26+P26 -> 0
C27: 7 | D27: H | E27: 34535002 | F27: přepínač sériový kompletní, zápustný, řazení 5, šroubové svorky | G27: kus | H27: 1 | I27: 0 | J27: =H27*I27 -> 0 | K27: 6e-05 | L27: =H27*K27 -> 6e-05 | N27: =H27*M27 -> 0 | O27: 21 | P27: =J27*(O27/100) -> 0 | Q27: =J27+P27 -> 0
C28: 8 | D28: H | E28: 34555202 | F28: zásuvka zápustná jednonásobná chráněná, šroubové svorky | G28: kus | H28: 2 | I28: 0 | J28: =H28*I28 -> 0 | K28: 7e-05 | L28: =H28*K28 -> 0.00014 | N28: =H28*M28 -> 0 | O28: 21 | P28: =J28*(O28/100) -> 0 | Q28: =J28+P28 -> 0
C29: 9 | D29: H | E29: 34571043 | F29: lišta podlahová přechodová oblá pro vedení kabelů běžný provoz plast š 75mm | G29: m | H29: 6 | I29: 0 | J29: =H29*I29 -> 0 | K29: 0.00046 | L29: =H29*K29 -> 0.00276 | N29: =H29*M29 -> 0 | O29: 21 | P29: =J29*(O29/100) -> 0 | Q29: =J29+P29 -> 0
C30: 10 | D30: H | E30: 34571074 | F30: trubka elektroinstalační ohebná z PVC oranžová d 32mm | G30: m | H30: 20 | I30: 0 | J30: =H30*I30 -> 0 | K30: 0.0001 | L30: =H30*K30 -> 0.002 | N30: =H30*M30 -> 0 | O30: 21 | P30: =J30*(O30/100) -> 0 | Q30: =J30+P30 -> 0
C31: 11 | D31: H | E31: 34571451 | F31: krabice pod omítku PVC přístrojová kruhová D 70mm hluboká | G31: kus | H31: 4 | I31: 0 | J31: =H31*I31 -> 0 | K31: 5e-05 | L31: =H31*K31 -> 0.0002 | N31: =H31*M31 -> 0 | O31: 21 | P31: =J31*(O31/100) -> 0 | Q31: =J31+P31 -> 0
C32: 12 | D32: H | E32: 34571482 | F32: krabice v uzavřeném provedení PVC s krytím IP 54 čtvercová 100x100mm | G32: kus | H32: 3 | I32: 0 | J32: =H32*I32 -> 0 | K32: 0.00015 | L32: =H32*K32 -> 0.00045 | N32: =H32*M32 -> 0 | O32: 21 | P32: =J32*(O32/100) -> 0 | Q32: =J32+P32 -> 0
E33: Výkaz výměr: | F33: 3 | H33: 3
F34: vč. svorkovnice S 66 | H34: 0
C36: 13 | D36: H | E36: 34571484 | F36: krabice v uzavřeném provedení PVC s krytím IP 54 čtvercová 170x170mm | G36: kus | H36: 1 | I36: 0 | J36: =H36*I36 -> 0 | K36: 0.00057 | L36: =H36*K36 -> 0.00057 | N36: =H36*M36 -> 0 | O36: 21 | P36: =J36*(O36/100) -> 0 | Q36: =J36+P36 -> 0
E37: Výkaz výměr: | F37: 1 | H37: 1
F38: vč. svorkovnice SP 96 | H38: 0
C40: 14 | D40: H | E40: 34571521 | F40: krabice pod omítku PVC odbočná kruhová D 70mm s víčkem a svorkovnicí | G40: kus | H40: 4 | I40: 0 | J40: =H40*I40 -> 0 | K40: 9e-05 | L40: =H40*K40 -> 0.00036 | N40: =H40*M40 -> 0 | O40: 21 | P40: =J40*(O40/100) -> 0 | Q40: =J40+P40 -> 0
C41: 15 | D41: H | E41: 35441895 | F41: svorka připojovací k připojení kovových částí | G41: kus | H41: 2 | I41: 0 | J41: =H41*I41 -> 0 | K41: 0.00016 | L41: =H41*K41 -> 0.00032 | N41: =H41*M41 -> 0 | O41: 21 | P41: =J41*(O41/100) -> 0 | Q41: =J41+P41 -> 0
C42: 16 | D42: SP | E42: 741110042 | F42: Montáž trubka plastová ohebná D přes 23 do 35 mm uložená pevně | G42: m | H42: 20 | I42: 0 | J42: =H42*I42 -> 0 | L42: =H42*K42 -> 0 | N42: =H42*M42 -> 0 | O42: 21 | P42: =J42*(O42/100) -> 0 | Q42: =J42+P42 -> 0
C43: 17 | D43: SP | E43: 741110512 | F43: Montáž lišta a kanálek vkládací šířky přes 60 do 120 mm s víčkem | G43: m | H43: 6 | I43: 0 | J43: =H43*I43 -> 0 | L43: =H43*K43 -> 0 | N43: =H43*M43 -> 0 | O43: 21 | P43: =J43*(O43/100) -> 0 | Q43: =J43+P43 -> 0
C44: 18 | D44: SP | E44: 741112001 | F44: Montáž krabice zapuštěná plastová kruhová | G44: kus | H44: 4 | I44: 0 | J44: =H44*I44 -> 0 | L44: =H44*K44 -> 0 | N44: =H44*M44 -> 0 | O44: 21 | P44: =J44*(O44/100) -> 0 | Q44: =J44+P44 -> 0
C45: 19 | D45: SP | E45: 741112021 | F45: Montáž krabice nástěnná plastová čtyřhranná do 100x100 mm | G45: kus | H45: 3 | I45: 0 | J45: =H45*I45 -> 0 | L45: =H45*K45 -> 0 | N45: =H45*M45 -> 0 | O45: 21 | P45: =J45*(O45/100) -> 0 | Q45: =J45+P45 -> 0
C46: 20 | D46: SP | E46: 741112023 | F46: Montáž krabice nástěnná plastová čtyřhranná do 250x250 mm | G46: kus | H46: 1 | I46: 0 | J46: =H46*I46 -> 0 | L46: =H46*K46 -> 0 | N46: =H46*M46 -> 0 | O46: 21 | P46: =J46*(O46/100) -> 0 | Q46: =J46+P46 -> 0
C47: 21 | D47: SP | E47: 741112061 | F47: Montáž krabice přístrojová zapuštěná plastová kruhová | G47: kus | H47: 4 | I47: 0 | J47: =H47*I47 -> 0 | L47: =H47*K47 -> 0 | N47: =H47*M47 -> 0 | O47: 21 | P47: =J47*(O47/100) -> 0 | Q47: =J47+P47 -> 0
C48: 22 | D48: SP | E48: 741120001 | F48: Montáž vodič Cu izolovaný plný a laněný žíla 0,35-6 mm2 pod omítku (např. CY) | G48: m | H48: 30 | I48: 0 | J48: =H48*I48 -> 0 | L48: =H48*K48 -> 0 | N48: =H48*M48 -> 0 | O48: 21 | P48: =J48*(O48/100) -> 0 | Q48: =J48+P48 -> 0
...

Sheet Zti
AT2: {d58dca98-89db-4b36-96e2-73ce7cd9c991}
AT3: 2
D4: KRYCÍ LIST SOUPISU PRACÍ | M4: v --- níže se nacházejí doplnkové a pomocné údaje k sestavám --- v | AT4: False
D6: Stavba:
E7: ZŠ M. CHOCEŇSKÉHO, KOLLÁROVA 688, CHOCEŇ, NÁVRH ÚPRAV HYGIENICKÉHO ZÁZEMÍ_D.1.4.1_ZTI
D9: KSO: | I9: CC-CZ:
D10: Místo: | F10: Choceň | I10: Datum: | J10: ='[2]Rekapitulace stavby'!AN8 -> 13. 2. 2025
D12: Zadavatel: | I12: IČ: | J12: =IF('[2]Rekapitulace stavby'!AN10="","",'[2]Rekapitulace stavby'!AN10)
E13: =IF('[2]Rekapitulace stavby'!E11="","",'[2]Rekapitulace stavby'!E11) | I13: DIČ: | J13: =IF('[2]Rekapitulace stavby'!AN11="","",'[2]Rekapitulace stavby'!AN11)
D15: Účastník: | I15: IČ: | J15: ='[2]Rekapitulace stavby'!AN13 -> Vyplň údaj
E16: ='[2]Rekapitulace stavby'!E14 -> Vyplň údaj | I16: DIČ: | J16: ='[2]Rekapitulace stavby'!AN14 -> Vyplň údaj
D18: Projektant: | I18: IČ:
E19: Ing. Horyna | I19: DIČ:
D21: Zpracovatel: | I21: IČ:
E22: Ing. Horyna | I22: DIČ:
D24: Poznámka:
E25: Soupis prací je sestaven s využitím Cenové soustavy ÚRS. Položky, které pochází z této cenové soustavy, jsou ve sloupci 'Cenová soustava' označeny popisem 'CS ÚRS' a úrovní příslušného kalendářního pololetí. Veškeré další informace vymezující popis a podmínky použití těchto položek z Cenové soustavy, které nejsou uvedeny přímo v soupisu prací, jsou neomezeně dálkově k dispozici na webu podminky.urs.cz.
D28: Cena bez DPH | J28: =ROUND(J90, 2) -> 0
F30: Základ daně | I30: Sazba daně | J30: Výše daně
D31: DPH | E31: základní | F31: =ROUND((SUM(BE90:BE844)), 2) -> 0 | I31: 0.21 | J31: =ROUND(((SUM(BE90:BE844))*I31), 2) -> 0
E32: snížená | F32: =ROUND((SUM(BF90:BF844)), 2) -> 0 | I32: 0.12 | J32: =ROUND(((SUM(BF90:BF844))*I32), 2) -> 0
E33: zákl. přenesená | F33: =ROUND((SUM(BG90:BG844)), 2) -> 0 | I33: 0.21 | J33: =0 -> 0
E34: sníž. přenesená | F34: =ROUND((SUM(BH90:BH844)), 2) -> 0 | I34: 0.12 | J34: =0 -> 0
E35: nulová | F35: =ROUND((SUM(BI90:BI844)), 2) -> 0 | I35: 0 | J35: =0 -> 0
D37: Cena s DPH | G37: v | H37: CZK | J37: =SUM(J28:J35) -> 0
C43: REKAPITULACE ČLENĚNÍ SOUPISU PRACÍ
C45: Stavba:
E46: =E7 -> ZŠ M. CHOCEŇSKÉHO, KOLLÁROVA 688, CHOCEŇ, NÁVRH ÚPRAV HYGIENICKÉHO ZÁZEMÍ_D.1.4.1_ZTI
C48: Místo: | F48: =F10 -> Choceň | I48: Datum: | J48: =IF(J10="","",J10) -> 13. 2. 2025
C50: Zadavatel: | F50: =E13 | I50: Projektant: | J50: =E19 -> Ing. Horyna
C51: Účastník: | F51: =IF(E16="","",E16) -> Vyplň údaj | I51: Zpracovatel: | J51: =E22 -> Ing. Horyna
C53: Kód dílu - Popis | J53: Cena celkem [CZK]
C55: Náklady stavby celkem | J55: =J90 -> 0 | AU55: -1
D56: HSV - Práce a dodávky HSV | J56: =J91 -> 0
D57: 1 - Zemní práce | J57: =J92 -> 0
D58: 4 - Vodorovné konstrukce | J58: =J299 -> 0
D59: 5 - Komunikace pozemní | J59: =J353 -> 0
D60: 6 - Úpravy povrchů, podlahy a osazování výplní | J60: =J358 -> 0
D61: 8 - Vedení trubní dálková a přípojná | J61: =J386 -> 0
D62: 9 - Ostatní konstrukce a práce, bourání | J62: =J407 -> 0
...

Sheet Vzduchotechnika
A1: Typ | B1: Kód | C1: Popis | D1: MJ | E1: Množství | F1: J.cena [CZK] | G1: Cena celkem [CZK] | H1: Cenová soustava
C3: Zařízení č.1 - větrání
A4: K | B4: 1.1 | C4: Radiální ventilátor pro zabudování do podhledu JS 100mm, zpětná klapka, kuličková ložiska, časový doběh - Vod=50m3/hod, pext=100Pa - 230V/25W | D4: ks | E4: 4 | F4: 0 | G4: =ROUND(F4*E4,2) -> 0 | H4: vlastní
A5: K | B5: 1.2 | C5: Nástěnný radiální ventilátor s AC motorem, kuličková ložiska, zpětná klapka, časový doběh JS 100mm- V=150m3/hod, pext=120Pa, 230V/46W | D5: ks | E5: 1 | F5: 0 | G5: =ROUND(F5*E5,2) -> 0 | H5: vlastní
A6: K | B6: 1.3 | C6: Nástěnný axiální ventilátor s AC motorem, zpětná klapka, časový doběh JS 100mm- V=60m3/hod, pext=80Pa, 230V/35W | D6: ks | E6: 2 | F6: 0 | G6: =ROUND(F6*E6,2) -> 0 | H6: vlastní
A7: K | B7: 1.4 | C7: Ohebné hliníkové potrubí JS 100mm - 5m | D7: ks | E7: 1 | F7: 0 | G7: =ROUND(F7*E7,2) -> 0 | H7: vlastní
A8: K | B8: 1.5 | C8: Výfuková hlavice JS 100mm | D8: ks | E8: 1 | F8: 0 | G8: =ROUND(F8*E8,2) -> 0 | H8: vlastní
A9: K | B9: 1.6 | C9: Koncový kryt s odvodem kondenzátu DR 100mm | D9: ks | E9: 1 | F9: 0 | G9: =ROUND(F9*E9,2) -> 0 | H9: vlastní
A10: K | B10: 1.7 | C10: OBJ 90 100 100 | D10: ks | E10: 3 | F10: 0 | G10: =ROUND(F10*E10,2) -> 0 | H10: vlastní
A11: K | B11: 1.8 | C11: OS 90 100 | D11: ks | E11: 1 | F11: 0 | G11: =ROUND(F11*E11,2) -> 0 | H11: vlastní
A12: K | B12: 1.9 | C12: Potrubí Spiro 100/3m | D12: ks | E12: 2 | F12: 0 | G12: =ROUND(F12*E12,2) -> 0 | H12: vlastní
A13: K | B13: 1.- | C13: Tepelná izolace ze syntetického kaučuku tl.20mm - samolepící povrch se zvýšenou přilnavostí , povrchová úprava hliníkovou fólií se sklenou mřížkou (l£0,038W/(mK) dle EN 12667) | D13: m2 | E13: 1 | F13: 0 | G13: =ROUND(F13*E13,2) -> 0 | H13: vlastní
A14: K | B14: 1.- | C14: Montážní a těsnící materiál, materiál na závěsy | D14: kg | E14: 20 | F14: 0 | G14: =ROUND(F14*E14,2) -> 0 | H14: vlastní
C15: Celkem | G15: =SUM(G4:G14) -> 0

Sheet VRN
L2: >> skryté sloupce << | AT2: {607ea316-52da-4d7b-bc61-4e12e7d8c6b5}
AT3: 2
D4: KRYCÍ LIST SOUPISU PRACÍ | M4: v --- níže se nacházejí doplnkové a pomocné údaje k sestavám --- v | AT4: False
D6: Stavba:
D8: Objekt:
E9: VRN - VRN
D11: KSO: | I11: CC-CZ:
D12: Místo: | I12: Datum: | J12: ='[3]Rekapitulace stavby'!AN8 -> 26. 2. 2025
D14: Zadavatel: | I14: IČ: | J14: =IF('[3]Rekapitulace stavby'!AN10="","",'[3]Rekapitulace stavby'!AN10)
E15: =IF('[3]Rekapitulace stavby'!E11="","",'[3]Rekapitulace stavby'!E11) | I15: DIČ: | J15: =IF('[3]Rekapitulace stavby'!AN11="","",'[3]Rekapitulace stavby'!AN11)
D17: Zhotovitel: | I17: IČ: | J17: ='[3]Rekapitulace stavby'!AN13
E18: ='[3]Rekapitulace stavby'!E14 | I18: DIČ: | J18: ='[3]Rekapitulace stavby'!AN14
D20: Projektant: | I20: IČ: | J20: =IF('[3]Rekapitulace stavby'!AN16="","",'[3]Rekapitulace stavby'!AN16)
E21: =IF('[3]Rekapitulace stavby'!E17="","",'[3]Rekapitulace stavby'!E17) | I21: DIČ: | J21: =IF('[3]Rekapitulace stavby'!AN17="","",'[3]Rekapitulace stavby'!AN17)
D23: Zpracovatel: | I23: IČ: | J23: =IF('[3]Rekapitulace stavby'!AN19="","",'[3]Rekapitulace stavby'!AN19)
E24: =IF('[3]Rekapitulace stavby'!E20="","",'[3]Rekapitulace stavby'!E20) | I24: DIČ: | J24: =IF('[3]Rekapitulace stavby'!AN20="","",'[3]Rekapitulace stavby'!AN20)
D26: Poznámka:
D30: Náklady z rozpočtu | J30: =J96 -> 0
D31: Ostatní náklady | J31: =J100 -> 0
D32: Cena bez DPH | J32: =ROUND(J30 + J31, 2) -> 0
F34: Základ daně | I34: Sazba daně | J34: Výše daně
D35: DPH | E35: základní | F35: =ROUND((SUM(BE100:BE101) + SUM(BE121:BE129)), 2) -> 0 | I35: 0.21 | J35: =ROUND(((SUM(BE100:BE101) + SUM(BE121:BE129))*I35), 2) -> 0
E36: snížená | F36: =ROUND((SUM(BF100:BF101) + SUM(BF121:BF129)), 2) -> 0 | I36: 0.12 | J36: =ROUND(((SUM(BF100:BF101) + SUM(BF121:BF129))*I36), 2) -> 0
E37: zákl. přenesená | F37: =ROUND((SUM(BG100:BG101) + SUM(BG121:BG129)), 2) -> 0 | I37: 0.21 | J37: =0 -> 0
E38: sníž. přenesená | F38: =ROUND((SUM(BH100:BH101) + SUM(BH121:BH129)), 2) -> 0 | I38: 0.12 | J38: =0 -> 0
E39: nulová | F39: =ROUND((SUM(BI100:BI101) + SUM(BI121:BI129)), 2) -> 0 | I39: 0 | J39: =0 -> 0
D41: Cena s DPH | G41: v | H41: CZK | J41: =SUM(J32:J39) -> 0
D50: Projektant | G50: Zpracovatel
D61: Datum a podpis: | F61: Razítko | G61: Datum a podpis: | J61: Razítko
D65: Objednavatel | G65: Zhotovitel
D76: Datum a podpis: | F76: Razítko | G76: Datum a podpis: | J76: Razítko
C82: REKAPITULACE ČLENĚNÍ SOUPISU PRACÍ
C84: Stavba:
E85: =E7 -> 0
C86: Objekt:
E87: =E9 -> VRN - VRN
C89: Místo: | F89: =F12 | I89: Datum: | J89: =IF(J12="","",J12) -> 26. 2. 2025
C91: Zadavatel: | F91: =E15 | I91: Projektant: | J91: =E21
C92: Zhotovitel: | F92: =IF(E18="","",E18) | I92: Zpracovatel: | J92: =E24
C94: Kód dílu - Popis | J94: Cena celkem [CZK]
...
