Workbook

Sheet Rekapitulace stavby
A1: Export Komplet | BA1: 2.0 | BT1: False | BU1: False | BV1: {b17cebc9-53b0-4b0b-a86b-9a8db97615c4}
AR2: >> skryté sloupce << | BS2: 0,01 | BT2: 21
BS3: 0,01 | BT3: 15
D4: REKAPITULACE STAVBY | AS4: v --- níže se nacházejí doplnkové a pomocné údaje k sestavám --- v | BE4: Návod na vyplnění | BS4: 0,001
D5: Kód: | K5: PRO21053 | BE5: Měnit lze pouze buňky se žlutým podbarvením!_x000D_ _x000D_ 1) na prvním listu Rekapitulace stavby vyplňte v sestavě_x000D_ _x000D_ a) Souhrnný list_x000D_ - údaje o Uchazeči_x000D_ (přenesou se do ostatních sestav i v jiných listech)_x000D_ _x000D_ b) Rekapitulace objektů_x000D_ - potřebné Ostatní náklady_x000D_ _x000D_ 2) na vybraných listech vyplňte v sestavě_x000D_ _x000D_ a) Krycí list_x000D_ - údaje o Uchazeči, pokud se liší od údajů o Uchazeči na Souhrnném listu_x000D_ (údaje se přenesou do ostatních sestav v daném listu)_x000D_ _x000D_ b) Rekapitulace rozpočtu_x000D_ - potřebné Ostatní náklady_x000D_ _x000D_ c) Celkové náklady za stavbu_x000D_ - ceny u položek_x000D_ - množství, pokud má žluté podbarvení_x000D_ - a v případě potřeby poznámku (ta je ve skrytém sloupci) | BS5: 0,01
D6: Stavba: | K6: Instalace FVE systému, Inproma, spol. s.r.o. | BS6: 0,01
D7: KSO: | AK7: CC-CZ: | BS7: 0,01
D8: Místo: | K8: Obec Křinec, parc.č. 1166, 442/1, 400/6, st. 503, | AK8: Datum: | AN8: 8. 4. 2022 | BS8: 0,01
BS9: 0,01
D10: Zadavatel: | AK10: IČ: | AN10: 16577604 | BS10: 0,01
E11: INPROMA, spol. s.r.o., Tyršova 161, Křinec 289 33 | AK11: DIČ: | BS11: 0,01
BS12: 0,01
D13: Uchazeč: | AK13: IČ: | AN13: Vyplň údaj | BS13: 0,01
E14: Vyplň údaj | AK14: DIČ: | AN14: Vyplň údaj | BS14: 0,01
BS15: False
D16: Projektant: | AK16: IČ: | AN16: 08364656 | BS16: False
E17: ProjektHAUS stavby s.r.o. | AK17: DIČ: | BS17: True
BS18: 0,01
D19: Zpracovatel: | AK19: IČ: | AN19: 08364656 | BS19: 0,01
E20: ProjektHAUS stavby s.r.o. | AK20: DIČ: | BS20: True
D22: Poznámka:
D26: Cena bez DPH | AK26: =ROUND(AG94,2) -> 0
L28: Sazba daně | W28: Základ daně | AK28: Výše daně
D29: DPH | F29: základní | L29: 0.21 | W29: =ROUND(AZ94, 2) -> 0 | AK29: =ROUND(AV94, 2) -> 0
F30: snížená | L30: 0.15 | W30: =ROUND(BA94, 2) -> 0 | AK30: =ROUND(AW94, 2) -> 0
F31: zákl. přenesená | L31: 0.21 | W31: =ROUND(BB94, 2) -> 0 | AK31: 0
F32: sníž. přenesená | L32: 0.15 | W32: =ROUND(BC94, 2) -> 0 | AK32: 0
F33: nulová | L33: 0 | W33: =ROUND(BD94, 2) -> 0 | AK33: 0
D35: Cena s DPH | T35: v | X35: CZK | AK35: =SUM(AK26:AK33) -> 0
D49: Projektant | AH49: Zpracovatel
D60: Datum a podpis: | V60: Razítko | AH60: Datum a podpis: | AM60: Razítko
D64: Objednavatel | AH64: Uchazeč
D75: Datum a podpis: | V75: Razítko | AH75: Datum a podpis: | AM75: Razítko
C82: REKAPITULACE OBJEKTŮ STAVBY A SOUPISŮ PRACÍ
C84: Kód: | L84: =K5 -> PRO21053
C85: Stavba: | L85: =K6 -> Instalace FVE systému, Inproma, spol. s.r.o.
C87: Místo: | L87: =IF(K8="","",K8) -> Obec Křinec, parc.č. 1166, 442/1, 400/6, st. 503, | AI87: Datum: | AM87: =IF(AN8= "","",AN8) -> 8. 4. 2022
C89: Zadavatel: | L89: =IF(E11= "","",E11) -> INPROMA, spol. s.r.o., Tyršova 161, Křinec 289 33 | AI89: Projektant: | AM89: =IF(E17="","",E17) -> ProjektHAUS stavby s.r.o. | AS89: Informatívní údaje z listů zakázek
C90: Uchazeč: | L90: =IF(E14= "Vyplň údaj","",E14) | AI90: Zpracovatel: | AM90: =IF(E20="","",E20) -> ProjektHAUS stavby s.r.o.
C92: Kód | I92: Popis | AG92: Cena bez DPH [CZK] | AN92: Cena s DPH [CZK] | AQ92: Typ | AS92: z toho Ostat._x000D_ náklady [CZK] | AT92: DPH [CZK] | AU92: Normohodiny [h] | AV92: DPH základní [CZK] | AW92: DPH snížená [CZK] | AX92: DPH základní přenesená_x000D_ [CZK] | AY92: DPH snížená přenesená_x000D_ [CZK] | AZ92: Základna_x000D_ DPH základní | BA92: Základna_x000D_ DPH snížená | BB92: Základna_x000D_ DPH zákl. přenesená | BC92: Základna_x000D_ DPH sníž. přenesená | BD92: Základna_x000D_ DPH nulová
C94: Náklady z rozpočtů | AG94: =ROUND(SUM(AG95:AG96),2) -> 0 | AN94: =SUM(AG94,AT94) -> 0 | AS94: =ROUND(SUM(AS95:AS96),2) -> 0 | AT94: =ROUND(SUM(AV94:AW94),2) -> 0 | AU94: =ROUND(SUM(AU95:AU96),5) -> 0 | AV94: =ROUND(AZ94*L29,2) -> 0 | AW94: =ROUND(BA94*L30,2) -> 0 | AX94: =ROUND(BB94*L29,2) -> 0 | AY94: =ROUND(BC94*L30,2) -> 0 | AZ94: =ROUND(SUM(AZ95:AZ96),2) -> 0 | BA94: =ROUND(SUM(BA95:BA96),2) -> 0 | BB94: =ROUND(SUM(BB95:BB96),2) -> 0 | BC94: =ROUND(SUM(BC95:BC96),2) -> 0 | BD94: =ROUND(SUM(BD95:BD96),2) -> 0 | BS94: D | BT94: 0 | BU94: ###NOIMPORT### | BV94: IMPORT | BW94: {b17cebc9-53b0-4b0b-a86b-9a8db97615c4} | BX94: {00000000-0000-0000-0000-000000000000}
A95: / | D95: 01 | J95: FVE | AG95: ='01 - FVE'!J30 -> 0 | AN95: =SUM(AG95,AT95) -> 0 | AQ95: STA | AS95: 0 | AT95: =ROUND(SUM(AV95:AW95),2) -> 0 | AU95: ='01 - FVE'!P129 -> 0 | AV95: ='01 - FVE'!J33 -> 0 | AW95: ='01 - FVE'!J34 -> 0 | AX95: ='01 - FVE'!J35 -> 0 | AY95: ='01 - FVE'!J36 -> 0 | AZ95: ='01 - FVE'!F33 -> 0 | BA95: ='01 - FVE'!F34 -> 0 | BB95: ='01 - FVE'!F35 -> 0 | BC95: ='01 - FVE'!F36 -> 0 | BD95: ='01 - FVE'!F37 -> 0 | BT95: 1 | BV95: IMPORT | BW95: {2eb3816f-0769-46ce-883a-ae970f3daaac} | BX95: {b17cebc9-53b0-4b0b-a86b-9a8db97615c4} | CM95: 2
A96: / | D96: 02 | J96: AKU | AG96: ='02 - AKU'!J30 -> 0 | AN96: =SUM(AG96,AT96) -> 0 | AQ96: STA | AS96: 0 | AT96: =ROUND(SUM(AV96:AW96),2) -> 0 | AU96: ='02 - AKU'!P129 -> 0 | AV96: ='02 - AKU'!J33 -> 0 | AW96: ='02 - AKU'!J34 -> 0 | AX96: ='02 - AKU'!J35 -> 0 | AY96: ='02 - AKU'!J36 -> 0 | AZ96: ='02 - AKU'!F33 -> 0 | BA96: ='02 - AKU'!F34 -> 0 | BB96: ='02 - AKU'!F35 -> 0 | BC96: ='02 - AKU'!F36 -> 0 | BD96: ='02 - AKU'!F37 -> 0 | BT96: 1 | BV96: IMPORT | BW96: {307371e7-545d-446b-9fe6-14c2a9f950f5} | BX96: {b17cebc9-53b0-4b0b-a86b-9a8db97615c4} | CM96: 2

Sheet 01 - FVE
L2: >> skryté sloupce << | AT2: {2eb3816f-0769-46ce-883a-ae970f3daaac}
AT3: 2
D4: KRYCÍ LIST SOUPISU PRACÍ | M4: v --- níže se nacházejí doplnkové a pomocné údaje k sestavám --- v | AT4: False
D6: Stavba:
E7: ='Rekapitulace stavby'!K6 -> Instalace FVE systému, Inproma, spol. s.r.o.
D8: Objekt:
E9: 01 - FVE
D11: KSO: | I11: CC-CZ:
D12: Místo: | F12: Obec Křinec, parc.č. 1166, 442/1, 400/6, st. 503, | I12: Datum: | J12: ='Rekapitulace stavby'!AN8 -> 8. 4. 2022
D14: Zadavatel: | I14: IČ:
E15: INPROMA, spol. s.r.o., Tyršova 161, Křinec 289 33 | I15: DIČ:
D17: Uchazeč: | I17: IČ: | J17: ='Rekapitulace stavby'!AN13 -> Vyplň údaj
E18: ='Rekapitulace stavby'!E14 -> Vyplň údaj | I18: DIČ: | J18: ='Rekapitulace stavby'!AN14 -> Vyplň údaj
D20: Projektant: | I20: IČ: | J20: 08364656
E21: ProjektHAUS stavby s.r.o. | I21: DIČ:
D23: Zpracovatel: | I23: IČ: | J23: 08364656
E24: ProjektHAUS stavby s.r.o. | I24: DIČ:
D26: Poznámka:
D30: Cena bez DPH | J30: =ROUND(J129, 2) -> 0
F32: Základ daně | I32: Sazba daně | J32: Výše daně
D33: DPH | E33: základní | F33: =ROUND((SUM(BE129:BE233)), 2) -> 0 | I33: 0.21 | J33: =ROUND(((SUM(BE129:BE233))*I33), 2) -> 0
E34: snížená | F34: =ROUND((SUM(BF129:BF233)), 2) -> 0 | I34: 0.15 | J34: =ROUND(((SUM(BF129:BF233))*I34), 2) -> 0
E35: zákl. přenesená | F35: =ROUND((SUM(BG129:BG233)), 2) -> 0 | I35: 0.21 | J35: =0 -> 0
E36: sníž. přenesená | F36: =ROUND((SUM(BH129:BH233)), 2) -> 0 | I36: 0.15 | J36: =0 -> 0
E37: nulová | F37: =ROUND((SUM(BI129:BI233)), 2) -> 0 | I37: 0 | J37: =0 -> 0
D39: Cena s DPH | G39: v | H39: CZK | J39: =SUM(J30:J37) -> 0
D50: Projektant | G50: Zpracovatel
D61: Datum a podpis: | F61: Razítko | G61: Datum a podpis: | J61: Razítko
D65: Objednavatel | G65: Uchazeč
D76: Datum a podpis: | F76: Razítko | G76: Datum a podpis: | J76: Razítko
C82: REKAPITULACE ČLENĚNÍ SOUPISU PRACÍ
C84: Stavba:
E85: =E7 -> Instalace FVE systému, Inproma, spol. s.r.o.
C86: Objekt:
E87: =E9 -> 01 - FVE
C89: Místo: | F89: =F12 -> Obec Křinec, parc.č. 1166, 442/1, 400/6, st. 503, | I89: Datum: | J89: =IF(J12="","",J12) -> 8. 4. 2022
C91: Zadavatel: | F91: =E15 -> INPROMA, spol. s.r.o., Tyršova 161, Křinec 289 33 | I91: Projektant: | J91: =E21 -> ProjektHAUS stavby s.r.o.
C92: Uchazeč: | F92: =IF(E18="","",E18) -> Vyplň údaj | I92: Zpracovatel: | J92: =E24 -> ProjektHAUS stavby s.r.o.
C94: Kód dílu - Popis | J94: Cena celkem [CZK]
C96: Náklady ze soupisu prací | J96: =J129 -> 0 | AU96: -1
D97: HSV - Práce a dodávky HSV | J97: =J130 -> 0
D98: 3 - Svislé a kompletní konstrukce | J98: =J131 -> 0
D99: 9 - Ostatní konstrukce a práce, bourání | J99: =J135 -> 0
D100: 997 - Přesun sutě | J100: =J138 -> 0
D101: 998 - Přesun hmot | J101: =J143 -> 0
D102: PSV - Práce a dodávky PSV | J102: =J145 -> 0
D103: 741 - Elektroinstalace - silnoproud | J103: =J146 -> 0
D104: 742 - Elektroinstalace - slaboproud | J104: =J196 -> 0
D105: M - Práce a dodávky M | J105: =J208 -> 0
D106: 46-M - Zemní práce při extr.mont.pracích | J106: =J209 -> 0
D107: VRN - Vedlejší rozpočtové náklady | J107: =J225 -> 0
D108: VRN3 - Zařízení staveniště | J108: =J226 -> 0
D109: VRN4 - Inženýrská činnost | J109: =J230 -> 0
C116: SOUPIS PRACÍ
C118: Stavba:
E119: =E7 -> Instalace FVE systému, Inproma, spol. s.r.o.
C120: Objekt:
E121: =E9 -> 01 - FVE
C123: Místo: | F123: =F12 -> Obec Křinec, parc.č. 1166, 442/1, 400/6, st. 503, | I123: Datum: | J123: =IF(J12="","",J12) -> 8. 4. 2022
C125: Zadavatel: | F125: =E15 -> INPROMA, spol. s.r.o., Tyršova 161, Křinec 289 33 | I125: Projektant: | J125: =E21 -> ProjektHAUS stavby s.r.o.
C126: Uchazeč: | F126: =IF(E18="","",E18) -> Vyplň údaj | I126: Zpracovatel: | J126: =E24 -> ProjektHAUS stavby s.r.o.
C128: PČ | D128: Typ | E128: Kód | F128: Popis | G128: MJ | H128: Množství | I128: J.cena [CZK] | J128: Cena celkem [CZK] | K128: Cenová soustava | N128: DPH | O128: J. Nh [h] | P128: Nh celkem [h] | Q128: J. hmotnost [t] | R128: Hmotnost celkem [t] | S128: J. suť [t] | T128: Suť Celkem [t]
C129: Náklady soupisu celkem | J129: =BK129 -> 0 | P129: =P130+P145+P208+P225 -> 0 | R129: =R130+R145+R208+R225 -> 1926.9891 | T129: =T130+T145+T208+T225 -> 0.3258 | AT129: D | AU129: -1 | BK129: =BK130+BK145+BK208+BK225 -> 0
D130: D | E130: HSV | F130: Práce a dodávky HSV | J130: =BK130 -> 0 | P130: =P131+P135+P138+P143 -> 0 | R130: =R131+R135+R138+R143 -> 0.042318 | T130: =T131+T135+T138+T143 -> 0.3258 | AR130: 1 | AT130: D | AU130: 0 | AY130: ROZPOCET | BK130: =BK131+BK135+BK138+BK143 -> 0
D131: D | E131: 3 | F131: Svislé a kompletní konstrukce | J131: =BK131 -> 0 | P131: =SUM(P132:P134) -> 0 | R131: =SUM(R132:R134) -> 0.0423 | T131: =SUM(T132:T134) -> 0 | AR131: 1 | AT131: D | AU131: 1 | AY131: ROZPOCET | BK131: =SUM(BK132:BK134) -> 0
C132: 1 | D132: K | E132: 460510084 | F132: Kabelové prostupy z trub plastových do otvoru ve zdivu, průměru do 15 cm | G132: kus | H132: 6 | J132: =ROUND(I132*H132,2) -> 0 | N132: základní | P132: =O132*H132 -> 0 | Q132: 0.00612 | R132: =Q132*H132 -> 0.03672 | S132: 0 | T132: =S132*H132 -> 0 | AR132: 64 | AT132: K | AU132: 2 | AY132: ROZPOCET | BE132: =IF(N132="základní",J132,0) -> 0 | BF132: =IF(N132="snížená",J132,0) -> 0 | BG132: =IF(N132="zákl. přenesená",J132,0) -> 0 | BH132: =IF(N132="sníž. přenesená",J132,0) -> 0 | BI132: =IF(N132="nulová",J132,0) -> 0 | BJ132: 1 | BK132: =ROUND(I132*H132,2) -> 0 | BL132: 64 | BM132: 436046620
C133: 2 | D133: M | E133: 28610001 | F133: trubka tlaková hrdlovaná vodovodní PVC dl 6m DN 80 | G133: m | H133: 2 | J133: =ROUND(I133*H133,2) -> 0 | N133: základní | P133: =O133*H133 -> 0 | Q133: 0.00174 | R133: =Q133*H133 -> 0.00348 | S133: 0 | T133: =S133*H133 -> 0 | AR133: 256 | AT133: M | AU133: 2 | AY133: ROZPOCET | BE133: =IF(N133="základní",J133,0) -> 0 | BF133: =IF(N133="snížená",J133,0) -> 0 | BG133: =IF(N133="zákl. přenesená",J133,0) -> 0 | BH133: =IF(N133="sníž. přenesená",J133,0) -> 0 | BI133: =IF(N133="nulová",J133,0) -> 0 | BJ133: 1 | BK133: =ROUND(I133*H133,2) -> 0 | BL133: 64 | BM133: -422240182
C134: 3 | D134: M | E134: 59081251 | F134: manžeta požárně ochranná pro průchod PVC,PP,PE potrubí stěnami a stropy š 32mm D 110mm EI90 | G134: kus | H134: 6 | J134: =ROUND(I134*H134,2) -> 0 | N134: základní | P134: =O134*H134 -> 0 | Q134: 0.00035 | R134: =Q134*H134 -> 0.0021 | S134: 0 | T134: =S134*H134 -> 0 | AR134: 256 | AT134: M | AU134: 2 | AY134: ROZPOCET | BE134: =IF(N134="základní",J134,0) -> 0 | BF134: =IF(N134="snížená",J134,0) -> 0 | BG134: =IF(N134="zákl. přenesená",J134,0) -> 0 | BH134: =IF(N134="sníž. přenesená",J134,0) -> 0 | BI134: =IF(N134="nulová",J134,0) -> 0 | BJ134: 1 | BK134: =ROUND(I134*H134,2) -> 0 | BL134: 64 | BM134: -2062822117
D135: D | E135: 9 | F135: Ostatní konstrukce a práce, bourání | J135: =BK135 -> 0 | P135: =SUM(P136:P137) -> 0 | R135: =SUM(R136:R137) -> 1.8e-05 | T135: =SUM(T136:T137) -> 0.3258 | AR135: 1 | AT135: D | AU135: 1 | AY135: ROZPOCET | BK135: =SUM(BK136:BK137) -> 0
C136: 47 | D136: K | E136: 971033341 | F136: Vybourání otvorů ve zdivu cihelném pl do 0,09 m2 na MVC nebo MV tl do 300 mm | G136: kus | H136: 6 | J136: =ROUND(I136*H136,2) -> 0 | N136: základní | P136: =O136*H136 -> 0 | Q136: 0 | R136: =Q136*H136 -> 0 | S136: 0.054 | T136: =S136*H136 -> 0.324 | AR136: 4 | AT136: K | AU136: 2 | AY136: ROZPOCET | BE136: =IF(N136="základní",J136,0) -> 0 | BF136: =IF(N136="snížená",J136,0) -> 0 | BG136: =IF(N136="zákl. přenesená",J136,0) -> 0 | BH136: =IF(N136="sníž. přenesená",J136,0) -> 0 | BI136: =IF(N136="nulová",J136,0) -> 0 | BJ136: 1 | BK136: =ROUND(I136*H136,2) -> 0 | BL136: 4 | BM136: 1307167312
C137: 48 | D137: K | E137: 977131114 | F137: Vrty příklepovými vrtáky D 14 mm do cihelného zdiva nebo prostého betonu | G137: m | H137: 1.8 | J137: =ROUND(I137*H137,2) -> 0 | N137: základní | P137: =O137*H137 -> 0 | Q137: 1e-05 | R137: =Q137*H137 -> 1.8e-05 | S137: 0.001 | T137: =S137*H137 -> 0.0018 | AR137: 4 | AT137: K | AU137: 2 | AY137: ROZPOCET | BE137: =IF(N137="základní",J137,0) -> 0 | BF137: =IF(N137="snížená",J137,0) -> 0 | BG137: =IF(N137="zákl. přenesená",J137,0) -> 0 | BH137: =IF(N137="sníž. přenesená",J137,0) -> 0 | BI137: =IF(N137="nulová",J137,0) -> 0 | BJ137: 1 | BK137: =ROUND(I137*H137,2) -> 0 | BL137: 4 | BM137: 2032142552
D138: D | E138: 997 | F138: Přesun sutě | J138: =BK138 -> 0 | P138: =SUM(P139:P142) -> 0 | R138: =SUM(R139:R142) -> 0 | T138: =SUM(T139:T142) -> 0 | AR138: 1 | AT138: D | AU138: 1 | AY138: ROZPOCET | BK138: =SUM(BK139:BK142) -> 0
C139: 111 | D139: K | E139: 997002611 | F139: Nakládání suti a vybouraných hmot | G139: t | H139: 0.326 | J139: =ROUND(I139*H139,2) -> 0 | N139: základní | P139: =O139*H139 -> 0 | Q139: 0 | R139: =Q139*H139 -> 0 | S139: 0 | T139: =S139*H139 -> 0 | AR139: 4 | AT139: K | AU139: 2 | AY139: ROZPOCET | BE139: =IF(N139="základní",J139,0) -> 0 | BF139: =IF(N139="snížená",J139,0) -> 0 | BG139: =IF(N139="zákl. přenesená",J139,0) -> 0 | BH139: =IF(N139="sníž. přenesená",J139,0) -> 0 | BI139: =IF(N139="nulová",J139,0) -> 0 | BJ139: 1 | BK139: =ROUND(I139*H139,2) -> 0 | BL139: 4 | BM139: 2090920288
C140: 49 | D140: K | E140: 997013501 | F140: Odvoz suti a vybouraných hmot na skládku nebo meziskládku do 1 km se složením | G140: t | H140: 0.326 | J140: =ROUND(I140*H140,2) -> 0 | N140: základní | P140: =O140*H140 -> 0 | Q140: 0 | R140: =Q140*H140 -> 0 | S140: 0 | T140: =S140*H140 -> 0 | AR140: 4 | AT140: K | AU140: 2 | AY140: ROZPOCET | BE140: =IF(N140="základní",J140,0) -> 0 | BF140: =IF(N140="snížená",J140,0) -> 0 | BG140: =IF(N140="zákl. přenesená",J140,0) -> 0 | BH140: =IF(N140="sníž. přenesená",J140,0) -> 0 | BI140: =IF(N140="nulová",J140,0) -> 0 | BJ140: 1 | BK140: =ROUND(I140*H140,2) -> 0 | BL140: 4 | BM140: -1767808955
C141: 50 | D141: K | E141: 997013509 | F141: Příplatek k odvozu suti a vybouraných hmot na skládku ZKD 1 km přes 1 km | G141: t | H141: 0.326 | J141: =ROUND(I141*H141,2) -> 0 | N141: základní | P141: =O141*H141 -> 0 | Q141: 0 | R141: =Q141*H141 -> 0 | S141: 0 | T141: =S141*H141 -> 0 | AR141: 4 | AT141: K | AU141: 2 | AY141: ROZPOCET | BE141: =IF(N141="základní",J141,0) -> 0 | BF141: =IF(N141="snížená",J141,0) -> 0 | BG141: =IF(N141="zákl. přenesená",J141,0) -> 0 | BH141: =IF(N141="sníž. přenesená",J141,0) -> 0 | BI141: =IF(N141="nulová",J141,0) -> 0 | BJ141: 1 | BK141: =ROUND(I141*H141,2) -> 0 | BL141: 4 | BM141: -474386546
C142: 11 | D142: K | E142: 997013631 | F142: Poplatek za uložení na skládce (skládkovné) stavebního odpadu směsného kód odpadu 17 09 04 | G142: t | H142: 0.326 | J142: =ROUND(I142*H142,2) -> 0 | N142: základní | P142: =O142*H142 -> 0 | Q142: 0 | R142: =Q142*H142 -> 0 | S142: 0 | T142: =S142*H142 -> 0 | AR142: 4 | AT142: K | AU142: 2 | AY142: ROZPOCET | BE142: =IF(N142="základní",J142,0) -> 0 | BF142: =IF(N142="snížená",J142,0) -> 0 | BG142: =IF(N142="zákl. přenesená",J142,0) -> 0 | BH142: =IF(N142="sníž. přenesená",J142,0) -> 0 | BI142: =IF(N142="nulová",J142,0) -> 0 | BJ142: 1 | BK142: =ROUND(I142*H142,2) -> 0 | BL142: 4 | BM142: -1571858869
D143: D | E143: 998 | F143: Přesun hmot | J143: =BK143 -> 0 | P143: =P144 -> 0 | R143: =R144 -> 0 | T143: =T144 -> 0 | AR143: 1 | AT143: D | AU143: 1 | AY143: ROZPOCET | BK143: =BK144 -> 0
C144: 112 | D144: K | E144: 998001123 | F144: Přesun hmot pro demolice objektů v do 21 m | G144: t | H144: 0.326 | J144: =ROUND(I144*H144,2) -> 0 | N144: základní | P144: =O144*H144 -> 0 | Q144: 0 | R144: =Q144*H144 -> 0 | S144: 0 | T144: =S144*H144 -> 0 | AR144: 4 | AT144: K | AU144: 2 | AY144: ROZPOCET | BE144: =IF(N144="základní",J144,0) -> 0 | BF144: =IF(N144="snížená",J144,0) -> 0 | BG144: =IF(N144="zákl. přenesená",J144,0) -> 0 | BH144: =IF(N144="sníž. přenesená",J144,0) -> 0 | BI144: =IF(N144="nulová",J144,0) -> 0 | BJ144: 1 | BK144: =ROUND(I144*H144,2) -> 0 | BL144: 4 | BM144: -678470695
D145: D | E145: PSV | F145: Práce a dodávky PSV | J145: =BK145 -> 0 | P145: =P146+P196 -> 0 | R145: =R146+R196 -> 1787.0495 | T145: =T146+T196 -> 0 | AR145: 2 | AT145: D | AU145: 0 | AY145: ROZPOCET | BK145: =BK146+BK196 -> 0
D146: D | E146: 741 | F146: Elektroinstalace - silnoproud | J146: =BK146 -> 0 | P146: =SUM(P147:P195) -> 0 | R146: =SUM(R147:R195) -> 1786.5974 | T146: =SUM(T147:T195) -> 0 | AR146: 2 | AT146: D | AU146: 1 | AY146: ROZPOCET | BK146: =SUM(BK147:BK195) -> 0
C147: 51 | D147: K | E147: 741120201 | F147: Montáž vodič Cu izolovaný plný a laněný s PVC pláštěm žíla 1,5-16 mm2 volně (CY, CHAH-R(V)) | G147: m | H147: 260 | J147: =ROUND(I147*H147,2) -> 0 | N147: základní | P147: =O147*H147 -> 0 | Q147: 0 | R147: =Q147*H147 -> 0 | S147: 0 | T147: =S147*H147 -> 0 | AR147: 16 | AT147: K | AU147: 2 | AY147: ROZPOCET | BE147: =IF(N147="základní",J147,0) -> 0 | BF147: =IF(N147="snížená",J147,0) -> 0 | BG147: =IF(N147="zákl. přenesená",J147,0) -> 0 | BH147: =IF(N147="sníž. přenesená",J147,0) -> 0 | BI147: =IF(N147="nulová",J147,0) -> 0 | BJ147: 1 | BK147: =ROUND(I147*H147,2) -> 0 | BL147: 16 | BM147: 356120984
C148: 52 | D148: M | E148: 34140826 | F148: vodič silový s Cu jádrem 6mm2 | G148: m | H148: 20 | J148: =ROUND(I148*H148,2) -> 0 | N148: základní | P148: =O148*H148 -> 0 | Q148: 7e-05 | R148: =Q148*H148 -> 0.0014 | S148: 0 | T148: =S148*H148 -> 0 | AR148: 32 | AT148: M | AU148: 2 | AY148: ROZPOCET | BE148: =IF(N148="základní",J148,0) -> 0 | BF148: =IF(N148="snížená",J148,0) -> 0 | BG148: =IF(N148="zákl. přenesená",J148,0) -> 0 | BH148: =IF(N148="sníž. přenesená",J148,0) -> 0 | BI148: =IF(N148="nulová",J148,0) -> 0 | BJ148: 1 | BK148: =ROUND(I148*H148,2) -> 0 | BL148: 16 | BM148: -666051073
C149: 54 | D149: M | E149: 34143202 | F149: Kabel CYKY-J 5x2,5 mm2 | G149: m | H149: 40 | J149: =ROUND(I149*H149,2) -> 0 | N149: základní | P149: =O149*H149 -> 0 | Q149: 0.0003 | R149: =Q149*H149 -> 0.012 | S149: 0 | T149: =S149*H149 -> 0 | AR149: 32 | AT149: M | AU149: 2 | AY149: ROZPOCET | BE149: =IF(N149="základní",J149,0) -> 0 | BF149: =IF(N149="snížená",J149,0) -> 0 | BG149: =IF(N149="zákl. přenesená",J149,0) -> 0 | BH149: =IF(N149="sníž. přenesená",J149,0) -> 0 | BI149: =IF(N149="nulová",J149,0) -> 0 | BJ149: 1 | BK149: =ROUND(I149*H149,2) -> 0 | BL149: 16 | BM149: -749315295
C150: 55 | D150: M | E150: R024 | F150: Kabel CYKY-J 5x10 mm2 | G150: m | H150: 200 | J150: =ROUND(I150*H150,2) -> 0 | N150: základní | P150: =O150*H150 -> 0 | Q150: 0.00037 | R150: =Q150*H150 -> 0.074 | S150: 0 | T150: =S150*H150 -> 0 | AR150: 32 | AT150: M | AU150: 2 | AY150: ROZPOCET | BE150: =IF(N150="základní",J150,0) -> 0 | BF150: =IF(N150="snížená",J150,0) -> 0 | BG150: =IF(N150="zákl. přenesená",J150,0) -> 0 | BH150: =IF(N150="sníž. přenesená",J150,0) -> 0 | BI150: =IF(N150="nulová",J150,0) -> 0 | BJ150: 1 | BK150: =ROUND(I150*H150,2) -> 0 | BL150: 16 | BM150: 609864112
C151: 56 | D151: K | E151: 741120203 | F151: Montáž vodič Cu izolovaný plný a laněný s PVC pláštěm žíla 25-35 mm2 volně (CY, CHAH-R(V)) | G151: m | H151: 500 | J151: =ROUND(I151*H151,2) -> 0 | N151: základní | P151: =O151*H151 -> 0 | Q151: 0 | R151: =Q151*H151 -> 0 | S151: 0 | T151: =S151*H151 -> 0 | AR151: 16 | AT151: K | AU151: 2 | AY151: ROZPOCET | BE151: =IF(N151="základní",J151,0) -> 0 | BF151: =IF(N151="snížená",J151,0) -> 0 | BG151: =IF(N151="zákl. přenesená",J151,0) -> 0 | BH151: =IF(N151="sníž. přenesená",J151,0) -> 0 | BI151: =IF(N151="nulová",J151,0) -> 0 | BJ151: 1 | BK151: =ROUND(I151*H151,2) -> 0 | BL151: 16 | BM151: 856769578
C152: 53 | D152: M | E152: 34142161 | F152: vodič silový s Cu jádrem 35mm2 | G152: m | H152: 500 | J152: =ROUND(I152*H152,2) -> 0 | N152: základní | P152: =O152*H152 -> 0 | Q152: 0.00038 | R152: =Q152*H152 -> 0.19 | S152: 0 | T152: =S152*H152 -> 0 | AR152: 32 | AT152: M | AU152: 2 | AY152: ROZPOCET | BE152: =IF(N152="základní",J152,0) -> 0 | BF152: =IF(N152="snížená",J152,0) -> 0 | BG152: =IF(N152="zákl. přenesená",J152,0) -> 0 | BH152: =IF(N152="sníž. přenesená",J152,0) -> 0 | BI152: =IF(N152="nulová",J152,0) -> 0 | BJ152: 1 | BK152: =ROUND(I152*H152,2) -> 0 | BL152: 16 | BM152: 620707461
C153: 57 | D153: K | E153: 741123218 | F153: Montáž kabel Al plný nebo laněný kulatý žíla 3x185 až 240 mm2 uložený volně (AYKY) | G153: m | H153: 3600 | J153: =ROUND(I153*H153,2) -> 0 | N153: základní | P153: =O153*H153 -> 0 | Q153: 0 | R153: =Q153*H153 -> 0 | S153: 0 | T153: =S153*H153 -> 0 | AR153: 16 | AT153: K | AU153: 2 | AY153: ROZPOCET | BE153: =IF(N153="základní",J153,0) -> 0 | BF153: =IF(N153="snížená",J153,0) -> 0 | BG153: =IF(N153="zákl. přenesená",J153,0) -> 0 | BH153: =IF(N153="sníž. přenesená",J153,0) -> 0 | BI153: =IF(N153="nulová",J153,0) -> 0 | BJ153: 1 | BK153: =ROUND(I153*H153,2) -> 0 | BL153: 16 | BM153: 121787335
C154: 115 | D154: M | E154: R064 | F154: Kabel AYKY 3x185+90 | G154: m | H154: 60 | J154: =ROUND(I154*H154,2) -> 0 | N154: základní | P154: =O154*H154 -> 0 | Q154: 0 | R154: =Q154*H154 -> 0 | S154: 0 | T154: =S154*H154 -> 0 | AR154: 32 | AT154: M | AU154: 2 | AY154: ROZPOCET | BE154: =IF(N154="základní",J154,0) -> 0 | BF154: =IF(N154="snížená",J154,0) -> 0 | BG154: =IF(N154="zákl. přenesená",J154,0) -> 0 | BH154: =IF(N154="sníž. přenesená",J154,0) -> 0 | BI154: =IF(N154="nulová",J154,0) -> 0 | BJ154: 1 | BK154: =ROUND(I154*H154,2) -> 0 | BL154: 16 | BM154: 1802541758
C155: 58 | D155: M | E155: R025 | F155: Kabel AYKY-J 3x150+70 mm2 | G155: m | H155: 600 | J155: =ROUND(I155*H155,2) -> 0 | N155: základní | P155: =O155*H155 -> 0 | Q155: 0.00294 | R155: =Q155*H155 -> 1.764 | S155: 0 | T155: =S155*H155 -> 0 | AR155: 32 | AT155: M | AU155: 2 | AY155: ROZPOCET | BE155: =IF(N155="základní",J155,0) -> 0 | BF155: =IF(N155="snížená",J155,0) -> 0 | BG155: =IF(N155="zákl. přenesená",J155,0) -> 0 | BH155: =IF(N155="sníž. přenesená",J155,0) -> 0 | BI155: =IF(N155="nulová",J155,0) -> 0 | BJ155: 1 | BK155: =ROUND(I155*H155,2) -> 0 | BL155: 16 | BM155: -1665921956
C156: 59 | D156: M | E156: R026 | F156: Kabel AYY 1x300 mm2 | G156: m | H156: 2400 | J156: =ROUND(I156*H156,2) -> 0 | N156: základní | P156: =O156*H156 -> 0 | Q156: 0.00294 | R156: =Q156*H156 -> 7.056 | S156: 0 | T156: =S156*H156 -> 0 | AR156: 32 | AT156: M | AU156: 2 | AY156: ROZPOCET | BE156: =IF(N156="základní",J156,0) -> 0 | BF156: =IF(N156="snížená",J156,0) -> 0 | BG156: =IF(N156="zákl. přenesená",J156,0) -> 0 | BH156: =IF(N156="sníž. přenesená",J156,0) -> 0 | BI156: =IF(N156="nulová",J156,0) -> 0 | BJ156: 1 | BK156: =ROUND(I156*H156,2) -> 0 | BL156: 16 | BM156: -1197923983
C157: 60 | D157: M | E157: R027 | F157: Kabel AYY 1x150 mm2 | G157: m | H157: 600 | J157: =ROUND(I157*H157,2) -> 0 | N157: základní | P157: =O157*H157 -> 0 | Q157: 2.94 | R157: =Q157*H157 -> 1764 | S157: 0 | T157: =S157*H157 -> 0 | AR157: 32 | AT157: M | AU157: 2 | AY157: ROZPOCET | BE157: =IF(N157="základní",J157,0) -> 0 | BF157: =IF(N157="snížená",J157,0) -> 0 | BG157: =IF(N157="zákl. přenesená",J157,0) -> 0 | BH157: =IF(N157="sníž. přenesená",J157,0) -> 0 | BI157: =IF(N157="nulová",J157,0) -> 0 | BJ157: 1 | BK157: =ROUND(I157*H157,2) -> 0 | BL157: 16 | BM157: -1909426859
C158: 61 | D158: K | E158: 741124703 | F158: Montáž kabel Cu stíněný ovládací žíly 2 až 19x1 mm2 uložený volně (JYTY) | G158: m | H158: 30 | J158: =ROUND(I158*H158,2) -> 0 | N158: základní | P158: =O158*H158 -> 0 | Q158: 0 | R158: =Q158*H158 -> 0 | S158: 0 | T158: =S158*H158 -> 0 | AR158: 16 | AT158: K | AU158: 2 | AY158: ROZPOCET | BE158: =IF(N158="základní",J158,0) -> 0 | BF158: =IF(N158="snížená",J158,0) -> 0 | BG158: =IF(N158="zákl. přenesená",J158,0) -> 0 | BH158: =IF(N158="sníž. přenesená",J158,0) -> 0 | BI158: =IF(N158="nulová",J158,0) -> 0 | BJ158: 1 | BK158: =ROUND(I158*H158,2) -> 0 | BL158: 16 | BM158: -2146630225
... C163: 63 | D163: K | E163: 741130017 | F163: Ukončení vodič izolovaný do 240mm2 v rozváděči nebo na přístroji | G163: kus | H163: 10 | J163: =ROUND(I163*H163,2) -> 0 | N163: základní | P163: =O163*H163 -> 0 | Q163: 0 | R163: =Q163*H163 -> 0 | S163: 0 | T163: =S163*H163 -> 0 | AR163: 16 | AT163: K | AU163: 2 | AY163: ROZPOCET | BE163: =IF(N163="základní",J163,0) -> 0 | BF163: =IF(N163="snížená",J163,0) -> 0 | BG163: =IF(N163="zákl. přenesená",J163,0) -> 0 | BH163: =IF(N163="sníž. přenesená",J163,0) -> 0 | BI163: =IF(N163="nulová",J163,0) -> 0 | BJ163: 1 | BK163: =ROUND(I163*H163,2) -> 0 | BL163: 16 | BM163: 1609837040
C164: 114 | D164: K | E164: 998741201 | F164: Přesun hmot procentní pro silnoproud v objektech v do 6 m | G164: % | J164: =ROUND(I164*H164,2) -> 0 | N164: základní | P164: =O164*H164 -> 0 | Q164: 0 | R164: =Q164*H164 -> 0 | S164: 0 | T164: =S164*H164 -> 0 | AR164: 16 | AT164: K | AU164: 2 | AY164: ROZPOCET | BE164: =IF(N164="základní",J164,0) -> 0 | BF164: =IF(N164="snížená",J164,0) -> 0 | BG164: =IF(N164="zákl. přenesená",J164,0) -> 0 | BH164: =IF(N164="sníž. přenesená",J164,0) -> 0 | BI164: =IF(N164="nulová",J164,0) -> 0 | BJ164: 1 | BK164: =ROUND(I164*H164,2) -> 0 | BL164: 16 | BM164: -724396532
C165: 14 | D165: K | E165: R036 | F165: Montáž hlavní ochranné přípojnice HOP | G165: ks | H165: 6 | J165: =ROUND(I165*H165,2) -> 0 | N165: základní | P165: =O165*H165 -> 0 | Q165: 0 | R165: =Q165*H165 -> 0 | S165: 0 | T165: =S165*H165 -> 0 | AR165: 16 | AT165: K | AU165: 2 | AY165: ROZPOCET | BE165: =IF(N165="základní",J165,0) -> 0 | BF165: =IF(N165="snížená",J165,0) -> 0 | BG165: =IF(N165="zákl. přenesená",J165,0) -> 0 | BH165: =IF(N165="sníž. přenesená",J165,0) -> 0 | BI165: =IF(N165="nulová",J165,0) -> 0 | BJ165: 1 | BK165: =ROUND(I165*H165,2) -> 0 | BL165: 16 | BM165: 1533737964
C166: 15 | D166: M | E166: R037 | F166: Hlavní ochranná přípojnice HOP | G166: ks | H166: 6 | J166: =ROUND(I166*H166,2) -> 0 | N166: základní | P166: =O166*H166 -> 0 | Q166: 0 | R166: =Q166*H166 -> 0 | S166: 0 | T166: =S166*H166 -> 0 | AR166: 32 | AT166: M | AU166: 2 | AY166: ROZPOCET | BE166: =IF(N166="základní",J166,0) -> 0 | BF166: =IF(N166="snížená",J166,0) -> 0 | BG166: =IF(N166="zákl. přenesená",J166,0) -> 0 | BH166: =IF(N166="sníž. přenesená",J166,0) -> 0 | BI166: =IF(N166="nulová",J166,0) -> 0 | BJ166: 1 | BK166: =ROUND(I166*H166,2) -> 0 | BL166: 16 | BM166: -1211447484
C167: 16 | D167: K | E167: R038 | F167: Osazení a zapojení střídače | G167: ks | H167: 5 | J167: =ROUND(I167*H167,2) -> 0 | N167: základní | P167: =O167*H167 -> 0 | Q167: 0 | R167: =Q167*H167 -> 0 | S167: 0 | T167: =S167*H167 -> 0 | AR167: 16 | AT167: K | AU167: 2 | AY167: ROZPOCET | BE167: =IF(N167="základní",J167,0) -> 0 | BF167: =IF(N167="snížená",J167,0) -> 0 | BG167: =IF(N167="zákl. přenesená",J167,0) -> 0 | BH167: =IF(N167="sníž. přenesená",J167,0) -> 0 | BI167: =IF(N167="nulová",J167,0) -> 0 | BJ167: 1 | BK167: =ROUND(I167*H167,2) -> 0 | BL167: 16 | BM167: -366317580
C168: 17 | D168: M | E168: R039 | F168: Střídač min. 100 kW, viz Technická specifikace | G168: ks | H168: 5 | J168: =ROUND(I168*H168,2) -> 0 | N168: základní | P168: =O168*H168 -> 0 | Q168: 0 | R168: =Q168*H168 -> 0 | S168: 0 | T168: =S168*H168 -> 0 | AR168: 32 | AT168: M | AU168: 2 | AY168: ROZPOCET | BE168: =IF(N168="základní",J168,0) -> 0 | BF168: =IF(N168="snížená",J168,0) -> 0 | BG168: =IF(N168="zákl. přenesená",J168,0) -> 0 | BH168: =IF(N168="sníž. přenesená",J168,0) -> 0 | BI168: =IF(N168="nulová",J168,0) -> 0 | BJ168: 1 | BK168: =ROUND(I168*H168,2) -> 0 | BL168: 16 | BM168: -346586064
C169: 18 | D169: K | E169: R040 | F169: Montáž solárního kabelu 1x6 mm | G169: ks | H169: 4500 | J169: =ROUND(I169*H169,2) -> 0 | N169: základní | P169: =O169*H169 -> 0 | Q169: 0 | R169: =Q169*H169 -> 0 | S169: 0 | T169: =S169*H169 -> 0 | AR169: 16 | AT169: K | AU169: 2 | AY169: ROZPOCET | BE169: =IF(N169="základní",J169,0) -> 0 | BF169: =IF(N169="snížená",J169,0) -> 0 | BG169: =IF(N169="zákl. přenesená",J169,0) -> 0 | BH169: =IF(N169="sníž. přenesená",J169,0) -> 0 | BI169: =IF(N169="nulová",J169,0) -> 0 | BJ169: 1 | BK169: =ROUND(I169*H169,2) -> 0 | BL169: 16 | BM169: 1100870442
C170: 19 | D170: M | E170: R041 | F170: Solární kabel 1x6 mm | G170: ks | H170: 4500 | J170: =ROUND(I170*H170,2) -> 0 | N170: základní | P170: =O170*H170 -> 0 | Q170: 0 | R170: =Q170*H170 -> 0 | S170: 0 | T170: =S170*H170 -> 0 | AR170: 32 | AT170: M | AU170: 2 | AY170: ROZPOCET | BE170: =IF(N170="základní",J170,0) -> 0 | BF170: =IF(N170="snížená",J170,0) -> 0 | BG170: =IF(N170="zákl. přenesená",J170,0) -> 0 | BH170: =IF(N170="sníž. přenesená",J170,0) -> 0 | BI170: =IF(N170="nulová",J170,0) -> 0 | BJ170: 1 | BK170: =ROUND(I170*H170,2) -> 0 | BL170: 16 | BM170: -1584837515
...

Sheet 02 - AKU
L2: >> skryté sloupce << | AT2: {307371e7-545d-446b-9fe6-14c2a9f950f5}
AT3: 2
D4: KRYCÍ LIST SOUPISU PRACÍ | M4: v --- níže se nacházejí doplnkové a pomocné údaje k sestavám --- v | AT4: False
D6: Stavba:
E7: ='Rekapitulace stavby'!K6 -> Instalace FVE systému, Inproma, spol. s.r.o.
D8: Objekt:
E9: 02 - AKU
D11: KSO: | I11: CC-CZ:
D12: Místo: | F12: Obec Křinec, parc.č. 1166, 442/1, 400/6, st. 503, | I12: Datum: | J12: ='Rekapitulace stavby'!AN8 -> 8. 4. 2022
D14: Zadavatel: | I14: IČ:
E15: INPROMA, spol. s.r.o., Tyršova 161, Křinec 289 33 | I15: DIČ:
D17: Uchazeč: | I17: IČ: | J17: ='Rekapitulace stavby'!AN13 -> Vyplň údaj
E18: ='Rekapitulace stavby'!E14 -> Vyplň údaj | I18: DIČ: | J18: ='Rekapitulace stavby'!AN14 -> Vyplň údaj
D20: Projektant: | I20: IČ: | J20: 08364656
E21: ProjektHAUS stavby s.r.o. | I21: DIČ:
D23: Zpracovatel: | I23: IČ: | J23: 08364656
E24: ProjektHAUS stavby s.r.o. | I24: DIČ:
D26: Poznámka:
D30: Cena bez DPH | J30: =ROUND(J129, 2) -> 0
F32: Základ daně | I32: Sazba daně | J32: Výše daně
D33: DPH | E33: základní | F33: =ROUND((SUM(BE129:BE202)), 2) -> 0 | I33: 0.21 | J33: =ROUND(((SUM(BE129:BE202))*I33), 2) -> 0
E34: snížená | F34: =ROUND((SUM(BF129:BF202)), 2) -> 0 | I34: 0.15 | J34: =ROUND(((SUM(BF129:BF202))*I34), 2) -> 0
E35: zákl. přenesená | F35: =ROUND((SUM(BG129:BG202)), 2) -> 0 | I35: 0.21 | J35: =0 -> 0
E36: sníž. přenesená | F36: =ROUND((SUM(BH129:BH202)), 2) -> 0 | I36: 0.15 | J36: =0 -> 0
E37: nulová | F37: =ROUND((SUM(BI129:BI202)), 2) -> 0 | I37: 0 | J37: =0 -> 0
D39: Cena s DPH | G39: v | H39: CZK | J39: =SUM(J30:J37) -> 0
D50: Projektant | G50: Zpracovatel
D61: Datum a podpis: | F61: Razítko | G61: Datum a podpis: | J61: Razítko
D65: Objednavatel | G65: Uchazeč
D76: Datum a podpis: | F76: Razítko | G76: Datum a podpis: | J76: Razítko
C82: REKAPITULACE ČLENĚNÍ SOUPISU PRACÍ
C84: Stavba:
E85: =E7 -> Instalace FVE systému, Inproma, spol. s.r.o.
C86: Objekt:
E87: =E9 -> 02 - AKU
C89: Místo: | F89: =F12 -> Obec Křinec, parc.č. 1166, 442/1, 400/6, st. 503, | I89: Datum: | J89: =IF(J12="","",J12) -> 8. 4. 2022
C91: Zadavatel: | F91: =E15 -> INPROMA, spol. s.r.o., Tyršova 161, Křinec 289 33 | I91: Projektant: | J91: =E21 -> ProjektHAUS stavby s.r.o.
C92: Uchazeč: | F92: =IF(E18="","",E18) -> Vyplň údaj | I92: Zpracovatel: | J92: =E24 -> ProjektHAUS stavby s.r.o.
C94: Kód dílu - Popis | J94: Cena celkem [CZK]
C96: Náklady ze soupisu prací | J96: =J129 -> 0 | AU96: -1
D97: HSV - Práce a dodávky HSV | J97: =J130 -> 0
D98: 3 - Svislé a kompletní konstrukce | J98: =J131 -> 0
D99: 6 - Úpravy povrchů, podlahy a osazování výplní | J99: =J137 -> 0
D100: 9 - Ostatní konstrukce a práce, bourání | J100: =J141 -> 0
D101: 997 - Přesun sutě | J101: =J144 -> 0
D102: 998 - Přesun hmot | J102: =J149 -> 0
D103: PSV - Práce a dodávky PSV | J103: =J151 -> 0
D104: 741 - Elektroinstalace - silnoproud | J104: =J152 -> 0
D105: 742 - Elektroinstalace - slaboproud | J105: =J175 -> 0
D106: 751 - Vzduchotechnika | J106: =J188 -> 0
D107: VRN - Vedlejší rozpočtové náklady | J107: =J194 -> 0
D108: VRN3 - Zařízení staveniště | J108: =J195 -> 0
D109: VRN4 - Inženýrská činnost | J109: =J199 -> 0
C116: SOUPIS PRACÍ
C118: Stavba:
E119: =E7 -> Instalace FVE systému, Inproma, spol. s.r.o.
C120: Objekt:
E121: =E9 -> 02 - AKU
C123: Místo: | F123: =F12 -> Obec Křinec, parc.č. 1166, 442/1, 400/6, st. 503, | I123: Datum: | J123: =IF(J12="","",J12) -> 8. 4. 2022
C125: Zadavatel: | F125: =E15 -> INPROMA, spol. s.r.o., Tyršova 161, Křinec 289 33 | I125: Projektant: | J125: =E21 -> ProjektHAUS stavby s.r.o.
C126: Uchazeč: | F126: =IF(E18="","",E18) -> Vyplň údaj | I126: Zpracovatel: | J126: =E24 -> ProjektHAUS stavby s.r.o.
C128: PČ | D128: Typ | E128: Kód | F128: Popis | G128: MJ | H128: Množství | I128: J.cena [CZK] | J128: Cena celkem [CZK] | K128: Cenová soustava | N128: DPH | O128: J. Nh [h] | P128: Nh celkem [h] | Q128: J. hmotnost [t] | R128: Hmotnost celkem [t] | S128: J. suť [t] | T128: Suť Celkem [t]
C129: Náklady soupisu celkem | J129: =BK129 -> 0 | P129: =P130+P151+P194 -> 0 | R129: =R130+R151+R194 -> 2.1476 | T129: =T130+T151+T194 -> 0.2172 | AT129: D | AU129: -1 | BK129: =BK130+BK151+BK194 -> 0
D130: D | E130: HSV | F130: Práce a dodávky HSV | J130: =BK130 -> 0 | P130: =P131+P137+P141+P144+P149 -> 0 | R130: =R131+R137+R141+R144+R149 -> 1.844932 | T130: =T131+T137+T141+T144+T149 -> 0.2172 | AR130: 1 | AT130: D | AU130: 0 | AY130: ROZPOCET | BK130: =BK131+BK137+BK141+BK144+BK149 -> 0
D131: D | E131: 3 | F131: Svislé a kompletní konstrukce | J131: =BK131 -> 0 | P131: =SUM(P132:P136) -> 0 | R131: =SUM(R132:R136) -> 1.72691 | T131: =SUM(T132:T136) -> 0 | AR131: 1 | AT131: D | AU131: 1 | AY131: ROZPOCET | BK131: =SUM(BK132:BK136) -> 0
C132: 1 | D132: K | E132: 311272111.PFX | F132: Zdivo z tvárnic hladkých Porfix P2-440 tl zdiva 250 mm | G132: m2 | H132: 5 | J132: =ROUND(I132*H132,2) -> 0 | N132: základní | P132: =O132*H132 -> 0 | Q132: 0.17764 | R132: =Q132*H132 -> 0.8882 | S132: 0 | T132: =S132*H132 -> 0 | AR132: 4 | AT132: K | AU132: 2 | AY132: ROZPOCET | BE132: =IF(N132="základní",J132,0) -> 0 | BF132: =IF(N132="snížená",J132,0) -> 0 | BG132: =IF(N132="zákl. přenesená",J132,0) -> 0 | BH132: =IF(N132="sníž. přenesená",J132,0) -> 0 | BI132: =IF(N132="nulová",J132,0) -> 0 | BJ132: 1 | BK132: =ROUND(I132*H132,2) -> 0 | BL132: 4 | BM132: 414620040
C133: 2 | D133: M | E133: 59531005 | F133: tvárnice pórobetonová P2-450 hladká pro zdivo tl 300mm | G133: m2 | H133: 5 | J133: =ROUND(I133*H133,2) -> 0 | N133: základní | P133: =O133*H133 -> 0 | Q133: 0.16187 | R133: =Q133*H133 -> 0.80935 | S133: 0 | T133: =S133*H133 -> 0 | AR133: 8 | AT133: M | AU133: 2 | AY133: ROZPOCET | BE133: =IF(N133="základní",J133,0) -> 0 | BF133: =IF(N133="snížená",J133,0) -> 0 | BG133: =IF(N133="zákl. přenesená",J133,0) -> 0 | BH133: =IF(N133="sníž. přenesená",J133,0) -> 0 | BI133: =IF(N133="nulová",J133,0) -> 0 | BJ133: 1 | BK133: =ROUND(I133*H133,2) -> 0 | BL133: 4 | BM133: 251062319
C134: 3 | D134: K | E134: 460510084 | F134: Kabelové prostupy z trub plastových do otvoru ve zdivu, průměru do 15 cm | G134: kus | H134: 4 | J134: =ROUND(I134*H134,2) -> 0 | N134: základní | P134: =O134*H134 -> 0 | Q134: 0.00612 | R134: =Q134*H134 -> 0.02448 | S134: 0 | T134: =S134*H134 -> 0 | AR134: 64 | AT134: K | AU134: 2 | AY134: ROZPOCET | BE134: =IF(N134="základní",J134,0) -> 0 | BF134: =IF(N134="snížená",J134,0) -> 0 | BG134: =IF(N134="zákl. přenesená",J134,0) -> 0 | BH134: =IF(N134="sníž. přenesená",J134,0) -> 0 | BI134: =IF(N134="nulová",J134,0) -> 0 | BJ134: 1 | BK134: =ROUND(I134*H134,2) -> 0 | BL134: 64 | BM134: 1468875510
C135: 4 | D135: M | E135: 28610001 | F135: trubka tlaková hrdlovaná vodovodní PVC dl 6m DN 80 | G135: m | H135: 2 | J135: =ROUND(I135*H135,2) -> 0 | N135: základní | P135: =O135*H135 -> 0 | Q135: 0.00174 | R135: =Q135*H135 -> 0.00348 | S135: 0 | T135: =S135*H135 -> 0 | AR135: 256 | AT135: M | AU135: 2 | AY135: ROZPOCET | BE135: =IF(N135="základní",J135,0) -> 0 | BF135: =IF(N135="snížená",J135,0) -> 0 | BG135: =IF(N135="zákl. přenesená",J135,0) -> 0 | BH135: =IF(N135="sníž. přenesená",J135,0) -> 0 | BI135: =IF(N135="nulová",J135,0) -> 0 | BJ135: 1 | BK135: =ROUND(I135*H135,2) -> 0 | BL135: 64 | BM135: 2039836896
C136: 5 | D136: M | E136: 59081251 | F136: manžeta požárně ochranná pro průchod PVC,PP,PE potrubí stěnami a stropy š 32mm D 110mm EI90 | G136: kus | H136: 4 | J136: =ROUND(I136*H136,2) -> 0 | N136: základní | P136: =O136*H136 -> 0 | Q136: 0.00035 | R136: =Q136*H136 -> 0.0014 | S136: 0 | T136: =S136*H136 -> 0 | AR136: 256 | AT136: M | AU136: 2 | AY136: ROZPOCET | BE136: =IF(N136="základní",J136,0) -> 0 | BF136: =IF(N136="snížená",J136,0) -> 0 | BG136: =IF(N136="zákl. přenesená",J136,0) -> 0 | BH136: =IF(N136="sníž. přenesená",J136,0) -> 0 | BI136: =IF(N136="nulová",J136,0) -> 0 | BJ136: 1 | BK136: =ROUND(I136*H136,2) -> 0 | BL136: 64 | BM136: -719922652
D137: D | E137: 6 | F137: Úpravy povrchů, podlahy a osazování výplní | J137: =BK137 -> 0 | P137: =SUM(P138:P140) -> 0 | R137: =SUM(R138:R140) -> 0.11801 | T137: =SUM(T138:T140) -> 0 | AR137: 1 | AT137: D | AU137: 1 | AY137: ROZPOCET | BK137: =SUM(BK138:BK140) -> 0
C138: 6 | D138: K | E138: 642942111 | F138: Osazování zárubní nebo rámů dveřních kovových do 2,5 m2 na MC | G138: kus | H138: 1 | J138: =ROUND(I138*H138,2) -> 0 | N138: základní | P138: =O138*H138 -> 0 | Q138: 0.01777 | R138: =Q138*H138 -> 0.01777 | S138: 0 | T138: =S138*H138 -> 0 | AR138: 4 | AT138: K | AU138: 2 | AY138: ROZPOCET | BE138: =IF(N138="základní",J138,0) -> 0 | BF138: =IF(N138="snížená",J138,0) -> 0 | BG138: =IF(N138="zákl. přenesená",J138,0) -> 0 | BH138: =IF(N138="sníž. přenesená",J138,0) -> 0 | BI138: =IF(N138="nulová",J138,0) -> 0 | BJ138: 1 | BK138: =ROUND(I138*H138,2) -> 0 | BL138: 4 | BM138: -429179327
C139: 7 | D139: M | E139: 55331388 | F139: zárubeň ocelová pro běžné zdění a pórobeton 150 levá/pravá 1100 | G139: kus | H139: 1 | J139: =ROUND(I139*H139,2) -> 0 | N139: základní | P139: =O139*H139 -> 0 | Q139: 0.01624 | R139: =Q139*H139 -> 0.01624 | S139: 0 | T139: =S139*H139 -> 0 | AR139: 8 | AT139: M | AU139: 2 | AY139: ROZPOCET | BE139: =IF(N139="základní",J139,0) -> 0 | BF139: =IF(N139="snížená",J139,0) -> 0 | BG139: =IF(N139="zákl. přenesená",J139,0) -> 0 | BH139: =IF(N139="sníž. přenesená",J139,0) -> 0 | BI139: =IF(N139="nulová",J139,0) -> 0 | BJ139: 1 | BK139: =ROUND(I139*H139,2) -> 0 | BL139: 4 | BM139: -1367545179
C140: 8 | D140: M | E140: 55341156 | F140: dveře ocelové exteriérové zateplené 1křídlé 900x1970mm | G140: kus | H140: 1 | J140: =ROUND(I140*H140,2) -> 0 | N140: základní | P140: =O140*H140 -> 0 | Q140: 0.084 | R140: =Q140*H140 -> 0.084 | S140: 0 | T140: =S140*H140 -> 0 | AR140: 8 | AT140: M | AU140: 2 | AY140: ROZPOCET | BE140: =IF(N140="základní",J140,0) -> 0 | BF140: =IF(N140="snížená",J140,0) -> 0 | BG140: =IF(N140="zákl. přenesená",J140,0) -> 0 | BH140: =IF(N140="sníž. přenesená",J140,0) -> 0 | BI140: =IF(N140="nulová",J140,0) -> 0 | BJ140: 1 | BK140: =ROUND(I140*H140,2) -> 0 | BL140: 4 | BM140: 68661007
D141: D | E141: 9 | F141: Ostatní konstrukce a práce, bourání | J141: =BK141 -> 0 | P141: =SUM(P142:P143) -> 0 | R141: =SUM(R142:R143) -> 1.2e-05 | T141: =SUM(T142:T143) -> 0.2172 | AR141: 1 | AT141: D | AU141: 1 | AY141: ROZPOCET | BK141: =SUM(BK142:BK143) -> 0
C142: 48 | D142: K | E142: 971033341 | F142: Vybourání otvorů ve zdivu cihelném pl do 0,09 m2 na MVC nebo MV tl do 300 mm | G142: kus | H142: 4 | J142: =ROUND(I142*H142,2) -> 0 | N142: základní | P142: =O142*H142 -> 0 | Q142: 0 | R142: =Q142*H142 -> 0 | S142: 0.054 | T142: =S142*H142 -> 0.216 | AR142: 4 | AT142: K | AU142: 2 | AY142: ROZPOCET | BE142: =IF(N142="základní",J142,0) -> 0 | BF142: =IF(N142="snížená",J142,0) -> 0 | BG142: =IF(N142="zákl. přenesená",J142,0) -> 0 | BH142: =IF(N142="sníž. přenesená",J142,0) -> 0 | BI142: =IF(N142="nulová",J142,0) -> 0 | BJ142: 1 | BK142: =ROUND(I142*H142,2) -> 0 | BL142: 4 | BM142: 539678698
C143: 49 | D143: K | E143: 977131114 | F143: Vrty příklepovými vrtáky D 14 mm do cihelného zdiva nebo prostého betonu | G143: m | H143: 1.2 | J143: =ROUND(I143*H143,2) -> 0 | N143: základní | P143: =O143*H143 -> 0 | Q143: 1e-05 | R143: =Q143*H143 -> 1.2e-05 | S143: 0.001 | T143: =S143*H143 -> 0.0012 | AR143: 4 | AT143: K | AU143: 2 | AY143: ROZPOCET | BE143: =IF(N143="základní",J143,0) -> 0 | BF143: =IF(N143="snížená",J143,0) -> 0 | BG143: =IF(N143="zákl. přenesená",J143,0) -> 0 | BH143: =IF(N143="sníž. přenesená",J143,0) -> 0 | BI143: =IF(N143="nulová",J143,0) -> 0 | BJ143: 1 | BK143: =ROUND(I143*H143,2) -> 0 | BL143: 4 | BM143: -1582124326
D144: D | E144: 997 | F144: Přesun sutě | J144: =BK144 -> 0 | P144: =SUM(P145:P148) -> 0 | R144: =SUM(R145:R148) -> 0 | T144: =SUM(T145:T148) -> 0 | AR144: 1 | AT144: D | AU144: 1 | AY144: ROZPOCET | BK144: =SUM(BK145:BK148) -> 0
C145: 56 | D145: K | E145: 997002611 | F145: Nakládání suti a vybouraných hmot | G145: t | H145: 0.217 | J145: =ROUND(I145*H145,2) -> 0 | N145: základní | P145: =O145*H145 -> 0 | Q145: 0 | R145: =Q145*H145 -> 0 | S145: 0 | T145: =S145*H145 -> 0 | AR145: 4 | AT145: K | AU145: 2 | AY145: ROZPOCET | BE145: =IF(N145="základní",J145,0) -> 0 | BF145: =IF(N145="snížená",J145,0) -> 0 | BG145: =IF(N145="zákl. přenesená",J145,0) -> 0 | BH145: =IF(N145="sníž. přenesená",J145,0) -> 0 | BI145: =IF(N145="nulová",J145,0) -> 0 | BJ145: 1 | BK145: =ROUND(I145*H145,2) -> 0 | BL145: 4 | BM145: -1474935007
C146: 9 | D146: K | E146: 997013501 | F146: Odvoz suti a vybouraných hmot na skládku nebo meziskládku do 1 km se složením | G146: t | H146: 0.267 | J146: =ROUND(I146*H146,2) -> 0 | N146: základní | P146: =O146*H146 -> 0 | Q146: 0 | R146: =Q146*H146 -> 0 | S146: 0 | T146: =S146*H146 -> 0 | AR146: 4 | AT146: K | AU146: 2 | AY146: ROZPOCET | BE146: =IF(N146="základní",J146,0) -> 0 | BF146: =IF(N146="snížená",J146,0) -> 0 | BG146: =IF(N146="zákl. přenesená",J146,0) -> 0 | BH146: =IF(N146="sníž. přenesená",J146,0) -> 0 | BI146: =IF(N146="nulová",J146,0) -> 0 | BJ146: 1 | BK146: =ROUND(I146*H146,2) -> 0 | BL146: 4 | BM146: 809998196
C147: 10 | D147: K | E147: 997013509 | F147: Příplatek k odvozu suti a vybouraných hmot na skládku ZKD 1 km přes 1 km | G147: t | H147: 0.267 | J147: =ROUND(I147*H147,2) -> 0 | N147: základní | P147: =O147*H147 -> 0 | Q147: 0 | R147: =Q147*H147 -> 0 | S147: 0 | T147: =S147*H147 -> 0 | AR147: 4 | AT147: K | AU147: 2 | AY147: ROZPOCET | BE147: =IF(N147="základní",J147,0) -> 0 | BF147: =IF(N147="snížená",J147,0) -> 0 | BG147: =IF(N147="zákl. přenesená",J147,0) -> 0 | BH147: =IF(N147="sníž. přenesená",J147,0) -> 0 | BI147: =IF(N147="nulová",J147,0) -> 0 | BJ147: 1 | BK147: =ROUND(I147*H147,2) -> 0 | BL147: 4 | BM147: -1204923172
C148: 11 | D148: K | E148: 997013631 | F148: Poplatek za uložení na skládce (skládkovné) stavebního odpadu směsného kód odpadu 17 09 04 | G148: t | H148: 0.267 | J148: =ROUND(I148*H148,2) -> 0 | N148: základní | P148: =O148*H148 -> 0 | Q148: 0 | R148: =Q148*H148 -> 0 | S148: 0 | T148: =S148*H148 -> 0 | AR148: 4 | AT148: K | AU148: 2 | AY148: ROZPOCET | BE148: =IF(N148="základní",J148,0) -> 0 | BF148: =IF(N148="snížená",J148,0) -> 0 | BG148: =IF(N148="zákl. přenesená",J148,0) -> 0 | BH148: =IF(N148="sníž. přenesená",J148,0) -> 0 | BI148: =IF(N148="nulová",J148,0) -> 0 | BJ148: 1 | BK148: =ROUND(I148*H148,2) -> 0 | BL148: 4 | BM148: 2117092625
D149: D | E149: 998 | F149: Přesun hmot | J149: =BK149 -> 0 | P149: =P150 -> 0 | R149: =R150 -> 0 | T149: =T150 -> 0 | AR149: 1 | AT149: D | AU149: 1 | AY149: ROZPOCET | BK149: =BK150 -> 0
C150: 55 | D150: K | E150: 998001123 | F150: Přesun hmot pro demolice objektů v do 21 m | G150: t | H150: 1.816 | J150: =ROUND(I150*H150,2) -> 0 | N150: základní | P150: =O150*H150 -> 0 | Q150: 0 | R150: =Q150*H150 -> 0 | S150: 0 | T150: =S150*H150 -> 0 | AR150: 4 | AT150: K | AU150: 2 | AY150: ROZPOCET | BE150: =IF(N150="základní",J150,0) -> 0 | BF150: =IF(N150="snížená",J150,0) -> 0 | BG150: =IF(N150="zákl. přenesená",J150,0) -> 0 | BH150: =IF(N150="sníž. přenesená",J150,0) -> 0 | BI150: =IF(N150="nulová",J150,0) -> 0 | BJ150: 1 | BK150: =ROUND(I150*H150,2) -> 0 | BL150: 4 | BM150: 153012478
D151: D | E151: PSV | F151: Práce a dodávky PSV | J151: =BK151 -> 0 | P151: =P152+P175+P188 -> 0 | R151: =R152+R175+R188 -> 0.302668 | T151: =T152+T175+T188 -> 0 | AR151: 2 | AT151: D | AU151: 0 | AY151: ROZPOCET | BK151: =BK152+BK175+BK188 -> 0
D152: D | E152: 741 | F152: Elektroinstalace - silnoproud | J152: =BK152 -> 0 | P152: =SUM(P153:P174) -> 0 | R152: =SUM(R153:R174) -> 0.181 | T152: =SUM(T153:T174) -> 0 | AR152: 2 | AT152: D | AU152: 1 | AY152: ROZPOCET | BK152: =SUM(BK153:BK174) -> 0
C153: 12 | D153: K | E153: 741120205 | F153: Montáž vodič Cu izolovaný plný a laněný s PVC pláštěm žíla 50-70 mm2 volně (CY, CHAH-R(V)) | G153: m | H153: 50 | J153: =ROUND(I153*H153,2) -> 0 | N153: základní | P153: =O153*H153 -> 0 | Q153: 0 | R153: =Q153*H153 -> 0 | S153: 0 | T153: =S153*H153 -> 0 | AR153: 16 | AT153: K | AU153: 2 | AY153: ROZPOCET | BE153: =IF(N153="základní",J153,0) -> 0 | BF153: =IF(N153="snížená",J153,0) -> 0 | BG153: =IF(N153="zákl. přenesená",J153,0) -> 0 | BH153: =IF(N153="sníž. přenesená",J153,0) -> 0 | BI153: =IF(N153="nulová",J153,0) -> 0 | BJ153: 1 | BK153: =ROUND(I153*H153,2) -> 0 | BL153: 16 | BM153: -1290103458
C154: 13 | D154: M | E154: R003 | F154: 1-CYKY 3x50+35 AKU | G154: m | H154: 50 | J154: =ROUND(I154*H154,2) -> 0 | N154: základní | P154: =O154*H154 -> 0 | Q154: 0.00362 | R154: =Q154*H154 -> 0.181 | S154: 0 | T154: =S154*H154 -> 0 | AR154: 32 | AT154: M | AU154: 2 | AY154: ROZPOCET | BE154: =IF(N154="základní",J154,0) -> 0 | BF154: =IF(N154="snížená",J154,0) -> 0 | BG154: =IF(N154="zákl. přenesená",J154,0) -> 0 | BH154: =IF(N154="sníž. přenesená",J154,0) -> 0 | BI154: =IF(N154="nulová",J154,0) -> 0 | BJ154: 1 | BK154: =ROUND(I154*H154,2) -> 0 | BL154: 16 | BM154: 197775844
C155: 47 | D155: K | E155: 741130011 | F155: Ukončení vodič izolovaný do 50 mm2 v rozváděči nebo na přístroji | G155: kus | H155: 10 | J155: =ROUND(I155*H155,2) -> 0 | N155: základní | P155: =O155*H155 -> 0 | Q155: 0 | R155: =Q155*H155 -> 0 | S155: 0 | T155: =S155*H155 -> 0 | AR155: 4 | AT155: K | AU155: 2 | AY155: ROZPOCET | BE155: =IF(N155="základní",J155,0) -> 0 | BF155: =IF(N155="snížená",J155,0) -> 0 | BG155: =IF(N155="zákl. přenesená",J155,0) -> 0 | BH155: =IF(N155="sníž. přenesená",J155,0) -> 0 | BI155: =IF(N155="nulová",J155,0) -> 0 | BJ155: 1 | BK155: =ROUND(I155*H155,2) -> 0 | BL155: 4 | BM155: -57007592
C156: 53 | D156: K | E156: 998741101 | F156: Přesun hmot tonážní pro silnoproud v objektech v do 6 m | G156: t | H156: 0.181 | J156: =ROUND(I156*H156,2) -> 0 | N156: základní | P156: =O156*H156 -> 0 | Q156: 0 | R156: =Q156*H156 -> 0 | S156: 0 | T156: =S156*H156 -> 0 | AR156: 4 | AT156: K | AU156: 2 | AY156: ROZPOCET | BE156: =IF(N156="základní",J156,0) -> 0 | BF156: =IF(N156="snížená",J156,0) -> 0 | BG156: =IF(N156="zákl. přenesená",J156,0) -> 0 | BH156: =IF(N156="sníž. přenesená",J156,0) -> 0 | BI156: =IF(N156="nulová",J156,0) -> 0 | BJ156: 1 | BK156: =ROUND(I156*H156,2) -> 0 | BL156: 4 | BM156: 143354966
C157: 57 | D157: K | E157: 998741201 | F157: Přesun hmot procentní pro silnoproud v objektech v do 6 m | G157: % | J157: =ROUND(I157*H157,2) -> 0 | N157: základní | P157: =O157*H157 -> 0 | Q157: 0 | R157: =Q157*H157 -> 0 | S157: 0 | T157: =S157*H157 -> 0 | AR157: 16 | AT157: K | AU157: 2 | AY157: ROZPOCET | BE157: =IF(N157="základní",J157,0) -> 0 | BF157: =IF(N157="snížená",J157,0) -> 0 | BG157: =IF(N157="zákl. přenesená",J157,0) -> 0 | BH157: =IF(N157="sníž. přenesená",J157,0) -> 0 | BI157: =IF(N157="nulová",J157,0) -> 0 | BJ157: 1 | BK157: =ROUND(I157*H157,2) -> 0 | BL157: 16 | BM157: 1975696214
C158: 14 | D158: K | E158: R004 | F158: Montáž elektroměru pro bateriové úložiště | G158: ks | H158: 1 | J158: =ROUND(I158*H158,2) -> 0 | N158: základní | P158: =O158*H158 -> 0 | Q158: 0 | R158: =Q158*H158 -> 0 | S158: 0 | T158: =S158*H158 -> 0 | AR158: 16 | AT158: K | AU158: 2 | AY158: ROZPOCET | BE158: =IF(N158="základní",J158,0) -> 0 | BF158: =IF(N158="snížená",J158,0) -> 0 | BG158: =IF(N158="zákl. přenesená",J158,0) -> 0 | BH158: =IF(N158="sníž. přenesená",J158,0) -> 0 | BI158: =IF(N158="nulová",J158,0) -> 0 | BJ158: 1 | BK158: =ROUND(I158*H158,2) -> 0 | BL158: 16 | BM158: 126759096
C159: 15 | D159: M | E159: R005 | F159: elektroměr, nepříme měření, pro bateriové úložiště | G159: ks | H159: 1 | J159: =ROUND(I159*H159,2) -> 0 | N159: základní | P159: =O159*H159 -> 0 | Q159: 0 | R159: =Q159*H159 -> 0 | S159: 0 | T159: =S159*H159 -> 0 | AR159: 32 | AT159: M | AU159: 2 | AY159: ROZPOCET | BE159: =IF(N159="základní",J159,0) -> 0 | BF159: =IF(N159="snížená",J159,0) -> 0 | BG159: =IF(N159="zákl. přenesená",J159,0) -> 0 | BH159: =IF(N159="sníž. přenesená",J159,0) -> 0 | BI159: =IF(N159="nulová",J159,0) -> 0 | BJ159: 1 | BK159: =ROUND(I159*H159,2) -> 0 | BL159: 16 | BM159: 233048172
C160: 16 | D160: K | E160: R006 | F160: Montáž transformátoru | G160: ks | H160: 3 | J160: =ROUND(I160*H160,2) -> 0 | N160: základní | P160: =O160*H160 -> 0 | Q160: 0 | R160: =Q160*H160 -> 0 | S160: 0 | T160: =S160*H160 -> 0 | AR160: 16 | AT160: K | AU160: 2 | AY160: ROZPOCET | BE160: =IF(N160="základní",J160,0) -> 0 | BF160: =IF(N160="snížená",J160,0) -> 0 | BG160: =IF(N160="zákl. přenesená",J160,0) -> 0 | BH160: =IF(N160="sníž. přenesená",J160,0) -> 0 | BI160: =IF(N160="nulová",J160,0) -> 0 | BJ160: 1 | BK160: =ROUND(I160*H160,2) -> 0 | BL160: 16 | BM160: -1516351718
C161: 17 | D161: M | E161: R007 | F161: Měřicí transformátor proudu 1000/5A tř.1 | G161: ks | H161: 3 | J161: =ROUND(I161*H161,2) -> 0 | N161: základní | P161: =O161*H161 -> 0 | Q161: 0 | R161: =Q161*H161 -> 0 | S161: 0 | T161: =S161*H161 -> 0 | AR161: 32 | AT161: M | AU161: 2 | AY161: ROZPOCET | BE161: =IF(N161="základní",J161,0) -> 0 | BF161: =IF(N161="snížená",J161,0) -> 0 | BG161: =IF(N161="zákl. přenesená",J161,0) -> 0 | BH161: =IF(N161="sníž. přenesená",J161,0) -> 0 | BI161: =IF(N161="nulová",J161,0) -> 0 | BJ161: 1 | BK161: =ROUND(I161*H161,2) -> 0 | BL161: 16 | BM161: -484365683
C162: 18 | D162: K | E162: R008 | F162: Montáž bateriového uložiště | G162: kpl | H162: 1 | J162: =ROUND(I162*H162,2) -> 0 | N162: základní | P162: =O162*H162 -> 0 | Q162: 0 | R162: =Q162*H162 -> 0 | S162: 0 | T162: =S162*H162 -> 0 | AR162: 16 | AT162: K | AU162: 2 | AY162: ROZPOCET | BE162: =IF(N162="základní",J162,0) -> 0 | BF162: =IF(N162="snížená",J162,0) -> 0 | BG162: =IF(N162="zákl. přenesená",J162,0) -> 0 | BH162: =IF(N162="sníž. přenesená",J162,0) -> 0 | BI162: =IF(N162="nulová",J162,0) -> 0 | BJ162: 1 | BK162: =ROUND(I162*H162,2) -> 0 | BL162: 16 | BM162: -1570144510
C163: 19 | D163: M | E163: R009 | F163: Bateriové úložiště, viz Technická specifikace | G163: kpl | H163: 1 | J163: =ROUND(I163*H163,2) -> 0 | N163: základní | P163: =O163*H163 -> 0 | Q163: 0 | R163: =Q163*H163 -> 0 | S163: 0 | T163: =S163*H163 -> 0 | AR163: 32 | AT163: M | AU163: 2 | AY163: ROZPOCET | BE163: =IF(N163="základní",J163,0) -> 0 | BF163: =IF(N163="snížená",J163,0) -> 0 | BG163: =IF(N163="zákl. přenesená",J163,0) -> 0 | BH163: =IF(N163="sníž. přenesená",J163,0) -> 0 | BI163: =IF(N163="nulová",J163,0) -> 0 | BJ163: 1 | BK163: =ROUND(I163*H163,2) -> 0 | BL163: 16 | BM163: -1682062420
C164: 20 | D164: K | E164: R010 | F164: Montáž bateriového střídače | G164: ks | H164: 5 | J164: =ROUND(I164*H164,2) -> 0 | N164: základní | P164: =O164*H164 -> 0 | Q164: 0 | R164: =Q164*H164 -> 0 | S164: 0 | T164: =S164*H164 -> 0 | AR164: 16 | AT164: K | AU164: 2 | AY164: ROZPOCET | BE164: =IF(N164="základní",J164,0) -> 0 | BF164: =IF(N164="snížená",J164,0) -> 0 | BG164: =IF(N164="zákl. přenesená",J164,0) -> 0 | BH164: =IF(N164="sníž. přenesená",J164,0) -> 0 | BI164: =IF(N164="nulová",J164,0) -> 0 | BJ164: 1 | BK164: =ROUND(I164*H164,2) -> 0 | BL164: 16 | BM164: 1630435956
C165: 21 | D165: M | E165: R011 | F165: Bateriový střídač třifázový min. 88 kVA, viz Technická specifikace | G165: ks | H165: 5 | J165: =ROUND(I165*H165,2) -> 0 | N165: základní | P165: =O165*H165 -> 0 | Q165: 0 | R165: =Q165*H165 -> 0 | S165: 0 | T165: =S165*H165 -> 0 | AR165: 32 | AT165: M | AU165: 2 | AY165: ROZPOCET | BE165: =IF(N165="základní",J165,0) -> 0 | BF165: =IF(N165="snížená",J165,0) -> 0 | BG165: =IF(N165="zákl. přenesená",J165,0) -> 0 | BH165: =IF(N165="sníž. přenesená",J165,0) -> 0 | BI165: =IF(N165="nulová",J165,0) -> 0 | BJ165: 1 | BK165: =ROUND(I165*H165,2) -> 0 | BL165: 16 | BM165: 1956950910
C166: 22 | D166: K | E166: R018 | F166: Montáž řídící jednotka FVE a bateriového úložiště | G166: ks | H166: 1 | J166: =ROUND(I166*H166,2) -> 0 | N166: základní | P166: =O166*H166 -> 0 | Q166: 0 | R166: =Q166*H166 -> 0 | S166: 0 | T166: =S166*H166 -> 0 | AR166: 16 | AT166: K | AU166: 2 | AY166: ROZPOCET | BE166: =IF(N166="základní",J166,0) -> 0 | BF166: =IF(N166="snížená",J166,0) -> 0 | BG166: =IF(N166="zákl. přenesená",J166,0) -> 0 | BH166: =IF(N166="sníž. přenesená",J166,0) -> 0 | BI166: =IF(N166="nulová",J166,0) -> 0 | BJ166: 1 | BK166: =ROUND(I166*H166,2) -> 0 | BL166: 16 | BM166: -1182938802
...
