Workbook

Sheet Rekapitulace
A1: REKAPITULACE
A2: Stavba: | B2: Odborné učebny
A3: Objekt: | B3: Základní škola Tábor, Zborovská 2696
A4: Část:
A5: JKSO:
A7: Objednatel: | B7: Základní škola Tábor, Zborovská 2696, 39003 Tábor
A8: Zhotovitel:
A9: Datum:
A11: Kód | B11: Popis | C11: Cena celkem
A12: 1 | B12: 2 | C12: 3
B14: =PC!C2 -> Počítačová učebna | C14: =PC!I159 -> 0
B15: =Robotika!C2 -> Učebna robotiky | C15: =Robotika!I160 -> 0
B16: ='Přírodověda 1.NP'!C2 -> Přírodovědná učebna 1. NP a kabinety | C16: ='Přírodověda 1.NP'!I177 -> 0
B17: ='Přírodověda 2.NP'!C2 -> Přírodovědná učebna 2. NP | C17: ='Přírodověda 2.NP'!I175 -> 0
B18: Celkem bez DPH | C18: =SUM(C14:C17) -> 0
B20: Celkem včetně DPH | C20: =C18*1.21 -> 0

Sheet PC
A1: SOUPIS PRACÍ A DODÁVEK A SLUŽEB vč VÝKAZU VÝMĚR
A2: Stavba: | C2: Počítačová učebna
A3: Objekt: | C3: Základní škola Tábor, Zborovská 2696
A4: Část:
A5: JKSO:
A7: Objednatel: | C7: Základní škola Tábor, Zborovská 2696, 39003 Tábor
A8: Zhotovitel:
A9: Datum:
A11: P.Č. | B11: TV | C11: KCN | D11: Kód položky / název | E11: Popis / minimální technické parametry | F11: MJ | G11: Množství celkem | H11: Cena jednotková bez DPH | I11: Cena celkem bez DPH
A12: 1 | B12: 2 | C12: 3 | D12: 4 | E12: 5 | F12: 6 | G12: 7 | H12: 8 | I12: 9
B14: D | D14: HSV | E14: Práce a dodávky HSV | I14: =SUBTOTAL(9,I15:I41) -> 0
B15: D | D15: 6 | E15: Úpravy povrchů, podlahy a osazování výplní | I15: =SUBTOTAL(9,I16:I21) -> 0
A16: 1 | B16: K | C16: 014 | D16: 612135101 | E16: Hrubá výplň rýh ve stěnách maltou jakékoli šířky rýhy | F16: m2 | G16: 4 | I16: =ROUND(G16*H16,2) -> 0
A17: 2 | B17: K | C17: 014 | D17: 612325121 | E17: Vápenocementová štuková omítka rýh ve stěnách šířky do 150 mm | F17: m2 | G17: 5 | I17: =ROUND(G17*H17,2) -> 0
A18: 3 | B18: K | C18: 014 | D18: 612325215 | E18: Vápenocementová hladká omítka malých ploch do 4,0 m2 na stěnách pod obklady | F18: kus | G18: 1 | I18: =ROUND(G18*H18,2) -> 0
A19: 4 | B19: K | C19: 011 | D19: 619991001 | E19: Zakrytí podlah fólií přilepenou lepící páskou | F19: m2 | G19: 78 | I19: =ROUND(G19*H19,2) -> 0
A20: 5 | B20: K | C20: 011 | D20: 619991011 | E20: Obalení konstrukcí a prvků fólií přilepenou lepící páskou | F20: m2 | G20: 25 | I20: =ROUND(G20*H20,2) -> 0
A21: 6 | B21: K | C21: 014 | D21: 632681113 | E21: Vyspravení betonových podlah rychletuhnoucím polymerem - vysprávka D přes 50 do 200 a tl 30 mm | F21: kus | G21: 55 | I21: =ROUND(G21*H21,2) -> 0
B22: D | D22: 9 | E22: Ostatní konstrukce a práce, bourání | I22: =SUBTOTAL(9,I23:I33) -> 0
A23: 7 | B23: K | C23: 014 | D23: 952901107 | E23: Čištění budov omytí dvojitých nebo zdvojených oken nebo balkonových dveří plochy do 2,5m2 | F23: m2 | G23: 20 | I23: =ROUND(G23*H23,2) -> 0
A24: 8 | B24: K | C24: 014 | D24: 952901122 | E24: Čištění budov omytí dveří nebo vrat plochy do 3,0m2 | F24: m2 | G24: 2 | I24: =ROUND(G24*H24,2) -> 0
A25: 9 | B25: K | C25: 014 | D25: 952902021 | E25: Čištění budov zametení hladkých podlah | F25: m2 | G25: =G19 -> 78 | I25: =ROUND(G25*H25,2) -> 0
A26: 10 | B26: K | C26: 014 | D26: 952902031 | E26: Čištění budov omytí hladkých podlah | F26: m2 | G26: =G25 -> 78 | I26: =ROUND(G26*H26,2) -> 0
A27: 11 | B27: K | C27: 014 | D27: 952902611 | E27: Čištění budov vysátí prachu z ostatních ploch | F27: m2 | G27: =G26 -> 78 | I27: =ROUND(G27*H27,2) -> 0
A28: 12 | B28: K | C28: 013 | D28: 974049121 | E28: Vysekání rýh v betonových zdech hl do 30 mm š do 30 mm | F28: m | G28: 90 | I28: =ROUND(G28*H28,2) -> 0
A29: 13 | B29: K | C29: 013 | D29: 974049133 | E29: Vysekání rýh v betonových zdech hl do 50 mm š do 100 mm | F29: m | G29: 8 | I29: =ROUND(G29*H29,2) -> 0
A30: 14 | B30: K | C30: 013 | D30: 974082113 | E30: Vysekání rýh pro vodiče v omítce MV nebo MVC stěn š do 50 mm | F30: m | G30: 90 | I30: =ROUND(G30*H30,2) -> 0
A31: 15 | B31: K | C31: 013 | D31: 977131115 | E31: Vrty příklepovými vrtáky D 16 mm do cihelného zdiva nebo prostého betonu | F31: m | G31: 2 | I31: =ROUND(G31*H31,2) -> 0
A32: 16 | B32: K | C32: 013 | D32: 977311112 | E32: Řezání stávajících betonových mazanin nevyztužených hl do 100 mm | F32: m | G32: 40 | I32: =ROUND(G32*H32,2) -> 0
A33: 17 | C33: vlastní | E33: Soubor prací spojený se zapravením po demontážích a po rozvodech elektra. | F33: soubor | G33: 1 | I33: =ROUND(G33*H33,2) -> 0
B34: D | D34: 997 | E34: Přesun sutě | I34: =SUBTOTAL(9,I35:I39) -> 0
A35: 18 | B35: K | C35: 013 | D35: 997013213 | E35: Vnitrostaveništní doprava suti a vybouraných hmot vodorovně do 50 m pro budovy v do 12 m ručně | F35: t | G35: 0.45 | I35: =ROUND(G35*H35,2) -> 0
A36: 19 | B36: K | C36: 241 | D36: 997241622 | E36: Naložení a složení suti | F36: t | G36: 0.45 | I36: =ROUND(G36*H36,2) -> 0
A37: 20 | B37: K | C37: 013 | D37: 997013501 | E37: Odvoz suti a vybouraných hmot na skládku nebo meziskládku do 1 km se složením | F37: t | G37: 0.45 | I37: =ROUND(G37*H37,2) -> 0
A38: 21 | B38: K | C38: 013 | D38: 997013509 | E38: Příplatek k ceně za každý započatý 1 km přes 1 km - celkem 20 km | F38: t | G38: 9 | I38: =ROUND(G38*H38,2) -> 0
A39: 22 | B39: K | C39: 013 | D39: 997013831 | E39: Poplatky za uložení stavebního směsného odpadu na skládce ( skládkovné) | F39: t | G39: 0.45 | I39: =ROUND(G39*H39,2) -> 0
B40: D | D40: 998 | E40: Přesun hmot | I40: =SUBTOTAL(9,I41:I41) -> 0
A41: 23 | B41: K | C41: 011 | D41: 998011002 | E41: Přesun hmot pro budovy zděné v do 12 m | F41: t | G41: 2 | I41: =ROUND(G41*H41,2) -> 0
B42: D | D42: PSV | E42: Práce a dodávky PSV | I42: =SUBTOTAL(9,I43:I85) -> 0
B43: D | D43: 711 | E43: Izolace proti vodě, vlhkosti a plynům | I43: =SUBTOTAL(9,I44) -> 0
A44: 24 | B44: K | C44: 711 | D44: 711413121 | E44: Izolace proti vodě za studena svislá těsnicí hmotou dvousložkovou na bázi polymery modifikované živičné emulze | F44: m2 | G44: =G69 -> 4 | I44: =ROUND(G44*H44,2) -> 0
B45: D | D45: 725 | E45: Zdravotechnika - zařizovací předměty | I45: =SUBTOTAL(9,I46:I51) -> 0
A46: 25 | B46: M | C46: MAT | D46: materiál | E46: Keramické umyvadlo. Dodávka a montáž. | F46: soubor | G46: 1 | I46: =ROUND(G46*H46,2) -> 0
A47: 26 | B47: K | C47: vlastní | E47: Vodoinstalační práce spojené s instalací umyvadla vč. zednického zapravení | F47: kpl | G47: 1 | I47: =ROUND(G47*H47,2) -> 0
A48: 27 | B48: K | C48: 721 | D48: 725210821 | E48: Demontáž umyvadel bez výtokových armatur | F48: soubor | G48: 1 | I48: =ROUND(G48*H48,2) -> 0
A49: 28 | B49: K | C49: 721 | D49: 725820801 | E49: Demontáž baterie nástěnné do G 3 / 4 | F49: soubor | G49: 1 | I49: =ROUND(G49*H49,2) -> 0
A50: 29 | B50: K | C50: 721 | D50: 725829121 | E50: Montáž baterie umyvadlové nástěnné pákové a klasické ostatní typ | F50: kus | G50: 1 | I50: =ROUND(G50*H50,2) -> 0
A51: 30 | B51: M | C51: MAT | D51: 55145615 | E51: Baterie umyvadlová páková. Průtok max. 6 l/min. Dodávka a montáž | F51: kus | G51: 1 | I51: =ROUND(G51*H51,2) -> 0
B52: D | D52: 776 | E52: Podlahy povlakové | I52: =SUBTOTAL(9,I53:I67) -> 0
A53: 31 | B53: K | C53: 776 | D53: 776111115 | E53: Broušení podkladu povlakových podlah před litím stěrky | F53: m2 | G53: =G19 -> 78 | I53: =ROUND(G53*H53,2) -> 0
A54: 32 | B54: K | C54: 776 | D54: 776111116 | E54: Odstranění zbytků lepidla z podkladu povlakových podlah broušením | F54: m2 | G54: =G19 -> 78 | I54: =ROUND(G54*H54,2) -> 0
A55: 33 | B55: K | C55: 776 | D55: 776111311 | E55: Vysátí podkladu povlakových podlah | F55: m2 | G55: =G19 -> 78 | I55: =ROUND(G55*H55,2) -> 0
A56: 34 | B56: K | C56: 776 | D56: 776121411 | E56: Dvousložková penetrace podkladu povlakových podlah | F56: m2 | G56: =G19 -> 78 | I56: =ROUND(G56*H56,2) -> 0
A57: 35 | B57: K | C57: 776 | D57: 776141113 | E57: Vyrovnání podkladu povlakových podlah stěrkou pevnosti 20 MPa tl 8 mm | F57: m2 | G57: =G19 -> 78 | I57: =ROUND(G57*H57,2) -> 0
A58: 36 | B58: K | C58: 776 | D58: 776201811 | E58: Demontáž lepených povlakových podlah bez podložky ručně | F58: m2 | G58: =G19 -> 78 | I58: =ROUND(G58*H58,2) -> 0
A59: 37 | B59: K | C59: 776 | D59: 776221111 | E59: Lepení pásů z PVC standardním lepidlem | F59: m2 | G59: =G19 -> 78 | I59: =ROUND(G59*H59,2) -> 0
A60: 38 | B60: M | C60: MAT | D60: materiál | E60: PVC vinyl, heterogenní, zátěžový, antibakteriální, minimální parametry: nášlapná vrstva 0,70mm, třída zátěže 34/43, otlak do 0,1 mm, hořlavost Bfl S1. | F60: m2 | G60: =G19 -> 78 | I60: =ROUND(G60*H60,2) -> 0
A61: 39 | B61: K | C61: 776 | D61: 776223112 | E61: Spoj povlakových podlahovin z PVC svařováním za studena | F61: m | G61: 28 | I61: =ROUND(G61*H61,2) -> 0
A62: 40 | B62: K | C62: 776 | D62: 776410811 | E62: Odstranění soklíků a lišt pryžových nebo plastových | F62: m | G62: 41 | I62: =ROUND(G62*H62,2) -> 0
A63: 41 | B63: M | C63: MAT | D63: 28411003 | E63: Lišta soklová PVC 30x30mm | F63: m | G63: =G62 -> 41 | I63: =ROUND(G63*H63,2) -> 0
A64: 42 | B64: K | C64: 776 | D64: 776421111 | E64: Montáž obvodových lišt lepených | F64: m | G64: =G62 -> 41 | I64: =ROUND(G64*H64,2) -> 0
A65: 43 | B65: K | C65: 776 | D65: 776991121 | E65: Základní čištění nově položených podlahovin vysátím a setřením vlhkým mopem | F65: m2 | G65: =G60 -> 78 | I65: =ROUND(G65*H65,2) -> 0
A66: 44 | B66: K | C66: 776 | D66: 776991821 | E66: Odstranění lepidla ručně z podlah | F66: m2 | G66: =G60 -> 78 | I66: =ROUND(G66*H66,2) -> 0
A67: 45 | B67: K | C67: 776 | D67: 998776202 | E67: Přesun hmot procentní pro podlahy povlakové v objektech v do 12 m | F67: % | G67: 100 | I67: =ROUND(G67*H67,2) -> 0
B68: D | D68: 781 | E68: Dokončovací práce - obklady | I68: =SUBTOTAL(9,I69:I76) -> 0
A69: 46 | B69: K | C69: 781 | D69: 781471810 | E69: Demontáž obkladů z obkladaček keramických kladených do malty | F69: m2 | G69: 4 | I69: =ROUND(G69*H69,2) -> 0
A70: 47 | B70: K | C70: 781 | D70: 781474116 | E70: Montáž obkladů vnitřních keramických hladkých do 35 ks/m2 lepených flexibilním lepidlem | F70: m2 | G70: 4 | I70: =ROUND(G70*H70,2) -> 0
A71: 48 | B71: M | C71: MAT | D71: materiál | E71: Obklad keramický hladký, dílce velikosti 200x200mm. | F71: m2 | G71: =G70*1.1 -> 4.4 | I71: =ROUND(G71*H71,2) -> 0
A72: 49 | B72: K | C72: 781 | D72: 781491815 | E72: Odstranění profilu ukončovacího | F72: m | G72: 6 | I72: =ROUND(G72*H72,2) -> 0
A73: 50 | B73: K | C73: 781 | D73: 781492251 | E73: Montáž profilů ukončovacích lepených flexibilním cementovým lepidlem | F73: m | G73: 3 | I73: =ROUND(G73*H73,2) -> 0
A74: 51 | B74: K | C74: 781 | D74: 781492451 | E74: Montáž profilů ukončovacích lepených standardním cementovým lepidlem | F74: m | G74: 7 | I74: =ROUND(G74*H74,2) -> 0
A75: 52 | B75: K | C75: 781 | D75: 781495115 | E75: Spárování vnitřních obkladů silikonem | F75: m | G75: 22 | I75: =ROUND(G75*H75,2) -> 0
A76: 53 | B76: K | C76: 781 | D76: 998781202 | E76: Přesun hmot procentní pro obklady keramické v objektech v do 12 m | F76: % | G76: 100 | I76: =ROUND(G76*H76,2) -> 0
B77: D | D77: 784 | E77: Dokončovací práce - malby a tapety | I77: =SUBTOTAL(9,I78:I85) -> 0
A78: 54 | B78: K | C78: 784 | D78: 784111031 | E78: Omytí podkladu v místnostech výšky do 3,80 m | F78: m2 | G78: 240 | I78: =ROUND(G78*H78,2) -> 0
A79: 55 | B79: K | C79: 784 | D79: 784121001 | E79: Oškrabání malby v místnostech výšky do 3,80 m | F79: m2 | G79: =G78 -> 240 | I79: =ROUND(G79*H79,2) -> 0
A80: 56 | B80: K | C80: 784 | D80: 784161211 | E80: Lokální vyrovnání podkladu sádrovou stěrkou plochy do 0,25 m2 v místnostech výšky do 3,80 m | F80: kus | G80: =G79 -> 240 | I80: =ROUND(G80*H80,2) -> 0
A81: 57 | B81: K | C81: 784 | D81: 784181121 | E81: Hloubková jednonásobná penetrace podkladu v místnostech výšky do 3,80 m | F81: m2 | G81: =G78 -> 240 | I81: =ROUND(G81*H81,2) -> 0
A82: 58 | B82: K | C82: 784 | D82: 784191003 | E82: Čištění vnitřních ploch oken dvojitých nebo zdvojených po provedení malířských prací | F82: m2 | G82: =G23 -> 20 | I82: =ROUND(G82*H82,2) -> 0
A83: 59 | B83: K | C83: 784 | D83: 784191005 | E83: Čištění vnitřních ploch dveří nebo vrat po provedení malířských prací | F83: m2 | G83: =G24 -> 2 | I83: =ROUND(G83*H83,2) -> 0
A84: 60 | B84: K | C84: 784 | D84: 784191007 | E84: Čištění vnitřních ploch podlah po provedení malířských prací | F84: m2 | G84: =G60 -> 78 | I84: =ROUND(G84*H84,2) -> 0
A85: 61 | B85: K | C85: 784 | D85: 784221101 | E85: Dvojnásobné bílé malby ze směsí za sucha dobře otěruvzdorných v místnostech do 3,80 m | F85: m2 | G85: =G79 -> 240 | I85: =ROUND(G85*H85,2) -> 0
D86: EL | E86: Slaboproudé, silnoproudé rozvody, osvětlení | I86: =SUBTOTAL(9,I87:I153) -> 0
D87: 742 | E87: Slaboproudé rozvody + příslušenství | I87: =SUBTOTAL(9,I88:I100) -> 0
A88: 62 | B88: K | C88: 742 | D88: 742122001 | E88: Montáž kabelové spojky nebo svorkovnice pro slaboproud do 15 žil | F88: kus | G88: 34 | I88: =ROUND(G88*H88,2) -> 0
A89: 63 | B89: M | C89: MAT | D89: 10.935.899 | E89: Konektor RJ45 UTP Cat.5e černý samořezný | F89: kus | G89: =G88 -> 34 | I89: =ROUND(G89*H89,2) -> 0
A90: 64 | B90: K | C90: 742 | D90: 742330044 | E90: Montáž datové zásuvky 1 až 6 pozic | F90: kus | G90: =SUM(G91:G93) -> 29 | I90: =ROUND(G90*H90,2) -> 0
A91: 65 | B91: M | C91: MAT | D91: materiál | E91: Datová jednozásuvka s přístrojovou lištovou krabicí | F91: kus | G91: 26 | I91: =ROUND(G91*H91,2) -> 0
A92: 66 | B92: M | C92: MAT | D92: 10.874.783 | E92: Kryt zásuvky komunikační, dvojnásobný | F92: kus | G92: 1 | I92: =ROUND(G92*H92,2) -> 0
A93: 67 | B93: M | C93: MAT | D93: materiál | E93: Datová dvouzásuvka s přístrojovou lištovou krabicí | F93: kus | G93: 2 | I93: =ROUND(G93*H93,2) -> 0
A94: 68 | B94: K | C94: 742 | D94: 742122001 | E94: Montáž kabelové spojky nebo svorkovnice pro slaboproud do 15 žil | F94: kus | G94: 34 | I94: =ROUND(G94*H94,2) -> 0
A95: 69 | B95: M | C95: MAT | D95: 10.863.140 | E95: Konektor RJ45 8p8c Cat.5e nest.pro drát | F95: kus | G95: =G94 -> 34 | I95: =ROUND(G95*H95,2) -> 0
A96: 70 | B96: K | C96: 742 | D96: 742121001 | E96: Montáž kabelů sdělovacích pro vnitřní rozvody, počtu žil do 15 | F96: m | G96: 450 | I96: =ROUND(G96*H96,2) -> 0
A97: 71 | B97: M | C97: MAT | D97: 10.793.442 | E97: Datový UTP cat.5 kabel | F97: m | G97: =G96 -> 450 | I97: =ROUND(G97*H97,2) -> 0
A98: 72 | B98: K | C98: 742 | D98: 742110202 | E98: Montáž podlahových krabic montovaných do mazaniny. | F98: kus | G98: 1 | I98: =ROUND(G98*H98,2) -> 0
A99: 73 | B99: M | C99: MAT | D99: 1000107173 | E99: Podlahová krabice pod katedru pro zakončení kabelových tras. Určená pro výšku betonové vrstvy od 57 mm do 75 mm. Krabice je uzpůsobena pro instalaci elektroinstalačních trubek. | F99: kus | G99: =G98 -> 1 | I99: =ROUND(G99*H99,2) -> 0
A100: 74 | B100: K | C100: 742 | D100: 742330101 | E100: Měření metalického segmentu s vyhotovením protokolu | F100: kus | G100: =(G88+G94)/2 -> 34 | I100: =ROUND(G100*H100,2) -> 0
D101: 741 | E101: Silnoproudé rozvody + příslušenství | I101: =SUBTOTAL(9,I102:I142) -> 0
A102: 75 | B102: K | C102: 741 | D102: 741210101 | E102: Montáž rozvaděčů litinových, hliníkových nebo plastových bez zapojení vodičů, sestavy hmotností do 50 kg. | F102: kus | G102: 1 | I102: =ROUND(G102*H102,2) -> 0
A103: 76 | B103: M | C103: MAT | D103: 11.019.192 | E103: Rozvaděčová skříň, 48 modulů, IP30, pod omítku | F103: kus | G103: 1 | I103: =ROUND(G103*H103,2) -> 0
...

Sheet Robotika
A1: SOUPIS PRACÍ A DODÁVEK A SLUŽEB vč VÝKAZU VÝMĚR
A2: Stavba: | C2: Učebna robotiky
A3: Objekt: | C3: Základní škola Tábor, Zborovská 2696
A4: Část:
A5: JKSO:
A7: Objednatel: | C7: Základní škola Tábor, Zborovská 2696, 39003 Tábor
A8: Zhotovitel:
A9: Datum:
A11: P.Č. | B11: TV | C11: KCN | D11: Kód položky / název | E11: Popis / minimální technické parametry | F11: MJ | G11: Množství celkem | H11: Cena jednotková bez DPH | I11: Cena celkem bez DPH
A12: 1 | B12: 2 | C12: 3 | D12: 4 | E12: 5 | F12: 6 | G12: 7 | H12: 8 | I12: 9
B14: D | D14: HSV | E14: Práce a dodávky HSV | I14: =SUBTOTAL(9,I15:I41) -> 0
B15: D | D15: 6 | E15: Úpravy povrchů, podlahy a osazování výplní | I15: =SUBTOTAL(9,I16:I21) -> 0
A16: 1 | B16: K | C16: 014 | D16: 612135101 | E16: Hrubá výplň rýh ve stěnách maltou jakékoli šířky rýhy | F16: m2 | G16: 3 | I16: =ROUND(G16*H16,2) -> 0
A17: 2 | B17: K | C17: 014 | D17: 612325121 | E17: Vápenocementová štuková omítka rýh ve stěnách šířky do 150 mm | F17: m2 | G17: 3 | I17: =ROUND(G17*H17,2) -> 0
A18: 3 | B18: K | C18: 014 | D18: 612325215 | E18: Vápenocementová hladká omítka malých ploch do 4,0 m2 na stěnách pod obklady | F18: kus | G18: 1 | I18: =ROUND(G18*H18,2) -> 0
A19: 4 | B19: K | C19: 011 | D19: 619991001 | E19: Zakrytí podlah fólií přilepenou lepící páskou | F19: m2 | G19: 43 | I19: =ROUND(G19*H19,2) -> 0
A20: 5 | B20: K | C20: 011 | D20: 619991011 | E20: Obalení konstrukcí a prvků fólií přilepenou lepící páskou | F20: m2 | G20: 15 | I20: =ROUND(G20*H20,2) -> 0
A21: 6 | B21: K | C21: 014 | D21: 632681113 | E21: Vyspravení betonových podlah rychletuhnoucím polymerem - vysprávka D přes 50 do 200 a tl 30 mm | F21: kus | G21: 25 | I21: =ROUND(G21*H21,2) -> 0
B22: D | D22: 9 | E22: Ostatní konstrukce a práce, bourání | I22: =SUBTOTAL(9,I23:I33) -> 0
A23: 7 | B23: K | C23: 014 | D23: 952901107 | E23: Čištění budov omytí dvojitých nebo zdvojených oken nebo balkonových dveří plochy do 2,5m2 | F23: m2 | G23: 13 | I23: =ROUND(G23*H23,2) -> 0
A24: 8 | B24: K | C24: 014 | D24: 952901122 | E24: Čištění budov omytí dveří nebo vrat plochy do 3,0m2 | F24: m2 | G24: 2 | I24: =ROUND(G24*H24,2) -> 0
A25: 9 | B25: K | C25: 014 | D25: 952902021 | E25: Čištění budov zametení hladkých podlah | F25: m2 | G25: =G19 -> 43 | I25: =ROUND(G25*H25,2) -> 0
A26: 10 | B26: K | C26: 014 | D26: 952902031 | E26: Čištění budov omytí hladkých podlah | F26: m2 | G26: =G25 -> 43 | I26: =ROUND(G26*H26,2) -> 0
A27: 11 | B27: K | C27: 014 | D27: 952902611 | E27: Čištění budov vysátí prachu z ostatních ploch | F27: m2 | G27: =G26 -> 43 | I27: =ROUND(G27*H27,2) -> 0
A28: 12 | B28: K | C28: 013 | D28: 974049121 | E28: Vysekání rýh v betonových zdech hl do 30 mm š do 30 mm | F28: m | G28: 60 | I28: =ROUND(G28*H28,2) -> 0
A29: 13 | B29: K | C29: 013 | D29: 974049133 | E29: Vysekání rýh v betonových zdech hl do 50 mm š do 100 mm | F29: m | G29: 5 | I29: =ROUND(G29*H29,2) -> 0
A30: 14 | B30: K | C30: 013 | D30: 974082113 | E30: Vysekání rýh pro vodiče v omítce MV nebo MVC stěn š do 50 mm | F30: m | G30: 60 | I30: =ROUND(G30*H30,2) -> 0
A31: 15 | B31: K | C31: 013 | D31: 977131115 | E31: Vrty příklepovými vrtáky D 16 mm do cihelného zdiva nebo prostého betonu | F31: m | G31: 2 | I31: =ROUND(G31*H31,2) -> 0
A32: 16 | B32: K | C32: 013 | D32: 977311112 | E32: Řezání stávajících betonových mazanin nevyztužených hl do 100 mm | F32: m | G32: 20 | I32: =ROUND(G32*H32,2) -> 0
A33: 17 | C33: vlastní | E33: Soubor prací spojený se zapravením po demontážích a po rozvodech elektra. | F33: soubor | G33: 1 | I33: =ROUND(G33*H33,2) -> 0
B34: D | D34: 997 | E34: Přesun sutě | I34: =SUBTOTAL(9,I35:I39) -> 0
A35: 18 | B35: K | C35: 013 | D35: 997013213 | E35: Vnitrostaveništní doprava suti a vybouraných hmot vodorovně do 50 m pro budovy v do 12 m ručně | F35: t | G35: 0.297 | I35: =ROUND(G35*H35,2) -> 0
A36: 19 | B36: K | C36: 241 | D36: 997241622 | E36: Naložení a složení suti | F36: t | G36: =G35 -> 0.297 | I36: =ROUND(G36*H36,2) -> 0
A37: 20 | B37: K | C37: 013 | D37: 997013501 | E37: Odvoz suti a vybouraných hmot na skládku nebo meziskládku do 1 km se složením | F37: t | G37: =G35 -> 0.297 | I37: =ROUND(G37*H37,2) -> 0
A38: 21 | B38: K | C38: 013 | D38: 997013509 | E38: Příplatek k ceně za každý započatý 1 km přes 1 km - celkem 20 km | F38: t | G38: =G37*20 -> 5.94 | I38: =ROUND(G38*H38,2) -> 0
A39: 22 | B39: K | C39: 013 | D39: 997013831 | E39: Poplatky za uložení stavebního směsného odpadu na skládce ( skládkovné) | F39: t | G39: =G35 -> 0.297 | I39: =ROUND(G39*H39,2) -> 0
B40: D | D40: 998 | E40: Přesun hmot | I40: =SUBTOTAL(9,I41:I41) -> 0
A41: 23 | B41: K | C41: 011 | D41: 998011002 | E41: Přesun hmot pro budovy zděné v do 12 m | F41: t | G41: 2 | I41: =ROUND(G41*H41,2) -> 0
B42: D | D42: PSV | E42: Práce a dodávky PSV | I42: =SUBTOTAL(9,I43:I85) -> 0
B43: D | D43: 711 | E43: Izolace proti vodě, vlhkosti a plynům | I43: =SUBTOTAL(9,I44) -> 0
A44: 24 | B44: K | C44: 711 | D44: 711413121 | E44: Izolace proti vodě za studena svislá těsnicí hmotou dvousložkovou na bázi polymery modifikované živičné emulze | F44: m2 | G44: =G69 -> 2 | I44: =ROUND(G44*H44,2) -> 0
B45: D | D45: 725 | E45: Zdravotechnika - zařizovací předměty | I45: =SUBTOTAL(9,I46:I51) -> 0
A46: 25 | B46: M | C46: MAT | D46: materiál | E46: Keramické umyvadlo. Dodávka a montáž. | F46: soubor | G46: 1 | I46: =ROUND(G46*H46,2) -> 0
A47: 26 | B47: K | C47: vlastní | E47: Vodoinstalační práce spojené s instalací umyvadla vč. zednického zapravení | F47: kpl | G47: 1 | I47: =ROUND(G47*H47,2) -> 0
A48: 27 | B48: K | C48: 721 | D48: 725210821 | E48: Demontáž umyvadel bez výtokových armatur | F48: soubor | G48: 1 | I48: =ROUND(G48*H48,2) -> 0
A49: 28 | B49: K | C49: 721 | D49: 725820801 | E49: Demontáž baterie nástěnné do G 3 / 4 | F49: soubor | G49: 1 | I49: =ROUND(G49*H49,2) -> 0
A50: 29 | B50: K | C50: 721 | D50: 725829121 | E50: Montáž baterie umyvadlové nástěnné pákové a klasické ostatní typ | F50: kus | G50: 1 | I50: =ROUND(G50*H50,2) -> 0
A51: 30 | B51: M | C51: MAT | D51: materiál | E51: Baterie umyvadlová páková. Průtok max. 6 l/min. Dodávka a montáž | F51: kus | G51: 1 | I51: =ROUND(G51*H51,2) -> 0
B52: D | D52: 776 | E52: Podlahy povlakové | I52: =SUBTOTAL(9,I53:I67) -> 0
A53: 31 | B53: K | C53: 776 | D53: 776111115 | E53: Broušení podkladu povlakových podlah před litím stěrky | F53: m2 | G53: =G19 -> 43 | I53: =ROUND(G53*H53,2) -> 0
A54: 32 | B54: K | C54: 776 | D54: 776111116 | E54: Odstranění zbytků lepidla z podkladu povlakových podlah broušením | F54: m2 | G54: =G19 -> 43 | I54: =ROUND(G54*H54,2) -> 0
A55: 33 | B55: K | C55: 776 | D55: 776111311 | E55: Vysátí podkladu povlakových podlah | F55: m2 | G55: =G19 -> 43 | I55: =ROUND(G55*H55,2) -> 0
A56: 34 | B56: K | C56: 776 | D56: 776121411 | E56: Dvousložková penetrace podkladu povlakových podlah | F56: m2 | G56: =G19 -> 43 | I56: =ROUND(G56*H56,2) -> 0
A57: 35 | B57: K | C57: 776 | D57: 776141113 | E57: Vyrovnání podkladu povlakových podlah stěrkou pevnosti 20 MPa tl 8 mm | F57: m2 | G57: =G19 -> 43 | I57: =ROUND(G57*H57,2) -> 0
A58: 36 | B58: K | C58: 776 | D58: 776201811 | E58: Demontáž lepených povlakových podlah bez podložky ručně | F58: m2 | G58: =G19 -> 43 | I58: =ROUND(G58*H58,2) -> 0
A59: 37 | B59: K | C59: 776 | D59: 776221111 | E59: Lepení pásů z PVC standardním lepidlem | F59: m2 | G59: =G19 -> 43 | I59: =ROUND(G59*H59,2) -> 0
A60: 38 | B60: M | C60: MAT | D60: materiál | E60: PVC vinyl, heterogenní, zátěžový, antibakteriální, minimální parametry: nášlapná vrstva 0,70mm, třída zátěže 34/43, otlak do 0,1 mm, hořlavost Bfl S1. | F60: m2 | G60: =G19 -> 43 | I60: =ROUND(G60*H60,2) -> 0
A61: 39 | B61: K | C61: 776 | D61: 776223112 | E61: Spoj povlakových podlahovin z PVC svařováním za studena | F61: m | G61: 15 | I61: =ROUND(G61*H61,2) -> 0
A62: 40 | B62: K | C62: 776 | D62: 776410811 | E62: Odstranění soklíků a lišt pryžových nebo plastových | F62: m | G62: 27 | I62: =ROUND(G62*H62,2) -> 0
A63: 41 | B63: M | C63: MAT | D63: 28411003 | E63: Lišta soklová PVC 30x30mm | F63: m | G63: =G62 -> 27 | I63: =ROUND(G63*H63,2) -> 0
A64: 42 | B64: K | C64: 776 | D64: 776421111 | E64: Montáž obvodových lišt lepených | F64: m | G64: =G62 -> 27 | I64: =ROUND(G64*H64,2) -> 0
A65: 43 | B65: K | C65: 776 | D65: 776991121 | E65: Základní čištění nově položených podlahovin vysátím a setřením vlhkým mopem | F65: m2 | G65: =G60 -> 43 | I65: =ROUND(G65*H65,2) -> 0
A66: 44 | B66: K | C66: 776 | D66: 776991821 | E66: Odstranění lepidla ručně z podlah | F66: m2 | G66: =G60 -> 43 | I66: =ROUND(G66*H66,2) -> 0
A67: 45 | B67: K | C67: 776 | D67: 998776202 | E67: Přesun hmot procentní pro podlahy povlakové v objektech v do 12 m | F67: % | G67: 100 | I67: =ROUND(G67*H67,2) -> 0
B68: D | D68: 781 | E68: Dokončovací práce - obklady | I68: =SUBTOTAL(9,I69:I76) -> 0
A69: 46 | B69: K | C69: 781 | D69: 781471810 | E69: Demontáž obkladů z obkladaček keramických kladených do malty | F69: m2 | G69: 2 | I69: =ROUND(G69*H69,2) -> 0
A70: 47 | B70: K | C70: 781 | D70: 781474116 | E70: Montáž obkladů vnitřních keramických hladkých do 35 ks/m2 lepených flexibilním lepidlem | F70: m2 | G70: 2 | I70: =ROUND(G70*H70,2) -> 0
A71: 48 | B71: M | C71: 781 | D71: materiál | E71: Obklad keramický hladký, dílce velikosti 200x200mm. | F71: m2 | G71: =G70*1.1 -> 2.2 | I71: =ROUND(G71*H71,2) -> 0
A72: 49 | B72: K | C72: 781 | D72: 781491815 | E72: Odstranění profilu ukončovacího | F72: m | G72: 3 | I72: =ROUND(G72*H72,2) -> 0
A73: 50 | B73: K | C73: 781 | D73: 781492251 | E73: Montáž profilů ukončovacích lepených flexibilním cementovým lepidlem | F73: m | G73: 2 | I73: =ROUND(G73*H73,2) -> 0
A74: 51 | B74: K | C74: 781 | D74: 781492451 | E74: Montáž profilů ukončovacích lepených standardním cementovým lepidlem | F74: m | G74: 4 | I74: =ROUND(G74*H74,2) -> 0
A75: 52 | B75: K | C75: 781 | D75: 781495115 | E75: Spárování vnitřních obkladů silikonem | F75: m | G75: 16 | I75: =ROUND(G75*H75,2) -> 0
A76: 53 | B76: K | C76: 781 | D76: 998781202 | E76: Přesun hmot procentní pro obklady keramické v objektech v do 12 m | F76: % | G76: 100 | I76: =ROUND(G76*H76,2) -> 0
B77: D | D77: 784 | E77: Dokončovací práce - malby a tapety | I77: =SUBTOTAL(9,I78:I85) -> 0
A78: 54 | B78: K | C78: 784 | D78: 784111031 | E78: Omytí podkladu v místnostech výšky do 3,80 m | F78: m2 | G78: 150 | I78: =ROUND(G78*H78,2) -> 0
A79: 55 | B79: K | C79: 784 | D79: 784121001 | E79: Oškrabání malby v místnostech výšky do 3,80 m | F79: m2 | G79: =G78 -> 150 | I79: =ROUND(G79*H79,2) -> 0
A80: 56 | B80: K | C80: 784 | D80: 784161211 | E80: Lokální vyrovnání podkladu sádrovou stěrkou plochy do 0,25 m2 v místnostech výšky do 3,80 m | F80: kus | G80: =G79 -> 150 | I80: =ROUND(G80*H80,2) -> 0
A81: 57 | B81: K | C81: 784 | D81: 784181121 | E81: Hloubková jednonásobná penetrace podkladu v místnostech výšky do 3,80 m | F81: m2 | G81: =G78 -> 150 | I81: =ROUND(G81*H81,2) -> 0
A82: 58 | B82: K | C82: 784 | D82: 784191003 | E82: Čištění vnitřních ploch oken dvojitých nebo zdvojených po provedení malířských prací | F82: m2 | G82: =G23 -> 13 | I82: =ROUND(G82*H82,2) -> 0
A83: 59 | B83: K | C83: 784 | D83: 784191005 | E83: Čištění vnitřních ploch dveří nebo vrat po provedení malířských prací | F83: m2 | G83: =G24 -> 2 | I83: =ROUND(G83*H83,2) -> 0
A84: 60 | B84: K | C84: 784 | D84: 784191007 | E84: Čištění vnitřních ploch podlah po provedení malířských prací | F84: m2 | G84: =G60 -> 43 | I84: =ROUND(G84*H84,2) -> 0
A85: 61 | B85: K | C85: 784 | D85: 784221101 | E85: Dvojnásobné bílé malby ze směsí za sucha dobře otěruvzdorných v místnostech do 3,80 m | F85: m2 | G85: =G79 -> 150 | I85: =ROUND(G85*H85,2) -> 0
D86: EL | E86: Slaboproudé, silnoproudé rozvody, osvětlení | I86: =SUBTOTAL(9,I87:I154) -> 0
D87: 742 | E87: Slaboproudé rozvody + příslušenství | I87: =SUBTOTAL(9,I88:I100) -> 0
A88: 62 | B88: K | C88: 742 | D88: 742122001 | E88: Montáž kabelové spojky nebo svorkovnice pro slaboproud do 15 žil | F88: kus | G88: 22 | I88: =ROUND(G88*H88,2) -> 0
A89: 63 | B89: M | C89: MAT | D89: 10.935.899 | E89: Konektor RJ45 UTP Cat.5e černý samořezný | F89: kus | G89: =G88 -> 22 | I89: =ROUND(G89*H89,2) -> 0
A90: 64 | B90: K | C90: 742 | D90: 742330044 | E90: Montáž datové zásuvky 1 až 6 pozic | F90: kus | G90: =SUM(G91:G93) -> 18 | I90: =ROUND(G90*H90,2) -> 0
A91: 65 | B91: M | C91: MAT | D91: materiál | E91: Datová jednozásuvka s přístrojovou lištovou krabicí | F91: kus | G91: 16 | I91: =ROUND(G91*H91,2) -> 0
A92: 66 | B92: M | C92: MAT | D92: 10.874.783 | E92: Kryt zásuvky komunikační, dvojnásobný | F92: kus | G92: 1 | I92: =ROUND(G92*H92,2) -> 0
A93: 67 | B93: M | C93: MAT | D93: materiál | E93: Datová dvouzásuvka s přístrojovou lištovou krabicí | F93: kus | G93: 1 | I93: =ROUND(G93*H93,2) -> 0
A94: 68 | B94: K | C94: 742 | D94: 742122001 | E94: Montáž kabelové spojky nebo svorkovnice pro slaboproud do 15 žil | F94: kus | G94: 22 | I94: =ROUND(G94*H94,2) -> 0
A95: 69 | B95: M | C95: MAT | D95: 10.863.140 | E95: Konektor RJ45 8p8c Cat.5e nest.pro drát | F95: kus | G95: =G94 -> 22 | I95: =ROUND(G95*H95,2) -> 0
A96: 70 | B96: K | C96: 742 | D96: 742121001 | E96: Montáž kabelů sdělovacích pro vnitřní rozvody, počtu žil do 15 | F96: m | G96: 250 | I96: =ROUND(G96*H96,2) -> 0
A97: 71 | B97: M | C97: MAT | D97: 10.793.442 | E97: Datový UTP cat.5 kabel | F97: m | G97: =G96 -> 250 | I97: =ROUND(G97*H97,2) -> 0
A98: 72 | B98: K | C98: 742 | D98: 742110202 | E98: Montáž podlahových krabic montovaných do mazaniny. | F98: kus | G98: 1 | I98: =ROUND(G98*H98,2) -> 0
A99: 73 | B99: M | C99: MAT | D99: 1000107173 | E99: Podlahová krabice pod katedru pro zakončení kabelových tras. Určená pro výšku betonové vrstvy od 57 mm do 75 mm. Krabice je uzpůsobena pro instalaci elektroinstalačních trubek. | F99: kus | G99: =G98 -> 1 | I99: =ROUND(G99*H99,2) -> 0
A100: 74 | B100: K | C100: 742 | D100: 742330101 | E100: Měření metalického segmentu s vyhotovením protokolu | F100: kus | G100: =(G88+G94)/2 -> 22 | I100: =ROUND(G100*H100,2) -> 0
D101: 741 | E101: Silnoproudé rozvody + příslušenství | I101: =SUBTOTAL(9,I102:I140) -> 0
A102: 75 | B102: K | C102: 741 | D102: 741210101 | E102: Montáž rozvaděčů litinových, hliníkových nebo plastových bez zapojení vodičů, sestavy hmotností do 50 kg. | F102: kus | G102: 1 | I102: =ROUND(G102*H102,2) -> 0
A103: 76 | B103: M | C103: MAT | D103: 10.679.719 | E103: Rozvaděčová skříň, 36 modulů, IP30, pod omítku | F103: kus | G103: 1 | I103: =ROUND(G103*H103,2) -> 0
...

Sheet Přírodověda 1.NP
A1: SOUPIS PRACÍ A DODÁVEK A SLUŽEB vč VÝKAZU VÝMĚR
A2: Stavba: | C2: Přírodovědná učebna 1. NP a kabinety
A3: Objekt: | C3: Základní škola Tábor, Zborovská 2696
A4: Část:
A5: JKSO:
A7: Objednatel: | C7: Základní škola Tábor, Zborovská 2696, 39003 Tábor
A8: Zhotovitel:
A9: Datum:
A11: P.Č. | B11: TV | C11: KCN | D11: Kód položky | E11: Popis / minimální technické parametry | F11: MJ | G11: Množství celkem | H11: Cena jednotková bez DPH | I11: Cena celkem bez DPH
A12: 1 | B12: 2 | C12: 3 | D12: 4 | E12: 5 | F12: 6 | G12: 7 | H12: 8 | I12: 9
B14: D | D14: HSV | E14: Práce a dodávky HSV | I14: =SUBTOTAL(9,I15:I42) -> 0
B15: D | D15: 6 | E15: Úpravy povrchů, podlahy a osazování výplní | I15: =SUBTOTAL(9,I16:I21) -> 0
A16: 1 | B16: K | C16: 014 | D16: 612135101 | E16: Hrubá výplň rýh ve stěnách maltou jakékoli šířky rýhy | F16: m2 | G16: 7 | I16: =ROUND(G16*H16,2) -> 0
A17: 2 | B17: K | C17: 014 | D17: 612325121 | E17: Vápenocementová štuková omítka rýh ve stěnách šířky do 150 mm | F17: m2 | G17: 7 | I17: =ROUND(G17*H17,2) -> 0
A18: 3 | B18: K | C18: 014 | D18: 612325215 | E18: Vápenocementová hladká omítka malých ploch do 4,0 m2 na stěnách pod obklady | F18: kus | G18: 1 | I18: =ROUND(G18*H18,2) -> 0
A19: 4 | B19: K | C19: 011 | D19: 619991001 | E19: Zakrytí podlah fólií přilepenou lepící páskou | F19: m2 | G19: 134 | I19: =ROUND(G19*H19,2) -> 0
A20: 5 | B20: K | C20: 011 | D20: 619991011 | E20: Obalení konstrukcí a prvků fólií přilepenou lepící páskou | F20: m2 | G20: 45 | I20: =ROUND(G20*H20,2) -> 0
A21: 6 | B21: K | C21: 014 | D21: 632681113 | E21: Vyspravení betonových podlah rychletuhnoucím polymerem - vysprávka D přes 50 do 200 a tl 30 mm | F21: kus | G21: 80 | I21: =ROUND(G21*H21,2) -> 0
B22: D | D22: 9 | E22: Ostatní konstrukce a práce, bourání | I22: =SUBTOTAL(9,I23:I34) -> 0
A23: 7 | B23: K | C23: 014 | D23: 952901107 | E23: Čištění budov omytí dvojitých nebo zdvojených oken nebo balkonových dveří plochy do 2,5m2 | F23: m2 | G23: 38 | I23: =ROUND(G23*H23,2) -> 0
A24: 8 | B24: K | C24: 014 | D24: 952901122 | E24: Čištění budov omytí dveří nebo vrat plochy do 3,0m2 | F24: m2 | G24: 12 | I24: =ROUND(G24*H24,2) -> 0
A25: 9 | B25: K | C25: 014 | D25: 952902021 | E25: Čištění budov zametení hladkých podlah | F25: m2 | G25: =G19 -> 134 | I25: =ROUND(G25*H25,2) -> 0
A26: 10 | B26: K | C26: 014 | D26: 952902031 | E26: Čištění budov omytí hladkých podlah | F26: m2 | G26: =G25 -> 134 | I26: =ROUND(G26*H26,2) -> 0
A27: 11 | B27: K | C27: 014 | D27: 952902611 | E27: Čištění budov vysátí prachu z ostatních ploch | F27: m2 | G27: =G26 -> 134 | I27: =ROUND(G27*H27,2) -> 0
A28: 12 | B28: K | C28: 013 | D28: 974049121 | E28: Vysekání rýh v betonových zdech hl do 30 mm š do 30 mm | F28: m | G28: 120 | I28: =ROUND(G28*H28,2) -> 0
A29: 13 | B29: K | C29: 013 | D29: 974049133 | E29: Vysekání rýh v betonových zdech hl do 50 mm š do 100 mm | F29: m | G29: 5 | I29: =ROUND(G29*H29,2) -> 0
A30: 14 | B30: K | C30: 013 | D30: 974082113 | E30: Vysekání rýh pro vodiče v omítce MV nebo MVC stěn š do 50 mm | F30: m | G30: 140 | I30: =ROUND(G30*H30,2) -> 0
A31: 15 | B31: K | C31: 013 | D31: 977131115 | E31: Vrty příklepovými vrtáky D 16 mm do cihelného zdiva nebo prostého betonu | F31: m | G31: 4 | I31: =ROUND(G31*H31,2) -> 0
A32: 16 | B32: K | C32: 013 | D32: 977311112 | E32: Řezání stávajících betonových mazanin nevyztužených hl do 100 mm | F32: m | G32: 50 | I32: =ROUND(G32*H32,2) -> 0
A33: 17 | C33: vlastní | E33: Soubor prací spojený se zapravením po demontážích a po rozvodech elektra. | F33: soubor | G33: 1 | I33: =ROUND(G33*H33,2) -> 0
A34: 18 | B34: K | C34: vlastní | E34: Soubor prací spojených s vedením nového vodovodního a odpadního potrubí k demonstrační katedře vyučujícího. Cena včetně dopravy. | F34: soubor | G34: 1 | I34: =ROUND(G34*H34,2) -> 0
B35: D | D35: 997 | E35: Přesun sutě | I35: =SUBTOTAL(9,I36:I40) -> 0
A36: 19 | B36: K | C36: 013 | D36: 997013213 | E36: Vnitrostaveništní doprava suti a vybouraných hmot vodorovně do 50 m pro budovy v do 12 m ručně | F36: t | G36: 0.579 | I36: =ROUND(G36*H36,2) -> 0
A37: 20 | B37: K | C37: 241 | D37: 997241622 | E37: Naložení a složení suti | F37: t | G37: 0.579 | I37: =ROUND(G37*H37,2) -> 0
A38: 21 | B38: K | C38: 013 | D38: 997013501 | E38: Odvoz suti a vybouraných hmot na skládku nebo meziskládku do 1 km se složením | F38: t | G38: 0.579 | I38: =ROUND(G38*H38,2) -> 0
A39: 22 | B39: K | C39: 013 | D39: 997013509 | E39: Příplatek k ceně za každý započatý 1 km přes 1 km - celkem 20 km | F39: t | G39: 11.58 | I39: =ROUND(G39*H39,2) -> 0
A40: 23 | B40: K | C40: 013 | D40: 997013831 | E40: Poplatky za uložení stavebního směsného odpadu na skládce ( skládkovné) | F40: t | G40: 0.579 | I40: =ROUND(G40*H40,2) -> 0
B41: D | D41: 998 | E41: Přesun hmot | I41: =SUBTOTAL(9,I42:I42) -> 0
A42: 24 | B42: K | C42: 011 | D42: 998011002 | E42: Přesun hmot pro budovy zděné v do 12 m | F42: t | G42: 2 | I42: =ROUND(G42*H42,2) -> 0
B43: D | D43: PSV | E43: Práce a dodávky PSV | I43: =SUBTOTAL(9,I44:I86) -> 0
B44: D | D44: 711 | E44: Izolace proti vodě, vlhkosti a plynům | I44: =SUBTOTAL(9,I45) -> 0
A45: 25 | B45: K | C45: 711 | D45: 711413121 | E45: Izolace proti vodě za studena svislá těsnicí hmotou dvousložkovou na bázi polymery modifikované živičné emulze | F45: m2 | G45: =G70 -> 8 | I45: =ROUND(G45*H45,2) -> 0
B46: D | D46: 725 | E46: Zdravotechnika - zařizovací předměty | I46: =SUBTOTAL(9,I47:I52) -> 0
A47: 26 | B47: M | C47: MAT | D47: materiál | E47: Keramické umyvadlo. Dodávka a montáž. | F47: soubor | G47: 3 | I47: =ROUND(G47*H47,2) -> 0
A48: 27 | B48: K | C48: vlastní | E48: Vodoinstalační práce spojené s instalací umyvadla vč. zednického zapravení | F48: kpl | G48: 3 | I48: =ROUND(G48*H48,2) -> 0
A49: 28 | B49: K | C49: 721 | D49: 725210821 | E49: Demontáž umyvadel bez výtokových armatur | F49: soubor | G49: 3 | I49: =ROUND(G49*H49,2) -> 0
A50: 29 | B50: K | C50: 721 | D50: 725820801 | E50: Demontáž baterie nástěnné do G 3 / 4 | F50: soubor | G50: 3 | I50: =ROUND(G50*H50,2) -> 0
A51: 30 | B51: K | C51: 721 | D51: 725829121 | E51: Montáž baterie umyvadlové nástěnné pákové a klasické ostatní typ | F51: kus | G51: 3 | I51: =ROUND(G51*H51,2) -> 0
A52: 31 | B52: M | C52: MAT | D52: materiál | E52: Baterie umyvadlová páková. Průtok max. 6 l/min. Dodávka a montáž | F52: kus | G52: 3 | I52: =ROUND(G52*H52,2) -> 0
B53: D | D53: 776 | E53: Podlahy povlakové | I53: =SUBTOTAL(9,I54:I68) -> 0
A54: 32 | B54: K | C54: 776 | D54: 776111115 | E54: Broušení podkladu povlakových podlah před litím stěrky | F54: m2 | G54: =G19 -> 134 | I54: =ROUND(G54*H54,2) -> 0
A55: 33 | B55: K | C55: 776 | D55: 776111116 | E55: Odstranění zbytků lepidla z podkladu povlakových podlah broušením | F55: m2 | G55: =G19 -> 134 | I55: =ROUND(G55*H55,2) -> 0
A56: 34 | B56: K | C56: 776 | D56: 776111311 | E56: Vysátí podkladu povlakových podlah | F56: m2 | G56: =G19 -> 134 | I56: =ROUND(G56*H56,2) -> 0
A57: 35 | B57: K | C57: 776 | D57: 776121411 | E57: Dvousložková penetrace podkladu povlakových podlah | F57: m2 | G57: =G19 -> 134 | I57: =ROUND(G57*H57,2) -> 0
A58: 36 | B58: K | C58: 776 | D58: 776141113 | E58: Vyrovnání podkladu povlakových podlah stěrkou pevnosti 20 MPa tl 8 mm | F58: m2 | G58: =G19 -> 134 | I58: =ROUND(G58*H58,2) -> 0
A59: 37 | B59: K | C59: 776 | D59: 776201811 | E59: Demontáž lepených povlakových podlah bez podložky ručně | F59: m2 | G59: =G19 -> 134 | I59: =ROUND(G59*H59,2) -> 0
A60: 38 | B60: K | C60: 776 | D60: 776221111 | E60: Lepení pásů z PVC standardním lepidlem | F60: m2 | G60: =G19 -> 134 | I60: =ROUND(G60*H60,2) -> 0
A61: 39 | B61: M | C61: MAT | D61: materiál | E61: PVC vinyl, heterogenní, zátěžový, antibakteriální, minimální parametry: nášlapná vrstva 0,70mm, třída zátěže 34/43, otlak do 0,1 mm, hořlavost Bfl S1. | F61: m2 | G61: =G54 -> 134 | I61: =ROUND(G61*H61,2) -> 0
A62: 40 | B62: K | C62: 776 | D62: 776223112 | E62: Spoj povlakových podlahovin z PVC svařováním za studena | F62: m | G62: 45 | I62: =ROUND(G62*H62,2) -> 0
A63: 41 | B63: K | C63: 776 | D63: 776410811 | E63: Odstranění soklíků a lišt pryžových nebo plastových | F63: m | G63: 88 | I63: =ROUND(G63*H63,2) -> 0
A64: 42 | B64: M | C64: MAT | D64: 28411003 | E64: Lišta soklová PVC 30x30mm | F64: m | G64: =G63 -> 88 | I64: =ROUND(G64*H64,2) -> 0
A65: 43 | B65: K | C65: 776 | D65: 776421111 | E65: Montáž obvodových lišt lepených | F65: m | G65: =G63 -> 88 | I65: =ROUND(G65*H65,2) -> 0
A66: 44 | B66: K | C66: 776 | D66: 776991121 | E66: Základní čištění nově položených podlahovin vysátím a setřením vlhkým mopem | F66: m2 | G66: =G61 -> 134 | I66: =ROUND(G66*H66,2) -> 0
A67: 45 | B67: K | C67: 776 | D67: 776991821 | E67: Odstranění lepidla ručně z podlah | F67: m2 | G67: =G61 -> 134 | I67: =ROUND(G67*H67,2) -> 0
A68: 46 | B68: K | C68: 776 | D68: 998776202 | E68: Přesun hmot procentní pro podlahy povlakové v objektech v do 12 m | F68: % | G68: 100 | I68: =ROUND(G68*H68,2) -> 0
B69: D | D69: 781 | E69: Dokončovací práce - obklady | I69: =SUBTOTAL(9,I70:I77) -> 0
A70: 47 | B70: K | C70: 781 | D70: 781471810 | E70: Demontáž obkladů z obkladaček keramických kladených do malty | F70: m2 | G70: 8 | I70: =ROUND(G70*H70,2) -> 0
A71: 48 | B71: K | C71: 781 | D71: 781474116 | E71: Montáž obkladů vnitřních keramických hladkých do 35 ks/m2 lepených flexibilním lepidlem | F71: m2 | G71: 8 | I71: =ROUND(G71*H71,2) -> 0
A72: 49 | B72: M | C72: MAT | D72: materiál | E72: Obklad keramický hladký, dílce velikosti 200x200mm. | F72: m2 | G72: =G70*1.1 -> 8.8 | I72: =ROUND(G72*H72,2) -> 0
A73: 50 | B73: K | C73: 781 | D73: 781491815 | E73: Odstranění profilu ukončovacího | F73: m | G73: 10 | I73: =ROUND(G73*H73,2) -> 0
A74: 51 | B74: K | C74: 781 | D74: 781492251 | E74: Montáž profilů ukončovacích lepených flexibilním cementovým lepidlem | F74: m | G74: 5 | I74: =ROUND(G74*H74,2) -> 0
A75: 52 | B75: K | C75: 781 | D75: 781492451 | E75: Montáž profilů ukončovacích lepených standardním cementovým lepidlem | F75: m | G75: 11 | I75: =ROUND(G75*H75,2) -> 0
A76: 53 | B76: K | C76: 781 | D76: 781495115 | E76: Spárování vnitřních obkladů silikonem | F76: m | G76: 40 | I76: =ROUND(G76*H76,2) -> 0
A77: 54 | B77: K | C77: 781 | D77: 998781202 | E77: Přesun hmot procentní pro obklady keramické v objektech v do 12 m | F77: % | G77: 100 | I77: =ROUND(G77*H77,2) -> 0
B78: D | D78: 784 | E78: Dokončovací práce - malby a tapety | I78: =SUBTOTAL(9,I79:I86) -> 0
A79: 55 | B79: K | C79: 784 | D79: 784111031 | E79: Omytí podkladu v místnostech výšky do 3,80 m | F79: m2 | G79: 290 | I79: =ROUND(G79*H79,2) -> 0
A80: 56 | B80: K | C80: 784 | D80: 784121001 | E80: Oškrabání malby v místnostech výšky do 3,80 m | F80: m2 | G80: =G79 -> 290 | I80: =ROUND(G80*H80,2) -> 0
A81: 57 | B81: K | C81: 784 | D81: 784161211 | E81: Lokální vyrovnání podkladu sádrovou stěrkou plochy do 0,25 m2 v místnostech výšky do 3,80 m | F81: kus | G81: =G80 -> 290 | I81: =ROUND(G81*H81,2) -> 0
A82: 58 | B82: K | C82: 784 | D82: 784181121 | E82: Hloubková jednonásobná penetrace podkladu v místnostech výšky do 3,80 m | F82: m2 | G82: =G79 -> 290 | I82: =ROUND(G82*H82,2) -> 0
A83: 59 | B83: K | C83: 784 | D83: 784191003 | E83: Čištění vnitřních ploch oken dvojitých nebo zdvojených po provedení malířských prací | F83: m2 | G83: =G23 -> 38 | I83: =ROUND(G83*H83,2) -> 0
A84: 60 | B84: K | C84: 784 | D84: 784191005 | E84: Čištění vnitřních ploch dveří nebo vrat po provedení malířských prací | F84: m2 | G84: =G24 -> 12 | I84: =ROUND(G84*H84,2) -> 0
A85: 61 | B85: K | C85: 784 | D85: 784191007 | E85: Čištění vnitřních ploch podlah po provedení malířských prací | F85: m2 | G85: =G61 -> 134 | I85: =ROUND(G85*H85,2) -> 0
A86: 62 | B86: K | C86: 784 | D86: 784221101 | E86: Dvojnásobné bílé malby ze směsí za sucha dobře otěruvzdorných v místnostech do 3,80 m | F86: m2 | G86: =G80 -> 290 | I86: =ROUND(G86*H86,2) -> 0
D87: EL | E87: Slaboproudé, silnoproudé rozvody, osvětlení | I87: =SUBTOTAL(9,I88:I171) -> 0
D88: 742 | E88: Slaboproudé rozvody + příslušenství | I88: =SUBTOTAL(9,I89:I101) -> 0
A89: 63 | B89: K | C89: 742 | D89: 742122001 | E89: Montáž kabelové spojky nebo svorkovnice pro slaboproud do 15 žil | F89: kus | G89: 21 | I89: =ROUND(G89*H89,2) -> 0
A90: 64 | B90: M | C90: MAT | D90: 10.935.899 | E90: Konektor RJ45 UTP Cat.5e černý samořezný | F90: kus | G90: =G89 -> 21 | I90: =ROUND(G90*H90,2) -> 0
A91: 65 | B91: K | C91: 742 | D91: 742330044 | E91: Montáž datové zásuvky 1 až 6 pozic | F91: kus | G91: =SUM(G92:G94) -> 16 | I91: =ROUND(G91*H91,2) -> 0
A92: 66 | B92: M | C92: MAT | D92: 10.696.523 | E92: Datová jednozásuvka, modulová zásuvka 22,5x45mm (1 modul) | F92: kus | G92: 10 | I92: =ROUND(G92*H92,2) -> 0
A93: 67 | B93: M | C93: MAT | D93: 10.874.783 | E93: Kryt zásuvky komunikační, dvojnásobný | F93: kus | G93: 5 | I93: =ROUND(G93*H93,2) -> 0
A94: 68 | B94: M | C94: MAT | D94: materiál | E94: Datová dvouzásuvka s přístrojovou lištovou krabicí | F94: kus | G94: 1 | I94: =ROUND(G94*H94,2) -> 0
A95: 69 | B95: K | C95: 742 | D95: 742122001 | E95: Montáž kabelové spojky nebo svorkovnice pro slaboproud do 15 žil | F95: kus | G95: 23 | I95: =ROUND(G95*H95,2) -> 0
A96: 70 | B96: M | C96: MAT | D96: 10.863.140 | E96: Konektor RJ45 8p8c Cat.5e nest.pro drát | F96: kus | G96: =G95 -> 23 | I96: =ROUND(G96*H96,2) -> 0
A97: 71 | B97: K | C97: 742 | D97: 742121001 | E97: Montáž kabelů sdělovacích pro vnitřní rozvody, počtu žil do 15 | F97: m | G97: 350 | I97: =ROUND(G97*H97,2) -> 0
A98: 72 | B98: M | C98: MAT | D98: 10.793.442 | E98: Datový UTP cat.5 kabel | F98: m | G98: =G97 -> 350 | I98: =ROUND(G98*H98,2) -> 0
A99: 73 | B99: K | C99: 742 | D99: 742110202 | E99: Montáž podlahových krabic montovaných do mazaniny. | F99: kus | G99: 1 | I99: =ROUND(G99*H99,2) -> 0
A100: 74 | B100: M | C100: MAT | D100: 1000107173 | E100: Podlahová krabice pod katedru pro zakončení kabelových tras. Určená pro výšku betonové vrstvy od 57 mm do 75 mm. Krabice je uzpůsobena pro instalaci elektroinstalačních trubek. | F100: kus | G100: =G99 -> 1 | I100: =ROUND(G100*H100,2) -> 0
A101: 75 | B101: K | C101: 742 | D101: 742330101 | E101: Měření metalického segmentu s vyhotovením protokolu | F101: kus | G101: =(G89+G95)/2 -> 22 | I101: =ROUND(G101*H101,2) -> 0
D102: 741 | E102: Silnoproudé rozvody + příslušenství | I102: =SUBTOTAL(9,I103:I154) -> 0
A103: 76 | B103: K | C103: 741 | D103: 741210101 | E103: Montáž rozvaděčů litinových, hliníkových nebo plastových bez zapojení vodičů, sestavy hmotností do 50 kg. | F103: kus | G103: 1 | I103: =ROUND(G103*H103,2) -> 0
...

Sheet Přírodověda 2.NP
A1: SOUPIS PRACÍ A DODÁVEK A SLUŽEB vč VÝKAZU VÝMĚR
A2: Stavba: | C2: Přírodovědná učebna 2. NP
A3: Objekt: | C3: Základní škola Tábor, Zborovská 2696
A4: Část:
A5: JKSO:
A7: Objednatel: | C7: Základní škola Tábor, Zborovská 2696, 39003 Tábor
A8: Zhotovitel:
A9: Datum:
A11: P.Č. | B11: TV | C11: KCN | D11: Kód položky | E11: Popis / minimální technické parametry | F11: MJ | G11: Množství celkem | H11: Cena jednotková bez DPH | I11: Cena celkem bez DPH
A12: 1 | B12: 2 | C12: 3 | D12: 4 | E12: 5 | F12: 6 | G12: 7 | H12: 8 | I12: 9
B14: D | D14: HSV | E14: Práce a dodávky HSV | I14: =SUBTOTAL(9,I15:I42) -> 0
B15: D | D15: 6 | E15: Úpravy povrchů, podlahy a osazování výplní | I15: =SUBTOTAL(9,I16:I21) -> 0
A16: 1 | B16: K | C16: 014 | D16: 612135101 | E16: Hrubá výplň rýh ve stěnách maltou jakékoli šířky rýhy | F16: m2 | G16: 4 | I16: =ROUND(G16*H16,2) -> 0
A17: 2 | B17: K | C17: 014 | D17: 612325121 | E17: Vápenocementová štuková omítka rýh ve stěnách šířky do 150 mm | F17: m2 | G17: 5 | I17: =ROUND(G17*H17,2) -> 0
A18: 3 | B18: K | C18: 014 | D18: 612325215 | E18: Vápenocementová hladká omítka malých ploch do 4,0 m2 na stěnách pod obklady | F18: kus | G18: 1 | I18: =ROUND(G18*H18,2) -> 0
A19: 4 | B19: K | C19: 011 | D19: 619991001 | E19: Zakrytí podlah fólií přilepenou lepící páskou | F19: m2 | G19: 82 | I19: =ROUND(G19*H19,2) -> 0
A20: 5 | B20: K | C20: 011 | D20: 619991011 | E20: Obalení konstrukcí a prvků fólií přilepenou lepící páskou | F20: m2 | G20: 25 | I20: =ROUND(G20*H20,2) -> 0
A21: 6 | B21: K | C21: 014 | D21: 632681113 | E21: Vyspravení betonových podlah rychletuhnoucím polymerem - vysprávka D přes 50 do 200 a tl 30 mm | F21: kus | G21: 45 | I21: =ROUND(G21*H21,2) -> 0
B22: D | D22: 9 | E22: Ostatní konstrukce a práce, bourání | I22: =SUBTOTAL(9,I23:I34) -> 0
A23: 7 | B23: K | C23: 014 | D23: 952901107 | E23: Čištění budov omytí dvojitých nebo zdvojených oken nebo balkonových dveří plochy do 2,5m2 | F23: m2 | G23: 25 | I23: =ROUND(G23*H23,2) -> 0
A24: 8 | B24: K | C24: 014 | D24: 952901122 | E24: Čištění budov omytí dveří nebo vrat plochy do 3,0m2 | F24: m2 | G24: 4 | I24: =ROUND(G24*H24,2) -> 0
A25: 9 | B25: K | C25: 014 | D25: 952902021 | E25: Čištění budov zametení hladkých podlah | F25: m2 | G25: =G19 -> 82 | I25: =ROUND(G25*H25,2) -> 0
A26: 10 | B26: K | C26: 014 | D26: 952902031 | E26: Čištění budov omytí hladkých podlah | F26: m2 | G26: =G25 -> 82 | I26: =ROUND(G26*H26,2) -> 0
A27: 11 | B27: K | C27: 014 | D27: 952902611 | E27: Čištění budov vysátí prachu z ostatních ploch | F27: m2 | G27: =G26 -> 82 | I27: =ROUND(G27*H27,2) -> 0
A28: 12 | B28: K | C28: 013 | D28: 974049121 | E28: Vysekání rýh v betonových zdech hl do 30 mm š do 30 mm | F28: m | G28: 90 | I28: =ROUND(G28*H28,2) -> 0
A29: 13 | B29: K | C29: 013 | D29: 974049133 | E29: Vysekání rýh v betonových zdech hl do 50 mm š do 100 mm | F29: m | G29: 5 | I29: =ROUND(G29*H29,2) -> 0
A30: 14 | B30: K | C30: 013 | D30: 974082113 | E30: Vysekání rýh pro vodiče v omítce MV nebo MVC stěn š do 50 mm | F30: m | G30: 80 | I30: =ROUND(G30*H30,2) -> 0
A31: 15 | B31: K | C31: 013 | D31: 977131115 | E31: Vrty příklepovými vrtáky D 16 mm do cihelného zdiva nebo prostého betonu | F31: m | G31: 2 | I31: =ROUND(G31*H31,2) -> 0
A32: 16 | B32: K | C32: 013 | D32: 977311112 | E32: Řezání stávajících betonových mazanin nevyztužených hl do 100 mm | F32: m | G32: 45 | I32: =ROUND(G32*H32,2) -> 0
A33: 17 | C33: vlastní | E33: Soubor prací spojený se zapravením po demontážích a po rozvodech elektra. | F33: soubor | G33: 1 | I33: =ROUND(G33*H33,2) -> 0
A34: 18 | B34: K | C34: vlastní | E34: Soubor prací spojených s vedením nového vodovodního a odpadního potrubí k demonstrační katedře vyučujícího. Cena včetně dopravy. | F34: soubor | G34: 1 | I34: =ROUND(G34*H34,2) -> 0
B35: D | D35: 997 | E35: Přesun sutě | I35: =SUBTOTAL(9,I36:I40) -> 0
A36: 19 | B36: K | C36: 013 | D36: 997013213 | E36: Vnitrostaveništní doprava suti a vybouraných hmot vodorovně do 50 m pro budovy v do 12 m ručně | F36: t | G36: 0.397 | I36: =ROUND(G36*H36,2) -> 0
A37: 20 | B37: K | C37: 241 | D37: 997241622 | E37: Naložení a složení suti | F37: t | G37: 0.397 | I37: =ROUND(G37*H37,2) -> 0
A38: 21 | B38: K | C38: 013 | D38: 997013501 | E38: Odvoz suti a vybouraných hmot na skládku nebo meziskládku do 1 km se složením | F38: t | G38: 0.397 | I38: =ROUND(G38*H38,2) -> 0
A39: 22 | B39: K | C39: 013 | D39: 997013509 | E39: Příplatek k ceně za každý započatý 1 km přes 1 km - celkem 20 km | F39: t | G39: 7.94 | I39: =ROUND(G39*H39,2) -> 0
A40: 23 | B40: K | C40: 013 | D40: 997013831 | E40: Poplatky za uložení stavebního směsného odpadu na skládce ( skládkovné) | F40: t | G40: 0.397 | I40: =ROUND(G40*H40,2) -> 0
B41: D | D41: 998 | E41: Přesun hmot | I41: =SUBTOTAL(9,I42:I42) -> 0
A42: 24 | B42: K | C42: 011 | D42: 998011002 | E42: Přesun hmot pro budovy zděné v do 12 m | F42: t | G42: 2 | I42: =ROUND(G42*H42,2) -> 0
B43: D | D43: PSV | E43: Práce a dodávky PSV | I43: =SUBTOTAL(9,I44:I86) -> 0
B44: D | D44: 711 | E44: Izolace proti vodě, vlhkosti a plynům | I44: =SUBTOTAL(9,I45) -> 0
A45: 25 | B45: K | C45: 711 | D45: 711413121 | E45: Izolace proti vodě za studena svislá těsnicí hmotou dvousložkovou na bázi polymery modifikované živičné emulze | F45: m2 | G45: =G70 -> 2 | I45: =ROUND(G45*H45,2) -> 0
B46: D | D46: 725 | E46: Zdravotechnika - zařizovací předměty | I46: =SUBTOTAL(9,I47:I52) -> 0
A47: 26 | B47: M | C47: MAT | D47: materiál | E47: Keramické umyvadlo. Dodávka a montáž. | F47: soubor | G47: 1 | I47: =ROUND(G47*H47,2) -> 0
A48: 27 | B48: K | C48: vlastní | E48: Vodoinstalační práce spojené s instalací umyvadla vč. zednického zapravení | F48: kpl | G48: 1 | I48: =ROUND(G48*H48,2) -> 0
A49: 28 | B49: K | C49: 721 | D49: 725210821 | E49: Demontáž umyvadel bez výtokových armatur | F49: soubor | G49: 1 | I49: =ROUND(G49*H49,2) -> 0
A50: 29 | B50: K | C50: 721 | D50: 725820801 | E50: Demontáž baterie nástěnné do G 3 / 4 | F50: soubor | G50: 1 | I50: =ROUND(G50*H50,2) -> 0
A51: 30 | B51: K | C51: 721 | D51: 725829121 | E51: Montáž baterie umyvadlové nástěnné pákové a klasické ostatní typ | F51: kus | G51: 1 | I51: =ROUND(G51*H51,2) -> 0
A52: 31 | B52: M | C52: MAT | D52: materiál | E52: Baterie umyvadlová páková. Průtok max. 6 l/min. Dodávka a montáž | F52: kus | G52: 1 | I52: =ROUND(G52*H52,2) -> 0
B53: D | D53: 776 | E53: Podlahy povlakové | I53: =SUBTOTAL(9,I54:I68) -> 0
A54: 32 | B54: K | C54: 776 | D54: 776111115 | E54: Broušení podkladu povlakových podlah před litím stěrky | F54: m2 | G54: =G19 -> 82 | I54: =ROUND(G54*H54,2) -> 0
A55: 33 | B55: K | C55: 776 | D55: 776111116 | E55: Odstranění zbytků lepidla z podkladu povlakových podlah broušením | F55: m2 | G55: =G19 -> 82 | I55: =ROUND(G55*H55,2) -> 0
A56: 34 | B56: K | C56: 776 | D56: 776111311 | E56: Vysátí podkladu povlakových podlah | F56: m2 | G56: =G19 -> 82 | I56: =ROUND(G56*H56,2) -> 0
A57: 35 | B57: K | C57: 776 | D57: 776121411 | E57: Dvousložková penetrace podkladu povlakových podlah | F57: m2 | G57: =G19 -> 82 | I57: =ROUND(G57*H57,2) -> 0
A58: 36 | B58: K | C58: 776 | D58: 776141113 | E58: Vyrovnání podkladu povlakových podlah stěrkou pevnosti 20 MPa tl 8 mm | F58: m2 | G58: =G19 -> 82 | I58: =ROUND(G58*H58,2) -> 0
A59: 37 | B59: K | C59: 776 | D59: 776201811 | E59: Demontáž lepených povlakových podlah bez podložky ručně | F59: m2 | G59: =G19 -> 82 | I59: =ROUND(G59*H59,2) -> 0
A60: 38 | B60: K | C60: 776 | D60: 776221111 | E60: Lepení pásů z PVC standardním lepidlem | F60: m2 | G60: =G19 -> 82 | I60: =ROUND(G60*H60,2) -> 0
A61: 39 | B61: M | C61: MAT | D61: materiál | E61: PVC vinyl, heterogenní, zátěžový, antibakteriální, minimální parametry: nášlapná vrstva 0,70mm, třída zátěže 34/43, otlak do 0,1 mm, hořlavost Bfl S1. | F61: m2 | G61: =G19 -> 82 | I61: =ROUND(G61*H61,2) -> 0
A62: 40 | B62: K | C62: 776 | D62: 776223112 | E62: Spoj povlakových podlahovin z PVC svařováním za studena | F62: m | G62: 30 | I62: =ROUND(G62*H62,2) -> 0
A63: 41 | B63: K | C63: 776 | D63: 776410811 | E63: Odstranění soklíků a lišt pryžových nebo plastových | F63: m | G63: 40 | I63: =ROUND(G63*H63,2) -> 0
A64: 42 | B64: M | C64: MAT | D64: 28411003 | E64: Lišta soklová PVC 30x30mm | F64: m | G64: =G63 -> 40 | I64: =ROUND(G64*H64,2) -> 0
A65: 43 | B65: K | C65: 776 | D65: 776421111 | E65: Montáž obvodových lišt lepených | F65: m | G65: =G63 -> 40 | I65: =ROUND(G65*H65,2) -> 0
A66: 44 | B66: K | C66: 776 | D66: 776991121 | E66: Základní čištění nově položených podlahovin vysátím a setřením vlhkým mopem | F66: m2 | G66: =G61 -> 82 | I66: =ROUND(G66*H66,2) -> 0
A67: 45 | B67: K | C67: 776 | D67: 776991821 | E67: Odstranění lepidla ručně z podlah | F67: m2 | G67: =G61 -> 82 | I67: =ROUND(G67*H67,2) -> 0
A68: 46 | B68: K | C68: 776 | D68: 998776202 | E68: Přesun hmot procentní pro podlahy povlakové v objektech v do 12 m | F68: % | G68: 100 | I68: =ROUND(G68*H68,2) -> 0
B69: D | D69: 781 | E69: Dokončovací práce - obklady | I69: =SUBTOTAL(9,I70:I77) -> 0
A70: 47 | B70: K | C70: 781 | D70: 781471810 | E70: Demontáž obkladů z obkladaček keramických kladených do malty | F70: m2 | G70: 2 | I70: =ROUND(G70*H70,2) -> 0
A71: 48 | B71: K | C71: 781 | D71: 781474116 | E71: Montáž obkladů vnitřních keramických hladkých do 35 ks/m2 lepených flexibilním lepidlem | F71: m2 | G71: 2 | I71: =ROUND(G71*H71,2) -> 0
A72: 49 | B72: M | C72: 781 | D72: materiál | E72: Obklad keramický hladký, dílce velikosti 200x200mm. | F72: m2 | G72: =G70*1.1 -> 2.2 | I72: =ROUND(G72*H72,2) -> 0
A73: 50 | B73: K | C73: 781 | D73: 781491815 | E73: Odstranění profilu ukončovacího | F73: m | G73: 3 | I73: =ROUND(G73*H73,2) -> 0
A74: 51 | B74: K | C74: 781 | D74: 781492251 | E74: Montáž profilů ukončovacích lepených flexibilním cementovým lepidlem | F74: m | G74: 2 | I74: =ROUND(G74*H74,2) -> 0
A75: 52 | B75: K | C75: 781 | D75: 781492451 | E75: Montáž profilů ukončovacích lepených standardním cementovým lepidlem | F75: m | G75: 4 | I75: =ROUND(G75*H75,2) -> 0
A76: 53 | B76: K | C76: 781 | D76: 781495115 | E76: Spárování vnitřních obkladů silikonem | F76: m | G76: 16 | I76: =ROUND(G76*H76,2) -> 0
A77: 54 | B77: K | C77: 781 | D77: 998781202 | E77: Přesun hmot procentní pro obklady keramické v objektech v do 12 m | F77: % | G77: 100 | I77: =ROUND(G77*H77,2) -> 0
B78: D | D78: 784 | E78: Dokončovací práce - malby a tapety | I78: =SUBTOTAL(9,I79:I86) -> 0
A79: 55 | B79: K | C79: 784 | D79: 784111031 | E79: Omytí podkladu v místnostech výšky do 3,80 m | F79: m2 | G79: 240 | I79: =ROUND(G79*H79,2) -> 0
A80: 56 | B80: K | C80: 784 | D80: 784121001 | E80: Oškrabání malby v místnostech výšky do 3,80 m | F80: m2 | G80: =G79 -> 240 | I80: =ROUND(G80*H80,2) -> 0
A81: 57 | B81: K | C81: 784 | D81: 784161211 | E81: Lokální vyrovnání podkladu sádrovou stěrkou plochy do 0,25 m2 v místnostech výšky do 3,80 m | F81: kus | G81: =G80 -> 240 | I81: =ROUND(G81*H81,2) -> 0
A82: 58 | B82: K | C82: 784 | D82: 784181121 | E82: Hloubková jednonásobná penetrace podkladu v místnostech výšky do 3,80 m | F82: m2 | G82: =G79 -> 240 | I82: =ROUND(G82*H82,2) -> 0
A83: 59 | B83: K | C83: 784 | D83: 784191003 | E83: Čištění vnitřních ploch oken dvojitých nebo zdvojených po provedení malířských prací | F83: m2 | G83: =G23 -> 25 | I83: =ROUND(G83*H83,2) -> 0
A84: 60 | B84: K | C84: 784 | D84: 784191005 | E84: Čištění vnitřních ploch dveří nebo vrat po provedení malířských prací | F84: m2 | G84: =G24 -> 4 | I84: =ROUND(G84*H84,2) -> 0
A85: 61 | B85: K | C85: 784 | D85: 784191007 | E85: Čištění vnitřních ploch podlah po provedení malířských prací | F85: m2 | G85: =G61 -> 82 | I85: =ROUND(G85*H85,2) -> 0
A86: 62 | B86: K | C86: 784 | D86: 784221101 | E86: Dvojnásobné bílé malby ze směsí za sucha dobře otěruvzdorných v místnostech do 3,80 m | F86: m2 | G86: =G80 -> 240 | I86: =ROUND(G86*H86,2) -> 0
D87: EL | E87: Slaboproudé, silnoproudé rozvody, osvětlení | I87: =SUBTOTAL(9,I88:I169) -> 0
D88: 742 | E88: Slaboproudé rozvody + příslušenství | I88: =SUBTOTAL(9,I89:I101) -> 0
A89: 63 | B89: K | C89: 742 | D89: 742122001 | E89: Montáž kabelové spojky nebo svorkovnice pro slaboproud do 15 žil | F89: kus | G89: 14 | I89: =ROUND(G89*H89,2) -> 0
A90: 64 | B90: M | C90: MAT | D90: 10.935.899 | E90: Konektor RJ45 UTP Cat.5e černý samořezný | F90: kus | G90: =G89 -> 14 | I90: =ROUND(G90*H90,2) -> 0
A91: 65 | B91: K | C91: 742 | D91: 742330044 | E91: Montáž datové zásuvky 1 až 6 pozic | F91: kus | G91: =SUM(G92:G94) -> 12 | I91: =ROUND(G91*H91,2) -> 0
A92: 66 | B92: M | C92: MAT | D92: 10.696.523 | E92: Datová jednozásuvka, modulová zásuvka 22,5x45mm (1 modul) | F92: kus | G92: 10 | I92: =ROUND(G92*H92,2) -> 0
A93: 67 | B93: M | C93: MAT | D93: 10.874.783 | E93: Kryt zásuvky komunikační, dvojnásobný | F93: kus | G93: 1 | I93: =ROUND(G93*H93,2) -> 0
A94: 68 | B94: M | C94: MAT | D94: materiál | E94: Datová dvouzásuvka s přístrojovou lištovou krabicí | F94: kus | G94: 1 | I94: =ROUND(G94*H94,2) -> 0
A95: 69 | B95: K | C95: 742 | D95: 742122001 | E95: Montáž kabelové spojky nebo svorkovnice pro slaboproud do 15 žil | F95: kus | G95: 16 | I95: =ROUND(G95*H95,2) -> 0
A96: 70 | B96: M | C96: MAT | D96: 10.863.140 | E96: Konektor RJ45 8p8c Cat.5e nest.pro drát | F96: kus | G96: =G95 -> 16 | I96: =ROUND(G96*H96,2) -> 0
A97: 71 | B97: K | C97: 742 | D97: 742121001 | E97: Montáž kabelů sdělovacích pro vnitřní rozvody, počtu žil do 15 | F97: m | G97: 180 | I97: =ROUND(G97*H97,2) -> 0
A98: 72 | B98: M | C98: MAT | D98: 10.793.442 | E98: Datový UTP cat.5 kabel | F98: m | G98: =G97 -> 180 | I98: =ROUND(G98*H98,2) -> 0
A99: 73 | B99: K | C99: 742 | D99: 742110202 | E99: Montáž podlahových krabic montovaných do mazaniny. | F99: kus | G99: 1 | I99: =ROUND(G99*H99,2) -> 0
A100: 74 | B100: M | C100: MAT | D100: 1000107173 | E100: Podlahová krabice pod katedru pro zakončení kabelových tras. Určená pro výšku betonové vrstvy od 57 mm do 75 mm. Krabice je uzpůsobena pro instalaci elektroinstalačních trubek. | F100: kus | G100: =G99 -> 1 | I100: =ROUND(G100*H100,2) -> 0
A101: 75 | B101: K | C101: 742 | D101: 742330101 | E101: Měření metalického segmentu s vyhotovením protokolu | F101: kus | G101: =(G89+G95)/2 -> 15 | I101: =ROUND(G101*H101,2) -> 0
D102: 741 | E102: Silnoproudé rozvody + příslušenství | I102: =SUBTOTAL(9,I103:I153) -> 0
A103: 76 | B103: K | C103: 741 | D103: 741210101 | E103: Montáž rozvaděčů litinových, hliníkových nebo plastových bez zapojení vodičů, sestavy hmotností do 50 kg. | F103: kus | G103: 1 | I103: =ROUND(G103*H103,2) -> 0
...
