Workbook

Sheet Rekapitulace
A1: REKAPITULACE
A2: Stavba: | B2: Odborné učebny
A3: Objekt: | B3: Základní škola Tábor, Zborovská 2696
A4: Část:
A5: JKSO:
A7: Objednatel: | B7: Základní škola Tábor, Zborovská 2696, 39003 Tábor
A8: Zhotovitel:
A9: Datum:
A11: Kód | B11: Popis | C11: Cena celkem
A12: 1 | B12: 2 | C12: 3
B14: =PC!C2 -> Počítačová učebna | C14: =PC!I159 -> 0
B15: =Robotika!C2 -> Učebna robotiky | C15: =Robotika!I160 -> 0
B16: ='Přírodověda 1.NP'!C2 -> Přírodovědná učebna 1. NP a kabinety | C16: ='Přírodověda 1.NP'!I177 -> 0
B17: ='Přírodověda 2.NP'!C2 -> Přírodovědná učebna 2. NP | C17: ='Přírodověda 2.NP'!I175 -> 0
B18: Celkem bez DPH | C18: =SUM(C14:C17) -> 0
B20: Celkem včetně DPH | C20: =C18*1.21 -> 0

Sheet PC
A1: SOUPIS PRACÍ A DODÁVEK A SLUŽEB vč VÝKAZU VÝMĚR
A2: Stavba: | C2: Počítačová učebna
A3: Objekt: | C3: Základní škola Tábor, Zborovská 2696
A4: Část:
A5: JKSO:
A7: Objednatel: | C7: Základní škola Tábor, Zborovská 2696, 39003 Tábor
A8: Zhotovitel:
A9: Datum:
A11: P.Č. | B11: TV | C11: KCN | D11: Kód položky / název | E11: Popis / minimální technické parametry | F11: MJ | G11: Množství celkem | H11: Cena jednotková bez DPH | I11: Cena celkem bez DPH
A12: 1 | B12: 2 | C12: 3 | D12: 4 | E12: 5 | F12: 6 | G12: 7 | H12: 8 | I12: 9
B14: D | D14: HSV | E14: Práce a dodávky HSV | I14: =SUBTOTAL(9,I15:I41) -> 0
B15: D | D15: 6 | E15: Úpravy povrchů, podlahy a osazování výplní | I15: =SUBTOTAL(9,I16:I21) -> 0
A16: 1 | B16: K | C16: 014 | D16: 612135101 | E16: Hrubá výplň rýh ve stěnách maltou jakékoli šířky rýhy | F16: m2 | G16: 4 | I16: =ROUND(G16*H16,2) -> 0
A17: 2 | B17: K | C17: 014 | D17: 612325121 | E17: Vápenocementová štuková omítka rýh ve stěnách šířky do 150 mm | F17: m2 | G17: 5 | I17: =ROUND(G17*H17,2) -> 0
A18: 3 | B18: K | C18: 014 | D18: 612325215 | E18: Vápenocementová hladká omítka malých ploch do 4,0 m2 na stěnách pod obklady | F18: kus | G18: 1 | I18: =ROUND(G18*H18,2) -> 0
A19: 4 | B19: K | C19: 011 | D19: 619991001 | E19: Zakrytí podlah fólií přilepenou lepící páskou | F19: m2 | G19: 78 | I19: =ROUND(G19*H19,2) -> 0
A20: 5 | B20: K | C20: 011 | D20: 619991011 | E20: Obalení konstrukcí a prvků fólií přilepenou lepící páskou | F20: m2 | G20: 25 | I20: =ROUND(G20*H20,2) -> 0
A21: 6 | B21: K | C21: 014 | D21: 632681113 | E21: Vyspravení betonových podlah rychletuhnoucím polymerem - vysprávka D přes 50 do 200 a tl 30 mm | F21: kus | G21: 55 | I21: =ROUND(G21*H21,2) -> 0
B22: D | D22: 9 | E22: Ostatní konstrukce a práce, bourání | I22: =SUBTOTAL(9,I23:I33) -> 0
A23: 7 | B23: K | C23: 014 | D23: 952901107 | E23: Čištění budov omytí dvojitých nebo zdvojených oken nebo balkonových dveří plochy do 2,5m2 | F23: m2 | G23: 20 | I23: =ROUND(G23*H23,2) -> 0
A24: 8 | B24: K | C24: 014 | D24: 952901122 | E24: Čištění budov omytí dveří nebo vrat plochy do 3,0m2 | F24: m2 | G24: 2 | I24: =ROUND(G24*H24,2) -> 0
A25: 9 | B25: K | C25: 014 | D25: 952902021 | E25: Čištění budov zametení hladkých podlah | F25: m2 | G25: =G19 -> 78 | I25: =ROUND(G25*H25,2) -> 0
A26: 10 | B26: K | C26: 014 | D26: 952902031 | E26: Čištění budov omytí hladkých podlah | F26: m2 | G26: =G25 -> 78 | I26: =ROUND(G26*H26,2) -> 0
A27: 11 | B27: K | C27: 014 | D27: 952902611 | E27: Čištění budov vysátí prachu z ostatních ploch | F27: m2 | G27: =G26 -> 78 | I27: =ROUND(G27*H27,2) -> 0
A28: 12 | B28: K | C28: 013 | D28: 974049121 | E28: Vysekání rýh v betonových zdech hl do 30 mm š do 30 mm | F28: m | G28: 90 | I28: =ROUND(G28*H28,2) -> 0
A29: 13 | B29: K | C29: 013 | D29: 974049133 | E29: Vysekání rýh v betonových zdech hl do 50 mm š do 100 mm | F29: m | G29: 8 | I29: =ROUND(G29*H29,2) -> 0
A30: 14 | B30: K | C30: 013 | D30: 974082113 | E30: Vysekání rýh pro vodiče v omítce MV nebo MVC stěn š do 50 mm | F30: m | G30: 90 | I30: =ROUND(G30*H30,2) -> 0
A31: 15 | B31: K | C31: 013 | D31: 977131115 | E31: Vrty příklepovými vrtáky D 16 mm do cihelného zdiva nebo prostého betonu | F31: m | G31: 2 | I31: =ROUND(G31*H31,2) -> 0
A32: 16 | B32: K | C32: 013 | D32: 977311112 | E32: Řezání stávajících betonových mazanin nevyztužených hl do 100 mm | F32: m | G32: 40 | I32: =ROUND(G32*H32,2) -> 0
A33: 17 | C33: vlastní | E33: Soubor prací spojený se zapravením po demontážích a po rozvodech elektra. | F33: soubor | G33: 1 | I33: =ROUND(G33*H33,2) -> 0
B34: D | D34: 997 | E34: Přesun sutě | I34: =SUBTOTAL(9,I35:I39) -> 0
A35: 18 | B35: K | C35: 013 | D35: 997013213 | E35: Vnitrostaveništní doprava suti a vybouraných hmot vodorovně do 50 m pro budovy v do 12 m ručně | F35: t | G35: 0.45 | I35: =ROUND(G35*H35,2) -> 0
A36: 19 | B36: K | C36: 241 | D36: 997241622 | E36: Naložení a složení suti | F36: t | G36: 0.45 | I36: =ROUND(G36*H36,2) -> 0
A37: 20 | B37: K | C37: 013 | D37: 997013501 | E37: Odvoz suti a vybouraných hmot na skládku nebo meziskládku do 1 km se složením | F37: t | G37: 0.45 | I37: =ROUND(G37*H37,2) -> 0
A38: 21 | B38: K | C38: 013 | D38: 997013509 | E38: Příplatek k ceně za každý započatý 1 km přes 1 km - celkem 20 km | F38: t | G38: 9 | I38: =ROUND(G38*H38,2) -> 0
A39: 22 | B39: K | C39: 013 | D39: 997013831 | E39: Poplatky za uložení stavebního směsného odpadu na skládce ( skládkovné) | F39: t | G39: 0.45 | I39: =ROUND(G39*H39,2) -> 0
B40: D | D40: 998 | E40: Přesun hmot | I40: =SUBTOTAL(9,I41:I41) -> 0
A41: 23 | B41: K | C41: 011 | D41: 998011002 | E41: Přesun hmot pro budovy zděné v do 12 m | F41: t | G41: 2 | I41: =ROUND(G41*H41,2) -> 0
B42: D | D42: PSV | E42: Práce a dodávky PSV | I42: =SUBTOTAL(9,I43:I85) -> 0
B43: D | D43: 711 | E43: Izolace proti vodě, vlhkosti a plynům | I43: =SUBTOTAL(9,I44) -> 0
...

Sheet Robotika
A1: SOUPIS PRACÍ A DODÁVEK A SLUŽEB vč VÝKAZU VÝMĚR
A2: Stavba: | C2: Učebna robotiky
A3: Objekt: | C3: Základní škola Tábor, Zborovská 2696
A4: Část:
A5: JKSO:
A7: Objednatel: | C7: Základní škola Tábor, Zborovská 2696, 39003 Tábor
A8: Zhotovitel:
A9: Datum:
A11: P.Č. | B11: TV | C11: KCN | D11: Kód položky / název | E11: Popis / minimální technické parametry | F11: MJ | G11: Množství celkem | H11: Cena jednotková bez DPH | I11: Cena celkem bez DPH
A12: 1 | B12: 2 | C12: 3 | D12: 4 | E12: 5 | F12: 6 | G12: 7 | H12: 8 | I12: 9
B14: D | D14: HSV | E14: Práce a dodávky HSV | I14: =SUBTOTAL(9,I15:I41) -> 0
B15: D | D15: 6 | E15: Úpravy povrchů, podlahy a osazování výplní | I15: =SUBTOTAL(9,I16:I21) -> 0
A16: 1 | B16: K | C16: 014 | D16: 612135101 | E16: Hrubá výplň rýh ve stěnách maltou jakékoli šířky rýhy | F16: m2 | G16: 3 | I16: =ROUND(G16*H16,2) -> 0
A17: 2 | B17: K | C17: 014 | D17: 612325121 | E17: Vápenocementová štuková omítka rýh ve stěnách šířky do 150 mm | F17: m2 | G17: 3 | I17: =ROUND(G17*H17,2) -> 0
A18: 3 | B18: K | C18: 014 | D18: 612325215 | E18: Vápenocementová hladká omítka malých ploch do 4,0 m2 na stěnách pod obklady | F18: kus | G18: 1 | I18: =ROUND(G18*H18,2) -> 0
A19: 4 | B19: K | C19: 011 | D19: 619991001 | E19: Zakrytí podlah fólií přilepenou lepící páskou | F19: m2 | G19: 43 | I19: =ROUND(G19*H19,2) -> 0
A20: 5 | B20: K | C20: 011 | D20: 619991011 | E20: Obalení konstrukcí a prvků fólií přilepenou lepící páskou | F20: m2 | G20: 15 | I20: =ROUND(G20*H20,2) -> 0
A21: 6 | B21: K | C21: 014 | D21: 632681113 | E21: Vyspravení betonových podlah rychletuhnoucím polymerem - vysprávka D přes 50 do 200 a tl 30 mm | F21: kus | G21: 25 | I21: =ROUND(G21*H21,2) -> 0
B22: D | D22: 9 | E22: Ostatní konstrukce a práce, bourání | I22: =SUBTOTAL(9,I23:I33) -> 0
A23: 7 | B23: K | C23: 014 | D23: 952901107 | E23: Čištění budov omytí dvojitých nebo zdvojených oken nebo balkonových dveří plochy do 2,5m2 | F23: m2 | G23: 13 | I23: =ROUND(G23*H23,2) -> 0
A24: 8 | B24: K | C24: 014 | D24: 952901122 | E24: Čištění budov omytí dveří nebo vrat plochy do 3,0m2 | F24: m2 | G24: 2 | I24: =ROUND(G24*H24,2) -> 0
A25: 9 | B25: K | C25: 014 | D25: 952902021 | E25: Čištění budov zametení hladkých podlah | F25: m2 | G25: =G19 -> 43 | I25: =ROUND(G25*H25,2) -> 0
A26: 10 | B26: K | C26: 014 | D26: 952902031 | E26: Čištění budov omytí hladkých podlah | F26: m2 | G26: =G25 -> 43 | I26: =ROUND(G26*H26,2) -> 0
A27: 11 | B27: K | C27: 014 | D27: 952902611 | E27: Čištění budov vysátí prachu z ostatních ploch | F27: m2 | G27: =G26 -> 43 | I27: =ROUND(G27*H27,2) -> 0
A28: 12 | B28: K | C28: 013 | D28: 974049121 | E28: Vysekání rýh v betonových zdech hl do 30 mm š do 30 mm | F28: m | G28: 60 | I28: =ROUND(G28*H28,2) -> 0
A29: 13 | B29: K | C29: 013 | D29: 974049133 | E29: Vysekání rýh v betonových zdech hl do 50 mm š do 100 mm | F29: m | G29: 5 | I29: =ROUND(G29*H29,2) -> 0
A30: 14 | B30: K | C30: 013 | D30: 974082113 | E30: Vysekání rýh pro vodiče v omítce MV nebo MVC stěn š do 50 mm | F30: m | G30: 60 | I30: =ROUND(G30*H30,2) -> 0
A31: 15 | B31: K | C31: 013 | D31: 977131115 | E31: Vrty příklepovými vrtáky D 16 mm do cihelného zdiva nebo prostého betonu | F31: m | G31: 2 | I31: =ROUND(G31*H31,2) -> 0
A32: 16 | B32: K | C32: 013 | D32: 977311112 | E32: Řezání stávajících betonových mazanin nevyztužených hl do 100 mm | F32: m | G32: 20 | I32: =ROUND(G32*H32,2) -> 0
A33: 17 | C33: vlastní | E33: Soubor prací spojený se zapravením po demontážích a po rozvodech elektra. | F33: soubor | G33: 1 | I33: =ROUND(G33*H33,2) -> 0
B34: D | D34: 997 | E34: Přesun sutě | I34: =SUBTOTAL(9,I35:I39) -> 0
A35: 18 | B35: K | C35: 013 | D35: 997013213 | E35: Vnitrostaveništní doprava suti a vybouraných hmot vodorovně do 50 m pro budovy v do 12 m ručně | F35: t | G35: 0.297 | I35: =ROUND(G35*H35,2) -> 0
A36: 19 | B36: K | C36: 241 | D36: 997241622 | E36: Naložení a složení suti | F36: t | G36: =G35 -> 0.297 | I36: =ROUND(G36*H36,2) -> 0
A37: 20 | B37: K | C37: 013 | D37: 997013501 | E37: Odvoz suti a vybouraných hmot na skládku nebo meziskládku do 1 km se složením | F37: t | G37: =G35 -> 0.297 | I37: =ROUND(G37*H37,2) -> 0
A38: 21 | B38: K | C38: 013 | D38: 997013509 | E38: Příplatek k ceně za každý započatý 1 km přes 1 km - celkem 20 km | F38: t | G38: =G37*20 -> 5.94 | I38: =ROUND(G38*H38,2) -> 0
A39: 22 | B39: K | C39: 013 | D39: 997013831 | E39: Poplatky za uložení stavebního směsného odpadu na skládce ( skládkovné) | F39: t | G39: =G35 -> 0.297 | I39: =ROUND(G39*H39,2) -> 0
B40: D | D40: 998 | E40: Přesun hmot | I40: =SUBTOTAL(9,I41:I41) -> 0
A41: 23 | B41: K | C41: 011 | D41: 998011002 | E41: Přesun hmot pro budovy zděné v do 12 m | F41: t | G41: 2 | I41: =ROUND(G41*H41,2) -> 0
B42: D | D42: PSV | E42: Práce a dodávky PSV | I42: =SUBTOTAL(9,I43:I85) -> 0
B43: D | D43: 711 | E43: Izolace proti vodě, vlhkosti a plynům | I43: =SUBTOTAL(9,I44) -> 0
...

Sheet Přírodověda 1.NP
A1: SOUPIS PRACÍ A DODÁVEK A SLUŽEB vč VÝKAZU VÝMĚR
A2: Stavba: | C2: Přírodovědná učebna 1. NP a kabinety
A3: Objekt: | C3: Základní škola Tábor, Zborovská 2696
A4: Část:
A5: JKSO:
A7: Objednatel: | C7: Základní škola Tábor, Zborovská 2696, 39003 Tábor
A8: Zhotovitel:
A9: Datum:
A11: P.Č. | B11: TV | C11: KCN | D11: Kód položky | E11: Popis / minimální technické parametry | F11: MJ | G11: Množství celkem | H11: Cena jednotková bez DPH | I11: Cena celkem bez DPH
A12: 1 | B12: 2 | C12: 3 | D12: 4 | E12: 5 | F12: 6 | G12: 7 | H12: 8 | I12: 9
B14: D | D14: HSV | E14: Práce a dodávky HSV | I14: =SUBTOTAL(9,I15:I42) -> 0
B15: D | D15: 6 | E15: Úpravy povrchů, podlahy a osazování výplní | I15: =SUBTOTAL(9,I16:I21) -> 0
A16: 1 | B16: K | C16: 014 | D16: 612135101 | E16: Hrubá výplň rýh ve stěnách maltou jakékoli šířky rýhy | F16: m2 | G16: 7 | I16: =ROUND(G16*H16,2) -> 0
A17: 2 | B17: K | C17: 014 | D17: 612325121 | E17: Vápenocementová štuková omítka rýh ve stěnách šířky do 150 mm | F17: m2 | G17: 7 | I17: =ROUND(G17*H17,2) -> 0
A18: 3 | B18: K | C18: 014 | D18: 612325215 | E18: Vápenocementová hladká omítka malých ploch do 4,0 m2 na stěnách pod obklady | F18: kus | G18: 1 | I18: =ROUND(G18*H18,2) -> 0
A19: 4 | B19: K | C19: 011 | D19: 619991001 | E19: Zakrytí podlah fólií přilepenou lepící páskou | F19: m2 | G19: 134 | I19: =ROUND(G19*H19,2) -> 0
A20: 5 | B20: K | C20: 011 | D20: 619991011 | E20: Obalení konstrukcí a prvků fólií přilepenou lepící páskou | F20: m2 | G20: 45 | I20: =ROUND(G20*H20,2) -> 0
A21: 6 | B21: K | C21: 014 | D21: 632681113 | E21: Vyspravení betonových podlah rychletuhnoucím polymerem - vysprávka D přes 50 do 200 a tl 30 mm | F21: kus | G21: 80 | I21: =ROUND(G21*H21,2) -> 0
B22: D | D22: 9 | E22: Ostatní konstrukce a práce, bourání | I22: =SUBTOTAL(9,I23:I34) -> 0
A23: 7 | B23: K | C23: 014 | D23: 952901107 | E23: Čištění budov omytí dvojitých nebo zdvojených oken nebo balkonových dveří plochy do 2,5m2 | F23: m2 | G23: 38 | I23: =ROUND(G23*H23,2) -> 0
A24: 8 | B24: K | C24: 014 | D24: 952901122 | E24: Čištění budov omytí dveří nebo vrat plochy do 3,0m2 | F24: m2 | G24: 12 | I24: =ROUND(G24*H24,2) -> 0
A25: 9 | B25: K | C25: 014 | D25: 952902021 | E25: Čištění budov zametení hladkých podlah | F25: m2 | G25: =G19 -> 134 | I25: =ROUND(G25*H25,2) -> 0
A26: 10 | B26: K | C26: 014 | D26: 952902031 | E26: Čištění budov omytí hladkých podlah | F26: m2 | G26: =G25 -> 134 | I26: =ROUND(G26*H26,2) -> 0
A27: 11 | B27: K | C27: 014 | D27: 952902611 | E27: Čištění budov vysátí prachu z ostatních ploch | F27: m2 | G27: =G26 -> 134 | I27: =ROUND(G27*H27,2) -> 0
A28: 12 | B28: K | C28: 013 | D28: 974049121 | E28: Vysekání rýh v betonových zdech hl do 30 mm š do 30 mm | F28: m | G28: 120 | I28: =ROUND(G28*H28,2) -> 0
A29: 13 | B29: K | C29: 013 | D29: 974049133 | E29: Vysekání rýh v betonových zdech hl do 50 mm š do 100 mm | F29: m | G29: 5 | I29: =ROUND(G29*H29,2) -> 0
A30: 14 | B30: K | C30: 013 | D30: 974082113 | E30: Vysekání rýh pro vodiče v omítce MV nebo MVC stěn š do 50 mm | F30: m | G30: 140 | I30: =ROUND(G30*H30,2) -> 0
A31: 15 | B31: K | C31: 013 | D31: 977131115 | E31: Vrty příklepovými vrtáky D 16 mm do cihelného zdiva nebo prostého betonu | F31: m | G31: 4 | I31: =ROUND(G31*H31,2) -> 0
A32: 16 | B32: K | C32: 013 | D32: 977311112 | E32: Řezání stávajících betonových mazanin nevyztužených hl do 100 mm | F32: m | G32: 50 | I32: =ROUND(G32*H32,2) -> 0
A33: 17 | C33: vlastní | E33: Soubor prací spojený se zapravením po demontážích a po rozvodech elektra. | F33: soubor | G33: 1 | I33: =ROUND(G33*H33,2) -> 0
A34: 18 | B34: K | C34: vlastní | E34: Soubor prací spojených s vedením nového vodovodního a odpadního potrubí k demonstrační katedře vyučujícího. Cena včetně dopravy. | F34: soubor | G34: 1 | I34: =ROUND(G34*H34,2) -> 0
B35: D | D35: 997 | E35: Přesun sutě | I35: =SUBTOTAL(9,I36:I40) -> 0
A36: 19 | B36: K | C36: 013 | D36: 997013213 | E36: Vnitrostaveništní doprava suti a vybouraných hmot vodorovně do 50 m pro budovy v do 12 m ručně | F36: t | G36: 0.579 | I36: =ROUND(G36*H36,2) -> 0
A37: 20 | B37: K | C37: 241 | D37: 997241622 | E37: Naložení a složení suti | F37: t | G37: 0.579 | I37: =ROUND(G37*H37,2) -> 0
A38: 21 | B38: K | C38: 013 | D38: 997013501 | E38: Odvoz suti a vybouraných hmot na skládku nebo meziskládku do 1 km se složením | F38: t | G38: 0.579 | I38: =ROUND(G38*H38,2) -> 0
A39: 22 | B39: K | C39: 013 | D39: 997013509 | E39: Příplatek k ceně za každý započatý 1 km přes 1 km - celkem 20 km | F39: t | G39: 11.58 | I39: =ROUND(G39*H39,2) -> 0
A40: 23 | B40: K | C40: 013 | D40: 997013831 | E40: Poplatky za uložení stavebního směsného odpadu na skládce ( skládkovné) | F40: t | G40: 0.579 | I40: =ROUND(G40*H40,2) -> 0
B41: D | D41: 998 | E41: Přesun hmot | I41: =SUBTOTAL(9,I42:I42) -> 0
A42: 24 | B42: K | C42: 011 | D42: 998011002 | E42: Přesun hmot pro budovy zděné v do 12 m | F42: t | G42: 2 | I42: =ROUND(G42*H42,2) -> 0
B43: D | D43: PSV | E43: Práce a dodávky PSV | I43: =SUBTOTAL(9,I44:I86) -> 0
...

Sheet Přírodověda 2.NP
A1: SOUPIS PRACÍ A DODÁVEK A SLUŽEB vč VÝKAZU VÝMĚR
A2: Stavba: | C2: Přírodovědná učebna 2. NP
A3: Objekt: | C3: Základní škola Tábor, Zborovská 2696
A4: Část:
A5: JKSO:
A7: Objednatel: | C7: Základní škola Tábor, Zborovská 2696, 39003 Tábor
A8: Zhotovitel:
A9: Datum:
A11: P.Č. | B11: TV | C11: KCN | D11: Kód položky | E11: Popis / minimální technické parametry | F11: MJ | G11: Množství celkem | H11: Cena jednotková bez DPH | I11: Cena celkem bez DPH
A12: 1 | B12: 2 | C12: 3 | D12: 4 | E12: 5 | F12: 6 | G12: 7 | H12: 8 | I12: 9
B14: D | D14: HSV | E14: Práce a dodávky HSV | I14: =SUBTOTAL(9,I15:I42) -> 0
B15: D | D15: 6 | E15: Úpravy povrchů, podlahy a osazování výplní | I15: =SUBTOTAL(9,I16:I21) -> 0
A16: 1 | B16: K | C16: 014 | D16: 612135101 | E16: Hrubá výplň rýh ve stěnách maltou jakékoli šířky rýhy | F16: m2 | G16: 4 | I16: =ROUND(G16*H16,2) -> 0
A17: 2 | B17: K | C17: 014 | D17: 612325121 | E17: Vápenocementová štuková omítka rýh ve stěnách šířky do 150 mm | F17: m2 | G17: 5 | I17: =ROUND(G17*H17,2) -> 0
A18: 3 | B18: K | C18: 014 | D18: 612325215 | E18: Vápenocementová hladká omítka malých ploch do 4,0 m2 na stěnách pod obklady | F18: kus | G18: 1 | I18: =ROUND(G18*H18,2) -> 0
A19: 4 | B19: K | C19: 011 | D19: 619991001 | E19: Zakrytí podlah fólií přilepenou lepící páskou | F19: m2 | G19: 82 | I19: =ROUND(G19*H19,2) -> 0
A20: 5 | B20: K | C20: 011 | D20: 619991011 | E20: Obalení konstrukcí a prvků fólií přilepenou lepící páskou | F20: m2 | G20: 25 | I20: =ROUND(G20*H20,2) -> 0
A21: 6 | B21: K | C21: 014 | D21: 632681113 | E21: Vyspravení betonových podlah rychletuhnoucím polymerem - vysprávka D přes 50 do 200 a tl 30 mm | F21: kus | G21: 45 | I21: =ROUND(G21*H21,2) -> 0
B22: D | D22: 9 | E22: Ostatní konstrukce a práce, bourání | I22: =SUBTOTAL(9,I23:I34) -> 0
A23: 7 | B23: K | C23: 014 | D23: 952901107 | E23: Čištění budov omytí dvojitých nebo zdvojených oken nebo balkonových dveří plochy do 2,5m2 | F23: m2 | G23: 25 | I23: =ROUND(G23*H23,2) -> 0
A24: 8 | B24: K | C24: 014 | D24: 952901122 | E24: Čištění budov omytí dveří nebo vrat plochy do 3,0m2 | F24: m2 | G24: 4 | I24: =ROUND(G24*H24,2) -> 0
A25: 9 | B25: K | C25: 014 | D25: 952902021 | E25: Čištění budov zametení hladkých podlah | F25: m2 | G25: =G19 -> 82 | I25: =ROUND(G25*H25,2) -> 0
A26: 10 | B26: K | C26: 014 | D26: 952902031 | E26: Čištění budov omytí hladkých podlah | F26: m2 | G26: =G25 -> 82 | I26: =ROUND(G26*H26,2) -> 0
A27: 11 | B27: K | C27: 014 | D27: 952902611 | E27: Čištění budov vysátí prachu z ostatních ploch | F27: m2 | G27: =G26 -> 82 | I27: =ROUND(G27*H27,2) -> 0
A28: 12 | B28: K | C28: 013 | D28: 974049121 | E28: Vysekání rýh v betonových zdech hl do 30 mm š do 30 mm | F28: m | G28: 90 | I28: =ROUND(G28*H28,2) -> 0
A29: 13 | B29: K | C29: 013 | D29: 974049133 | E29: Vysekání rýh v betonových zdech hl do 50 mm š do 100 mm | F29: m | G29: 5 | I29: =ROUND(G29*H29,2) -> 0
A30: 14 | B30: K | C30: 013 | D30: 974082113 | E30: Vysekání rýh pro vodiče v omítce MV nebo MVC stěn š do 50 mm | F30: m | G30: 80 | I30: =ROUND(G30*H30,2) -> 0
A31: 15 | B31: K | C31: 013 | D31: 977131115 | E31: Vrty příklepovými vrtáky D 16 mm do cihelného zdiva nebo prostého betonu | F31: m | G31: 2 | I31: =ROUND(G31*H31,2) -> 0
A32: 16 | B32: K | C32: 013 | D32: 977311112 | E32: Řezání stávajících betonových mazanin nevyztužených hl do 100 mm | F32: m | G32: 45 | I32: =ROUND(G32*H32,2) -> 0
A33: 17 | C33: vlastní | E33: Soubor prací spojený se zapravením po demontážích a po rozvodech elektra. | F33: soubor | G33: 1 | I33: =ROUND(G33*H33,2) -> 0
A34: 18 | B34: K | C34: vlastní | E34: Soubor prací spojených s vedením nového vodovodního a odpadního potrubí k demonstrační katedře vyučujícího. Cena včetně dopravy. | F34: soubor | G34: 1 | I34: =ROUND(G34*H34,2) -> 0
B35: D | D35: 997 | E35: Přesun sutě | I35: =SUBTOTAL(9,I36:I40) -> 0
A36: 19 | B36: K | C36: 013 | D36: 997013213 | E36: Vnitrostaveništní doprava suti a vybouraných hmot vodorovně do 50 m pro budovy v do 12 m ručně | F36: t | G36: 0.397 | I36: =ROUND(G36*H36,2) -> 0
A37: 20 | B37: K | C37: 241 | D37: 997241622 | E37: Naložení a složení suti | F37: t | G37: 0.397 | I37: =ROUND(G37*H37,2) -> 0
A38: 21 | B38: K | C38: 013 | D38: 997013501 | E38: Odvoz suti a vybouraných hmot na skládku nebo meziskládku do 1 km se složením | F38: t | G38: 0.397 | I38: =ROUND(G38*H38,2) -> 0
A39: 22 | B39: K | C39: 013 | D39: 997013509 | E39: Příplatek k ceně za každý započatý 1 km přes 1 km - celkem 20 km | F39: t | G39: 7.94 | I39: =ROUND(G39*H39,2) -> 0
A40: 23 | B40: K | C40: 013 | D40: 997013831 | E40: Poplatky za uložení stavebního směsného odpadu na skládce ( skládkovné) | F40: t | G40: 0.397 | I40: =ROUND(G40*H40,2) -> 0
B41: D | D41: 998 | E41: Přesun hmot | I41: =SUBTOTAL(9,I42:I42) -> 0
A42: 24 | B42: K | C42: 011 | D42: 998011002 | E42: Přesun hmot pro budovy zděné v do 12 m | F42: t | G42: 2 | I42: =ROUND(G42*H42,2) -> 0
B43: D | D43: PSV | E43: Práce a dodávky PSV | I43: =SUBTOTAL(9,I44:I86) -> 0
...
