Workbook
Name CelkemDPHVypocet: Stavba!$H$43
Name CenaCelkem: Stavba!$G$29
Name CenaCelkemBezDPH: Stavba!$G$28
Name CenaCelkemVypocet: Stavba!$I$43
Name cisloobjektu: Stavba!$D$3
Name CisloRozpoctu: '[1]Krycí list'!$C$2
Name CisloStavby: Stavba!$D$2
Name cislostavby: '[1]Krycí list'!$A$7
Name CisloStavebnihoRozpoctu: Stavba!$D$4
Name dadresa: Stavba!$D$12:$G$12
Name DIČ: Stavba!$I$12
Name dmisto: Stavba!$E$13:$G$13
Name DPHSni: Stavba!$G$24
Name DPHZakl: Stavba!$G$26
Name dpsc: Stavba!$D$13
Name IČO: Stavba!$I$11
Name Mena: Stavba!$J$29
Name MistoStavby: Stavba!$D$4
Name nazevobjektu: Stavba!$E$3
Name NazevRozpoctu: '[1]Krycí list'!$D$2
Name NazevStavby: Stavba!$E$2
Name nazevstavby: '[1]Krycí list'!$C$7
Name NazevStavebnihoRozpoctu: Stavba!$E$4
Name oadresa: Stavba!$D$6
Name Objednatel: Stavba!$D$5
Name Objekt: Stavba!$B$38
Name odic: Stavba!$I$6
Name oico: Stavba!$I$5
Name omisto: Stavba!$E$7
Name onazev: Stavba!$D$6
Name opsc: Stavba!$D$7
Name padresa: Stavba!$D$9
Name pdic: Stavba!$I$9
Name pico: Stavba!$I$8
Name pmisto: Stavba!$E$10
Name PocetMJ: #REF!
Name PoptavkaID: Stavba!$A$1
Name pPSC: Stavba!$D$10
Name Projektant: Stavba!$D$8
Name SazbaDPH1: Stavba!$E$23
Name SazbaDPH1: '[1]Krycí list'!$C$30
Name SazbaDPH2: Stavba!$E$25
Name SazbaDPH2: '[1]Krycí list'!$C$32
Name SloupecCC: #REF!
Name SloupecCisloPol: #REF!
Name SloupecJC: #REF!
Name SloupecMJ: #REF!
Name SloupecMnozstvi: #REF!
Name SloupecNazPol: #REF!
Name SloupecPC: #REF!
Name Vypracoval: Stavba!$D$14
Name ZakladDPHSni: Stavba!$G$23
Name ZakladDPHSniVypocet: Stavba!$F$43
Name ZakladDPHZakl: Stavba!$G$25
Name ZakladDPHZaklVypocet: Stavba!$G$43
Name ZaObjednatele: Stavba!$G$34
Name Zaokrouhleni: Stavba!$G$27
Name ZaZhotovitele: Stavba!$D$34
Name Zhotovitel: Stavba!$D$11:$G$11

Sheet Pokyny pro vyplnění
A1: Pokyny pro vyplnění
A2: Ve všech listech tohoto souboru můžete měnit pouze buňky s modrým pozadím. Jedná se o tyto údaje : - údaje o firmě - jednotkové ceny položek zadané na maximálně dvě desetinná místa

Sheet Stavba
A1: #RTSROZP# | B1: Soupis stavebních prací, dodávek a služeb
B2: Stavba: | D2: 245Z074 | E2: Jasanová 4,6,8 - rekonstrukce stoupacích rozvodů vody
B3: Objekt: | D3: D.1 | E3: Zdravotechnické instalace
A4: 3477662 | B4: Rozpočet: | D4: D.1 | E4: Zdravotechnické instalace
B5: Zadavatel | H5: IČO:
H6: DIČ:
B8: Projektant: | H8: IČO:
H9: DIČ:
B11: Zhotovitel: | H11: IČO:
H12: DIČ:
B14: Vypracoval:
B15: Rozpis ceny | I15: Celkem
A16: HSV | B16: HSV | I16: =SUMIF(F53:F63,A16,I53:I63)+SUMIF(F53:F63,"PSU",I53:I63) -> 0
A17: PSV | B17: PSV | I17: =SUMIF(F53:F63,A17,I53:I63) -> 0
A18: MON | B18: MON | I18: =SUMIF(F53:F63,A18,I53:I63) -> 0
A19: VN | B19: Vedlejší náklady | I19: =SUMIF(F53:F63,A19,I53:I63) -> 0
A20: ON | B20: Ostatní náklady | I20: =SUMIF(F53:F63,A20,I53:I63) -> 0
B21: Celkem | I21: =SUM(I16:J20) -> 0
B22: Rekapitulace daní
B23: Základ pro sníženou DPH | E23: 12 | F23: % | G23: =ZakladDPHSniVypocet -> 0 | J23: =Mena -> CZK
B24: Snížená DPH | E24: =SazbaDPH1 -> 12 | F24: % | G24: =I23*E23/100 -> 0 | J24: =Mena -> CZK
B25: Základ pro základní DPH | E25: 21 | F25: % | G25: =ZakladDPHZaklVypocet -> 0 | J25: =Mena -> CZK
B26: Základní DPH | E26: =SazbaDPH2 -> 21 | F26: % | G26: =I25*E25/100 -> 0 | J26: =Mena -> CZK
A27: =ZakladDPHSni+ZakladDPHZakl -> 0 | B27: Zaokrouhlení | G27: =CenaCelkemBezDPH-(ZakladDPHSni+ZakladDPHZakl) -> 0 | J27: =Mena -> CZK
A28: =(A27-INT(A27))*100 -> 0 | B28: Cena celkem bez DPH | G28: =A27 -> 0 | J28: =Mena -> CZK
B29: Cena celkem s DPH | G29: =ZakladDPHSni+DPHSni+ZakladDPHZakl+DPHZakl+Zaokrouhleni -> 0 | J29: CZK
C32: v | F32: dne
D35: Za zhotovitele | H35: Za objednatele
B37: Rekapitulace dílčích částí
A38: #CASTI>> | B38: Číslo | C38: Název | F38: =B23 -> Základ pro sníženou DPH | G38: =B25 -> Základ pro základní DPH | H38: DPH celkem | I38: Cena celkem | J38: %
A39: 1 | B39: Stavba | F39: ='D.1 D.1 Pol'!AE151 -> 0 | G39: ='D.1 D.1 Pol'!AF151 -> 0 | I39: =F39+G39+H39 -> 0 | J39: =IF(CenaCelkemVypocet=0,"",I39/CenaCelkemVypocet*100)
A40: 2 | C40: Stavební objekt
A41: 2 | B41: D.1 | C41: Zdravotechnické instalace | F41: ='D.1 D.1 Pol'!AE151 -> 0 | G41: ='D.1 D.1 Pol'!AF151 -> 0 | I41: =F41+G41+H41 -> 0 | J41: =IF(CenaCelkemVypocet=0,"",I41/CenaCelkemVypocet*100)
A42: 3 | B42: D.1 | C42: Zdravotechnické instalace | F42: ='D.1 D.1 Pol'!AE151 -> 0 | G42: ='D.1 D.1 Pol'!AF151 -> 0 | I42: =F42+G42+H42 -> 0 | J42: =IF(CenaCelkemVypocet=0,"",I42/CenaCelkemVypocet*100)
B43: Celkem za stavbu | F43: =SUMIF(A39:A42,"=1",F39:F42) -> 0 | G43: =SUMIF(A39:A42,"=1",G39:G42) -> 0 | H43: =SUMIF(A39:A42,"=1",H39:H42) -> 0 | I43: =SUMIF(A39:A42,"=1",I39:I42) -> 0 | J43: =SUMIF(A39:A42,"=1",J39:J42) -> 0
A45: #POPS | B45: Popis stavby: 245Z074 - Jasanová 4,6,8 - rekonstrukce stoupacích rozvodů vody
A46: #POPO | B46: Popis objektu: D.1 - Zdravotechnické instalace
A47: #POPR | B47: Popis rozpočtu: D.1 - Zdravotechnické instalace
B50: Rekapitulace dílů
B52: Číslo | C52: Název | F52: Typ dílu | I52: Celkem | J52: %
...

Sheet VzorPolozky
A1: Položkový rozpočet
A2: S:
A3: O:
A4: R:

Sheet D.1 D.1 Pol
A1: Položkový soupis prací a dodávek | AG1: #TypZaznamu#
A2: S: | B2: 245Z074 | C2: Jasanová 4,6,8 - rekonstrukce stoupacích rozvodů vody | AG2: STA
A3: O: | B3: D.1 | C3: Zdravotechnické instalace | AC3: STA | AG3: OBJ
A4: R: | B4: D.1 | C4: Zdravotechnické instalace | AG4: ROZ
A6: P.č. | B6: Číslo položky | C6: Název položky | D6: MJ | E6: Množství | F6: Cena / MJ | G6: Celkem | H6: Dodávka | I6: Dodávka celk. | J6: Montáž | K6: Montáž celk. | L6: DPH | M6: Cena s DPH | N6: Hmotnost / MJ | O6: Hmotnost celk.(t) | P6: Dem. hmotnost / MJ | Q6: Dem. hmotnost celk.(t) | R6: Ceník | S6: Cen. soustava / platnost | T6: Cenová úroveň | U6: Nhod / MJ | V6: Nhod celk. | W6: Dodavatel | X6: Typ položky | Y6: Stav položky
A8: Díl: | B8: 6 | C8: Úpravy povrchu, podlahy | G8: =SUMIF(AG9:AG22,"<>NOR",G9:G22) -> 0 | I8: =SUM(I9:I22) -> 0 | K8: =SUM(K9:K22) -> 0 | M8: =SUM(M9:M22) -> 0 | O8: =SUM(O9:O22) -> 0.36 | Q8: =SUM(Q9:Q22) -> 0.51 | V8: =SUM(V9:V22) -> 7.92 | AG8: DIL
A9: 1 | B9: 340271507R00 | C9: Zazdívka otvorů příček z pórobetonových tvárnic plochy od 0,25 m2 do 1 m2, tloušťka zdiva 75 mm | D9: m3 | E9: 0.27 | G9: =ROUND(E9*F9,2) -> 0 | I9: =ROUND(E9*H9,2) -> 0 | K9: =ROUND(E9*J9,2) -> 0 | L9: 12 | M9: =G9*(1+L9/100) -> 0 | N9: 0.76474 | O9: =ROUND(E9*N9,2) -> 0.21 | P9: 0 | Q9: =ROUND(E9*P9,2) -> 0 | R9: 801-4 | S9: RTS 24/ II | T9: RTS 24/ II | U9: 3.92919 | V9: =ROUND(E9*U9,2) -> 1.06 | X9: Práce | Y9: Běžná | AG9: POL1_
C10: včetně pomocného pracovního lešení | AG10: SPI
C11: 1S : 0,2*0,6*3*0,075 | E11: 0.027 | AG11: VV | AH11: 0
C12: 4NP : 0,6*0,6*0,075*9 | E12: 0.243 | AG12: VV | AH12: 0
A13: 2 | B13: 612401391RT2 | C13: Omítky malých ploch vnitřních stěn přes 0,25 do 1 m2, vápennou štukovou omítkou | D13: kus | E13: 3 | G13: =ROUND(E13*F13,2) -> 0 | I13: =ROUND(E13*H13,2) -> 0 | K13: =ROUND(E13*J13,2) -> 0 | L13: 12 | M13: =G13*(1+L13/100) -> 0 | N13: 0.03562 | O13: =ROUND(E13*N13,2) -> 0.11 | P13: 0 | Q13: =ROUND(E13*P13,2) -> 0 | R13: 801-4 | S13: RTS 24/ II | T13: RTS 24/ II | U13: 0.88293 | V13: =ROUND(E13*U13,2) -> 2.65 | X13: Práce | Y13: Běžná | AG13: POL1_
C14: jakoukoliv maltou, z pomocného pracovního lešení o výšce podlahy do 1900 mm a pro zatížení do 1,5 kPa, | AG14: SPI | BA14: =C14 -> jakoukoliv maltou, z pomocného pracovního lešení o výšce podlahy do 1900 mm a pro zatížení do 1,5 kPa,
A15: 3 | B15: 612409991RT2 | C15: Začištění omítek kolem oken, dveří a obkladů apod. s použitím suché maltové směsi | D15: m | E15: 11.4 | G15: =ROUND(E15*F15,2) -> 0 | I15: =ROUND(E15*H15,2) -> 0 | K15: =ROUND(E15*J15,2) -> 0 | L15: 12 | M15: =G15*(1+L15/100) -> 0 | N15: 0.00238 | O15: =ROUND(E15*N15,2) -> 0.03 | P15: 0 | Q15: =ROUND(E15*P15,2) -> 0 | R15: 801-4 | S15: RTS 24/ II | T15: RTS 24/ II | U15: 0.18233 | V15: =ROUND(E15*U15,2) -> 2.08 | X15: Práce | Y15: Běžná | AG15: POL1_
C16: 1S : (0,6+0,4)*2*3 | E16: 6 | AG16: VV | AH16: 0
C17: 4NP : 0,6*9 | E17: 5.4 | AG17: VV | AH17: 0
A18: 4 | B18: 971038521R00 | C18: Vybourání otvorů ve zdivu cihelném z dutých tvárnic nebo příčkovek plochy do 1 m2, tloušťky do 100 mm | D18: m2 | E18: 4.32 | G18: =ROUND(E18*F18,2) -> 0 | I18: =ROUND(E18*H18,2) -> 0 | K18: =ROUND(E18*J18,2) -> 0 | L18: 12 | M18: =G18*(1+L18/100) -> 0 | N18: 0.00165 | O18: =ROUND(E18*N18,2) -> 0.01 | P18: 0.117 | Q18: =ROUND(E18*P18,2) -> 0.51 | R18: 801-3 | S18: RTS 24/ II | T18: RTS 24/ II | U18: 0.493 | V18: =ROUND(E18*U18,2) -> 2.13 | X18: Práce | Y18: Běžná | AG18: POL1_
C19: základovém nebo nadzákladovém, | AG19: SPI
C20: Včetně pomocného lešení o výšce podlahy do 1900 mm a pro zatížení do 1,5 kPa (150 kg/m2). | AG20: POP
C21: 1S : 0,6*0,6*3 | E21: 1.08 | AG21: VV | AH21: 0
C22: 4NP : 0,6*0,6*9 | E22: 3.24 | AG22: VV | AH22: 0
A23: Díl: | B23: 95 | C23: Dokončovací konstrukce na pozemních stavbách | G23: =SUMIF(AG24:AG25,"<>NOR",G24:G25) -> 0 | I23: =SUM(I24:I25) -> 0 | K23: =SUM(K24:K25) -> 0 | M23: =SUM(M24:M25) -> 0 | O23: =SUM(O24:O25) -> 0.01 | Q23: =SUM(Q24:Q25) -> 0 | V23: =SUM(V24:V25) -> 95.58 | AG23: DIL
A24: 5 | B24: 952901114R00 | C24: Vyčištění budov a ostatních objektů budov bytové nebo občanské výstavby - zametení a umytí podlah, dlažeb, obkladů, schodů v místnostech, chodbách a schodištích, vyčištění a umytí oken, dveří s rámy, zárubněmi, umytí a vyčištění jiných zasklených a natíraných ploch a zařizovacích předmětů před předáním do užívání světlá výška podlaží přes 4 m | D24: m2 | E24: 270 | G24: =ROUND(E24*F24,2) -> 0 | I24: =ROUND(E24*H24,2) -> 0 | K24: =ROUND(E24*J24,2) -> 0 | L24: 12 | M24: =G24*(1+L24/100) -> 0 | N24: 4e-05 | O24: =ROUND(E24*N24,2) -> 0.01 | P24: 0 | Q24: =ROUND(E24*P24,2) -> 0 | R24: 801-1 | S24: RTS 24/ II | T24: RTS 24/ II | U24: 0.354 | V24: =ROUND(E24*U24,2) -> 95.58 | X24: Práce | Y24: Běžná | AG24: POL1_
C25: 5*6*9 | E25: 270 | AG25: VV | AH25: 0
A26: Díl: | B26: 99 | C26: Staveništní přesun hmot | G26: =SUMIF(AG27:AG28,"<>NOR",G27:G28) -> 0 | I26: =SUM(I27:I28) -> 0 | K26: =SUM(K27:K28) -> 0 | M26: =SUM(M27:M28) -> 0 | O26: =SUM(O27:O28) -> 0 | Q26: =SUM(Q27:Q28) -> 0 | V26: =SUM(V27:V28) -> 0.92 | AG26: DIL
A27: 6 | B27: 999281111R00 | C27: Přesun hmot pro opravy a údržbu objektů pro opravy a údržbu dosavadních objektů včetně vnějších plášťů výšky do 25 m, | D27: t | E27: 0.3584 | G27: =ROUND(E27*F27,2) -> 0 | I27: =ROUND(E27*H27,2) -> 0 | K27: =ROUND(E27*J27,2) -> 0 | L27: 12 | M27: =G27*(1+L27/100) -> 0 | N27: 0 | O27: =ROUND(E27*N27,2) -> 0 | P27: 0 | Q27: =ROUND(E27*P27,2) -> 0 | R27: 801-4 | S27: RTS 24/ II | T27: RTS 24/ II | U27: 2.577 | V27: =ROUND(E27*U27,2) -> 0.92 | X27: Přesun hmot | Y27: Běžná | AG27: POL7_
C28: oborů 801, 803, 811 a 812 | AG28: SPI
A29: Díl: | B29: HZS+ZP | C29: HZS+ZP | G29: =SUMIF(AG30:AG36,"<>NOR",G30:G36) -> 0 | I29: =SUM(I30:I36) -> 0 | K29: =SUM(K30:K36) -> 0 | M29: =SUM(M30:M36) -> 0 | O29: =SUM(O30:O36) -> 0 | Q29: =SUM(Q30:Q36) -> 0 | V29: =SUM(V30:V36) -> 154.8 | AG29: DIL
A30: 7 | B30: 545112995R001 | C30: Příplatek za ztíženou výměnu potrubí při rekonstrukci | D30: m | E30: 720 | G30: =ROUND(E30*F30,2) -> 0 | I30: =ROUND(E30*H30,2) -> 0 | K30: =ROUND(E30*J30,2) -> 0 | L30: 12 | M30: =G30*(1+L30/100) -> 0 | N30: 0 | O30: =ROUND(E30*N30,2) -> 0 | P30: 0 | Q30: =ROUND(E30*P30,2) -> 0 | S30: Vlastní | T30: RTS 23/ I | U30: 0.065 | V30: =ROUND(E30*U30,2) -> 46.8 | X30: Práce | Y30: Běžná | AG30: POL1_
C31: Odkaz na mn. položky pořadí 14 : 342,00000 | E31: 342 | AG31: VV | AH31: 5
C32: Odkaz na mn. položky pořadí 15 : 234,00000 | E32: 234 | AG32: VV | AH32: 5
C33: Odkaz na mn. položky pořadí 16 : 144,00000 | E33: 144 | AG33: VV | AH33: 5
A34: 8 | B34: 909 R00 | C34: Hzs-nezmeritelne stavebni prace | D34: h | E34: 54 | G34: =ROUND(E34*F34,2) -> 0 | I34: =ROUND(E34*H34,2) -> 0 | K34: =ROUND(E34*J34,2) -> 0 | L34: 12 | M34: =G34*(1+L34/100) -> 0 | N34: 0 | O34: =ROUND(E34*N34,2) -> 0 | P34: 0 | Q34: =ROUND(E34*P34,2) -> 0 | R34: Prav.M | S34: RTS 24/ II | T34: RTS 24/ II | U34: 1 | V34: =ROUND(E34*U34,2) -> 54 | X34: HZS | Y34: Běžná | AG34: POL10_
A35: 9 | B35: 900 RT31 | C35: HZS, Nezměřitelné práce při přepojování vodovodního potrubí | D35: h | E35: 54 | G35: =ROUND(E35*F35,2) -> 0 | I35: =ROUND(E35*H35,2) -> 0 | K35: =ROUND(E35*J35,2) -> 0 | L35: 12 | M35: =G35*(1+L35/100) -> 0 | N35: 0 | O35: =ROUND(E35*N35,2) -> 0 | P35: 0 | Q35: =ROUND(E35*P35,2) -> 0 | S35: Vlastní | T35: Indiv | U35: 1 | V35: =ROUND(E35*U35,2) -> 54 | X35: HZS | Y35: Běžná | AG35: POL10_
A36: 10 | B36: ON1 | C36: Odstavování, vypuštění, napuštění vodovodního potrubí | D36: hod | E36: 36 | G36: =ROUND(E36*F36,2) -> 0 | I36: =ROUND(E36*H36,2) -> 0 | K36: =ROUND(E36*J36,2) -> 0 | L36: 12 | M36: =G36*(1+L36/100) -> 0 | N36: 0 | O36: =ROUND(E36*N36,2) -> 0 | P36: 0 | Q36: =ROUND(E36*P36,2) -> 0 | S36: Vlastní | T36: Indiv | U36: 0 | V36: =ROUND(E36*U36,2) -> 0 | X36: HZS | Y36: Běžná | AG36: POL10_
A37: Díl: | B37: 722 | C37: Vnitřní vodovod | G37: =SUMIF(AG38:AG104,"<>NOR",G38:G104) -> 0 | I37: =SUM(I38:I104) -> 0 | K37: =SUM(K38:K104) -> 0 | M37: =SUM(M38:M104) -> 0 | O37: =SUM(O38:O104) -> 0.74 | Q37: =SUM(Q38:Q104) -> 1.33 | V37: =SUM(V38:V104) -> 559.69 | AG37: DIL
A38: 11 | B38: 722170804R00 | C38: Demontáž potrubí z trubek z PH tlakových přes D 32 mm do D 63 mm | D38: m | E38: 720 | G38: =ROUND(E38*F38,2) -> 0 | I38: =ROUND(E38*H38,2) -> 0 | K38: =ROUND(E38*J38,2) -> 0 | L38: 12 | M38: =G38*(1+L38/100) -> 0 | N38: 0 | O38: =ROUND(E38*N38,2) -> 0 | P38: 0.00029 | Q38: =ROUND(E38*P38,2) -> 0.21 | R38: 800-721 | S38: RTS 24/ II | T38: RTS 24/ II | U38: 0.083 | V38: =ROUND(E38*U38,2) -> 59.76 | X38: Práce | Y38: Běžná | AG38: POL1_
C39: Odkaz na mn. položky pořadí 14 : 342,00000 | E39: 342 | AG39: VV | AH39: 5
C40: Odkaz na mn. položky pořadí 15 : 234,00000 | E40: 234 | AG40: VV | AH40: 5
C41: Odkaz na mn. položky pořadí 16 : 144,00000 | E41: 144 | AG41: VV | AH41: 5
A42: 12 | B42: 722172913R00 | C42: Opravy vodovodního potrubí z plastových trubek propojení plastového potrubí polyfuzí, D 25 mm | D42: kus | E42: 102 | G42: =ROUND(E42*F42,2) -> 0 | I42: =ROUND(E42*H42,2) -> 0 | K42: =ROUND(E42*J42,2) -> 0 | L42: 12 | M42: =G42*(1+L42/100) -> 0 | N42: 0 | O42: =ROUND(E42*N42,2) -> 0 | P42: 0 | Q42: =ROUND(E42*P42,2) -> 0 | R42: 800-721 | S42: RTS 24/ II | T42: RTS 24/ II | U42: 0.17697 | V42: =ROUND(E42*U42,2) -> 18.05 | X42: Práce | Y42: Běžná | AG42: POL1_
...
