Workbook
Name CelkemDPHVypocet: Stavba!$H$43
Name CenaCelkem: Stavba!$G$29
Name CenaCelkemBezDPH: Stavba!$G$28
Name CenaCelkemVypocet: Stavba!$I$43
Name cisloobjektu: Stavba!$D$3
Name CisloRozpoctu: '[1]Krycí list'!$C$2
Name CisloStavby: Stavba!$D$2
Name cislostavby: '[1]Krycí list'!$A$7
Name CisloStavebnihoRozpoctu: Stavba!$D$4
Name dadresa: Stavba!$D$12:$G$12
Name DIČ: Stavba!$I$12
Name dmisto: Stavba!$E$13:$G$13
Name DPHSni: Stavba!$G$24
Name DPHZakl: Stavba!$G$26
Name dpsc: Stavba!$D$13
Name IČO: Stavba!$I$11
Name Mena: Stavba!$J$29
Name MistoStavby: Stavba!$D$4
Name nazevobjektu: Stavba!$E$3
Name NazevRozpoctu: '[1]Krycí list'!$D$2
Name NazevStavby: Stavba!$E$2
Name nazevstavby: '[1]Krycí list'!$C$7
Name NazevStavebnihoRozpoctu: Stavba!$E$4
Name oadresa: Stavba!$D$6
Name Objednatel: Stavba!$D$5
Name Objekt: Stavba!$B$38
Name odic: Stavba!$I$6
Name oico: Stavba!$I$5
Name omisto: Stavba!$E$7
Name onazev: Stavba!$D$6
Name opsc: Stavba!$D$7
Name padresa: Stavba!$D$9
Name pdic: Stavba!$I$9
Name pico: Stavba!$I$8
Name pmisto: Stavba!$E$10
Name PocetMJ: #REF!
Name PoptavkaID: Stavba!$A$1
Name pPSC: Stavba!$D$10
Name Projektant: Stavba!$D$8
Name SazbaDPH1: Stavba!$E$23
Name SazbaDPH1: '[1]Krycí list'!$C$30
Name SazbaDPH2: Stavba!$E$25
Name SazbaDPH2: '[1]Krycí list'!$C$32
Name SloupecCC: #REF!
Name SloupecCisloPol: #REF!
Name SloupecJC: #REF!
Name SloupecMJ: #REF!
Name SloupecMnozstvi: #REF!
Name SloupecNazPol: #REF!
Name SloupecPC: #REF!
Name Vypracoval: Stavba!$D$14
Name ZakladDPHSni: Stavba!$G$23
Name ZakladDPHSniVypocet: Stavba!$F$43
Name ZakladDPHZakl: Stavba!$G$25
Name ZakladDPHZaklVypocet: Stavba!$G$43
Name ZaObjednatele: Stavba!$G$34
Name Zaokrouhleni: Stavba!$G$27
Name ZaZhotovitele: Stavba!$D$34
Name Zhotovitel: Stavba!$D$11:$G$11

Sheet Pokyny pro vyplnění
A1: Pokyny pro vyplnění
A2: Ve všech listech tohoto souboru můžete měnit pouze buňky s modrým pozadím. Jedná se o tyto údaje : - údaje o firmě - jednotkové ceny položek zadané na maximálně dvě desetinná místa

Sheet Stavba
A1: #RTSROZP# | B1: Soupis stavebních prací, dodávek a služeb
B2: Stavba: | D2: 245Z074 | E2: Jasanová 4,6,8 - rekonstrukce stoupacích rozvodů vody
B3: Objekt: | D3: D.1 | E3: Zdravotechnické instalace
A4: 3477662 | B4: Rozpočet: | D4: D.1 | E4: Zdravotechnické instalace
B5: Zadavatel | H5: IČO:
H6: DIČ:
B8: Projektant: | H8: IČO:
H9: DIČ:
B11: Zhotovitel: | H11: IČO:
H12: DIČ:
B14: Vypracoval:
B15: Rozpis ceny | I15: Celkem
A16: HSV | B16: HSV | I16: =SUMIF(F53:F63,A16,I53:I63)+SUMIF(F53:F63,"PSU",I53:I63) -> 0
A17: PSV | B17: PSV | I17: =SUMIF(F53:F63,A17,I53:I63) -> 0
A18: MON | B18: MON | I18: =SUMIF(F53:F63,A18,I53:I63) -> 0
A19: VN | B19: Vedlejší náklady | I19: =SUMIF(F53:F63,A19,I53:I63) -> 0
A20: ON | B20: Ostatní náklady | I20: =SUMIF(F53:F63,A20,I53:I63) -> 0
B21: Celkem | I21: =SUM(I16:J20) -> 0
B22: Rekapitulace daní
B23: Základ pro sníženou DPH | E23: 12 | F23: % | G23: =ZakladDPHSniVypocet -> 0 | J23: =Mena -> CZK
B24: Snížená DPH | E24: =SazbaDPH1 -> 12 | F24: % | G24: =I23*E23/100 -> 0 | J24: =Mena -> CZK
B25: Základ pro základní DPH | E25: 21 | F25: % | G25: =ZakladDPHZaklVypocet -> 0 | J25: =Mena -> CZK
B26: Základní DPH | E26: =SazbaDPH2 -> 21 | F26: % | G26: =I25*E25/100 -> 0 | J26: =Mena -> CZK
A27: =ZakladDPHSni+ZakladDPHZakl -> 0 | B27: Zaokrouhlení | G27: =CenaCelkemBezDPH-(ZakladDPHSni+ZakladDPHZakl) -> 0 | J27: =Mena -> CZK
A28: =(A27-INT(A27))*100 -> 0 | B28: Cena celkem bez DPH | G28: =A27 -> 0 | J28: =Mena -> CZK
B29: Cena celkem s DPH | G29: =ZakladDPHSni+DPHSni+ZakladDPHZakl+DPHZakl+Zaokrouhleni -> 0 | J29: CZK
C32: v | F32: dne
D35: Za zhotovitele | H35: Za objednatele
B37: Rekapitulace dílčích částí
A38: #CASTI>> | B38: Číslo | C38: Název | F38: =B23 -> Základ pro sníženou DPH | G38: =B25 -> Základ pro základní DPH | H38: DPH celkem | I38: Cena celkem | J38: %
A39: 1 | B39: Stavba | F39: ='D.1 D.1 Pol'!AE151 -> 0 | G39: ='D.1 D.1 Pol'!AF151 -> 0 | I39: =F39+G39+H39 -> 0 | J39: =IF(CenaCelkemVypocet=0,"",I39/CenaCelkemVypocet*100)
A40: 2 | C40: Stavební objekt
A41: 2 | B41: D.1 | C41: Zdravotechnické instalace | F41: ='D.1 D.1 Pol'!AE151 -> 0 | G41: ='D.1 D.1 Pol'!AF151 -> 0 | I41: =F41+G41+H41 -> 0 | J41: =IF(CenaCelkemVypocet=0,"",I41/CenaCelkemVypocet*100)
A42: 3 | B42: D.1 | C42: Zdravotechnické instalace | F42: ='D.1 D.1 Pol'!AE151 -> 0 | G42: ='D.1 D.1 Pol'!AF151 -> 0 | I42: =F42+G42+H42 -> 0 | J42: =IF(CenaCelkemVypocet=0,"",I42/CenaCelkemVypocet*100)
B43: Celkem za stavbu | F43: =SUMIF(A39:A42,"=1",F39:F42) -> 0 | G43: =SUMIF(A39:A42,"=1",G39:G42) -> 0 | H43: =SUMIF(A39:A42,"=1",H39:H42) -> 0 | I43: =SUMIF(A39:A42,"=1",I39:I42) -> 0 | J43: =SUMIF(A39:A42,"=1",J39:J42) -> 0
A45: #POPS | B45: Popis stavby: 245Z074 - Jasanová 4,6,8 - rekonstrukce stoupacích rozvodů vody
A46: #POPO | B46: Popis objektu: D.1 - Zdravotechnické instalace
A47: #POPR | B47: Popis rozpočtu: D.1 - Zdravotechnické instalace
B50: Rekapitulace dílů
B52: Číslo | C52: Název | F52: Typ dílu | I52: Celkem | J52: %
B53: 6 | C53: Úpravy povrchu, podlahy | F53: HSV | I53: ='D.1 D.1 Pol'!G8 -> 0 | J53: =IF(I64=0,"",I53/I64*100)
B54: 95 | C54: Dokončovací konstrukce na pozemních stavbách | F54: HSV | I54: ='D.1 D.1 Pol'!G23 -> 0 | J54: =IF(I64=0,"",I54/I64*100)
B55: 99 | C55: Staveništní přesun hmot | F55: HSV | I55: ='D.1 D.1 Pol'!G26 -> 0 | J55: =IF(I64=0,"",I55/I64*100)
B56: HZS+ZP | C56: HZS+ZP | F56: HSV | I56: ='D.1 D.1 Pol'!G29 -> 0 | J56: =IF(I64=0,"",I56/I64*100)
B57: 722 | C57: Vnitřní vodovod | F57: PSV | I57: ='D.1 D.1 Pol'!G37 -> 0 | J57: =IF(I64=0,"",I57/I64*100)
B58: 725 | C58: Zařizovací předměty | F58: PSV | I58: ='D.1 D.1 Pol'!G105 -> 0 | J58: =IF(I64=0,"",I58/I64*100)
B59: 767 | C59: Konstrukce zámečnické | F59: PSV | I59: ='D.1 D.1 Pol'!G112 -> 0 | J59: =IF(I64=0,"",I59/I64*100)
B60: 784 | C60: Malby | F60: PSV | I60: ='D.1 D.1 Pol'!G123 -> 0 | J60: =IF(I64=0,"",I60/I64*100)
B61: D96 | C61: Přesuny suti a vybouraných hmot | F61: PSU | I61: ='D.1 D.1 Pol'!G126 -> 0 | J61: =IF(I64=0,"",I61/I64*100)
B62: VN | C62: Vedlejší náklady | F62: VN | I62: ='D.1 D.1 Pol'!G137 -> 0 | J62: =IF(I64=0,"",I62/I64*100)
B63: ON | C63: Ostatní náklady | F63: ON | I63: ='D.1 D.1 Pol'!G142 -> 0 | J63: =IF(I64=0,"",I63/I64*100)
B64: Cena celkem | I64: =SUM(I53:I63) -> 0 | J64: =SUM(J53:J63) -> 0

Sheet VzorPolozky
A1: Položkový rozpočet
A2: S:
A3: O:
A4: R:

Sheet D.1 D.1 Pol
A1: Položkový soupis prací a dodávek | AG1: #TypZaznamu#
A2: S: | B2: 245Z074 | C2: Jasanová 4,6,8 - rekonstrukce stoupacích rozvodů vody | AG2: STA
A3: O: | B3: D.1 | C3: Zdravotechnické instalace | AC3: STA | AG3: OBJ
A4: R: | B4: D.1 | C4: Zdravotechnické instalace | AG4: ROZ
A6: P.č. | B6: Číslo položky | C6: Název položky | D6: MJ | E6: Množství | F6: Cena / MJ | G6: Celkem | H6: Dodávka | I6: Dodávka celk. | J6: Montáž | K6: Montáž celk. | L6: DPH | M6: Cena s DPH | N6: Hmotnost / MJ | O6: Hmotnost celk.(t) | P6: Dem. hmotnost / MJ | Q6: Dem. hmotnost celk.(t) | R6: Ceník | S6: Cen. soustava / platnost | T6: Cenová úroveň | U6: Nhod / MJ | V6: Nhod celk. | W6: Dodavatel | X6: Typ položky | Y6: Stav položky
A8: Díl: | B8: 6 | C8: Úpravy povrchu, podlahy | G8: =SUMIF(AG9:AG22,"<>NOR",G9:G22) -> 0 | I8: =SUM(I9:I22) -> 0 | K8: =SUM(K9:K22) -> 0 | M8: =SUM(M9:M22) -> 0 | O8: =SUM(O9:O22) -> 0.36 | Q8: =SUM(Q9:Q22) -> 0.51 | V8: =SUM(V9:V22) -> 7.92 | AG8: DIL
A9: 1 | B9: 340271507R00 | C9: Zazdívka otvorů příček z pórobetonových tvárnic plochy od 0,25 m2 do 1 m2, tloušťka zdiva 75 mm | D9: m3 | E9: 0.27 | G9: =ROUND(E9*F9,2) -> 0 | I9: =ROUND(E9*H9,2) -> 0 | K9: =ROUND(E9*J9,2) -> 0 | L9: 12 | M9: =G9*(1+L9/100) -> 0 | N9: 0.76474 | O9: =ROUND(E9*N9,2) -> 0.21 | P9: 0 | Q9: =ROUND(E9*P9,2) -> 0 | R9: 801-4 | S9: RTS 24/ II | T9: RTS 24/ II | U9: 3.92919 | V9: =ROUND(E9*U9,2) -> 1.06 | X9: Práce | Y9: Běžná | AG9: POL1_
C10: včetně pomocného pracovního lešení | AG10: SPI
C11: 1S : 0,2*0,6*3*0,075 | E11: 0.027 | AG11: VV | AH11: 0
C12: 4NP : 0,6*0,6*0,075*9 | E12: 0.243 | AG12: VV | AH12: 0
A13: 2 | B13: 612401391RT2 | C13: Omítky malých ploch vnitřních stěn přes 0,25 do 1 m2, vápennou štukovou omítkou | D13: kus | E13: 3 | G13: =ROUND(E13*F13,2) -> 0 | I13: =ROUND(E13*H13,2) -> 0 | K13: =ROUND(E13*J13,2) -> 0 | L13: 12 | M13: =G13*(1+L13/100) -> 0 | N13: 0.03562 | O13: =ROUND(E13*N13,2) -> 0.11 | P13: 0 | Q13: =ROUND(E13*P13,2) -> 0 | R13: 801-4 | S13: RTS 24/ II | T13: RTS 24/ II | U13: 0.88293 | V13: =ROUND(E13*U13,2) -> 2.65 | X13: Práce | Y13: Běžná | AG13: POL1_
C14: jakoukoliv maltou, z pomocného pracovního lešení o výšce podlahy do 1900 mm a pro zatížení do 1,5 kPa, | AG14: SPI | BA14: =C14 -> jakoukoliv maltou, z pomocného pracovního lešení o výšce podlahy do 1900 mm a pro zatížení do 1,5 kPa,
A15: 3 | B15: 612409991RT2 | C15: Začištění omítek kolem oken, dveří a obkladů apod. s použitím suché maltové směsi | D15: m | E15: 11.4 | G15: =ROUND(E15*F15,2) -> 0 | I15: =ROUND(E15*H15,2) -> 0 | K15: =ROUND(E15*J15,2) -> 0 | L15: 12 | M15: =G15*(1+L15/100) -> 0 | N15: 0.00238 | O15: =ROUND(E15*N15,2) -> 0.03 | P15: 0 | Q15: =ROUND(E15*P15,2) -> 0 | R15: 801-4 | S15: RTS 24/ II | T15: RTS 24/ II | U15: 0.18233 | V15: =ROUND(E15*U15,2) -> 2.08 | X15: Práce | Y15: Běžná | AG15: POL1_
C16: 1S : (0,6+0,4)*2*3 | E16: 6 | AG16: VV | AH16: 0
C17: 4NP : 0,6*9 | E17: 5.4 | AG17: VV | AH17: 0
A18: 4 | B18: 971038521R00 | C18: Vybourání otvorů ve zdivu cihelném z dutých tvárnic nebo příčkovek plochy do 1 m2, tloušťky do 100 mm | D18: m2 | E18: 4.32 | G18: =ROUND(E18*F18,2) -> 0 | I18: =ROUND(E18*H18,2) -> 0 | K18: =ROUND(E18*J18,2) -> 0 | L18: 12 | M18: =G18*(1+L18/100) -> 0 | N18: 0.00165 | O18: =ROUND(E18*N18,2) -> 0.01 | P18: 0.117 | Q18: =ROUND(E18*P18,2) -> 0.51 | R18: 801-3 | S18: RTS 24/ II | T18: RTS 24/ II | U18: 0.493 | V18: =ROUND(E18*U18,2) -> 2.13 | X18: Práce | Y18: Běžná | AG18: POL1_
C19: základovém nebo nadzákladovém, | AG19: SPI
C20: Včetně pomocného lešení o výšce podlahy do 1900 mm a pro zatížení do 1,5 kPa (150 kg/m2). | AG20: POP
C21: 1S : 0,6*0,6*3 | E21: 1.08 | AG21: VV | AH21: 0
C22: 4NP : 0,6*0,6*9 | E22: 3.24 | AG22: VV | AH22: 0
A23: Díl: | B23: 95 | C23: Dokončovací konstrukce na pozemních stavbách | G23: =SUMIF(AG24:AG25,"<>NOR",G24:G25) -> 0 | I23: =SUM(I24:I25) -> 0 | K23: =SUM(K24:K25) -> 0 | M23: =SUM(M24:M25) -> 0 | O23: =SUM(O24:O25) -> 0.01 | Q23: =SUM(Q24:Q25) -> 0 | V23: =SUM(V24:V25) -> 95.58 | AG23: DIL
A24: 5 | B24: 952901114R00 | C24: Vyčištění budov a ostatních objektů budov bytové nebo občanské výstavby - zametení a umytí podlah, dlažeb, obkladů, schodů v místnostech, chodbách a schodištích, vyčištění a umytí oken, dveří s rámy, zárubněmi, umytí a vyčištění jiných zasklených a natíraných ploch a zařizovacích předmětů před předáním do užívání světlá výška podlaží přes 4 m | D24: m2 | E24: 270 | G24: =ROUND(E24*F24,2) -> 0 | I24: =ROUND(E24*H24,2) -> 0 | K24: =ROUND(E24*J24,2) -> 0 | L24: 12 | M24: =G24*(1+L24/100) -> 0 | N24: 4e-05 | O24: =ROUND(E24*N24,2) -> 0.01 | P24: 0 | Q24: =ROUND(E24*P24,2) -> 0 | R24: 801-1 | S24: RTS 24/ II | T24: RTS 24/ II | U24: 0.354 | V24: =ROUND(E24*U24,2) -> 95.58 | X24: Práce | Y24: Běžná | AG24: POL1_
C25: 5*6*9 | E25: 270 | AG25: VV | AH25: 0
A26: Díl: | B26: 99 | C26: Staveništní přesun hmot | G26: =SUMIF(AG27:AG28,"<>NOR",G27:G28) -> 0 | I26: =SUM(I27:I28) -> 0 | K26: =SUM(K27:K28) -> 0 | M26: =SUM(M27:M28) -> 0 | O26: =SUM(O27:O28) -> 0 | Q26: =SUM(Q27:Q28) -> 0 | V26: =SUM(V27:V28) -> 0.92 | AG26: DIL
A27: 6 | B27: 999281111R00 | C27: Přesun hmot pro opravy a údržbu objektů pro opravy a údržbu dosavadních objektů včetně vnějších plášťů výšky do 25 m, | D27: t | E27: 0.3584 | G27: =ROUND(E27*F27,2) -> 0 | I27: =ROUND(E27*H27,2) -> 0 | K27: =ROUND(E27*J27,2) -> 0 | L27: 12 | M27: =G27*(1+L27/100) -> 0 | N27: 0 | O27: =ROUND(E27*N27,2) -> 0 | P27: 0 | Q27: =ROUND(E27*P27,2) -> 0 | R27: 801-4 | S27: RTS 24/ II | T27: RTS 24/ II | U27: 2.577 | V27: =ROUND(E27*U27,2) -> 0.92 | X27: Přesun hmot | Y27: Běžná | AG27: POL7_
C28: oborů 801, 803, 811 a 812 | AG28: SPI
A29: Díl: | B29: HZS+ZP | C29: HZS+ZP | G29: =SUMIF(AG30:AG36,"<>NOR",G30:G36) -> 0 | I29: =SUM(I30:I36) -> 0 | K29: =SUM(K30:K36) -> 0 | M29: =SUM(M30:M36) -> 0 | O29: =SUM(O30:O36) -> 0 | Q29: =SUM(Q30:Q36) -> 0 | V29: =SUM(V30:V36) -> 154.8 | AG29: DIL
A30: 7 | B30: 545112995R001 | C30: Příplatek za ztíženou výměnu potrubí při rekonstrukci | D30: m | E30: 720 | G30: =ROUND(E30*F30,2) -> 0 | I30: =ROUND(E30*H30,2) -> 0 | K30: =ROUND(E30*J30,2) -> 0 | L30: 12 | M30: =G30*(1+L30/100) -> 0 | N30: 0 | O30: =ROUND(E30*N30,2) -> 0 | P30: 0 | Q30: =ROUND(E30*P30,2) -> 0 | S30: Vlastní | T30: RTS 23/ I | U30: 0.065 | V30: =ROUND(E30*U30,2) -> 46.8 | X30: Práce | Y30: Běžná | AG30: POL1_
C31: Odkaz na mn. položky pořadí 14 : 342,00000 | E31: 342 | AG31: VV | AH31: 5
C32: Odkaz na mn. položky pořadí 15 : 234,00000 | E32: 234 | AG32: VV | AH32: 5
C33: Odkaz na mn. položky pořadí 16 : 144,00000 | E33: 144 | AG33: VV | AH33: 5
A34: 8 | B34: 909 R00 | C34: Hzs-nezmeritelne stavebni prace | D34: h | E34: 54 | G34: =ROUND(E34*F34,2) -> 0 | I34: =ROUND(E34*H34,2) -> 0 | K34: =ROUND(E34*J34,2) -> 0 | L34: 12 | M34: =G34*(1+L34/100) -> 0 | N34: 0 | O34: =ROUND(E34*N34,2) -> 0 | P34: 0 | Q34: =ROUND(E34*P34,2) -> 0 | R34: Prav.M | S34: RTS 24/ II | T34: RTS 24/ II | U34: 1 | V34: =ROUND(E34*U34,2) -> 54 | X34: HZS | Y34: Běžná | AG34: POL10_
A35: 9 | B35: 900 RT31 | C35: HZS, Nezměřitelné práce při přepojování vodovodního potrubí | D35: h | E35: 54 | G35: =ROUND(E35*F35,2) -> 0 | I35: =ROUND(E35*H35,2) -> 0 | K35: =ROUND(E35*J35,2) -> 0 | L35: 12 | M35: =G35*(1+L35/100) -> 0 | N35: 0 | O35: =ROUND(E35*N35,2) -> 0 | P35: 0 | Q35: =ROUND(E35*P35,2) -> 0 | S35: Vlastní | T35: Indiv | U35: 1 | V35: =ROUND(E35*U35,2) -> 54 | X35: HZS | Y35: Běžná | AG35: POL10_
A36: 10 | B36: ON1 | C36: Odstavování, vypuštění, napuštění vodovodního potrubí | D36: hod | E36: 36 | G36: =ROUND(E36*F36,2) -> 0 | I36: =ROUND(E36*H36,2) -> 0 | K36: =ROUND(E36*J36,2) -> 0 | L36: 12 | M36: =G36*(1+L36/100) -> 0 | N36: 0 | O36: =ROUND(E36*N36,2) -> 0 | P36: 0 | Q36: =ROUND(E36*P36,2) -> 0 | S36: Vlastní | T36: Indiv | U36: 0 | V36: =ROUND(E36*U36,2) -> 0 | X36: HZS | Y36: Běžná | AG36: POL10_
A37: Díl: | B37: 722 | C37: Vnitřní vodovod | G37: =SUMIF(AG38:AG104,"<>NOR",G38:G104) -> 0 | I37: =SUM(I38:I104) -> 0 | K37: =SUM(K38:K104) -> 0 | M37: =SUM(M38:M104) -> 0 | O37: =SUM(O38:O104) -> 0.74 | Q37: =SUM(Q38:Q104) -> 1.33 | V37: =SUM(V38:V104) -> 559.69 | AG37: DIL
A38: 11 | B38: 722170804R00 | C38: Demontáž potrubí z trubek z PH tlakových přes D 32 mm do D 63 mm | D38: m | E38: 720 | G38: =ROUND(E38*F38,2) -> 0 | I38: =ROUND(E38*H38,2) -> 0 | K38: =ROUND(E38*J38,2) -> 0 | L38: 12 | M38: =G38*(1+L38/100) -> 0 | N38: 0 | O38: =ROUND(E38*N38,2) -> 0 | P38: 0.00029 | Q38: =ROUND(E38*P38,2) -> 0.21 | R38: 800-721 | S38: RTS 24/ II | T38: RTS 24/ II | U38: 0.083 | V38: =ROUND(E38*U38,2) -> 59.76 | X38: Práce | Y38: Běžná | AG38: POL1_
C39: Odkaz na mn. položky pořadí 14 : 342,00000 | E39: 342 | AG39: VV | AH39: 5
C40: Odkaz na mn. položky pořadí 15 : 234,00000 | E40: 234 | AG40: VV | AH40: 5
C41: Odkaz na mn. položky pořadí 16 : 144,00000 | E41: 144 | AG41: VV | AH41: 5
A42: 12 | B42: 722172913R00 | C42: Opravy vodovodního potrubí z plastových trubek propojení plastového potrubí polyfuzí, D 25 mm | D42: kus | E42: 102 | G42: =ROUND(E42*F42,2) -> 0 | I42: =ROUND(E42*H42,2) -> 0 | K42: =ROUND(E42*J42,2) -> 0 | L42: 12 | M42: =G42*(1+L42/100) -> 0 | N42: 0 | O42: =ROUND(E42*N42,2) -> 0 | P42: 0 | Q42: =ROUND(E42*P42,2) -> 0 | R42: 800-721 | S42: RTS 24/ II | T42: RTS 24/ II | U42: 0.17697 | V42: =ROUND(E42*U42,2) -> 18.05 | X42: Práce | Y42: Běžná | AG42: POL1_
C43: 16*6 | E43: 96 | AG43: VV | AH43: 0
C44: C : 6 | E44: 6 | AG44: VV | AH44: 0
A45: 13 | B45: 722172914R00 | C45: Opravy vodovodního potrubí z plastových trubek propojení plastového potrubí polyfuzí, D 32 mm | D45: kus | E45: 12 | G45: =ROUND(E45*F45,2) -> 0 | I45: =ROUND(E45*H45,2) -> 0 | K45: =ROUND(E45*J45,2) -> 0 | L45: 12 | M45: =G45*(1+L45/100) -> 0 | N45: 0 | O45: =ROUND(E45*N45,2) -> 0 | P45: 0 | Q45: =ROUND(E45*P45,2) -> 0 | R45: 800-721 | S45: RTS 24/ II | T45: RTS 24/ II | U45: 0.21594 | V45: =ROUND(E45*U45,2) -> 2.59 | X45: Práce | Y45: Běžná | AG45: POL1_
C46: 2*6 | E46: 12 | AG46: VV | AH46: 0
A47: 14 | B47: 722178113R00 | C47: Potrubí vícevrstvé PEX/AL/PEX, D 20 mm, s 2,0 mm, PN 10, lisovaný spoj s mosaznými tvarovkami | D47: m | E47: 342 | G47: =ROUND(E47*F47,2) -> 0 | I47: =ROUND(E47*H47,2) -> 0 | K47: =ROUND(E47*J47,2) -> 0 | L47: 12 | M47: =G47*(1+L47/100) -> 0 | N47: 0.00083 | O47: =ROUND(E47*N47,2) -> 0.28 | P47: 0 | Q47: =ROUND(E47*P47,2) -> 0 | R47: 800-721 | S47: RTS 24/ II | T47: RTS 24/ II | U47: 0.27017 | V47: =ROUND(E47*U47,2) -> 92.4 | X47: Práce | Y47: Běžná | AG47: POL1_
C48: včetně tvarovek, bez zednických výpomocí, | AG48: SPI
C49: Včetně pomocného lešení o výšce podlahy do 1900 mm a pro zatížení do 1,5 kPa. | AG49: POP
C50: C : 24*9 | E50: 216 | AG50: VV | AH50: 0
C51: Odbočky : 0,5*2*8*9 | E51: 72 | AG51: VV | AH51: 0
C52: TV, SV : 3*2*9 | E52: 54 | AG52: VV | AH52: 0
A53: 15 | B53: 722178114R00 | C53: Potrubí vícevrstvé PEX/AL/PEX, D 26 mm, s 3,0 mm, PN 10, lisovaný spoj s mosaznými tvarovkami | D53: m | E53: 234 | G53: =ROUND(E53*F53,2) -> 0 | I53: =ROUND(E53*H53,2) -> 0 | K53: =ROUND(E53*J53,2) -> 0 | L53: 12 | M53: =G53*(1+L53/100) -> 0 | N53: 0.00099 | O53: =ROUND(E53*N53,2) -> 0.23 | P53: 0 | Q53: =ROUND(E53*P53,2) -> 0 | R53: 800-721 | S53: RTS 24/ II | T53: RTS 24/ II | U53: 0.29019 | V53: =ROUND(E53*U53,2) -> 67.9 | X53: Práce | Y53: Běžná | AG53: POL1_
C54: včetně tvarovek, bez zednických výpomocí, | AG54: SPI
C55: Včetně pomocného lešení o výšce podlahy do 1900 mm a pro zatížení do 1,5 kPa. | AG55: POP
C56: 2*13*9 | E56: 234 | AG56: VV | AH56: 0
A57: 16 | B57: 722178115RT2 | C57: Potrubí vícevrstvé PEX/AL/PEX, D 32 mm, s 3,0 mm, PN 10, lisovaný spoj s plastovými tvarovkami, T-kus plastový typ: redukovaný; materiál: PPSU; ds = 32,0 mm; ds3 = 32,0 mm; těsnění: EPDM; PN 10; teplota média 3 až 120 °C; příslušenství: ocelov... | D57: m | E57: 144 | G57: =ROUND(E57*F57,2) -> 0 | I57: =ROUND(E57*H57,2) -> 0 | K57: =ROUND(E57*J57,2) -> 0 | L57: 12 | M57: =G57*(1+L57/100) -> 0 | N57: 0.00069 | O57: =ROUND(E57*N57,2) -> 0.1 | P57: 0 | Q57: =ROUND(E57*P57,2) -> 0 | R57: 800-721 | S57: RTS 24/ II | T57: RTS 24/ II | U57: 0.34626 | V57: =ROUND(E57*U57,2) -> 49.86 | X57: Práce | Y57: Běžná | AG57: POL1_
C58: včetně tvarovek, bez zednických výpomocí, | AG58: SPI
C59: Včetně pomocného lešení o výšce podlahy do 1900 mm a pro zatížení do 1,5 kPa. | AG59: POP
C60: 8*2*9 | E60: 144 | AG60: VV | AH60: 0
A61: 17 | B61: 722181212RT7 | C61: Izolace vodovodního potrubí návleková z trubic z pěnového polyetylenu, tloušťka stěny 9 mm, d 22 mm | D61: m | E61: 63 | G61: =ROUND(E61*F61,2) -> 0 | I61: =ROUND(E61*H61,2) -> 0 | K61: =ROUND(E61*J61,2) -> 0 | L61: 12 | M61: =G61*(1+L61/100) -> 0 | N61: 3e-05 | O61: =ROUND(E61*N61,2) -> 0 | P61: 0 | Q61: =ROUND(E61*P61,2) -> 0 | R61: 800-721 | S61: RTS 24/ II | T61: RTS 24/ II | U61: 0.129 | V61: =ROUND(E61*U61,2) -> 8.13 | X61: Práce | Y61: Běžná | AG61: POL1_
C62: V položce je kalkulována dodávka izolační trubice, spon a lepicí pásky. | AG62: POP
C63: sv : 3*9 | E63: 27 | AG63: VV | AH63: 0
C64: 0,5*9*8 | E64: 36 | AG64: VV | AH64: 0
A65: 18 | B65: 722181212RT8 | C65: Izolace vodovodního potrubí návleková z trubic z pěnového polyetylenu, tloušťka stěny 9 mm, d 25 mm | D65: m | E65: 117 | G65: =ROUND(E65*F65,2) -> 0 | I65: =ROUND(E65*H65,2) -> 0 | K65: =ROUND(E65*J65,2) -> 0 | L65: 12 | M65: =G65*(1+L65/100) -> 0 | N65: 6e-05 | O65: =ROUND(E65*N65,2) -> 0.01 | P65: 0 | Q65: =ROUND(E65*P65,2) -> 0 | R65: 800-721 | S65: RTS 24/ II | T65: RTS 24/ II | U65: 0.129 | V65: =ROUND(E65*U65,2) -> 15.09 | X65: Práce | Y65: Běžná | AG65: POL1_
C66: V položce je kalkulována dodávka izolační trubice, spon a lepicí pásky. | AG66: POP
C67: Odkaz na mn. položky pořadí 15 : 234,00000*0,5 | E67: 117 | AG67: VV | AH67: 5
A68: 19 | B68: 722181212RU1 | C68: Izolace vodovodního potrubí návleková z trubic z pěnového polyetylenu, tloušťka stěny 9 mm, d 32 mm | D68: m | E68: 72 | G68: =ROUND(E68*F68,2) -> 0 | I68: =ROUND(E68*H68,2) -> 0 | K68: =ROUND(E68*J68,2) -> 0 | L68: 12 | M68: =G68*(1+L68/100) -> 0 | N68: 5e-05 | O68: =ROUND(E68*N68,2) -> 0 | P68: 0 | Q68: =ROUND(E68*P68,2) -> 0 | R68: 800-721 | S68: RTS 24/ II | T68: RTS 24/ II | U68: 0.142 | V68: =ROUND(E68*U68,2) -> 10.22 | X68: Práce | Y68: Běžná | AG68: POL1_
C69: V položce je kalkulována dodávka izolační trubice, spon a lepicí pásky. | AG69: POP
C70: Odkaz na mn. položky pořadí 16 : 144,00000*0,5 | E70: 72 | AG70: VV | AH70: 5
A71: 20 | B71: 722181213RZ6 | C71: Izolace vodovodního potrubí návleková z trubic z pěnového polyetylenu, tloušťka stěny 13 mm, d 20 mm | D71: m | E71: 279 | G71: =ROUND(E71*F71,2) -> 0 | I71: =ROUND(E71*H71,2) -> 0 | K71: =ROUND(E71*J71,2) -> 0 | L71: 12 | M71: =G71*(1+L71/100) -> 0 | N71: 3e-05 | O71: =ROUND(E71*N71,2) -> 0.01 | P71: 0 | Q71: =ROUND(E71*P71,2) -> 0 | R71: 800-721 | S71: RTS 24/ II | T71: RTS 24/ II | U71: 0.129 | V71: =ROUND(E71*U71,2) -> 35.99 | X71: Práce | Y71: Běžná | AG71: POL1_
C72: V položce je kalkulována dodávka izolační trubice, spon a lepicí pásky. | AG72: POP
C73: Odkaz na mn. položky pořadí 17 : 63,00000 | E73: 63 | AG73: VV | AH73: 5
C74: 24*9 | E74: 216 | AG74: VV | AH74: 0
A75: 21 | B75: 722181214RT8 | C75: Izolace vodovodního potrubí návleková z trubic z pěnového polyetylenu, tloušťka stěny 20 mm, d 25 mm | D75: m | E75: 117 | G75: =ROUND(E75*F75,2) -> 0 | I75: =ROUND(E75*H75,2) -> 0 | K75: =ROUND(E75*J75,2) -> 0 | L75: 12 | M75: =G75*(1+L75/100) -> 0 | N75: 7e-05 | O75: =ROUND(E75*N75,2) -> 0.01 | P75: 0 | Q75: =ROUND(E75*P75,2) -> 0 | R75: 800-721 | S75: RTS 24/ II | T75: RTS 24/ II | U75: 0.129 | V75: =ROUND(E75*U75,2) -> 15.09 | X75: Práce | Y75: Běžná | AG75: POL1_
C76: V položce je kalkulována dodávka izolační trubice, spon a lepicí pásky. | AG76: POP
C77: Odkaz na mn. položky pořadí 18 : 117,00000 | E77: 117 | AG77: VV | AH77: 5
A78: 22 | B78: 722181214RU1 | C78: Izolace vodovodního potrubí návleková z trubic z pěnového polyetylenu, tloušťka stěny 20 mm, d 32 mm | D78: m | E78: 72 | G78: =ROUND(E78*F78,2) -> 0 | I78: =ROUND(E78*H78,2) -> 0 | K78: =ROUND(E78*J78,2) -> 0 | L78: 12 | M78: =G78*(1+L78/100) -> 0 | N78: 7e-05 | O78: =ROUND(E78*N78,2) -> 0.01 | P78: 0 | Q78: =ROUND(E78*P78,2) -> 0 | R78: 800-721 | S78: RTS 24/ II | T78: RTS 24/ II | U78: 0.142 | V78: =ROUND(E78*U78,2) -> 10.22 | X78: Práce | Y78: Běžná | AG78: POL1_
C79: V položce je kalkulována dodávka izolační trubice, spon a lepicí pásky. | AG79: POP
C80: Odkaz na mn. položky pořadí 19 : 72,00000 | E80: 72 | AG80: VV | AH80: 5
A81: 23 | B81: 722190901R00 | C81: Uzavření nebo otevření vodovodního potrubí při opravě | D81: kus | E81: 18 | G81: =ROUND(E81*F81,2) -> 0 | I81: =ROUND(E81*H81,2) -> 0 | K81: =ROUND(E81*J81,2) -> 0 | L81: 12 | M81: =G81*(1+L81/100) -> 0 | N81: 0 | O81: =ROUND(E81*N81,2) -> 0 | P81: 0 | Q81: =ROUND(E81*P81,2) -> 0 | R81: 800-721 | S81: RTS 24/ II | T81: RTS 24/ II | U81: 0.165 | V81: =ROUND(E81*U81,2) -> 2.97 | X81: Práce | Y81: Běžná | AG81: POL1_
C82: včetně vypuštění a napuštění, | AG82: SPI
A83: 24 | B83: 722238313R00 | C83: Ventil uzavírací přímý ventil, vnitřní-vnitřní závit, DN 20, PN 10, mosaz | D83: kus | E83: 9 | G83: =ROUND(E83*F83,2) -> 0 | I83: =ROUND(E83*H83,2) -> 0 | K83: =ROUND(E83*J83,2) -> 0 | L83: 12 | M83: =G83*(1+L83/100) -> 0 | N83: 0.00038 | O83: =ROUND(E83*N83,2) -> 0 | P83: 0 | Q83: =ROUND(E83*P83,2) -> 0 | R83: 800-721 | S83: RTS 24/ II | T83: RTS 24/ II | U83: 0.207 | V83: =ROUND(E83*U83,2) -> 1.86 | X83: Práce | Y83: Běžná | AG83: POL1_
A84: 25 | B84: 722238315R00 | C84: Ventil uzavírací přímý ventil, vnitřní-vnitřní závit, DN 32, PN 10, mosaz | D84: kus | E84: 18 | G84: =ROUND(E84*F84,2) -> 0 | I84: =ROUND(E84*H84,2) -> 0 | K84: =ROUND(E84*J84,2) -> 0 | L84: 12 | M84: =G84*(1+L84/100) -> 0 | N84: 0.00098 | O84: =ROUND(E84*N84,2) -> 0.02 | P84: 0 | Q84: =ROUND(E84*P84,2) -> 0 | R84: 800-721 | S84: RTS 24/ II | T84: RTS 24/ II | U84: 0.269 | V84: =ROUND(E84*U84,2) -> 4.84 | X84: Práce | Y84: Běžná | AG84: POL1_
A85: 26 | B85: 722237122R00 | C85: Kohout kulový, mosazný, vnitřní-vnitřní závit, DN 20, PN 42, včetně dodávky materiálu | D85: kus | E85: 144 | G85: =ROUND(E85*F85,2) -> 0 | I85: =ROUND(E85*H85,2) -> 0 | K85: =ROUND(E85*J85,2) -> 0 | L85: 12 | M85: =G85*(1+L85/100) -> 0 | N85: 0.00031 | O85: =ROUND(E85*N85,2) -> 0.04 | P85: 0 | Q85: =ROUND(E85*P85,2) -> 0 | R85: 800-721 | S85: RTS 24/ II | T85: RTS 24/ II | U85: 0.207 | V85: =ROUND(E85*U85,2) -> 29.81 | X85: Práce | Y85: Běžná | AG85: POL1_
C86: 8*2*9 | E86: 144 | AG86: VV | AH86: 0
A87: 27 | B87: 722260811R00 | C87: Demontáž vodoměrů závitových G 1/2" | D87: kus | E87: 144 | G87: =ROUND(E87*F87,2) -> 0 | I87: =ROUND(E87*H87,2) -> 0 | K87: =ROUND(E87*J87,2) -> 0 | L87: 12 | M87: =G87*(1+L87/100) -> 0 | N87: 0 | O87: =ROUND(E87*N87,2) -> 0 | P87: 0.00549 | Q87: =ROUND(E87*P87,2) -> 0.79 | R87: 800-721 | S87: RTS 24/ II | T87: RTS 24/ II | U87: 0.062 | V87: =ROUND(E87*U87,2) -> 8.93 | X87: Práce | Y87: Běžná | AG87: POL1_
C88: 8*2*9 | E88: 144 | AG88: VV | AH88: 0
A89: 28 | B89: 722260922R00 | C89: Montáž vodoměrů závitových G 3/4" | D89: kus | E89: 144 | G89: =ROUND(E89*F89,2) -> 0 | I89: =ROUND(E89*H89,2) -> 0 | K89: =ROUND(E89*J89,2) -> 0 | L89: 12 | M89: =G89*(1+L89/100) -> 0 | N89: 2e-05 | O89: =ROUND(E89*N89,2) -> 0 | P89: 0 | Q89: =ROUND(E89*P89,2) -> 0 | R89: 800-721 | S89: RTS 24/ II | T89: RTS 24/ II | U89: 0.175 | V89: =ROUND(E89*U89,2) -> 25.2 | X89: Práce | Y89: Běžná | AG89: POL1_
C90: Odkaz na mn. položky pořadí 27 : 144,00000 | E90: 144 | AG90: VV | AH90: 5
A91: 29 | B91: 722280106R00 | C91: Tlakové zkoušky vodovodního potrubí do DN 32 | D91: m | E91: 720 | G91: =ROUND(E91*F91,2) -> 0 | I91: =ROUND(E91*H91,2) -> 0 | K91: =ROUND(E91*J91,2) -> 0 | L91: 12 | M91: =G91*(1+L91/100) -> 0 | N91: 0 | O91: =ROUND(E91*N91,2) -> 0 | P91: 0 | Q91: =ROUND(E91*P91,2) -> 0 | R91: 800-721 | S91: RTS 24/ II | T91: RTS 24/ II | U91: 0.029 | V91: =ROUND(E91*U91,2) -> 20.88 | X91: Práce | Y91: Běžná | AG91: POL1_
C92: Včetně dodávky vody, uzavření a zabezpečení konců potrubí. | AG92: POP
C93: Odkaz na mn. položky pořadí 14 : 342,00000 | E93: 342 | AG93: VV | AH93: 5
C94: Odkaz na mn. položky pořadí 15 : 234,00000 | E94: 234 | AG94: VV | AH94: 5
C95: Odkaz na mn. položky pořadí 16 : 144,00000 | E95: 144 | AG95: VV | AH95: 5
A96: 30 | B96: 722290234R00 | C96: Proplach a dezinfekce vodovodního potrubí do DN 80 | D96: m | E96: 720 | G96: =ROUND(E96*F96,2) -> 0 | I96: =ROUND(E96*H96,2) -> 0 | K96: =ROUND(E96*J96,2) -> 0 | L96: 12 | M96: =G96*(1+L96/100) -> 0 | N96: 1e-05 | O96: =ROUND(E96*N96,2) -> 0.01 | P96: 0 | Q96: =ROUND(E96*P96,2) -> 0 | R96: 800-721 | S96: RTS 24/ II | T96: RTS 24/ II | U96: 0.062 | V96: =ROUND(E96*U96,2) -> 44.64 | X96: Práce | Y96: Běžná | AG96: POL1_
C97: Včetně dodání desinfekčního prostředku. | AG97: POP
C98: Odkaz na mn. položky pořadí 29 : 720,00000 | E98: 720 | AG98: VV | AH98: 5
A99: 31 | B99: 733190801R00 | C99: Demontáž příslušenství potrubí - odřezání objímek dvojitých DN 50 | D99: kus | E99: 243 | G99: =ROUND(E99*F99,2) -> 0 | I99: =ROUND(E99*H99,2) -> 0 | K99: =ROUND(E99*J99,2) -> 0 | L99: 12 | M99: =G99*(1+L99/100) -> 0 | N99: 0 | O99: =ROUND(E99*N99,2) -> 0 | P99: 0.00072 | Q99: =ROUND(E99*P99,2) -> 0.17 | R99: 800-731 | S99: RTS 24/ II | T99: RTS 24/ II | U99: 0.005 | V99: =ROUND(E99*U99,2) -> 1.22 | X99: Práce | Y99: Běžná | AG99: POL1_
C100: 9*3*9 | E100: 243 | AG100: VV | AH100: 0
A101: 32 | B101: 734200822R00 | C101: Demontáž závitových armatur se dvěma závity, přes 1/2 do G 1" | D101: kus | E101: 144 | G101: =ROUND(E101*F101,2) -> 0 | I101: =ROUND(E101*H101,2) -> 0 | K101: =ROUND(E101*J101,2) -> 0 | L101: 12 | M101: =G101*(1+L101/100) -> 0 | N101: 0.00013 | O101: =ROUND(E101*N101,2) -> 0.02 | P101: 0.0011 | Q101: =ROUND(E101*P101,2) -> 0.16 | R101: 800-731 | S101: RTS 24/ II | T101: RTS 24/ II | U101: 0.229 | V101: =ROUND(E101*U101,2) -> 32.98 | X101: Práce | Y101: Běžná | AG101: POL1_
C102: Odkaz na mn. položky pořadí 26 : 144,00000 | E102: 144 | AG102: VV | AH102: 5
...
