Workbook
Name __CENA__: Zakazka!$P$6:$P$217
Name __MAIN__: Zakazka!$F$1:$DE$216
Name __MAIN2__: Rekapitulace!$B$1:$H$32
Name __MAIN2__: #REF!
Name __MAIN3__: 'Kryci list'!$A$3:$C$19
Name __SAZBA__: Zakazka!$U$6:$U$217
Name __T0__: Zakazka!$F$5:$AC$216
Name __T1__: Zakazka!$F$6:$AC$11
Name __T2__: Zakazka!$F$7:$DE$8
Name __T3__: Zakazka!$J$8:$M$8
Name __TE0__: 'Kryci list'!$A$4:$C$13
Name __TE1__: 'Kryci list'!#REF!
Name __TE2__: 'Kryci list'!#REF!
Name __TE3__: Figury!$A$2:$D$2
Name __TR0__: Rekapitulace!$B$5:$F$6
Name __TR0__: #REF!
Name __TR1__: Rekapitulace!$B$6:$F$6
Name __TR1__: #REF!

Sheet Kryci list
A2: Výkaz výměr
A3: Zakázka
A4: Číslo zakázky | B4: POD-23024-03
A5: Zakázka | B5: ÚPRAVA SOCIÁLNÍHO ZAŘÍZENÍ - TS PODĚBRADY
A6: Klasifikace
A7: Fáze | B7: Příprava realizace
A8: Komentář
A10: Verze
A11: Popis | B11: Nabídka
A12: Komentář
A14: Firmy
A15: Typ Firmy | B15: Název
A17: Uživatelé
A18: Význam (funkce) | B18: Jméno

Sheet Rekapitulace
B1: Zakázka:
A2: {=INDEX(__SAZBA__,MATCH(0,COUNTIF($A$1:A1,__SAZBA__),0))} -> _ | B2: ='Kryci list'!B5 -> ÚPRAVA SOCIÁLNÍHO ZAŘÍZENÍ - TS PODĚBRADY
A3: {=INDEX(__SAZBA__,MATCH(0,COUNTIF($A$1:A2,__SAZBA__),0))} -> 21 | B3: Popis | C3: Cena | D3: Hmotnost | E3: DPH | F3: Cena s DPH
A4: {=INDEX(__SAZBA__,MATCH(0,COUNTIF($A$1:A3,__SAZBA__),0))} -> #N/A
B5: =IF(Zakazka!$J$5=0,"",Zakazka!$J$5) -> SO_01: Stavební objekt 01 | C5: =IF(Zakazka!$P$5=0,"",Zakazka!$P$5) | D5: =IF(Zakazka!$R$5=0,"",Zakazka!$R$5) -> 16.087155 | E5: =IF(Zakazka!$V$5=0,"",Zakazka!$V$5) | F5: =IF(Zakazka!$W$5=0,"",Zakazka!$W$5)
B6: =IF(Zakazka!$J$6=0,"",Zakazka!$J$6) -> 003: Svislé konstrukce | C6: =IF(Zakazka!$P$6=0,"",Zakazka!$P$6) | D6: =IF(Zakazka!$R$6=0,"",Zakazka!$R$6) -> 2.3399756 | E6: =IF(Zakazka!$V$6=0,"",Zakazka!$V$6) | F6: =IF(Zakazka!$W$6=0,"",Zakazka!$W$6)
B7: =IF(Zakazka!$J$12=0,"",Zakazka!$J$12) -> 006: Úpravy povrchu | C7: =IF(Zakazka!$P$12=0,"",Zakazka!$P$12) | D7: =IF(Zakazka!$R$12=0,"",Zakazka!$R$12) -> 5.029677 | E7: =IF(Zakazka!$V$12=0,"",Zakazka!$V$12) | F7: =IF(Zakazka!$W$12=0,"",Zakazka!$W$12)
B8: =IF(Zakazka!$J$20=0,"",Zakazka!$J$20) -> 009: Ostatní konstrukce a práce | C8: =IF(Zakazka!$P$20=0,"",Zakazka!$P$20) | D8: =IF(Zakazka!$R$20=0,"",Zakazka!$R$20) | E8: =IF(Zakazka!$V$20=0,"",Zakazka!$V$20) | F8: =IF(Zakazka!$W$20=0,"",Zakazka!$W$20)
B9: =IF(Zakazka!$J$31=0,"",Zakazka!$J$31) -> 099: Přesun hmot HSV | C9: =IF(Zakazka!$P$31=0,"",Zakazka!$P$31) | D9: =IF(Zakazka!$R$31=0,"",Zakazka!$R$31) | E9: =IF(Zakazka!$V$31=0,"",Zakazka!$V$31) | F9: =IF(Zakazka!$W$31=0,"",Zakazka!$W$31)
B10: =IF(Zakazka!$J$42=0,"",Zakazka!$J$42) -> 721: Kanalizace splašková | C10: =IF(Zakazka!$P$42=0,"",Zakazka!$P$42) | D10: =IF(Zakazka!$R$42=0,"",Zakazka!$R$42) -> 0.10775 | E10: =IF(Zakazka!$V$42=0,"",Zakazka!$V$42) | F10: =IF(Zakazka!$W$42=0,"",Zakazka!$W$42)
B11: =IF(Zakazka!$J$65=0,"",Zakazka!$J$65) -> 722: Vnitřní vodovod | C11: =IF(Zakazka!$P$65=0,"",Zakazka!$P$65) | D11: =IF(Zakazka!$R$65=0,"",Zakazka!$R$65) -> 0.44148 | E11: =IF(Zakazka!$V$65=0,"",Zakazka!$V$65) | F11: =IF(Zakazka!$W$65=0,"",Zakazka!$W$65)
B12: =IF(Zakazka!$J$103=0,"",Zakazka!$J$103) -> 725: Zařizovací předměty | C12: =IF(Zakazka!$P$103=0,"",Zakazka!$P$103) | D12: =IF(Zakazka!$R$103=0,"",Zakazka!$R$103) -> 0.34845 | E12: =IF(Zakazka!$V$103=0,"",Zakazka!$V$103) | F12: =IF(Zakazka!$W$103=0,"",Zakazka!$W$103)
B13: =IF(Zakazka!$J$133=0,"",Zakazka!$J$133) -> 726: Instalační prefabrikáty | C13: =IF(Zakazka!$P$133=0,"",Zakazka!$P$133) | D13: =IF(Zakazka!$R$133=0,"",Zakazka!$R$133) -> 0.0736 | E13: =IF(Zakazka!$V$133=0,"",Zakazka!$V$133) | F13: =IF(Zakazka!$W$133=0,"",Zakazka!$W$133)
B14: =IF(Zakazka!$J$137=0,"",Zakazka!$J$137) -> 727: Protipožární ochrana | C14: =IF(Zakazka!$P$137=0,"",Zakazka!$P$137) | D14: =IF(Zakazka!$R$137=0,"",Zakazka!$R$137) -> 0.00504 | E14: =IF(Zakazka!$V$137=0,"",Zakazka!$V$137) | F14: =IF(Zakazka!$W$137=0,"",Zakazka!$W$137)
B15: =IF(Zakazka!$J$141=0,"",Zakazka!$J$141) -> 735: Ústřední vytápění - otopná tělesa | C15: =IF(Zakazka!$P$141=0,"",Zakazka!$P$141) | D15: =IF(Zakazka!$R$141=0,"",Zakazka!$R$141) | E15: =IF(Zakazka!$V$141=0,"",Zakazka!$V$141) | F15: =IF(Zakazka!$W$141=0,"",Zakazka!$W$141)
B16: =IF(Zakazka!$J$148=0,"",Zakazka!$J$148) -> 741: Elektromontáže | C16: =IF(Zakazka!$P$148=0,"",Zakazka!$P$148) | D16: =IF(Zakazka!$R$148=0,"",Zakazka!$R$148) | E16: =IF(Zakazka!$V$148=0,"",Zakazka!$V$148) | F16: =IF(Zakazka!$W$148=0,"",Zakazka!$W$148)
B17: =IF(Zakazka!$J$152=0,"",Zakazka!$J$152) -> 763: Konstrukce montované | C17: =IF(Zakazka!$P$152=0,"",Zakazka!$P$152) | D17: =IF(Zakazka!$R$152=0,"",Zakazka!$R$152) -> 0.9847994 | E17: =IF(Zakazka!$V$152=0,"",Zakazka!$V$152) | F17: =IF(Zakazka!$W$152=0,"",Zakazka!$W$152)
B18: =IF(Zakazka!$J$157=0,"",Zakazka!$J$157) -> 766: Konstrukce truhlářské | C18: =IF(Zakazka!$P$157=0,"",Zakazka!$P$157) | D18: =IF(Zakazka!$R$157=0,"",Zakazka!$R$157) | E18: =IF(Zakazka!$V$157=0,"",Zakazka!$V$157) | F18: =IF(Zakazka!$W$157=0,"",Zakazka!$W$157)
B19: =IF(Zakazka!$J$163=0,"",Zakazka!$J$163) -> 767: Konstrukce zámečnické | C19: =IF(Zakazka!$P$163=0,"",Zakazka!$P$163) | D19: =IF(Zakazka!$R$163=0,"",Zakazka!$R$163) -> 0.00018 | E19: =IF(Zakazka!$V$163=0,"",Zakazka!$V$163) | F19: =IF(Zakazka!$W$163=0,"",Zakazka!$W$163)
B20: =IF(Zakazka!$J$168=0,"",Zakazka!$J$168) -> 771: Podlahy z dlaždic | C20: =IF(Zakazka!$P$168=0,"",Zakazka!$P$168) | D20: =IF(Zakazka!$R$168=0,"",Zakazka!$R$168) -> 2.0167361 | E20: =IF(Zakazka!$V$168=0,"",Zakazka!$V$168) | F20: =IF(Zakazka!$W$168=0,"",Zakazka!$W$168)
B21: =IF(Zakazka!$J$182=0,"",Zakazka!$J$182) -> 781: Obklady keramické | C21: =IF(Zakazka!$P$182=0,"",Zakazka!$P$182) | D21: =IF(Zakazka!$R$182=0,"",Zakazka!$R$182) -> 4.6969072 | E21: =IF(Zakazka!$V$182=0,"",Zakazka!$V$182) | F21: =IF(Zakazka!$W$182=0,"",Zakazka!$W$182)
B22: =IF(Zakazka!$J$198=0,"",Zakazka!$J$198) -> 783: Nátěry | C22: =IF(Zakazka!$P$198=0,"",Zakazka!$P$198) | D22: =IF(Zakazka!$R$198=0,"",Zakazka!$R$198) -> 0.005832 | E22: =IF(Zakazka!$V$198=0,"",Zakazka!$V$198) | F22: =IF(Zakazka!$W$198=0,"",Zakazka!$W$198)
B23: =IF(Zakazka!$J$203=0,"",Zakazka!$J$203) -> 784: Malby | C23: =IF(Zakazka!$P$203=0,"",Zakazka!$P$203) | D23: =IF(Zakazka!$R$203=0,"",Zakazka!$R$203) -> 0.03672816 | E23: =IF(Zakazka!$V$203=0,"",Zakazka!$V$203) | F23: =IF(Zakazka!$W$203=0,"",Zakazka!$W$203)
B24: =IF(Zakazka!$J$210=0,"",Zakazka!$J$210) -> V06: Územní vlivy | C24: =IF(Zakazka!$P$210=0,"",Zakazka!$P$210) | D24: =IF(Zakazka!$R$210=0,"",Zakazka!$R$210) | E24: =IF(Zakazka!$V$210=0,"",Zakazka!$V$210) | F24: =IF(Zakazka!$W$210=0,"",Zakazka!$W$210)
B25: =IF(Zakazka!$J$213=0,"",Zakazka!$J$213) -> V07: Provozní vlivy | C25: =IF(Zakazka!$P$213=0,"",Zakazka!$P$213) | D25: =IF(Zakazka!$R$213=0,"",Zakazka!$R$213) | E25: =IF(Zakazka!$V$213=0,"",Zakazka!$V$213) | F25: =IF(Zakazka!$W$213=0,"",Zakazka!$W$213)
A27: =SUM(A29:A30) -> 0 | B27: Celkem (bez DPH) | C27: =SUBTOTAL(9,C5:C26)/2 -> 0
B28: DPH | C28: =SUBTOTAL(9,C29:C30) -> 0
A29: =IF(ISNUMBER(A3),SUMIF(__SAZBA__,A3,__CENA__),0) -> 0 | B29: =IF(A29=0,"","DPH " & A3 & " % ze základny: " & TEXT(A29,"# ##0")) | C29: =IF(A29=0,"",A29*A3/100)
A30: =IF(ISNUMBER(A4),SUMIF(__SAZBA__,A4,__CENA__),0) -> 0 | B30: =IF(A30=0,"","DPH " & A4 & " % ze základny: " & TEXT(A30,"# ##0")) | C30: =IF(A30=0,"",A30*A4/100)
B31: Celkem (včetně DPH) | C31: =SUM(C27:C28) -> 0

Sheet Zakazka
F3: Poř. | G3: Typ | H3: Kód | I3: Alter. kód | J3: Popis | K3: MJ | L3: Výměra bez ztr. | M3: Ztratné | N3: Výměra | O3: Jedn. cena | P3: Cena | Q3: Jedn. hmotn. | R3: Hmotnost | S3: Jedn. suť | T3: Suť | U3: Sazba DPH | V3: DPH | W3: Cena s DPH | X3: Komentář | Y3: Objekt | Z3: Oddíl
J5: SO_01: Stavební objekt 01 | P5: =SUBTOTAL(9,P6:P216) -> 0 | R5: =SUBTOTAL(9,R6:R216) -> 16.087155 | T5: =SUBTOTAL(9,T6:T216) -> 27.61654 | U5: _ | V5: =SUBTOTAL(9,V6:V216) -> 0 | W5: =SUBTOTAL(9,W6:W216) -> 0
J6: 003: Svislé konstrukce | P6: =SUBTOTAL(9,P7:P11) -> 0 | R6: =SUBTOTAL(9,R7:R11) -> 2.3399756 | T6: =SUBTOTAL(9,T7:T11) -> 0 | U6: _ | V6: =SUBTOTAL(9,V7:V11) -> 0 | W6: =SUBTOTAL(9,W7:W11) -> 0
A7: ##T2##N_Catalog_catGUID | B7: ##T2##PRO_ITEM_catID | C7: ##T2##PRO_ITEM_iteCode | D7: ##T2##PRO_ITEM_szvCode | E7: ##T2##PRO_ITEM_tevCode | F7: 1 | G7: SP | H7: 310237241 | J7: Zazdívka otvorů pl přes 0,09 do 0,25 m2 ve zdivu nadzákladovém cihlami pálenými tl do 300 mm | K7: kus | L7: 1 | M7: 0 | N7: =L7*(1+M7/100) -> 1 | O7: 0 | P7: =N7*O7 -> 0 | Q7: 0.12021 | R7: =N7*Q7 -> 0.12021 | T7: =N7*S7 -> 0 | U7: 21 | V7: =P7*(U7/100) -> 0 | W7: =P7+V7 -> 0 | Y7: SO_01 | Z7: 003
J8: zazdívka hlavního přívodu v suterénu;1 | L8: 1 | U8: _
F9: 2 | G9: SP | H9: 342272235 | J9: Příčka z pórobetonových hladkých tvárnic na tenkovrstvou maltu tl 125 mm | K9: m2 | L9: 31.72 | M9: 0 | N9: =L9*(1+M9/100) -> 31.72 | O9: 0 | P9: =N9*O9 -> 0 | Q9: 0.06998 | R9: =N9*Q9 -> 2.2197656 | T9: =N9*S9 -> 0 | U9: 21 | V9: =P9*(U9/100) -> 0 | W9: =P9+V9 -> 0 | Y9: SO_01 | Z9: 003
J10: instalační;(1*1,3*8+2,3*1,3*2+2,2*1,3*4+1,5*1,3*2) | L10: 31.72 | U10: _
U11: _
J12: 006: Úpravy povrchu | P12: =SUBTOTAL(9,P13:P19) -> 0 | R12: =SUBTOTAL(9,R13:R19) -> 5.029677 | T12: =SUBTOTAL(9,T13:T19) -> 0 | U12: _ | V12: =SUBTOTAL(9,V13:V19) -> 0 | W12: =SUBTOTAL(9,W13:W19) -> 0
F13: 1 | G13: SP | H13: 612135101 | J13: Hrubá výplň rýh ve stěnách maltou jakékoli šířky rýhy | K13: m2 | L13: 12 | M13: 0 | N13: =L13*(1+M13/100) -> 12 | O13: 0 | P13: =N13*O13 -> 0 | Q13: 0.056 | R13: =N13*Q13 -> 0.672 | T13: =N13*S13 -> 0 | U13: 21 | V13: =P13*(U13/100) -> 0 | W13: =P13+V13 -> 0 | Y13: SO_01 | Z13: 006
J14: zdravotechnika - případné nové trasy a po demontáži původních;(40+80)*0,1 | L14: 12 | U14: _
F15: 2 | G15: SP | H15: 612321121 | J15: Vápenocementová omítka hladká jednovrstvá vnitřních stěn nanášená ručně | K15: m2 | L15: 235.83 | M15: 0 | N15: =L15*(1+M15/100) -> 235.83 | O15: 0 | P15: =N15*O15 -> 0 | Q15: 0.0154 | R15: =N15*Q15 -> 3.631782 | T15: =N15*S15 -> 0 | U15: 21 | V15: =P15*(U15/100) -> 0 | W15: =P15+V15 -> 0 | Y15: SO_01 | Z15: 006
J16: obklad v soc. zařízení a kuchyňce ve 2. a 3.NP;(((4,73*2+4,5+5,42+6,96*2)+(10,6+10,4+4*3+7,4+9,4+7,6)+(10,6+10,4+4*3+7,4+4,2+9,4+7,6))*1,8)+(5,18*1,5)-(((0,6*1,5)*(10+13+14))+7,1*1,8) | L16: 235.83 | U16: _
F17: 3 | G17: SP | H17: 612325421 | J17: Oprava vnitřní vápenocementové štukové omítky stěn v rozsahu plochy do 10 % | K17: m2 | L17: 127.35 | M17: 0 | N17: =L17*(1+M17/100) -> 127.35 | O17: 0 | P17: =N17*O17 -> 0 | Q17: 0.0057 | R17: =N17*Q17 -> 0.725895 | T17: =N17*S17 -> 0 | U17: 21 | V17: =P17*(U17/100) -> 0 | W17: =P17+V17 -> 0 | Y17: SO_01 | Z17: 006
J18: (((4,73*2+4,5+5,42+6,96*2)+(10,6+10,4+4*3+7,4+9,4+7,6)+(10,6+10,4+4*3+7,4+4,2+9,4+7,6))*2,9)+(5,18*2,9)-((0,6*2*37)+(0,9*0,6*2+1,8*1,76*4)+((1,3*4+1,8*2+1*2+1,2*2)*0,9*2)+(2*1+1,2*1*4*2)+(235,83)) | L18: 127.35 | U18: _
U19: _
J20: 009: Ostatní konstrukce a práce | P20: =SUBTOTAL(9,P21:P30) -> 0 | R20: =SUBTOTAL(9,R21:R30) -> 0 | T20: =SUBTOTAL(9,T21:T30) -> 25.39793 | U20: _ | V20: =SUBTOTAL(9,V21:V30) -> 0 | W20: =SUBTOTAL(9,W21:W30) -> 0
F21: 1 | G21: SP | H21: 946112118 | J21: Montáž pojízdných věží trubkových/dílcových š do 1,6 m dl do 3,2 m v přes 7,6 do 8,6 m | K21: kus | L21: 1 | M21: 0 | N21: =L21*(1+M21/100) -> 1 | O21: 0 | P21: =N21*O21 -> 0 | R21: =N21*Q21 -> 0 | T21: =N21*S21 -> 0 | U21: 21 | V21: =P21*(U21/100) -> 0 | W21: =P21+V21 -> 0 | Y21: SO_01 | Z21: 009
F22: 2 | G22: SP | H22: 946112218 | J22: Příplatek k pojízdným věžím š do 1,6 m dl do 3,2 m v do 8,6 m za první a ZKD den použití | K22: kus | L22: 10 | M22: 0 | N22: =L22*(1+M22/100) -> 10 | O22: 0 | P22: =N22*O22 -> 0 | R22: =N22*Q22 -> 0 | T22: =N22*S22 -> 0 | U22: 21 | V22: =P22*(U22/100) -> 0 | W22: =P22+V22 -> 0 | Y22: SO_01 | Z22: 009
F23: 3 | G23: SP | H23: 946112818 | J23: Demontáž pojízdných věží trubkových/dílcových š přes 0,9 do 1,6 m dl do 3,2 m v přes 7,6 do 8,6 m | K23: kus | L23: 1 | M23: 0 | N23: =L23*(1+M23/100) -> 1 | O23: 0 | P23: =N23*O23 -> 0 | R23: =N23*Q23 -> 0 | T23: =N23*S23 -> 0 | U23: 21 | V23: =P23*(U23/100) -> 0 | W23: =P23+V23 -> 0 | Y23: SO_01 | Z23: 009
F24: 4 | G24: SP | H24: 965081213 | J24: Bourání podlah z dlaždic keramických nebo xylolitových tl do 10 mm plochy přes 1 m2 | K24: m2 | L24: 62.43 | M24: 0 | N24: =L24*(1+M24/100) -> 62.43 | O24: 0 | P24: =N24*O24 -> 0 | R24: =N24*Q24 -> 0 | S24: 0.035 | T24: =N24*S24 -> 2.18505 | U24: 21 | V24: =P24*(U24/100) -> 0 | W24: =P24+V24 -> 0 | Y24: SO_01 | Z24: 009
F25: 5 | G25: SP | H25: 974031121 | J25: Vysekání rýh ve zdivu cihelném hl do 30 mm š do 30 mm | K25: m | L25: 40 | M25: 0 | N25: =L25*(1+M25/100) -> 40 | O25: 0 | P25: =N25*O25 -> 0 | R25: =N25*Q25 -> 0 | S25: 0.002 | T25: =N25*S25 -> 0.08 | U25: 21 | V25: =P25*(U25/100) -> 0 | W25: =P25+V25 -> 0 | Y25: SO_01 | Z25: 009
J26: zdravotechnika - případné nové trasy;40 | L26: 40 | U26: _
F27: 6 | G27: SP | H27: 978013191 | J27: Otlučení (osekání) vnitřní vápenné nebo vápenocementové omítky stěn v rozsahu přes 50 do 100 % | K27: m2 | L27: 202.92 | M27: 0 | N27: =L27*(1+M27/100) -> 202.92 | O27: 0 | P27: =N27*O27 -> 0 | R27: =N27*Q27 -> 0 | S27: 0.046 | T27: =N27*S27 -> 9.33432 | U27: 21 | V27: =P27*(U27/100) -> 0 | W27: =P27+V27 -> 0 | Y27: SO_01 | Z27: 009
F28: 7 | G28: SP | H28: 978059541 | J28: Odsekání a odebrání obkladů stěn z vnitřních obkládaček plochy přes 1 m2 | K28: m2 | L28: 202.92 | M28: 0 | N28: =L28*(1+M28/100) -> 202.92 | O28: 0 | P28: =N28*O28 -> 0 | R28: =N28*Q28 -> 0 | S28: 0.068 | T28: =N28*S28 -> 13.79856 | U28: 21 | V28: =P28*(U28/100) -> 0 | W28: =P28+V28 -> 0 | Y28: SO_01 | Z28: 009
J29: v soc. zařízení a kuchyňce ve 2. a 3.NP;(((4,73*2+4,5+5,42+6,96*2)+(10,6+10,4+4*3+7,4+9,4+7,6)+(10,6+10,4+4*3+7,4+4,2+9,4+7,6))*1,5)+(5,18*1,5)-((0,6*1,5)*(10+13+14)) | L29: 202.92 | U29: _
U30: _
J31: 099: Přesun hmot HSV | P31: =SUBTOTAL(9,P32:P41) -> 0 | R31: =SUBTOTAL(9,R32:R41) -> 0 | T31: =SUBTOTAL(9,T32:T41) -> 0 | U31: _ | V31: =SUBTOTAL(9,V32:V41) -> 0 | W31: =SUBTOTAL(9,W32:W41) -> 0
F32: 1 | G32: SP | H32: 997002611 | J32: Nakládání suti a vybouraných hmot | K32: t | L32: 27.59872 | M32: 0 | N32: =L32*(1+M32/100) -> 27.59872 | O32: 0 | P32: =N32*O32 -> 0 | R32: =N32*Q32 -> 0 | T32: =N32*S32 -> 0 | U32: 21 | V32: =P32*(U32/100) -> 0 | W32: =P32+V32 -> 0 | Y32: SO_01 | Z32: 099
F33: 2 | G33: SP | H33: 997013213 | J33: Vnitrostaveništní doprava suti a vybouraných hmot pro budovy v přes 9 do 12 m ručně | K33: t | L33: 27.59872 | M33: 0 | N33: =L33*(1+M33/100) -> 27.59872 | O33: 0 | P33: =N33*O33 -> 0 | R33: =N33*Q33 -> 0 | T33: =N33*S33 -> 0 | U33: 21 | V33: =P33*(U33/100) -> 0 | W33: =P33+V33 -> 0 | Y33: SO_01 | Z33: 099
F34: 3 | G34: SP | H34: 997013311 | J34: Montáž a demontáž shozu suti v do 10 m | K34: m | L34: 8 | M34: 0 | N34: =L34*(1+M34/100) -> 8 | O34: 0 | P34: =N34*O34 -> 0 | R34: =N34*Q34 -> 0 | T34: =N34*S34 -> 0 | U34: 21 | V34: =P34*(U34/100) -> 0 | W34: =P34+V34 -> 0 | Y34: SO_01 | Z34: 099
F35: 4 | G35: SP | H35: 997013321 | J35: Příplatek k shozu suti v do 10 m za první a ZKD den použití | K35: m | L35: 80 | M35: 0 | N35: =L35*(1+M35/100) -> 80 | O35: 0 | P35: =N35*O35 -> 0 | R35: =N35*Q35 -> 0 | T35: =N35*S35 -> 0 | U35: 21 | V35: =P35*(U35/100) -> 0 | W35: =P35+V35 -> 0 | Y35: SO_01 | Z35: 099
F36: 5 | G36: SP | H36: 997013501 | J36: Odvoz suti a vybouraných hmot na skládku nebo meziskládku do 1 km se složením | K36: t | L36: 27.59872 | M36: 0 | N36: =L36*(1+M36/100) -> 27.59872 | O36: 0 | P36: =N36*O36 -> 0 | R36: =N36*Q36 -> 0 | T36: =N36*S36 -> 0 | U36: 21 | V36: =P36*(U36/100) -> 0 | W36: =P36+V36 -> 0 | Y36: SO_01 | Z36: 099
F37: 6 | G37: SP | H37: 997013509 | J37: Příplatek k odvozu suti a vybouraných hmot na skládku ZKD 1 km přes 1 km | K37: t | L37: 248.391 | M37: 0 | N37: =L37*(1+M37/100) -> 248.391 | O37: 0 | P37: =N37*O37 -> 0 | R37: =N37*Q37 -> 0 | T37: =N37*S37 -> 0 | U37: 21 | V37: =P37*(U37/100) -> 0 | W37: =P37+V37 -> 0 | Y37: SO_01 | Z37: 099
J38: 27,599*9 | L38: 248.391 | U38: _
F39: 7 | G39: SP | H39: 997013609 | J39: Poplatek za uložení na skládce (skládkovné) stavebního odpadu ze směsí nebo oddělených frakcí betonu, cihel a keramických výrobků kód odpadu 17 01 07 | K39: t | L39: 27.599 | M39: 0 | N39: =L39*(1+M39/100) -> 27.599 | O39: 0 | P39: =N39*O39 -> 0 | R39: =N39*Q39 -> 0 | T39: =N39*S39 -> 0 | U39: 21 | V39: =P39*(U39/100) -> 0 | W39: =P39+V39 -> 0 | Y39: SO_01 | Z39: 099
F40: 8 | G40: SP | H40: 998011002 | J40: Přesun hmot pro budovy zděné v přes 6 do 12 m | K40: t | L40: 7.3696526 | M40: 0 | N40: =L40*(1+M40/100) -> 7.3696526 | O40: 0 | P40: =N40*O40 -> 0 | R40: =N40*Q40 -> 0 | T40: =N40*S40 -> 0 | U40: 21 | V40: =P40*(U40/100) -> 0 | W40: =P40+V40 -> 0 | Y40: SO_01 | Z40: 099
U41: _
J42: 721: Kanalizace splašková | P42: =SUBTOTAL(9,P43:P64) -> 0 | R42: =SUBTOTAL(9,R43:R64) -> 0.10775 | T42: =SUBTOTAL(9,T43:T64) -> 0.13673 | U42: _ | V42: =SUBTOTAL(9,V43:V64) -> 0 | W42: =SUBTOTAL(9,W43:W64) -> 0
F43: 1 | G43: H | H43: 28615625 | J43: odbočka HTEA úhel 45° DN 110/110 | K43: kus | L43: 5 | M43: 0 | N43: =L43*(1+M43/100) -> 5 | O43: 0 | P43: =N43*O43 -> 0 | Q43: 0.00038 | R43: =N43*Q43 -> 0.0019 | T43: =N43*S43 -> 0 | U43: 21 | V43: =P43*(U43/100) -> 0 | W43: =P43+V43 -> 0 | Y43: SO_01 | Z43: 721
...

Sheet Figury
A1: Figura | B1: Výraz | C1: Hodnota | D1: Popis
B2: instalační;(1*1,3*8+2,3*1,3*2+2,2*1,3*4+1,5*1,3*2)
B3: instalační mimo WC;(2,3*1,3*2+2,2*1,3*4+1,5*1,3*2)
B4: WC;(1,3*2,9*2+0,8*2,9*6)
B5: pro hydrant;15
