Workbook
Name __CENA__: Zakazka!$P$6:$P$217
Name __MAIN__: Zakazka!$F$1:$DE$216
Name __MAIN2__: Rekapitulace!$B$1:$H$32
Name __MAIN2__: #REF!
Name __MAIN3__: 'Kryci list'!$A$3:$C$19
Name __SAZBA__: Zakazka!$U$6:$U$217
Name __T0__: Zakazka!$F$5:$AC$216
Name __T1__: Zakazka!$F$6:$AC$11
Name __T2__: Zakazka!$F$7:$DE$8
Name __T3__: Zakazka!$J$8:$M$8
Name __TE0__: 'Kryci list'!$A$4:$C$13
Name __TE1__: 'Kryci list'!#REF!
Name __TE2__: 'Kryci list'!#REF!
Name __TE3__: Figury!$A$2:$D$2
Name __TR0__: Rekapitulace!$B$5:$F$6
Name __TR0__: #REF!
Name __TR1__: Rekapitulace!$B$6:$F$6
Name __TR1__: #REF!

Sheet Kryci list
A2: Výkaz výměr
A3: Zakázka
A4: Číslo zakázky | B4: POD-23024-03
A5: Zakázka | B5: ÚPRAVA SOCIÁLNÍHO ZAŘÍZENÍ - TS PODĚBRADY
A6: Klasifikace
A7: Fáze | B7: Příprava realizace
A8: Komentář
A10: Verze
A11: Popis | B11: Nabídka
A12: Komentář
A14: Firmy
A15: Typ Firmy | B15: Název
A17: Uživatelé
A18: Význam (funkce) | B18: Jméno

Sheet Rekapitulace
B1: Zakázka:
A2: {=INDEX(__SAZBA__,MATCH(0,COUNTIF($A$1:A1,__SAZBA__),0))} -> _ | B2: ='Kryci list'!B5 -> ÚPRAVA SOCIÁLNÍHO ZAŘÍZENÍ - TS PODĚBRADY
A3: {=INDEX(__SAZBA__,MATCH(0,COUNTIF($A$1:A2,__SAZBA__),0))} -> 21 | B3: Popis | C3: Cena | D3: Hmotnost | E3: DPH | F3: Cena s DPH
A4: {=INDEX(__SAZBA__,MATCH(0,COUNTIF($A$1:A3,__SAZBA__),0))} -> #N/A
B5: =IF(Zakazka!$J$5=0,"",Zakazka!$J$5) -> SO_01: Stavební objekt 01 | C5: =IF(Zakazka!$P$5=0,"",Zakazka!$P$5) | D5: =IF(Zakazka!$R$5=0,"",Zakazka!$R$5) -> 16.087155 | E5: =IF(Zakazka!$V$5=0,"",Zakazka!$V$5) | F5: =IF(Zakazka!$W$5=0,"",Zakazka!$W$5)
B6: =IF(Zakazka!$J$6=0,"",Zakazka!$J$6) -> 003: Svislé konstrukce | C6: =IF(Zakazka!$P$6=0,"",Zakazka!$P$6) | D6: =IF(Zakazka!$R$6=0,"",Zakazka!$R$6) -> 2.3399756 | E6: =IF(Zakazka!$V$6=0,"",Zakazka!$V$6) | F6: =IF(Zakazka!$W$6=0,"",Zakazka!$W$6)
B7: =IF(Zakazka!$J$12=0,"",Zakazka!$J$12) -> 006: Úpravy povrchu | C7: =IF(Zakazka!$P$12=0,"",Zakazka!$P$12) | D7: =IF(Zakazka!$R$12=0,"",Zakazka!$R$12) -> 5.029677 | E7: =IF(Zakazka!$V$12=0,"",Zakazka!$V$12) | F7: =IF(Zakazka!$W$12=0,"",Zakazka!$W$12)
B8: =IF(Zakazka!$J$20=0,"",Zakazka!$J$20) -> 009: Ostatní konstrukce a práce | C8: =IF(Zakazka!$P$20=0,"",Zakazka!$P$20) | D8: =IF(Zakazka!$R$20=0,"",Zakazka!$R$20) | E8: =IF(Zakazka!$V$20=0,"",Zakazka!$V$20) | F8: =IF(Zakazka!$W$20=0,"",Zakazka!$W$20)
B9: =IF(Zakazka!$J$31=0,"",Zakazka!$J$31) -> 099: Přesun hmot HSV | C9: =IF(Zakazka!$P$31=0,"",Zakazka!$P$31) | D9: =IF(Zakazka!$R$31=0,"",Zakazka!$R$31) | E9: =IF(Zakazka!$V$31=0,"",Zakazka!$V$31) | F9: =IF(Zakazka!$W$31=0,"",Zakazka!$W$31)
B10: =IF(Zakazka!$J$42=0,"",Zakazka!$J$42) -> 721: Kanalizace splašková | C10: =IF(Zakazka!$P$42=0,"",Zakazka!$P$42) | D10: =IF(Zakazka!$R$42=0,"",Zakazka!$R$42) -> 0.10775 | E10: =IF(Zakazka!$V$42=0,"",Zakazka!$V$42) | F10: =IF(Zakazka!$W$42=0,"",Zakazka!$W$42)
B11: =IF(Zakazka!$J$65=0,"",Zakazka!$J$65) -> 722: Vnitřní vodovod | C11: =IF(Zakazka!$P$65=0,"",Zakazka!$P$65) | D11: =IF(Zakazka!$R$65=0,"",Zakazka!$R$65) -> 0.44148 | E11: =IF(Zakazka!$V$65=0,"",Zakazka!$V$65) | F11: =IF(Zakazka!$W$65=0,"",Zakazka!$W$65)
B12: =IF(Zakazka!$J$103=0,"",Zakazka!$J$103) -> 725: Zařizovací předměty | C12: =IF(Zakazka!$P$103=0,"",Zakazka!$P$103) | D12: =IF(Zakazka!$R$103=0,"",Zakazka!$R$103) -> 0.34845 | E12: =IF(Zakazka!$V$103=0,"",Zakazka!$V$103) | F12: =IF(Zakazka!$W$103=0,"",Zakazka!$W$103)
B13: =IF(Zakazka!$J$133=0,"",Zakazka!$J$133) -> 726: Instalační prefabrikáty | C13: =IF(Zakazka!$P$133=0,"",Zakazka!$P$133) | D13: =IF(Zakazka!$R$133=0,"",Zakazka!$R$133) -> 0.0736 | E13: =IF(Zakazka!$V$133=0,"",Zakazka!$V$133) | F13: =IF(Zakazka!$W$133=0,"",Zakazka!$W$133)
B14: =IF(Zakazka!$J$137=0,"",Zakazka!$J$137) -> 727: Protipožární ochrana | C14: =IF(Zakazka!$P$137=0,"",Zakazka!$P$137) | D14: =IF(Zakazka!$R$137=0,"",Zakazka!$R$137) -> 0.00504 | E14: =IF(Zakazka!$V$137=0,"",Zakazka!$V$137) | F14: =IF(Zakazka!$W$137=0,"",Zakazka!$W$137)
B15: =IF(Zakazka!$J$141=0,"",Zakazka!$J$141) -> 735: Ústřední vytápění - otopná tělesa | C15: =IF(Zakazka!$P$141=0,"",Zakazka!$P$141) | D15: =IF(Zakazka!$R$141=0,"",Zakazka!$R$141) | E15: =IF(Zakazka!$V$141=0,"",Zakazka!$V$141) | F15: =IF(Zakazka!$W$141=0,"",Zakazka!$W$141)
B16: =IF(Zakazka!$J$148=0,"",Zakazka!$J$148) -> 741: Elektromontáže | C16: =IF(Zakazka!$P$148=0,"",Zakazka!$P$148) | D16: =IF(Zakazka!$R$148=0,"",Zakazka!$R$148) | E16: =IF(Zakazka!$V$148=0,"",Zakazka!$V$148) | F16: =IF(Zakazka!$W$148=0,"",Zakazka!$W$148)
B17: =IF(Zakazka!$J$152=0,"",Zakazka!$J$152) -> 763: Konstrukce montované | C17: =IF(Zakazka!$P$152=0,"",Zakazka!$P$152) | D17: =IF(Zakazka!$R$152=0,"",Zakazka!$R$152) -> 0.9847994 | E17: =IF(Zakazka!$V$152=0,"",Zakazka!$V$152) | F17: =IF(Zakazka!$W$152=0,"",Zakazka!$W$152)
B18: =IF(Zakazka!$J$157=0,"",Zakazka!$J$157) -> 766: Konstrukce truhlářské | C18: =IF(Zakazka!$P$157=0,"",Zakazka!$P$157) | D18: =IF(Zakazka!$R$157=0,"",Zakazka!$R$157) | E18: =IF(Zakazka!$V$157=0,"",Zakazka!$V$157) | F18: =IF(Zakazka!$W$157=0,"",Zakazka!$W$157)
B19: =IF(Zakazka!$J$163=0,"",Zakazka!$J$163) -> 767: Konstrukce zámečnické | C19: =IF(Zakazka!$P$163=0,"",Zakazka!$P$163) | D19: =IF(Zakazka!$R$163=0,"",Zakazka!$R$163) -> 0.00018 | E19: =IF(Zakazka!$V$163=0,"",Zakazka!$V$163) | F19: =IF(Zakazka!$W$163=0,"",Zakazka!$W$163)
B20: =IF(Zakazka!$J$168=0,"",Zakazka!$J$168) -> 771: Podlahy z dlaždic | C20: =IF(Zakazka!$P$168=0,"",Zakazka!$P$168) | D20: =IF(Zakazka!$R$168=0,"",Zakazka!$R$168) -> 2.0167361 | E20: =IF(Zakazka!$V$168=0,"",Zakazka!$V$168) | F20: =IF(Zakazka!$W$168=0,"",Zakazka!$W$168)
B21: =IF(Zakazka!$J$182=0,"",Zakazka!$J$182) -> 781: Obklady keramické | C21: =IF(Zakazka!$P$182=0,"",Zakazka!$P$182) | D21: =IF(Zakazka!$R$182=0,"",Zakazka!$R$182) -> 4.6969072 | E21: =IF(Zakazka!$V$182=0,"",Zakazka!$V$182) | F21: =IF(Zakazka!$W$182=0,"",Zakazka!$W$182)
B22: =IF(Zakazka!$J$198=0,"",Zakazka!$J$198) -> 783: Nátěry | C22: =IF(Zakazka!$P$198=0,"",Zakazka!$P$198) | D22: =IF(Zakazka!$R$198=0,"",Zakazka!$R$198) -> 0.005832 | E22: =IF(Zakazka!$V$198=0,"",Zakazka!$V$198) | F22: =IF(Zakazka!$W$198=0,"",Zakazka!$W$198)
B23: =IF(Zakazka!$J$203=0,"",Zakazka!$J$203) -> 784: Malby | C23: =IF(Zakazka!$P$203=0,"",Zakazka!$P$203) | D23: =IF(Zakazka!$R$203=0,"",Zakazka!$R$203) -> 0.03672816 | E23: =IF(Zakazka!$V$203=0,"",Zakazka!$V$203) | F23: =IF(Zakazka!$W$203=0,"",Zakazka!$W$203)
B24: =IF(Zakazka!$J$210=0,"",Zakazka!$J$210) -> V06: Územní vlivy | C24: =IF(Zakazka!$P$210=0,"",Zakazka!$P$210) | D24: =IF(Zakazka!$R$210=0,"",Zakazka!$R$210) | E24: =IF(Zakazka!$V$210=0,"",Zakazka!$V$210) | F24: =IF(Zakazka!$W$210=0,"",Zakazka!$W$210)
B25: =IF(Zakazka!$J$213=0,"",Zakazka!$J$213) -> V07: Provozní vlivy | C25: =IF(Zakazka!$P$213=0,"",Zakazka!$P$213) | D25: =IF(Zakazka!$R$213=0,"",Zakazka!$R$213) | E25: =IF(Zakazka!$V$213=0,"",Zakazka!$V$213) | F25: =IF(Zakazka!$W$213=0,"",Zakazka!$W$213)
A27: =SUM(A29:A30) -> 0 | B27: Celkem (bez DPH) | C27: =SUBTOTAL(9,C5:C26)/2 -> 0
B28: DPH | C28: =SUBTOTAL(9,C29:C30) -> 0
A29: =IF(ISNUMBER(A3),SUMIF(__SAZBA__,A3,__CENA__),0) -> 0 | B29: =IF(A29=0,"","DPH " & A3 & " % ze základny: " & TEXT(A29,"# ##0")) | C29: =IF(A29=0,"",A29*A3/100)
A30: =IF(ISNUMBER(A4),SUMIF(__SAZBA__,A4,__CENA__),0) -> 0 | B30: =IF(A30=0,"","DPH " & A4 & " % ze základny: " & TEXT(A30,"# ##0")) | C30: =IF(A30=0,"",A30*A4/100)
B31: Celkem (včetně DPH) | C31: =SUM(C27:C28) -> 0

Sheet Zakazka
F3: Poř. | G3: Typ | H3: Kód | I3: Alter. kód | J3: Popis | K3: MJ | L3: Výměra bez ztr. | M3: Ztratné | N3: Výměra | O3: Jedn. cena | P3: Cena | Q3: Jedn. hmotn. | R3: Hmotnost | S3: Jedn. suť | T3: Suť | U3: Sazba DPH | V3: DPH | W3: Cena s DPH | X3: Komentář | Y3: Objekt | Z3: Oddíl
J5: SO_01: Stavební objekt 01 | P5: =SUBTOTAL(9,P6:P216) -> 0 | R5: =SUBTOTAL(9,R6:R216) -> 16.087155 | T5: =SUBTOTAL(9,T6:T216) -> 27.61654 | U5: _ | V5: =SUBTOTAL(9,V6:V216) -> 0 | W5: =SUBTOTAL(9,W6:W216) -> 0
J6: 003: Svislé konstrukce | P6: =SUBTOTAL(9,P7:P11) -> 0 | R6: =SUBTOTAL(9,R7:R11) -> 2.3399756 | T6: =SUBTOTAL(9,T7:T11) -> 0 | U6: _ | V6: =SUBTOTAL(9,V7:V11) -> 0 | W6: =SUBTOTAL(9,W7:W11) -> 0
A7: ##T2##N_Catalog_catGUID | B7: ##T2##PRO_ITEM_catID | C7: ##T2##PRO_ITEM_iteCode | D7: ##T2##PRO_ITEM_szvCode | E7: ##T2##PRO_ITEM_tevCode | F7: 1 | G7: SP | H7: 310237241 | J7: Zazdívka otvorů pl přes 0,09 do 0,25 m2 ve zdivu nadzákladovém cihlami pálenými tl do 300 mm | K7: kus | L7: 1 | M7: 0 | N7: =L7*(1+M7/100) -> 1 | O7: 0 | P7: =N7*O7 -> 0 | Q7: 0.12021 | R7: =N7*Q7 -> 0.12021 | T7: =N7*S7 -> 0 | U7: 21 | V7: =P7*(U7/100) -> 0 | W7: =P7+V7 -> 0 | Y7: SO_01 | Z7: 003
J8: zazdívka hlavního přívodu v suterénu;1 | L8: 1 | U8: _
F9: 2 | G9: SP | H9: 342272235 | J9: Příčka z pórobetonových hladkých tvárnic na tenkovrstvou maltu tl 125 mm | K9: m2 | L9: 31.72 | M9: 0 | N9: =L9*(1+M9/100) -> 31.72 | O9: 0 | P9: =N9*O9 -> 0 | Q9: 0.06998 | R9: =N9*Q9 -> 2.2197656 | T9: =N9*S9 -> 0 | U9: 21 | V9: =P9*(U9/100) -> 0 | W9: =P9+V9 -> 0 | Y9: SO_01 | Z9: 003
J10: instalační;(1*1,3*8+2,3*1,3*2+2,2*1,3*4+1,5*1,3*2) | L10: 31.72 | U10: _
U11: _
J12: 006: Úpravy povrchu | P12: =SUBTOTAL(9,P13:P19) -> 0 | R12: =SUBTOTAL(9,R13:R19) -> 5.029677 | T12: =SUBTOTAL(9,T13:T19) -> 0 | U12: _ | V12: =SUBTOTAL(9,V13:V19) -> 0 | W12: =SUBTOTAL(9,W13:W19) -> 0
F13: 1 | G13: SP | H13: 612135101 | J13: Hrubá výplň rýh ve stěnách maltou jakékoli šířky rýhy | K13: m2 | L13: 12 | M13: 0 | N13: =L13*(1+M13/100) -> 12 | O13: 0 | P13: =N13*O13 -> 0 | Q13: 0.056 | R13: =N13*Q13 -> 0.672 | T13: =N13*S13 -> 0 | U13: 21 | V13: =P13*(U13/100) -> 0 | W13: =P13+V13 -> 0 | Y13: SO_01 | Z13: 006
J14: zdravotechnika - případné nové trasy a po demontáži původních;(40+80)*0,1 | L14: 12 | U14: _
F15: 2 | G15: SP | H15: 612321121 | J15: Vápenocementová omítka hladká jednovrstvá vnitřních stěn nanášená ručně | K15: m2 | L15: 235.83 | M15: 0 | N15: =L15*(1+M15/100) -> 235.83 | O15: 0 | P15: =N15*O15 -> 0 | Q15: 0.0154 | R15: =N15*Q15 -> 3.631782 | T15: =N15*S15 -> 0 | U15: 21 | V15: =P15*(U15/100) -> 0 | W15: =P15+V15 -> 0 | Y15: SO_01 | Z15: 006
J16: obklad v soc. zařízení a kuchyňce ve 2. a 3.NP;(((4,73*2+4,5+5,42+6,96*2)+(10,6+10,4+4*3+7,4+9,4+7,6)+(10,6+10,4+4*3+7,4+4,2+9,4+7,6))*1,8)+(5,18*1,5)-(((0,6*1,5)*(10+13+14))+7,1*1,8) | L16: 235.83 | U16: _
F17: 3 | G17: SP | H17: 612325421 | J17: Oprava vnitřní vápenocementové štukové omítky stěn v rozsahu plochy do 10 % | K17: m2 | L17: 127.35 | M17: 0 | N17: =L17*(1+M17/100) -> 127.35 | O17: 0 | P17: =N17*O17 -> 0 | Q17: 0.0057 | R17: =N17*Q17 -> 0.725895 | T17: =N17*S17 -> 0 | U17: 21 | V17: =P17*(U17/100) -> 0 | W17: =P17+V17 -> 0 | Y17: SO_01 | Z17: 006
J18: (((4,73*2+4,5+5,42+6,96*2)+(10,6+10,4+4*3+7,4+9,4+7,6)+(10,6+10,4+4*3+7,4+4,2+9,4+7,6))*2,9)+(5,18*2,9)-((0,6*2*37)+(0,9*0,6*2+1,8*1,76*4)+((1,3*4+1,8*2+1*2+1,2*2)*0,9*2)+(2*1+1,2*1*4*2)+(235,83)) | L18: 127.35 | U18: _
U19: _
J20: 009: Ostatní konstrukce a práce | P20: =SUBTOTAL(9,P21:P30) -> 0 | R20: =SUBTOTAL(9,R21:R30) -> 0 | T20: =SUBTOTAL(9,T21:T30) -> 25.39793 | U20: _ | V20: =SUBTOTAL(9,V21:V30) -> 0 | W20: =SUBTOTAL(9,W21:W30) -> 0
F21: 1 | G21: SP | H21: 946112118 | J21: Montáž pojízdných věží trubkových/dílcových š do 1,6 m dl do 3,2 m v přes 7,6 do 8,6 m | K21: kus | L21: 1 | M21: 0 | N21: =L21*(1+M21/100) -> 1 | O21: 0 | P21: =N21*O21 -> 0 | R21: =N21*Q21 -> 0 | T21: =N21*S21 -> 0 | U21: 21 | V21: =P21*(U21/100) -> 0 | W21: =P21+V21 -> 0 | Y21: SO_01 | Z21: 009
F22: 2 | G22: SP | H22: 946112218 | J22: Příplatek k pojízdným věžím š do 1,6 m dl do 3,2 m v do 8,6 m za první a ZKD den použití | K22: kus | L22: 10 | M22: 0 | N22: =L22*(1+M22/100) -> 10 | O22: 0 | P22: =N22*O22 -> 0 | R22: =N22*Q22 -> 0 | T22: =N22*S22 -> 0 | U22: 21 | V22: =P22*(U22/100) -> 0 | W22: =P22+V22 -> 0 | Y22: SO_01 | Z22: 009
F23: 3 | G23: SP | H23: 946112818 | J23: Demontáž pojízdných věží trubkových/dílcových š přes 0,9 do 1,6 m dl do 3,2 m v přes 7,6 do 8,6 m | K23: kus | L23: 1 | M23: 0 | N23: =L23*(1+M23/100) -> 1 | O23: 0 | P23: =N23*O23 -> 0 | R23: =N23*Q23 -> 0 | T23: =N23*S23 -> 0 | U23: 21 | V23: =P23*(U23/100) -> 0 | W23: =P23+V23 -> 0 | Y23: SO_01 | Z23: 009
F24: 4 | G24: SP | H24: 965081213 | J24: Bourání podlah z dlaždic keramických nebo xylolitových tl do 10 mm plochy přes 1 m2 | K24: m2 | L24: 62.43 | M24: 0 | N24: =L24*(1+M24/100) -> 62.43 | O24: 0 | P24: =N24*O24 -> 0 | R24: =N24*Q24 -> 0 | S24: 0.035 | T24: =N24*S24 -> 2.18505 | U24: 21 | V24: =P24*(U24/100) -> 0 | W24: =P24+V24 -> 0 | Y24: SO_01 | Z24: 009
F25: 5 | G25: SP | H25: 974031121 | J25: Vysekání rýh ve zdivu cihelném hl do 30 mm š do 30 mm | K25: m | L25: 40 | M25: 0 | N25: =L25*(1+M25/100) -> 40 | O25: 0 | P25: =N25*O25 -> 0 | R25: =N25*Q25 -> 0 | S25: 0.002 | T25: =N25*S25 -> 0.08 | U25: 21 | V25: =P25*(U25/100) -> 0 | W25: =P25+V25 -> 0 | Y25: SO_01 | Z25: 009
J26: zdravotechnika - případné nové trasy;40 | L26: 40 | U26: _
F27: 6 | G27: SP | H27: 978013191 | J27: Otlučení (osekání) vnitřní vápenné nebo vápenocementové omítky stěn v rozsahu přes 50 do 100 % | K27: m2 | L27: 202.92 | M27: 0 | N27: =L27*(1+M27/100) -> 202.92 | O27: 0 | P27: =N27*O27 -> 0 | R27: =N27*Q27 -> 0 | S27: 0.046 | T27: =N27*S27 -> 9.33432 | U27: 21 | V27: =P27*(U27/100) -> 0 | W27: =P27+V27 -> 0 | Y27: SO_01 | Z27: 009
F28: 7 | G28: SP | H28: 978059541 | J28: Odsekání a odebrání obkladů stěn z vnitřních obkládaček plochy přes 1 m2 | K28: m2 | L28: 202.92 | M28: 0 | N28: =L28*(1+M28/100) -> 202.92 | O28: 0 | P28: =N28*O28 -> 0 | R28: =N28*Q28 -> 0 | S28: 0.068 | T28: =N28*S28 -> 13.79856 | U28: 21 | V28: =P28*(U28/100) -> 0 | W28: =P28+V28 -> 0 | Y28: SO_01 | Z28: 009
J29: v soc. zařízení a kuchyňce ve 2. a 3.NP;(((4,73*2+4,5+5,42+6,96*2)+(10,6+10,4+4*3+7,4+9,4+7,6)+(10,6+10,4+4*3+7,4+4,2+9,4+7,6))*1,5)+(5,18*1,5)-((0,6*1,5)*(10+13+14)) | L29: 202.92 | U29: _
U30: _
J31: 099: Přesun hmot HSV | P31: =SUBTOTAL(9,P32:P41) -> 0 | R31: =SUBTOTAL(9,R32:R41) -> 0 | T31: =SUBTOTAL(9,T32:T41) -> 0 | U31: _ | V31: =SUBTOTAL(9,V32:V41) -> 0 | W31: =SUBTOTAL(9,W32:W41) -> 0
F32: 1 | G32: SP | H32: 997002611 | J32: Nakládání suti a vybouraných hmot | K32: t | L32: 27.59872 | M32: 0 | N32: =L32*(1+M32/100) -> 27.59872 | O32: 0 | P32: =N32*O32 -> 0 | R32: =N32*Q32 -> 0 | T32: =N32*S32 -> 0 | U32: 21 | V32: =P32*(U32/100) -> 0 | W32: =P32+V32 -> 0 | Y32: SO_01 | Z32: 099
F33: 2 | G33: SP | H33: 997013213 | J33: Vnitrostaveništní doprava suti a vybouraných hmot pro budovy v přes 9 do 12 m ručně | K33: t | L33: 27.59872 | M33: 0 | N33: =L33*(1+M33/100) -> 27.59872 | O33: 0 | P33: =N33*O33 -> 0 | R33: =N33*Q33 -> 0 | T33: =N33*S33 -> 0 | U33: 21 | V33: =P33*(U33/100) -> 0 | W33: =P33+V33 -> 0 | Y33: SO_01 | Z33: 099
F34: 3 | G34: SP | H34: 997013311 | J34: Montáž a demontáž shozu suti v do 10 m | K34: m | L34: 8 | M34: 0 | N34: =L34*(1+M34/100) -> 8 | O34: 0 | P34: =N34*O34 -> 0 | R34: =N34*Q34 -> 0 | T34: =N34*S34 -> 0 | U34: 21 | V34: =P34*(U34/100) -> 0 | W34: =P34+V34 -> 0 | Y34: SO_01 | Z34: 099
F35: 4 | G35: SP | H35: 997013321 | J35: Příplatek k shozu suti v do 10 m za první a ZKD den použití | K35: m | L35: 80 | M35: 0 | N35: =L35*(1+M35/100) -> 80 | O35: 0 | P35: =N35*O35 -> 0 | R35: =N35*Q35 -> 0 | T35: =N35*S35 -> 0 | U35: 21 | V35: =P35*(U35/100) -> 0 | W35: =P35+V35 -> 0 | Y35: SO_01 | Z35: 099
F36: 5 | G36: SP | H36: 997013501 | J36: Odvoz suti a vybouraných hmot na skládku nebo meziskládku do 1 km se složením | K36: t | L36: 27.59872 | M36: 0 | N36: =L36*(1+M36/100) -> 27.59872 | O36: 0 | P36: =N36*O36 -> 0 | R36: =N36*Q36 -> 0 | T36: =N36*S36 -> 0 | U36: 21 | V36: =P36*(U36/100) -> 0 | W36: =P36+V36 -> 0 | Y36: SO_01 | Z36: 099
F37: 6 | G37: SP | H37: 997013509 | J37: Příplatek k odvozu suti a vybouraných hmot na skládku ZKD 1 km přes 1 km | K37: t | L37: 248.391 | M37: 0 | N37: =L37*(1+M37/100) -> 248.391 | O37: 0 | P37: =N37*O37 -> 0 | R37: =N37*Q37 -> 0 | T37: =N37*S37 -> 0 | U37: 21 | V37: =P37*(U37/100) -> 0 | W37: =P37+V37 -> 0 | Y37: SO_01 | Z37: 099
J38: 27,599*9 | L38: 248.391 | U38: _
F39: 7 | G39: SP | H39: 997013609 | J39: Poplatek za uložení na skládce (skládkovné) stavebního odpadu ze směsí nebo oddělených frakcí betonu, cihel a keramických výrobků kód odpadu 17 01 07 | K39: t | L39: 27.599 | M39: 0 | N39: =L39*(1+M39/100) -> 27.599 | O39: 0 | P39: =N39*O39 -> 0 | R39: =N39*Q39 -> 0 | T39: =N39*S39 -> 0 | U39: 21 | V39: =P39*(U39/100) -> 0 | W39: =P39+V39 -> 0 | Y39: SO_01 | Z39: 099
F40: 8 | G40: SP | H40: 998011002 | J40: Přesun hmot pro budovy zděné v přes 6 do 12 m | K40: t | L40: 7.3696526 | M40: 0 | N40: =L40*(1+M40/100) -> 7.3696526 | O40: 0 | P40: =N40*O40 -> 0 | R40: =N40*Q40 -> 0 | T40: =N40*S40 -> 0 | U40: 21 | V40: =P40*(U40/100) -> 0 | W40: =P40+V40 -> 0 | Y40: SO_01 | Z40: 099
U41: _
J42: 721: Kanalizace splašková | P42: =SUBTOTAL(9,P43:P64) -> 0 | R42: =SUBTOTAL(9,R43:R64) -> 0.10775 | T42: =SUBTOTAL(9,T43:T64) -> 0.13673 | U42: _ | V42: =SUBTOTAL(9,V43:V64) -> 0 | W42: =SUBTOTAL(9,W43:W64) -> 0
F43: 1 | G43: H | H43: 28615625 | J43: odbočka HTEA úhel 45° DN 110/110 | K43: kus | L43: 5 | M43: 0 | N43: =L43*(1+M43/100) -> 5 | O43: 0 | P43: =N43*O43 -> 0 | Q43: 0.00038 | R43: =N43*Q43 -> 0.0019 | T43: =N43*S43 -> 0 | U43: 21 | V43: =P43*(U43/100) -> 0 | W43: =P43+V43 -> 0 | Y43: SO_01 | Z43: 721
F44: 2 | G44: H | H44: 28615651 | J44: čistící kus kanalizační PP DN 110 | K44: kus | L44: 5 | M44: 0 | N44: =L44*(1+M44/100) -> 5 | O44: 0 | P44: =N44*O44 -> 0 | Q44: 0.00121 | R44: =N44*Q44 -> 0.00605 | T44: =N44*S44 -> 0 | U44: 21 | V44: =P44*(U44/100) -> 0 | W44: =P44+V44 -> 0 | Y44: SO_01 | Z44: 721
F45: 3 | G45: H | H45: 42390280 | J45: objímka potrubí 4" rozpětí 124-129mm | K45: kus | L45: 20 | M45: 0 | N45: =L45*(1+M45/100) -> 20 | O45: 0 | P45: =N45*O45 -> 0 | Q45: 0.00032 | R45: =N45*Q45 -> 0.0064 | T45: =N45*S45 -> 0 | U45: 21 | V45: =P45*(U45/100) -> 0 | W45: =P45+V45 -> 0 | Y45: SO_01 | Z45: 721
F46: 4 | G46: H | H46: 55161117 | J46: uzávěrka zápachová dřezová s přípojkou pro myčku a pračku DN 40 | K46: kus | L46: 1 | M46: 0 | N46: =L46*(1+M46/100) -> 1 | O46: 0 | P46: =N46*O46 -> 0 | Q46: 0.00039 | R46: =N46*Q46 -> 0.00039 | T46: =N46*S46 -> 0 | U46: 21 | V46: =P46*(U46/100) -> 0 | W46: =P46+V46 -> 0 | Y46: SO_01 | Z46: 721
F47: 5 | G47: SP | H47: 721171803 | J47: Demontáž potrubí z PVC D do 75 | K47: m | L47: 30 | M47: 0 | N47: =L47*(1+M47/100) -> 30 | O47: 0 | P47: =N47*O47 -> 0 | R47: =N47*Q47 -> 0 | S47: 0.0021 | T47: =N47*S47 -> 0.063 | U47: 21 | V47: =P47*(U47/100) -> 0 | W47: =P47+V47 -> 0 | Y47: SO_01 | Z47: 721
F48: 6 | G48: SP | H48: 721171808 | J48: Demontáž potrubí z PVC D přes 75 do 114 | K48: m | L48: 27 | M48: 0 | N48: =L48*(1+M48/100) -> 27 | O48: 0 | P48: =N48*O48 -> 0 | R48: =N48*Q48 -> 0 | S48: 0.00198 | T48: =N48*S48 -> 0.05346 | U48: 21 | V48: =P48*(U48/100) -> 0 | W48: =P48+V48 -> 0 | Y48: SO_01 | Z48: 721
F49: 7 | G49: SP | H49: 721171905 | J49: Potrubí z PP vsazení odbočky do hrdla DN 110 | K49: kus | L49: 5 | M49: 0 | N49: =L49*(1+M49/100) -> 5 | O49: 0 | P49: =N49*O49 -> 0 | Q49: 0.00179 | R49: =N49*Q49 -> 0.00895 | T49: =N49*S49 -> 0 | U49: 21 | V49: =P49*(U49/100) -> 0 | W49: =P49+V49 -> 0 | Y49: SO_01 | Z49: 721
F50: 8 | G50: SP | H50: 721174025 | J50: Potrubí kanalizační z PP odpadní DN 110 | K50: m | L50: 8 | M50: 0 | N50: =L50*(1+M50/100) -> 8 | O50: 0 | P50: =N50*O50 -> 0 | Q50: 0.00201 | R50: =N50*Q50 -> 0.01608 | T50: =N50*S50 -> 0 | U50: 21 | V50: =P50*(U50/100) -> 0 | W50: =P50+V50 -> 0 | Y50: SO_01 | Z50: 721
F51: 9 | G51: SP | H51: 721174042 | J51: Potrubí kanalizační z PP připojovací DN 40 | K51: m | L51: 25 | M51: 0 | N51: =L51*(1+M51/100) -> 25 | O51: 0 | P51: =N51*O51 -> 0 | Q51: 0.00041 | R51: =N51*Q51 -> 0.01025 | T51: =N51*S51 -> 0 | U51: 21 | V51: =P51*(U51/100) -> 0 | W51: =P51+V51 -> 0 | Y51: SO_01 | Z51: 721
F52: 10 | G52: SP | H52: 721174043 | J52: Potrubí kanalizační z PP připojovací DN 50 | K52: m | L52: 5 | M52: 0 | N52: =L52*(1+M52/100) -> 5 | O52: 0 | P52: =N52*O52 -> 0 | Q52: 0.00048 | R52: =N52*Q52 -> 0.0024 | T52: =N52*S52 -> 0 | U52: 21 | V52: =P52*(U52/100) -> 0 | W52: =P52+V52 -> 0 | Y52: SO_01 | Z52: 721
F53: 11 | G53: SP | H53: 721174045 | J53: Potrubí kanalizační z PP připojovací DN 110 | K53: m | L53: 19 | M53: 0 | N53: =L53*(1+M53/100) -> 19 | O53: 0 | P53: =N53*O53 -> 0 | Q53: 0.00224 | R53: =N53*Q53 -> 0.04256 | T53: =N53*S53 -> 0 | U53: 21 | V53: =P53*(U53/100) -> 0 | W53: =P53+V53 -> 0 | Y53: SO_01 | Z53: 721
F54: 12 | G54: SP | H54: 721194104 | J54: Vyvedení a upevnění odpadních výpustek DN 40 | K54: kus | L54: 7 | M54: 0 | N54: =L54*(1+M54/100) -> 7 | O54: 0 | P54: =N54*O54 -> 0 | R54: =N54*Q54 -> 0 | T54: =N54*S54 -> 0 | U54: 21 | V54: =P54*(U54/100) -> 0 | W54: =P54+V54 -> 0 | Y54: SO_01 | Z54: 721
F55: 13 | G55: SP | H55: 721194105 | J55: Vyvedení a upevnění odpadních výpustek DN 50 | K55: kus | L55: 4 | M55: 0 | N55: =L55*(1+M55/100) -> 4 | O55: 0 | P55: =N55*O55 -> 0 | R55: =N55*Q55 -> 0 | T55: =N55*S55 -> 0 | U55: 21 | V55: =P55*(U55/100) -> 0 | W55: =P55+V55 -> 0 | Y55: SO_01 | Z55: 721
F56: 14 | G56: SP | H56: 721194109 | J56: Vyvedení a upevnění odpadních výpustek DN 110 | K56: kus | L56: 10 | M56: 0 | N56: =L56*(1+M56/100) -> 10 | O56: 0 | P56: =N56*O56 -> 0 | R56: =N56*Q56 -> 0 | T56: =N56*S56 -> 0 | U56: 21 | V56: =P56*(U56/100) -> 0 | W56: =P56+V56 -> 0 | Y56: SO_01 | Z56: 721
F57: 15 | G57: SP | H57: 721210818 | J57: Demontáž vpustí DN 100 | K57: kus | L57: 1 | M57: 0 | N57: =L57*(1+M57/100) -> 1 | O57: 0 | P57: =N57*O57 -> 0 | R57: =N57*Q57 -> 0 | S57: 0.02027 | T57: =N57*S57 -> 0.02027 | U57: 21 | V57: =P57*(U57/100) -> 0 | W57: =P57+V57 -> 0 | Y57: SO_01 | Z57: 721
F58: 16 | G58: SP | H58: 721211401 | J58: Vpusť podlahová s vodorovným odtokem DN 40/50 mřížka nerez 115x115 | K58: kus | L58: 1 | M58: 0 | N58: =L58*(1+M58/100) -> 1 | O58: 0 | P58: =N58*O58 -> 0 | Q58: 0.00077 | R58: =N58*Q58 -> 0.00077 | T58: =N58*S58 -> 0 | U58: 21 | V58: =P58*(U58/100) -> 0 | W58: =P58+V58 -> 0 | Y58: SO_01 | Z58: 721
F59: 17 | G59: SP | H59: 721290111 | J59: Zkouška těsnosti potrubí kanalizace vodou DN do 125 | K59: m | L59: 45 | M59: 0 | N59: =L59*(1+M59/100) -> 45 | O59: 0 | P59: =N59*O59 -> 0 | R59: =N59*Q59 -> 0 | T59: =N59*S59 -> 0 | U59: 21 | V59: =P59*(U59/100) -> 0 | W59: =P59+V59 -> 0 | Y59: SO_01 | Z59: 721
F60: 18 | G60: SP | H60: 721800R01 | J60: Napojení do stávající potrubí v přízemí | K60: kpl | L60: 3 | M60: 0 | N60: =L60*(1+M60/100) -> 3 | O60: 0 | P60: =N60*O60 -> 0 | R60: =N60*Q60 -> 0 | T60: =N60*S60 -> 0 | U60: 21 | V60: =P60*(U60/100) -> 0 | W60: =P60+V60 -> 0 | Y60: SO_01 | Z60: 721
F61: 19 | G61: SP | H61: 721900R01 | J61: Stavební přípomoce (průrazy, rýhy, opravy a likvidace suti) | K61: kpl | L61: 1 | M61: 0 | N61: =L61*(1+M61/100) -> 1 | O61: 0 | P61: =N61*O61 -> 0 | R61: =N61*Q61 -> 0 | T61: =N61*S61 -> 0 | U61: 21 | V61: =P61*(U61/100) -> 0 | W61: =P61+V61 -> 0 | Y61: SO_01 | Z61: 721
F62: 20 | G62: SP | H62: 722181116 | J62: Ochrana vodovodního potrubí plstěnými pásy DN 50 a DN 65 mm | K62: m | L62: 30 | M62: 0 | N62: =L62*(1+M62/100) -> 30 | O62: 0 | P62: =N62*O62 -> 0 | Q62: 0.0004 | R62: =N62*Q62 -> 0.012 | T62: =N62*S62 -> 0 | U62: 21 | V62: =P62*(U62/100) -> 0 | W62: =P62+V62 -> 0 | Y62: SO_01 | Z62: 721
F63: 21 | G63: SP | H63: 998721102 | J63: Přesun hmot tonážní pro vnitřní kanalizace v objektech v přes 6 do 12 m | K63: t | L63: 0.08759 | M63: 0 | N63: =L63*(1+M63/100) -> 0.08759 | O63: 0 | P63: =N63*O63 -> 0 | R63: =N63*Q63 -> 0 | T63: =N63*S63 -> 0 | U63: 21 | V63: =P63*(U63/100) -> 0 | W63: =P63+V63 -> 0 | Y63: SO_01 | Z63: 721
U64: _
J65: 722: Vnitřní vodovod | P65: =SUBTOTAL(9,P66:P102) -> 0 | R65: =SUBTOTAL(9,R66:R102) -> 0.44148 | T65: =SUBTOTAL(9,T66:T102) -> 0.2769 | U65: _ | V65: =SUBTOTAL(9,V66:V102) -> 0 | W65: =SUBTOTAL(9,W66:W102) -> 0
F66: 1 | G66: H | H66: 31941137 | J66: koleno jednoznačné 90° s vnitřním a vnějším závitem černá litina DN 5/4" | K66: kus | L66: 15 | M66: 0 | N66: =L66*(1+M66/100) -> 15 | O66: 0 | P66: =N66*O66 -> 0 | Q66: 0.00036 | R66: =N66*Q66 -> 0.0054 | T66: =N66*S66 -> 0 | U66: 21 | V66: =P66*(U66/100) -> 0 | W66: =P66+V66 -> 0 | Y66: SO_01 | Z66: 722
F67: 2 | G67: H | H67: 31941139 | J67: koleno jednoznačné 90° s vnitřním a vnějším závitem černá litina DN 2" | K67: kus | L67: 12 | M67: 0 | N67: =L67*(1+M67/100) -> 12 | O67: 0 | P67: =N67*O67 -> 0 | Q67: 0.00072 | R67: =N67*Q67 -> 0.00864 | T67: =N67*S67 -> 0 | U67: 21 | V67: =P67*(U67/100) -> 0 | W67: =P67+V67 -> 0 | Y67: SO_01 | Z67: 722
F68: 3 | G68: H | H68: 31941339 | J68: T-kus jednoznačný 90° s vnitřním závitem černá litina DN 2" | K68: kus | L68: 3 | M68: 0 | N68: =L68*(1+M68/100) -> 3 | O68: 0 | P68: =N68*O68 -> 0 | Q68: 0.00088 | R68: =N68*Q68 -> 0.00264 | T68: =N68*S68 -> 0 | U68: 21 | V68: =P68*(U68/100) -> 0 | W68: =P68+V68 -> 0 | Y68: SO_01 | Z68: 722
F69: 4 | G69: H | H69: 31941672 | J69: přechodka redukovaná s vnitřním a vnějším závitem černá litina DN 1x3/4" | K69: kus | L69: 4 | M69: 0 | N69: =L69*(1+M69/100) -> 4 | O69: 0 | P69: =N69*O69 -> 0 | Q69: 8e-05 | R69: =N69*Q69 -> 0.00032 | T69: =N69*S69 -> 0 | U69: 21 | V69: =P69*(U69/100) -> 0 | W69: =P69+V69 -> 0 | Y69: SO_01 | Z69: 722
F70: 5 | G70: H | H70: 31941687 | J70: přechodka redukovaná s vnitřním a vnějším závitem černá litina DN 2x1" | K70: kus | L70: 2 | M70: 0 | N70: =L70*(1+M70/100) -> 2 | O70: 0 | P70: =N70*O70 -> 0 | Q70: 0.00034 | R70: =N70*Q70 -> 0.00068 | T70: =N70*S70 -> 0 | U70: 21 | V70: =P70*(U70/100) -> 0 | W70: =P70+V70 -> 0 | Y70: SO_01 | Z70: 722
F71: 6 | G71: H | H71: 31942795 | J71: šroubení přímé potrubí-vnější závit mosaz 63x2" | K71: kus | L71: 2 | M71: 0 | N71: =L71*(1+M71/100) -> 2 | O71: 0 | P71: =N71*O71 -> 0 | Q71: 0.00078 | R71: =N71*Q71 -> 0.00156 | T71: =N71*S71 -> 0 | U71: 21 | V71: =P71*(U71/100) -> 0 | W71: =P71+V71 -> 0 | Y71: SO_01 | Z71: 722
F72: 7 | G72: H | H72: 42390221 | J72: objímka potrubí bez gumy (VdS-FM) 1/2" rozpětí 20-24mm | K72: kus | L72: 30 | M72: 0 | N72: =L72*(1+M72/100) -> 30 | O72: 0 | P72: =N72*O72 -> 0 | Q72: 8e-05 | R72: =N72*Q72 -> 0.0024 | T72: =N72*S72 -> 0 | U72: 21 | V72: =P72*(U72/100) -> 0 | W72: =P72+V72 -> 0 | Y72: SO_01 | Z72: 722
F73: 8 | G73: H | H73: 426112R1 | J73: Grundfos COMFORT 15-14 B PM 230V 80mm Rp1/2" kabel 1,5m | K73: kus | L73: 1 | M73: 0 | N73: =L73*(1+M73/100) -> 1 | O73: 0 | P73: =N73*O73 -> 0 | Q73: 0.0012 | R73: =N73*Q73 -> 0.0012 | T73: =N73*S73 -> 0 | U73: 21 | V73: =P73*(U73/100) -> 0 | W73: =P73+V73 -> 0 | Y73: SO_01 | Z73: 722
F74: 9 | G74: SP | H74: 722130233 | J74: Potrubí vodovodní ocelové závitové pozinkované svařované běžné DN 25 | K74: m | L74: 7 | M74: 0 | N74: =L74*(1+M74/100) -> 7 | O74: 0 | P74: =N74*O74 -> 0 | Q74: 0.00309 | R74: =N74*Q74 -> 0.02163 | T74: =N74*S74 -> 0 | U74: 21 | V74: =P74*(U74/100) -> 0 | W74: =P74+V74 -> 0 | Y74: SO_01 | Z74: 722
F75: 10 | G75: SP | H75: 722130236 | J75: Potrubí vodovodní ocelové závitové pozinkované svařované běžné DN 50 | K75: m | L75: 30 | M75: 0 | N75: =L75*(1+M75/100) -> 30 | O75: 0 | P75: =N75*O75 -> 0 | Q75: 0.0064 | R75: =N75*Q75 -> 0.192 | T75: =N75*S75 -> 0 | U75: 21 | V75: =P75*(U75/100) -> 0 | W75: =P75+V75 -> 0 | Y75: SO_01 | Z75: 722
F76: 11 | G76: SP | H76: 722130801 | J76: Demontáž potrubí ocelové pozinkované závitové DN do 25 | K76: m | L76: 130 | M76: 0 | N76: =L76*(1+M76/100) -> 130 | O76: 0 | P76: =N76*O76 -> 0 | R76: =N76*Q76 -> 0 | S76: 0.00213 | T76: =N76*S76 -> 0.2769 | U76: 21 | V76: =P76*(U76/100) -> 0 | W76: =P76+V76 -> 0 | Y76: SO_01 | Z76: 722
F77: 12 | G77: SP | H77: 722174021 | J77: Potrubí vodovodní plastové PPR svar polyfúze PN 20 D 16x2,7 mm | K77: m | L77: 35 | M77: 0 | N77: =L77*(1+M77/100) -> 35 | O77: 0 | P77: =N77*O77 -> 0 | Q77: 0.00084 | R77: =N77*Q77 -> 0.0294 | T77: =N77*S77 -> 0 | U77: 21 | V77: =P77*(U77/100) -> 0 | W77: =P77+V77 -> 0 | Y77: SO_01 | Z77: 722
F78: 13 | G78: SP | H78: 722174022 | J78: Potrubí vodovodní plastové PPR svar polyfúze PN 20 D 20x3,4 mm | K78: m | L78: 50 | M78: 0 | N78: =L78*(1+M78/100) -> 50 | O78: 0 | P78: =N78*O78 -> 0 | Q78: 0.00098 | R78: =N78*Q78 -> 0.049 | T78: =N78*S78 -> 0 | U78: 21 | V78: =P78*(U78/100) -> 0 | W78: =P78+V78 -> 0 | Y78: SO_01 | Z78: 722
F79: 14 | G79: SP | H79: 722174023 | J79: Potrubí vodovodní plastové PPR svar polyfúze PN 20 D 25x4,2 mm | K79: m | L79: 22 | M79: 0 | N79: =L79*(1+M79/100) -> 22 | O79: 0 | P79: =N79*O79 -> 0 | Q79: 0.00126 | R79: =N79*Q79 -> 0.02772 | T79: =N79*S79 -> 0 | U79: 21 | V79: =P79*(U79/100) -> 0 | W79: =P79+V79 -> 0 | Y79: SO_01 | Z79: 722
F80: 15 | G80: SP | H80: 722174024 | J80: Potrubí vodovodní plastové PPR svar polyfúze PN 20 D 32x5,4 mm | K80: m | L80: 17 | M80: 0 | N80: =L80*(1+M80/100) -> 17 | O80: 0 | P80: =N80*O80 -> 0 | Q80: 0.00153 | R80: =N80*Q80 -> 0.02601 | T80: =N80*S80 -> 0 | U80: 21 | V80: =P80*(U80/100) -> 0 | W80: =P80+V80 -> 0 | Y80: SO_01 | Z80: 722
F81: 16 | G81: SP | H81: 722181221 | J81: Ochrana vodovodního potrubí přilepenými termoizolačními trubicemi z PE tl přes 6 do 9 mm DN do 22 mm | K81: m | L81: 85 | M81: 0 | N81: =L81*(1+M81/100) -> 85 | O81: 0 | P81: =N81*O81 -> 0 | Q81: 5e-05 | R81: =N81*Q81 -> 0.00425 | T81: =N81*S81 -> 0 | U81: 21 | V81: =P81*(U81/100) -> 0 | W81: =P81+V81 -> 0 | Y81: SO_01 | Z81: 722
F82: 17 | G82: SP | H82: 722181222 | J82: Ochrana vodovodního potrubí přilepenými termoizolačními trubicemi z PE tl přes 6 do 9 mm DN přes 22 do 45 mm | K82: m | L82: 22 | M82: 0 | N82: =L82*(1+M82/100) -> 22 | O82: 0 | P82: =N82*O82 -> 0 | Q82: 7e-05 | R82: =N82*Q82 -> 0.00154 | T82: =N82*S82 -> 0 | U82: 21 | V82: =P82*(U82/100) -> 0 | W82: =P82+V82 -> 0 | Y82: SO_01 | Z82: 722
F83: 18 | G83: SP | H83: 722190401 | J83: Vyvedení a upevnění výpustku DN do 25 | K83: kus | L83: 30 | M83: 0 | N83: =L83*(1+M83/100) -> 30 | O83: 0 | P83: =N83*O83 -> 0 | R83: =N83*Q83 -> 0 | T83: =N83*S83 -> 0 | U83: 21 | V83: =P83*(U83/100) -> 0 | W83: =P83+V83 -> 0 | Y83: SO_01 | Z83: 722
F84: 19 | G84: SP | H84: 722190901 | J84: Uzavření nebo otevření vodovodního potrubí při opravách | K84: kus | L84: 1 | M84: 0 | N84: =L84*(1+M84/100) -> 1 | O84: 0 | P84: =N84*O84 -> 0 | R84: =N84*Q84 -> 0 | T84: =N84*S84 -> 0 | U84: 21 | V84: =P84*(U84/100) -> 0 | W84: =P84+V84 -> 0 | Y84: SO_01 | Z84: 722
F85: 20 | G85: SP | H85: 722220121 | J85: Nástěnka pro baterii G 1/2" s jedním závitem | K85: pár | L85: 3 | M85: 0 | N85: =L85*(1+M85/100) -> 3 | O85: 0 | P85: =N85*O85 -> 0 | Q85: 0.00025 | R85: =N85*Q85 -> 0.00075 | T85: =N85*S85 -> 0 | U85: 21 | V85: =P85*(U85/100) -> 0 | W85: =P85+V85 -> 0 | Y85: SO_01 | Z85: 722
F86: 21 | G86: SP | H86: 722231072 | J86: Ventil zpětný mosazný G 1/2" PN 10 do 110°C se dvěma závity | K86: kus | L86: 1 | M86: 0 | N86: =L86*(1+M86/100) -> 1 | O86: 0 | P86: =N86*O86 -> 0 | Q86: 0.00012 | R86: =N86*Q86 -> 0.00012 | T86: =N86*S86 -> 0 | U86: 21 | V86: =P86*(U86/100) -> 0 | W86: =P86+V86 -> 0 | Y86: SO_01 | Z86: 722
F87: 22 | G87: SP | H87: 722231073 | J87: Ventil zpětný mosazný G 3/4" PN 10 do 110°C se dvěma závity | K87: kus | L87: 1 | M87: 0 | N87: =L87*(1+M87/100) -> 1 | O87: 0 | P87: =N87*O87 -> 0 | Q87: 0.00017 | R87: =N87*Q87 -> 0.00017 | T87: =N87*S87 -> 0 | U87: 21 | V87: =P87*(U87/100) -> 0 | W87: =P87+V87 -> 0 | Y87: SO_01 | Z87: 722
F88: 23 | G88: SP | H88: 722231251 | J88: Ventil pojistný mosazný G 1/2 PN 6 do 100°C k bojleru s vnitřním x vnějším závitem | K88: kus | L88: 1 | M88: 0 | N88: =L88*(1+M88/100) -> 1 | O88: 0 | P88: =N88*O88 -> 0 | Q88: 3e-05 | R88: =N88*Q88 -> 3e-05 | T88: =N88*S88 -> 0 | U88: 21 | V88: =P88*(U88/100) -> 0 | W88: =P88+V88 -> 0 | Y88: SO_01 | Z88: 722
F89: 24 | G89: SP | H89: 722232043 | J89: Kohout kulový přímý G 1/2" PN 42 do 185°C vnitřní závit | K89: kus | L89: 2 | M89: 0 | N89: =L89*(1+M89/100) -> 2 | O89: 0 | P89: =N89*O89 -> 0 | Q89: 0.00021 | R89: =N89*Q89 -> 0.00042 | T89: =N89*S89 -> 0 | U89: 21 | V89: =P89*(U89/100) -> 0 | W89: =P89+V89 -> 0 | Y89: SO_01 | Z89: 722
F90: 25 | G90: SP | H90: 722232044 | J90: Kohout kulový přímý G 3/4" PN 42 do 185°C vnitřní závit | K90: kus | L90: 3 | M90: 0 | N90: =L90*(1+M90/100) -> 3 | O90: 0 | P90: =N90*O90 -> 0 | Q90: 0.00034 | R90: =N90*Q90 -> 0.00102 | T90: =N90*S90 -> 0 | U90: 21 | V90: =P90*(U90/100) -> 0 | W90: =P90+V90 -> 0 | Y90: SO_01 | Z90: 722
F91: 26 | G91: SP | H91: 722232045 | J91: Kohout kulový přímý G 1" PN 42 do 185°C vnitřní závit | K91: kus | L91: 1 | M91: 0 | N91: =L91*(1+M91/100) -> 1 | O91: 0 | P91: =N91*O91 -> 0 | Q91: 0.0005 | R91: =N91*Q91 -> 0.0005 | T91: =N91*S91 -> 0 | U91: 21 | V91: =P91*(U91/100) -> 0 | W91: =P91+V91 -> 0 | Y91: SO_01 | Z91: 722
F92: 27 | G92: SP | H92: 722232045 | J92: Kohout kulový přímý G 1" PN 42 do 185°C vnitřní závit | K92: kus | L92: 1 | M92: 0 | N92: =L92*(1+M92/100) -> 1 | O92: 0 | P92: =N92*O92 -> 0 | Q92: 0.0005 | R92: =N92*Q92 -> 0.0005 | T92: =N92*S92 -> 0 | U92: 21 | V92: =P92*(U92/100) -> 0 | W92: =P92+V92 -> 0 | Y92: SO_01 | Z92: 722
J93: pro hydrant;1 | L93: 1 | U93: _
F94: 28 | G94: SP | H94: 722232048 | J94: Kohout kulový přímý G 2" PN 42 do 185°C vnitřní závit | K94: kus | L94: 3 | M94: 0 | N94: =L94*(1+M94/100) -> 3 | O94: 0 | P94: =N94*O94 -> 0 | Q94: 0.00168 | R94: =N94*Q94 -> 0.00504 | T94: =N94*S94 -> 0 | U94: 21 | V94: =P94*(U94/100) -> 0 | W94: =P94+V94 -> 0 | Y94: SO_01 | Z94: 722
F95: 29 | G95: SP | H95: 722239102 | J95: Montáž armatur vodovodních se dvěma závity G 3/4" | K95: kus | L95: 1 | M95: 0 | N95: =L95*(1+M95/100) -> 1 | O95: 0 | P95: =N95*O95 -> 0 | Q95: 2e-05 | R95: =N95*Q95 -> 2e-05 | T95: =N95*S95 -> 0 | U95: 21 | V95: =P95*(U95/100) -> 0 | W95: =P95+V95 -> 0 | Y95: SO_01 | Z95: 722
F96: 30 | G96: SP | H96: 722250132 | J96: Hydrantový systém s tvarově stálou hadicí D 25 x 20 m celoplechový | K96: soubor | L96: 1 | M96: 0 | N96: =L96*(1+M96/100) -> 1 | O96: 0 | P96: =N96*O96 -> 0 | Q96: 0.0282 | R96: =N96*Q96 -> 0.0282 | T96: =N96*S96 -> 0 | U96: 21 | V96: =P96*(U96/100) -> 0 | W96: =P96+V96 -> 0 | Y96: SO_01 | Z96: 722
F97: 31 | G97: SP | H97: 722250R01 | J97: Připojení nového hydrantu vč. zednických přípomocí | K97: kpl | L97: 1 | M97: 0 | N97: =L97*(1+M97/100) -> 1 | O97: 0 | P97: =N97*O97 -> 0 | R97: =N97*Q97 -> 0 | T97: =N97*S97 -> 0 | U97: 21 | V97: =P97*(U97/100) -> 0 | W97: =P97+V97 -> 0 | Y97: SO_01 | Z97: 722
F98: 32 | G98: SP | H98: 722290226 | J98: Zkouška těsnosti vodovodního potrubí závitového DN do 50 | K98: m | L98: 124 | M98: 0 | N98: =L98*(1+M98/100) -> 124 | O98: 0 | P98: =N98*O98 -> 0 | Q98: 0.00019 | R98: =N98*Q98 -> 0.02356 | T98: =N98*S98 -> 0 | U98: 21 | V98: =P98*(U98/100) -> 0 | W98: =P98+V98 -> 0 | Y98: SO_01 | Z98: 722
F99: 33 | G99: SP | H99: 722290234 | J99: Proplach a dezinfekce vodovodního potrubí DN do 80 | K99: m | L99: 124 | M99: 0 | N99: =L99*(1+M99/100) -> 124 | O99: 0 | P99: =N99*O99 -> 0 | Q99: 1e-05 | R99: =N99*Q99 -> 0.00124 | T99: =N99*S99 -> 0 | U99: 21 | V99: =P99*(U99/100) -> 0 | W99: =P99+V99 -> 0 | Y99: SO_01 | Z99: 722
F100: 34 | G100: SP | H100: 725813111 | J100: Ventil rohový bez připojovací trubičky nebo flexi hadičky G 1/2" | K100: soubor | L100: 23 | M100: 0 | N100: =L100*(1+M100/100) -> 23 | O100: 0 | P100: =N100*O100 -> 0 | Q100: 0.00024 | R100: =N100*Q100 -> 0.00552 | T100: =N100*S100 -> 0 | U100: 21 | V100: =P100*(U100/100) -> 0 | W100: =P100+V100 -> 0 | Y100: SO_01 | Z100: 722
F101: 35 | G101: SP | H101: 998722102 | J101: Přesun hmot tonážní pro vnitřní vodovod v objektech v přes 6 do 12 m | K101: t | L101: 0.39183 | M101: 0 | N101: =L101*(1+M101/100) -> 0.39183 | O101: 0 | P101: =N101*O101 -> 0 | R101: =N101*Q101 -> 0 | T101: =N101*S101 -> 0 | U101: 21 | V101: =P101*(U101/100) -> 0 | W101: =P101+V101 -> 0 | Y101: SO_01 | Z101: 722
U102: _
J103: 725: Zařizovací předměty | P103: =SUBTOTAL(9,P104:P132) -> 0 | R103: =SUBTOTAL(9,R104:R132) -> 0.34845 | T103: =SUBTOTAL(9,T104:T132) -> 1.16688 | U103: _ | V103: =SUBTOTAL(9,V104:V132) -> 0 | W103: =SUBTOTAL(9,W104:W132) -> 0
...

Sheet Figury
A1: Figura | B1: Výraz | C1: Hodnota | D1: Popis
B2: instalační;(1*1,3*8+2,3*1,3*2+2,2*1,3*4+1,5*1,3*2)
B3: instalační mimo WC;(2,3*1,3*2+2,2*1,3*4+1,5*1,3*2)
B4: WC;(1,3*2,9*2+0,8*2,9*6)
B5: pro hydrant;15
