Workbook

Sheet Rekapitulace stavby
A1: Export Komplet | BA1: 2.0 | BB1: ZAMOK | BT1: False | BU1: False | BV1: {3ff7fc26-b5d3-498b-b495-df6e0cbb1133}
BS2: 0,001 | BT2: 21
BS3: 0,001 | BT3: 15
D4: REKAPITULACE STAVBY | AS4: v --- níže se nacházejí doplnkové a pomocné údaje k sestavám --- v | BE4: Návod na vyplnění | BS4: 0,001
D5: Kód: | K5: TH2357_25 | BE5: Měnit lze pouze buňky se žlutým podbarvením!_x000D_ _x000D_ 1) na prvním listu Rekapitulace stavby vyplňte v sestavě_x000D_ _x000D_ a) Souhrnný list_x000D_ - údaje o Uchazeči_x000D_ (přenesou se do ostatních sestav i v jiných listech)_x000D_ _x000D_ b) Rekapitulace objektů_x000D_ - potřebné Ostatní náklady_x000D_ _x000D_ 2) na vybraných listech vyplňte v sestavě_x000D_ _x000D_ a) Krycí list_x000D_ - údaje o Uchazeči, pokud se liší od údajů o Uchazeči na Souhrnném listu_x000D_ (údaje se přenesou do ostatních sestav v daném listu)_x000D_ _x000D_ b) Rekapitulace rozpočtu_x000D_ - potřebné Ostatní náklady_x000D_ _x000D_ c) Celkové náklady za stavbu_x000D_ - ceny u položek_x000D_ - množství, pokud má žluté podbarvení_x000D_ - a v případě potřeby poznámku (ta je ve skrytém sloupci) | BS5: 0,01
D6: Stavba: | K6: D.1.2.4. – REKONSTRUKCE KOTELNY PRO VYTÁPĚNÍ, A ÚPRAVY A VYREGULOVÁNÍ TOPNÉ SOUSTAVY | BS6: 0,1
D7: KSO: | AK7: CC-CZ: | BS7: 1
D8: Místo: | K8: Objekty Městského Úřadu, Bohušovice nad Ohří, Huso | AK8: Datum: | AN8: 2. 11. 2025 | BS8: 10
BS9: 100
D10: Zadavatel: | AK10: IČ: | BS10: 0,1
E11: Město Bohušovice nad Ohří, Husovo náměstí čp.42, P | AK11: DIČ: | BS11: 0,1
BS12: 0,1
D13: Uchazeč: | AK13: IČ: | AN13: Vyplň údaj | BS13: 0,1
E14: Vyplň údaj | AK14: DIČ: | AN14: Vyplň údaj | BS14: 0,1
BS15: True
D16: Projektant: | AK16: IČ: | AN16: 65606426 | BS16: False
E17: Tomáš Hanzlík | AK17: DIČ: | BS17: False
BS18: 0,01
D19: Zpracovatel: | AK19: IČ: | BS19: 0,01
E20: Tomáš Hanzlík | AK20: DIČ: | BS20: True
D22: Poznámka:
D26: Cena bez DPH | AK26: =ROUND(AG94,2) -> 0
L28: Sazba daně | W28: Základ daně | AK28: Výše daně
D29: DPH | F29: základní | L29: 0.21 | W29: =ROUND(AZ94, 2) -> 0 | AK29: =ROUND(AV94, 2) -> 0
F30: snížená | L30: 0.15 | W30: =ROUND(BA94, 2) -> 0 | AK30: =ROUND(AW94, 2) -> 0
F31: zákl. přenesená | L31: 0.21 | W31: =ROUND(BB94, 2) -> 0 | AK31: 0
F32: sníž. přenesená | L32: 0.15 | W32: =ROUND(BC94, 2) -> 0 | AK32: 0
F33: nulová | L33: 0 | W33: =ROUND(BD94, 2) -> 0 | AK33: 0
D35: Cena s DPH | T35: v | X35: CZK | AK35: =SUM(AK26:AK33) -> 0
D49: Projektant | AH49: Zpracovatel
D60: Datum a podpis: | V60: Razítko | AH60: Datum a podpis: | AM60: Razítko
D64: Objednavatel | AH64: Uchazeč
D75: Datum a podpis: | V75: Razítko | AH75: Datum a podpis: | AM75: Razítko
C82: REKAPITULACE OBJEKTŮ STAVBY A SOUPISŮ PRACÍ
C84: Kód: | L84: =K5 -> TH2357_25
C85: Stavba: | L85: =K6 -> D.1.2.4. – REKONSTRUKCE KOTELNY PRO VYTÁPĚNÍ, A ÚPRAVY A VYREGULOVÁNÍ TOPNÉ SOUSTAVY
C87: Místo: | L87: =IF(K8="","",K8) -> Objekty Městského Úřadu, Bohušovice nad Ohří, Huso | AI87: Datum: | AM87: =IF(AN8= "","",AN8) -> 2. 11. 2025
C89: Zadavatel: | L89: =IF(E11= "","",E11) -> Město Bohušovice nad Ohří, Husovo náměstí čp.42, P | AI89: Projektant: | AM89: =IF(E17="","",E17) -> Tomáš Hanzlík | AS89: Informatívní údaje z listů zakázek
C90: Uchazeč: | L90: =IF(E14= "Vyplň údaj","",E14) | AI90: Zpracovatel: | AM90: =IF(E20="","",E20) -> Tomáš Hanzlík
C92: Kód | I92: Popis | AG92: Cena bez DPH [CZK] | AN92: Cena s DPH [CZK] | AQ92: Typ | AS92: z toho Ostat._x000D_ náklady [CZK] | AT92: DPH [CZK] | AU92: Normohodiny [h] | AV92: DPH základní [CZK] | AW92: DPH snížená [CZK] | AX92: DPH základní přenesená_x000D_ [CZK] | AY92: DPH snížená přenesená_x000D_ [CZK] | AZ92: Základna_x000D_ DPH základní | BA92: Základna_x000D_ DPH snížená | BB92: Základna_x000D_ DPH zákl. přenesená | BC92: Základna_x000D_ DPH sníž. přenesená | BD92: Základna_x000D_ DPH nulová
C94: Náklady z rozpočtů | AG94: =ROUND(AG95,2) -> 0 | AN94: =SUM(AG94,AT94) -> 0 | AS94: =ROUND(AS95,2) -> 0 | AT94: =ROUND(SUM(AV94:AW94),2) -> 0 | AU94: =ROUND(AU95,5) -> 0 | AV94: =ROUND(AZ94*L29,2) -> 0 | AW94: =ROUND(BA94*L30,2) -> 0 | AX94: =ROUND(BB94*L29,2) -> 0 | AY94: =ROUND(BC94*L30,2) -> 0 | AZ94: =ROUND(AZ95,2) -> 0 | BA94: =ROUND(BA95,2) -> 0 | BB94: =ROUND(BB95,2) -> 0 | BC94: =ROUND(BC95,2) -> 0 | BD94: =ROUND(BD95,2) -> 0 | BS94: D | BT94: 0 | BV94: IMPORT | BW94: {3ff7fc26-b5d3-498b-b495-df6e0cbb1133} | BX94: {00000000-0000-0000-0000-000000000000}
A95: / | D95: TH2357_25 | J95: D.1.2.4. – REKONSTRUKCE KOTELNY PRO VYTÁPĚNÍ, A ÚPRAVY A VYREGULOVÁNÍ TOPNÉ SOUSTAVY | AG95: ='TH2357_25 - D.1.2.4. – RE...'!J28 -> 0 | AN95: =SUM(AG95,AT95) -> 0 | AQ95: STA | AS95: 0 | AT95: =ROUND(SUM(AV95:AW95),2) -> 0 | AU95: ='TH2357_25 - D.1.2.4. – RE...'!P131 -> 0 | AV95: ='TH2357_25 - D.1.2.4. – RE...'!J31 -> 0 | AW95: ='TH2357_25 - D.1.2.4. – RE...'!J32 -> 0 | AX95: ='TH2357_25 - D.1.2.4. – RE...'!J33 -> 0 | AY95: ='TH2357_25 - D.1.2.4. – RE...'!J34 -> 0 | AZ95: ='TH2357_25 - D.1.2.4. – RE...'!F31 -> 0 | BA95: ='TH2357_25 - D.1.2.4. – RE...'!F32 -> 0 | BB95: ='TH2357_25 - D.1.2.4. – RE...'!F33 -> 0 | BC95: ='TH2357_25 - D.1.2.4. – RE...'!F34 -> 0 | BD95: ='TH2357_25 - D.1.2.4. – RE...'!F35 -> 0 | BT95: 1 | BU95: ###NOINSERT### | BV95: IMPORT | BW95: {3ff7fc26-b5d3-498b-b495-df6e0cbb1133} | BX95: {00000000-0000-0000-0000-000000000000}

Sheet TH2357_25 - D.1.2.4. – RE...
AT2: {3ff7fc26-b5d3-498b-b495-df6e0cbb1133}
AT3: 2
D4: KRYCÍ LIST SOUPISU PRACÍ | M4: v --- níže se nacházejí doplnkové a pomocné údaje k sestavám --- v | AT4: False
D6: Stavba:
E7: D.1.2.4. – REKONSTRUKCE KOTELNY PRO VYTÁPĚNÍ, A ÚPRAVY A VYREGULOVÁNÍ TOPNÉ SOUSTAVY
D9: KSO: | I9: CC-CZ:
D10: Místo: | F10: Objekty Městského Úřadu, Bohušovice nad Ohří, Huso | I10: Datum: | J10: ='Rekapitulace stavby'!AN8 -> 2. 11. 2025
D12: Zadavatel: | I12: IČ:
E13: Město Bohušovice nad Ohří, Husovo náměstí čp.42, P | I13: DIČ:
D15: Uchazeč: | I15: IČ: | J15: ='Rekapitulace stavby'!AN13 -> Vyplň údaj
E16: ='Rekapitulace stavby'!E14 -> Vyplň údaj | I16: DIČ: | J16: ='Rekapitulace stavby'!AN14 -> Vyplň údaj
D18: Projektant: | I18: IČ: | J18: 65606426
E19: Tomáš Hanzlík | I19: DIČ:
D21: Zpracovatel: | I21: IČ:
E22: Tomáš Hanzlík | I22: DIČ:
D24: Poznámka:
D28: Cena bez DPH | J28: =ROUND(J131, 2) -> 0
F30: Základ daně | I30: Sazba daně | J30: Výše daně
D31: DPH | E31: základní | F31: =ROUND((SUM(BE131:BE338)), 2) -> 0 | I31: 0.21 | J31: =ROUND(((SUM(BE131:BE338))*I31), 2) -> 0
E32: snížená | F32: =ROUND((SUM(BF131:BF338)), 2) -> 0 | I32: 0.15 | J32: =ROUND(((SUM(BF131:BF338))*I32), 2) -> 0
E33: zákl. přenesená | F33: =ROUND((SUM(BG131:BG338)), 2) -> 0 | I33: 0.21 | J33: =0 -> 0
E34: sníž. přenesená | F34: =ROUND((SUM(BH131:BH338)), 2) -> 0 | I34: 0.15 | J34: =0 -> 0
E35: nulová | F35: =ROUND((SUM(BI131:BI338)), 2) -> 0 | I35: 0 | J35: =0 -> 0
D37: Cena s DPH | G37: v | H37: CZK | J37: =SUM(J28:J35) -> 0
D50: Projektant | G50: Zpracovatel
D61: Datum a podpis: | F61: Razítko | G61: Datum a podpis: | J61: Razítko
D65: Objednavatel | G65: Uchazeč
D76: Datum a podpis: | F76: Razítko | G76: Datum a podpis: | J76: Razítko
C82: REKAPITULACE ČLENĚNÍ SOUPISU PRACÍ
C84: Stavba:
E85: =E7 -> D.1.2.4. – REKONSTRUKCE KOTELNY PRO VYTÁPĚNÍ, A ÚPRAVY A VYREGULOVÁNÍ TOPNÉ SOUSTAVY
C87: Místo: | F87: =F10 -> Objekty Městského Úřadu, Bohušovice nad Ohří, Huso | I87: Datum: | J87: =IF(J10="","",J10) -> 2. 11. 2025
C89: Zadavatel: | F89: =E13 -> Město Bohušovice nad Ohří, Husovo náměstí čp.42, P | I89: Projektant: | J89: =E19 -> Tomáš Hanzlík
C90: Uchazeč: | F90: =IF(E16="","",E16) -> Vyplň údaj | I90: Zpracovatel: | J90: =E22 -> Tomáš Hanzlík
C92: Kód dílu - Popis | J92: Cena celkem [CZK]
C94: Náklady ze soupisu prací | J94: =J131 -> 0 | AU94: -1
D95: HSV - Práce a dodávky HSV | J95: =J132 -> 0
D96: 3 - Svislé a kompletní konstrukce | J96: =J133 -> 0
D97: 6 - Úpravy povrchů, podlahy a osazování výplní | J97: =J137 -> 0
D98: 9 - Ostatní konstrukce a práce, bourání | J98: =J148 -> 0
D99: 99 - Přesun hmot | J99: =J157 -> 0
D100: 997 - Doprava suti a vybouraných hmot | J100: =J159 -> 0
D101: 998 - Přesun hmot | J101: =J167 -> 0
D102: PSV - Práce a dodávky PSV | J102: =J169 -> 0
D103: 713 - Izolace tepelné | J103: =J170 -> 0
D104: 731 - Ústřední vytápění - kotelny | J104: =J182 -> 0
D105: 732 - Ústřední vytápění - strojovny | J105: =J207 -> 0
D106: 733 - Ústřední vytápění - rozvodné potrubí | J106: =J223 -> 0
D107: 734 - Ústřední vytápění - armatury | J107: =J248 -> 0
D108: 735 - Ústřední vytápění - otopná tělesa | J108: =J285 -> 0
D109: 751 - Vzduchotechnika | J109: =J316 -> 0
D110: 784 - Dokončovací práce - malby a tapety | J110: =J322 -> 0
D111: OST - Ostatní | J111: =J330 -> 0
D112: 786 - Dokončovací práce | J112: =J331 -> 0
D113: Ostatní - Ostatní | J113: =J338 -> 0
C120: SOUPIS PRACÍ
C122: Stavba:
E123: =E7 -> D.1.2.4. – REKONSTRUKCE KOTELNY PRO VYTÁPĚNÍ, A ÚPRAVY A VYREGULOVÁNÍ TOPNÉ SOUSTAVY
C125: Místo: | F125: =F10 -> Objekty Městského Úřadu, Bohušovice nad Ohří, Huso | I125: Datum: | J125: =IF(J10="","",J10) -> 2. 11. 2025
C127: Zadavatel: | F127: =E13 -> Město Bohušovice nad Ohří, Husovo náměstí čp.42, P | I127: Projektant: | J127: =E19 -> Tomáš Hanzlík
C128: Uchazeč: | F128: =IF(E16="","",E16) -> Vyplň údaj | I128: Zpracovatel: | J128: =E22 -> Tomáš Hanzlík
C130: PČ | D130: Typ | E130: Kód | F130: Popis | G130: MJ | H130: Množství | I130: J.cena [CZK] | J130: Cena celkem [CZK] | K130: Cenová soustava | N130: DPH | O130: J. Nh [h] | P130: Nh celkem [h] | Q130: J. hmotnost [t] | R130: Hmotnost celkem [t] | S130: J. suť [t] | T130: Suť Celkem [t]
C131: Náklady soupisu celkem | J131: =BK131 -> 0 | P131: =P132+P169+P330+P338 -> 0 | R131: =R132+R169+R330+R338 -> 8.9075767 | T131: =T132+T169+T330+T338 -> 5.79776 | AT131: D | AU131: -1 | BK131: =BK132+BK169+BK330+BK338 -> 0
D132: D | E132: HSV | F132: Práce a dodávky HSV | J132: =BK132 -> 0 | P132: =P133+P137+P148+P157+P159+P167 -> 0 | R132: =R133+R137+R148+R157+R159+R167 -> 3.2997239 | T132: =T133+T137+T148+T157+T159+T167 -> 1.88 | AR132: 1 | AT132: D | AU132: 0 | AY132: ROZPOCET | BK132: =BK133+BK137+BK148+BK157+BK159+BK167 -> 0
D133: D | E133: 3 | F133: Svislé a kompletní konstrukce | J133: =BK133 -> 0 | P133: =SUM(P134:P136) -> 0 | R133: =SUM(R134:R136) -> 1.8750979 | T133: =SUM(T134:T136) -> 0 | AR133: 1 | AT133: D | AU133: 1 | AY133: ROZPOCET | BK133: =SUM(BK134:BK136) -> 0
C134: 1 | D134: K | E134: 340236212 | F134: Zazdívka otvorů pl 0,09 m2 v příčkách nebo stěnách z cihel tl nad 100 mm | G134: kus | H134: 31 | J134: =ROUND(I134*H134,3) -> 0 | N134: základní | P134: =O134*H134 -> 0 | Q134: 0.026115416 | R134: =Q134*H134 -> 0.8095779 | S134: 0 | T134: =S134*H134 -> 0 | AR134: 4 | AT134: K | AU134: 2 | AY134: ROZPOCET | BE134: =IF(N134="základní",J134,0) -> 0 | BF134: =IF(N134="snížená",J134,0) -> 0 | BG134: =IF(N134="zákl. přenesená",J134,0) -> 0 | BH134: =IF(N134="sníž. přenesená",J134,0) -> 0 | BI134: =IF(N134="nulová",J134,0) -> 0 | BJ134: 1 | BK134: =ROUND(I134*H134,3) -> 0 | BL134: 4 | BM134: 1761817953
C135: 2 | D135: K | E135: 340239211 | F135: Zazdívka otvorů v příčkách nebo stěnách pl přes 1 do 4 m2 cihlami plnými tl do 100 mm | G135: m2 | H135: 8 | J135: =ROUND(I135*H135,3) -> 0 | N135: základní | P135: =O135*H135 -> 0 | Q135: 0.13319 | R135: =Q135*H135 -> 1.06552 | S135: 0 | T135: =S135*H135 -> 0 | AR135: 4 | AT135: K | AU135: 2 | AY135: ROZPOCET | BE135: =IF(N135="základní",J135,0) -> 0 | BF135: =IF(N135="snížená",J135,0) -> 0 | BG135: =IF(N135="zákl. přenesená",J135,0) -> 0 | BH135: =IF(N135="sníž. přenesená",J135,0) -> 0 | BI135: =IF(N135="nulová",J135,0) -> 0 | BJ135: 1 | BK135: =ROUND(I135*H135,3) -> 0 | BL135: 4 | BM135: -80885515
C136: 3 | D136: K | E136: BOZP | F136: Protupy veškerých potrubí UT, ZTI a plynu budou těsněny typově na požár.odolnost EI45min. | G136: ks | H136: 0 | J136: =ROUND(I136*H136,3) -> 0 | N136: základní | P136: =O136*H136 -> 0 | Q136: 0.25365 | R136: =Q136*H136 -> 0 | S136: 0 | T136: =S136*H136 -> 0 | AR136: 4 | AT136: K | AU136: 2 | AY136: ROZPOCET | BE136: =IF(N136="základní",J136,0) -> 0 | BF136: =IF(N136="snížená",J136,0) -> 0 | BG136: =IF(N136="zákl. přenesená",J136,0) -> 0 | BH136: =IF(N136="sníž. přenesená",J136,0) -> 0 | BI136: =IF(N136="nulová",J136,0) -> 0 | BJ136: 1 | BK136: =ROUND(I136*H136,3) -> 0 | BL136: 4 | BM136: 298637965
D137: D | E137: 6 | F137: Úpravy povrchů, podlahy a osazování výplní | J137: =BK137 -> 0 | P137: =SUM(P138:P147) -> 0 | R137: =SUM(R138:R147) -> 1.232126 | T137: =SUM(T138:T147) -> 0 | AR137: 1 | AT137: D | AU137: 1 | AY137: ROZPOCET | BK137: =SUM(BK138:BK147) -> 0
C138: 4 | D138: K | E138: 611131121 | F138: Penetrační disperzní nátěr vnitřních stropů nanášený ručně | G138: m2 | H138: 15 | J138: =ROUND(I138*H138,3) -> 0 | N138: základní | P138: =O138*H138 -> 0 | Q138: 0.00026 | R138: =Q138*H138 -> 0.0039 | S138: 0 | T138: =S138*H138 -> 0 | AR138: 4 | AT138: K | AU138: 2 | AY138: ROZPOCET | BE138: =IF(N138="základní",J138,0) -> 0 | BF138: =IF(N138="snížená",J138,0) -> 0 | BG138: =IF(N138="zákl. přenesená",J138,0) -> 0 | BH138: =IF(N138="sníž. přenesená",J138,0) -> 0 | BI138: =IF(N138="nulová",J138,0) -> 0 | BJ138: 1 | BK138: =ROUND(I138*H138,3) -> 0 | BL138: 4 | BM138: -1271252593
C139: 5 | D139: K | E139: 611315418 | F139: Oprava vnitřní vápenné hladké omítky stropů v rozsahu plochy přes 30 do 50 % s celoplošným přeštukováním | G139: m2 | H139: 15 | J139: =ROUND(I139*H139,3) -> 0 | N139: základní | P139: =O139*H139 -> 0 | Q139: 0.0333 | R139: =Q139*H139 -> 0.4995 | S139: 0 | T139: =S139*H139 -> 0 | AR139: 4 | AT139: K | AU139: 2 | AY139: ROZPOCET | BE139: =IF(N139="základní",J139,0) -> 0 | BF139: =IF(N139="snížená",J139,0) -> 0 | BG139: =IF(N139="zákl. přenesená",J139,0) -> 0 | BH139: =IF(N139="sníž. přenesená",J139,0) -> 0 | BI139: =IF(N139="nulová",J139,0) -> 0 | BJ139: 1 | BK139: =ROUND(I139*H139,3) -> 0 | BL139: 4 | BM139: -1962995933
C140: 6 | D140: K | E140: 611315453 | F140: Příplatek k cenám opravy vápenné omítky stropů za dalších 10 mm v rozsahu přes 30 do 50 % | G140: m2 | H140: 15 | J140: =ROUND(I140*H140,3) -> 0 | N140: základní | P140: =O140*H140 -> 0 | Q140: 0.0104 | R140: =Q140*H140 -> 0.156 | S140: 0 | T140: =S140*H140 -> 0 | AR140: 4 | AT140: K | AU140: 2 | AY140: ROZPOCET | BE140: =IF(N140="základní",J140,0) -> 0 | BF140: =IF(N140="snížená",J140,0) -> 0 | BG140: =IF(N140="zákl. přenesená",J140,0) -> 0 | BH140: =IF(N140="sníž. přenesená",J140,0) -> 0 | BI140: =IF(N140="nulová",J140,0) -> 0 | BJ140: 1 | BK140: =ROUND(I140*H140,3) -> 0 | BL140: 4 | BM140: -1975690773
C141: 7 | D141: K | E141: 612131101 | F141: Cementový postřik vnitřních stěn nanášený celoplošně ručně | G141: m2 | H141: 8 | J141: =ROUND(I141*H141,3) -> 0 | N141: základní | P141: =O141*H141 -> 0 | Q141: 0.00735 | R141: =Q141*H141 -> 0.0588 | S141: 0 | T141: =S141*H141 -> 0 | AR141: 4 | AT141: K | AU141: 2 | AY141: ROZPOCET | BE141: =IF(N141="základní",J141,0) -> 0 | BF141: =IF(N141="snížená",J141,0) -> 0 | BG141: =IF(N141="zákl. přenesená",J141,0) -> 0 | BH141: =IF(N141="sníž. přenesená",J141,0) -> 0 | BI141: =IF(N141="nulová",J141,0) -> 0 | BJ141: 1 | BK141: =ROUND(I141*H141,3) -> 0 | BL141: 4 | BM141: -1266072727
C142: 8 | D142: K | E142: 612131121 | F142: Penetrační disperzní nátěr vnitřních stěn nanášený ručně | G142: m2 | H142: 8 | J142: =ROUND(I142*H142,3) -> 0 | N142: základní | P142: =O142*H142 -> 0 | Q142: 0.00026 | R142: =Q142*H142 -> 0.00208 | S142: 0 | T142: =S142*H142 -> 0 | AR142: 4 | AT142: K | AU142: 2 | AY142: ROZPOCET | BE142: =IF(N142="základní",J142,0) -> 0 | BF142: =IF(N142="snížená",J142,0) -> 0 | BG142: =IF(N142="zákl. přenesená",J142,0) -> 0 | BH142: =IF(N142="sníž. přenesená",J142,0) -> 0 | BI142: =IF(N142="nulová",J142,0) -> 0 | BJ142: 1 | BK142: =ROUND(I142*H142,3) -> 0 | BL142: 4 | BM142: -2035162739
C143: 9 | D143: K | E143: 612321141 | F143: Vápenocementová omítka štuková dvouvrstvá vnitřních stěn nanášená ručně | G143: m2 | H143: 8 | J143: =ROUND(I143*H143,3) -> 0 | N143: základní | P143: =O143*H143 -> 0 | Q143: 0.01838 | R143: =Q143*H143 -> 0.14704 | S143: 0 | T143: =S143*H143 -> 0 | AR143: 4 | AT143: K | AU143: 2 | AY143: ROZPOCET | BE143: =IF(N143="základní",J143,0) -> 0 | BF143: =IF(N143="snížená",J143,0) -> 0 | BG143: =IF(N143="zákl. přenesená",J143,0) -> 0 | BH143: =IF(N143="sníž. přenesená",J143,0) -> 0 | BI143: =IF(N143="nulová",J143,0) -> 0 | BJ143: 1 | BK143: =ROUND(I143*H143,3) -> 0 | BL143: 4 | BM143: -936672590
C144: 10 | D144: K | E144: 611401111 | F144: Omítka malých ploch na stropech do pl 0,09 m2 | G144: kus | H144: 6 | J144: =ROUND(I144*H144,3) -> 0 | N144: základní | P144: =O144*H144 -> 0 | Q144: 0.006884332 | R144: =Q144*H144 -> 0.041305992 | S144: 0 | T144: =S144*H144 -> 0 | AR144: 4 | AT144: K | AU144: 2 | AY144: ROZPOCET | BE144: =IF(N144="základní",J144,0) -> 0 | BF144: =IF(N144="snížená",J144,0) -> 0 | BG144: =IF(N144="zákl. přenesená",J144,0) -> 0 | BH144: =IF(N144="sníž. přenesená",J144,0) -> 0 | BI144: =IF(N144="nulová",J144,0) -> 0 | BJ144: 1 | BK144: =ROUND(I144*H144,3) -> 0 | BL144: 4 | BM144: 1430061655
C145: 11 | D145: K | E145: 612325201 | F145: Vápenocementová hrubá omítka malých ploch do 0,09 m2 na stěnách | G145: kus | H145: 31 | J145: =ROUND(I145*H145,3) -> 0 | N145: základní | P145: =O145*H145 -> 0 | Q145: 0.0035 | R145: =Q145*H145 -> 0.1085 | S145: 0 | T145: =S145*H145 -> 0 | AR145: 4 | AT145: K | AU145: 2 | AY145: ROZPOCET | BE145: =IF(N145="základní",J145,0) -> 0 | BF145: =IF(N145="snížená",J145,0) -> 0 | BG145: =IF(N145="zákl. přenesená",J145,0) -> 0 | BH145: =IF(N145="sníž. přenesená",J145,0) -> 0 | BI145: =IF(N145="nulová",J145,0) -> 0 | BJ145: 1 | BK145: =ROUND(I145*H145,3) -> 0 | BL145: 4 | BM145: -625415488
C146: 12 | D146: K | E146: 619995001 | F146: Začištění omítek kolem oken, dveří, podlah nebo obkladů | G146: m | H146: 15 | J146: =ROUND(I146*H146,3) -> 0 | N146: základní | P146: =O146*H146 -> 0 | Q146: 0.0015 | R146: =Q146*H146 -> 0.0225 | S146: 0 | T146: =S146*H146 -> 0 | AR146: 4 | AT146: K | AU146: 2 | AY146: ROZPOCET | BE146: =IF(N146="základní",J146,0) -> 0 | BF146: =IF(N146="snížená",J146,0) -> 0 | BG146: =IF(N146="zákl. přenesená",J146,0) -> 0 | BH146: =IF(N146="sníž. přenesená",J146,0) -> 0 | BI146: =IF(N146="nulová",J146,0) -> 0 | BJ146: 1 | BK146: =ROUND(I146*H146,3) -> 0 | BL146: 4 | BM146: -1780929485
C147: 13 | D147: K | E147: SDR2 | F147: Instalace nových,po demontovaných částech, sádrokartonových stropů a krytů, po úpravách částí potrubních tras (m.č.130 a 115). | G147: m2 | H147: 55 | J147: =ROUND(I147*H147,3) -> 0 | N147: základní | P147: =O147*H147 -> 0 | Q147: 0.0035 | R147: =Q147*H147 -> 0.1925 | S147: 0 | T147: =S147*H147 -> 0 | AR147: 4 | AT147: K | AU147: 2 | AY147: ROZPOCET | BE147: =IF(N147="základní",J147,0) -> 0 | BF147: =IF(N147="snížená",J147,0) -> 0 | BG147: =IF(N147="zákl. přenesená",J147,0) -> 0 | BH147: =IF(N147="sníž. přenesená",J147,0) -> 0 | BI147: =IF(N147="nulová",J147,0) -> 0 | BJ147: 1 | BK147: =ROUND(I147*H147,3) -> 0 | BL147: 4 | BM147: -1362805328
D148: D | E148: 9 | F148: Ostatní konstrukce a práce, bourání | J148: =BK148 -> 0 | P148: =SUM(P149:P156) -> 0 | R148: =SUM(R149:R156) -> 0.1925 | T148: =SUM(T149:T156) -> 1.88 | AR148: 1 | AT148: D | AU148: 1 | AY148: ROZPOCET | BK148: =SUM(BK149:BK156) -> 0
C149: 14 | D149: K | E149: 968072245 | F149: Vybourání kovových rámů oken jednoduchých včetně křídel pl do 2 m2 | G149: m2 | H149: 2 | J149: =ROUND(I149*H149,3) -> 0 | N149: základní | P149: =O149*H149 -> 0 | Q149: 0 | R149: =Q149*H149 -> 0 | S149: 0.041 | T149: =S149*H149 -> 0.082 | AR149: 4 | AT149: K | AU149: 2 | AY149: ROZPOCET | BE149: =IF(N149="základní",J149,0) -> 0 | BF149: =IF(N149="snížená",J149,0) -> 0 | BG149: =IF(N149="zákl. přenesená",J149,0) -> 0 | BH149: =IF(N149="sníž. přenesená",J149,0) -> 0 | BI149: =IF(N149="nulová",J149,0) -> 0 | BJ149: 1 | BK149: =ROUND(I149*H149,3) -> 0 | BL149: 4 | BM149: 283445817
C150: 15 | D150: K | E150: 968072455 | F150: Vybourání kovových dveřních zárubní pl do 2 m2 | G150: m2 | H150: 2 | J150: =ROUND(I150*H150,3) -> 0 | N150: základní | P150: =O150*H150 -> 0 | Q150: 0 | R150: =Q150*H150 -> 0 | S150: 0.076 | T150: =S150*H150 -> 0.152 | AR150: 4 | AT150: K | AU150: 2 | AY150: ROZPOCET | BE150: =IF(N150="základní",J150,0) -> 0 | BF150: =IF(N150="snížená",J150,0) -> 0 | BG150: =IF(N150="zákl. přenesená",J150,0) -> 0 | BH150: =IF(N150="sníž. přenesená",J150,0) -> 0 | BI150: =IF(N150="nulová",J150,0) -> 0 | BJ150: 1 | BK150: =ROUND(I150*H150,3) -> 0 | BL150: 4 | BM150: 1310611115
C151: 16 | D151: K | E151: 971033631 | F151: Vybourání otvorů ve zdivu cihelném pl do 4 m2 na MVC nebo MV tl do 150 mm | G151: m2 | H151: 4 | J151: =ROUND(I151*H151,3) -> 0 | N151: základní | P151: =O151*H151 -> 0 | Q151: 0 | R151: =Q151*H151 -> 0 | S151: 0.27 | T151: =S151*H151 -> 1.08 | AR151: 4 | AT151: K | AU151: 2 | AY151: ROZPOCET | BE151: =IF(N151="základní",J151,0) -> 0 | BF151: =IF(N151="snížená",J151,0) -> 0 | BG151: =IF(N151="zákl. přenesená",J151,0) -> 0 | BH151: =IF(N151="sníž. přenesená",J151,0) -> 0 | BI151: =IF(N151="nulová",J151,0) -> 0 | BJ151: 1 | BK151: =ROUND(I151*H151,3) -> 0 | BL151: 4 | BM151: 1544543187
C152: 17 | D152: K | E152: SDR1 | F152: demontáž /demolice sádrokartonových stropů a krytů, po úpravách částí potrubních tras (m.č.130 a 115). | G152: m2 | H152: 55 | J152: =ROUND(I152*H152,3) -> 0 | N152: základní | P152: =O152*H152 -> 0 | Q152: 0.0035 | R152: =Q152*H152 -> 0.1925 | S152: 0 | T152: =S152*H152 -> 0 | AR152: 4 | AT152: K | AU152: 2 | AY152: ROZPOCET | BE152: =IF(N152="základní",J152,0) -> 0 | BF152: =IF(N152="snížená",J152,0) -> 0 | BG152: =IF(N152="zákl. přenesená",J152,0) -> 0 | BH152: =IF(N152="sníž. přenesená",J152,0) -> 0 | BI152: =IF(N152="nulová",J152,0) -> 0 | BJ152: 1 | BK152: =ROUND(I152*H152,3) -> 0 | BL152: 4 | BM152: -998090300
C153: 18 | D153: K | E153: 972054141 | F153: Vybourání otvorů v ŽB stropech nebo klenbách pl do 0,0225 m2 tl do 150 mm | G153: kus | H153: 6 | J153: =ROUND(I153*H153,3) -> 0 | N153: základní | P153: =O153*H153 -> 0 | Q153: 0 | R153: =Q153*H153 -> 0 | S153: 0.008 | T153: =S153*H153 -> 0.048 | AR153: 4 | AT153: K | AU153: 2 | AY153: ROZPOCET | BE153: =IF(N153="základní",J153,0) -> 0 | BF153: =IF(N153="snížená",J153,0) -> 0 | BG153: =IF(N153="zákl. přenesená",J153,0) -> 0 | BH153: =IF(N153="sníž. přenesená",J153,0) -> 0 | BI153: =IF(N153="nulová",J153,0) -> 0 | BJ153: 1 | BK153: =ROUND(I153*H153,3) -> 0 | BL153: 4 | BM153: 2025918227
C154: 19 | D154: K | E154: 971033241 | F154: Vybourání otvorů ve zdivu cihelném pl do 0,0225 m2 na MVC nebo MV tl do 300 mm | G154: kus | H154: 20 | J154: =ROUND(I154*H154,3) -> 0 | N154: základní | P154: =O154*H154 -> 0 | Q154: 0 | R154: =Q154*H154 -> 0 | S154: 0.008 | T154: =S154*H154 -> 0.16 | AR154: 4 | AT154: K | AU154: 2 | AY154: ROZPOCET | BE154: =IF(N154="základní",J154,0) -> 0 | BF154: =IF(N154="snížená",J154,0) -> 0 | BG154: =IF(N154="zákl. přenesená",J154,0) -> 0 | BH154: =IF(N154="sníž. přenesená",J154,0) -> 0 | BI154: =IF(N154="nulová",J154,0) -> 0 | BJ154: 1 | BK154: =ROUND(I154*H154,3) -> 0 | BL154: 4 | BM154: -1418910071
C155: 20 | D155: K | E155: 971033251 | F155: Vybourání otvorů ve zdivu cihelném pl do 0,0225 m2 na MVC nebo MV tl do 450 mm | G155: kus | H155: 5 | J155: =ROUND(I155*H155,3) -> 0 | N155: základní | P155: =O155*H155 -> 0 | Q155: 0 | R155: =Q155*H155 -> 0 | S155: 0.012 | T155: =S155*H155 -> 0.06 | AR155: 4 | AT155: K | AU155: 2 | AY155: ROZPOCET | BE155: =IF(N155="základní",J155,0) -> 0 | BF155: =IF(N155="snížená",J155,0) -> 0 | BG155: =IF(N155="zákl. přenesená",J155,0) -> 0 | BH155: =IF(N155="sníž. přenesená",J155,0) -> 0 | BI155: =IF(N155="nulová",J155,0) -> 0 | BJ155: 1 | BK155: =ROUND(I155*H155,3) -> 0 | BL155: 4 | BM155: -21754615
C156: 21 | D156: K | E156: 971033381 | F156: Vybourání otvorů ve zdivu cihelném pl do 0,09 m2 na MVC nebo MV tl do 900 mm | G156: kus | H156: 2 | J156: =ROUND(I156*H156,3) -> 0 | N156: základní | P156: =O156*H156 -> 0 | Q156: 0 | R156: =Q156*H156 -> 0 | S156: 0.149 | T156: =S156*H156 -> 0.298 | AR156: 4 | AT156: K | AU156: 2 | AY156: ROZPOCET | BE156: =IF(N156="základní",J156,0) -> 0 | BF156: =IF(N156="snížená",J156,0) -> 0 | BG156: =IF(N156="zákl. přenesená",J156,0) -> 0 | BH156: =IF(N156="sníž. přenesená",J156,0) -> 0 | BI156: =IF(N156="nulová",J156,0) -> 0 | BJ156: 1 | BK156: =ROUND(I156*H156,3) -> 0 | BL156: 4 | BM156: -1969909551
D157: D | E157: 99 | F157: Přesun hmot | J157: =BK157 -> 0 | P157: =P158 -> 0 | R157: =R158 -> 0 | T157: =T158 -> 0 | AR157: 1 | AT157: D | AU157: 1 | AY157: ROZPOCET | BK157: =BK158 -> 0
C158: 22 | D158: K | E158: 999281111 | F158: Přesun hmot pro opravy a údržbu v budovy do 25 m | G158: t | H158: 3.305 | J158: =ROUND(I158*H158,3) -> 0 | N158: základní | P158: =O158*H158 -> 0 | Q158: 0 | R158: =Q158*H158 -> 0 | S158: 0 | T158: =S158*H158 -> 0 | AR158: 4 | AT158: K | AU158: 2 | AY158: ROZPOCET | BE158: =IF(N158="základní",J158,0) -> 0 | BF158: =IF(N158="snížená",J158,0) -> 0 | BG158: =IF(N158="zákl. přenesená",J158,0) -> 0 | BH158: =IF(N158="sníž. přenesená",J158,0) -> 0 | BI158: =IF(N158="nulová",J158,0) -> 0 | BJ158: 1 | BK158: =ROUND(I158*H158,3) -> 0 | BL158: 4 | BM158: -443883595
D159: D | E159: 997 | F159: Doprava suti a vybouraných hmot | J159: =BK159 -> 0 | P159: =SUM(P160:P166) -> 0 | R159: =SUM(R160:R166) -> 0 | T159: =SUM(T160:T166) -> 0 | AR159: 1 | AT159: D | AU159: 1 | AY159: ROZPOCET | BK159: =SUM(BK160:BK166) -> 0
C160: 23 | D160: K | E160: 997013211 | F160: Vnitrostaveništní doprava suti a vybouraných hmot pro budovy v do 6 m ručně | G160: t | H160: 4.501 | J160: =ROUND(I160*H160,3) -> 0 | N160: základní | P160: =O160*H160 -> 0 | Q160: 0 | R160: =Q160*H160 -> 0 | S160: 0 | T160: =S160*H160 -> 0 | AR160: 4 | AT160: K | AU160: 2 | AY160: ROZPOCET | BE160: =IF(N160="základní",J160,0) -> 0 | BF160: =IF(N160="snížená",J160,0) -> 0 | BG160: =IF(N160="zákl. přenesená",J160,0) -> 0 | BH160: =IF(N160="sníž. přenesená",J160,0) -> 0 | BI160: =IF(N160="nulová",J160,0) -> 0 | BJ160: 1 | BK160: =ROUND(I160*H160,3) -> 0 | BL160: 4 | BM160: 1817924680
C161: 24 | D161: K | E161: 997013212 | F161: Vnitrostaveništní doprava suti a vybouraných hmot pro budovy v přes 6 do 9 m ručně | G161: t | H161: 0.563 | J161: =ROUND(I161*H161,3) -> 0 | N161: základní | P161: =O161*H161 -> 0 | Q161: 0 | R161: =Q161*H161 -> 0 | S161: 0 | T161: =S161*H161 -> 0 | AR161: 4 | AT161: K | AU161: 2 | AY161: ROZPOCET | BE161: =IF(N161="základní",J161,0) -> 0 | BF161: =IF(N161="snížená",J161,0) -> 0 | BG161: =IF(N161="zákl. přenesená",J161,0) -> 0 | BH161: =IF(N161="sníž. přenesená",J161,0) -> 0 | BI161: =IF(N161="nulová",J161,0) -> 0 | BJ161: 1 | BK161: =ROUND(I161*H161,3) -> 0 | BL161: 4 | BM161: 848627097
C162: 25 | D162: K | E162: 997013213 | F162: Vnitrostaveništní doprava suti a vybouraných hmot pro budovy v přes 9 do 12 m ručně | G162: t | H162: 0.563 | J162: =ROUND(I162*H162,3) -> 0 | N162: základní | P162: =O162*H162 -> 0 | Q162: 0 | R162: =Q162*H162 -> 0 | S162: 0 | T162: =S162*H162 -> 0 | AR162: 4 | AT162: K | AU162: 2 | AY162: ROZPOCET | BE162: =IF(N162="základní",J162,0) -> 0 | BF162: =IF(N162="snížená",J162,0) -> 0 | BG162: =IF(N162="zákl. přenesená",J162,0) -> 0 | BH162: =IF(N162="sníž. přenesená",J162,0) -> 0 | BI162: =IF(N162="nulová",J162,0) -> 0 | BJ162: 1 | BK162: =ROUND(I162*H162,3) -> 0 | BL162: 4 | BM162: 1103017083
C163: 26 | D163: K | E163: 997013501 | F163: Odvoz suti a vybouraných hmot na skládku nebo meziskládku do 1 km se složením | G163: t | H163: 5.626 | J163: =ROUND(I163*H163,3) -> 0 | N163: základní | P163: =O163*H163 -> 0 | Q163: 0 | R163: =Q163*H163 -> 0 | S163: 0 | T163: =S163*H163 -> 0 | AR163: 4 | AT163: K | AU163: 2 | AY163: ROZPOCET | BE163: =IF(N163="základní",J163,0) -> 0 | BF163: =IF(N163="snížená",J163,0) -> 0 | BG163: =IF(N163="zákl. přenesená",J163,0) -> 0 | BH163: =IF(N163="sníž. přenesená",J163,0) -> 0 | BI163: =IF(N163="nulová",J163,0) -> 0 | BJ163: 1 | BK163: =ROUND(I163*H163,3) -> 0 | BL163: 4 | BM163: -558291348
C164: 27 | D164: K | E164: 997013509 | F164: Příplatek k odvozu suti a vybouraných hmot na skládku ZKD 1 km přes 1 km | G164: t | H164: 78.764 | J164: =ROUND(I164*H164,3) -> 0 | N164: základní | P164: =O164*H164 -> 0 | Q164: 0 | R164: =Q164*H164 -> 0 | S164: 0 | T164: =S164*H164 -> 0 | AR164: 4 | AT164: K | AU164: 2 | AY164: ROZPOCET | BE164: =IF(N164="základní",J164,0) -> 0 | BF164: =IF(N164="snížená",J164,0) -> 0 | BG164: =IF(N164="zákl. přenesená",J164,0) -> 0 | BH164: =IF(N164="sníž. přenesená",J164,0) -> 0 | BI164: =IF(N164="nulová",J164,0) -> 0 | BJ164: 1 | BK164: =ROUND(I164*H164,3) -> 0 | BL164: 4 | BM164: -1381812046
C165: 28 | D165: K | E165: 997013511 | F165: Odvoz suti a vybouraných hmot z meziskládky na skládku do 1 km s naložením a se složením | G165: t | H165: 5.626 | J165: =ROUND(I165*H165,3) -> 0 | N165: základní | P165: =O165*H165 -> 0 | Q165: 0 | R165: =Q165*H165 -> 0 | S165: 0 | T165: =S165*H165 -> 0 | AR165: 4 | AT165: K | AU165: 2 | AY165: ROZPOCET | BE165: =IF(N165="základní",J165,0) -> 0 | BF165: =IF(N165="snížená",J165,0) -> 0 | BG165: =IF(N165="zákl. přenesená",J165,0) -> 0 | BH165: =IF(N165="sníž. přenesená",J165,0) -> 0 | BI165: =IF(N165="nulová",J165,0) -> 0 | BJ165: 1 | BK165: =ROUND(I165*H165,3) -> 0 | BL165: 4 | BM165: 1850093565
C166: 29 | D166: K | E166: 997013631 | F166: Poplatek za uložení na skládce (skládkovné) stavebního odpadu směsného kód odpadu 17 09 04 | G166: t | H166: 5.626 | J166: =ROUND(I166*H166,3) -> 0 | N166: základní | P166: =O166*H166 -> 0 | Q166: 0 | R166: =Q166*H166 -> 0 | S166: 0 | T166: =S166*H166 -> 0 | AR166: 4 | AT166: K | AU166: 2 | AY166: ROZPOCET | BE166: =IF(N166="základní",J166,0) -> 0 | BF166: =IF(N166="snížená",J166,0) -> 0 | BG166: =IF(N166="zákl. přenesená",J166,0) -> 0 | BH166: =IF(N166="sníž. přenesená",J166,0) -> 0 | BI166: =IF(N166="nulová",J166,0) -> 0 | BJ166: 1 | BK166: =ROUND(I166*H166,3) -> 0 | BL166: 4 | BM166: -150338729
D167: D | E167: 998 | F167: Přesun hmot | J167: =BK167 -> 0 | P167: =P168 -> 0 | R167: =R168 -> 0 | T167: =T168 -> 0 | AR167: 1 | AT167: D | AU167: 1 | AY167: ROZPOCET | BK167: =BK168 -> 0
C168: 30 | D168: K | E168: 998018001 | F168: Přesun hmot ruční pro budovy v do 6 m | G168: t | H168: 3.305 | J168: =ROUND(I168*H168,3) -> 0 | N168: základní | P168: =O168*H168 -> 0 | Q168: 0 | R168: =Q168*H168 -> 0 | S168: 0 | T168: =S168*H168 -> 0 | AR168: 4 | AT168: K | AU168: 2 | AY168: ROZPOCET | BE168: =IF(N168="základní",J168,0) -> 0 | BF168: =IF(N168="snížená",J168,0) -> 0 | BG168: =IF(N168="zákl. přenesená",J168,0) -> 0 | BH168: =IF(N168="sníž. přenesená",J168,0) -> 0 | BI168: =IF(N168="nulová",J168,0) -> 0 | BJ168: 1 | BK168: =ROUND(I168*H168,3) -> 0 | BL168: 4 | BM168: -135031706
...
