Workbook

Sheet Rekapitulace stavby
A1: Export Komplet | AZ1: VZ | BA1: 2.0 | BB1: ZAMOK | BT1: False | BU1: False | BV1: {110ae698-e257-4f60-9eef-0098c345719e}
BS2: 0,01 | BT2: 21
BS3: 0,01 | BT3: 12
D4: REKAPITULACE STAVBY | AS4: v --- níže se nacházejí doplnkové a pomocné údaje k sestavám --- v | BE4: Návod na vyplnění | BS4: 0,001
D5: Kód: | K5: 2024/46 | BE5: Měnit lze pouze buňky se žlutým podbarvením!_x000D_ _x000D_ 1) v Rekapitulaci stavby vyplňte údaje o Účastníkovi (přenesou se do ostatních sestav i v jiných listech)_x000D_ _x000D_ 2) na vybraných listech vyplňte v sestavě Soupis prací ceny u položek | BS5: 0,01
D6: Stavba: | K6: Modrava - Místní komunikace Vchýnice - Tetov II | BS6: 0,01
D7: KSO: | AK7: CC-CZ: | BS7: 0,01
D8: Místo: | K8: Modrava | AK8: Datum: | AN8: Vyplň údaj | BS8: 0,01
BS9: 0,01
D10: Zadavatel: | AK10: IČ: | AN10: 00573418 | BS10: 0,01
E11: Obec Modrava | AK11: DIČ: | AN11: CZ00573418 | BS11: 0,01
BS12: 0,01
D13: Účastník: | AK13: IČ: | AN13: Vyplň údaj | BS13: 0,01
E14: Vyplň údaj | AK14: DIČ: | AN14: Vyplň údaj | BS14: 0,01
BS15: False
D16: Projektant: | AK16: IČ: | AN16: 07123710 | BS16: False
E17: Road Project s.r.o. | AK17: DIČ: | AN17: CZ07123710 | BS17: True
BS18: 0,01
D19: Zpracovatel: | AK19: IČ: | AN19: 07123710 | BS19: 0,01
E20: Road Project s.r.o. | AK20: DIČ: | AN20: CZ07123710 | BS20: False
D22: Poznámka:
E23: Soupis prací je sestaven s využitím Cenové soustavy ÚRS. Položky, které pochází z této cenové soustavy, jsou ve sloupci 'Cenová soustava' označeny popisem 'CS ÚRS' a úrovní příslušného kalendářního pololetí. Veškeré další informace vymezující popis a podmínky použití těchto položek z Cenové soustavy, které nejsou uvedeny přímo v soupisu prací, jsou neomezeně dálkově k dispozici na webu podminky.urs.cz.
D26: Cena bez DPH | AK26: =ROUND(AG54,2) -> 0
L28: Sazba daně | W28: Základ daně | AK28: Výše daně
D29: DPH | F29: základní | L29: 0.21 | W29: =ROUND(AZ54, 2) -> 0 | AK29: =ROUND(AV54, 2) -> 0
F30: snížená | L30: 0.12 | W30: =ROUND(BA54, 2) -> 0 | AK30: =ROUND(AW54, 2) -> 0
F31: zákl. přenesená | L31: 0.21 | W31: =ROUND(BB54, 2) -> 0 | AK31: 0
F32: sníž. přenesená | L32: 0.12 | W32: =ROUND(BC54, 2) -> 0 | AK32: 0
F33: nulová | L33: 0 | W33: =ROUND(BD54, 2) -> 0 | AK33: 0
D35: Cena s DPH | T35: v | X35: CZK | AK35: =SUM(AK26:AK33) -> 0
C42: REKAPITULACE OBJEKTŮ STAVBY A SOUPISŮ PRACÍ
C44: Kód: | L44: =K5 -> 2024/46
C45: Stavba: | L45: =K6 -> Modrava - Místní komunikace Vchýnice - Tetov II
C47: Místo: | L47: =IF(K8="","",K8) -> Modrava | AI47: Datum: | AM47: =IF(AN8= "","",AN8) -> Vyplň údaj
C49: Zadavatel: | L49: =IF(E11= "","",E11) -> Obec Modrava | AI49: Projektant: | AM49: =IF(E17="","",E17) -> Road Project s.r.o. | AS49: Informatívní údaje z listů zakázek
C50: Účastník: | L50: =IF(E14= "Vyplň údaj","",E14) | AI50: Zpracovatel: | AM50: =IF(E20="","",E20) -> Road Project s.r.o.
C52: Kód | I52: Popis | AG52: Cena bez DPH [CZK] | AN52: Cena s DPH [CZK] | AQ52: Typ | AS52: z toho Ostat._x000D_ náklady [CZK] | AT52: DPH [CZK] | AU52: Normohodiny [h] | AV52: DPH základní [CZK] | AW52: DPH snížená [CZK] | AX52: DPH základní přenesená_x000D_ [CZK] | AY52: DPH snížená přenesená_x000D_ [CZK] | AZ52: Základna_x000D_ DPH základní | BA52: Základna_x000D_ DPH snížená | BB52: Základna_x000D_ DPH zákl. přenesená | BC52: Základna_x000D_ DPH sníž. přenesená | BD52: Základna_x000D_ DPH nulová
C54: Náklady stavby celkem | AG54: =ROUND(SUM(AG55:AG56),2) -> 0 | AN54: =SUM(AG54,AT54) -> 0 | AS54: =ROUND(SUM(AS55:AS56),2) -> 0 | AT54: =ROUND(SUM(AV54:AW54),2) -> 0 | AU54: =ROUND(SUM(AU55:AU56),5) -> 0 | AV54: =ROUND(AZ54*L29,2) -> 0 | AW54: =ROUND(BA54*L30,2) -> 0 | AX54: =ROUND(BB54*L29,2) -> 0 | AY54: =ROUND(BC54*L30,2) -> 0 | AZ54: =ROUND(SUM(AZ55:AZ56),2) -> 0 | BA54: =ROUND(SUM(BA55:BA56),2) -> 0 | BB54: =ROUND(SUM(BB55:BB56),2) -> 0 | BC54: =ROUND(SUM(BC55:BC56),2) -> 0 | BD54: =ROUND(SUM(BD55:BD56),2) -> 0 | BS54: D | BT54: 0 | BU54: ###NOIMPORT### | BV54: IMPORT | BW54: {110ae698-e257-4f60-9eef-0098c345719e} | BX54: {00000000-0000-0000-0000-000000000000}
A55: / | D55: 01 | J55: Komunikace | AG55: ='01 - Komunikace'!J30 -> 0 | AN55: =SUM(AG55,AT55) -> 0 | AQ55: STA | AS55: 0 | AT55: =ROUND(SUM(AV55:AW55),2) -> 0 | AU55: ='01 - Komunikace'!P85 -> 0 | AV55: ='01 - Komunikace'!J33 -> 0 | AW55: ='01 - Komunikace'!J34 -> 0 | AX55: ='01 - Komunikace'!J35 -> 0 | AY55: ='01 - Komunikace'!J36 -> 0 | AZ55: ='01 - Komunikace'!F33 -> 0 | BA55: ='01 - Komunikace'!F34 -> 0 | BB55: ='01 - Komunikace'!F35 -> 0 | BC55: ='01 - Komunikace'!F36 -> 0 | BD55: ='01 - Komunikace'!F37 -> 0 | BT55: 1 | BV55: IMPORT | BW55: {cabae341-f0a8-40c8-abff-ae84dc0e00ec} | BX55: {110ae698-e257-4f60-9eef-0098c345719e} | CM55: 2
A56: / | D56: 02 | J56: Vedlejší rozpočtové náklady | AG56: ='02 - Vedlejší rozpočtové ...'!J30 -> 0 | AN56: =SUM(AG56,AT56) -> 0 | AQ56: STA | AS56: 0 | AT56: =ROUND(SUM(AV56:AW56),2) -> 0 | AU56: ='02 - Vedlejší rozpočtové ...'!P86 -> 0 | AV56: ='02 - Vedlejší rozpočtové ...'!J33 -> 0 | AW56: ='02 - Vedlejší rozpočtové ...'!J34 -> 0 | AX56: ='02 - Vedlejší rozpočtové ...'!J35 -> 0 | AY56: ='02 - Vedlejší rozpočtové ...'!J36 -> 0 | AZ56: ='02 - Vedlejší rozpočtové ...'!F33 -> 0 | BA56: ='02 - Vedlejší rozpočtové ...'!F34 -> 0 | BB56: ='02 - Vedlejší rozpočtové ...'!F35 -> 0 | BC56: ='02 - Vedlejší rozpočtové ...'!F36 -> 0 | BD56: ='02 - Vedlejší rozpočtové ...'!F37 -> 0 | BT56: 1 | BV56: IMPORT | BW56: {c352f5a9-1b9d-4c82-a66e-e244a57d6a4e} | BX56: {110ae698-e257-4f60-9eef-0098c345719e} | CM56: 2

Sheet 01 - Komunikace
AT2: {cabae341-f0a8-40c8-abff-ae84dc0e00ec}
AT3: 2
D4: KRYCÍ LIST SOUPISU PRACÍ | M4: v --- níže se nacházejí doplnkové a pomocné údaje k sestavám --- v | AT4: False
D6: Stavba:
E7: ='Rekapitulace stavby'!K6 -> Modrava - Místní komunikace Vchýnice - Tetov II
D8: Objekt:
E9: 01 - Komunikace
D11: KSO: | I11: CC-CZ:
D12: Místo: | F12: Modrava | I12: Datum: | J12: ='Rekapitulace stavby'!AN8 -> Vyplň údaj
D14: Zadavatel: | I14: IČ: | J14: 00573418
E15: Obec Modrava | I15: DIČ: | J15: CZ00573418
D17: Účastník: | I17: IČ: | J17: ='Rekapitulace stavby'!AN13 -> Vyplň údaj
E18: ='Rekapitulace stavby'!E14 -> Vyplň údaj | I18: DIČ: | J18: ='Rekapitulace stavby'!AN14 -> Vyplň údaj
D20: Projektant: | I20: IČ: | J20: 07123710
E21: Road Project s.r.o. | I21: DIČ: | J21: CZ07123710
D23: Zpracovatel: | I23: IČ: | J23: 07123710
E24: Road Project s.r.o. | I24: DIČ: | J24: CZ07123710
D26: Poznámka:
D30: Cena bez DPH | J30: =ROUND(J85, 2) -> 0
F32: Základ daně | I32: Sazba daně | J32: Výše daně
D33: DPH | E33: základní | F33: =ROUND((SUM(BE85:BE209)), 2) -> 0 | I33: 0.21 | J33: =ROUND(((SUM(BE85:BE209))*I33), 2) -> 0
E34: snížená | F34: =ROUND((SUM(BF85:BF209)), 2) -> 0 | I34: 0.12 | J34: =ROUND(((SUM(BF85:BF209))*I34), 2) -> 0
E35: zákl. přenesená | F35: =ROUND((SUM(BG85:BG209)), 2) -> 0 | I35: 0.21 | J35: =0 -> 0
E36: sníž. přenesená | F36: =ROUND((SUM(BH85:BH209)), 2) -> 0 | I36: 0.12 | J36: =0 -> 0
E37: nulová | F37: =ROUND((SUM(BI85:BI209)), 2) -> 0 | I37: 0 | J37: =0 -> 0
D39: Cena s DPH | G39: v | H39: CZK | J39: =SUM(J30:J37) -> 0
C45: REKAPITULACE ČLENĚNÍ SOUPISU PRACÍ
C47: Stavba:
E48: =E7 -> Modrava - Místní komunikace Vchýnice - Tetov II
C49: Objekt:
E50: =E9 -> 01 - Komunikace
C52: Místo: | F52: =F12 -> Modrava | I52: Datum: | J52: =IF(J12="","",J12) -> Vyplň údaj
C54: Zadavatel: | F54: =E15 -> Obec Modrava | I54: Projektant: | J54: =E21 -> Road Project s.r.o.
C55: Účastník: | F55: =IF(E18="","",E18) -> Vyplň údaj | I55: Zpracovatel: | J55: =E24 -> Road Project s.r.o.
C57: Kód dílu - Popis | J57: Cena celkem [CZK]
C59: Náklady stavby celkem | J59: =J85 -> 0 | AU59: -1
D60: HSV - Práce a dodávky HSV | J60: =J86 -> 0
D61: 1 - Zemní práce | J61: =J87 -> 0
D62: 5 - Komunikace pozemní | J62: =J137 -> 0
D63: 8 - Vedení trubní dálková a přípojná | J63: =J170 -> 0
D64: 9 - Ostatní konstrukce a práce, bourání | J64: =J174 -> 0
D65: 997 - Doprava suti a vybouraných hmot | J65: =J191 -> 0
C72: SOUPIS PRACÍ
C74: Stavba:
E75: =E7 -> Modrava - Místní komunikace Vchýnice - Tetov II
C76: Objekt:
E77: =E9 -> 01 - Komunikace
C79: Místo: | F79: =F12 -> Modrava | I79: Datum: | J79: =IF(J12="","",J12) -> Vyplň údaj
C81: Zadavatel: | F81: =E15 -> Obec Modrava | I81: Projektant: | J81: =E21 -> Road Project s.r.o.
C82: Účastník: | F82: =IF(E18="","",E18) -> Vyplň údaj | I82: Zpracovatel: | J82: =E24 -> Road Project s.r.o.
C84: PČ | D84: Typ | E84: Kód | F84: Popis | G84: MJ | H84: Množství | I84: J.cena [CZK] | J84: Cena celkem [CZK] | K84: Cenová soustava | N84: DPH | O84: J. Nh [h] | P84: Nh celkem [h] | Q84: J. hmotnost [t] | R84: Hmotnost celkem [t] | S84: J. suť [t] | T84: Suť Celkem [t]
C85: Náklady soupisu celkem | J85: =BK85 -> 0 | P85: =P86 -> 0 | R85: =R86 -> 103.70276 | T85: =T86 -> 804.429 | AT85: D | AU85: -1 | BK85: =BK86 -> 0
D86: D | E86: HSV | F86: Práce a dodávky HSV | J86: =BK86 -> 0 | P86: =P87+P137+P170+P174+P191 -> 0 | R86: =R87+R137+R170+R174+R191 -> 103.70276 | T86: =T87+T137+T170+T174+T191 -> 804.429 | AR86: 1 | AT86: D | AU86: 0 | AY86: ROZPOCET | BK86: =BK87+BK137+BK170+BK174+BK191 -> 0
D87: D | E87: 1 | F87: Zemní práce | J87: =BK87 -> 0 | P87: =SUM(P88:P136) -> 0 | R87: =SUM(R88:R136) -> 0.0189 | T87: =SUM(T88:T136) -> 667.08 | AR87: 1 | AT87: D | AU87: 1 | AY87: ROZPOCET | BK87: =SUM(BK88:BK136) -> 0
C88: 1 | D88: K | E88: 113106290 | F88: Rozebrání dílců vozovek a ploch s přemístěním hmot na skládku na vzdálenost do 3 m nebo s naložením na dopravní prostředek, ze silničních dílců jakýchkoliv rozměrů, s ložem z kameniva nebo živice strojně plochy jednotlivě přes 50 m2 do 200 m2 se spárami vyplněnými kamenivem | G88: m2 | H88: 90 | J88: =ROUND(I88*H88,2) -> 0 | K88: CS ÚRS 2025 01 | N88: základní | P88: =O88*H88 -> 0 | Q88: 0 | R88: =Q88*H88 -> 0 | S88: 0.4 | T88: =S88*H88 -> 36 | AR88: 4 | AT88: K | AU88: 2 | AY88: ROZPOCET | BE88: =IF(N88="základní",J88,0) -> 0 | BF88: =IF(N88="snížená",J88,0) -> 0 | BG88: =IF(N88="zákl. přenesená",J88,0) -> 0 | BH88: =IF(N88="sníž. přenesená",J88,0) -> 0 | BI88: =IF(N88="nulová",J88,0) -> 0 | BJ88: 1 | BK88: =ROUND(I88*H88,2) -> 0 | BL88: 4 | BM88: 257518830
D89: Online PSC | F89: https://podminky.urs.cz/item/CS_URS_2025_01/113106290 | AT89: Online PSC | AU89: 2
D90: P | F90: Poznámka k položce:_x000D_ Plocha z betonových silničních panelů. | AT90: P | AU90: 2
C91: 2 | D91: K | E91: 113107122 | F91: Odstranění podkladů nebo krytů ručně s přemístěním hmot na skládku na vzdálenost do 3 m nebo s naložením na dopravní prostředek z kameniva hrubého drceného, o tl. vrstvy přes 100 do 200 mm | G91: m2 | H91: 666 | J91: =ROUND(I91*H91,2) -> 0 | K91: CS ÚRS 2025 01 | N91: základní | P91: =O91*H91 -> 0 | Q91: 0 | R91: =Q91*H91 -> 0 | S91: 0.29 | T91: =S91*H91 -> 193.14 | AR91: 4 | AT91: K | AU91: 2 | AY91: ROZPOCET | BE91: =IF(N91="základní",J91,0) -> 0 | BF91: =IF(N91="snížená",J91,0) -> 0 | BG91: =IF(N91="zákl. přenesená",J91,0) -> 0 | BH91: =IF(N91="sníž. přenesená",J91,0) -> 0 | BI91: =IF(N91="nulová",J91,0) -> 0 | BJ91: 1 | BK91: =ROUND(I91*H91,2) -> 0 | BL91: 4 | BM91: -1350670429
D92: Online PSC | F92: https://podminky.urs.cz/item/CS_URS_2025_01/113107122 | AT92: Online PSC | AU92: 2
D93: P | F93: Poznámka k položce:_x000D_ Horní podkladní vrstva ŠD | AT93: P | AU93: 2
D94: VV | F94: 666 | H94: 666 | AT94: VV | AU94: 2 | AV94: 2 | AW94: True | AX94: 0 | AY94: ROZPOCET
D95: VV | F95: Součet | H95: 666 | AT95: VV | AU95: 2 | AV95: 4 | AW95: True | AX95: 1 | AY95: ROZPOCET
C96: 3 | D96: K | E96: 113107123 | F96: Odstranění podkladů nebo krytů ručně s přemístěním hmot na skládku na vzdálenost do 3 m nebo s naložením na dopravní prostředek z kameniva hrubého drceného, o tl. vrstvy přes 200 do 300 mm | G96: m2 | H96: 666 | J96: =ROUND(I96*H96,2) -> 0 | K96: CS ÚRS 2025 01 | N96: základní | P96: =O96*H96 -> 0 | Q96: 0 | R96: =Q96*H96 -> 0 | S96: 0.44 | T96: =S96*H96 -> 293.04 | AR96: 4 | AT96: K | AU96: 2 | AY96: ROZPOCET | BE96: =IF(N96="základní",J96,0) -> 0 | BF96: =IF(N96="snížená",J96,0) -> 0 | BG96: =IF(N96="zákl. přenesená",J96,0) -> 0 | BH96: =IF(N96="sníž. přenesená",J96,0) -> 0 | BI96: =IF(N96="nulová",J96,0) -> 0 | BJ96: 1 | BK96: =ROUND(I96*H96,2) -> 0 | BL96: 4 | BM96: 1034324630
D97: Online PSC | F97: https://podminky.urs.cz/item/CS_URS_2025_01/113107123 | AT97: Online PSC | AU97: 2
D98: P | F98: Poznámka k položce:_x000D_ Spodní podkladní vrstav ŠD | AT98: P | AU98: 2
C99: 4 | D99: K | E99: 113154532 | F99: Frézování živičného podkladu nebo krytu s naložením hmot na dopravní prostředek plochy přes 500 do 2 000 m2 pruhu šířky do 1 m, tloušťky vrstvy 40 mm | G99: m2 | H99: 630 | J99: =ROUND(I99*H99,2) -> 0 | K99: CS ÚRS 2025 01 | N99: základní | P99: =O99*H99 -> 0 | Q99: 1e-05 | R99: =Q99*H99 -> 0.0063 | S99: 0.092 | T99: =S99*H99 -> 57.96 | AR99: 4 | AT99: K | AU99: 2 | AY99: ROZPOCET | BE99: =IF(N99="základní",J99,0) -> 0 | BF99: =IF(N99="snížená",J99,0) -> 0 | BG99: =IF(N99="zákl. přenesená",J99,0) -> 0 | BH99: =IF(N99="sníž. přenesená",J99,0) -> 0 | BI99: =IF(N99="nulová",J99,0) -> 0 | BJ99: 1 | BK99: =ROUND(I99*H99,2) -> 0 | BL99: 4 | BM99: -681282243
D100: Online PSC | F100: https://podminky.urs.cz/item/CS_URS_2025_01/113154532 | AT100: Online PSC | AU100: 2
C101: 5 | D101: K | E101: 113154534 | F101: Frézování živičného podkladu nebo krytu s naložením hmot na dopravní prostředek plochy přes 500 do 2 000 m2 pruhu šířky do 1 m, tloušťky vrstvy 60 mm | G101: m2 | H101: 630 | J101: =ROUND(I101*H101,2) -> 0 | K101: CS ÚRS 2025 01 | N101: základní | P101: =O101*H101 -> 0 | Q101: 2e-05 | R101: =Q101*H101 -> 0.0126 | S101: 0.138 | T101: =S101*H101 -> 86.94 | AR101: 4 | AT101: K | AU101: 2 | AY101: ROZPOCET | BE101: =IF(N101="základní",J101,0) -> 0 | BF101: =IF(N101="snížená",J101,0) -> 0 | BG101: =IF(N101="zákl. přenesená",J101,0) -> 0 | BH101: =IF(N101="sníž. přenesená",J101,0) -> 0 | BI101: =IF(N101="nulová",J101,0) -> 0 | BJ101: 1 | BK101: =ROUND(I101*H101,2) -> 0 | BL101: 4 | BM101: -2046547408
D102: Online PSC | F102: https://podminky.urs.cz/item/CS_URS_2025_01/113154534 | AT102: Online PSC | AU102: 2
C103: 6 | D103: K | E103: 121151124 | F103: Sejmutí ornice strojně při souvislé ploše přes 500 m2, tl. vrstvy přes 200 do 250 mm | G103: m2 | H103: 1065 | J103: =ROUND(I103*H103,2) -> 0 | K103: CS ÚRS 2025 01 | N103: základní | P103: =O103*H103 -> 0 | Q103: 0 | R103: =Q103*H103 -> 0 | S103: 0 | T103: =S103*H103 -> 0 | AR103: 4 | AT103: K | AU103: 2 | AY103: ROZPOCET | BE103: =IF(N103="základní",J103,0) -> 0 | BF103: =IF(N103="snížená",J103,0) -> 0 | BG103: =IF(N103="zákl. přenesená",J103,0) -> 0 | BH103: =IF(N103="sníž. přenesená",J103,0) -> 0 | BI103: =IF(N103="nulová",J103,0) -> 0 | BJ103: 1 | BK103: =ROUND(I103*H103,2) -> 0 | BL103: 4 | BM103: 1800434115
D104: Online PSC | F104: https://podminky.urs.cz/item/CS_URS_2025_01/121151124 | AT104: Online PSC | AU104: 2
D105: VV | F105: 1030+35 | H105: 1065 | AT105: VV | AU105: 2 | AV105: 2 | AW105: True | AX105: 0 | AY105: ROZPOCET
D106: VV | F106: Součet | H106: 1065 | AT106: VV | AU106: 2 | AV106: 4 | AW106: True | AX106: 1 | AY106: ROZPOCET
C107: 7 | D107: K | E107: 122151104 | F107: Odkopávky a prokopávky nezapažené strojně v hornině třídy těžitelnosti I skupiny 1 a 2 přes 100 do 500 m3 | G107: m3 | H107: 161 | J107: =ROUND(I107*H107,2) -> 0 | K107: CS ÚRS 2025 01 | N107: základní | P107: =O107*H107 -> 0 | Q107: 0 | R107: =Q107*H107 -> 0 | S107: 0 | T107: =S107*H107 -> 0 | AR107: 4 | AT107: K | AU107: 2 | AY107: ROZPOCET | BE107: =IF(N107="základní",J107,0) -> 0 | BF107: =IF(N107="snížená",J107,0) -> 0 | BG107: =IF(N107="zákl. přenesená",J107,0) -> 0 | BH107: =IF(N107="sníž. přenesená",J107,0) -> 0 | BI107: =IF(N107="nulová",J107,0) -> 0 | BJ107: 1 | BK107: =ROUND(I107*H107,2) -> 0 | BL107: 4 | BM107: 668287432
D108: Online PSC | F108: https://podminky.urs.cz/item/CS_URS_2025_01/122151104 | AT108: Online PSC | AU108: 2
D109: VV | F109: "odkopávky v místě výhyben"125+36 | H109: 161 | AT109: VV | AU109: 2 | AV109: 2 | AW109: True | AX109: 0 | AY109: ROZPOCET
D110: VV | F110: Součet | H110: 161 | AT110: VV | AU110: 2 | AV110: 4 | AW110: True | AX110: 1 | AY110: ROZPOCET
C111: 8 | D111: K | E111: 162551108 | F111: Vodorovné přemístění výkopku nebo sypaniny po suchu na obvyklém dopravním prostředku, bez naložení výkopku, avšak se složením bez rozhrnutí z horniny třídy těžitelnosti I skupiny 1 až 3 na vzdálenost přes 2 500 do 3 000 m | G111: m3 | H111: 266.25 | J111: =ROUND(I111*H111,2) -> 0 | K111: CS ÚRS 2025 01 | N111: základní | P111: =O111*H111 -> 0 | Q111: 0 | R111: =Q111*H111 -> 0 | S111: 0 | T111: =S111*H111 -> 0 | AR111: 4 | AT111: K | AU111: 2 | AY111: ROZPOCET | BE111: =IF(N111="základní",J111,0) -> 0 | BF111: =IF(N111="snížená",J111,0) -> 0 | BG111: =IF(N111="zákl. přenesená",J111,0) -> 0 | BH111: =IF(N111="sníž. přenesená",J111,0) -> 0 | BI111: =IF(N111="nulová",J111,0) -> 0 | BJ111: 1 | BK111: =ROUND(I111*H111,2) -> 0 | BL111: 4 | BM111: 1643321587
D112: Online PSC | F112: https://podminky.urs.cz/item/CS_URS_2025_01/162551108 | AT112: Online PSC | AU112: 2
D113: P | F113: Poznámka k položce:_x000D_ Odvoz sejmuté onice na pozemek určený městem Železná Ruda. | AT113: P | AU113: 2
D114: VV | F114: "přemístení ornice"1065*0,25 | H114: 266.25 | AT114: VV | AU114: 2 | AV114: 2 | AW114: True | AX114: 0 | AY114: ROZPOCET
D115: VV | F115: Součet | H115: 266.25 | AT115: VV | AU115: 2 | AV115: 4 | AW115: True | AX115: 1 | AY115: ROZPOCET
C116: 9 | D116: K | E116: 162751117 | F116: Vodorovné přemístění výkopku nebo sypaniny po suchu na obvyklém dopravním prostředku, bez naložení výkopku, avšak se složením bez rozhrnutí z horniny třídy těžitelnosti I skupiny 1 až 3 na vzdálenost přes 9 000 do 10 000 m | G116: m3 | H116: 161 | J116: =ROUND(I116*H116,2) -> 0 | K116: CS ÚRS 2025 01 | N116: základní | P116: =O116*H116 -> 0 | Q116: 0 | R116: =Q116*H116 -> 0 | S116: 0 | T116: =S116*H116 -> 0 | AR116: 4 | AT116: K | AU116: 2 | AY116: ROZPOCET | BE116: =IF(N116="základní",J116,0) -> 0 | BF116: =IF(N116="snížená",J116,0) -> 0 | BG116: =IF(N116="zákl. přenesená",J116,0) -> 0 | BH116: =IF(N116="sníž. přenesená",J116,0) -> 0 | BI116: =IF(N116="nulová",J116,0) -> 0 | BJ116: 1 | BK116: =ROUND(I116*H116,2) -> 0 | BL116: 4 | BM116: -1551272692
D117: Online PSC | F117: https://podminky.urs.cz/item/CS_URS_2025_01/162751117 | AT117: Online PSC | AU117: 2
C118: 10 | D118: K | E118: 162751119 | F118: Vodorovné přemístění výkopku nebo sypaniny po suchu na obvyklém dopravním prostředku, bez naložení výkopku, avšak se složením bez rozhrnutí z horniny třídy těžitelnosti I skupiny 1 až 3 na vzdálenost Příplatek k ceně za každých dalších i započatých 1 000 m | G118: m3 | H118: 966 | J118: =ROUND(I118*H118,2) -> 0 | K118: CS ÚRS 2025 01 | N118: základní | P118: =O118*H118 -> 0 | Q118: 0 | R118: =Q118*H118 -> 0 | S118: 0 | T118: =S118*H118 -> 0 | AR118: 4 | AT118: K | AU118: 2 | AY118: ROZPOCET | BE118: =IF(N118="základní",J118,0) -> 0 | BF118: =IF(N118="snížená",J118,0) -> 0 | BG118: =IF(N118="zákl. přenesená",J118,0) -> 0 | BH118: =IF(N118="sníž. přenesená",J118,0) -> 0 | BI118: =IF(N118="nulová",J118,0) -> 0 | BJ118: 1 | BK118: =ROUND(I118*H118,2) -> 0 | BL118: 4 | BM118: 1961591946
D119: Online PSC | F119: https://podminky.urs.cz/item/CS_URS_2025_01/162751119 | AT119: Online PSC | AU119: 2
D120: VV | F120: 161*6 'Přepočtené koeficientem množství | H120: 966 | AT120: VV | AU120: 2 | AV120: 2 | AW120: False | AX120: 1 | AY120: ROZPOCET
C121: 11 | D121: K | E121: 167151101 | F121: Nakládání, skládání a překládání neulehlého výkopku nebo sypaniny strojně nakládání, množství do 100 m3, z horniny třídy těžitelnosti I, skupiny 1 až 3 | G121: m3 | H121: 266.25 | J121: =ROUND(I121*H121,2) -> 0 | K121: CS ÚRS 2025 01 | N121: základní | P121: =O121*H121 -> 0 | Q121: 0 | R121: =Q121*H121 -> 0 | S121: 0 | T121: =S121*H121 -> 0 | AR121: 4 | AT121: K | AU121: 2 | AY121: ROZPOCET | BE121: =IF(N121="základní",J121,0) -> 0 | BF121: =IF(N121="snížená",J121,0) -> 0 | BG121: =IF(N121="zákl. přenesená",J121,0) -> 0 | BH121: =IF(N121="sníž. přenesená",J121,0) -> 0 | BI121: =IF(N121="nulová",J121,0) -> 0 | BJ121: 1 | BK121: =ROUND(I121*H121,2) -> 0 | BL121: 4 | BM121: -755060875
D122: Online PSC | F122: https://podminky.urs.cz/item/CS_URS_2025_01/167151101 | AT122: Online PSC | AU122: 2
D123: VV | F123: "přemístení ornice"1065*0,25 | H123: 266.25 | AT123: VV | AU123: 2 | AV123: 2 | AW123: True | AX123: 0 | AY123: ROZPOCET
D124: VV | F124: Součet | H124: 266.25 | AT124: VV | AU124: 2 | AV124: 4 | AW124: True | AX124: 1 | AY124: ROZPOCET
C125: 12 | D125: K | E125: 171111111 | F125: Hutnění zeminy pro spodní stavbu železnic tloušťky vrstvy do 20 cm | G125: m2 | H125: 1065 | J125: =ROUND(I125*H125,2) -> 0 | K125: CS ÚRS 2025 01 | N125: základní | P125: =O125*H125 -> 0 | Q125: 0 | R125: =Q125*H125 -> 0 | S125: 0 | T125: =S125*H125 -> 0 | AR125: 4 | AT125: K | AU125: 2 | AY125: ROZPOCET | BE125: =IF(N125="základní",J125,0) -> 0 | BF125: =IF(N125="snížená",J125,0) -> 0 | BG125: =IF(N125="zákl. přenesená",J125,0) -> 0 | BH125: =IF(N125="sníž. přenesená",J125,0) -> 0 | BI125: =IF(N125="nulová",J125,0) -> 0 | BJ125: 1 | BK125: =ROUND(I125*H125,2) -> 0 | BL125: 4 | BM125: -1232157857
D126: Online PSC | F126: https://podminky.urs.cz/item/CS_URS_2025_01/171111111 | AT126: Online PSC | AU126: 2
D127: VV | F127: 1065 | H127: 1065 | AT127: VV | AU127: 2 | AV127: 2 | AW127: True | AX127: 0 | AY127: ROZPOCET
D128: VV | F128: Součet | H128: 1065 | AT128: VV | AU128: 2 | AV128: 4 | AW128: True | AX128: 1 | AY128: ROZPOCET
C129: 13 | D129: K | E129: 181152302 | F129: Úprava pláně na stavbách silnic a dálnic strojně v zářezech mimo skalních se zhutněním | G129: m2 | H129: 666 | J129: =ROUND(I129*H129,2) -> 0 | K129: CS ÚRS 2025 01 | N129: základní | P129: =O129*H129 -> 0 | Q129: 0 | R129: =Q129*H129 -> 0 | S129: 0 | T129: =S129*H129 -> 0 | AR129: 4 | AT129: K | AU129: 2 | AY129: ROZPOCET | BE129: =IF(N129="základní",J129,0) -> 0 | BF129: =IF(N129="snížená",J129,0) -> 0 | BG129: =IF(N129="zákl. přenesená",J129,0) -> 0 | BH129: =IF(N129="sníž. přenesená",J129,0) -> 0 | BI129: =IF(N129="nulová",J129,0) -> 0 | BJ129: 1 | BK129: =ROUND(I129*H129,2) -> 0 | BL129: 4 | BM129: 199713576
D130: Online PSC | F130: https://podminky.urs.cz/item/CS_URS_2025_01/181152302 | AT130: Online PSC | AU130: 2
D131: VV | F131: 666 | H131: 666 | AT131: VV | AU131: 2 | AV131: 2 | AW131: True | AX131: 1 | AY131: ROZPOCET
C132: 14 | D132: K | E132: 181311103 | F132: Rozprostření a urovnání ornice v rovině nebo ve svahu sklonu do 1:5 ručně při souvislé ploše, tl. vrstvy do 200 mm | G132: m2 | H132: 1024 | J132: =ROUND(I132*H132,2) -> 0 | N132: základní | P132: =O132*H132 -> 0 | Q132: 0 | R132: =Q132*H132 -> 0 | S132: 0 | T132: =S132*H132 -> 0 | AR132: 4 | AT132: K | AU132: 2 | AY132: ROZPOCET | BE132: =IF(N132="základní",J132,0) -> 0 | BF132: =IF(N132="snížená",J132,0) -> 0 | BG132: =IF(N132="zákl. přenesená",J132,0) -> 0 | BH132: =IF(N132="sníž. přenesená",J132,0) -> 0 | BI132: =IF(N132="nulová",J132,0) -> 0 | BJ132: 1 | BK132: =ROUND(I132*H132,2) -> 0 | BL132: 4 | BM132: -1949887226
D133: VV | F133: 1024 | H133: 1024 | AT133: VV | AU133: 2 | AV133: 2 | AW133: True | AX133: 0 | AY133: ROZPOCET
...

Sheet 02 - Vedlejší rozpočtové ...
AT2: {c352f5a9-1b9d-4c82-a66e-e244a57d6a4e}
AT3: 2
D4: KRYCÍ LIST SOUPISU PRACÍ | M4: v --- níže se nacházejí doplnkové a pomocné údaje k sestavám --- v | AT4: False
D6: Stavba:
E7: ='Rekapitulace stavby'!K6 -> Modrava - Místní komunikace Vchýnice - Tetov II
D8: Objekt:
E9: 02 - Vedlejší rozpočtové náklady
D11: KSO: | I11: CC-CZ:
D12: Místo: | F12: Modrava | I12: Datum: | J12: ='Rekapitulace stavby'!AN8 -> Vyplň údaj
D14: Zadavatel: | I14: IČ:
E15: Obec Modrava | I15: DIČ:
D17: Účastník: | I17: IČ: | J17: ='Rekapitulace stavby'!AN13 -> Vyplň údaj
E18: ='Rekapitulace stavby'!E14 -> Vyplň údaj | I18: DIČ: | J18: ='Rekapitulace stavby'!AN14 -> Vyplň údaj
D20: Projektant: | I20: IČ: | J20: =IF('Rekapitulace stavby'!AN16="","",'Rekapitulace stavby'!AN16) -> 07123710
E21: =IF('Rekapitulace stavby'!E17="","",'Rekapitulace stavby'!E17) -> Road Project s.r.o. | I21: DIČ: | J21: =IF('Rekapitulace stavby'!AN17="","",'Rekapitulace stavby'!AN17) -> CZ07123710
D23: Zpracovatel: | I23: IČ: | J23: 07123710
E24: Road Project s.r.o. | I24: DIČ: | J24: CZ07123710
D26: Poznámka:
D30: Cena bez DPH | J30: =ROUND(J86, 2) -> 0
F32: Základ daně | I32: Sazba daně | J32: Výše daně
D33: DPH | E33: základní | F33: =ROUND((SUM(BE86:BE128)), 2) -> 0 | I33: 0.21 | J33: =ROUND(((SUM(BE86:BE128))*I33), 2) -> 0
E34: snížená | F34: =ROUND((SUM(BF86:BF128)), 2) -> 0 | I34: 0.12 | J34: =ROUND(((SUM(BF86:BF128))*I34), 2) -> 0
E35: zákl. přenesená | F35: =ROUND((SUM(BG86:BG128)), 2) -> 0 | I35: 0.21 | J35: =0 -> 0
E36: sníž. přenesená | F36: =ROUND((SUM(BH86:BH128)), 2) -> 0 | I36: 0.12 | J36: =0 -> 0
E37: nulová | F37: =ROUND((SUM(BI86:BI128)), 2) -> 0 | I37: 0 | J37: =0 -> 0
D39: Cena s DPH | G39: v | H39: CZK | J39: =SUM(J30:J37) -> 0
C45: REKAPITULACE ČLENĚNÍ SOUPISU PRACÍ
C47: Stavba:
E48: =E7 -> Modrava - Místní komunikace Vchýnice - Tetov II
C49: Objekt:
E50: =E9 -> 02 - Vedlejší rozpočtové náklady
C52: Místo: | F52: =F12 -> Modrava | I52: Datum: | J52: =IF(J12="","",J12) -> Vyplň údaj
C54: Zadavatel: | F54: =E15 -> Obec Modrava | I54: Projektant: | J54: =E21 -> Road Project s.r.o.
C55: Účastník: | F55: =IF(E18="","",E18) -> Vyplň údaj | I55: Zpracovatel: | J55: =E24 -> Road Project s.r.o.
C57: Kód dílu - Popis | J57: Cena celkem [CZK]
C59: Náklady stavby celkem | J59: =J86 -> 0 | AU59: -1
D60: HZS - Hodinové zúčtovací sazby | J60: =J87 -> 0
D61: VRN - Vedlejší rozpočtové náklady | J61: =J92 -> 0
D62: VRN1 - Průzkumné, geodetické a projektové práce | J62: =J93 -> 0
D63: VRN3 - Zařízení staveniště | J63: =J103 -> 0
D64: VRN4 - Inženýrská činnost | J64: =J116 -> 0
D65: VRN7 - Provozní vlivy | J65: =J119 -> 0
D66: VRN9 - Ostatní náklady | J66: =J124 -> 0
C73: SOUPIS PRACÍ
C75: Stavba:
E76: =E7 -> Modrava - Místní komunikace Vchýnice - Tetov II
C77: Objekt:
E78: =E9 -> 02 - Vedlejší rozpočtové náklady
C80: Místo: | F80: =F12 -> Modrava | I80: Datum: | J80: =IF(J12="","",J12) -> Vyplň údaj
C82: Zadavatel: | F82: =E15 -> Obec Modrava | I82: Projektant: | J82: =E21 -> Road Project s.r.o.
C83: Účastník: | F83: =IF(E18="","",E18) -> Vyplň údaj | I83: Zpracovatel: | J83: =E24 -> Road Project s.r.o.
C85: PČ | D85: Typ | E85: Kód | F85: Popis | G85: MJ | H85: Množství | I85: J.cena [CZK] | J85: Cena celkem [CZK] | K85: Cenová soustava | N85: DPH | O85: J. Nh [h] | P85: Nh celkem [h] | Q85: J. hmotnost [t] | R85: Hmotnost celkem [t] | S85: J. suť [t] | T85: Suť Celkem [t]
C86: Náklady soupisu celkem | J86: =BK86 -> 0 | P86: =P87+P92 -> 0 | R86: =R87+R92 -> 0 | T86: =T87+T92 -> 0 | AT86: D | AU86: -1 | BK86: =BK87+BK92 -> 0
D87: D | E87: HZS | F87: Hodinové zúčtovací sazby | J87: =BK87 -> 0 | P87: =SUM(P88:P91) -> 0 | R87: =SUM(R88:R91) -> 0 | T87: =SUM(T88:T91) -> 0 | AR87: 4 | AT87: D | AU87: 0 | AY87: ROZPOCET | BK87: =SUM(BK88:BK91) -> 0
C88: 1 | D88: K | E88: HZS1292 | F88: Hodinové zúčtovací sazby profesí HSV zemní a pomocné práce stavební dělník | G88: hod | H88: 150 | J88: =ROUND(I88*H88,2) -> 0 | K88: CS ÚRS 2024 01 | N88: základní | P88: =O88*H88 -> 0 | Q88: 0 | R88: =Q88*H88 -> 0 | S88: 0 | T88: =S88*H88 -> 0 | AR88: 512 | AT88: K | AU88: 1 | AY88: ROZPOCET | BE88: =IF(N88="základní",J88,0) -> 0 | BF88: =IF(N88="snížená",J88,0) -> 0 | BG88: =IF(N88="zákl. přenesená",J88,0) -> 0 | BH88: =IF(N88="sníž. přenesená",J88,0) -> 0 | BI88: =IF(N88="nulová",J88,0) -> 0 | BJ88: 1 | BK88: =ROUND(I88*H88,2) -> 0 | BL88: 512 | BM88: 57205754
D89: Online PSC | F89: https://podminky.urs.cz/item/CS_URS_2024_01/HZS1292 | AT89: Online PSC | AU89: 1
C90: 2 | D90: K | E90: HZS1301 | F90: Hodinové zúčtovací sazby profesí HSV provádění konstrukcí zedník | G90: hod | H90: 10 | J90: =ROUND(I90*H90,2) -> 0 | K90: CS ÚRS 2024 01 | N90: základní | P90: =O90*H90 -> 0 | Q90: 0 | R90: =Q90*H90 -> 0 | S90: 0 | T90: =S90*H90 -> 0 | AR90: 512 | AT90: K | AU90: 1 | AY90: ROZPOCET | BE90: =IF(N90="základní",J90,0) -> 0 | BF90: =IF(N90="snížená",J90,0) -> 0 | BG90: =IF(N90="zákl. přenesená",J90,0) -> 0 | BH90: =IF(N90="sníž. přenesená",J90,0) -> 0 | BI90: =IF(N90="nulová",J90,0) -> 0 | BJ90: 1 | BK90: =ROUND(I90*H90,2) -> 0 | BL90: 512 | BM90: 422910949
D91: Online PSC | F91: https://podminky.urs.cz/item/CS_URS_2024_01/HZS1301 | AT91: Online PSC | AU91: 1
D92: D | E92: VRN | F92: Vedlejší rozpočtové náklady | J92: =BK92 -> 0 | P92: =P93+P103+P116+P119+P124 -> 0 | R92: =R93+R103+R116+R119+R124 -> 0 | T92: =T93+T103+T116+T119+T124 -> 0 | AR92: 5 | AT92: D | AU92: 0 | AY92: ROZPOCET | BK92: =BK93+BK103+BK116+BK119+BK124 -> 0
D93: D | E93: VRN1 | F93: Průzkumné, geodetické a projektové práce | J93: =BK93 -> 0 | P93: =SUM(P94:P102) -> 0 | R93: =SUM(R94:R102) -> 0 | T93: =SUM(T94:T102) -> 0 | AR93: 5 | AT93: D | AU93: 1 | AY93: ROZPOCET | BK93: =SUM(BK94:BK102) -> 0
C94: 3 | D94: K | E94: 012103000 | F94: Geodetické práce před výstavbou | G94: ks | H94: 1 | J94: =ROUND(I94*H94,2) -> 0 | N94: základní | P94: =O94*H94 -> 0 | Q94: 0 | R94: =Q94*H94 -> 0 | S94: 0 | T94: =S94*H94 -> 0 | AR94: 1024 | AT94: K | AU94: 2 | AY94: ROZPOCET | BE94: =IF(N94="základní",J94,0) -> 0 | BF94: =IF(N94="snížená",J94,0) -> 0 | BG94: =IF(N94="zákl. přenesená",J94,0) -> 0 | BH94: =IF(N94="sníž. přenesená",J94,0) -> 0 | BI94: =IF(N94="nulová",J94,0) -> 0 | BJ94: 1 | BK94: =ROUND(I94*H94,2) -> 0 | BL94: 1024 | BM94: 1423642523
C95: 4 | D95: K | E95: 012203000 | F95: Geodetické práce při provádění stavby | G95: ks | H95: 1 | J95: =ROUND(I95*H95,2) -> 0 | N95: základní | P95: =O95*H95 -> 0 | Q95: 0 | R95: =Q95*H95 -> 0 | S95: 0 | T95: =S95*H95 -> 0 | AR95: 1024 | AT95: K | AU95: 2 | AY95: ROZPOCET | BE95: =IF(N95="základní",J95,0) -> 0 | BF95: =IF(N95="snížená",J95,0) -> 0 | BG95: =IF(N95="zákl. přenesená",J95,0) -> 0 | BH95: =IF(N95="sníž. přenesená",J95,0) -> 0 | BI95: =IF(N95="nulová",J95,0) -> 0 | BJ95: 1 | BK95: =ROUND(I95*H95,2) -> 0 | BL95: 1024 | BM95: -853516644
D96: VV | F96: "zaměření vnějších rozvodů a jejich příslušenství " 1 | H96: 1 | AT96: VV | AU96: 2 | AV96: 2 | AW96: True | AX96: 1 | AY96: ROZPOCET
C97: 5 | D97: K | E97: 012303000 | F97: Průzkumné, geodetické a projektové práce geodetické práce po výstavbě | G97: Kč | H97: 1 | J97: =ROUND(I97*H97,2) -> 0 | N97: základní | P97: =O97*H97 -> 0 | Q97: 0 | R97: =Q97*H97 -> 0 | S97: 0 | T97: =S97*H97 -> 0 | AR97: 1024 | AT97: K | AU97: 2 | AY97: ROZPOCET | BE97: =IF(N97="základní",J97,0) -> 0 | BF97: =IF(N97="snížená",J97,0) -> 0 | BG97: =IF(N97="zákl. přenesená",J97,0) -> 0 | BH97: =IF(N97="sníž. přenesená",J97,0) -> 0 | BI97: =IF(N97="nulová",J97,0) -> 0 | BJ97: 1 | BK97: =ROUND(I97*H97,2) -> 0 | BL97: 1024 | BM97: 1946869982
D98: P | F98: Poznámka k položce:_x000D_ geodetické zaměření provedené stavby_x000D_ v digitální formě (dgn, PDF) a papírové formě (3x) předat objednateli_x000D_ geometrický plán | AT98: P | AU98: 2
D99: VV | F99: "geodetické zaměření skutečného provedení stavby, včetně geodetického zaměření vedení VO" 1 | H99: 1 | AT99: VV | AU99: 2 | AV99: 2 | AW99: True | AX99: 1 | AY99: ROZPOCET
C100: 6 | D100: K | E100: 013244000 | F100: Dokumentace realizační,výrobní, montážní | G100: ks | H100: 1 | J100: =ROUND(I100*H100,2) -> 0 | N100: základní | P100: =O100*H100 -> 0 | Q100: 0 | R100: =Q100*H100 -> 0 | S100: 0 | T100: =S100*H100 -> 0 | AR100: 1024 | AT100: K | AU100: 2 | AY100: ROZPOCET | BE100: =IF(N100="základní",J100,0) -> 0 | BF100: =IF(N100="snížená",J100,0) -> 0 | BG100: =IF(N100="zákl. přenesená",J100,0) -> 0 | BH100: =IF(N100="sníž. přenesená",J100,0) -> 0 | BI100: =IF(N100="nulová",J100,0) -> 0 | BJ100: 1 | BK100: =ROUND(I100*H100,2) -> 0 | BL100: 1024 | BM100: -1042910079
C101: 7 | D101: K | E101: 013254000 | F101: Průzkumné, geodetické a projektové práce projektové práce dokumentace stavby (výkresová a textová) skutečného provedení stavby | G101: Kč | H101: 1 | J101: =ROUND(I101*H101,2) -> 0 | N101: základní | P101: =O101*H101 -> 0 | Q101: 0 | R101: =Q101*H101 -> 0 | S101: 0 | T101: =S101*H101 -> 0 | AR101: 1024 | AT101: K | AU101: 2 | AY101: ROZPOCET | BE101: =IF(N101="základní",J101,0) -> 0 | BF101: =IF(N101="snížená",J101,0) -> 0 | BG101: =IF(N101="zákl. přenesená",J101,0) -> 0 | BH101: =IF(N101="sníž. přenesená",J101,0) -> 0 | BI101: =IF(N101="nulová",J101,0) -> 0 | BJ101: 1 | BK101: =ROUND(I101*H101,2) -> 0 | BL101: 1024 | BM101: -438668663
D102: P | F102: Poznámka k položce:_x000D_ Dokumentace skutečného provedení stavby v souladu s vyhl.č.499/2006 Sb., příloha č.7,ve třech vyhotoveních a jedenkráte v digitálním provedení v souborech PDF na nosiči CD. - viz požadavky objednatele v zadávací dokumentaci | AT102: P | AU102: 2
D103: D | E103: VRN3 | F103: Zařízení staveniště | J103: =BK103 -> 0 | P103: =SUM(P104:P115) -> 0 | R103: =SUM(R104:R115) -> 0 | T103: =SUM(T104:T115) -> 0 | AR103: 5 | AT103: D | AU103: 1 | AY103: ROZPOCET | BK103: =SUM(BK104:BK115) -> 0
C104: 8 | D104: K | E104: 030001000 | F104: Zařízení staveniště_x000D_ Základní rozdělení průvodních činností a nákladů zařízení staveniště | G104: Kč | H104: 1 | J104: =ROUND(I104*H104,2) -> 0 | N104: základní | P104: =O104*H104 -> 0 | Q104: 0 | R104: =Q104*H104 -> 0 | S104: 0 | T104: =S104*H104 -> 0 | AR104: 1024 | AT104: K | AU104: 2 | AY104: ROZPOCET | BE104: =IF(N104="základní",J104,0) -> 0 | BF104: =IF(N104="snížená",J104,0) -> 0 | BG104: =IF(N104="zákl. přenesená",J104,0) -> 0 | BH104: =IF(N104="sníž. přenesená",J104,0) -> 0 | BI104: =IF(N104="nulová",J104,0) -> 0 | BJ104: 1 | BK104: =ROUND(I104*H104,2) -> 0 | BL104: 1024 | BM104: -653711845
D105: P | F105: Poznámka k položce:_x000D_ Zabezpečení stavby dle požadavků:_x000D_ - Zákona č. 309/2006 Sb._x000D_ - NV 591/2006 Sb._x000D_ - Zákona č. 185/2001 Sb. a vyhl.č. 381/2001 Sb. – odpady_x000D_ - NV 101/2005 Sb., NV 361/2007 Sb. – hyg.požadavky_x000D_ - NV 168/2002 Sb. doprava na staveništi_x000D_ - NV 378/2001 Sb. stavební stroje_x000D_ - Zák.č. 133/1985 Sb. a vyhl.č. 246/2001 Sb. – pbř_x000D_ - Vyhl.č. 132/1998 Sb., NV 362/2005 Sb. – zemní práce_x000D_ montáž, provozování a demontáž stavebního výtahu pro přístup do prostoru staveniště_x000D_ dle zpracovaného ZOV | AT105: P | AU105: 2
C106: 9 | D106: K | E106: 031002000 | F106: Hlavní tituly průvodních činností a nákladů zařízení staveniště související (přípravné) práce | G106: Kč | H106: 1 | J106: =ROUND(I106*H106,2) -> 0 | N106: základní | P106: =O106*H106 -> 0 | Q106: 0 | R106: =Q106*H106 -> 0 | S106: 0 | T106: =S106*H106 -> 0 | AR106: 1024 | AT106: K | AU106: 2 | AY106: ROZPOCET | BE106: =IF(N106="základní",J106,0) -> 0 | BF106: =IF(N106="snížená",J106,0) -> 0 | BG106: =IF(N106="zákl. přenesená",J106,0) -> 0 | BH106: =IF(N106="sníž. přenesená",J106,0) -> 0 | BI106: =IF(N106="nulová",J106,0) -> 0 | BJ106: 1 | BK106: =ROUND(I106*H106,2) -> 0 | BL106: 1024 | BM106: -1178016493
D107: P | F107: Poznámka k položce:_x000D_ • Identifikace rizik ■ proces zjišťování zdrojů nebezpečí, jejich velikosti, charakteru a umístění._x000D_ • Součinnost při zpracování , revizi či doplnění plánu BOZP | AT107: P | AU107: 2
C108: 10 | D108: K | E108: 032603000 | F108: Zařízení staveniště vybavení staveniště ostatní náklady | G108: Kč | H108: 1 | J108: =ROUND(I108*H108,2) -> 0 | N108: základní | P108: =O108*H108 -> 0 | Q108: 0 | R108: =Q108*H108 -> 0 | S108: 0 | T108: =S108*H108 -> 0 | AR108: 1024 | AT108: K | AU108: 2 | AY108: ROZPOCET | BE108: =IF(N108="základní",J108,0) -> 0 | BF108: =IF(N108="snížená",J108,0) -> 0 | BG108: =IF(N108="zákl. přenesená",J108,0) -> 0 | BH108: =IF(N108="sníž. přenesená",J108,0) -> 0 | BI108: =IF(N108="nulová",J108,0) -> 0 | BJ108: 1 | BK108: =ROUND(I108*H108,2) -> 0 | BL108: 1024 | BM108: 732642799
D109: P | F109: Poznámka k položce:_x000D_ • veškerá opatření dle plánu BOZP v souladu se zákonem č. 309/2006 Sb. v aktuálním znění v době provádění stavby a oprávněných pokynů (např. podle vyhl. č. 591/2006 Sb., atd.) koordinátora bezpečnosti práce pro bezpečné provádění díla v souladu s legislativními požadavky (např. realizace zabezpečení stavby proti pádům z výšky, vymezování pracovišť nebo pořádání kontrolních dnů KOO BOZP s účastí dotčených osob, atd.), a to i u veškerých subdodavatelů na všech stupních dodavatelské hierarchie (např. včetně dopravců, atd.) | AT109: P | AU109: 2
C110: 11 | D110: K | E110: 034002000 | F110: Hlavní tituly průvodních činností a nákladů zařízení staveniště zabezpečení staveniště | G110: Kč | H110: 1 | J110: =ROUND(I110*H110,2) -> 0 | N110: základní | P110: =O110*H110 -> 0 | Q110: 0 | R110: =Q110*H110 -> 0 | S110: 0 | T110: =S110*H110 -> 0 | AR110: 1024 | AT110: K | AU110: 2 | AY110: ROZPOCET | BE110: =IF(N110="základní",J110,0) -> 0 | BF110: =IF(N110="snížená",J110,0) -> 0 | BG110: =IF(N110="zákl. přenesená",J110,0) -> 0 | BH110: =IF(N110="sníž. přenesená",J110,0) -> 0 | BI110: =IF(N110="nulová",J110,0) -> 0 | BJ110: 1 | BK110: =ROUND(I110*H110,2) -> 0 | BL110: 1024 | BM110: 1640607143
D111: P | F111: Poznámka k položce:_x000D_ • provádění povinností zhotovitelů včetně veškerých subdodavatelů na všech stupních dodavatelské hierarchie (např. včetně dopravců, atd.) dle zákona č. 309/2006 Sb. v aktuálním znění v době výstavby | AT111: P | AU111: 2
C112: 12 | D112: K | E112: 034303000 | F112: Dopravní značení na staveništi | G112: ks | H112: 1 | J112: =ROUND(I112*H112,2) -> 0 | N112: základní | P112: =O112*H112 -> 0 | Q112: 0 | R112: =Q112*H112 -> 0 | S112: 0 | T112: =S112*H112 -> 0 | AR112: 1024 | AT112: K | AU112: 2 | AY112: ROZPOCET | BE112: =IF(N112="základní",J112,0) -> 0 | BF112: =IF(N112="snížená",J112,0) -> 0 | BG112: =IF(N112="zákl. přenesená",J112,0) -> 0 | BH112: =IF(N112="sníž. přenesená",J112,0) -> 0 | BI112: =IF(N112="nulová",J112,0) -> 0 | BJ112: 1 | BK112: =ROUND(I112*H112,2) -> 0 | BL112: 1024 | BM112: 602503012
C113: 13 | D113: K | E113: 034503000 | F113: Informační tabule na staveništi | G113: ks | H113: 1 | J113: =ROUND(I113*H113,2) -> 0 | N113: základní | P113: =O113*H113 -> 0 | Q113: 0 | R113: =Q113*H113 -> 0 | S113: 0 | T113: =S113*H113 -> 0 | AR113: 1024 | AT113: K | AU113: 2 | AY113: ROZPOCET | BE113: =IF(N113="základní",J113,0) -> 0 | BF113: =IF(N113="snížená",J113,0) -> 0 | BG113: =IF(N113="zákl. přenesená",J113,0) -> 0 | BH113: =IF(N113="sníž. přenesená",J113,0) -> 0 | BI113: =IF(N113="nulová",J113,0) -> 0 | BJ113: 1 | BK113: =ROUND(I113*H113,2) -> 0 | BL113: 1024 | BM113: 1379991076
C114: 14 | D114: K | E114: 043103000 | F114: Zkoušky bez rozlišení_x000D_ Inženýrská činnost zkoušky a ostatní měření zkoušky bez rozlišení_x000D_ | G114: Kč | H114: 1 | J114: =ROUND(I114*H114,2) -> 0 | N114: základní | P114: =O114*H114 -> 0 | Q114: 0 | R114: =Q114*H114 -> 0 | S114: 0 | T114: =S114*H114 -> 0 | AR114: 1024 | AT114: K | AU114: 2 | AY114: ROZPOCET | BE114: =IF(N114="základní",J114,0) -> 0 | BF114: =IF(N114="snížená",J114,0) -> 0 | BG114: =IF(N114="zákl. přenesená",J114,0) -> 0 | BH114: =IF(N114="sníž. přenesená",J114,0) -> 0 | BI114: =IF(N114="nulová",J114,0) -> 0 | BJ114: 1 | BK114: =ROUND(I114*H114,2) -> 0 | BL114: 1024 | BM114: -378989094
D115: P | F115: Poznámka k položce:_x000D_ Provedení veškerých zkoušek dle platných ČSN pro prováděné práce případně stanovené v zadávací dokumentaci_x000D_ Zkoušky a revize všech součástí stavby tak,aby byla zajištěna její plná funkčnost | AT115: P | AU115: 2
D116: D | E116: VRN4 | F116: Inženýrská činnost | J116: =BK116 -> 0 | P116: =SUM(P117:P118) -> 0 | R116: =SUM(R117:R118) -> 0 | T116: =SUM(T117:T118) -> 0 | AR116: 5 | AT116: D | AU116: 1 | AY116: ROZPOCET | BK116: =SUM(BK117:BK118) -> 0
C117: 15 | D117: K | E117: 049002000 | F117: Inženýrská činnost ostatní | G117: … | H117: 1 | J117: =ROUND(I117*H117,2) -> 0 | K117: CS ÚRS 2024 02 | N117: základní | P117: =O117*H117 -> 0 | Q117: 0 | R117: =Q117*H117 -> 0 | S117: 0 | T117: =S117*H117 -> 0 | AR117: 1024 | AT117: K | AU117: 2 | AY117: ROZPOCET | BE117: =IF(N117="základní",J117,0) -> 0 | BF117: =IF(N117="snížená",J117,0) -> 0 | BG117: =IF(N117="zákl. přenesená",J117,0) -> 0 | BH117: =IF(N117="sníž. přenesená",J117,0) -> 0 | BI117: =IF(N117="nulová",J117,0) -> 0 | BJ117: 1 | BK117: =ROUND(I117*H117,2) -> 0 | BL117: 1024 | BM117: -1273564869
D118: Online PSC | F118: https://podminky.urs.cz/item/CS_URS_2024_02/049002000 | AT118: Online PSC | AU118: 2
D119: D | E119: VRN7 | F119: Provozní vlivy | J119: =BK119 -> 0 | P119: =SUM(P120:P123) -> 0 | R119: =SUM(R120:R123) -> 0 | T119: =SUM(T120:T123) -> 0 | AR119: 5 | AT119: D | AU119: 1 | AY119: ROZPOCET | BK119: =SUM(BK120:BK123) -> 0
C120: 16 | D120: K | E120: 071203000 | F120: Provoz dalšího subjektu | G120: kč | H120: 1 | J120: =ROUND(I120*H120,2) -> 0 | K120: CS ÚRS 2024 01 | N120: základní | P120: =O120*H120 -> 0 | Q120: 0 | R120: =Q120*H120 -> 0 | S120: 0 | T120: =S120*H120 -> 0 | AR120: 1024 | AT120: K | AU120: 2 | AY120: ROZPOCET | BE120: =IF(N120="základní",J120,0) -> 0 | BF120: =IF(N120="snížená",J120,0) -> 0 | BG120: =IF(N120="zákl. přenesená",J120,0) -> 0 | BH120: =IF(N120="sníž. přenesená",J120,0) -> 0 | BI120: =IF(N120="nulová",J120,0) -> 0 | BJ120: 1 | BK120: =ROUND(I120*H120,2) -> 0 | BL120: 1024 | BM120: 1198000846
D121: Online PSC | F121: https://podminky.urs.cz/item/CS_URS_2024_01/071203000 | AT121: Online PSC | AU121: 2
C122: 17 | D122: K | E122: 072203000 | F122: Silniční provoz - zajištění DIO (dopravní značení) | G122: … | H122: 1 | J122: =ROUND(I122*H122,2) -> 0 | K122: CS ÚRS 2024 02 | N122: základní | P122: =O122*H122 -> 0 | Q122: 0 | R122: =Q122*H122 -> 0 | S122: 0 | T122: =S122*H122 -> 0 | AR122: 1024 | AT122: K | AU122: 2 | AY122: ROZPOCET | BE122: =IF(N122="základní",J122,0) -> 0 | BF122: =IF(N122="snížená",J122,0) -> 0 | BG122: =IF(N122="zákl. přenesená",J122,0) -> 0 | BH122: =IF(N122="sníž. přenesená",J122,0) -> 0 | BI122: =IF(N122="nulová",J122,0) -> 0 | BJ122: 1 | BK122: =ROUND(I122*H122,2) -> 0 | BL122: 1024 | BM122: -1715062148
D123: Online PSC | F123: https://podminky.urs.cz/item/CS_URS_2024_02/072203000 | AT123: Online PSC | AU123: 2
D124: D | E124: VRN9 | F124: Ostatní náklady | J124: =BK124 -> 0 | P124: =SUM(P125:P128) -> 0 | R124: =SUM(R125:R128) -> 0 | T124: =SUM(T125:T128) -> 0 | AR124: 5 | AT124: D | AU124: 1 | AY124: ROZPOCET | BK124: =SUM(BK125:BK128) -> 0
C125: 18 | D125: K | E125: 091704000 | F125: Ostatní náklady související s objektem náklady na údržbu | G125: Kč | H125: 1 | J125: =ROUND(I125*H125,2) -> 0 | N125: základní | P125: =O125*H125 -> 0 | Q125: 0 | R125: =Q125*H125 -> 0 | S125: 0 | T125: =S125*H125 -> 0 | AR125: 1024 | AT125: K | AU125: 2 | AY125: ROZPOCET | BE125: =IF(N125="základní",J125,0) -> 0 | BF125: =IF(N125="snížená",J125,0) -> 0 | BG125: =IF(N125="zákl. přenesená",J125,0) -> 0 | BH125: =IF(N125="sníž. přenesená",J125,0) -> 0 | BI125: =IF(N125="nulová",J125,0) -> 0 | BJ125: 1 | BK125: =ROUND(I125*H125,2) -> 0 | BL125: 1024 | BM125: 1952043640
D126: P | F126: Poznámka k položce:_x000D_ Náklady na údržbu a čištění stávajících přístupových komunikaci po dobu výstavby | AT126: P | AU126: 2
C127: 19 | D127: K | E127: 091803000 | F127: Vybavení BOZP objektu | G127: … | H127: 1 | J127: =ROUND(I127*H127,2) -> 0 | K127: CS ÚRS 2024 02 | N127: základní | P127: =O127*H127 -> 0 | Q127: 0 | R127: =Q127*H127 -> 0 | S127: 0 | T127: =S127*H127 -> 0 | AR127: 1024 | AT127: K | AU127: 2 | AY127: ROZPOCET | BE127: =IF(N127="základní",J127,0) -> 0 | BF127: =IF(N127="snížená",J127,0) -> 0 | BG127: =IF(N127="zákl. přenesená",J127,0) -> 0 | BH127: =IF(N127="sníž. přenesená",J127,0) -> 0 | BI127: =IF(N127="nulová",J127,0) -> 0 | BJ127: 1 | BK127: =ROUND(I127*H127,2) -> 0 | BL127: 1024 | BM127: -49992701
D128: Online PSC | F128: https://podminky.urs.cz/item/CS_URS_2024_02/091803000 | AT128: Online PSC | AU128: 2

Sheet Pokyny pro vyplnění
C3: Struktura údajů, formát souboru a metodika pro zpracování
C4: Struktura
C6: Soubor je složen ze záložky Rekapitulace stavby a záložek s názvem soupisu prací pro jednotlivé objekty ve formátu XLSX. Každá ze záložek přitom obsahuje
C7: ještě samostatné sestavy vymezené orámovaním a nadpisem sestavy.
C9: Rekapitulace stavby obsahuje sestavu Rekapitulace stavby a Rekapitulace objektů stavby a soupisů prací.
D10: V sestavě Rekapitulace stavby jsou uvedeny informace identifikující předmět veřejné zakázky na stavební práce, KSO, CC-CZ, CZ-CPV, CZ-CPA a rekapitulaci
D11: celkové nabídkové ceny účastníka.
D13: Termínem "učastník" (resp. zhotovitel) se myslí "účastník zadávacího řízení" ve smyslu zákona o zadávání veřejných zakázek.
D15: V sestavě Rekapitulace objektů stavby a soupisů prací je uvedena rekapitulace stavebních objektů, inženýrských objektů, provozních souborů,
D16: vedlejších a ostatních nákladů a ostatních nákladů s rekapitulací nabídkové ceny za jednotlivé soupisy prací. Na základě údaje Typ je možné
D17: identifikovat, zda se jedná o objekt nebo soupis prací pro daný objekt:
E18: STA | F18: Stavební objekt pozemní
E19: ING | F19: Stavební objekt inženýrský
E20: PRO | F20: Provozní soubor
E21: VON | F21: Vedlejší a ostatní náklady
E22: OST | F22: Ostatní
E23: Soupis | F23: Soupis prací pro daný typ objektu
C25: Soupis prací pro jednotlivé objekty obsahuje sestavy Krycí list soupisu prací, Rekapitulace členění soupisu prací, Soupis prací. Za soupis prací může být považován
C26: i objekt stavby v případě, že neobsahuje podřízenou zakázku.
D27: Krycí list soupisu obsahuje rekapitulaci informací o předmětu veřejné zakázky ze sestavy Rekapitulace stavby, informaci o zařazení objektu do KSO,
D28: CC-CZ, CZ-CPV, CZ-CPA a rekapitulaci celkové nabídkové ceny účastníka za aktuální soupis prací.
D30: Rekapitulace členění soupisu prací obsahuje rekapitulaci soupisu prací ve všech úrovních členění soupisu tak, jak byla tato členění použita (např.
D31: stavební díly, funkční díly, případně jiné členění) s rekapitulací nabídkové ceny.
D33: Soupis prací obsahuje položky veškerých stavebních nebo montážních prací, dodávek materiálů a služeb nezbytných pro zhotovení stavebního objektu,
D34: inženýrského objektu, provozního souboru, vedlejších a ostatních nákladů.
D35: Pro položky soupisu prací se zobrazují následující informace:
E36: PČ | G36: Pořadové číslo položky v aktuálním soupisu
E37: TYP | G37: Typ položky: K - konstrukce, M - materiál, PP - plný popis, PSC - poznámka k souboru cen, P - poznámka k položce, VV - výkaz výměr, FIG - rozpad figur
E38: Kód | G38: Kód položky
E39: Popis | G39: Zkrácený popis položky
E40: MJ | G40: Měrná jednotka položky
E41: Množství | G41: Množství v měrné jednotce
E42: J.cena | G42: Jednotková cena položky. Zadaní může obsahovat namísto J.ceny sloupce J.materiál a J.montáž, jejichž součet definuje
G43: J.cenu položky.
E44: Cena celkem | G44: Celková cena položky daná jako součin množství a j.ceny
E45: Cenová soustava | G45: Příslušnost položky do cenové soustavy
D47: Ke každé položce soupisu prací se na samostatných řádcích může zobrazovat:
E48: Plný popis položky
E49: Poznámka k souboru cen a poznámka zadavatele
E50: Výkaz výměr
D51: Pokud je k řádku výkazu výměr evidovaný údaj ve sloupci Kód, jedná se o definovaný odkaz, na který se může odvolávat výkaz výměr z jiné položky.
C52: Metodika pro zpracování
C54: Jednotlivé sestavy jsou v souboru provázány. Editovatelné pole jsou zvýrazněny žlutým podbarvením, ostatní pole neslouží k editaci a nesmí být jakkoliv
C55: modifikovány.
C57: Účastník je pro podání nabídky povinen vyplnit žlutě podbarvená pole:
D58: Pole Účastník v sestavě Rekapitulace stavby - zde účastník vyplní svůj název (název subjektu)
D59: Pole IČ a DIČ v sestavě Rekapitulace stavby - zde účastník vyplní svoje IČ a DIČ
D60: Datum v sestavě Rekapitulace stavby - zde účastník vyplní datum vytvoření nabídky
D61: J.cena = jednotková cena v sestavě Soupis prací o maximálním počtu desetinných míst uvedených v poli
D62: - pokud sestavy soupisů prací obsahují pole J.cena, měla by být všechna tato pole vyplněna nenulovými
D63: Poznámka - nepovinný údaj pro položku soupisu
D65: V případě, že sestavy soupisů prací neobsahují pole J.cena, potom ve všech soupisech prací obsahují pole:
D66: - J.materiál - jednotková cena materiálu
D67: - J.montáž - jednotková cena montáže
D68: Účastník v tomto případě by měl vyplnit všechna pole J.materiál a pole J.montáž nenulovými kladnými číslicemi. V případech, kdy položka
D69: neobsahuje žádný materiál je přípustné, aby pole J.materiál bylo vyplněno nulou. V případech, kdy položka neobsahuje žádnou montáž je přípustné,
D70: aby pole J.montáž bylo vyplněno nulou. Obě pole - J.materiál, J.Montáž u jedné položky by však neměly být vyplněny nulou.
C75: Rekapitulace stavby
C76: Název | F76: Povinný | H76: Popis | I76: Typ | J76: Max. počet
C77: atributu | F77: (A/N) | J77: znaků
C79: Kód | F79: A | H79: Kód stavby | I79: String | J79: 20
C80: Stavba | F80: A | H80: Název stavby | I80: String | J80: 120
C81: Místo | F81: N | H81: Místo stavby | I81: String | J81: 50
C82: Datum | F82: A | H82: Datum vykonaného exportu | I82: Date
C83: KSO | F83: N | H83: Klasifikace stavebního objektu | I83: String | J83: 15
C84: CC-CZ | F84: N | H84: Klasifikace stavbeních děl | I84: String | J84: 15
C85: CZ-CPV | F85: N | H85: Společný slovník pro veřejné zakázky | I85: String | J85: 20
C86: CZ-CPA | F86: N | H86: Klasifikace produkce podle činností | I86: String | J86: 20
C87: Zadavatel | F87: N | H87: Zadavatel zadaní | I87: String | J87: 50
C88: IČ | F88: N | H88: IČ zadavatele zadaní | I88: String | J88: 20
C89: DIČ | F89: N | H89: DIČ zadavatele zadaní | I89: String | J89: 20
C90: Účastník | F90: N | H90: Účastník veřejné zakázky | I90: String | J90: 50
C91: Projektant | F91: N | H91: Projektant | I91: String | J91: 50
C92: Poznámka | F92: N | H92: Poznámka k zadání | I92: String | J92: 255
C93: Sazba DPH | F93: A | H93: Rekapitulace sazeb DPH u položek soupisů | I93: eGSazbaDph
C94: Základna DPH | F94: A | H94: Základna DPH určena součtem celkové ceny z položek soupisů | I94: Double
C95: Hodnota DPH | F95: A | H95: Hodnota DPH | I95: Double
C96: Cena bez DPH | F96: A | H96: Celková cena bez DPH za celou stavbu. Sčítává se ze všech listů. | I96: Double
C97: Cena s DPH | F97: A | H97: Celková cena s DPH za celou stavbu | I97: Double
C102: Rekapitulace objektů stavby a soupisů prací
C103: Název | F103: Povinný | H103: Popis | I103: Typ | J103: Max. počet
C104: atributu | F104: (A/N) | J104: znaků
C106: Kód | F106: A | H106: Přebírá se z Rekapitulace stavby | I106: String | J106: 20
C107: Stavba | F107: A | H107: Přebírá se z Rekapitulace stavby | I107: String | J107: 120
C108: Místo | F108: N | H108: Přebírá se z Rekapitulace stavby | I108: String | J108: 50
C109: Datum | F109: A | H109: Přebírá se z Rekapitulace stavby | I109: Date
C110: Zadavatel | F110: N | H110: Přebírá se z Rekapitulace stavby | I110: String | J110: 50
C111: Projektant | F111: N | H111: Přebírá se z Rekapitulace stavby | I111: String | J111: 50
C112: Účastník | F112: N | H112: Přebírá se z Rekapitulace stavby | I112: String | J112: 50
C113: Kód | F113: A | H113: Kód objektu | I113: String | J113: 20
C114: Objektu, Soupis prací | F114: A | H114: Název objektu | I114: String | J114: 120
C115: Cena bez DPH | F115: A | H115: Cena bez DPH za daný objekt | I115: Double
C116: Cena s DPH | F116: A | H116: Cena spolu s DPH za daný objekt | I116: Double
C117: Typ | F117: A | H117: Typ zakázky | I117: eGTypZakazky
C122: Krycí list soupisu
C123: Název | F123: Povinný | H123: Popis | I123: Typ | J123: Max. počet
C124: atributu | F124: (A/N) | J124: znaků
C126: Stavba | F126: A | H126: Přebírá se z Rekapitulace stavby | I126: String | J126: 120
C127: Objekt | F127: A | H127: Kód a název objektu | I127: String | J127: 20 + 120
C128: Soupis | F128: A | H128: Kód a název soupisu | I128: String | J128: 20 + 120
...
