Workbook

Sheet Rekapitulace stavby
A1: Export Komplet | AZ1: VZ | BA1: 2.0 | BB1: ZAMOK | BT1: False | BU1: False | BV1: {110ae698-e257-4f60-9eef-0098c345719e}
BS2: 0,01 | BT2: 21
BS3: 0,01 | BT3: 12
D4: REKAPITULACE STAVBY | AS4: v --- níže se nacházejí doplnkové a pomocné údaje k sestavám --- v | BE4: Návod na vyplnění | BS4: 0,001
D5: Kód: | K5: 2024/46 | BE5: Měnit lze pouze buňky se žlutým podbarvením!_x000D_ _x000D_ 1) v Rekapitulaci stavby vyplňte údaje o Účastníkovi (přenesou se do ostatních sestav i v jiných listech)_x000D_ _x000D_ 2) na vybraných listech vyplňte v sestavě Soupis prací ceny u položek | BS5: 0,01
D6: Stavba: | K6: Modrava - Místní komunikace Vchýnice - Tetov II | BS6: 0,01
D7: KSO: | AK7: CC-CZ: | BS7: 0,01
D8: Místo: | K8: Modrava | AK8: Datum: | AN8: Vyplň údaj | BS8: 0,01
BS9: 0,01
D10: Zadavatel: | AK10: IČ: | AN10: 00573418 | BS10: 0,01
E11: Obec Modrava | AK11: DIČ: | AN11: CZ00573418 | BS11: 0,01
BS12: 0,01
D13: Účastník: | AK13: IČ: | AN13: Vyplň údaj | BS13: 0,01
E14: Vyplň údaj | AK14: DIČ: | AN14: Vyplň údaj | BS14: 0,01
BS15: False
D16: Projektant: | AK16: IČ: | AN16: 07123710 | BS16: False
E17: Road Project s.r.o. | AK17: DIČ: | AN17: CZ07123710 | BS17: True
BS18: 0,01
D19: Zpracovatel: | AK19: IČ: | AN19: 07123710 | BS19: 0,01
E20: Road Project s.r.o. | AK20: DIČ: | AN20: CZ07123710 | BS20: False
D22: Poznámka:
E23: Soupis prací je sestaven s využitím Cenové soustavy ÚRS. Položky, které pochází z této cenové soustavy, jsou ve sloupci 'Cenová soustava' označeny popisem 'CS ÚRS' a úrovní příslušného kalendářního pololetí. Veškeré další informace vymezující popis a podmínky použití těchto položek z Cenové soustavy, které nejsou uvedeny přímo v soupisu prací, jsou neomezeně dálkově k dispozici na webu podminky.urs.cz.
D26: Cena bez DPH | AK26: =ROUND(AG54,2) -> 0
L28: Sazba daně | W28: Základ daně | AK28: Výše daně
D29: DPH | F29: základní | L29: 0.21 | W29: =ROUND(AZ54, 2) -> 0 | AK29: =ROUND(AV54, 2) -> 0
F30: snížená | L30: 0.12 | W30: =ROUND(BA54, 2) -> 0 | AK30: =ROUND(AW54, 2) -> 0
F31: zákl. přenesená | L31: 0.21 | W31: =ROUND(BB54, 2) -> 0 | AK31: 0
F32: sníž. přenesená | L32: 0.12 | W32: =ROUND(BC54, 2) -> 0 | AK32: 0
F33: nulová | L33: 0 | W33: =ROUND(BD54, 2) -> 0 | AK33: 0
D35: Cena s DPH | T35: v | X35: CZK | AK35: =SUM(AK26:AK33) -> 0
C42: REKAPITULACE OBJEKTŮ STAVBY A SOUPISŮ PRACÍ
C44: Kód: | L44: =K5 -> 2024/46
C45: Stavba: | L45: =K6 -> Modrava - Místní komunikace Vchýnice - Tetov II
C47: Místo: | L47: =IF(K8="","",K8) -> Modrava | AI47: Datum: | AM47: =IF(AN8= "","",AN8) -> Vyplň údaj
C49: Zadavatel: | L49: =IF(E11= "","",E11) -> Obec Modrava | AI49: Projektant: | AM49: =IF(E17="","",E17) -> Road Project s.r.o. | AS49: Informatívní údaje z listů zakázek
C50: Účastník: | L50: =IF(E14= "Vyplň údaj","",E14) | AI50: Zpracovatel: | AM50: =IF(E20="","",E20) -> Road Project s.r.o.
C52: Kód | I52: Popis | AG52: Cena bez DPH [CZK] | AN52: Cena s DPH [CZK] | AQ52: Typ | AS52: z toho Ostat._x000D_ náklady [CZK] | AT52: DPH [CZK] | AU52: Normohodiny [h] | AV52: DPH základní [CZK] | AW52: DPH snížená [CZK] | AX52: DPH základní přenesená_x000D_ [CZK] | AY52: DPH snížená přenesená_x000D_ [CZK] | AZ52: Základna_x000D_ DPH základní | BA52: Základna_x000D_ DPH snížená | BB52: Základna_x000D_ DPH zákl. přenesená | BC52: Základna_x000D_ DPH sníž. přenesená | BD52: Základna_x000D_ DPH nulová
C54: Náklady stavby celkem | AG54: =ROUND(SUM(AG55:AG56),2) -> 0 | AN54: =SUM(AG54,AT54) -> 0 | AS54: =ROUND(SUM(AS55:AS56),2) -> 0 | AT54: =ROUND(SUM(AV54:AW54),2) -> 0 | AU54: =ROUND(SUM(AU55:AU56),5) -> 0 | AV54: =ROUND(AZ54*L29,2) -> 0 | AW54: =ROUND(BA54*L30,2) -> 0 | AX54: =ROUND(BB54*L29,2) -> 0 | AY54: =ROUND(BC54*L30,2) -> 0 | AZ54: =ROUND(SUM(AZ55:AZ56),2) -> 0 | BA54: =ROUND(SUM(BA55:BA56),2) -> 0 | BB54: =ROUND(SUM(BB55:BB56),2) -> 0 | BC54: =ROUND(SUM(BC55:BC56),2) -> 0 | BD54: =ROUND(SUM(BD55:BD56),2) -> 0 | BS54: D | BT54: 0 | BU54: ###NOIMPORT### | BV54: IMPORT | BW54: {110ae698-e257-4f60-9eef-0098c345719e} | BX54: {00000000-0000-0000-0000-000000000000}
A55: / | D55: 01 | J55: Komunikace | AG55: ='01 - Komunikace'!J30 -> 0 | AN55: =SUM(AG55,AT55) -> 0 | AQ55: STA | AS55: 0 | AT55: =ROUND(SUM(AV55:AW55),2) -> 0 | AU55: ='01 - Komunikace'!P85 -> 0 | AV55: ='01 - Komunikace'!J33 -> 0 | AW55: ='01 - Komunikace'!J34 -> 0 | AX55: ='01 - Komunikace'!J35 -> 0 | AY55: ='01 - Komunikace'!J36 -> 0 | AZ55: ='01 - Komunikace'!F33 -> 0 | BA55: ='01 - Komunikace'!F34 -> 0 | BB55: ='01 - Komunikace'!F35 -> 0 | BC55: ='01 - Komunikace'!F36 -> 0 | BD55: ='01 - Komunikace'!F37 -> 0 | BT55: 1 | BV55: IMPORT | BW55: {cabae341-f0a8-40c8-abff-ae84dc0e00ec} | BX55: {110ae698-e257-4f60-9eef-0098c345719e} | CM55: 2
A56: / | D56: 02 | J56: Vedlejší rozpočtové náklady | AG56: ='02 - Vedlejší rozpočtové ...'!J30 -> 0 | AN56: =SUM(AG56,AT56) -> 0 | AQ56: STA | AS56: 0 | AT56: =ROUND(SUM(AV56:AW56),2) -> 0 | AU56: ='02 - Vedlejší rozpočtové ...'!P86 -> 0 | AV56: ='02 - Vedlejší rozpočtové ...'!J33 -> 0 | AW56: ='02 - Vedlejší rozpočtové ...'!J34 -> 0 | AX56: ='02 - Vedlejší rozpočtové ...'!J35 -> 0 | AY56: ='02 - Vedlejší rozpočtové ...'!J36 -> 0 | AZ56: ='02 - Vedlejší rozpočtové ...'!F33 -> 0 | BA56: ='02 - Vedlejší rozpočtové ...'!F34 -> 0 | BB56: ='02 - Vedlejší rozpočtové ...'!F35 -> 0 | BC56: ='02 - Vedlejší rozpočtové ...'!F36 -> 0 | BD56: ='02 - Vedlejší rozpočtové ...'!F37 -> 0 | BT56: 1 | BV56: IMPORT | BW56: {c352f5a9-1b9d-4c82-a66e-e244a57d6a4e} | BX56: {110ae698-e257-4f60-9eef-0098c345719e} | CM56: 2

Sheet 01 - Komunikace
AT2: {cabae341-f0a8-40c8-abff-ae84dc0e00ec}
AT3: 2
D4: KRYCÍ LIST SOUPISU PRACÍ | M4: v --- níže se nacházejí doplnkové a pomocné údaje k sestavám --- v | AT4: False
D6: Stavba:
E7: ='Rekapitulace stavby'!K6 -> Modrava - Místní komunikace Vchýnice - Tetov II
D8: Objekt:
E9: 01 - Komunikace
D11: KSO: | I11: CC-CZ:
D12: Místo: | F12: Modrava | I12: Datum: | J12: ='Rekapitulace stavby'!AN8 -> Vyplň údaj
D14: Zadavatel: | I14: IČ: | J14: 00573418
E15: Obec Modrava | I15: DIČ: | J15: CZ00573418
D17: Účastník: | I17: IČ: | J17: ='Rekapitulace stavby'!AN13 -> Vyplň údaj
E18: ='Rekapitulace stavby'!E14 -> Vyplň údaj | I18: DIČ: | J18: ='Rekapitulace stavby'!AN14 -> Vyplň údaj
D20: Projektant: | I20: IČ: | J20: 07123710
E21: Road Project s.r.o. | I21: DIČ: | J21: CZ07123710
D23: Zpracovatel: | I23: IČ: | J23: 07123710
E24: Road Project s.r.o. | I24: DIČ: | J24: CZ07123710
D26: Poznámka:
D30: Cena bez DPH | J30: =ROUND(J85, 2) -> 0
F32: Základ daně | I32: Sazba daně | J32: Výše daně
D33: DPH | E33: základní | F33: =ROUND((SUM(BE85:BE209)), 2) -> 0 | I33: 0.21 | J33: =ROUND(((SUM(BE85:BE209))*I33), 2) -> 0
E34: snížená | F34: =ROUND((SUM(BF85:BF209)), 2) -> 0 | I34: 0.12 | J34: =ROUND(((SUM(BF85:BF209))*I34), 2) -> 0
E35: zákl. přenesená | F35: =ROUND((SUM(BG85:BG209)), 2) -> 0 | I35: 0.21 | J35: =0 -> 0
E36: sníž. přenesená | F36: =ROUND((SUM(BH85:BH209)), 2) -> 0 | I36: 0.12 | J36: =0 -> 0
E37: nulová | F37: =ROUND((SUM(BI85:BI209)), 2) -> 0 | I37: 0 | J37: =0 -> 0
D39: Cena s DPH | G39: v | H39: CZK | J39: =SUM(J30:J37) -> 0
C45: REKAPITULACE ČLENĚNÍ SOUPISU PRACÍ
C47: Stavba:
E48: =E7 -> Modrava - Místní komunikace Vchýnice - Tetov II
C49: Objekt:
E50: =E9 -> 01 - Komunikace
C52: Místo: | F52: =F12 -> Modrava | I52: Datum: | J52: =IF(J12="","",J12) -> Vyplň údaj
C54: Zadavatel: | F54: =E15 -> Obec Modrava | I54: Projektant: | J54: =E21 -> Road Project s.r.o.
C55: Účastník: | F55: =IF(E18="","",E18) -> Vyplň údaj | I55: Zpracovatel: | J55: =E24 -> Road Project s.r.o.
C57: Kód dílu - Popis | J57: Cena celkem [CZK]
C59: Náklady stavby celkem | J59: =J85 -> 0 | AU59: -1
D60: HSV - Práce a dodávky HSV | J60: =J86 -> 0
D61: 1 - Zemní práce | J61: =J87 -> 0
D62: 5 - Komunikace pozemní | J62: =J137 -> 0
D63: 8 - Vedení trubní dálková a přípojná | J63: =J170 -> 0
...

Sheet 02 - Vedlejší rozpočtové ...
AT2: {c352f5a9-1b9d-4c82-a66e-e244a57d6a4e}
AT3: 2
D4: KRYCÍ LIST SOUPISU PRACÍ | M4: v --- níže se nacházejí doplnkové a pomocné údaje k sestavám --- v | AT4: False
D6: Stavba:
E7: ='Rekapitulace stavby'!K6 -> Modrava - Místní komunikace Vchýnice - Tetov II
D8: Objekt:
E9: 02 - Vedlejší rozpočtové náklady
D11: KSO: | I11: CC-CZ:
D12: Místo: | F12: Modrava | I12: Datum: | J12: ='Rekapitulace stavby'!AN8 -> Vyplň údaj
D14: Zadavatel: | I14: IČ:
E15: Obec Modrava | I15: DIČ:
D17: Účastník: | I17: IČ: | J17: ='Rekapitulace stavby'!AN13 -> Vyplň údaj
E18: ='Rekapitulace stavby'!E14 -> Vyplň údaj | I18: DIČ: | J18: ='Rekapitulace stavby'!AN14 -> Vyplň údaj
D20: Projektant: | I20: IČ: | J20: =IF('Rekapitulace stavby'!AN16="","",'Rekapitulace stavby'!AN16) -> 07123710
E21: =IF('Rekapitulace stavby'!E17="","",'Rekapitulace stavby'!E17) -> Road Project s.r.o. | I21: DIČ: | J21: =IF('Rekapitulace stavby'!AN17="","",'Rekapitulace stavby'!AN17) -> CZ07123710
D23: Zpracovatel: | I23: IČ: | J23: 07123710
E24: Road Project s.r.o. | I24: DIČ: | J24: CZ07123710
D26: Poznámka:
D30: Cena bez DPH | J30: =ROUND(J86, 2) -> 0
F32: Základ daně | I32: Sazba daně | J32: Výše daně
D33: DPH | E33: základní | F33: =ROUND((SUM(BE86:BE128)), 2) -> 0 | I33: 0.21 | J33: =ROUND(((SUM(BE86:BE128))*I33), 2) -> 0
E34: snížená | F34: =ROUND((SUM(BF86:BF128)), 2) -> 0 | I34: 0.12 | J34: =ROUND(((SUM(BF86:BF128))*I34), 2) -> 0
E35: zákl. přenesená | F35: =ROUND((SUM(BG86:BG128)), 2) -> 0 | I35: 0.21 | J35: =0 -> 0
E36: sníž. přenesená | F36: =ROUND((SUM(BH86:BH128)), 2) -> 0 | I36: 0.12 | J36: =0 -> 0
E37: nulová | F37: =ROUND((SUM(BI86:BI128)), 2) -> 0 | I37: 0 | J37: =0 -> 0
D39: Cena s DPH | G39: v | H39: CZK | J39: =SUM(J30:J37) -> 0
C45: REKAPITULACE ČLENĚNÍ SOUPISU PRACÍ
C47: Stavba:
E48: =E7 -> Modrava - Místní komunikace Vchýnice - Tetov II
C49: Objekt:
E50: =E9 -> 02 - Vedlejší rozpočtové náklady
C52: Místo: | F52: =F12 -> Modrava | I52: Datum: | J52: =IF(J12="","",J12) -> Vyplň údaj
C54: Zadavatel: | F54: =E15 -> Obec Modrava | I54: Projektant: | J54: =E21 -> Road Project s.r.o.
C55: Účastník: | F55: =IF(E18="","",E18) -> Vyplň údaj | I55: Zpracovatel: | J55: =E24 -> Road Project s.r.o.
C57: Kód dílu - Popis | J57: Cena celkem [CZK]
C59: Náklady stavby celkem | J59: =J86 -> 0 | AU59: -1
D60: HZS - Hodinové zúčtovací sazby | J60: =J87 -> 0
D61: VRN - Vedlejší rozpočtové náklady | J61: =J92 -> 0
D62: VRN1 - Průzkumné, geodetické a projektové práce | J62: =J93 -> 0
D63: VRN3 - Zařízení staveniště | J63: =J103 -> 0
...

Sheet Pokyny pro vyplnění
C3: Struktura údajů, formát souboru a metodika pro zpracování
C4: Struktura
C6: Soubor je složen ze záložky Rekapitulace stavby a záložek s názvem soupisu prací pro jednotlivé objekty ve formátu XLSX. Každá ze záložek přitom obsahuje
C7: ještě samostatné sestavy vymezené orámovaním a nadpisem sestavy.
C9: Rekapitulace stavby obsahuje sestavu Rekapitulace stavby a Rekapitulace objektů stavby a soupisů prací.
D10: V sestavě Rekapitulace stavby jsou uvedeny informace identifikující předmět veřejné zakázky na stavební práce, KSO, CC-CZ, CZ-CPV, CZ-CPA a rekapitulaci
D11: celkové nabídkové ceny účastníka.
D13: Termínem "učastník" (resp. zhotovitel) se myslí "účastník zadávacího řízení" ve smyslu zákona o zadávání veřejných zakázek.
D15: V sestavě Rekapitulace objektů stavby a soupisů prací je uvedena rekapitulace stavebních objektů, inženýrských objektů, provozních souborů,
D16: vedlejších a ostatních nákladů a ostatních nákladů s rekapitulací nabídkové ceny za jednotlivé soupisy prací. Na základě údaje Typ je možné
D17: identifikovat, zda se jedná o objekt nebo soupis prací pro daný objekt:
E18: STA | F18: Stavební objekt pozemní
E19: ING | F19: Stavební objekt inženýrský
E20: PRO | F20: Provozní soubor
E21: VON | F21: Vedlejší a ostatní náklady
E22: OST | F22: Ostatní
E23: Soupis | F23: Soupis prací pro daný typ objektu
C25: Soupis prací pro jednotlivé objekty obsahuje sestavy Krycí list soupisu prací, Rekapitulace členění soupisu prací, Soupis prací. Za soupis prací může být považován
C26: i objekt stavby v případě, že neobsahuje podřízenou zakázku.
D27: Krycí list soupisu obsahuje rekapitulaci informací o předmětu veřejné zakázky ze sestavy Rekapitulace stavby, informaci o zařazení objektu do KSO,
D28: CC-CZ, CZ-CPV, CZ-CPA a rekapitulaci celkové nabídkové ceny účastníka za aktuální soupis prací.
D30: Rekapitulace členění soupisu prací obsahuje rekapitulaci soupisu prací ve všech úrovních členění soupisu tak, jak byla tato členění použita (např.
D31: stavební díly, funkční díly, případně jiné členění) s rekapitulací nabídkové ceny.
D33: Soupis prací obsahuje položky veškerých stavebních nebo montážních prací, dodávek materiálů a služeb nezbytných pro zhotovení stavebního objektu,
D34: inženýrského objektu, provozního souboru, vedlejších a ostatních nákladů.
D35: Pro položky soupisu prací se zobrazují následující informace:
E36: PČ | G36: Pořadové číslo položky v aktuálním soupisu
E37: TYP | G37: Typ položky: K - konstrukce, M - materiál, PP - plný popis, PSC - poznámka k souboru cen, P - poznámka k položce, VV - výkaz výměr, FIG - rozpad figur
E38: Kód | G38: Kód položky
E39: Popis | G39: Zkrácený popis položky
E40: MJ | G40: Měrná jednotka položky
E41: Množství | G41: Množství v měrné jednotce
E42: J.cena | G42: Jednotková cena položky. Zadaní může obsahovat namísto J.ceny sloupce J.materiál a J.montáž, jejichž součet definuje
G43: J.cenu položky.
E44: Cena celkem | G44: Celková cena položky daná jako součin množství a j.ceny
E45: Cenová soustava | G45: Příslušnost položky do cenové soustavy
D47: Ke každé položce soupisu prací se na samostatných řádcích může zobrazovat:
E48: Plný popis položky
E49: Poznámka k souboru cen a poznámka zadavatele
E50: Výkaz výměr
...
