Workbook

Sheet Rekapitulace stavby
A1: Export Komplet | AZ1: VZ | BA1: 2.0 | BB1: ZAMOK | BT1: False | BU1: False | BV1: {1b2ffc57-909e-4e09-b0c7-283b3b5c4d16}
BS2: 0,1 | BT2: 21
BS3: 0,1 | BT3: 12
D4: REKAPITULACE STAVBY | AS4: v --- níže se nacházejí doplnkové a pomocné údaje k sestavám --- v | BE4: Návod na vyplnění | BS4: 0,001
D5: Kód: | K5: MALSOVICE2604 | BE5: Měnit lze pouze buňky se žlutým podbarvením!_x000D_ _x000D_ 1) v Rekapitulaci stavby vyplňte údaje o Účastníkovi (přenesou se do ostatních sestav i v jiných listech)_x000D_ _x000D_ 2) na vybraných listech vyplňte v sestavě Soupis prací ceny u položek | BS5: 0,1
D6: Stavba: | K6: REKONSTRUKCE KOUPELNY NA BEZBARIÉROVOU - BYT CHORATICE Č.P. 44 | BS6: 0,1
D7: KSO: | AK7: CC-CZ: | BS7: 0,1
D8: Místo: | K8: CHORATICE | AK8: Datum: | AN8: 7. 7. 2026 | BS8: 0,1
BS9: 0,1
D10: Zadavatel: | AK10: IČ: | BS10: 0,1
E11: OBEC MALŠOVICE | AK11: DIČ: | BS11: 0,1
BS12: 0,1
D13: Účastník: | AK13: IČ: | AN13: Vyplň údaj | BS13: 0,1
E14: Vyplň údaj | AK14: DIČ: | AN14: Vyplň údaj | BS14: 0,1
BS15: False
D16: Projektant: | AK16: IČ: | BS16: False
E17: bez PD | AK17: DIČ: | BS17: True
BS18: 0,1
D19: Zpracovatel: | AK19: IČ: | BS19: 0,1
E20: Nina Blavková Děčín | AK20: DIČ: | BS20: False
D22: Poznámka:
E23: Soupis prací je sestaven s využitím Cenové soustavy ÚRS. Položky, které pochází z této cenové soustavy, jsou ve sloupci 'Cenová soustava' označeny popisem 'CS ÚRS' a úrovní příslušného kalendářního pololetí. Veškeré další informace vymezující popis a podmínky použití těchto položek z Cenové soustavy, které nejsou uvedeny přímo v soupisu prací, jsou neomezeně dálkově k dispozici na webu podminky.urs.cz.
D26: Cena bez DPH | AK26: =ROUND(AG54,1) -> 0
L28: Sazba daně | W28: Základ daně | AK28: Výše daně
D29: DPH | F29: základní | L29: 0.21 | W29: =ROUND(AZ54, 1) -> 0 | AK29: =ROUND(AV54, 1) -> 0
F30: snížená | L30: 0.12 | W30: =ROUND(BA54, 1) -> 0 | AK30: =ROUND(AW54, 1) -> 0
F31: zákl. přenesená | L31: 0.21 | W31: =ROUND(BB54, 1) -> 0 | AK31: 0
F32: sníž. přenesená | L32: 0.12 | W32: =ROUND(BC54, 1) -> 0 | AK32: 0
F33: nulová | L33: 0 | W33: =ROUND(BD54, 1) -> 0 | AK33: 0
D35: Cena s DPH | T35: v | X35: CZK | AK35: =SUM(AK26:AK33) -> 0
C42: REKAPITULACE OBJEKTŮ STAVBY A SOUPISŮ PRACÍ
C44: Kód: | L44: =K5 -> MALSOVICE2604
C45: Stavba: | L45: =K6 -> REKONSTRUKCE KOUPELNY NA BEZBARIÉROVOU - BYT CHORATICE Č.P. 44
C47: Místo: | L47: =IF(K8="","",K8) -> CHORATICE | AI47: Datum: | AM47: =IF(AN8= "","",AN8) -> 7. 7. 2026
C49: Zadavatel: | L49: =IF(E11= "","",E11) -> OBEC MALŠOVICE | AI49: Projektant: | AM49: =IF(E17="","",E17) -> bez PD | AS49: Informatívní údaje z listů zakázek
C50: Účastník: | L50: =IF(E14= "Vyplň údaj","",E14) | AI50: Zpracovatel: | AM50: =IF(E20="","",E20) -> Nina Blavková Děčín
C52: Kód | I52: Popis | AG52: Cena bez DPH [CZK] | AN52: Cena s DPH [CZK] | AQ52: Typ | AS52: z toho Ostat._x000D_ náklady [CZK] | AT52: DPH [CZK] | AU52: Normohodiny [h] | AV52: DPH základní [CZK] | AW52: DPH snížená [CZK] | AX52: DPH základní přenesená_x000D_ [CZK] | AY52: DPH snížená přenesená_x000D_ [CZK] | AZ52: Základna_x000D_ DPH základní | BA52: Základna_x000D_ DPH snížená | BB52: Základna_x000D_ DPH zákl. přenesená | BC52: Základna_x000D_ DPH sníž. přenesená | BD52: Základna_x000D_ DPH nulová
C54: Náklady stavby celkem | AG54: =ROUND(SUM(AG55:AG57),1) -> 0 | AN54: =SUM(AG54,AT54) -> 0 | AS54: =ROUND(SUM(AS55:AS57),1) -> 0 | AT54: =ROUND(SUM(AV54:AW54),1) -> 0 | AU54: =ROUND(SUM(AU55:AU57),5) -> 0 | AV54: =ROUND(AZ54*L29,1) -> 0 | AW54: =ROUND(BA54*L30,1) -> 0 | AX54: =ROUND(BB54*L29,1) -> 0 | AY54: =ROUND(BC54*L30,1) -> 0 | AZ54: =ROUND(SUM(AZ55:AZ57),1) -> 0 | BA54: =ROUND(SUM(BA55:BA57),1) -> 0 | BB54: =ROUND(SUM(BB55:BB57),1) -> 0 | BC54: =ROUND(SUM(BC55:BC57),1) -> 0 | BD54: =ROUND(SUM(BD55:BD57),1) -> 0 | BS54: D | BT54: 0 | BU54: ###NOIMPORT### | BV54: IMPORT | BW54: {1b2ffc57-909e-4e09-b0c7-283b3b5c4d16} | BX54: {00000000-0000-0000-0000-000000000000}
A55: / | D55: 01 | J55: STAVEBNÍ ČÁST | AG55: ='01 - STAVEBNÍ ČÁST'!J30 -> 0 | AN55: =SUM(AG55,AT55) -> 0 | AQ55: STA | AS55: 0 | AT55: =ROUND(SUM(AV55:AW55),1) -> 0 | AU55: ='01 - STAVEBNÍ ČÁST'!P100 -> 0 | AV55: ='01 - STAVEBNÍ ČÁST'!J33 -> 0 | AW55: ='01 - STAVEBNÍ ČÁST'!J34 -> 0 | AX55: ='01 - STAVEBNÍ ČÁST'!J35 -> 0 | AY55: ='01 - STAVEBNÍ ČÁST'!J36 -> 0 | AZ55: ='01 - STAVEBNÍ ČÁST'!F33 -> 0 | BA55: ='01 - STAVEBNÍ ČÁST'!F34 -> 0 | BB55: ='01 - STAVEBNÍ ČÁST'!F35 -> 0 | BC55: ='01 - STAVEBNÍ ČÁST'!F36 -> 0 | BD55: ='01 - STAVEBNÍ ČÁST'!F37 -> 0 | BT55: 1 | BV55: IMPORT | BW55: {d999c85d-2369-4563-84b1-dcf38876c5fa} | BX55: {1b2ffc57-909e-4e09-b0c7-283b3b5c4d16} | CM55: 1
A56: / | D56: 02 | J56: ZDRAVOTECHNICKÉ INSTALACE, VYTÁPĚNÍ, ELEKTROINSTALCE | AG56: ='02 - ZDRAVOTECHNICKÉ INST...'!J30 -> 0 | AN56: =SUM(AG56,AT56) -> 0 | AQ56: STA | AS56: 0 | AT56: =ROUND(SUM(AV56:AW56),1) -> 0 | AU56: ='02 - ZDRAVOTECHNICKÉ INST...'!P85 -> 0 | AV56: ='02 - ZDRAVOTECHNICKÉ INST...'!J33 -> 0 | AW56: ='02 - ZDRAVOTECHNICKÉ INST...'!J34 -> 0 | AX56: ='02 - ZDRAVOTECHNICKÉ INST...'!J35 -> 0 | AY56: ='02 - ZDRAVOTECHNICKÉ INST...'!J36 -> 0 | AZ56: ='02 - ZDRAVOTECHNICKÉ INST...'!F33 -> 0 | BA56: ='02 - ZDRAVOTECHNICKÉ INST...'!F34 -> 0 | BB56: ='02 - ZDRAVOTECHNICKÉ INST...'!F35 -> 0 | BC56: ='02 - ZDRAVOTECHNICKÉ INST...'!F36 -> 0 | BD56: ='02 - ZDRAVOTECHNICKÉ INST...'!F37 -> 0 | BT56: 1 | BV56: IMPORT | BW56: {2d21599a-808f-4121-86ee-cdc9a6ec629d} | BX56: {1b2ffc57-909e-4e09-b0c7-283b3b5c4d16} | CM56: 1
A57: / | D57: 03 | J57: VEDLEJŠÍ ROZPOČTOVÉ NÁKLADY | AG57: ='03 - VEDLEJŠÍ ROZPOČTOVÉ ...'!J30 -> 0 | AN57: =SUM(AG57,AT57) -> 0 | AQ57: VON | AS57: 0 | AT57: =ROUND(SUM(AV57:AW57),1) -> 0 | AU57: ='03 - VEDLEJŠÍ ROZPOČTOVÉ ...'!P80 -> 0 | AV57: ='03 - VEDLEJŠÍ ROZPOČTOVÉ ...'!J33 -> 0 | AW57: ='03 - VEDLEJŠÍ ROZPOČTOVÉ ...'!J34 -> 0 | AX57: ='03 - VEDLEJŠÍ ROZPOČTOVÉ ...'!J35 -> 0 | AY57: ='03 - VEDLEJŠÍ ROZPOČTOVÉ ...'!J36 -> 0 | AZ57: ='03 - VEDLEJŠÍ ROZPOČTOVÉ ...'!F33 -> 0 | BA57: ='03 - VEDLEJŠÍ ROZPOČTOVÉ ...'!F34 -> 0 | BB57: ='03 - VEDLEJŠÍ ROZPOČTOVÉ ...'!F35 -> 0 | BC57: ='03 - VEDLEJŠÍ ROZPOČTOVÉ ...'!F36 -> 0 | BD57: ='03 - VEDLEJŠÍ ROZPOČTOVÉ ...'!F37 -> 0 | BT57: 1 | BV57: IMPORT | BW57: {c3240469-ab11-4058-9edc-dddb086d7f6d} | BX57: {1b2ffc57-909e-4e09-b0c7-283b3b5c4d16} | CM57: 1

Sheet 01 - STAVEBNÍ ČÁST
AT2: {d999c85d-2369-4563-84b1-dcf38876c5fa}
AT3: 1
D4: KRYCÍ LIST SOUPISU PRACÍ | M4: v --- níže se nacházejí doplnkové a pomocné údaje k sestavám --- v | AT4: False
D6: Stavba:
E7: ='Rekapitulace stavby'!K6 -> REKONSTRUKCE KOUPELNY NA BEZBARIÉROVOU - BYT CHORATICE Č.P. 44
D8: Objekt:
E9: 01 - STAVEBNÍ ČÁST
D11: KSO: | I11: CC-CZ:
D12: Místo: | F12: CHORATICE | I12: Datum: | J12: ='Rekapitulace stavby'!AN8 -> 7. 7. 2026
D14: Zadavatel: | I14: IČ:
E15: OBEC MALŠOVICE | I15: DIČ:
D17: Účastník: | I17: IČ: | J17: ='Rekapitulace stavby'!AN13 -> Vyplň údaj
E18: ='Rekapitulace stavby'!E14 -> Vyplň údaj | I18: DIČ: | J18: ='Rekapitulace stavby'!AN14 -> Vyplň údaj
D20: Projektant: | I20: IČ:
E21: bez PD | I21: DIČ:
D23: Zpracovatel: | I23: IČ:
E24: Nina Blavková Děčín | I24: DIČ:
D26: Poznámka:
E27: Soupis prací je sestaven s využitím Cenové soustavy ÚRS. Položky, které pochází z této cenové soustavy, jsou ve sloupci 'Cenová soustava' označeny popisem 'CS ÚRS' a úrovní příslušného kalendářního pololetí. Veškeré další informace vymezující popis a podmínky použití těchto položek z Cenové soustavy, které nejsou uvedeny přímo v soupisu prací, jsou neomezeně dálkově k dispozici na webu podminky.urs.cz.
D30: Cena bez DPH | J30: =ROUND(J100, 1) -> 0
F32: Základ daně | I32: Sazba daně | J32: Výše daně
D33: DPH | E33: základní | F33: =ROUND((SUM(BE100:BE532)), 1) -> 0 | I33: 0.21 | J33: =ROUND(((SUM(BE100:BE532))*I33), 1) -> 0
E34: snížená | F34: =ROUND((SUM(BF100:BF532)), 1) -> 0 | I34: 0.12 | J34: =ROUND(((SUM(BF100:BF532))*I34), 1) -> 0
E35: zákl. přenesená | F35: =ROUND((SUM(BG100:BG532)), 1) -> 0 | I35: 0.21 | J35: =0 -> 0
E36: sníž. přenesená | F36: =ROUND((SUM(BH100:BH532)), 1) -> 0 | I36: 0.12 | J36: =0 -> 0
E37: nulová | F37: =ROUND((SUM(BI100:BI532)), 1) -> 0 | I37: 0 | J37: =0 -> 0
D39: Cena s DPH | G39: v | H39: CZK | J39: =SUM(J30:J37) -> 0
C45: REKAPITULACE ČLENĚNÍ SOUPISU PRACÍ
C47: Stavba:
E48: =E7 -> REKONSTRUKCE KOUPELNY NA BEZBARIÉROVOU - BYT CHORATICE Č.P. 44
C49: Objekt:
E50: =E9 -> 01 - STAVEBNÍ ČÁST
C52: Místo: | F52: =F12 -> CHORATICE | I52: Datum: | J52: =IF(J12="","",J12) -> 7. 7. 2026
C54: Zadavatel: | F54: =E15 -> OBEC MALŠOVICE | I54: Projektant: | J54: =E21 -> bez PD
C55: Účastník: | F55: =IF(E18="","",E18) -> Vyplň údaj | I55: Zpracovatel: | J55: =E24 -> Nina Blavková Děčín
C57: Kód dílu - Popis | J57: Cena celkem [CZK]
C59: Náklady stavby celkem | J59: =J100 -> 0 | AU59: -1
D60: HSV - Práce a dodávky HSV | J60: =J101 -> 0
D61: 3 - Svislé a kompletní konstrukce | J61: =J102 -> 0
D62: 31 - Zdi pozemních staveb | J62: =J103 -> 0
D63: 34 - Stěny a příčky | J63: =J114 -> 0
D64: 6 - Úpravy povrchů, podlahy a osazování výplní | J64: =J124 -> 0
D65: 61 - Úprava povrchů vnitřních | J65: =J125 -> 0
D66: 63 - Podlahy a podlahové konstrukce | J66: =J149 -> 0
D67: 64 - Osazování výplní otvorů | J67: =J166 -> 0
D68: 9 - Ostatní konstrukce a práce, bourání | J68: =J170 -> 0
D69: 94 - Lešení a stavební výtahy | J69: =J171 -> 0
D70: 951 - Ostatní konstrukce a práce | J70: =J179 -> 0
D71: 961 - Bourání a demontáže konstrukcí | J71: =J187 -> 0
D72: 997 - Doprava suti a vybouraných hmot | J72: =J287 -> 0
D73: 998 - Přesun hmot | J73: =J302 -> 0
D74: PSV - Práce a dodávky PSV | J74: =J305 -> 0
D75: 766 - Konstrukce truhlářské | J75: =J306 -> 0
D76: 771 - Podlahy z dlaždic | J76: =J318 -> 0
D77: 781 - Dokončovací práce - obklady | J77: =J405 -> 0
D78: 783 - Dokončovací práce - nátěry | J78: =J475 -> 0
D79: 784 - Dokončovací práce - malby | J79: =J488 -> 0
D80: HZS - Hodinové zúčtovací sazby | J80: =J529 -> 0
C87: SOUPIS PRACÍ
C89: Stavba:
E90: =E7 -> REKONSTRUKCE KOUPELNY NA BEZBARIÉROVOU - BYT CHORATICE Č.P. 44
C91: Objekt:
E92: =E9 -> 01 - STAVEBNÍ ČÁST
C94: Místo: | F94: =F12 -> CHORATICE | I94: Datum: | J94: =IF(J12="","",J12) -> 7. 7. 2026
C96: Zadavatel: | F96: =E15 -> OBEC MALŠOVICE | I96: Projektant: | J96: =E21 -> bez PD
C97: Účastník: | F97: =IF(E18="","",E18) -> Vyplň údaj | I97: Zpracovatel: | J97: =E24 -> Nina Blavková Děčín
C99: PČ | D99: Typ | E99: Kód | F99: Popis | G99: MJ | H99: Množství | I99: J.cena [CZK] | J99: Cena celkem [CZK] | K99: Cenová soustava | N99: DPH | O99: J. Nh [h] | P99: Nh celkem [h] | Q99: J. hmotnost [t] | R99: Hmotnost celkem [t] | S99: J. suť [t] | T99: Suť Celkem [t]
C100: Náklady soupisu celkem | J100: =BK100 -> 0 | P100: =P101+P305+P529 -> 0 | R100: =R101+R305+R529 -> 4.1923402 | T100: =T101+T305+T529 -> 3.3073413 | AT100: D | AU100: -1 | BK100: =BK101+BK305+BK529 -> 0
D101: D | E101: HSV | F101: Práce a dodávky HSV | J101: =BK101 -> 0 | P101: =P102+P124+P170+P287+P302 -> 0 | R101: =R102+R124+R170+R287+R302 -> 2.5835257 | T101: =T102+T124+T170+T287+T302 -> 3.3070113 | AR101: 1 | AT101: D | AU101: 0 | AY101: ROZPOCET | BK101: =BK102+BK124+BK170+BK287+BK302 -> 0
D102: D | E102: 3 | F102: Svislé a kompletní konstrukce | J102: =BK102 -> 0 | P102: =P103+P114 -> 0 | R102: =R103+R114 -> 0.8372364 | T102: =T103+T114 -> 0 | AR102: 1 | AT102: D | AU102: 1 | AY102: ROZPOCET | BK102: =BK103+BK114 -> 0
D103: D | E103: 31 | F103: Zdi pozemních staveb | J103: =BK103 -> 0 | P103: =SUM(P104:P113) -> 0 | R103: =SUM(R104:R113) -> 0.3636614 | T103: =SUM(T104:T113) -> 0 | AR103: 1 | AT103: D | AU103: 2 | AY103: ROZPOCET | BK103: =SUM(BK104:BK113) -> 0
C104: 1 | D104: K | E104: 310236241 | F104: Zazdívka otvorů ve zdivu nadzákladovém cihlami pálenými plochy přes 0,0225 m2 do 0,09 m2, ve zdi tl. do 300 mm | G104: kus | H104: 1 | J104: =ROUND(I104*H104,1) -> 0 | K104: CS ÚRS 2026 02 | N104: snížená | P104: =O104*H104 -> 0 | Q104: 0.04843 | R104: =Q104*H104 -> 0.04843 | S104: 0 | T104: =S104*H104 -> 0 | AR104: 4 | AT104: K | AU104: 3 | AY104: ROZPOCET | BE104: =IF(N104="základní",J104,0) -> 0 | BF104: =IF(N104="snížená",J104,0) -> 0 | BG104: =IF(N104="zákl. přenesená",J104,0) -> 0 | BH104: =IF(N104="sníž. přenesená",J104,0) -> 0 | BI104: =IF(N104="nulová",J104,0) -> 0 | BJ104: 2 | BK104: =ROUND(I104*H104,1) -> 0 | BL104: 4 | BM104: -856701044
D105: Online PSC | F105: https://podminky.urs.cz/item/CS_URS_2026_02/310236241 | AT105: Online PSC | AU105: 3
D106: VV | F106: 1 "dozdívka na zárubní" | H106: 1 | AT106: VV | AU106: 3 | AV106: 2 | AW106: True | AX106: 1 | AY106: ROZPOCET
C107: 2 | D107: K | E107: 310235241 | F107: Zazdívka otvorů ve zdivu nadzákladovém cihlami pálenými plochy do 0,0225 m2, ve zdi tl. do 300 mm | G107: kus | H107: 1 | J107: =ROUND(I107*H107,1) -> 0 | K107: CS ÚRS 2026 02 | N107: snížená | P107: =O107*H107 -> 0 | Q107: 0.01262 | R107: =Q107*H107 -> 0.01262 | S107: 0 | T107: =S107*H107 -> 0 | AR107: 4 | AT107: K | AU107: 3 | AY107: ROZPOCET | BE107: =IF(N107="základní",J107,0) -> 0 | BF107: =IF(N107="snížená",J107,0) -> 0 | BG107: =IF(N107="zákl. přenesená",J107,0) -> 0 | BH107: =IF(N107="sníž. přenesená",J107,0) -> 0 | BI107: =IF(N107="nulová",J107,0) -> 0 | BJ107: 2 | BK107: =ROUND(I107*H107,1) -> 0 | BL107: 4 | BM107: 1057766548
D108: Online PSC | F108: https://podminky.urs.cz/item/CS_URS_2026_02/310235241 | AT108: Online PSC | AU108: 3
D109: VV | F109: 1 "dozdívka na zárubní" | H109: 1 | AT109: VV | AU109: 3 | AV109: 2 | AW109: True | AX109: 1 | AY109: ROZPOCET
C110: 3 | D110: K | E110: 311231117 | F110: Zdivo z cihel pálených nosné z cihel plných dl. 290 mm P 7 až 15, na maltu ze suché směsi 10 MPa | G110: m3 | H110: 0.182 | J110: =ROUND(I110*H110,1) -> 0 | K110: CS ÚRS 2026 02 | N110: snížená | P110: =O110*H110 -> 0 | Q110: 1.6627 | R110: =Q110*H110 -> 0.3026114 | S110: 0 | T110: =S110*H110 -> 0 | AR110: 4 | AT110: K | AU110: 3 | AY110: ROZPOCET | BE110: =IF(N110="základní",J110,0) -> 0 | BF110: =IF(N110="snížená",J110,0) -> 0 | BG110: =IF(N110="zákl. přenesená",J110,0) -> 0 | BH110: =IF(N110="sníž. přenesená",J110,0) -> 0 | BI110: =IF(N110="nulová",J110,0) -> 0 | BJ110: 2 | BK110: =ROUND(I110*H110,1) -> 0 | BL110: 4 | BM110: -231082575
D111: Online PSC | F111: https://podminky.urs.cz/item/CS_URS_2026_02/311231117 | AT111: Online PSC | AU111: 3
D112: VV | F112: "VYZDĚNÍ SEDÁTKA" | AT112: VV | AU112: 3 | AV112: 1 | AW112: True | AX112: 0 | AY112: ROZPOCET
D113: VV | F113: 0,55*(0,40*0,70+0,25*0,20) | H113: 0.182 | AT113: VV | AU113: 3 | AV113: 2 | AW113: True | AX113: 1 | AY113: ROZPOCET
D114: D | E114: 34 | F114: Stěny a příčky | J114: =BK114 -> 0 | P114: =SUM(P115:P123) -> 0 | R114: =SUM(R115:R123) -> 0.473575 | T114: =SUM(T115:T123) -> 0 | AR114: 1 | AT114: D | AU114: 2 | AY114: ROZPOCET | BK114: =SUM(BK115:BK123) -> 0
C115: 4 | D115: K | E115: 346272266 | F115: Přizdívky z pórobetonových tvárnic objemová hmotnost do 500 kg/m3, na tenké maltové lože, tloušťka přizdívky 200 mm | G115: m2 | H115: 0.96 | J115: =ROUND(I115*H115,1) -> 0 | K115: CS ÚRS 2026 02 | N115: snížená | P115: =O115*H115 -> 0 | Q115: 0.16114 | R115: =Q115*H115 -> 0.1546944 | S115: 0 | T115: =S115*H115 -> 0 | AR115: 4 | AT115: K | AU115: 3 | AY115: ROZPOCET | BE115: =IF(N115="základní",J115,0) -> 0 | BF115: =IF(N115="snížená",J115,0) -> 0 | BG115: =IF(N115="zákl. přenesená",J115,0) -> 0 | BH115: =IF(N115="sníž. přenesená",J115,0) -> 0 | BI115: =IF(N115="nulová",J115,0) -> 0 | BJ115: 2 | BK115: =ROUND(I115*H115,1) -> 0 | BL115: 4 | BM115: -769589875
D116: Online PSC | F116: https://podminky.urs.cz/item/CS_URS_2026_02/346272266 | AT116: Online PSC | AU116: 3
D117: VV | F117: 1,20*0,80 "zazdívka konstrukce závěsného WC - koupelna" | H117: 0.96 | AT117: VV | AU117: 3 | AV117: 2 | AW117: True | AX117: 1 | AY117: ROZPOCET
C118: 5 | D118: K | E118: 346272256 | F118: Přizdívky z pórobetonových tvárnic objemová hmotnost do 500 kg/m3, na tenké maltové lože, tloušťka přizdívky 150 mm | G118: m2 | H118: 1.26 | J118: =ROUND(I118*H118,1) -> 0 | K118: CS ÚRS 2026 02 | N118: snížená | P118: =O118*H118 -> 0 | Q118: 0.08341 | R118: =Q118*H118 -> 0.1050966 | S118: 0 | T118: =S118*H118 -> 0 | AR118: 4 | AT118: K | AU118: 3 | AY118: ROZPOCET | BE118: =IF(N118="základní",J118,0) -> 0 | BF118: =IF(N118="snížená",J118,0) -> 0 | BG118: =IF(N118="zákl. přenesená",J118,0) -> 0 | BH118: =IF(N118="sníž. přenesená",J118,0) -> 0 | BI118: =IF(N118="nulová",J118,0) -> 0 | BJ118: 2 | BK118: =ROUND(I118*H118,1) -> 0 | BL118: 4 | BM118: 1334648987
D119: Online PSC | F119: https://podminky.urs.cz/item/CS_URS_2026_02/346272256 | AT119: Online PSC | AU119: 3
D120: VV | F120: 1,20*1,05 "zazdívka konstrukce závěsného WC - samostatná místnost WC" | H120: 1.26 | AT120: VV | AU120: 3 | AV120: 2 | AW120: True | AX120: 1 | AY120: ROZPOCET
C121: 6 | D121: K | E121: 349231811 | F121: Přizdívka z cihel ostění s ozubem ve vybouraných otvorech, s vysekáním kapes pro zavázaní přes 80 do 150 mm | G121: m2 | H121: 0.8 | J121: =ROUND(I121*H121,1) -> 0 | K121: CS ÚRS 2026 02 | N121: snížená | P121: =O121*H121 -> 0 | Q121: 0.26723 | R121: =Q121*H121 -> 0.213784 | S121: 0 | T121: =S121*H121 -> 0 | AR121: 4 | AT121: K | AU121: 3 | AY121: ROZPOCET | BE121: =IF(N121="základní",J121,0) -> 0 | BF121: =IF(N121="snížená",J121,0) -> 0 | BG121: =IF(N121="zákl. přenesená",J121,0) -> 0 | BH121: =IF(N121="sníž. přenesená",J121,0) -> 0 | BI121: =IF(N121="nulová",J121,0) -> 0 | BJ121: 2 | BK121: =ROUND(I121*H121,1) -> 0 | BL121: 4 | BM121: -536940661
D122: Online PSC | F122: https://podminky.urs.cz/item/CS_URS_2026_02/349231811 | AT122: Online PSC | AU122: 3
D123: VV | F123: 0,20*2,00*2 "dveře do koupelny" | H123: 0.8 | AT123: VV | AU123: 3 | AV123: 2 | AW123: True | AX123: 1 | AY123: ROZPOCET
D124: D | E124: 6 | F124: Úpravy povrchů, podlahy a osazování výplní | J124: =BK124 -> 0 | P124: =P125+P149+P166 -> 0 | R124: =R125+R149+R166 -> 1.7011053 | T124: =T125+T149+T166 -> 0 | AR124: 1 | AT124: D | AU124: 1 | AY124: ROZPOCET | BK124: =BK125+BK149+BK166 -> 0
D125: D | E125: 61 | F125: Úprava povrchů vnitřních | J125: =BK125 -> 0 | P125: =SUM(P126:P148) -> 0 | R125: =SUM(R126:R148) -> 1.3171895 | T125: =SUM(T126:T148) -> 0 | AR125: 1 | AT125: D | AU125: 2 | AY125: ROZPOCET | BK125: =SUM(BK126:BK148) -> 0
C126: 7 | D126: K | E126: 612325412 | F126: Oprava vápenocementové omítky vnitřních ploch hladké, tl. do 20 mm stěn, v rozsahu opravované plochy přes 10 do 30% | G126: m2 | H126: 63.951 | J126: =ROUND(I126*H126,1) -> 0 | K126: CS ÚRS 2026 02 | N126: snížená | P126: =O126*H126 -> 0 | Q126: 0.0165 | R126: =Q126*H126 -> 1.0551915 | S126: 0 | T126: =S126*H126 -> 0 | AR126: 4 | AT126: K | AU126: 3 | AY126: ROZPOCET | BE126: =IF(N126="základní",J126,0) -> 0 | BF126: =IF(N126="snížená",J126,0) -> 0 | BG126: =IF(N126="zákl. přenesená",J126,0) -> 0 | BH126: =IF(N126="sníž. přenesená",J126,0) -> 0 | BI126: =IF(N126="nulová",J126,0) -> 0 | BJ126: 2 | BK126: =ROUND(I126*H126,1) -> 0 | BL126: 4 | BM126: -1852647876
D127: Online PSC | F127: https://podminky.urs.cz/item/CS_URS_2026_02/612325412 | AT127: Online PSC | AU127: 3
D128: VV | F128: 3,40*(3,60*2+3,00*2+0,20*2) | H128: 46.24 | AT128: VV | AU128: 3 | AV128: 2 | AW128: True | AX128: 0 | AY128: ROZPOCET
D129: VV | F129: -0,80*1,97 | H129: -1.576 | AT129: VV | AU129: 3 | AV129: 2 | AW129: True | AX129: 0 | AY129: ROZPOCET
D130: VV | F130: Mezisoučet koupelna | H130: 44.664 | AT130: VV | AU130: 3 | AV130: 3 | AW130: True | AX130: 0 | AY130: ROZPOCET
D131: VV | F131: 3,40*(1,05*2+1,90*2) | H131: 20.06 | AT131: VV | AU131: 3 | AV131: 2 | AW131: True | AX131: 0 | AY131: ROZPOCET
D132: VV | F132: (1,15+2,10*2)*0,15 | H132: 0.803 | AT132: VV | AU132: 3 | AV132: 2 | AW132: True | AX132: 0 | AY132: ROZPOCET
...

Sheet 02 - ZDRAVOTECHNICKÉ INST...
AT2: {2d21599a-808f-4121-86ee-cdc9a6ec629d}
AT3: 1
D4: KRYCÍ LIST SOUPISU PRACÍ | M4: v --- níže se nacházejí doplnkové a pomocné údaje k sestavám --- v | AT4: False
D6: Stavba:
E7: ='Rekapitulace stavby'!K6 -> REKONSTRUKCE KOUPELNY NA BEZBARIÉROVOU - BYT CHORATICE Č.P. 44
D8: Objekt:
E9: 02 - ZDRAVOTECHNICKÉ INSTALACE, VYTÁPĚNÍ, ELEKTROINSTALCE
D11: KSO: | I11: CC-CZ:
D12: Místo: | F12: CHORATICE | I12: Datum: | J12: ='Rekapitulace stavby'!AN8 -> 7. 7. 2026
D14: Zadavatel: | I14: IČ:
E15: OBEC MALŠOVICE | I15: DIČ:
D17: Účastník: | I17: IČ: | J17: ='Rekapitulace stavby'!AN13 -> Vyplň údaj
E18: ='Rekapitulace stavby'!E14 -> Vyplň údaj | I18: DIČ: | J18: ='Rekapitulace stavby'!AN14 -> Vyplň údaj
D20: Projektant: | I20: IČ:
E21: bez PD | I21: DIČ:
D23: Zpracovatel: | I23: IČ:
E24: Nina Blavková Děčín | I24: DIČ:
D26: Poznámka:
E27: Soupis prací je sestaven s využitím Cenové soustavy ÚRS. Položky, které pochází z této cenové soustavy, jsou ve sloupci 'Cenová soustava' označeny popisem 'CS ÚRS' a úrovní příslušného kalendářního pololetí. Veškeré další informace vymezující popis a podmínky použití těchto položek z Cenové soustavy, které nejsou uvedeny přímo v soupisu prací, jsou neomezeně dálkově k dispozici na webu podminky.urs.cz.
D30: Cena bez DPH | J30: =ROUND(J85, 1) -> 0
F32: Základ daně | I32: Sazba daně | J32: Výše daně
D33: DPH | E33: základní | F33: =ROUND((SUM(BE85:BE252)), 1) -> 0 | I33: 0.21 | J33: =ROUND(((SUM(BE85:BE252))*I33), 1) -> 0
E34: snížená | F34: =ROUND((SUM(BF85:BF252)), 1) -> 0 | I34: 0.12 | J34: =ROUND(((SUM(BF85:BF252))*I34), 1) -> 0
E35: zákl. přenesená | F35: =ROUND((SUM(BG85:BG252)), 1) -> 0 | I35: 0.21 | J35: =0 -> 0
E36: sníž. přenesená | F36: =ROUND((SUM(BH85:BH252)), 1) -> 0 | I36: 0.12 | J36: =0 -> 0
E37: nulová | F37: =ROUND((SUM(BI85:BI252)), 1) -> 0 | I37: 0 | J37: =0 -> 0
D39: Cena s DPH | G39: v | H39: CZK | J39: =SUM(J30:J37) -> 0
C45: REKAPITULACE ČLENĚNÍ SOUPISU PRACÍ
C47: Stavba:
E48: =E7 -> REKONSTRUKCE KOUPELNY NA BEZBARIÉROVOU - BYT CHORATICE Č.P. 44
C49: Objekt:
E50: =E9 -> 02 - ZDRAVOTECHNICKÉ INSTALACE, VYTÁPĚNÍ, ELEKTROINSTALCE
C52: Místo: | F52: =F12 -> CHORATICE | I52: Datum: | J52: =IF(J12="","",J12) -> 7. 7. 2026
C54: Zadavatel: | F54: =E15 -> OBEC MALŠOVICE | I54: Projektant: | J54: =E21 -> bez PD
C55: Účastník: | F55: =IF(E18="","",E18) -> Vyplň údaj | I55: Zpracovatel: | J55: =E24 -> Nina Blavková Děčín
C57: Kód dílu - Popis | J57: Cena celkem [CZK]
C59: Náklady stavby celkem | J59: =J85 -> 0 | AU59: -1
D60: PSV - Práce a dodávky PSV | J60: =J86 -> 0
D61: 721 - Zdravotechnika - vnitřní kanalizace | J61: =J87 -> 0
D62: 722 - Zdravotechnika - vnitřní vodovod | J62: =J127 -> 0
D63: 725 - Zdravotechnika - zařizovací předměty | J63: =J151 -> 0
D64: 735 - Ústřední vytápění - otopná tělesa | J64: =J196 -> 0
D65: 741 - Elektroinstalace | J65: =J227 -> 0
C72: SOUPIS PRACÍ
C74: Stavba:
E75: =E7 -> REKONSTRUKCE KOUPELNY NA BEZBARIÉROVOU - BYT CHORATICE Č.P. 44
C76: Objekt:
E77: =E9 -> 02 - ZDRAVOTECHNICKÉ INSTALACE, VYTÁPĚNÍ, ELEKTROINSTALCE
C79: Místo: | F79: =F12 -> CHORATICE | I79: Datum: | J79: =IF(J12="","",J12) -> 7. 7. 2026
C81: Zadavatel: | F81: =E15 -> OBEC MALŠOVICE | I81: Projektant: | J81: =E21 -> bez PD
C82: Účastník: | F82: =IF(E18="","",E18) -> Vyplň údaj | I82: Zpracovatel: | J82: =E24 -> Nina Blavková Děčín
C84: PČ | D84: Typ | E84: Kód | F84: Popis | G84: MJ | H84: Množství | I84: J.cena [CZK] | J84: Cena celkem [CZK] | K84: Cenová soustava | N84: DPH | O84: J. Nh [h] | P84: Nh celkem [h] | Q84: J. hmotnost [t] | R84: Hmotnost celkem [t] | S84: J. suť [t] | T84: Suť Celkem [t]
C85: Náklady soupisu celkem | J85: =BK85 -> 0 | P85: =P86 -> 0 | R85: =R86 -> 0.35843518 | T85: =T86 -> 0.155566 | AT85: D | AU85: -1 | BK85: =BK86 -> 0
D86: D | E86: PSV | F86: Práce a dodávky PSV | J86: =BK86 -> 0 | P86: =P87+P127+P151+P196+P227 -> 0 | R86: =R87+R127+R151+R196+R227 -> 0.35843518 | T86: =T87+T127+T151+T196+T227 -> 0.155566 | AR86: 2 | AT86: D | AU86: 0 | AY86: ROZPOCET | BK86: =BK87+BK127+BK151+BK196+BK227 -> 0
D87: D | E87: 721 | F87: Zdravotechnika - vnitřní kanalizace | J87: =BK87 -> 0 | P87: =SUM(P88:P126) -> 0 | R87: =SUM(R88:R126) -> 0.018115 | T87: =SUM(T88:T126) -> 0 | AR87: 2 | AT87: D | AU87: 1 | AY87: ROZPOCET | BK87: =SUM(BK88:BK126) -> 0
C88: 1 | D88: K | E88: 721219128 | F88: Odtokové sprchové žlaby montáž odtokových sprchových žlabů ostatních typů délky do 1050 mm | G88: kus | H88: 1 | J88: =ROUND(I88*H88,1) -> 0 | K88: CS ÚRS 2026 02 | N88: snížená | P88: =O88*H88 -> 0 | Q88: 0.00015 | R88: =Q88*H88 -> 0.00015 | S88: 0 | T88: =S88*H88 -> 0 | AR88: 16 | AT88: K | AU88: 2 | AY88: ROZPOCET | BE88: =IF(N88="základní",J88,0) -> 0 | BF88: =IF(N88="snížená",J88,0) -> 0 | BG88: =IF(N88="zákl. přenesená",J88,0) -> 0 | BH88: =IF(N88="sníž. přenesená",J88,0) -> 0 | BI88: =IF(N88="nulová",J88,0) -> 0 | BJ88: 2 | BK88: =ROUND(I88*H88,1) -> 0 | BL88: 16 | BM88: 1384054051
D89: Online PSC | F89: https://podminky.urs.cz/item/CS_URS_2026_02/721219128 | AT89: Online PSC | AU89: 2
C90: 2 | D90: M | E90: 5523320.R01 | F90: žlab sprchového koutu se zápachovou uzávěrkou, dl. 900mm, z nerezové oceli k zabudování ke stěně, bez krytu žlabu, PPvodorovný odtok DN50 s kulovým kloubem | G90: kus | H90: 1 | J90: =ROUND(I90*H90,1) -> 0 | N90: snížená | P90: =O90*H90 -> 0 | Q90: 0.00325 | R90: =Q90*H90 -> 0.00325 | S90: 0 | T90: =S90*H90 -> 0 | AR90: 32 | AT90: M | AU90: 2 | AY90: ROZPOCET | BE90: =IF(N90="základní",J90,0) -> 0 | BF90: =IF(N90="snížená",J90,0) -> 0 | BG90: =IF(N90="zákl. přenesená",J90,0) -> 0 | BH90: =IF(N90="sníž. přenesená",J90,0) -> 0 | BI90: =IF(N90="nulová",J90,0) -> 0 | BJ90: 2 | BK90: =ROUND(I90*H90,1) -> 0 | BL90: 16 | BM90: 1779847732
C91: 3 | D91: M | E91: 5523320.R02 | F91: kryt žlabu vhodný pro žlaby délky 900mm, z nerezové oceli 1.4301 s matnou kartáčovanou 3 mm silnou deskou z nerezové oceli, třída zatížení K3 (300kg) | G91: kus | H91: 1 | J91: =ROUND(I91*H91,1) -> 0 | N91: snížená | P91: =O91*H91 -> 0 | Q91: 0.00122 | R91: =Q91*H91 -> 0.00122 | S91: 0 | T91: =S91*H91 -> 0 | AR91: 32 | AT91: M | AU91: 2 | AY91: ROZPOCET | BE91: =IF(N91="základní",J91,0) -> 0 | BF91: =IF(N91="snížená",J91,0) -> 0 | BG91: =IF(N91="zákl. přenesená",J91,0) -> 0 | BH91: =IF(N91="sníž. přenesená",J91,0) -> 0 | BI91: =IF(N91="nulová",J91,0) -> 0 | BJ91: 2 | BK91: =ROUND(I91*H91,1) -> 0 | BL91: 16 | BM91: -1086877742
C92: 4 | D92: M | E92: 5523320.R03 | F92: zvukově izolační podložka 500x250mm pro sprchový žlab | G92: kus | H92: 1 | J92: =ROUND(I92*H92,1) -> 0 | N92: snížená | P92: =O92*H92 -> 0 | Q92: 0.00082 | R92: =Q92*H92 -> 0.00082 | S92: 0 | T92: =S92*H92 -> 0 | AR92: 32 | AT92: M | AU92: 2 | AY92: ROZPOCET | BE92: =IF(N92="základní",J92,0) -> 0 | BF92: =IF(N92="snížená",J92,0) -> 0 | BG92: =IF(N92="zákl. přenesená",J92,0) -> 0 | BH92: =IF(N92="sníž. přenesená",J92,0) -> 0 | BI92: =IF(N92="nulová",J92,0) -> 0 | BJ92: 2 | BK92: =ROUND(I92*H92,1) -> 0 | BL92: 16 | BM92: -936195857
C93: 5 | D93: K | E93: 721171905 | F93: Opravy odpadního potrubí plastového vsazení odbočky do potrubí DN 110 | G93: kus | H93: 1 | J93: =ROUND(I93*H93,1) -> 0 | K93: CS ÚRS 2026 02 | N93: snížená | P93: =O93*H93 -> 0 | Q93: 0.00179 | R93: =Q93*H93 -> 0.00179 | S93: 0 | T93: =S93*H93 -> 0 | AR93: 16 | AT93: K | AU93: 2 | AY93: ROZPOCET | BE93: =IF(N93="základní",J93,0) -> 0 | BF93: =IF(N93="snížená",J93,0) -> 0 | BG93: =IF(N93="zákl. přenesená",J93,0) -> 0 | BH93: =IF(N93="sníž. přenesená",J93,0) -> 0 | BI93: =IF(N93="nulová",J93,0) -> 0 | BJ93: 2 | BK93: =ROUND(I93*H93,1) -> 0 | BL93: 16 | BM93: 1567643277
D94: Online PSC | F94: https://podminky.urs.cz/item/CS_URS_2026_02/721171905 | AT94: Online PSC | AU94: 2
C95: 6 | D95: K | E95: 721171915 | F95: Opravy odpadního potrubí plastového propojení dosavadního potrubí DN 110 | G95: kus | H95: 1 | J95: =ROUND(I95*H95,1) -> 0 | K95: CS ÚRS 2026 02 | N95: snížená | P95: =O95*H95 -> 0 | Q95: 0.001 | R95: =Q95*H95 -> 0.001 | S95: 0 | T95: =S95*H95 -> 0 | AR95: 16 | AT95: K | AU95: 2 | AY95: ROZPOCET | BE95: =IF(N95="základní",J95,0) -> 0 | BF95: =IF(N95="snížená",J95,0) -> 0 | BG95: =IF(N95="zákl. přenesená",J95,0) -> 0 | BH95: =IF(N95="sníž. přenesená",J95,0) -> 0 | BI95: =IF(N95="nulová",J95,0) -> 0 | BJ95: 2 | BK95: =ROUND(I95*H95,1) -> 0 | BL95: 16 | BM95: 1406212935
D96: Online PSC | F96: https://podminky.urs.cz/item/CS_URS_2026_02/721171915 | AT96: Online PSC | AU96: 2
C97: 7 | D97: K | E97: 721171913 | F97: Opravy odpadního potrubí plastového propojení dosavadního potrubí DN 50 | G97: kus | H97: 1 | J97: =ROUND(I97*H97,1) -> 0 | K97: CS ÚRS 2026 02 | N97: snížená | P97: =O97*H97 -> 0 | Q97: 0.00031 | R97: =Q97*H97 -> 0.00031 | S97: 0 | T97: =S97*H97 -> 0 | AR97: 16 | AT97: K | AU97: 2 | AY97: ROZPOCET | BE97: =IF(N97="základní",J97,0) -> 0 | BF97: =IF(N97="snížená",J97,0) -> 0 | BG97: =IF(N97="zákl. přenesená",J97,0) -> 0 | BH97: =IF(N97="sníž. přenesená",J97,0) -> 0 | BI97: =IF(N97="nulová",J97,0) -> 0 | BJ97: 2 | BK97: =ROUND(I97*H97,1) -> 0 | BL97: 16 | BM97: -275520814
D98: Online PSC | F98: https://podminky.urs.cz/item/CS_URS_2026_02/721171913 | AT98: Online PSC | AU98: 2
C99: 8 | D99: K | E99: 721171912 | F99: Opravy odpadního potrubí plastového propojení dosavadního potrubí DN 40 | G99: kus | H99: 2 | J99: =ROUND(I99*H99,1) -> 0 | K99: CS ÚRS 2026 02 | N99: snížená | P99: =O99*H99 -> 0 | Q99: 0.00027 | R99: =Q99*H99 -> 0.00054 | S99: 0 | T99: =S99*H99 -> 0 | AR99: 16 | AT99: K | AU99: 2 | AY99: ROZPOCET | BE99: =IF(N99="základní",J99,0) -> 0 | BF99: =IF(N99="snížená",J99,0) -> 0 | BG99: =IF(N99="zákl. přenesená",J99,0) -> 0 | BH99: =IF(N99="sníž. přenesená",J99,0) -> 0 | BI99: =IF(N99="nulová",J99,0) -> 0 | BJ99: 2 | BK99: =ROUND(I99*H99,1) -> 0 | BL99: 16 | BM99: 1840889675
D100: Online PSC | F100: https://podminky.urs.cz/item/CS_URS_2026_02/721171912 | AT100: Online PSC | AU100: 2
C101: 9 | D101: K | E101: 721174043 | F101: Potrubí z trub polypropylenových připojovací DN 50 | G101: m | H101: 1.5 | J101: =ROUND(I101*H101,1) -> 0 | K101: CS ÚRS 2026 02 | N101: snížená | P101: =O101*H101 -> 0 | Q101: 0.0005 | R101: =Q101*H101 -> 0.00075 | S101: 0 | T101: =S101*H101 -> 0 | AR101: 16 | AT101: K | AU101: 2 | AY101: ROZPOCET | BE101: =IF(N101="základní",J101,0) -> 0 | BF101: =IF(N101="snížená",J101,0) -> 0 | BG101: =IF(N101="zákl. přenesená",J101,0) -> 0 | BH101: =IF(N101="sníž. přenesená",J101,0) -> 0 | BI101: =IF(N101="nulová",J101,0) -> 0 | BJ101: 2 | BK101: =ROUND(I101*H101,1) -> 0 | BL101: 16 | BM101: 1731972604
D102: Online PSC | F102: https://podminky.urs.cz/item/CS_URS_2026_02/721174043 | AT102: Online PSC | AU102: 2
D103: VV | F103: "NUTNO UPŘESNIT PODLE SKUTEČNOSTI" | AT103: VV | AU103: 2 | AV103: 1 | AW103: True | AX103: 0 | AY103: ROZPOCET
D104: VV | F104: 1,50 | H104: 1.5 | AT104: VV | AU104: 2 | AV104: 2 | AW104: True | AX104: 1 | AY104: ROZPOCET
C105: 10 | D105: K | E105: 721174042 | F105: Potrubí z trub polypropylenových připojovací DN 40 | G105: m | H105: 8 | J105: =ROUND(I105*H105,1) -> 0 | K105: CS ÚRS 2026 02 | N105: snížená | P105: =O105*H105 -> 0 | Q105: 0.00043 | R105: =Q105*H105 -> 0.00344 | S105: 0 | T105: =S105*H105 -> 0 | AR105: 16 | AT105: K | AU105: 2 | AY105: ROZPOCET | BE105: =IF(N105="základní",J105,0) -> 0 | BF105: =IF(N105="snížená",J105,0) -> 0 | BG105: =IF(N105="zákl. přenesená",J105,0) -> 0 | BH105: =IF(N105="sníž. přenesená",J105,0) -> 0 | BI105: =IF(N105="nulová",J105,0) -> 0 | BJ105: 2 | BK105: =ROUND(I105*H105,1) -> 0 | BL105: 16 | BM105: 1825259134
D106: Online PSC | F106: https://podminky.urs.cz/item/CS_URS_2026_02/721174042 | AT106: Online PSC | AU106: 2
D107: VV | F107: "NUTNO UPŘESNIT PODLE SKUTEČNOSTI" | AT107: VV | AU107: 2 | AV107: 1 | AW107: True | AX107: 0 | AY107: ROZPOCET
D108: VV | F108: 8,00 | H108: 8 | AT108: VV | AU108: 2 | AV108: 2 | AW108: True | AX108: 1 | AY108: ROZPOCET
C109: 11 | D109: K | E109: 721174045 | F109: Potrubí z trub polypropylenových připojovací DN 110 | G109: m | H109: 2.5 | J109: =ROUND(I109*H109,1) -> 0 | K109: CS ÚRS 2026 02 | N109: snížená | P109: =O109*H109 -> 0 | Q109: 0.00153 | R109: =Q109*H109 -> 0.003825 | S109: 0 | T109: =S109*H109 -> 0 | AR109: 16 | AT109: K | AU109: 2 | AY109: ROZPOCET | BE109: =IF(N109="základní",J109,0) -> 0 | BF109: =IF(N109="snížená",J109,0) -> 0 | BG109: =IF(N109="zákl. přenesená",J109,0) -> 0 | BH109: =IF(N109="sníž. přenesená",J109,0) -> 0 | BI109: =IF(N109="nulová",J109,0) -> 0 | BJ109: 2 | BK109: =ROUND(I109*H109,1) -> 0 | BL109: 16 | BM109: 695510362
D110: Online PSC | F110: https://podminky.urs.cz/item/CS_URS_2026_02/721174045 | AT110: Online PSC | AU110: 2
D111: VV | F111: "NUTNO UPŘESNIT PODLE SKUTEČNOSTI" | AT111: VV | AU111: 2 | AV111: 1 | AW111: True | AX111: 0 | AY111: ROZPOCET
D112: VV | F112: 2,50 | H112: 2.5 | AT112: VV | AU112: 2 | AV112: 2 | AW112: True | AX112: 1 | AY112: ROZPOCET
C113: 12 | D113: K | E113: 721194104 | F113: Vyměření přípojek na potrubí vyvedení a upevnění odpadních výpustek DN 40 | G113: kus | H113: 2 | J113: =ROUND(I113*H113,1) -> 0 | K113: CS ÚRS 2026 02 | N113: snížená | P113: =O113*H113 -> 0 | Q113: 0 | R113: =Q113*H113 -> 0 | S113: 0 | T113: =S113*H113 -> 0 | AR113: 16 | AT113: K | AU113: 2 | AY113: ROZPOCET | BE113: =IF(N113="základní",J113,0) -> 0 | BF113: =IF(N113="snížená",J113,0) -> 0 | BG113: =IF(N113="zákl. přenesená",J113,0) -> 0 | BH113: =IF(N113="sníž. přenesená",J113,0) -> 0 | BI113: =IF(N113="nulová",J113,0) -> 0 | BJ113: 2 | BK113: =ROUND(I113*H113,1) -> 0 | BL113: 16 | BM113: -1265843881
D114: Online PSC | F114: https://podminky.urs.cz/item/CS_URS_2026_02/721194104 | AT114: Online PSC | AU114: 2
C115: 13 | D115: K | E115: 721194105 | F115: Vyměření přípojek na potrubí vyvedení a upevnění odpadních výpustek DN 50 | G115: kus | H115: 1 | J115: =ROUND(I115*H115,1) -> 0 | K115: CS ÚRS 2026 02 | N115: snížená | P115: =O115*H115 -> 0 | Q115: 0 | R115: =Q115*H115 -> 0 | S115: 0 | T115: =S115*H115 -> 0 | AR115: 16 | AT115: K | AU115: 2 | AY115: ROZPOCET | BE115: =IF(N115="základní",J115,0) -> 0 | BF115: =IF(N115="snížená",J115,0) -> 0 | BG115: =IF(N115="zákl. přenesená",J115,0) -> 0 | BH115: =IF(N115="sníž. přenesená",J115,0) -> 0 | BI115: =IF(N115="nulová",J115,0) -> 0 | BJ115: 2 | BK115: =ROUND(I115*H115,1) -> 0 | BL115: 16 | BM115: -16186320
D116: Online PSC | F116: https://podminky.urs.cz/item/CS_URS_2026_02/721194105 | AT116: Online PSC | AU116: 2
C117: 14 | D117: K | E117: 721194109 | F117: Vyměření přípojek na potrubí vyvedení a upevnění odpadních výpustek DN 110 | G117: kus | H117: 2 | J117: =ROUND(I117*H117,1) -> 0 | K117: CS ÚRS 2026 02 | N117: snížená | P117: =O117*H117 -> 0 | Q117: 0 | R117: =Q117*H117 -> 0 | S117: 0 | T117: =S117*H117 -> 0 | AR117: 16 | AT117: K | AU117: 2 | AY117: ROZPOCET | BE117: =IF(N117="základní",J117,0) -> 0 | BF117: =IF(N117="snížená",J117,0) -> 0 | BG117: =IF(N117="zákl. přenesená",J117,0) -> 0 | BH117: =IF(N117="sníž. přenesená",J117,0) -> 0 | BI117: =IF(N117="nulová",J117,0) -> 0 | BJ117: 2 | BK117: =ROUND(I117*H117,1) -> 0 | BL117: 16 | BM117: 1701474295
D118: Online PSC | F118: https://podminky.urs.cz/item/CS_URS_2026_02/721194109 | AT118: Online PSC | AU118: 2
C119: 15 | D119: K | E119: 721226513 | F119: Zápachové uzávěrky podomítkové (Pe) s krycí deskou pro pračku a myčku DN 40/50 s přípojem vody a elektřiny | G119: kus | H119: 1 | J119: =ROUND(I119*H119,1) -> 0 | K119: CS ÚRS 2026 02 | N119: snížená | P119: =O119*H119 -> 0 | Q119: 0.00102 | R119: =Q119*H119 -> 0.00102 | S119: 0 | T119: =S119*H119 -> 0 | AR119: 16 | AT119: K | AU119: 2 | AY119: ROZPOCET | BE119: =IF(N119="základní",J119,0) -> 0 | BF119: =IF(N119="snížená",J119,0) -> 0 | BG119: =IF(N119="zákl. přenesená",J119,0) -> 0 | BH119: =IF(N119="sníž. přenesená",J119,0) -> 0 | BI119: =IF(N119="nulová",J119,0) -> 0 | BJ119: 2 | BK119: =ROUND(I119*H119,1) -> 0 | BL119: 16 | BM119: -1595866334
D120: Online PSC | F120: https://podminky.urs.cz/item/CS_URS_2026_02/721226513 | AT120: Online PSC | AU120: 2
C121: 16 | D121: K | E121: 721290111 | F121: Zkouška těsnosti kanalizace v objektech vodou do DN 125 | G121: m | H121: 12 | J121: =ROUND(I121*H121,1) -> 0 | K121: CS ÚRS 2026 02 | N121: snížená | P121: =O121*H121 -> 0 | Q121: 0 | R121: =Q121*H121 -> 0 | S121: 0 | T121: =S121*H121 -> 0 | AR121: 16 | AT121: K | AU121: 2 | AY121: ROZPOCET | BE121: =IF(N121="základní",J121,0) -> 0 | BF121: =IF(N121="snížená",J121,0) -> 0 | BG121: =IF(N121="zákl. přenesená",J121,0) -> 0 | BH121: =IF(N121="sníž. přenesená",J121,0) -> 0 | BI121: =IF(N121="nulová",J121,0) -> 0 | BJ121: 2 | BK121: =ROUND(I121*H121,1) -> 0 | BL121: 16 | BM121: -832086393
D122: Online PSC | F122: https://podminky.urs.cz/item/CS_URS_2026_02/721290111 | AT122: Online PSC | AU122: 2
C123: 17 | D123: K | E123: 998721122 | F123: Přesun hmot pro vnitřní kanalizaci stanovený z hmotnosti přesunovaného materiálu vodorovná dopravní vzdálenost do 50 m ruční (bez užití mechanizace) v objektech výšky přes 6 do 12 m | G123: t | H123: 0.018 | J123: =ROUND(I123*H123,1) -> 0 | K123: CS ÚRS 2026 02 | N123: snížená | P123: =O123*H123 -> 0 | Q123: 0 | R123: =Q123*H123 -> 0 | S123: 0 | T123: =S123*H123 -> 0 | AR123: 16 | AT123: K | AU123: 2 | AY123: ROZPOCET | BE123: =IF(N123="základní",J123,0) -> 0 | BF123: =IF(N123="snížená",J123,0) -> 0 | BG123: =IF(N123="zákl. přenesená",J123,0) -> 0 | BH123: =IF(N123="sníž. přenesená",J123,0) -> 0 | BI123: =IF(N123="nulová",J123,0) -> 0 | BJ123: 2 | BK123: =ROUND(I123*H123,1) -> 0 | BL123: 16 | BM123: 307064585
D124: Online PSC | F124: https://podminky.urs.cz/item/CS_URS_2026_02/998721122 | AT124: Online PSC | AU124: 2
C125: 18 | D125: K | E125: 72199990.R01 | F125: Výpomocné práce pro vnitřní kanalizaci - sekání, průrazy, záhozy, zazdívky, začištění | G125: % | J125: =ROUND(I125*H125,1) -> 0 | N125: snížená | P125: =O125*H125 -> 0 | Q125: 0 | R125: =Q125*H125 -> 0 | S125: 0 | T125: =S125*H125 -> 0 | AR125: 16 | AT125: K | AU125: 2 | AY125: ROZPOCET | BE125: =IF(N125="základní",J125,0) -> 0 | BF125: =IF(N125="snížená",J125,0) -> 0 | BG125: =IF(N125="zákl. přenesená",J125,0) -> 0 | BH125: =IF(N125="sníž. přenesená",J125,0) -> 0 | BI125: =IF(N125="nulová",J125,0) -> 0 | BJ125: 2 | BK125: =ROUND(I125*H125,1) -> 0 | BL125: 16 | BM125: 297252620
C126: 19 | D126: K | E126: 72199990.R02 | F126: Demontáž a likvidace kanalizačního potrubí - rozsah bude upřesněn při realizaci | G126: Kč | H126: 1 | J126: =ROUND(I126*H126,1) -> 0 | N126: snížená | P126: =O126*H126 -> 0 | Q126: 0 | R126: =Q126*H126 -> 0 | S126: 0 | T126: =S126*H126 -> 0 | AR126: 16 | AT126: K | AU126: 2 | AY126: ROZPOCET | BE126: =IF(N126="základní",J126,0) -> 0 | BF126: =IF(N126="snížená",J126,0) -> 0 | BG126: =IF(N126="zákl. přenesená",J126,0) -> 0 | BH126: =IF(N126="sníž. přenesená",J126,0) -> 0 | BI126: =IF(N126="nulová",J126,0) -> 0 | BJ126: 2 | BK126: =ROUND(I126*H126,1) -> 0 | BL126: 16 | BM126: -1416580253
D127: D | E127: 722 | F127: Zdravotechnika - vnitřní vodovod | J127: =BK127 -> 0 | P127: =SUM(P128:P150) -> 0 | R127: =SUM(R128:R150) -> 0.03592 | T127: =SUM(T128:T150) -> 0 | AR127: 2 | AT127: D | AU127: 1 | AY127: ROZPOCET | BK127: =SUM(BK128:BK150) -> 0
C128: 20 | D128: K | E128: 722174002 | F128: Potrubí z trubek polypropylenových spojovaných svařováním z jednovrstvého PP-R S3,2 (PN 16) D 20/2,8 | G128: m | H128: 30 | J128: =ROUND(I128*H128,1) -> 0 | K128: CS ÚRS 2026 02 | N128: snížená | P128: =O128*H128 -> 0 | Q128: 0.0008 | R128: =Q128*H128 -> 0.024 | S128: 0 | T128: =S128*H128 -> 0 | AR128: 16 | AT128: K | AU128: 2 | AY128: ROZPOCET | BE128: =IF(N128="základní",J128,0) -> 0 | BF128: =IF(N128="snížená",J128,0) -> 0 | BG128: =IF(N128="zákl. přenesená",J128,0) -> 0 | BH128: =IF(N128="sníž. přenesená",J128,0) -> 0 | BI128: =IF(N128="nulová",J128,0) -> 0 | BJ128: 2 | BK128: =ROUND(I128*H128,1) -> 0 | BL128: 16 | BM128: 1363634999
D129: Online PSC | F129: https://podminky.urs.cz/item/CS_URS_2026_02/722174002 | AT129: Online PSC | AU129: 2
D130: VV | F130: "NUTNO UPŘESNIT PODLE SKUTEČNOSTI" | AT130: VV | AU130: 2 | AV130: 1 | AW130: True | AX130: 0 | AY130: ROZPOCET
D131: VV | F131: 30,00 | H131: 30 | AT131: VV | AU131: 2 | AV131: 2 | AW131: True | AX131: 1 | AY131: ROZPOCET
C132: 21 | D132: K | E132: 722181231 | F132: Ochrana potrubí termoizolačními trubicemi z pěnového polyetylenu PE přilepenými v příčných a podélných spojích, tloušťky izolace přes 9 do 13 mm, vnitřního průměru izolace DN do 22 mm | G132: m | H132: 30 | J132: =ROUND(I132*H132,1) -> 0 | K132: CS ÚRS 2026 02 | N132: snížená | P132: =O132*H132 -> 0 | Q132: 0.00034 | R132: =Q132*H132 -> 0.0102 | S132: 0 | T132: =S132*H132 -> 0 | AR132: 16 | AT132: K | AU132: 2 | AY132: ROZPOCET | BE132: =IF(N132="základní",J132,0) -> 0 | BF132: =IF(N132="snížená",J132,0) -> 0 | BG132: =IF(N132="zákl. přenesená",J132,0) -> 0 | BH132: =IF(N132="sníž. přenesená",J132,0) -> 0 | BI132: =IF(N132="nulová",J132,0) -> 0 | BJ132: 2 | BK132: =ROUND(I132*H132,1) -> 0 | BL132: 16 | BM132: -231786779
...

Sheet 03 - VEDLEJŠÍ ROZPOČTOVÉ ...
AT2: {c3240469-ab11-4058-9edc-dddb086d7f6d}
AT3: 1
D4: KRYCÍ LIST SOUPISU PRACÍ | M4: v --- níže se nacházejí doplnkové a pomocné údaje k sestavám --- v | AT4: False
D6: Stavba:
E7: ='Rekapitulace stavby'!K6 -> REKONSTRUKCE KOUPELNY NA BEZBARIÉROVOU - BYT CHORATICE Č.P. 44
D8: Objekt:
E9: 03 - VEDLEJŠÍ ROZPOČTOVÉ NÁKLADY
D11: KSO: | I11: CC-CZ:
D12: Místo: | F12: CHORATICE | I12: Datum: | J12: ='Rekapitulace stavby'!AN8 -> 7. 7. 2026
D14: Zadavatel: | I14: IČ:
E15: OBEC MALŠOVICE | I15: DIČ:
D17: Účastník: | I17: IČ: | J17: ='Rekapitulace stavby'!AN13 -> Vyplň údaj
E18: ='Rekapitulace stavby'!E14 -> Vyplň údaj | I18: DIČ: | J18: ='Rekapitulace stavby'!AN14 -> Vyplň údaj
D20: Projektant: | I20: IČ:
E21: bez PD | I21: DIČ:
D23: Zpracovatel: | I23: IČ:
E24: Nina Blavková Děčín | I24: DIČ:
D26: Poznámka:
E27: Soupis prací je sestaven s využitím Cenové soustavy ÚRS. Položky, které pochází z této cenové soustavy, jsou ve sloupci 'Cenová soustava' označeny popisem 'CS ÚRS' a úrovní příslušného kalendářního pololetí. Veškeré další informace vymezující popis a podmínky použití těchto položek z Cenové soustavy, které nejsou uvedeny přímo v soupisu prací, jsou neomezeně dálkově k dispozici na webu podminky.urs.cz.
D30: Cena bez DPH | J30: =ROUND(J80, 1) -> 0
F32: Základ daně | I32: Sazba daně | J32: Výše daně
D33: DPH | E33: základní | F33: =ROUND((SUM(BE80:BE83)), 1) -> 0 | I33: 0.21 | J33: =ROUND(((SUM(BE80:BE83))*I33), 1) -> 0
E34: snížená | F34: =ROUND((SUM(BF80:BF83)), 1) -> 0 | I34: 0.12 | J34: =ROUND(((SUM(BF80:BF83))*I34), 1) -> 0
E35: zákl. přenesená | F35: =ROUND((SUM(BG80:BG83)), 1) -> 0 | I35: 0.21 | J35: =0 -> 0
E36: sníž. přenesená | F36: =ROUND((SUM(BH80:BH83)), 1) -> 0 | I36: 0.12 | J36: =0 -> 0
E37: nulová | F37: =ROUND((SUM(BI80:BI83)), 1) -> 0 | I37: 0 | J37: =0 -> 0
D39: Cena s DPH | G39: v | H39: CZK | J39: =SUM(J30:J37) -> 0
C45: REKAPITULACE ČLENĚNÍ SOUPISU PRACÍ
C47: Stavba:
E48: =E7 -> REKONSTRUKCE KOUPELNY NA BEZBARIÉROVOU - BYT CHORATICE Č.P. 44
C49: Objekt:
E50: =E9 -> 03 - VEDLEJŠÍ ROZPOČTOVÉ NÁKLADY
C52: Místo: | F52: =F12 -> CHORATICE | I52: Datum: | J52: =IF(J12="","",J12) -> 7. 7. 2026
C54: Zadavatel: | F54: =E15 -> OBEC MALŠOVICE | I54: Projektant: | J54: =E21 -> bez PD
C55: Účastník: | F55: =IF(E18="","",E18) -> Vyplň údaj | I55: Zpracovatel: | J55: =E24 -> Nina Blavková Děčín
C57: Kód dílu - Popis | J57: Cena celkem [CZK]
C59: Náklady stavby celkem | J59: =J80 -> 0 | AU59: -1
D60: VRN - Vedlejší rozpočtové náklady | J60: =J81 -> 0
C67: SOUPIS PRACÍ
C69: Stavba:
E70: =E7 -> REKONSTRUKCE KOUPELNY NA BEZBARIÉROVOU - BYT CHORATICE Č.P. 44
C71: Objekt:
E72: =E9 -> 03 - VEDLEJŠÍ ROZPOČTOVÉ NÁKLADY
C74: Místo: | F74: =F12 -> CHORATICE | I74: Datum: | J74: =IF(J12="","",J12) -> 7. 7. 2026
C76: Zadavatel: | F76: =E15 -> OBEC MALŠOVICE | I76: Projektant: | J76: =E21 -> bez PD
C77: Účastník: | F77: =IF(E18="","",E18) -> Vyplň údaj | I77: Zpracovatel: | J77: =E24 -> Nina Blavková Děčín
C79: PČ | D79: Typ | E79: Kód | F79: Popis | G79: MJ | H79: Množství | I79: J.cena [CZK] | J79: Cena celkem [CZK] | K79: Cenová soustava | N79: DPH | O79: J. Nh [h] | P79: Nh celkem [h] | Q79: J. hmotnost [t] | R79: Hmotnost celkem [t] | S79: J. suť [t] | T79: Suť Celkem [t]
C80: Náklady soupisu celkem | J80: =BK80 -> 0 | P80: =P81 -> 0 | R80: =R81 -> 0 | T80: =T81 -> 0 | AT80: D | AU80: -1 | BK80: =BK81 -> 0
D81: D | E81: VRN | F81: Vedlejší rozpočtové náklady | J81: =BK81 -> 0 | P81: =SUM(P82:P83) -> 0 | R81: =SUM(R82:R83) -> 0 | T81: =SUM(T82:T83) -> 0 | AR81: 5 | AT81: D | AU81: 0 | AY81: ROZPOCET | BK81: =SUM(BK82:BK83) -> 0
C82: 1 | D82: K | E82: 030001000 | F82: Zařízení staveniště | G82: Kč | H82: 1 | J82: =ROUND(I82*H82,1) -> 0 | K82: CS ÚRS 2026 02 | N82: snížená | P82: =O82*H82 -> 0 | Q82: 0 | R82: =Q82*H82 -> 0 | S82: 0 | T82: =S82*H82 -> 0 | AR82: 1024 | AT82: K | AU82: 1 | AY82: ROZPOCET | BE82: =IF(N82="základní",J82,0) -> 0 | BF82: =IF(N82="snížená",J82,0) -> 0 | BG82: =IF(N82="zákl. přenesená",J82,0) -> 0 | BH82: =IF(N82="sníž. přenesená",J82,0) -> 0 | BI82: =IF(N82="nulová",J82,0) -> 0 | BJ82: 2 | BK82: =ROUND(I82*H82,1) -> 0 | BL82: 1024 | BM82: -482762620
D83: Online PSC | F83: https://podminky.urs.cz/item/CS_URS_2026_02/030001000 | AT83: Online PSC | AU83: 1

Sheet Pokyny pro vyplnění
C3: Struktura údajů, formát souboru a metodika pro zpracování
C4: Struktura
C6: Soubor je složen ze záložky Rekapitulace stavby a záložek s názvem soupisu prací pro jednotlivé objekty ve formátu XLSX. Každá ze záložek přitom obsahuje
C7: ještě samostatné sestavy vymezené orámovaním a nadpisem sestavy.
C9: Rekapitulace stavby obsahuje sestavu Rekapitulace stavby a Rekapitulace objektů stavby a soupisů prací.
D10: V sestavě Rekapitulace stavby jsou uvedeny informace identifikující předmět veřejné zakázky na stavební práce, KSO, CC-CZ, CZ-CPV, CZ-CPA a rekapitulaci
D11: celkové nabídkové ceny účastníka.
D13: Termínem "učastník" (resp. zhotovitel) se myslí "účastník zadávacího řízení" ve smyslu zákona o zadávání veřejných zakázek.
D15: V sestavě Rekapitulace objektů stavby a soupisů prací je uvedena rekapitulace stavebních objektů, inženýrských objektů, provozních souborů,
D16: vedlejších a ostatních nákladů a ostatních nákladů s rekapitulací nabídkové ceny za jednotlivé soupisy prací. Na základě údaje Typ je možné
D17: identifikovat, zda se jedná o objekt nebo soupis prací pro daný objekt:
E18: STA | F18: Stavební objekt pozemní
E19: ING | F19: Stavební objekt inženýrský
E20: PRO | F20: Provozní soubor
E21: VON | F21: Vedlejší a ostatní náklady
E22: OST | F22: Ostatní
E23: Soupis | F23: Soupis prací pro daný typ objektu
C25: Soupis prací pro jednotlivé objekty obsahuje sestavy Krycí list soupisu prací, Rekapitulace členění soupisu prací, Soupis prací. Za soupis prací může být považován
C26: i objekt stavby v případě, že neobsahuje podřízenou zakázku.
D27: Krycí list soupisu obsahuje rekapitulaci informací o předmětu veřejné zakázky ze sestavy Rekapitulace stavby, informaci o zařazení objektu do KSO,
D28: CC-CZ, CZ-CPV, CZ-CPA a rekapitulaci celkové nabídkové ceny účastníka za aktuální soupis prací.
D30: Rekapitulace členění soupisu prací obsahuje rekapitulaci soupisu prací ve všech úrovních členění soupisu tak, jak byla tato členění použita (např.
D31: stavební díly, funkční díly, případně jiné členění) s rekapitulací nabídkové ceny.
D33: Soupis prací obsahuje položky veškerých stavebních nebo montážních prací, dodávek materiálů a služeb nezbytných pro zhotovení stavebního objektu,
D34: inženýrského objektu, provozního souboru, vedlejších a ostatních nákladů.
D35: Pro položky soupisu prací se zobrazují následující informace:
E36: PČ | G36: Pořadové číslo položky v aktuálním soupisu
E37: TYP | G37: Typ položky: K - konstrukce, M - materiál, PP - plný popis, PSC - poznámka k souboru cen, P - poznámka k položce, VV - výkaz výměr, FIG - rozpad figur
E38: Kód | G38: Kód položky
E39: Popis | G39: Zkrácený popis položky
E40: MJ | G40: Měrná jednotka položky
E41: Množství | G41: Množství v měrné jednotce
E42: J.cena | G42: Jednotková cena položky. Zadaní může obsahovat namísto J.ceny sloupce J.materiál a J.montáž, jejichž součet definuje
G43: J.cenu položky.
E44: Cena celkem | G44: Celková cena položky daná jako součin množství a j.ceny
E45: Cenová soustava | G45: Příslušnost položky do cenové soustavy
D47: Ke každé položce soupisu prací se na samostatných řádcích může zobrazovat:
E48: Plný popis položky
E49: Poznámka k souboru cen a poznámka zadavatele
E50: Výkaz výměr
D51: Pokud je k řádku výkazu výměr evidovaný údaj ve sloupci Kód, jedná se o definovaný odkaz, na který se může odvolávat výkaz výměr z jiné položky.
C52: Metodika pro zpracování
C54: Jednotlivé sestavy jsou v souboru provázány. Editovatelné pole jsou zvýrazněny žlutým podbarvením, ostatní pole neslouží k editaci a nesmí být jakkoliv
C55: modifikovány.
C57: Účastník je pro podání nabídky povinen vyplnit žlutě podbarvená pole:
D58: Pole Účastník v sestavě Rekapitulace stavby - zde účastník vyplní svůj název (název subjektu)
D59: Pole IČ a DIČ v sestavě Rekapitulace stavby - zde účastník vyplní svoje IČ a DIČ
D60: Datum v sestavě Rekapitulace stavby - zde účastník vyplní datum vytvoření nabídky
D61: J.cena = jednotková cena v sestavě Soupis prací o maximálním počtu desetinných míst uvedených v poli
D62: - pokud sestavy soupisů prací obsahují pole J.cena, měla by být všechna tato pole vyplněna nenulovými
D63: Poznámka - nepovinný údaj pro položku soupisu
D65: V případě, že sestavy soupisů prací neobsahují pole J.cena, potom ve všech soupisech prací obsahují pole:
D66: - J.materiál - jednotková cena materiálu
D67: - J.montáž - jednotková cena montáže
D68: Účastník v tomto případě by měl vyplnit všechna pole J.materiál a pole J.montáž nenulovými kladnými číslicemi. V případech, kdy položka
D69: neobsahuje žádný materiál je přípustné, aby pole J.materiál bylo vyplněno nulou. V případech, kdy položka neobsahuje žádnou montáž je přípustné,
D70: aby pole J.montáž bylo vyplněno nulou. Obě pole - J.materiál, J.Montáž u jedné položky by však neměly být vyplněny nulou.
C75: Rekapitulace stavby
C76: Název | F76: Povinný | H76: Popis | I76: Typ | J76: Max. počet
C77: atributu | F77: (A/N) | J77: znaků
C79: Kód | F79: A | H79: Kód stavby | I79: String | J79: 20
C80: Stavba | F80: A | H80: Název stavby | I80: String | J80: 120
C81: Místo | F81: N | H81: Místo stavby | I81: String | J81: 50
C82: Datum | F82: A | H82: Datum vykonaného exportu | I82: Date
C83: KSO | F83: N | H83: Klasifikace stavebního objektu | I83: String | J83: 15
C84: CC-CZ | F84: N | H84: Klasifikace stavbeních děl | I84: String | J84: 15
C85: CZ-CPV | F85: N | H85: Společný slovník pro veřejné zakázky | I85: String | J85: 20
C86: CZ-CPA | F86: N | H86: Klasifikace produkce podle činností | I86: String | J86: 20
C87: Zadavatel | F87: N | H87: Zadavatel zadaní | I87: String | J87: 50
C88: IČ | F88: N | H88: IČ zadavatele zadaní | I88: String | J88: 20
C89: DIČ | F89: N | H89: DIČ zadavatele zadaní | I89: String | J89: 20
C90: Účastník | F90: N | H90: Účastník veřejné zakázky | I90: String | J90: 50
C91: Projektant | F91: N | H91: Projektant | I91: String | J91: 50
C92: Poznámka | F92: N | H92: Poznámka k zadání | I92: String | J92: 255
C93: Sazba DPH | F93: A | H93: Rekapitulace sazeb DPH u položek soupisů | I93: eGSazbaDph
C94: Základna DPH | F94: A | H94: Základna DPH určena součtem celkové ceny z položek soupisů | I94: Double
C95: Hodnota DPH | F95: A | H95: Hodnota DPH | I95: Double
C96: Cena bez DPH | F96: A | H96: Celková cena bez DPH za celou stavbu. Sčítává se ze všech listů. | I96: Double
C97: Cena s DPH | F97: A | H97: Celková cena s DPH za celou stavbu | I97: Double
C102: Rekapitulace objektů stavby a soupisů prací
C103: Název | F103: Povinný | H103: Popis | I103: Typ | J103: Max. počet
C104: atributu | F104: (A/N) | J104: znaků
C106: Kód | F106: A | H106: Přebírá se z Rekapitulace stavby | I106: String | J106: 20
C107: Stavba | F107: A | H107: Přebírá se z Rekapitulace stavby | I107: String | J107: 120
C108: Místo | F108: N | H108: Přebírá se z Rekapitulace stavby | I108: String | J108: 50
C109: Datum | F109: A | H109: Přebírá se z Rekapitulace stavby | I109: Date
C110: Zadavatel | F110: N | H110: Přebírá se z Rekapitulace stavby | I110: String | J110: 50
C111: Projektant | F111: N | H111: Přebírá se z Rekapitulace stavby | I111: String | J111: 50
C112: Účastník | F112: N | H112: Přebírá se z Rekapitulace stavby | I112: String | J112: 50
C113: Kód | F113: A | H113: Kód objektu | I113: String | J113: 20
C114: Objektu, Soupis prací | F114: A | H114: Název objektu | I114: String | J114: 120
C115: Cena bez DPH | F115: A | H115: Cena bez DPH za daný objekt | I115: Double
C116: Cena s DPH | F116: A | H116: Cena spolu s DPH za daný objekt | I116: Double
C117: Typ | F117: A | H117: Typ zakázky | I117: eGTypZakazky
C122: Krycí list soupisu
C123: Název | F123: Povinný | H123: Popis | I123: Typ | J123: Max. počet
C124: atributu | F124: (A/N) | J124: znaků
C126: Stavba | F126: A | H126: Přebírá se z Rekapitulace stavby | I126: String | J126: 120
C127: Objekt | F127: A | H127: Kód a název objektu | I127: String | J127: 20 + 120
C128: Soupis | F128: A | H128: Kód a název soupisu | I128: String | J128: 20 + 120
...
