Workbook

Sheet Rekapitulace stavby
A1: Export Komplet | AZ1: VZ | BA1: 2.0 | BB1: ZAMOK | BT1: False | BU1: False | BV1: {1b2ffc57-909e-4e09-b0c7-283b3b5c4d16}
BS2: 0,1 | BT2: 21
BS3: 0,1 | BT3: 12
D4: REKAPITULACE STAVBY | AS4: v --- níže se nacházejí doplnkové a pomocné údaje k sestavám --- v | BE4: Návod na vyplnění | BS4: 0,001
D5: Kód: | K5: MALSOVICE2604 | BE5: Měnit lze pouze buňky se žlutým podbarvením!_x000D_ _x000D_ 1) v Rekapitulaci stavby vyplňte údaje o Účastníkovi (přenesou se do ostatních sestav i v jiných listech)_x000D_ _x000D_ 2) na vybraných listech vyplňte v sestavě Soupis prací ceny u položek | BS5: 0,1
D6: Stavba: | K6: REKONSTRUKCE KOUPELNY NA BEZBARIÉROVOU - BYT CHORATICE Č.P. 44 | BS6: 0,1
D7: KSO: | AK7: CC-CZ: | BS7: 0,1
D8: Místo: | K8: CHORATICE | AK8: Datum: | AN8: 7. 7. 2026 | BS8: 0,1
BS9: 0,1
D10: Zadavatel: | AK10: IČ: | BS10: 0,1
E11: OBEC MALŠOVICE | AK11: DIČ: | BS11: 0,1
BS12: 0,1
D13: Účastník: | AK13: IČ: | AN13: Vyplň údaj | BS13: 0,1
E14: Vyplň údaj | AK14: DIČ: | AN14: Vyplň údaj | BS14: 0,1
BS15: False
D16: Projektant: | AK16: IČ: | BS16: False
E17: bez PD | AK17: DIČ: | BS17: True
BS18: 0,1
D19: Zpracovatel: | AK19: IČ: | BS19: 0,1
E20: Nina Blavková Děčín | AK20: DIČ: | BS20: False
D22: Poznámka:
E23: Soupis prací je sestaven s využitím Cenové soustavy ÚRS. Položky, které pochází z této cenové soustavy, jsou ve sloupci 'Cenová soustava' označeny popisem 'CS ÚRS' a úrovní příslušného kalendářního pololetí. Veškeré další informace vymezující popis a podmínky použití těchto položek z Cenové soustavy, které nejsou uvedeny přímo v soupisu prací, jsou neomezeně dálkově k dispozici na webu podminky.urs.cz.
D26: Cena bez DPH | AK26: =ROUND(AG54,1) -> 0
L28: Sazba daně | W28: Základ daně | AK28: Výše daně
D29: DPH | F29: základní | L29: 0.21 | W29: =ROUND(AZ54, 1) -> 0 | AK29: =ROUND(AV54, 1) -> 0
F30: snížená | L30: 0.12 | W30: =ROUND(BA54, 1) -> 0 | AK30: =ROUND(AW54, 1) -> 0
F31: zákl. přenesená | L31: 0.21 | W31: =ROUND(BB54, 1) -> 0 | AK31: 0
F32: sníž. přenesená | L32: 0.12 | W32: =ROUND(BC54, 1) -> 0 | AK32: 0
F33: nulová | L33: 0 | W33: =ROUND(BD54, 1) -> 0 | AK33: 0
D35: Cena s DPH | T35: v | X35: CZK | AK35: =SUM(AK26:AK33) -> 0
C42: REKAPITULACE OBJEKTŮ STAVBY A SOUPISŮ PRACÍ
C44: Kód: | L44: =K5 -> MALSOVICE2604
C45: Stavba: | L45: =K6 -> REKONSTRUKCE KOUPELNY NA BEZBARIÉROVOU - BYT CHORATICE Č.P. 44
C47: Místo: | L47: =IF(K8="","",K8) -> CHORATICE | AI47: Datum: | AM47: =IF(AN8= "","",AN8) -> 7. 7. 2026
C49: Zadavatel: | L49: =IF(E11= "","",E11) -> OBEC MALŠOVICE | AI49: Projektant: | AM49: =IF(E17="","",E17) -> bez PD | AS49: Informatívní údaje z listů zakázek
C50: Účastník: | L50: =IF(E14= "Vyplň údaj","",E14) | AI50: Zpracovatel: | AM50: =IF(E20="","",E20) -> Nina Blavková Děčín
C52: Kód | I52: Popis | AG52: Cena bez DPH [CZK] | AN52: Cena s DPH [CZK] | AQ52: Typ | AS52: z toho Ostat._x000D_ náklady [CZK] | AT52: DPH [CZK] | AU52: Normohodiny [h] | AV52: DPH základní [CZK] | AW52: DPH snížená [CZK] | AX52: DPH základní přenesená_x000D_ [CZK] | AY52: DPH snížená přenesená_x000D_ [CZK] | AZ52: Základna_x000D_ DPH základní | BA52: Základna_x000D_ DPH snížená | BB52: Základna_x000D_ DPH zákl. přenesená | BC52: Základna_x000D_ DPH sníž. přenesená | BD52: Základna_x000D_ DPH nulová
C54: Náklady stavby celkem | AG54: =ROUND(SUM(AG55:AG57),1) -> 0 | AN54: =SUM(AG54,AT54) -> 0 | AS54: =ROUND(SUM(AS55:AS57),1) -> 0 | AT54: =ROUND(SUM(AV54:AW54),1) -> 0 | AU54: =ROUND(SUM(AU55:AU57),5) -> 0 | AV54: =ROUND(AZ54*L29,1) -> 0 | AW54: =ROUND(BA54*L30,1) -> 0 | AX54: =ROUND(BB54*L29,1) -> 0 | AY54: =ROUND(BC54*L30,1) -> 0 | AZ54: =ROUND(SUM(AZ55:AZ57),1) -> 0 | BA54: =ROUND(SUM(BA55:BA57),1) -> 0 | BB54: =ROUND(SUM(BB55:BB57),1) -> 0 | BC54: =ROUND(SUM(BC55:BC57),1) -> 0 | BD54: =ROUND(SUM(BD55:BD57),1) -> 0 | BS54: D | BT54: 0 | BU54: ###NOIMPORT### | BV54: IMPORT | BW54: {1b2ffc57-909e-4e09-b0c7-283b3b5c4d16} | BX54: {00000000-0000-0000-0000-000000000000}
A55: / | D55: 01 | J55: STAVEBNÍ ČÁST | AG55: ='01 - STAVEBNÍ ČÁST'!J30 -> 0 | AN55: =SUM(AG55,AT55) -> 0 | AQ55: STA | AS55: 0 | AT55: =ROUND(SUM(AV55:AW55),1) -> 0 | AU55: ='01 - STAVEBNÍ ČÁST'!P100 -> 0 | AV55: ='01 - STAVEBNÍ ČÁST'!J33 -> 0 | AW55: ='01 - STAVEBNÍ ČÁST'!J34 -> 0 | AX55: ='01 - STAVEBNÍ ČÁST'!J35 -> 0 | AY55: ='01 - STAVEBNÍ ČÁST'!J36 -> 0 | AZ55: ='01 - STAVEBNÍ ČÁST'!F33 -> 0 | BA55: ='01 - STAVEBNÍ ČÁST'!F34 -> 0 | BB55: ='01 - STAVEBNÍ ČÁST'!F35 -> 0 | BC55: ='01 - STAVEBNÍ ČÁST'!F36 -> 0 | BD55: ='01 - STAVEBNÍ ČÁST'!F37 -> 0 | BT55: 1 | BV55: IMPORT | BW55: {d999c85d-2369-4563-84b1-dcf38876c5fa} | BX55: {1b2ffc57-909e-4e09-b0c7-283b3b5c4d16} | CM55: 1
A56: / | D56: 02 | J56: ZDRAVOTECHNICKÉ INSTALACE, VYTÁPĚNÍ, ELEKTROINSTALCE | AG56: ='02 - ZDRAVOTECHNICKÉ INST...'!J30 -> 0 | AN56: =SUM(AG56,AT56) -> 0 | AQ56: STA | AS56: 0 | AT56: =ROUND(SUM(AV56:AW56),1) -> 0 | AU56: ='02 - ZDRAVOTECHNICKÉ INST...'!P85 -> 0 | AV56: ='02 - ZDRAVOTECHNICKÉ INST...'!J33 -> 0 | AW56: ='02 - ZDRAVOTECHNICKÉ INST...'!J34 -> 0 | AX56: ='02 - ZDRAVOTECHNICKÉ INST...'!J35 -> 0 | AY56: ='02 - ZDRAVOTECHNICKÉ INST...'!J36 -> 0 | AZ56: ='02 - ZDRAVOTECHNICKÉ INST...'!F33 -> 0 | BA56: ='02 - ZDRAVOTECHNICKÉ INST...'!F34 -> 0 | BB56: ='02 - ZDRAVOTECHNICKÉ INST...'!F35 -> 0 | BC56: ='02 - ZDRAVOTECHNICKÉ INST...'!F36 -> 0 | BD56: ='02 - ZDRAVOTECHNICKÉ INST...'!F37 -> 0 | BT56: 1 | BV56: IMPORT | BW56: {2d21599a-808f-4121-86ee-cdc9a6ec629d} | BX56: {1b2ffc57-909e-4e09-b0c7-283b3b5c4d16} | CM56: 1
...

Sheet 01 - STAVEBNÍ ČÁST
AT2: {d999c85d-2369-4563-84b1-dcf38876c5fa}
AT3: 1
D4: KRYCÍ LIST SOUPISU PRACÍ | M4: v --- níže se nacházejí doplnkové a pomocné údaje k sestavám --- v | AT4: False
D6: Stavba:
E7: ='Rekapitulace stavby'!K6 -> REKONSTRUKCE KOUPELNY NA BEZBARIÉROVOU - BYT CHORATICE Č.P. 44
D8: Objekt:
E9: 01 - STAVEBNÍ ČÁST
D11: KSO: | I11: CC-CZ:
D12: Místo: | F12: CHORATICE | I12: Datum: | J12: ='Rekapitulace stavby'!AN8 -> 7. 7. 2026
D14: Zadavatel: | I14: IČ:
E15: OBEC MALŠOVICE | I15: DIČ:
D17: Účastník: | I17: IČ: | J17: ='Rekapitulace stavby'!AN13 -> Vyplň údaj
E18: ='Rekapitulace stavby'!E14 -> Vyplň údaj | I18: DIČ: | J18: ='Rekapitulace stavby'!AN14 -> Vyplň údaj
D20: Projektant: | I20: IČ:
E21: bez PD | I21: DIČ:
D23: Zpracovatel: | I23: IČ:
E24: Nina Blavková Děčín | I24: DIČ:
D26: Poznámka:
E27: Soupis prací je sestaven s využitím Cenové soustavy ÚRS. Položky, které pochází z této cenové soustavy, jsou ve sloupci 'Cenová soustava' označeny popisem 'CS ÚRS' a úrovní příslušného kalendářního pololetí. Veškeré další informace vymezující popis a podmínky použití těchto položek z Cenové soustavy, které nejsou uvedeny přímo v soupisu prací, jsou neomezeně dálkově k dispozici na webu podminky.urs.cz.
D30: Cena bez DPH | J30: =ROUND(J100, 1) -> 0
F32: Základ daně | I32: Sazba daně | J32: Výše daně
D33: DPH | E33: základní | F33: =ROUND((SUM(BE100:BE532)), 1) -> 0 | I33: 0.21 | J33: =ROUND(((SUM(BE100:BE532))*I33), 1) -> 0
E34: snížená | F34: =ROUND((SUM(BF100:BF532)), 1) -> 0 | I34: 0.12 | J34: =ROUND(((SUM(BF100:BF532))*I34), 1) -> 0
E35: zákl. přenesená | F35: =ROUND((SUM(BG100:BG532)), 1) -> 0 | I35: 0.21 | J35: =0 -> 0
E36: sníž. přenesená | F36: =ROUND((SUM(BH100:BH532)), 1) -> 0 | I36: 0.12 | J36: =0 -> 0
E37: nulová | F37: =ROUND((SUM(BI100:BI532)), 1) -> 0 | I37: 0 | J37: =0 -> 0
D39: Cena s DPH | G39: v | H39: CZK | J39: =SUM(J30:J37) -> 0
C45: REKAPITULACE ČLENĚNÍ SOUPISU PRACÍ
C47: Stavba:
E48: =E7 -> REKONSTRUKCE KOUPELNY NA BEZBARIÉROVOU - BYT CHORATICE Č.P. 44
C49: Objekt:
E50: =E9 -> 01 - STAVEBNÍ ČÁST
C52: Místo: | F52: =F12 -> CHORATICE | I52: Datum: | J52: =IF(J12="","",J12) -> 7. 7. 2026
C54: Zadavatel: | F54: =E15 -> OBEC MALŠOVICE | I54: Projektant: | J54: =E21 -> bez PD
C55: Účastník: | F55: =IF(E18="","",E18) -> Vyplň údaj | I55: Zpracovatel: | J55: =E24 -> Nina Blavková Děčín
C57: Kód dílu - Popis | J57: Cena celkem [CZK]
C59: Náklady stavby celkem | J59: =J100 -> 0 | AU59: -1
D60: HSV - Práce a dodávky HSV | J60: =J101 -> 0
D61: 3 - Svislé a kompletní konstrukce | J61: =J102 -> 0
D62: 31 - Zdi pozemních staveb | J62: =J103 -> 0
...

Sheet 02 - ZDRAVOTECHNICKÉ INST...
AT2: {2d21599a-808f-4121-86ee-cdc9a6ec629d}
AT3: 1
D4: KRYCÍ LIST SOUPISU PRACÍ | M4: v --- níže se nacházejí doplnkové a pomocné údaje k sestavám --- v | AT4: False
D6: Stavba:
E7: ='Rekapitulace stavby'!K6 -> REKONSTRUKCE KOUPELNY NA BEZBARIÉROVOU - BYT CHORATICE Č.P. 44
D8: Objekt:
E9: 02 - ZDRAVOTECHNICKÉ INSTALACE, VYTÁPĚNÍ, ELEKTROINSTALCE
D11: KSO: | I11: CC-CZ:
D12: Místo: | F12: CHORATICE | I12: Datum: | J12: ='Rekapitulace stavby'!AN8 -> 7. 7. 2026
D14: Zadavatel: | I14: IČ:
E15: OBEC MALŠOVICE | I15: DIČ:
D17: Účastník: | I17: IČ: | J17: ='Rekapitulace stavby'!AN13 -> Vyplň údaj
E18: ='Rekapitulace stavby'!E14 -> Vyplň údaj | I18: DIČ: | J18: ='Rekapitulace stavby'!AN14 -> Vyplň údaj
D20: Projektant: | I20: IČ:
E21: bez PD | I21: DIČ:
D23: Zpracovatel: | I23: IČ:
E24: Nina Blavková Děčín | I24: DIČ:
D26: Poznámka:
E27: Soupis prací je sestaven s využitím Cenové soustavy ÚRS. Položky, které pochází z této cenové soustavy, jsou ve sloupci 'Cenová soustava' označeny popisem 'CS ÚRS' a úrovní příslušného kalendářního pololetí. Veškeré další informace vymezující popis a podmínky použití těchto položek z Cenové soustavy, které nejsou uvedeny přímo v soupisu prací, jsou neomezeně dálkově k dispozici na webu podminky.urs.cz.
D30: Cena bez DPH | J30: =ROUND(J85, 1) -> 0
F32: Základ daně | I32: Sazba daně | J32: Výše daně
D33: DPH | E33: základní | F33: =ROUND((SUM(BE85:BE252)), 1) -> 0 | I33: 0.21 | J33: =ROUND(((SUM(BE85:BE252))*I33), 1) -> 0
E34: snížená | F34: =ROUND((SUM(BF85:BF252)), 1) -> 0 | I34: 0.12 | J34: =ROUND(((SUM(BF85:BF252))*I34), 1) -> 0
E35: zákl. přenesená | F35: =ROUND((SUM(BG85:BG252)), 1) -> 0 | I35: 0.21 | J35: =0 -> 0
E36: sníž. přenesená | F36: =ROUND((SUM(BH85:BH252)), 1) -> 0 | I36: 0.12 | J36: =0 -> 0
E37: nulová | F37: =ROUND((SUM(BI85:BI252)), 1) -> 0 | I37: 0 | J37: =0 -> 0
D39: Cena s DPH | G39: v | H39: CZK | J39: =SUM(J30:J37) -> 0
C45: REKAPITULACE ČLENĚNÍ SOUPISU PRACÍ
C47: Stavba:
E48: =E7 -> REKONSTRUKCE KOUPELNY NA BEZBARIÉROVOU - BYT CHORATICE Č.P. 44
C49: Objekt:
E50: =E9 -> 02 - ZDRAVOTECHNICKÉ INSTALACE, VYTÁPĚNÍ, ELEKTROINSTALCE
C52: Místo: | F52: =F12 -> CHORATICE | I52: Datum: | J52: =IF(J12="","",J12) -> 7. 7. 2026
C54: Zadavatel: | F54: =E15 -> OBEC MALŠOVICE | I54: Projektant: | J54: =E21 -> bez PD
C55: Účastník: | F55: =IF(E18="","",E18) -> Vyplň údaj | I55: Zpracovatel: | J55: =E24 -> Nina Blavková Děčín
C57: Kód dílu - Popis | J57: Cena celkem [CZK]
C59: Náklady stavby celkem | J59: =J85 -> 0 | AU59: -1
D60: PSV - Práce a dodávky PSV | J60: =J86 -> 0
D61: 721 - Zdravotechnika - vnitřní kanalizace | J61: =J87 -> 0
D62: 722 - Zdravotechnika - vnitřní vodovod | J62: =J127 -> 0
...

Sheet 03 - VEDLEJŠÍ ROZPOČTOVÉ ...
AT2: {c3240469-ab11-4058-9edc-dddb086d7f6d}
AT3: 1
D4: KRYCÍ LIST SOUPISU PRACÍ | M4: v --- níže se nacházejí doplnkové a pomocné údaje k sestavám --- v | AT4: False
D6: Stavba:
E7: ='Rekapitulace stavby'!K6 -> REKONSTRUKCE KOUPELNY NA BEZBARIÉROVOU - BYT CHORATICE Č.P. 44
D8: Objekt:
E9: 03 - VEDLEJŠÍ ROZPOČTOVÉ NÁKLADY
D11: KSO: | I11: CC-CZ:
D12: Místo: | F12: CHORATICE | I12: Datum: | J12: ='Rekapitulace stavby'!AN8 -> 7. 7. 2026
D14: Zadavatel: | I14: IČ:
E15: OBEC MALŠOVICE | I15: DIČ:
D17: Účastník: | I17: IČ: | J17: ='Rekapitulace stavby'!AN13 -> Vyplň údaj
E18: ='Rekapitulace stavby'!E14 -> Vyplň údaj | I18: DIČ: | J18: ='Rekapitulace stavby'!AN14 -> Vyplň údaj
D20: Projektant: | I20: IČ:
E21: bez PD | I21: DIČ:
D23: Zpracovatel: | I23: IČ:
E24: Nina Blavková Děčín | I24: DIČ:
D26: Poznámka:
E27: Soupis prací je sestaven s využitím Cenové soustavy ÚRS. Položky, které pochází z této cenové soustavy, jsou ve sloupci 'Cenová soustava' označeny popisem 'CS ÚRS' a úrovní příslušného kalendářního pololetí. Veškeré další informace vymezující popis a podmínky použití těchto položek z Cenové soustavy, které nejsou uvedeny přímo v soupisu prací, jsou neomezeně dálkově k dispozici na webu podminky.urs.cz.
D30: Cena bez DPH | J30: =ROUND(J80, 1) -> 0
F32: Základ daně | I32: Sazba daně | J32: Výše daně
D33: DPH | E33: základní | F33: =ROUND((SUM(BE80:BE83)), 1) -> 0 | I33: 0.21 | J33: =ROUND(((SUM(BE80:BE83))*I33), 1) -> 0
E34: snížená | F34: =ROUND((SUM(BF80:BF83)), 1) -> 0 | I34: 0.12 | J34: =ROUND(((SUM(BF80:BF83))*I34), 1) -> 0
E35: zákl. přenesená | F35: =ROUND((SUM(BG80:BG83)), 1) -> 0 | I35: 0.21 | J35: =0 -> 0
E36: sníž. přenesená | F36: =ROUND((SUM(BH80:BH83)), 1) -> 0 | I36: 0.12 | J36: =0 -> 0
E37: nulová | F37: =ROUND((SUM(BI80:BI83)), 1) -> 0 | I37: 0 | J37: =0 -> 0
D39: Cena s DPH | G39: v | H39: CZK | J39: =SUM(J30:J37) -> 0
C45: REKAPITULACE ČLENĚNÍ SOUPISU PRACÍ
C47: Stavba:
E48: =E7 -> REKONSTRUKCE KOUPELNY NA BEZBARIÉROVOU - BYT CHORATICE Č.P. 44
C49: Objekt:
E50: =E9 -> 03 - VEDLEJŠÍ ROZPOČTOVÉ NÁKLADY
C52: Místo: | F52: =F12 -> CHORATICE | I52: Datum: | J52: =IF(J12="","",J12) -> 7. 7. 2026
C54: Zadavatel: | F54: =E15 -> OBEC MALŠOVICE | I54: Projektant: | J54: =E21 -> bez PD
C55: Účastník: | F55: =IF(E18="","",E18) -> Vyplň údaj | I55: Zpracovatel: | J55: =E24 -> Nina Blavková Děčín
C57: Kód dílu - Popis | J57: Cena celkem [CZK]
C59: Náklady stavby celkem | J59: =J80 -> 0 | AU59: -1
D60: VRN - Vedlejší rozpočtové náklady | J60: =J81 -> 0
C67: SOUPIS PRACÍ
C69: Stavba:
...

Sheet Pokyny pro vyplnění
C3: Struktura údajů, formát souboru a metodika pro zpracování
C4: Struktura
C6: Soubor je složen ze záložky Rekapitulace stavby a záložek s názvem soupisu prací pro jednotlivé objekty ve formátu XLSX. Každá ze záložek přitom obsahuje
C7: ještě samostatné sestavy vymezené orámovaním a nadpisem sestavy.
C9: Rekapitulace stavby obsahuje sestavu Rekapitulace stavby a Rekapitulace objektů stavby a soupisů prací.
D10: V sestavě Rekapitulace stavby jsou uvedeny informace identifikující předmět veřejné zakázky na stavební práce, KSO, CC-CZ, CZ-CPV, CZ-CPA a rekapitulaci
D11: celkové nabídkové ceny účastníka.
D13: Termínem "učastník" (resp. zhotovitel) se myslí "účastník zadávacího řízení" ve smyslu zákona o zadávání veřejných zakázek.
D15: V sestavě Rekapitulace objektů stavby a soupisů prací je uvedena rekapitulace stavebních objektů, inženýrských objektů, provozních souborů,
D16: vedlejších a ostatních nákladů a ostatních nákladů s rekapitulací nabídkové ceny za jednotlivé soupisy prací. Na základě údaje Typ je možné
D17: identifikovat, zda se jedná o objekt nebo soupis prací pro daný objekt:
E18: STA | F18: Stavební objekt pozemní
E19: ING | F19: Stavební objekt inženýrský
E20: PRO | F20: Provozní soubor
E21: VON | F21: Vedlejší a ostatní náklady
E22: OST | F22: Ostatní
E23: Soupis | F23: Soupis prací pro daný typ objektu
C25: Soupis prací pro jednotlivé objekty obsahuje sestavy Krycí list soupisu prací, Rekapitulace členění soupisu prací, Soupis prací. Za soupis prací může být považován
C26: i objekt stavby v případě, že neobsahuje podřízenou zakázku.
D27: Krycí list soupisu obsahuje rekapitulaci informací o předmětu veřejné zakázky ze sestavy Rekapitulace stavby, informaci o zařazení objektu do KSO,
D28: CC-CZ, CZ-CPV, CZ-CPA a rekapitulaci celkové nabídkové ceny účastníka za aktuální soupis prací.
D30: Rekapitulace členění soupisu prací obsahuje rekapitulaci soupisu prací ve všech úrovních členění soupisu tak, jak byla tato členění použita (např.
D31: stavební díly, funkční díly, případně jiné členění) s rekapitulací nabídkové ceny.
D33: Soupis prací obsahuje položky veškerých stavebních nebo montážních prací, dodávek materiálů a služeb nezbytných pro zhotovení stavebního objektu,
D34: inženýrského objektu, provozního souboru, vedlejších a ostatních nákladů.
D35: Pro položky soupisu prací se zobrazují následující informace:
E36: PČ | G36: Pořadové číslo položky v aktuálním soupisu
E37: TYP | G37: Typ položky: K - konstrukce, M - materiál, PP - plný popis, PSC - poznámka k souboru cen, P - poznámka k položce, VV - výkaz výměr, FIG - rozpad figur
E38: Kód | G38: Kód položky
E39: Popis | G39: Zkrácený popis položky
E40: MJ | G40: Měrná jednotka položky
E41: Množství | G41: Množství v měrné jednotce
E42: J.cena | G42: Jednotková cena položky. Zadaní může obsahovat namísto J.ceny sloupce J.materiál a J.montáž, jejichž součet definuje
G43: J.cenu položky.
E44: Cena celkem | G44: Celková cena položky daná jako součin množství a j.ceny
E45: Cenová soustava | G45: Příslušnost položky do cenové soustavy
D47: Ke každé položce soupisu prací se na samostatných řádcích může zobrazovat:
E48: Plný popis položky
E49: Poznámka k souboru cen a poznámka zadavatele
E50: Výkaz výměr
...
