Workbook
Name Items: 'SO.11 - AREÁLOVÉ KOMUNIKACE A Z'!#REF!
Name Items: 'SO.11-D - Molo a pódium'!#REF!
Name Items: 'SO.11-M - MOSTKY'!#REF!
Name Items: 'SO.12-K - Kácení'!#REF!
Name Items: 'SO.12-N - Nové sadové úpravy'!#REF!
Name Items: 'SO.12-Z - Závlaha'!#REF!
Name Items: 'SO.13 - OPLOCENÍ, MOBILIÁŘ'!#REF!
Name Items: 'SO.19 - Zařízení staveniště'!#REF!
Name Items: 'SO.21 - NN ROZVODY'!#REF!
Name Items: 'SO.22 - Kanalizační přípojka'!#REF!
Name Items: 'SO.23 - DEŠŤOVÉ KANALIZACE A PŘ'!#REF!
Name Items: 'SO.24 - Vodovodní přípojka'!#REF!
Name Items: 'SO.25 - Veřejné osvětlení'!#REF!
Name Items: 'SO.J - Retenční nádrž'!#REF!
Name Items: 'SO.K - Altán'!#REF!
Name Items: 'SO.K zdi - Archeologická prezen'!#REF!
Name Items: 'SO.L. - Dětské hřiště'!#REF!
Name Items: 'SO.10 - ÚPRAVA VEŘEJNÉ KOMUNIKA'!#REF!

Sheet Rekapitulace stavby
A1: Export Komplet | AZ1: VZ | BA1: 2.0 | BB1: ZAMOK | BU1: FALSE | BV1: {00015ee4-0000-0000-0000-000000000000}
AR2: >> skryté sloupce << | BS2: 0.01 | BT2: 21
BS3: 0.01 | BT3: 12
D4: REKAPITULACE STAVBY | AS4: v --- níže se nacházejí doplnkové a pomocné údaje k sestavám --- v | BE4: Návod na vyplnění | BS4: 0.001
D5: Kód: | K5: Klucov | BE5: Měnit lze pouze buňky se žlutým podbarvením!_x000D_ _x000D_ 1) na prvním listu Rekapitulace stavby vyplňte v sestavě_x000D_ _x000D_ a) Souhrnný list_x000D_ - údaje o Uchazeči_x000D_ (přenesou se do ostatních sestav i v jiných listech)_x000D_ _x000D_ b) Rekapitulace objektů_x000D_ - potřebné Ostatní náklady_x000D_ _x000D_ 2) na vybraných listech vyplňte v sestavě_x000D_ _x000D_ a) Krycí list_x000D_ - údaje o Uchazeči, pokud se liší od údajů o Uchazeči na Souhrnném listu_x000D_ (údaje se přenesou do ostatních sestav v daném listu)_x000D_ _x000D_ b) Rekapitulace rozpočtu_x000D_ - potřebné Ostatní náklady_x000D_ _x000D_ c) Celkové náklady za stavbu_x000D_ - ceny u položek_x000D_ - množství, pokud má žluté podbarvení_x000D_ - a v případě potřeby poznámku (ta je ve skrytém sloupci) | BS5: 0.01
D6: Stavba: | K6: REVITALIZACE ZÁMECKÉHO PARKU ‐ TVRZIŠTĚ KLUČOV | BS6: 0.01 | CP6: REVITALIZACE ZÁMECKÉHO PARKU ‐ TVRZIŠTĚ KLUČOV
D7: KSO: | AK7: CZ-CC: | BS7: 0.01
D8: Místo: | AK8: Datum: | AN8: 46300 | BS8: 0.01
BS9: 0.01
D10: Zadavatel: | AK10: IČ: | AN10: 00235431 | BS10: 0.01
E11: Obec Klučov | AK11: DIČ: | BS11: 0.01
BS12: 0.01
D13: Zhotovitel: | AK13: IČ: | AN13: Vyplň údaj | BS13: 0.01
E14: Vyplň údaj | AK14: DIČ: | AN14: Vyplň údaj | BS14: 0.01
BS15: FALSE
D16: Projektant: | AK16: IČ: | BS16: FALSE
E17: Studio Anarchitekt s.r.o. | AK17: DIČ: | BS17: FALSE
BS18: 0.01
D19: Zpracovatel: | AK19: IČ: | AN19: 05649358 | BS19: 0.01
E20: Ing. Theodor Collino | AK20: DIČ: | AN20: CZ8201043686 | BS20: TRUE
BS21: FALSE
D22: Poznámka:
D26: Cena bez DPH | AK26: =ROUND(AG90,2) -> 0
L28: Sazba daně | W28: Základ daně | AK28: Výše daně
D29: DPH | F29: základní | L29: 0.21 | W29: =ROUND(AZ90,2) -> 0 | AK29: =ROUND(AV90,2) -> 0
D31: Cena s DPH | T31: v | X31: CZK | AK31: =SUM(AK26:AK29) -> 0
D45: Projektant: | AH45: Zpracovatel:
D56: Datum a podpis: | V56: Razítko | AH56: Datum a podpis: | AM56: Razítko
D60: Zadavatel: | AH60: Zhotovitel:
D71: Datum a podpis: | V71: Razítko | AH71: Datum a podpis: | AM71: Razítko
C78: REKAPITULACE OBJEKTŮ STAVBY A SOUPISŮ PRACÍ
C80: Kód | L80: =K5 -> Klucov
C81: Stavba: | L81: =K6 -> REVITALIZACE ZÁMECKÉHO PARKU ‐ TVRZIŠTĚ KLUČOV | CQ81: =CP6 -> REVITALIZACE ZÁMECKÉHO PARKU ‐ TVRZIŠTĚ KLUČOV
C83: Místo: | L83: =IF(K8="","",K8) | AI83: Datum: | AM83: =AN8 -> 46300
C85: Zadavatel: | L85: =IF(E11= "","",E11) -> Obec Klučov | AI85: Projektant: | AM85: =IF($E17="","",$E17) -> Studio Anarchitekt s.r.o. | AS85: Informatívní údaje z listů zakázek | CO85: =IF($E17="","",$E17) -> Studio Anarchitekt s.r.o.
C86: Zhotovitel: | L86: =IF(E14="Vyplň údaj","",E14) | AI86: Zpracovatel: | AM86: =IF($E20="","",$E20) -> Ing. Theodor Collino | CO86: =IF($E20="","",$E20) -> Ing. Theodor Collino
C88: Kód | I88: Popis | AG88: Cena bez DPH [CZK] | AN88: Cena s DPH [CZK] | AQ88: Typ | AS88: z toho Ostat. náklady [CZK] | AT88: DPH [CZK] | AU88: Nh celkem [h] | AV88: DPH základní [CZK] | AW88: DPH snížená [CZK] | AX88: DPH základní přenesená [CZK] | AY88: DPH snížená přenesená [CZK] | AZ88: Základna DPH základní | BA88: Základna DPH snížená | BB88: Základna DPH zákl. přenesená | BC88: Základna DPH sníž. přenesená | BD88: Základna DPH nulová
C90: Náklady soupisu celkem | AG90: =AG91 + AG92 + AG96 + AG100 + AG101 + AG102 + AG103 + AG104 + AG105 + AG106 + AG107 + AG108 + AG111 -> 0 | AN90: =AG90 + AT90 -> 0 | AS90: =AS91 + AS92 + AS96 + AS100 + AS101 + AS102 + AS103 + AS104 + AS105 + AS106 + AS107 + AS108 + AS111 -> 0 | AT90: =AV90+AW90 -> 0 | AU90: =ROUND(AU91 + AU92 + AU96 + AU100 + AU101 + AU102 + AU103 + AU104 + AU105 + AU106 + AU107 + AU108 + AU111,3) -> 0 | AV90: =ROUND(L29 * AZ90,2) -> 0 | AW90: =0 -> 0 | AX90: =0 -> 0 | AY90: =0 -> 0 | AZ90: =AZ91 + AZ92 + AZ96 + AZ100 + AZ101 + AZ102 + AZ103 + AZ104 + AZ105 + AZ106 + AZ107 + AZ108 + AZ111 -> 0 | BA90: =BA91 + BA92 + BA96 + BA100 + BA101 + BA102 + BA103 + BA104 + BA105 + BA106 + BA107 + BA108 + BA111 -> 0 | BB90: =BB91 + BB92 + BB96 + BB100 + BB101 + BB102 + BB103 + BB104 + BB105 + BB106 + BB107 + BB108 + BB111 -> 0 | BC90: =BC91 + BC92 + BC96 + BC100 + BC101 + BC102 + BC103 + BC104 + BC105 + BC106 + BC107 + BC108 + BC111 -> 0 | BD90: =BD91 + BD92 + BD96 + BD100 + BD101 + BD102 + BD103 + BD104 + BD105 + BD106 + BD107 + BD108 + BD111 -> 0 | BS90: D | BT90: 0 | BU90: ###NOIMPORT### | BV90: IMPORT | BW90: {00b0d1d7-0000-0000-0000-000000000000} | BX90: {00000000-0000-0000-0000-000000000000}
A91: / | D91: SO.10 | J91: ÚPRAVA VEŘEJNÉ KOMUNIKACE | AG91: ='SO.10 - ÚPRAVA VEŘEJNÉ KOMUNIKA'!J30 -> 0 | AN91: =AG91 + AT91 -> 0 | AQ91: STA | AS91: 0 | AT91: =AV91 + AW91 -> 0 | AU91: ='SO.10 - ÚPRAVA VEŘEJNÉ KOMUNIKA'!P120 -> 0 | AV91: =ROUND(L29 * AZ91,2) -> 0 | AW91: =0 -> 0 | AX91: =0 -> 0 | AY91: =0 -> 0 | AZ91: ='SO.10 - ÚPRAVA VEŘEJNÉ KOMUNIKA'!F33 -> 0 | BA91: 0 | BB91: 0 | BC91: 0 | BD91: 0 | BT91: 1 | BV91: IMPORT | BW91: {00b0d1d8-0000-0000-0000-000000000000} | BX91: {00b0d1d7-0000-0000-0000-000000000000} | CM91: 2 | CR91: ÚPRAVA VEŘEJNÉ KOMUNIKACE
D92: SO.11 | J92: AREÁLOVÉ KOMUNIKACE A ZPEVNĚNÉ PLOCHY | AG92: =AG93 + AG94 + AG95 -> 0 | AN92: =AG92 + AT92 -> 0 | AQ92: STA | AS92: =AS93 + AS94 + AS95 -> 0 | AT92: =AV92 + AW92 -> 0 | AU92: =ROUND(AU93 + AU94 + AU95,3) -> 0 | AV92: =ROUND(L29 * AZ92,2) -> 0 | AW92: =0 -> 0 | AX92: =0 -> 0 | AY92: =0 -> 0 | AZ92: =AZ93 + AZ94 + AZ95 -> 0 | BA92: =BA93 + BA94 + BA95 -> 0 | BB92: =BB93 + BB94 + BB95 -> 0 | BC92: =BC93 + BC94 + BC95 -> 0 | BD92: =BD93 + BD94 + BD95 -> 0 | BS92: D | BT92: 1 | BV92: IMPORT | BW92: {00b0d1d9-0000-0000-0000-000000000000} | BX92: {00b0d1d7-0000-0000-0000-000000000000} | CM92: 2 | CS92: AREÁLOVÉ KOMUNIKACE A ZPEVNĚNÉ PLOCHY
A93: / | E93: SO.11 | K93: AREÁLOVÉ KOMUNIKACE A ZPEVNĚNÉ PLOCHY | AG93: ='SO.11 - AREÁLOVÉ KOMUNIKACE A Z'!J30 -> 0 | AN93: =AG93 + AT93 -> 0 | AQ93: Soupis | AS93: 0 | AT93: =AV93 + AW93 -> 0 | AU93: ='SO.11 - AREÁLOVÉ KOMUNIKACE A Z'!P114 -> 0 | AV93: =ROUND(L29 * AZ93,2) -> 0 | AW93: =0 -> 0 | AX93: =0 -> 0 | AY93: =0 -> 0 | AZ93: ='SO.11 - AREÁLOVÉ KOMUNIKACE A Z'!F33 -> 0 | BA93: 0 | BB93: 0 | BC93: 0 | BD93: 0 | BT93: 2 | BU93: ###NOINSERT### | BV93: IMPORT | BW93: {00b0d1d9-0000-0000-0000-000000000000} | BX93: {00b0d1d7-0000-0000-0000-000000000000} | CM93: 2 | CT93: AREÁLOVÉ KOMUNIKACE A ZPEVNĚNÉ PLOCHY
A94: / | E94: SO.11-D | K94: Molo a pódium | AG94: ='SO.11-D - Molo a pódium'!J32 -> 0 | AN94: =AG94 + AT94 -> 0 | AQ94: Soupis | AS94: 0 | AT94: =AV94 + AW94 -> 0 | AU94: ='SO.11-D - Molo a pódium'!P116 -> 0 | AV94: =ROUND(L29 * AZ94,2) -> 0 | AW94: =0 -> 0 | AX94: =0 -> 0 | AY94: =0 -> 0 | AZ94: ='SO.11-D - Molo a pódium'!F35 -> 0 | BA94: 0 | BB94: 0 | BC94: 0 | BD94: 0 | BT94: 2 | BV94: IMPORT | BW94: {00b0d1da-0000-0000-0000-000000000000} | BX94: {00b0d1d9-0000-0000-0000-000000000000} | CM94: 2 | CU94: Molo a pódium
A95: / | E95: SO.11-M | K95: MOSTKY | AG95: ='SO.11-M - MOSTKY'!J32 -> 0 | AN95: =AG95 + AT95 -> 0 | AQ95: Soupis | AS95: 0 | AT95: =AV95 + AW95 -> 0 | AU95: ='SO.11-M - MOSTKY'!P119 -> 0 | AV95: =ROUND(L29 * AZ95,2) -> 0 | AW95: =0 -> 0 | AX95: =0 -> 0 | AY95: =0 -> 0 | AZ95: ='SO.11-M - MOSTKY'!F35 -> 0 | BA95: 0 | BB95: 0 | BC95: 0 | BD95: 0 | BT95: 2 | BV95: IMPORT | BW95: {00b0d1db-0000-0000-0000-000000000000} | BX95: {00b0d1d9-0000-0000-0000-000000000000} | CM95: 2 | CV95: MOSTKY
D96: SO.12 | J96: SADOVÉ ÚPRAVY A ZÁVLAHA | AG96: =AG97 + AG98 + AG99 -> 0 | AN96: =AG96 + AT96 -> 0 | AQ96: STA | AS96: =AS97 + AS98 + AS99 -> 0 | AT96: =AV96 + AW96 -> 0 | AU96: =ROUND(AU97 + AU98 + AU99,3) -> 0 | AV96: =ROUND(L29 * AZ96,2) -> 0 | AW96: =0 -> 0 | AX96: =0 -> 0 | AY96: =0 -> 0 | AZ96: =AZ97 + AZ98 + AZ99 -> 0 | BA96: =BA97 + BA98 + BA99 -> 0 | BB96: =BB97 + BB98 + BB99 -> 0 | BC96: =BC97 + BC98 + BC99 -> 0 | BD96: =BD97 + BD98 + BD99 -> 0 | BS96: D | BT96: 1 | BU96: ###NOIMPORT### | BV96: IMPORT | BW96: {00b0d1dc-0000-0000-0000-000000000000} | BX96: {00b0d1d7-0000-0000-0000-000000000000} | CM96: 2 | CW96: SADOVÉ ÚPRAVY A ZÁVLAHA
A97: / | E97: SO.12-K | K97: Kácení | AG97: ='SO.12-K - Kácení'!J32 -> 0 | AN97: =AG97 + AT97 -> 0 | AQ97: Soupis | AS97: 0 | AT97: =AV97 + AW97 -> 0 | AU97: ='SO.12-K - Kácení'!P116 -> 0 | AV97: =ROUND(L29 * AZ97,2) -> 0 | AW97: =0 -> 0 | AX97: =0 -> 0 | AY97: =0 -> 0 | AZ97: ='SO.12-K - Kácení'!F35 -> 0 | BA97: 0 | BB97: 0 | BC97: 0 | BD97: 0 | BT97: 2 | BV97: IMPORT | BW97: {00b0d1dd-0000-0000-0000-000000000000} | BX97: {00b0d1dc-0000-0000-0000-000000000000} | CM97: 2 | CX97: Kácení
A98: / | E98: SO.12-N | K98: Nové sadové úpravy | AG98: ='SO.12-N - Nové sadové úpravy'!J32 -> 0 | AN98: =AG98 + AT98 -> 0 | AQ98: Soupis | AS98: 0 | AT98: =AV98 + AW98 -> 0 | AU98: ='SO.12-N - Nové sadové úpravy'!P120 -> 0 | AV98: =ROUND(L29 * AZ98,2) -> 0 | AW98: =0 -> 0 | AX98: =0 -> 0 | AY98: =0 -> 0 | AZ98: ='SO.12-N - Nové sadové úpravy'!F35 -> 0 | BA98: 0 | BB98: 0 | BC98: 0 | BD98: 0 | BT98: 2 | BV98: IMPORT | BW98: {00b0d1de-0000-0000-0000-000000000000} | BX98: {00b0d1dc-0000-0000-0000-000000000000} | CM98: 2 | CY98: Nové sadové úpravy
A99: / | E99: SO.12-Z | K99: Závlaha | AG99: ='SO.12-Z - Závlaha'!J32 -> 0 | AN99: =AG99 + AT99 -> 0 | AQ99: Soupis | AS99: 0 | AT99: =AV99 + AW99 -> 0 | AU99: ='SO.12-Z - Závlaha'!P116 -> 0 | AV99: =ROUND(L29 * AZ99,2) -> 0 | AW99: =0 -> 0 | AX99: =0 -> 0 | AY99: =0 -> 0 | AZ99: ='SO.12-Z - Závlaha'!F35 -> 0 | BA99: 0 | BB99: 0 | BC99: 0 | BD99: 0 | BT99: 2 | BV99: IMPORT | BW99: {00b0d1df-0000-0000-0000-000000000000} | BX99: {00b0d1dc-0000-0000-0000-000000000000} | CM99: 2 | CZ99: Závlaha
A100: / | D100: SO.13 | J100: OPLOCENÍ, MOBILIÁŘ | AG100: ='SO.13 - OPLOCENÍ, MOBILIÁŘ'!J30 -> 0 | AN100: =AG100 + AT100 -> 0 | AQ100: STA | AS100: 0 | AT100: =AV100 + AW100 -> 0 | AU100: ='SO.13 - OPLOCENÍ, MOBILIÁŘ'!P115 -> 0 | AV100: =ROUND(L29 * AZ100,2) -> 0 | AW100: =0 -> 0 | AX100: =0 -> 0 | AY100: =0 -> 0 | AZ100: ='SO.13 - OPLOCENÍ, MOBILIÁŘ'!F33 -> 0 | BA100: 0 | BB100: 0 | BC100: 0 | BD100: 0 | BT100: 1 | BV100: IMPORT | BW100: {00b0d1e0-0000-0000-0000-000000000000} | BX100: {00b0d1d7-0000-0000-0000-000000000000} | CM100: 2 | DA100: OPLOCENÍ, MOBILIÁŘ
A101: / | D101: SO.19 | J101: Zařízení staveniště | AG101: ='SO.19 - Zařízení staveniště'!J30 -> 0 | AN101: =AG101 + AT101 -> 0 | AQ101: STA | AS101: 0 | AT101: =AV101 + AW101 -> 0 | AU101: ='SO.19 - Zařízení staveniště'!P111 -> 0 | AV101: =ROUND(L29 * AZ101,2) -> 0 | AW101: =0 -> 0 | AX101: =0 -> 0 | AY101: =0 -> 0 | AZ101: ='SO.19 - Zařízení staveniště'!F33 -> 0 | BA101: 0 | BB101: 0 | BC101: 0 | BD101: 0 | BT101: 1 | BV101: IMPORT | BW101: {00b0d1e1-0000-0000-0000-000000000000} | BX101: {00b0d1d7-0000-0000-0000-000000000000} | CM101: 2 | DB101: Zařízení staveniště
A102: / | D102: SO.21 | J102: NN ROZVODY | AG102: ='SO.21 - NN ROZVODY'!J30 -> 0 | AN102: =AG102 + AT102 -> 0 | AQ102: STA | AS102: 0 | AT102: =AV102 + AW102 -> 0 | AU102: ='SO.21 - NN ROZVODY'!P115 -> 0 | AV102: =ROUND(L29 * AZ102,2) -> 0 | AW102: =0 -> 0 | AX102: =0 -> 0 | AY102: =0 -> 0 | AZ102: ='SO.21 - NN ROZVODY'!F33 -> 0 | BA102: 0 | BB102: 0 | BC102: 0 | BD102: 0 | BT102: 1 | BV102: IMPORT | BW102: {00b0d1e2-0000-0000-0000-000000000000} | BX102: {00b0d1d7-0000-0000-0000-000000000000} | CM102: 2 | DC102: NN ROZVODY
A103: / | D103: SO.22 | J103: Kanalizační přípojka | AG103: ='SO.22 - Kanalizační přípojka'!J30 -> 0 | AN103: =AG103 + AT103 -> 0 | AQ103: STA | AS103: 0 | AT103: =AV103 + AW103 -> 0 | AU103: ='SO.22 - Kanalizační přípojka'!P117 -> 0 | AV103: =ROUND(L29 * AZ103,2) -> 0 | AW103: =0 -> 0 | AX103: =0 -> 0 | AY103: =0 -> 0 | AZ103: ='SO.22 - Kanalizační přípojka'!F33 -> 0 | BA103: 0 | BB103: 0 | BC103: 0 | BD103: 0 | BT103: 1 | BV103: IMPORT | BW103: {00b12687-0000-0000-0000-000000000000} | BX103: {00b0d1d7-0000-0000-0000-000000000000} | CM103: 2 | DD103: Kanalizační přípojka
A104: / | D104: SO.23 | J104: DEŠŤOVÉ KANALIZACE A PŘÍPOJKY, AKUMULACE DEŠŤOVÝCH VOD, VSAK, ZÁVLAHA | AG104: ='SO.23 - DEŠŤOVÉ KANALIZACE A PŘ'!J30 -> 0 | AN104: =AG104 + AT104 -> 0 | AQ104: STA | AS104: 0 | AT104: =AV104 + AW104 -> 0 | AU104: ='SO.23 - DEŠŤOVÉ KANALIZACE A PŘ'!P111 -> 0 | AV104: =ROUND(L29 * AZ104,2) -> 0 | AW104: =0 -> 0 | AX104: =0 -> 0 | AY104: =0 -> 0 | AZ104: ='SO.23 - DEŠŤOVÉ KANALIZACE A PŘ'!F33 -> 0 | BA104: 0 | BB104: 0 | BC104: 0 | BD104: 0 | BT104: 1 | BV104: IMPORT | BW104: {00b0d1e3-0000-0000-0000-000000000000} | BX104: {00b0d1d7-0000-0000-0000-000000000000} | CM104: 2 | DE104: DEŠŤOVÉ KANALIZACE A PŘÍPOJKY, AKUMULACE DEŠŤOVÝCH VOD, VSAK, ZÁVLAHA
A105: / | D105: SO.24 | J105: Vodovodní přípojka | AG105: ='SO.24 - Vodovodní přípojka'!J30 -> 0 | AN105: =AG105 + AT105 -> 0 | AQ105: STA | AS105: 0 | AT105: =AV105 + AW105 -> 0 | AU105: ='SO.24 - Vodovodní přípojka'!P115 -> 0 | AV105: =ROUND(L29 * AZ105,2) -> 0 | AW105: =0 -> 0 | AX105: =0 -> 0 | AY105: =0 -> 0 | AZ105: ='SO.24 - Vodovodní přípojka'!F33 -> 0 | BA105: 0 | BB105: 0 | BC105: 0 | BD105: 0 | BT105: 1 | BV105: IMPORT | BW105: {00b0d1e4-0000-0000-0000-000000000000} | BX105: {00b0d1d7-0000-0000-0000-000000000000} | CM105: 2 | DF105: Vodovodní přípojka
A106: / | D106: SO.25 | J106: Veřejné osvětlení | AG106: ='SO.25 - Veřejné osvětlení'!J30 -> 0 | AN106: =AG106 + AT106 -> 0 | AQ106: STA | AS106: 0 | AT106: =AV106 + AW106 -> 0 | AU106: ='SO.25 - Veřejné osvětlení'!P113 -> 0 | AV106: =ROUND(L29 * AZ106,2) -> 0 | AW106: =0 -> 0 | AX106: =0 -> 0 | AY106: =0 -> 0 | AZ106: ='SO.25 - Veřejné osvětlení'!F33 -> 0 | BA106: 0 | BB106: 0 | BC106: 0 | BD106: 0 | BT106: 1 | BV106: IMPORT | BW106: {00b0d1e5-0000-0000-0000-000000000000} | BX106: {00b0d1d7-0000-0000-0000-000000000000} | CM106: 2 | DG106: Veřejné osvětlení
A107: / | D107: SO.J | J107: Retenční nádrž | AG107: ='SO.J - Retenční nádrž'!J30 -> 0 | AN107: =AG107 + AT107 -> 0 | AQ107: STA | AS107: 0 | AT107: =AV107 + AW107 -> 0 | AU107: ='SO.J - Retenční nádrž'!P123 -> 0 | AV107: =ROUND(L29 * AZ107,2) -> 0 | AW107: =0 -> 0 | AX107: =0 -> 0 | AY107: =0 -> 0 | AZ107: ='SO.J - Retenční nádrž'!F33 -> 0 | BA107: 0 | BB107: 0 | BC107: 0 | BD107: 0 | BT107: 1 | BV107: IMPORT | BW107: {00b0d1e6-0000-0000-0000-000000000000} | BX107: {00b0d1d7-0000-0000-0000-000000000000} | CM107: 2 | DH107: Retenční nádrž
D108: SO.K | J108: Altán | AG108: =AG109 + AG110 -> 0 | AN108: =AG108 + AT108 -> 0 | AQ108: STA | AS108: =AS109 + AS110 -> 0 | AT108: =AV108 + AW108 -> 0 | AU108: =ROUND(AU109 + AU110,3) -> 0 | AV108: =ROUND(L29 * AZ108,2) -> 0 | AW108: =0 -> 0 | AX108: =0 -> 0 | AY108: =0 -> 0 | AZ108: =AZ109 + AZ110 -> 0 | BA108: =BA109 + BA110 -> 0 | BB108: =BB109 + BB110 -> 0 | BC108: =BC109 + BC110 -> 0 | BD108: =BD109 + BD110 -> 0 | BS108: D | BT108: 1 | BV108: IMPORT | BW108: {00b0d1e7-0000-0000-0000-000000000000} | BX108: {00b0d1d7-0000-0000-0000-000000000000} | CM108: 2 | DI108: Altán
A109: / | E109: SO.K | K109: Altán | AG109: ='SO.K - Altán'!J30 -> 0 | AN109: =AG109 + AT109 -> 0 | AQ109: Soupis | AS109: 0 | AT109: =AV109 + AW109 -> 0 | AU109: ='SO.K - Altán'!P150 -> 0 | AV109: =ROUND(L29 * AZ109,2) -> 0 | AW109: =0 -> 0 | AX109: =0 -> 0 | AY109: =0 -> 0 | AZ109: ='SO.K - Altán'!F33 -> 0 | BA109: 0 | BB109: 0 | BC109: 0 | BD109: 0 | BT109: 2 | BU109: ###NOINSERT### | BV109: IMPORT | BW109: {00b0d1e7-0000-0000-0000-000000000000} | BX109: {00b0d1d7-0000-0000-0000-000000000000} | CM109: 2 | DJ109: Altán
A110: / | E110: SO.K zdi | K110: Archeologická prezentace objektů | AG110: ='SO.K zdi - Archeologická prezen'!J32 -> 0 | AN110: =AG110 + AT110 -> 0 | AQ110: Soupis | AS110: 0 | AT110: =AV110 + AW110 -> 0 | AU110: ='SO.K zdi - Archeologická prezen'!P120 -> 0 | AV110: =ROUND(L29 * AZ110,2) -> 0 | AW110: =0 -> 0 | AX110: =0 -> 0 | AY110: =0 -> 0 | AZ110: ='SO.K zdi - Archeologická prezen'!F35 -> 0 | BA110: 0 | BB110: 0 | BC110: 0 | BD110: 0 | BT110: 2 | BV110: IMPORT | BW110: {00b0d1e8-0000-0000-0000-000000000000} | BX110: {00b0d1e7-0000-0000-0000-000000000000} | CM110: 2 | DK110: Archeologická prezentace objektů
A111: / | D111: SO.L. | J111: Dětské hřiště | AG111: ='SO.L. - Dětské hřiště'!J30 -> 0 | AN111: =AG111 + AT111 -> 0 | AQ111: STA | AS111: 0 | AT111: =AV111 + AW111 -> 0 | AU111: ='SO.L. - Dětské hřiště'!P115 -> 0 | AV111: =ROUND(L29 * AZ111,2) -> 0 | AW111: =0 -> 0 | AX111: =0 -> 0 | AY111: =0 -> 0 | AZ111: ='SO.L. - Dětské hřiště'!F33 -> 0 | BA111: 0 | BB111: 0 | BC111: 0 | BD111: 0 | BT111: 1 | BV111: IMPORT | BW111: {00b0d1ea-0000-0000-0000-000000000000} | BX111: {00b0d1d7-0000-0000-0000-000000000000} | CM111: 2 | DL111: Dětské hřiště
C113: © 2026 ÚRS CZ a.s.: Informace v tomto dokumentu jsou chráněny autorskými a dalšími právy společnosti ÚRS CZ a.s. nebo tvůrce dokumentu. Jakýmkoliv třetím osobám je zakázáno jejich automatizované či manuální zpracování pro šíření dalším osobám.

Sheet SO.10 - ÚPRAVA VEŘEJNÉ KOMUNIKA
L2: >> skryté sloupce << | AT2: {00b0d1d8-0000-0000-0000-000000000000}
AT3: 2
D4: KRYCÍ LIST SOUPISU PRACÍ | AT4: FALSE
D6: Stavba:
E7: REVITALIZACE ZÁMECKÉHO PARKU ‐ TVRZIŠTĚ KLUČOV | AA7: =E7 -> REVITALIZACE ZÁMECKÉHO PARKU ‐ TVRZIŠTĚ KLUČOV
D8: Objekt:
E9: SO.10 - ÚPRAVA VEŘEJNÉ KOMUNIKACE | AA9: =E9 -> SO.10 - ÚPRAVA VEŘEJNÉ KOMUNIKACE
D11: KSO: | I11: CZ-CC:
D12: Místo: | I12: Datum: | J12: ='Rekapitulace stavby'!AN8 -> 46300
D14: Zadavatel: | I14: IČ: | J14: 00235431
E15: Obec Klučov | I15: DIČ:
D17: Zhotovitel: | I17: =I14 -> IČ: | J17: ='Rekapitulace stavby'!AN13 -> Vyplň údaj
E18: ='Rekapitulace stavby'!E14 -> Vyplň údaj | I18: =I15 -> DIČ: | J18: ='Rekapitulace stavby'!AN14 -> Vyplň údaj
D20: Projektant: | I20: =I14 -> IČ:
E21: Studio Anarchitekt s.r.o. | I21: =I15 -> DIČ:
D23: Zpracovatel: | I23: =I14 -> IČ: | J23: 05649358
E24: Ing. Theodor Collino | I24: =I15 -> DIČ: | J24: CZ8201043686
D26: Poznámka:
E27: ZAŘAZENO DO NEZPŮSOBILÝCH VÝDAJŮ | AA27: =E27 -> ZAŘAZENO DO NEZPŮSOBILÝCH VÝDAJŮ
D30: Cena bez DPH | J30: =ROUND(J120,2) -> 0
F32: Základ daně | I32: Sazba daně | J32: Výše daně
D33: DPH | E33: základní | F33: =SUM(BE120:BE200) -> 0 | I33: 0.21 | J33: =ROUND(F33*I33,2) -> 0
D36: Cena s DPH | G36: v | H36: CZK | J36: =SUM(J30:J34) -> 0
D43: =D20 -> Projektant: | G43: =D23 -> Zpracovatel:
D54: Datum a podpis: | F54: Razítko | G54: =D54 -> Datum a podpis: | J54: =F54 -> Razítko
D58: =D14 -> Zadavatel: | G58: =D17 -> Zhotovitel:
D69: =D54 -> Datum a podpis: | F69: =F54 -> Razítko | G69: =D54 -> Datum a podpis: | J69: =F54 -> Razítko
C75: REKAPITULACE ROZPOČTU
C77: Stavba:
E78: REVITALIZACE ZÁMECKÉHO PARKU ‐ TVRZIŠTĚ KLUČOV | AA78: REVITALIZACE ZÁMECKÉHO PARKU ‐ TVRZIŠTĚ KLUČOV
C79: Objekt:
E80: SO.10 - ÚPRAVA VEŘEJNÉ KOMUNIKACE | AA80: SO.10 - ÚPRAVA VEŘEJNÉ KOMUNIKACE
C82: Místo: | I82: =I12 -> Datum: | J82: =J12 -> 46300
C84: Zadavatel: | F84: Obec Klučov | I84: =D20 -> Projektant: | J84: =IF(E21="","",E21) -> Studio Anarchitekt s.r.o.
C85: Zhotovitel: | F85: =IF(E18="Vyplň údaj","",E18) | I85: =D23 -> Zpracovatel: | J85: =IF(E24="","",E24) -> Ing. Theodor Collino
C87: Kód dílu - Popis | J87: Cena celkem [CZK]
C89: Náklady celkem | J89: =J120 -> 0
D90: HSV - Práce a dodávky HSV | J90: =J121 -> 0
D91: 1 - Zemní práce | J91: =J122 -> 0
D92: 12 - Zemní práce - odkopávky a prokopávky | J92: =J123 -> 0
D93: 16 - Zemní práce - přemístění výkopku | J93: =J129 -> 0
D94: 17 - Zemní práce - konstrukce ze zemin | J94: =J139 -> 0
D95: 2 - Zakládání | J95: =J153 -> 0
D96: 5 - Komunikace pozemní | J96: =J162 -> 0
D97: 56 - Podkladní vrstvy komunikací, letišť a ploch | J97: =J163 -> 0
D98: 59 - Kryty pozemních komunikací, letišť a ploch dlážděné | J98: =J172 -> 0
D99: 9 - Ostatní konstrukce a práce, bourání | J99: =J182 -> 0
D100: 91 - Doplňující konstrukce a práce pozemních komunikací, letišť a ploch | J100: =J187 -> 0
D101: 998 - Přesun hmot | J101: =J196 -> 0
C107: SOUPIS PRACÍ | M107: v --- níže se nacházejí doplnkové a pomocné údaje k sestavám --- v
C109: =D6 -> Stavba:
E110: =IF(E7="","",E7) -> REVITALIZACE ZÁMECKÉHO PARKU ‐ TVRZIŠTĚ KLUČOV | AA110: =IF(AA7="","",AA7) -> REVITALIZACE ZÁMECKÉHO PARKU ‐ TVRZIŠTĚ KLUČOV
C111: =D8 -> Objekt:
E112: =E9 -> SO.10 - ÚPRAVA VEŘEJNÉ KOMUNIKACE | AA112: =AA9 -> SO.10 - ÚPRAVA VEŘEJNÉ KOMUNIKACE
C114: =D12 -> Místo: | F114: =IF(F12="","",F12) | I114: =I12 -> Datum: | J114: =J12 -> 46300
C116: =D14 -> Zadavatel: | F116: =IF(E15="","",E15) -> Obec Klučov | I116: =D20 -> Projektant: | J116: =IF(E21="","",E21) -> Studio Anarchitekt s.r.o.
C117: =D17 -> Zhotovitel: | F117: =IF(E18="Vyplň údaj","",E18) | I117: =D23 -> Zpracovatel: | J117: =IF(E24="","",E24) -> Ing. Theodor Collino
C119: PČ | D119: Typ | E119: Kód | F119: Popis | G119: MJ | H119: Množství | I119: J. cena [CZK] | J119: Cena celkem [CZK] | K119: Cenová soustava | N119: DPH | O119: J. Nh [h] | P119: Nh celkem [h] | Q119: J. hmotnost [t] | R119: Hmotnost celkem [t] | S119: J. suť [t] | T119: Suť Celkem [t]
C120: Náklady soupisu celkem | J120: =J121 -> 0 | P120: =P121 -> 0 | R120: =R121 -> 34.764979 | T120: =T121 -> 0
D121: D | E121: HSV | F121: Práce a dodávky HSV | J121: =J122 + J153 + J162 + J182 + J196 -> 0 | P121: =P122 + P153 + P162 + P182 + P196 -> 0 | R121: =R122 + R153 + R162 + R182 + R196 -> 34.764979 | T121: =T122 + T153 + T162 + T182 + T196 -> 0 | AR121: 1 | AT121: D | AU121: 0 | AY121: ROZPOCET | BJ121: 0
D122: D | E122: 1 | F122: Zemní práce | J122: =J123 + J129 + J139 -> 0 | P122: =P123 + P129 + P139 -> 0 | R122: =R123 + R129 + R139 -> 0 | T122: =T123 + T129 + T139 -> 0 | AR122: 1 | AT122: D | AU122: 1 | AY122: ROZPOCET | BJ122: 0
D123: D | E123: 12 | F123: Zemní práce - odkopávky a prokopávky | J123: =J124 -> 0 | P123: =P124 -> 0 | R123: =R124 -> 0 | T123: =T124 -> 0 | AR123: 1 | AT123: D | AU123: 2 | AY123: ROZPOCET | BJ123: 0
C124: 1 | D124: K | E124: 122251101 | F124: Odkopávky a prokopávky nezapažené v hornině třídy těžitelnosti I skupiny 3 objem do 20 m3 strojně | G124: m3 | H124: 30.609 | J124: =ROUND(H124*I124,2) -> 0 | K124: CS ÚRS 2026 01 | N124: základní | P124: =H124*O124 -> 0 | Q124: 0 | R124: =H124*Q124 -> 0 | S124: 0 | T124: =H124*S124 -> 0 | AR124: 4 | AT124: K | AU124: 3 | AY124: ROZPOCET | BE124: =IF(N124="základní",J124,0) -> 0 | BF124: =IF(N124="snížená",J124,0) -> 0 | BG124: =IF(N124="zákl. přenesená",J124,0) -> 0 | BH124: =IF(N124="sníž. přenesená",J124,0) -> 0 | BI124: =IF(N124="nulová",J124,0) -> 0 | BJ124: 1
D125: Online PSC | F125: https://podminky.urs.cz/item/CS_URS_2026_01/122251101 | AT125: Online PSC | AU125: 0 | AY125: ROZPOCET | BJ125: 0
D126: VV | F126: 0,45 * VV0002 (1) | H126: 30.609 | AT126: VV | AU126: 0 | AV126: 2 | AW126: TRUE | AY126: ROZPOCET | BJ126: 0
D127: VV | F127: Součet 30,609 | AT127: VV | AU127: 0 | AV127: 1 | AW127: TRUE | AY127: ROZPOCET | BJ127: 0
D128: VV | F128: Součet | H128: 30.609 | AT128: VV | AU128: 0 | AV128: 4 | AW128: TRUE | AX128: TRUE | AY128: ROZPOCET | BJ128: 0
D129: D | E129: 16 | F129: Zemní práce - přemístění výkopku | J129: =J130 + J134 -> 0 | P129: =P130 + P134 -> 0 | R129: =R130 + R134 -> 0 | T129: =T130 + T134 -> 0 | AR129: 1 | AT129: D | AU129: 2 | AY129: ROZPOCET | BJ129: 0
C130: 2 | D130: K | E130: 162751117 | F130: Vodorovné přemístění přes 9 000 do 10000 m výkopku/sypaniny z horniny třídy těžitelnosti I skupiny 1 až 3 | G130: m3 | H130: 30.609 | J130: =ROUND(H130*I130,2) -> 0 | K130: CS ÚRS 2026 01 | N130: základní | P130: =H130*O130 -> 0 | Q130: 0 | R130: =H130*Q130 -> 0 | S130: 0 | T130: =H130*S130 -> 0 | AR130: 4 | AT130: K | AU130: 3 | AY130: ROZPOCET | BE130: =IF(N130="základní",J130,0) -> 0 | BF130: =IF(N130="snížená",J130,0) -> 0 | BG130: =IF(N130="zákl. přenesená",J130,0) -> 0 | BH130: =IF(N130="sníž. přenesená",J130,0) -> 0 | BI130: =IF(N130="nulová",J130,0) -> 0 | BJ130: 1
D131: Online PSC | F131: https://podminky.urs.cz/item/CS_URS_2026_01/162751117 | AT131: Online PSC | AU131: 0 | AY131: ROZPOCET | BJ131: 0
D132: VV | F132: NaSkládku (1) | H132: 30.609 | AT132: VV | AU132: 0 | AV132: 2 | AW132: TRUE | AY132: ROZPOCET | BJ132: 0
D133: VV | F133: Součet | H133: 30.609 | AT133: VV | AU133: 0 | AV133: 4 | AW133: TRUE | AX133: TRUE | AY133: ROZPOCET | BJ133: 0
C134: 3 | D134: K | E134: 162751119 | F134: Příplatek k vodorovnému přemístění výkopku/sypaniny z horniny třídy těžitelnosti I skupiny 1 až 3 ZKD 1000 m přes 10000 m | G134: m3 | H134: 275.481 | J134: =ROUND(H134*I134,2) -> 0 | K134: CS ÚRS 2026 01 | N134: základní | P134: =H134*O134 -> 0 | Q134: 0 | R134: =H134*Q134 -> 0 | S134: 0 | T134: =H134*S134 -> 0 | AR134: 4 | AT134: K | AU134: 3 | AY134: ROZPOCET | BE134: =IF(N134="základní",J134,0) -> 0 | BF134: =IF(N134="snížená",J134,0) -> 0 | BG134: =IF(N134="zákl. přenesená",J134,0) -> 0 | BH134: =IF(N134="sníž. přenesená",J134,0) -> 0 | BI134: =IF(N134="nulová",J134,0) -> 0 | BJ134: 1
D135: Online PSC | F135: https://podminky.urs.cz/item/CS_URS_2026_01/162751119 | AT135: Online PSC | AU135: 0 | AY135: ROZPOCET | BJ135: 0
D136: VV | F136: NaSkládku (1) | H136: 30.609 | AT136: VV | AU136: 0 | AV136: 2 | AW136: TRUE | AY136: ROZPOCET | BJ136: 0
D137: VV | F137: Součet | H137: 30.609 | AT137: VV | AU137: 0 | AV137: 4 | AW137: TRUE | AY137: ROZPOCET | BJ137: 0
D138: VV | F138: 30,609*9 'Přepočtené koeficientem množství | H138: 275.481 | AT138: VV | AU138: 0 | AV138: 2 | AW138: TRUE | AX138: TRUE | AY138: ROZPOCET | BJ138: 0
D139: D | E139: 17 | F139: Zemní práce - konstrukce ze zemin | J139: =J140 + J144 + J149 -> 0 | P139: =P140 + P144 + P149 -> 0 | R139: =R140 + R144 + R149 -> 0 | T139: =T140 + T144 + T149 -> 0 | AR139: 1 | AT139: D | AU139: 2 | AY139: ROZPOCET | BJ139: 0
C140: 4 | D140: K | E140: 171152501 | F140: Zhutnění podloží z hornin soudržných nebo nesoudržných pod násypy | G140: m2 | H140: 68.02 | J140: =ROUND(H140*I140,2) -> 0 | K140: CS ÚRS 2026 01 | N140: základní | P140: =H140*O140 -> 0 | Q140: 0 | R140: =H140*Q140 -> 0 | S140: 0 | T140: =H140*S140 -> 0 | AR140: 4 | AT140: K | AU140: 3 | AY140: ROZPOCET | BE140: =IF(N140="základní",J140,0) -> 0 | BF140: =IF(N140="snížená",J140,0) -> 0 | BG140: =IF(N140="zákl. přenesená",J140,0) -> 0 | BH140: =IF(N140="sníž. přenesená",J140,0) -> 0 | BI140: =IF(N140="nulová",J140,0) -> 0 | BJ140: 1
D141: Online PSC | F141: https://podminky.urs.cz/item/CS_URS_2026_01/171152501 | AT141: Online PSC | AU141: 0 | AY141: ROZPOCET | BJ141: 0
D142: VV | F142: VV0002 (1) | H142: 68.02 | AT142: VV | AU142: 0 | AV142: 2 | AW142: TRUE | AY142: ROZPOCET | BJ142: 0
D143: VV | F143: Součet | H143: 68.02 | AT143: VV | AU143: 0 | AV143: 4 | AW143: TRUE | AX143: TRUE | AY143: ROZPOCET | BJ143: 0
C144: 5 | D144: K | E144: 171201231 | F144: Poplatek za uložení zeminy a kamení na recyklační skládce (skládkovné) kód odpadu 17 05 04 | G144: t | H144: 61.218 | J144: =ROUND(H144*I144,2) -> 0 | K144: CS ÚRS 2026 01 | N144: základní | P144: =H144*O144 -> 0 | Q144: 0 | R144: =H144*Q144 -> 0 | S144: 0 | T144: =H144*S144 -> 0 | AR144: 4 | AT144: K | AU144: 3 | AY144: ROZPOCET | BE144: =IF(N144="základní",J144,0) -> 0 | BF144: =IF(N144="snížená",J144,0) -> 0 | BG144: =IF(N144="zákl. přenesená",J144,0) -> 0 | BH144: =IF(N144="sníž. přenesená",J144,0) -> 0 | BI144: =IF(N144="nulová",J144,0) -> 0 | BJ144: 1
D145: Online PSC | F145: https://podminky.urs.cz/item/CS_URS_2026_01/171201231 | AT145: Online PSC | AU145: 0 | AY145: ROZPOCET | BJ145: 0
D146: VV | F146: NaSkládku (1) | H146: 30.609 | AT146: VV | AU146: 0 | AV146: 2 | AW146: TRUE | AY146: ROZPOCET | BJ146: 0
D147: VV | F147: Součet | H147: 30.609 | AT147: VV | AU147: 0 | AV147: 4 | AW147: TRUE | AY147: ROZPOCET | BJ147: 0
D148: VV | F148: 30,609*2 'Přepočtené koeficientem množství | H148: 61.218 | AT148: VV | AU148: 0 | AV148: 2 | AW148: TRUE | AX148: TRUE | AY148: ROZPOCET | BJ148: 0
C149: 6 | D149: K | E149: 171251101 | F149: Uložení sypaniny do násypů nezhutněných strojně | G149: m3 | H149: 30.609 | J149: =ROUND(H149*I149,2) -> 0 | K149: CS ÚRS 2026 01 | N149: základní | P149: =H149*O149 -> 0 | Q149: 0 | R149: =H149*Q149 -> 0 | S149: 0 | T149: =H149*S149 -> 0 | AR149: 4 | AT149: K | AU149: 3 | AY149: ROZPOCET | BE149: =IF(N149="základní",J149,0) -> 0 | BF149: =IF(N149="snížená",J149,0) -> 0 | BG149: =IF(N149="zákl. přenesená",J149,0) -> 0 | BH149: =IF(N149="sníž. přenesená",J149,0) -> 0 | BI149: =IF(N149="nulová",J149,0) -> 0 | BJ149: 1
D150: Online PSC | F150: https://podminky.urs.cz/item/CS_URS_2026_01/171251101 | AT150: Online PSC | AU150: 0 | AY150: ROZPOCET | BJ150: 0
D151: VV | F151: NaSkládku (1) | H151: 30.609 | AT151: VV | AU151: 0 | AV151: 2 | AW151: TRUE | AY151: ROZPOCET | BJ151: 0
D152: VV | F152: Součet | H152: 30.609 | AT152: VV | AU152: 0 | AV152: 4 | AW152: TRUE | AX152: TRUE | AY152: ROZPOCET | BJ152: 0
D153: D | E153: 2 | F153: Zakládání | J153: =J154 + J158 -> 0 | P153: =P154 + P158 -> 0 | R153: =R154 + R158 -> 4.2014709 | T153: =T154 + T158 -> 0 | AR153: 1 | AT153: D | AU153: 1 | AY153: ROZPOCET | BJ153: 0
C154: 7 | D154: K | E154: 211561111 | F154: Výplň odvodňovacích žeber nebo trativodů kamenivem hrubým drceným frakce 4 až 16 mm | G154: m3 | H154: 5.13 | J154: =ROUND(H154*I154,2) -> 0 | K154: CS ÚRS 2026 01 | N154: základní | P154: =H154*O154 -> 0 | Q154: 0 | R154: =H154*Q154 -> 0 | S154: 0 | T154: =H154*S154 -> 0 | AR154: 4 | AT154: K | AU154: 2 | AY154: ROZPOCET | BE154: =IF(N154="základní",J154,0) -> 0 | BF154: =IF(N154="snížená",J154,0) -> 0 | BG154: =IF(N154="zákl. přenesená",J154,0) -> 0 | BH154: =IF(N154="sníž. přenesená",J154,0) -> 0 | BI154: =IF(N154="nulová",J154,0) -> 0 | BJ154: 1
D155: Online PSC | F155: https://podminky.urs.cz/item/CS_URS_2026_01/211561111 | AT155: Online PSC | AU155: 0 | AY155: ROZPOCET | BJ155: 0
D156: VV | F156: 0,5 * 0,5 * VV0003 (1) | H156: 5.13 | AT156: VV | AU156: 0 | AV156: 2 | AW156: TRUE | AY156: ROZPOCET | BJ156: 0
D157: VV | F157: Součet | H157: 5.13 | AT157: VV | AU157: 0 | AV157: 4 | AW157: TRUE | AX157: TRUE | AY157: ROZPOCET | BJ157: 0
C158: 8 | D158: K | E158: 212752401 | F158: Trativod z drenážních trubek korugovaných PE-HD SN 8 perforace 360° včetně lože otevřený výkop DN 100 pro liniové stavby | G158: m | H158: 20.518 | J158: =ROUND(H158*I158,2) -> 0 | K158: CS ÚRS 2026 01 | N158: základní | P158: =H158*O158 -> 0 | Q158: 0.20477 | R158: =H158*Q158 -> 4.2014709 | S158: 0 | T158: =H158*S158 -> 0 | AR158: 4 | AT158: K | AU158: 2 | AY158: ROZPOCET | BE158: =IF(N158="základní",J158,0) -> 0 | BF158: =IF(N158="snížená",J158,0) -> 0 | BG158: =IF(N158="zákl. přenesená",J158,0) -> 0 | BH158: =IF(N158="sníž. přenesená",J158,0) -> 0 | BI158: =IF(N158="nulová",J158,0) -> 0 | BJ158: 1
D159: Online PSC | F159: https://podminky.urs.cz/item/CS_URS_2026_01/212752401 | AT159: Online PSC | AU159: 0 | AY159: ROZPOCET | BJ159: 0
D160: VV | F160: SO.10 - žlab | H160: 20.518 | AT160: VV | AU160: 0 | AV160: 2 | AW160: TRUE | AY160: ROZPOCET | BJ160: 0
D161: VV | F161: Součet | H161: 20.518 | AT161: VV | AU161: 0 | AV161: 4 | AW161: TRUE | AX161: TRUE | AY161: ROZPOCET | BJ161: 0
...

Sheet SO.11 - AREÁLOVÉ KOMUNIKACE A Z
L2: >> skryté sloupce << | AT2: {00b0d1d9-0000-0000-0000-000000000000}
AT3: 2
D4: KRYCÍ LIST SOUPISU PRACÍ | AT4: FALSE
D6: Stavba:
E7: REVITALIZACE ZÁMECKÉHO PARKU ‐ TVRZIŠTĚ KLUČOV | AA7: =E7 -> REVITALIZACE ZÁMECKÉHO PARKU ‐ TVRZIŠTĚ KLUČOV
D8: Objekt:
E9: SO.11 - AREÁLOVÉ KOMUNIKACE A ZPEVNĚNÉ PLOCHY | AA9: =E9 -> SO.11 - AREÁLOVÉ KOMUNIKACE A ZPEVNĚNÉ PLOCHY
D11: KSO: | I11: CZ-CC:
D12: Místo: | I12: Datum: | J12: ='Rekapitulace stavby'!AN8 -> 46300
D14: Zadavatel: | I14: IČ: | J14: 00235431
E15: Obec Klučov | I15: DIČ:
D17: Zhotovitel: | I17: =I14 -> IČ: | J17: ='Rekapitulace stavby'!AN13 -> Vyplň údaj
E18: ='Rekapitulace stavby'!E14 -> Vyplň údaj | I18: =I15 -> DIČ: | J18: ='Rekapitulace stavby'!AN14 -> Vyplň údaj
D20: Projektant: | I20: =I14 -> IČ:
E21: Studio Anarchitekt s.r.o. | I21: =I15 -> DIČ:
D23: Zpracovatel: | I23: =I14 -> IČ: | J23: 05649358
E24: Ing. Theodor Collino | I24: =I15 -> DIČ: | J24: CZ8201043686
D26: Poznámka:
E27: ZPŮSOBILÉ VÝDAJE | AA27: =E27 -> ZPŮSOBILÉ VÝDAJE
D30: Cena bez DPH | J30: =ROUND(J114,2) -> 0
F32: Základ daně | I32: Sazba daně | J32: Výše daně
D33: DPH | E33: základní | F33: =SUM(BE114:BE166) -> 0 | I33: 0.21 | J33: =ROUND(F33*I33,2) -> 0
D36: Cena s DPH | G36: v | H36: CZK | J36: =SUM(J30:J34) -> 0
D43: =D20 -> Projektant: | G43: =D23 -> Zpracovatel:
D54: Datum a podpis: | F54: Razítko | G54: =D54 -> Datum a podpis: | J54: =F54 -> Razítko
D58: =D14 -> Zadavatel: | G58: =D17 -> Zhotovitel:
D69: =D54 -> Datum a podpis: | F69: =F54 -> Razítko | G69: =D54 -> Datum a podpis: | J69: =F54 -> Razítko
C75: REKAPITULACE ROZPOČTU
C77: Stavba:
E78: REVITALIZACE ZÁMECKÉHO PARKU ‐ TVRZIŠTĚ KLUČOV | AA78: REVITALIZACE ZÁMECKÉHO PARKU ‐ TVRZIŠTĚ KLUČOV
C79: Objekt:
E80: SO.11 - AREÁLOVÉ KOMUNIKACE A ZPEVNĚNÉ PLOCHY | AA80: SO.11 - AREÁLOVÉ KOMUNIKACE A ZPEVNĚNÉ PLOCHY
C82: Místo: | I82: =I12 -> Datum: | J82: =J12 -> 46300
C84: Zadavatel: | F84: Obec Klučov | I84: =D20 -> Projektant: | J84: =IF(E21="","",E21) -> Studio Anarchitekt s.r.o.
C85: Zhotovitel: | F85: =IF(E18="Vyplň údaj","",E18) | I85: =D23 -> Zpracovatel: | J85: =IF(E24="","",E24) -> Ing. Theodor Collino
C87: Kód dílu - Popis | J87: Cena celkem [CZK]
C89: Náklady celkem | J89: =J114 -> 0
D90: HSV - Práce a dodávky HSV | J90: =J115 -> 0
D91: 1 - Zemní práce | J91: =J116 -> 0
D92: 17 - Zemní práce - konstrukce ze zemin | J92: =J117 -> 0
D93: 5 - Komunikace pozemní | J93: =J123 -> 0
D94: 9 - Ostatní konstrukce a práce, bourání | J94: =J148 -> 0
D95: 998 - Přesun hmot | J95: =J162 -> 0
C101: SOUPIS PRACÍ | M101: v --- níže se nacházejí doplnkové a pomocné údaje k sestavám --- v
C103: =D6 -> Stavba:
E104: =IF(E7="","",E7) -> REVITALIZACE ZÁMECKÉHO PARKU ‐ TVRZIŠTĚ KLUČOV | AA104: =IF(AA7="","",AA7) -> REVITALIZACE ZÁMECKÉHO PARKU ‐ TVRZIŠTĚ KLUČOV
C105: =D8 -> Objekt:
E106: =E9 -> SO.11 - AREÁLOVÉ KOMUNIKACE A ZPEVNĚNÉ PLOCHY | AA106: =AA9 -> SO.11 - AREÁLOVÉ KOMUNIKACE A ZPEVNĚNÉ PLOCHY
C108: =D12 -> Místo: | F108: =IF(F12="","",F12) | I108: =I12 -> Datum: | J108: =J12 -> 46300
C110: =D14 -> Zadavatel: | F110: =IF(E15="","",E15) -> Obec Klučov | I110: =D20 -> Projektant: | J110: =IF(E21="","",E21) -> Studio Anarchitekt s.r.o.
C111: =D17 -> Zhotovitel: | F111: =IF(E18="Vyplň údaj","",E18) | I111: =D23 -> Zpracovatel: | J111: =IF(E24="","",E24) -> Ing. Theodor Collino
C113: PČ | D113: Typ | E113: Kód | F113: Popis | G113: MJ | H113: Množství | I113: J. cena [CZK] | J113: Cena celkem [CZK] | K113: Cenová soustava | N113: DPH | O113: J. Nh [h] | P113: Nh celkem [h] | Q113: J. hmotnost [t] | R113: Hmotnost celkem [t] | S113: J. suť [t] | T113: Suť Celkem [t]
C114: Náklady soupisu celkem | J114: =J115 -> 0 | P114: =P115 -> 0 | R114: =R115 -> 1373.4015 | T114: =T115 -> 0
D115: D | E115: HSV | F115: Práce a dodávky HSV | J115: =J116 + J123 + J148 + J162 -> 0 | P115: =P116 + P123 + P148 + P162 -> 0 | R115: =R116 + R123 + R148 + R162 -> 1373.4015 | T115: =T116 + T123 + T148 + T162 -> 0 | AR115: 1 | AT115: D | AU115: 0 | AY115: ROZPOCET | BJ115: 0
D116: D | E116: 1 | F116: Zemní práce | J116: =J117 -> 0 | P116: =P117 -> 0 | R116: =R117 -> 0 | T116: =T117 -> 0 | AR116: 1 | AT116: D | AU116: 1 | AY116: ROZPOCET | BJ116: 0
D117: D | E117: 17 | F117: Zemní práce - konstrukce ze zemin | J117: =J118 -> 0 | P117: =P118 -> 0 | R117: =R118 -> 0 | T117: =T118 -> 0 | AR117: 1 | AT117: D | AU117: 2 | AY117: ROZPOCET | BJ117: 0
C118: 18 | D118: K | E118: 171152501 | F118: Zhutnění podloží z hornin soudržných nebo nesoudržných pod násypy | G118: m2 | H118: 2710.77 | J118: =ROUND(H118*I118,2) -> 0 | K118: CS ÚRS 2026 01 | N118: základní | P118: =H118*O118 -> 0 | Q118: 0 | R118: =H118*Q118 -> 0 | S118: 0 | T118: =H118*S118 -> 0 | AR118: 4 | AT118: K | AU118: 3 | AY118: ROZPOCET | BE118: =IF(N118="základní",J118,0) -> 0 | BF118: =IF(N118="snížená",J118,0) -> 0 | BG118: =IF(N118="zákl. přenesená",J118,0) -> 0 | BH118: =IF(N118="sníž. přenesená",J118,0) -> 0 | BI118: =IF(N118="nulová",J118,0) -> 0 | BJ118: 1
D119: Online PSC | F119: https://podminky.urs.cz/item/CS_URS_2026_01/171152501 | AT119: Online PSC | AU119: 0 | AY119: ROZPOCET | BJ119: 0
D120: P | F120: Poznámka k položce:_x000D_ sklonu 1-5%, souč. odtoku 0,4 | AT120: P | AU120: 0 | AY120: ROZPOCET | BJ120: 0
D121: VV | F121: Mlatové chodníky | H121: 2710.77 | AT121: VV | AU121: 0 | AV121: 2 | AW121: TRUE | AY121: ROZPOCET | BJ121: 0
D122: VV | F122: Součet | H122: 2710.77 | AT122: VV | AU122: 0 | AV122: 4 | AW122: TRUE | AX122: TRUE | AY122: ROZPOCET | BJ122: 0
D123: D | E123: 5 | F123: Komunikace pozemní | J123: =J124 + J128 + J132 + J136 + J140 + J144 -> 0 | P123: =P124 + P128 + P132 + P136 + P140 + P144 -> 0 | R123: =R124 + R128 + R132 + R136 + R140 + R144 -> 1366.228 | T123: =T124 + T128 + T132 + T136 + T140 + T144 -> 0 | AR123: 1 | AT123: D | AU123: 1 | AY123: ROZPOCET | BJ123: 0
C124: 19 | D124: K | E124: 561121101 | F124: Podklad z mechanicky zpevněné zeminy MZ tl 50 mm | G124: m2 | H124: 2710.77 | J124: =ROUND(H124*I124,2) -> 0 | K124: CS ÚRS 2026 01 | N124: základní | P124: =H124*O124 -> 0 | Q124: 0 | R124: =H124*Q124 -> 0 | S124: 0 | T124: =H124*S124 -> 0 | AR124: 4 | AT124: K | AU124: 2 | AY124: ROZPOCET | BE124: =IF(N124="základní",J124,0) -> 0 | BF124: =IF(N124="snížená",J124,0) -> 0 | BG124: =IF(N124="zákl. přenesená",J124,0) -> 0 | BH124: =IF(N124="sníž. přenesená",J124,0) -> 0 | BI124: =IF(N124="nulová",J124,0) -> 0 | BJ124: 1
D125: Online PSC | F125: https://podminky.urs.cz/item/CS_URS_2026_01/561121101 | AT125: Online PSC | AU125: 0 | AY125: ROZPOCET | BJ125: 0
D126: VV | F126: VV0001 (1) | H126: 2710.77 | AT126: VV | AU126: 0 | AV126: 2 | AW126: TRUE | AY126: ROZPOCET | BJ126: 0
D127: VV | F127: Součet | H127: 2710.77 | AT127: VV | AU127: 0 | AV127: 4 | AW127: TRUE | AX127: TRUE | AY127: ROZPOCET | BJ127: 0
C128: 20 | D128: M | E128: 58337310 | F128: štěrkopísek frakce 0/4 | G128: t | H128: 243.969 | J128: =ROUND(H128*I128,2) -> 0 | K128: CS ÚRS 2026 01 | N128: základní | P128: =H128*O128 -> 0 | Q128: 1 | R128: =H128*Q128 -> 243.969 | S128: 0 | T128: =H128*S128 -> 0 | AR128: 8 | AT128: M | AU128: 2 | AY128: ROZPOCET | BE128: =IF(N128="základní",J128,0) -> 0 | BF128: =IF(N128="snížená",J128,0) -> 0 | BG128: =IF(N128="zákl. přenesená",J128,0) -> 0 | BH128: =IF(N128="sníž. přenesená",J128,0) -> 0 | BI128: =IF(N128="nulová",J128,0) -> 0 | BJ128: 1
D129: VV | F129: VV0001 (1) | H129: 2710.77 | AT129: VV | AU129: 0 | AV129: 2 | AW129: TRUE | AY129: ROZPOCET | BJ129: 0
D130: VV | F130: Součet | H130: 2710.77 | AT130: VV | AU130: 0 | AV130: 4 | AW130: TRUE | AY130: ROZPOCET | BJ130: 0
D131: VV | F131: 2710,77*0,09 'Přepočtené koeficientem množství | H131: 243.969 | AT131: VV | AU131: 0 | AV131: 2 | AW131: TRUE | AX131: TRUE | AY131: ROZPOCET | BJ131: 0
C132: 21 | D132: K | E132: 561121102 | F132: Podklad z mechanicky zpevněné zeminy MZ tl 80 mm | G132: m2 | H132: 2710.77 | J132: =ROUND(H132*I132,2) -> 0 | K132: CS ÚRS 2026 01 | N132: základní | P132: =H132*O132 -> 0 | Q132: 0 | R132: =H132*Q132 -> 0 | S132: 0 | T132: =H132*S132 -> 0 | AR132: 4 | AT132: K | AU132: 2 | AY132: ROZPOCET | BE132: =IF(N132="základní",J132,0) -> 0 | BF132: =IF(N132="snížená",J132,0) -> 0 | BG132: =IF(N132="zákl. přenesená",J132,0) -> 0 | BH132: =IF(N132="sníž. přenesená",J132,0) -> 0 | BI132: =IF(N132="nulová",J132,0) -> 0 | BJ132: 1
D133: Online PSC | F133: https://podminky.urs.cz/item/CS_URS_2026_01/561121102 | AT133: Online PSC | AU133: 0 | AY133: ROZPOCET | BJ133: 0
D134: VV | F134: VV0001 (1) | H134: 2710.77 | AT134: VV | AU134: 0 | AV134: 2 | AW134: TRUE | AY134: ROZPOCET | BJ134: 0
D135: VV | F135: Součet | H135: 2710.77 | AT135: VV | AU135: 0 | AV135: 4 | AW135: TRUE | AX135: TRUE | AY135: ROZPOCET | BJ135: 0
C136: 22 | D136: M | E136: 58337302 | F136: štěrkopísek frakce 0/16 | G136: t | H136: 390.351 | J136: =ROUND(H136*I136,2) -> 0 | K136: CS ÚRS 2026 01 | N136: základní | P136: =H136*O136 -> 0 | Q136: 1 | R136: =H136*Q136 -> 390.351 | S136: 0 | T136: =H136*S136 -> 0 | AR136: 8 | AT136: M | AU136: 2 | AY136: ROZPOCET | BE136: =IF(N136="základní",J136,0) -> 0 | BF136: =IF(N136="snížená",J136,0) -> 0 | BG136: =IF(N136="zákl. přenesená",J136,0) -> 0 | BH136: =IF(N136="sníž. přenesená",J136,0) -> 0 | BI136: =IF(N136="nulová",J136,0) -> 0 | BJ136: 1
D137: VV | F137: VV0001 (1) | H137: 2710.77 | AT137: VV | AU137: 0 | AV137: 2 | AW137: TRUE | AY137: ROZPOCET | BJ137: 0
D138: VV | F138: Součet | H138: 2710.77 | AT138: VV | AU138: 0 | AV138: 4 | AW138: TRUE | AY138: ROZPOCET | BJ138: 0
D139: VV | F139: 2710,77*0,144 'Přepočtené koeficientem množství | H139: 390.351 | AT139: VV | AU139: 0 | AV139: 2 | AW139: TRUE | AX139: TRUE | AY139: ROZPOCET | BJ139: 0
C140: 23 | D140: K | E140: 561121111 | F140: Podklad z mechanicky zpevněné zeminy MZ tl 150 mm | G140: m2 | H140: 2710.77 | J140: =ROUND(H140*I140,2) -> 0 | K140: CS ÚRS 2026 01 | N140: základní | P140: =H140*O140 -> 0 | Q140: 0 | R140: =H140*Q140 -> 0 | S140: 0 | T140: =H140*S140 -> 0 | AR140: 4 | AT140: K | AU140: 2 | AY140: ROZPOCET | BE140: =IF(N140="základní",J140,0) -> 0 | BF140: =IF(N140="snížená",J140,0) -> 0 | BG140: =IF(N140="zákl. přenesená",J140,0) -> 0 | BH140: =IF(N140="sníž. přenesená",J140,0) -> 0 | BI140: =IF(N140="nulová",J140,0) -> 0 | BJ140: 1
D141: Online PSC | F141: https://podminky.urs.cz/item/CS_URS_2026_01/561121111 | AT141: Online PSC | AU141: 0 | AY141: ROZPOCET | BJ141: 0
D142: VV | F142: VV0001 (1) | H142: 2710.77 | AT142: VV | AU142: 0 | AV142: 2 | AW142: TRUE | AY142: ROZPOCET | BJ142: 0
D143: VV | F143: Součet | H143: 2710.77 | AT143: VV | AU143: 0 | AV143: 4 | AW143: TRUE | AX143: TRUE | AY143: ROZPOCET | BJ143: 0
C144: 24 | D144: M | E144: 58331200 | F144: štěrkopísek netříděný | G144: t | H144: 731.908 | J144: =ROUND(H144*I144,2) -> 0 | K144: CS ÚRS 2026 01 | N144: základní | P144: =H144*O144 -> 0 | Q144: 1 | R144: =H144*Q144 -> 731.908 | S144: 0 | T144: =H144*S144 -> 0 | AR144: 8 | AT144: M | AU144: 2 | AY144: ROZPOCET | BE144: =IF(N144="základní",J144,0) -> 0 | BF144: =IF(N144="snížená",J144,0) -> 0 | BG144: =IF(N144="zákl. přenesená",J144,0) -> 0 | BH144: =IF(N144="sníž. přenesená",J144,0) -> 0 | BI144: =IF(N144="nulová",J144,0) -> 0 | BJ144: 1
D145: VV | F145: VV0001 (1) | H145: 2710.77 | AT145: VV | AU145: 0 | AV145: 2 | AW145: TRUE | AY145: ROZPOCET | BJ145: 0
D146: VV | F146: Součet | H146: 2710.77 | AT146: VV | AU146: 0 | AV146: 4 | AW146: TRUE | AY146: ROZPOCET | BJ146: 0
D147: VV | F147: 2710,77*0,27 'Přepočtené koeficientem množství | H147: 731.908 | AT147: VV | AU147: 0 | AV147: 2 | AW147: TRUE | AX147: TRUE | AY147: ROZPOCET | BJ147: 0
D148: D | E148: 9 | F148: Ostatní konstrukce a práce, bourání | J148: =J149 + J153 + J157 -> 0 | P148: =P149 + P153 + P157 -> 0 | R148: =R149 + R153 + R157 -> 7.1734519 | T148: =T149 + T153 + T157 -> 0 | AR148: 1 | AT148: D | AU148: 1 | AY148: ROZPOCET | BJ148: 0
C149: 25 | D149: K | E149: 919726122 | F149: Geotextilie pro ochranu, separaci a filtraci netkaná měrná hm přes 200 do 300 g/m2 | G149: m2 | H149: 2710.77 | J149: =ROUND(H149*I149,2) -> 0 | K149: CS ÚRS 2026 01 | N149: základní | P149: =H149*O149 -> 0 | Q149: 0.00047 | R149: =H149*Q149 -> 1.2740619 | S149: 0 | T149: =H149*S149 -> 0 | AR149: 4 | AT149: K | AU149: 2 | AY149: ROZPOCET | BE149: =IF(N149="základní",J149,0) -> 0 | BF149: =IF(N149="snížená",J149,0) -> 0 | BG149: =IF(N149="zákl. přenesená",J149,0) -> 0 | BH149: =IF(N149="sníž. přenesená",J149,0) -> 0 | BI149: =IF(N149="nulová",J149,0) -> 0 | BJ149: 1
D150: Online PSC | F150: https://podminky.urs.cz/item/CS_URS_2026_01/919726122 | AT150: Online PSC | AU150: 0 | AY150: ROZPOCET | BJ150: 0
D151: VV | F151: VV0001 (1) | H151: 2710.77 | AT151: VV | AU151: 0 | AV151: 2 | AW151: TRUE | AY151: ROZPOCET | BJ151: 0
D152: VV | F152: Součet | H152: 2710.77 | AT152: VV | AU152: 0 | AV152: 4 | AW152: TRUE | AX152: TRUE | AY152: ROZPOCET | BJ152: 0
C153: 26 | D153: K | E153: 936941113 | F153: Osazování doplňkových ocelových součástí hmotnosti přes 10 do 50 kg | G153: kg | H153: 5363.082 | J153: =ROUND(H153*I153,2) -> 0 | K153: CS ÚRS 2026 01 | N153: základní | P153: =H153*O153 -> 0 | Q153: 0 | R153: =H153*Q153 -> 0 | S153: 0 | T153: =H153*S153 -> 0 | AR153: 4 | AT153: K | AU153: 2 | AY153: ROZPOCET | BE153: =IF(N153="základní",J153,0) -> 0 | BF153: =IF(N153="snížená",J153,0) -> 0 | BG153: =IF(N153="zákl. přenesená",J153,0) -> 0 | BH153: =IF(N153="sníž. přenesená",J153,0) -> 0 | BI153: =IF(N153="nulová",J153,0) -> 0 | BJ153: 1
D154: Online PSC | F154: https://podminky.urs.cz/item/CS_URS_2026_01/936941113 | AT154: Online PSC | AU154: 0 | AY154: ROZPOCET | BJ154: 0
D155: VV | F155: VV0002 (2) * 3,5 | H155: 5363.082 | AT155: VV | AU155: 0 | AV155: 2 | AW155: TRUE | AY155: ROZPOCET | BJ155: 0
D156: VV | F156: Součet | H156: 5363.082 | AT156: VV | AU156: 0 | AV156: 4 | AW156: TRUE | AX156: TRUE | AY156: ROZPOCET | BJ156: 0
C157: 27 | D157: M | E157: 138cor | F157: Zahradní obrubník z přirozeně rezavějící oceli | G157: m | H157: 1685.54 | J157: =ROUND(H157*I157,2) -> 0 | N157: základní | P157: =H157*O157 -> 0 | Q157: 0.0035 | R157: =H157*Q157 -> 5.89939 | S157: 0 | T157: =H157*S157 -> 0 | AR157: 8 | AT157: M | AU157: 2 | AY157: ROZPOCET | BE157: =IF(N157="základní",J157,0) -> 0 | BF157: =IF(N157="snížená",J157,0) -> 0 | BG157: =IF(N157="zákl. přenesená",J157,0) -> 0 | BH157: =IF(N157="sníž. přenesená",J157,0) -> 0 | BI157: =IF(N157="nulová",J157,0) -> 0 | BJ157: 1
D158: P | F158: Poznámka k položce:_x000D_ Síla materiálu: 3 mm Délka 2980 mm, výška 150 mm Lze jednoduše napojit spojkami nebo volně přiložit k sobě hmotnost: 10,5 kg Poznámka k materiálu: Přirozeně rezaví a vytváří charakteristickou rezavě hnědou ochrannou vrstvu. | AT158: P | AU158: 0 | AY158: ROZPOCET | BJ158: 0
D159: VV | F159: (100,834+36,378+23,646+35,202+34,259+521,051+131,100+77,788+70,435+68,227+54,602+114,624+264,163) | H159: 1532.309 | AT159: VV | AU159: 0 | AV159: 2 | AW159: TRUE | AY159: ROZPOCET | BJ159: 0
D160: VV | F160: Součet | H160: 1532.309 | AT160: VV | AU160: 0 | AV160: 4 | AW160: TRUE | AY160: ROZPOCET | BJ160: 0
D161: VV | F161: 1532,309*1,1 'Přepočtené koeficientem množství | H161: 1685.54 | AT161: VV | AU161: 0 | AV161: 2 | AW161: TRUE | AX161: TRUE | AY161: ROZPOCET | BJ161: 0
...

Sheet SO.11-D - Molo a pódium
L2: >> skryté sloupce << | AT2: {00b0d1da-0000-0000-0000-000000000000}
AT3: 2
D4: KRYCÍ LIST SOUPISU PRACÍ | AT4: FALSE
D6: Stavba:
E7: REVITALIZACE ZÁMECKÉHO PARKU ‐ TVRZIŠTĚ KLUČOV | AA7: =E7 -> REVITALIZACE ZÁMECKÉHO PARKU ‐ TVRZIŠTĚ KLUČOV
D8: Objekt:
E9: SO.11 - AREÁLOVÉ KOMUNIKACE A ZPEVNĚNÉ PLOCHY | AA9: =E9 -> SO.11 - AREÁLOVÉ KOMUNIKACE A ZPEVNĚNÉ PLOCHY
D10: Soupis:
E11: SO.11-D - Molo a pódium | AA11: =E11 -> SO.11-D - Molo a pódium
D13: KSO: | I13: CZ-CC:
D14: Místo: | I14: Datum: | J14: ='Rekapitulace stavby'!AN8 -> 46300
D16: Zadavatel: | I16: IČ: | J16: 00235431
E17: Obec Klučov | I17: DIČ:
D19: Zhotovitel: | I19: =I16 -> IČ: | J19: ='Rekapitulace stavby'!AN13 -> Vyplň údaj
E20: ='Rekapitulace stavby'!E14 -> Vyplň údaj | I20: =I17 -> DIČ: | J20: ='Rekapitulace stavby'!AN14 -> Vyplň údaj
D22: Projektant: | I22: =I16 -> IČ:
E23: Studio Anarchitekt s.r.o. | I23: =I17 -> DIČ:
D25: Zpracovatel: | I25: =I16 -> IČ: | J25: 05649358
E26: Ing. Theodor Collino | I26: =I17 -> DIČ: | J26: CZ8201043686
D28: Poznámka:
E29: ZPŮSOBILÉ VÝDAJE | AA29: =E29 -> ZPŮSOBILÉ VÝDAJE
D32: Cena bez DPH | J32: =ROUND(J116,2) -> 0
F34: Základ daně | I34: Sazba daně | J34: Výše daně
D35: DPH | E35: základní | F35: =SUM(BE116:BE160) -> 0 | I35: 0.21 | J35: =ROUND(F35*I35,2) -> 0
D38: Cena s DPH | G38: v | H38: CZK | J38: =SUM(J32:J36) -> 0
D45: =D22 -> Projektant: | G45: =D25 -> Zpracovatel:
D56: Datum a podpis: | F56: Razítko | G56: =D56 -> Datum a podpis: | J56: =F56 -> Razítko
D60: =D16 -> Zadavatel: | G60: =D19 -> Zhotovitel:
D71: =D56 -> Datum a podpis: | F71: =F56 -> Razítko | G71: =D56 -> Datum a podpis: | J71: =F56 -> Razítko
C77: REKAPITULACE ROZPOČTU
C79: Stavba:
E80: REVITALIZACE ZÁMECKÉHO PARKU ‐ TVRZIŠTĚ KLUČOV | AA80: REVITALIZACE ZÁMECKÉHO PARKU ‐ TVRZIŠTĚ KLUČOV
C81: Objekt:
E82: SO.11 - AREÁLOVÉ KOMUNIKACE A ZPEVNĚNÉ PLOCHY | AA82: SO.11 - AREÁLOVÉ KOMUNIKACE A ZPEVNĚNÉ PLOCHY
C83: Soupis:
E84: SO.11-D - Molo a pódium | AA84: SO.11-D - Molo a pódium
C86: Místo: | I86: =I14 -> Datum: | J86: =J14 -> 46300
C88: Zadavatel: | F88: Obec Klučov | I88: =D22 -> Projektant: | J88: =IF(E23="","",E23) -> Studio Anarchitekt s.r.o.
C89: Zhotovitel: | F89: =IF(E20="Vyplň údaj","",E20) | I89: =D25 -> Zpracovatel: | J89: =IF(E26="","",E26) -> Ing. Theodor Collino
C91: Kód dílu - Popis | J91: Cena celkem [CZK]
C93: Náklady celkem | J93: =J116 -> 0
D94: PSV - Práce a dodávky PSV | J94: =J117 -> 0
D95: 762 - Konstrukce tesařské | J95: =J118 -> 0
C101: SOUPIS PRACÍ | M101: v --- níže se nacházejí doplnkové a pomocné údaje k sestavám --- v
C103: =D6 -> Stavba:
E104: =IF(E7="","",E7) -> REVITALIZACE ZÁMECKÉHO PARKU ‐ TVRZIŠTĚ KLUČOV | AA104: =IF(AA7="","",AA7) -> REVITALIZACE ZÁMECKÉHO PARKU ‐ TVRZIŠTĚ KLUČOV
C105: =D8 -> Objekt:
E106: =E9 -> SO.11 - AREÁLOVÉ KOMUNIKACE A ZPEVNĚNÉ PLOCHY | AA106: =AA9 -> SO.11 - AREÁLOVÉ KOMUNIKACE A ZPEVNĚNÉ PLOCHY
C107: =D10 -> Soupis:
E108: =E11 -> SO.11-D - Molo a pódium | AA108: =AA11 -> SO.11-D - Molo a pódium
C110: =D14 -> Místo: | F110: =IF(F14="","",F14) | I110: =I14 -> Datum: | J110: =J14 -> 46300
C112: =D16 -> Zadavatel: | F112: =IF(E17="","",E17) -> Obec Klučov | I112: =D22 -> Projektant: | J112: =IF(E23="","",E23) -> Studio Anarchitekt s.r.o.
C113: =D19 -> Zhotovitel: | F113: =IF(E20="Vyplň údaj","",E20) | I113: =D25 -> Zpracovatel: | J113: =IF(E26="","",E26) -> Ing. Theodor Collino
C115: PČ | D115: Typ | E115: Kód | F115: Popis | G115: MJ | H115: Množství | I115: J. cena [CZK] | J115: Cena celkem [CZK] | K115: Cenová soustava | N115: DPH | O115: J. Nh [h] | P115: Nh celkem [h] | Q115: J. hmotnost [t] | R115: Hmotnost celkem [t] | S115: J. suť [t] | T115: Suť Celkem [t]
C116: Náklady soupisu celkem | J116: =J117 -> 0 | P116: =P117 -> 0 | R116: =R117 -> 13.924438 | T116: =T117 -> 0
D117: D | E117: PSV | F117: Práce a dodávky PSV | J117: =J118 -> 0 | P117: =P118 -> 0 | R117: =R118 -> 13.924438 | T117: =T118 -> 0 | AR117: 2 | AT117: D | AU117: 0 | AY117: ROZPOCET | BJ117: 0
D118: D | E118: 762 | F118: Konstrukce tesařské | J118: =J119 + J126 + J130 + J138 + J141 + J145 + J149 + J153 + J157 + J159 -> 0 | P118: =P119 + P126 + P130 + P138 + P141 + P145 + P149 + P153 + P157 + P159 -> 0 | R118: =R119 + R126 + R130 + R138 + R141 + R145 + R149 + R153 + R157 + R159 -> 13.924438 | T118: =T119 + T126 + T130 + T138 + T141 + T145 + T149 + T153 + T157 + T159 -> 0 | AR118: 2 | AT118: D | AU118: 1 | AY118: ROZPOCET | BJ118: 0
C119: 30 | D119: K | E119: 762081150 | F119: Hoblování hraněného řeziva ve staveništní dílně | G119: m3 | H119: 18.469 | J119: =ROUND(H119*I119,2) -> 0 | K119: CS ÚRS 2026 01 | N119: základní | P119: =H119*O119 -> 0 | Q119: 0 | R119: =H119*Q119 -> 0 | S119: 0 | T119: =H119*S119 -> 0 | AR119: 16 | AT119: K | AU119: 2 | AY119: ROZPOCET | BE119: =IF(N119="základní",J119,0) -> 0 | BF119: =IF(N119="snížená",J119,0) -> 0 | BG119: =IF(N119="zákl. přenesená",J119,0) -> 0 | BH119: =IF(N119="sníž. přenesená",J119,0) -> 0 | BI119: =IF(N119="nulová",J119,0) -> 0 | BJ119: 1
D120: Online PSC | F120: https://podminky.urs.cz/item/CS_URS_2026_01/762081150 | AT120: Online PSC | AU120: 0 | AY120: ROZPOCET | BJ120: 0
D121: VV | F121: DélkaŘeziva (1) * 0,12*0,18 | H121: 10.074 | AT121: VV | AU121: 0 | AV121: 2 | AW121: TRUE | AY121: ROZPOCET | BJ121: 0
D122: VV | F122: VV0001 (2) * 0,06 | H122: 5.75 | AT122: VV | AU122: 0 | AV122: 2 | AW122: TRUE | AY122: ROZPOCET | BJ122: 0
D123: VV | F123: VV0004 (1) * 0,03 | H123: 2.645 | AT123: VV | AU123: 0 | AV123: 2 | AW123: TRUE | AY123: ROZPOCET | BJ123: 0
D124: VV | F124: Součet 18,469 | AT124: VV | AU124: 0 | AV124: 1 | AW124: TRUE | AY124: ROZPOCET | BJ124: 0
D125: VV | F125: Součet | H125: 18.469 | AT125: VV | AU125: 0 | AV125: 4 | AW125: TRUE | AX125: TRUE | AY125: ROZPOCET | BJ125: 0
C126: 31 | D126: K | E126: 762083122 | F126: Impregnace řeziva proti dřevokaznému hmyzu, houbám a plísním máčením třída ohrožení 3 a 4 | G126: m3 | H126: 18.469 | J126: =ROUND(H126*I126,2) -> 0 | K126: CS ÚRS 2026 01 | N126: základní | P126: =H126*O126 -> 0 | Q126: 0.00189 | R126: =H126*Q126 -> 0.03490641 | S126: 0 | T126: =H126*S126 -> 0 | AR126: 16 | AT126: K | AU126: 2 | AY126: ROZPOCET | BE126: =IF(N126="základní",J126,0) -> 0 | BF126: =IF(N126="snížená",J126,0) -> 0 | BG126: =IF(N126="zákl. přenesená",J126,0) -> 0 | BH126: =IF(N126="sníž. přenesená",J126,0) -> 0 | BI126: =IF(N126="nulová",J126,0) -> 0 | BJ126: 1
D127: Online PSC | F127: https://podminky.urs.cz/item/CS_URS_2026_01/762083122 | AT127: Online PSC | AU127: 0 | AY127: ROZPOCET | BJ127: 0
D128: VV | F128: ObjemŘeziva (1) | H128: 18.469 | AT128: VV | AU128: 0 | AV128: 2 | AW128: TRUE | AY128: ROZPOCET | BJ128: 0
D129: VV | F129: Součet | H129: 18.469 | AT129: VV | AU129: 0 | AV129: 4 | AW129: TRUE | AX129: TRUE | AY129: ROZPOCET | BJ129: 0
C130: 32 | D130: K | E130: 762512261 | F130: Montáž podlahové kce podkladového roštu | G130: m | H130: 466.384 | J130: =ROUND(H130*I130,2) -> 0 | K130: CS ÚRS 2026 01 | N130: základní | P130: =H130*O130 -> 0 | Q130: 1e-05 | R130: =H130*Q130 -> 0.00466384 | S130: 0 | T130: =H130*S130 -> 0 | AR130: 16 | AT130: K | AU130: 2 | AY130: ROZPOCET | BE130: =IF(N130="základní",J130,0) -> 0 | BF130: =IF(N130="snížená",J130,0) -> 0 | BG130: =IF(N130="zákl. přenesená",J130,0) -> 0 | BH130: =IF(N130="sníž. přenesená",J130,0) -> 0 | BI130: =IF(N130="nulová",J130,0) -> 0 | BJ130: 1
D131: Online PSC | F131: https://podminky.urs.cz/item/CS_URS_2026_01/762512261 | AT131: Online PSC | AU131: 0 | AY131: ROZPOCET | BJ131: 0
D132: VV | F132: Molo | AT132: VV | AU132: 0 | AV132: 1 | AW132: TRUE | AY132: ROZPOCET | BJ132: 0
D133: VV | F133: 2 * VV0001 (2) / 0,6 | H133: 319.467 | AT133: VV | AU133: 0 | AV133: 2 | AW133: TRUE | AY133: ROZPOCET | BJ133: 0
D134: VV | F134: Podium | AT134: VV | AU134: 0 | AV134: 1 | AW134: TRUE | AY134: ROZPOCET | BJ134: 0
D135: VV | F135: VV0004 (1) / 0,6 | H135: 146.917 | AT135: VV | AU135: 0 | AV135: 2 | AW135: TRUE | AY135: ROZPOCET | BJ135: 0
D136: VV | F136: Součet 466,384 | AT136: VV | AU136: 0 | AV136: 1 | AW136: TRUE | AY136: ROZPOCET | BJ136: 0
D137: VV | F137: Součet | H137: 466.384 | AT137: VV | AU137: 0 | AV137: 4 | AW137: TRUE | AX137: TRUE | AY137: ROZPOCET | BJ137: 0
C138: 33 | D138: M | E138: 60552001 | F138: hranol stavební řezivo dub průřezu do 224cm2 přes dl 8m | G138: m3 | H138: 10.074 | J138: =ROUND(H138*I138,2) -> 0 | K138: CS ÚRS 2026 01 | N138: základní | P138: =H138*O138 -> 0 | Q138: 0.75 | R138: =H138*Q138 -> 7.5555 | S138: 0 | T138: =H138*S138 -> 0 | AR138: 32 | AT138: M | AU138: 2 | AY138: ROZPOCET | BE138: =IF(N138="základní",J138,0) -> 0 | BF138: =IF(N138="snížená",J138,0) -> 0 | BG138: =IF(N138="zákl. přenesená",J138,0) -> 0 | BH138: =IF(N138="sníž. přenesená",J138,0) -> 0 | BI138: =IF(N138="nulová",J138,0) -> 0 | BJ138: 1
D139: VV | F139: DélkaŘeziva (1) * 0,12*0,18 | H139: 10.074 | AT139: VV | AU139: 0 | AV139: 2 | AW139: TRUE | AY139: ROZPOCET | BJ139: 0
D140: VV | F140: Součet | H140: 10.074 | AT140: VV | AU140: 0 | AV140: 4 | AW140: TRUE | AX140: TRUE | AY140: ROZPOCET | BJ140: 0
C141: 34 | D141: K | E141: 762524108 | F141: Položení podlahy z hoblovaných fošen na pero a drážku | G141: m2 | H141: 183.99 | J141: =ROUND(H141*I141,2) -> 0 | K141: CS ÚRS 2026 01 | N141: základní | P141: =H141*O141 -> 0 | Q141: 0 | R141: =H141*Q141 -> 0 | S141: 0 | T141: =H141*S141 -> 0 | AR141: 16 | AT141: K | AU141: 2 | AY141: ROZPOCET | BE141: =IF(N141="základní",J141,0) -> 0 | BF141: =IF(N141="snížená",J141,0) -> 0 | BG141: =IF(N141="zákl. přenesená",J141,0) -> 0 | BH141: =IF(N141="sníž. přenesená",J141,0) -> 0 | BI141: =IF(N141="nulová",J141,0) -> 0 | BJ141: 1
D142: Online PSC | F142: https://podminky.urs.cz/item/CS_URS_2026_01/762524108 | AT142: Online PSC | AU142: 0 | AY142: ROZPOCET | BJ142: 0
D143: VV | F143: VV0001 (2) + VV0004 (1) | H143: 183.99 | AT143: VV | AU143: 0 | AV143: 2 | AW143: TRUE | AY143: ROZPOCET | BJ143: 0
D144: VV | F144: Součet | H144: 183.99 | AT144: VV | AU144: 0 | AV144: 4 | AW144: TRUE | AX144: TRUE | AY144: ROZPOCET | BJ144: 0
C145: 35 | D145: M | E145: 60556102 | F145: řezivo dubové sušené tl 60mm | G145: m3 | H145: 5.75 | J145: =ROUND(H145*I145,2) -> 0 | K145: CS ÚRS 2026 01 | N145: základní | P145: =H145*O145 -> 0 | Q145: 0.75 | R145: =H145*Q145 -> 4.3125 | S145: 0 | T145: =H145*S145 -> 0 | AR145: 32 | AT145: M | AU145: 2 | AY145: ROZPOCET | BE145: =IF(N145="základní",J145,0) -> 0 | BF145: =IF(N145="snížená",J145,0) -> 0 | BG145: =IF(N145="zákl. přenesená",J145,0) -> 0 | BH145: =IF(N145="sníž. přenesená",J145,0) -> 0 | BI145: =IF(N145="nulová",J145,0) -> 0 | BJ145: 1
D146: VV | F146: Molo | H146: 95.84 | AT146: VV | AU146: 0 | AV146: 2 | AW146: TRUE | AY146: ROZPOCET | BJ146: 0
D147: VV | F147: Součet | H147: 95.84 | AT147: VV | AU147: 0 | AV147: 4 | AW147: TRUE | AY147: ROZPOCET | BJ147: 0
D148: VV | F148: 95,84*0,06 'Přepočtené koeficientem množství | H148: 5.75 | AT148: VV | AU148: 0 | AV148: 2 | AW148: TRUE | AX148: TRUE | AY148: ROZPOCET | BJ148: 0
C149: 36 | D149: M | E149: 60556100 | F149: řezivo dubové sušené tl 30mm | G149: m3 | H149: 2.645 | J149: =ROUND(H149*I149,2) -> 0 | K149: CS ÚRS 2026 01 | N149: základní | P149: =H149*O149 -> 0 | Q149: 0.75 | R149: =H149*Q149 -> 1.98375 | S149: 0 | T149: =H149*S149 -> 0 | AR149: 32 | AT149: M | AU149: 2 | AY149: ROZPOCET | BE149: =IF(N149="základní",J149,0) -> 0 | BF149: =IF(N149="snížená",J149,0) -> 0 | BG149: =IF(N149="zákl. přenesená",J149,0) -> 0 | BH149: =IF(N149="sníž. přenesená",J149,0) -> 0 | BI149: =IF(N149="nulová",J149,0) -> 0 | BJ149: 1
D150: VV | F150: Dřevěné podium | H150: 88.15 | AT150: VV | AU150: 0 | AV150: 2 | AW150: TRUE | AY150: ROZPOCET | BJ150: 0
D151: VV | F151: Součet | H151: 88.15 | AT151: VV | AU151: 0 | AV151: 4 | AW151: TRUE | AY151: ROZPOCET | BJ151: 0
D152: VV | F152: 88,15*0,03 'Přepočtené koeficientem množství | H152: 2.645 | AT152: VV | AU152: 0 | AV152: 2 | AW152: TRUE | AX152: TRUE | AY152: ROZPOCET | BJ152: 0
C153: 37 | D153: K | E153: 762595001 | F153: Spojovací prostředky pro položení dřevěných podlah a zakrytí kanálů | G153: m2 | H153: 183.99 | J153: =ROUND(H153*I153,2) -> 0 | K153: CS ÚRS 2026 01 | N153: základní | P153: =H153*O153 -> 0 | Q153: 0.00018 | R153: =H153*Q153 -> 0.0331182 | S153: 0 | T153: =H153*S153 -> 0 | AR153: 16 | AT153: K | AU153: 2 | AY153: ROZPOCET | BE153: =IF(N153="základní",J153,0) -> 0 | BF153: =IF(N153="snížená",J153,0) -> 0 | BG153: =IF(N153="zákl. přenesená",J153,0) -> 0 | BH153: =IF(N153="sníž. přenesená",J153,0) -> 0 | BI153: =IF(N153="nulová",J153,0) -> 0 | BJ153: 1
D154: Online PSC | F154: https://podminky.urs.cz/item/CS_URS_2026_01/762595001 | AT154: Online PSC | AU154: 0 | AY154: ROZPOCET | BJ154: 0
D155: VV | F155: VV0001 (2) + VV0004 (1) | H155: 183.99 | AT155: VV | AU155: 0 | AV155: 2 | AW155: TRUE | AY155: ROZPOCET | BJ155: 0
D156: VV | F156: Součet | H156: 183.99 | AT156: VV | AU156: 0 | AV156: 4 | AW156: TRUE | AX156: TRUE | AY156: ROZPOCET | BJ156: 0
C157: 38 | D157: K | E157: 998762101 | F157: Přesun hmot tonážní pro kce tesařské v objektech v do 6 m | G157: t | H157: 13.924 | J157: =ROUND(H157*I157,2) -> 0 | K157: CS ÚRS 2026 01 | N157: základní | P157: =H157*O157 -> 0 | Q157: 0 | R157: =H157*Q157 -> 0 | S157: 0 | T157: =H157*S157 -> 0 | AR157: 16 | AT157: K | AU157: 2 | AY157: ROZPOCET | BE157: =IF(N157="základní",J157,0) -> 0 | BF157: =IF(N157="snížená",J157,0) -> 0 | BG157: =IF(N157="zákl. přenesená",J157,0) -> 0 | BH157: =IF(N157="sníž. přenesená",J157,0) -> 0 | BI157: =IF(N157="nulová",J157,0) -> 0 | BJ157: 1
D158: Online PSC | F158: https://podminky.urs.cz/item/CS_URS_2026_01/998762101 | AT158: Online PSC | AU158: 0 | AY158: ROZPOCET | BJ158: 0
C159: 39 | D159: K | E159: 998762181 | F159: Příplatek k přesunu hmot tonážní 762 prováděný bez použití mechanizace | G159: t | H159: 13.924 | J159: =ROUND(H159*I159,2) -> 0 | K159: CS ÚRS 2023 02 | N159: základní | P159: =H159*O159 -> 0 | Q159: 0 | R159: =H159*Q159 -> 0 | S159: 0 | T159: =H159*S159 -> 0 | AR159: 16 | AT159: K | AU159: 2 | AY159: ROZPOCET | BE159: =IF(N159="základní",J159,0) -> 0 | BF159: =IF(N159="snížená",J159,0) -> 0 | BG159: =IF(N159="zákl. přenesená",J159,0) -> 0 | BH159: =IF(N159="sníž. přenesená",J159,0) -> 0 | BI159: =IF(N159="nulová",J159,0) -> 0 | BJ159: 1
D160: Online PSC | F160: https://podminky.urs.cz/item/CS_URS_2023_02/998762181 | AT160: Online PSC | AU160: 0 | AY160: ROZPOCET | BJ160: 0
C162: © 2026 ÚRS CZ a.s.: Informace v tomto dokumentu jsou chráněny autorskými a dalšími právy společnosti ÚRS CZ a.s. nebo tvůrce dokumentu._x000D_ Jakýmkoliv třetím osobám je zakázáno jejich automatizované či manuální zpracování pro šíření dalším osobám.

Sheet SO.11-M - MOSTKY
L2: >> skryté sloupce << | AT2: {00b0d1db-0000-0000-0000-000000000000}
AT3: 2
D4: KRYCÍ LIST SOUPISU PRACÍ | AT4: FALSE
D6: Stavba:
E7: REVITALIZACE ZÁMECKÉHO PARKU ‐ TVRZIŠTĚ KLUČOV | AA7: =E7 -> REVITALIZACE ZÁMECKÉHO PARKU ‐ TVRZIŠTĚ KLUČOV
D8: Objekt:
E9: SO.11 - AREÁLOVÉ KOMUNIKACE A ZPEVNĚNÉ PLOCHY | AA9: =E9 -> SO.11 - AREÁLOVÉ KOMUNIKACE A ZPEVNĚNÉ PLOCHY
D10: Soupis:
E11: SO.11-M - MOSTKY | AA11: =E11 -> SO.11-M - MOSTKY
D13: KSO: | I13: CZ-CC:
D14: Místo: | I14: Datum: | J14: ='Rekapitulace stavby'!AN8 -> 46300
D16: Zadavatel: | I16: IČ: | J16: 00235431
E17: Obec Klučov | I17: DIČ:
D19: Zhotovitel: | I19: =I16 -> IČ: | J19: ='Rekapitulace stavby'!AN13 -> Vyplň údaj
E20: ='Rekapitulace stavby'!E14 -> Vyplň údaj | I20: =I17 -> DIČ: | J20: ='Rekapitulace stavby'!AN14 -> Vyplň údaj
D22: Projektant: | I22: =I16 -> IČ:
E23: Studio Anarchitekt s.r.o. | I23: =I17 -> DIČ:
D25: Zpracovatel: | I25: =I16 -> IČ: | J25: 05649358
E26: Ing. Theodor Collino | I26: =I17 -> DIČ: | J26: CZ8201043686
D28: Poznámka:
E29: NAD SCHVÁLENÝ LIMIT bude zařazeno do nezpůsobilých výdajů | AA29: =E29 -> NAD SCHVÁLENÝ LIMIT bude zařazeno do nezpůsobilých výdajů
D32: Cena bez DPH | J32: =ROUND(J119,2) -> 0
F34: Základ daně | I34: Sazba daně | J34: Výše daně
D35: DPH | E35: základní | F35: =SUM(BE119:BE192) -> 0 | I35: 0.21 | J35: =ROUND(F35*I35,2) -> 0
D38: Cena s DPH | G38: v | H38: CZK | J38: =SUM(J32:J36) -> 0
D45: =D22 -> Projektant: | G45: =D25 -> Zpracovatel:
D56: Datum a podpis: | F56: Razítko | G56: =D56 -> Datum a podpis: | J56: =F56 -> Razítko
D60: =D16 -> Zadavatel: | G60: =D19 -> Zhotovitel:
D71: =D56 -> Datum a podpis: | F71: =F56 -> Razítko | G71: =D56 -> Datum a podpis: | J71: =F56 -> Razítko
C77: REKAPITULACE ROZPOČTU
C79: Stavba:
E80: REVITALIZACE ZÁMECKÉHO PARKU ‐ TVRZIŠTĚ KLUČOV | AA80: REVITALIZACE ZÁMECKÉHO PARKU ‐ TVRZIŠTĚ KLUČOV
C81: Objekt:
E82: SO.11 - AREÁLOVÉ KOMUNIKACE A ZPEVNĚNÉ PLOCHY | AA82: SO.11 - AREÁLOVÉ KOMUNIKACE A ZPEVNĚNÉ PLOCHY
C83: Soupis:
E84: SO.11-M - MOSTKY | AA84: SO.11-M - MOSTKY
C86: Místo: | I86: =I14 -> Datum: | J86: =J14 -> 46300
C88: Zadavatel: | F88: Obec Klučov | I88: =D22 -> Projektant: | J88: =IF(E23="","",E23) -> Studio Anarchitekt s.r.o.
C89: Zhotovitel: | F89: =IF(E20="Vyplň údaj","",E20) | I89: =D25 -> Zpracovatel: | J89: =IF(E26="","",E26) -> Ing. Theodor Collino
C91: Kód dílu - Popis | J91: Cena celkem [CZK]
C93: Náklady celkem | J93: =J119 -> 0
D94: HSV - Práce a dodávky HSV | J94: =J120 -> 0
D95: 1 - Zemní práce | J95: =J121 -> 0
D96: 2 - Základy | J96: =J151 -> 0
D97: 4 - Vodorovné konstrukce | J97: =J171 -> 0
D98: 9 - Ostatní konstrukce a práce | J98: =J188 -> 0
C104: SOUPIS PRACÍ | M104: v --- níže se nacházejí doplnkové a pomocné údaje k sestavám --- v
C106: =D6 -> Stavba:
E107: =IF(E7="","",E7) -> REVITALIZACE ZÁMECKÉHO PARKU ‐ TVRZIŠTĚ KLUČOV | AA107: =IF(AA7="","",AA7) -> REVITALIZACE ZÁMECKÉHO PARKU ‐ TVRZIŠTĚ KLUČOV
C108: =D8 -> Objekt:
E109: =E9 -> SO.11 - AREÁLOVÉ KOMUNIKACE A ZPEVNĚNÉ PLOCHY | AA109: =AA9 -> SO.11 - AREÁLOVÉ KOMUNIKACE A ZPEVNĚNÉ PLOCHY
C110: =D10 -> Soupis:
E111: =E11 -> SO.11-M - MOSTKY | AA111: =AA11 -> SO.11-M - MOSTKY
C113: =D14 -> Místo: | F113: =IF(F14="","",F14) | I113: =I14 -> Datum: | J113: =J14 -> 46300
C115: =D16 -> Zadavatel: | F115: =IF(E17="","",E17) -> Obec Klučov | I115: =D22 -> Projektant: | J115: =IF(E23="","",E23) -> Studio Anarchitekt s.r.o.
C116: =D19 -> Zhotovitel: | F116: =IF(E20="Vyplň údaj","",E20) | I116: =D25 -> Zpracovatel: | J116: =IF(E26="","",E26) -> Ing. Theodor Collino
C118: PČ | D118: Typ | E118: Kód | F118: Popis | G118: MJ | H118: Množství | I118: J. cena [CZK] | J118: Cena celkem [CZK] | K118: Cenová soustava | N118: DPH | O118: J. Nh [h] | P118: Nh celkem [h] | Q118: J. hmotnost [t] | R118: Hmotnost celkem [t] | S118: J. suť [t] | T118: Suť Celkem [t]
C119: Náklady soupisu celkem | J119: =J120 + J151 + J171 + J188 -> 0 | P119: =P120 + P151 + P171 + P188 -> 0 | R119: =R120 + R151 + R171 + R188 -> 6.2208 | T119: =T120 + T151 + T171 + T188 -> 0
D120: D | E120: HSV | F120: Práce a dodávky HSV | J120: =J121 -> 0 | P120: =P121 -> 0 | R120: =R121 -> 0 | T120: =T121 -> 0 | AR120: 1 | AT120: D | AU120: 0 | AY120: ROZPOCET | BJ120: 0
D121: D | E121: 1 | F121: Zemní práce | J121: =J122 + J127 + J135 + J140 + J146 -> 0 | P121: =P122 + P127 + P135 + P140 + P146 -> 0 | R121: =R122 + R127 + R135 + R140 + R146 -> 0 | T121: =T122 + T127 + T135 + T140 + T146 -> 0 | AR121: 1 | AT121: D | AU121: 1 | AY121: ROZPOCET | BJ121: 0
C122: 40 | D122: K | E122: 132251251 | F122: Hloubení rýh nezapažených š do 2000 mm v hornině třídy těžitelnosti I skupiny 3 objem do 20 m3 strojně | G122: m3 | H122: 19.32 | J122: =ROUND(H122*I122,2) -> 0 | K122: CS ÚRS 2026 02 | N122: základní | P122: =H122*O122 -> 0 | Q122: 0 | R122: =H122*Q122 -> 0 | S122: 0 | T122: =H122*S122 -> 0 | AR122: 4 | AT122: K | AU122: 2 | AY122: ROZPOCET | BE122: =IF(N122="základní",J122,0) -> 0 | BF122: =IF(N122="snížená",J122,0) -> 0 | BG122: =IF(N122="zákl. přenesená",J122,0) -> 0 | BH122: =IF(N122="sníž. přenesená",J122,0) -> 0 | BI122: =IF(N122="nulová",J122,0) -> 0 | BJ122: 1
D123: Online PSC | F123: https://podminky.urs.cz/item/CS_URS_2026_02/132251251 | AT123: Online PSC | AU123: 0 | AY123: ROZPOCET | BJ123: 0
D124: VV | F124: Výkop pro základy mostků | AT124: VV | AU124: 0 | AV124: 1 | AW124: TRUE | AY124: ROZPOCET | BJ124: 0
D125: VV | F125: 1,610*3*2*2 | H125: 19.32 | AT125: VV | AU125: 0 | AV125: 2 | AW125: TRUE | AY125: ROZPOCET | BJ125: 0
D126: VV | F126: Součet | H126: 19.32 | AT126: VV | AU126: 0 | AV126: 4 | AW126: TRUE | AX126: TRUE | AY126: ROZPOCET | BJ126: 0
C127: 41 | D127: K | E127: 162351103 | F127: Vodorovné přemístění přes 50 do 500 m výkopku/sypaniny z horniny třídy těžitelnosti I skupiny 1 až 3 | G127: m3 | H127: 30.84 | J127: =ROUND(H127*I127,2) -> 0 | K127: CS ÚRS 2026 02 | N127: základní | P127: =H127*O127 -> 0 | Q127: 0 | R127: =H127*Q127 -> 0 | S127: 0 | T127: =H127*S127 -> 0 | AR127: 4 | AT127: K | AU127: 2 | AY127: ROZPOCET | BE127: =IF(N127="základní",J127,0) -> 0 | BF127: =IF(N127="snížená",J127,0) -> 0 | BG127: =IF(N127="zákl. přenesená",J127,0) -> 0 | BH127: =IF(N127="sníž. přenesená",J127,0) -> 0 | BI127: =IF(N127="nulová",J127,0) -> 0 | BJ127: 1
D128: Online PSC | F128: https://podminky.urs.cz/item/CS_URS_2026_02/162351103 | AT128: Online PSC | AU128: 0 | AY128: ROZPOCET | BJ128: 0
D129: P | F129: Poznámka k položce:_x000D_ Předpokládá se uložení přebytečné zeminy v rámci staveniště. | AT129: P | AU129: 0 | AY129: ROZPOCET | BJ129: 0
D130: VV | F130: Rýhy | AT130: VV | AU130: 0 | AV130: 1 | AW130: TRUE | AY130: ROZPOCET | BJ130: 0
D131: VV | F131: SO.11 - Rýhy 800-2000 mm, do 20 m3 | H131: 19.32 | AT131: VV | AU131: 0 | AV131: 2 | AW131: TRUE | AY131: ROZPOCET | BJ131: 0
D132: VV | F132: Zemina pro zpětné zásypy | AT132: VV | AU132: 0 | AV132: 1 | AW132: TRUE | AY132: ROZPOCET | BJ132: 0
D133: VV | F133: SO.11 - Zásypy se zhutněním | H133: 11.52 | AT133: VV | AU133: 0 | AV133: 2 | AW133: TRUE | AY133: ROZPOCET | BJ133: 0
D134: VV | F134: Součet | H134: 30.84 | AT134: VV | AU134: 0 | AV134: 4 | AW134: TRUE | AX134: TRUE | AY134: ROZPOCET | BJ134: 0
C135: 42 | D135: K | E135: 167151101 | F135: Nakládání výkopku z hornin třídy těžitelnosti I skupiny 1 až 3 do 100 m3 strojně | G135: m3 | H135: 11.52 | J135: =ROUND(H135*I135,2) -> 0 | K135: CS ÚRS 2026 02 | N135: základní | P135: =H135*O135 -> 0 | Q135: 0 | R135: =H135*Q135 -> 0 | S135: 0 | T135: =H135*S135 -> 0 | AR135: 4 | AT135: K | AU135: 2 | AY135: ROZPOCET | BE135: =IF(N135="základní",J135,0) -> 0 | BF135: =IF(N135="snížená",J135,0) -> 0 | BG135: =IF(N135="zákl. přenesená",J135,0) -> 0 | BH135: =IF(N135="sníž. přenesená",J135,0) -> 0 | BI135: =IF(N135="nulová",J135,0) -> 0 | BJ135: 1
D136: Online PSC | F136: https://podminky.urs.cz/item/CS_URS_2026_02/167151101 | AT136: Online PSC | AU136: 0 | AY136: ROZPOCET | BJ136: 0
D137: VV | F137: Zpětné zásypy | AT137: VV | AU137: 0 | AV137: 1 | AW137: TRUE | AY137: ROZPOCET | BJ137: 0
D138: VV | F138: SO.11 - Zásypy se zhutněním | H138: 11.52 | AT138: VV | AU138: 0 | AV138: 2 | AW138: TRUE | AY138: ROZPOCET | BJ138: 0
D139: VV | F139: Součet | H139: 11.52 | AT139: VV | AU139: 0 | AV139: 4 | AW139: TRUE | AX139: TRUE | AY139: ROZPOCET | BJ139: 0
C140: 43 | D140: K | E140: 171251201 | F140: Uložení sypaniny na skládky nebo meziskládky | G140: m3 | H140: 19.32 | J140: =ROUND(H140*I140,2) -> 0 | K140: CS ÚRS 2026 02 | N140: základní | P140: =H140*O140 -> 0 | Q140: 0 | R140: =H140*Q140 -> 0 | S140: 0 | T140: =H140*S140 -> 0 | AR140: 4 | AT140: K | AU140: 2 | AY140: ROZPOCET | BE140: =IF(N140="základní",J140,0) -> 0 | BF140: =IF(N140="snížená",J140,0) -> 0 | BG140: =IF(N140="zákl. přenesená",J140,0) -> 0 | BH140: =IF(N140="sníž. přenesená",J140,0) -> 0 | BI140: =IF(N140="nulová",J140,0) -> 0 | BJ140: 1
D141: Online PSC | F141: https://podminky.urs.cz/item/CS_URS_2026_02/171251201 | AT141: Online PSC | AU141: 0 | AY141: ROZPOCET | BJ141: 0
D142: P | F142: Poznámka k položce:_x000D_ Předpokládá se uložení přebytečné zeminy v rámci staveniště. | AT142: P | AU142: 0 | AY142: ROZPOCET | BJ142: 0
D143: VV | F143: Rýhy | AT143: VV | AU143: 0 | AV143: 1 | AW143: TRUE | AY143: ROZPOCET | BJ143: 0
D144: VV | F144: SO.11 - Rýhy 800-2000 mm, do 20 m3 | H144: 19.32 | AT144: VV | AU144: 0 | AV144: 2 | AW144: TRUE | AY144: ROZPOCET | BJ144: 0
D145: VV | F145: Součet | H145: 19.32 | AT145: VV | AU145: 0 | AV145: 4 | AW145: TRUE | AX145: TRUE | AY145: ROZPOCET | BJ145: 0
C146: 44 | D146: K | E146: 174151101 | F146: Zásyp jam, šachet rýh nebo kolem objektů sypaninou se zhutněním strojně | G146: m3 | H146: 11.52 | J146: =ROUND(H146*I146,2) -> 0 | K146: CS ÚRS 2026 02 | N146: základní | P146: =H146*O146 -> 0 | Q146: 0 | R146: =H146*Q146 -> 0 | S146: 0 | T146: =H146*S146 -> 0 | AR146: 4 | AT146: K | AU146: 2 | AY146: ROZPOCET | BE146: =IF(N146="základní",J146,0) -> 0 | BF146: =IF(N146="snížená",J146,0) -> 0 | BG146: =IF(N146="zákl. přenesená",J146,0) -> 0 | BH146: =IF(N146="sníž. přenesená",J146,0) -> 0 | BI146: =IF(N146="nulová",J146,0) -> 0 | BJ146: 1
D147: Online PSC | F147: https://podminky.urs.cz/item/CS_URS_2026_02/174151101 | AT147: Online PSC | AU147: 0 | AY147: ROZPOCET | BJ147: 0
D148: VV | F148: Základy mostků | AT148: VV | AU148: 0 | AV148: 1 | AW148: TRUE | AY148: ROZPOCET | BJ148: 0
D149: VV | F149: (0,820+0,140)*3*2*2 | H149: 11.52 | AT149: VV | AU149: 0 | AV149: 2 | AW149: TRUE | AY149: ROZPOCET | BJ149: 0
D150: VV | F150: Součet | H150: 11.52 | AT150: VV | AU150: 0 | AV150: 4 | AW150: TRUE | AX150: TRUE | AY150: ROZPOCET | BJ150: 0
D151: D | E151: 2 | F151: Základy | J151: =J152 + J160 + J167 -> 0 | P151: =P152 + P160 + P167 -> 0 | R151: =R152 + R160 + R167 -> 6.2208 | T151: =T152 + T160 + T167 -> 0 | AR151: 1 | AT151: D | AU151: 0 | AY151: ROZPOCET | BJ151: 0
C152: 45 | D152: K | E152: 271532212 | F152: Podsyp pod základové konstrukce se zhutněním z hrubého kameniva frakce 16 až 32 mm | G152: m3 | H152: 2.88 | J152: =ROUND(H152*I152,2) -> 0 | K152: CS ÚRS 2026 02 | N152: základní | P152: =H152*O152 -> 0 | Q152: 2.16 | R152: =H152*Q152 -> 6.2208 | S152: 0 | T152: =H152*S152 -> 0 | AR152: 4 | AT152: K | AU152: 1 | AY152: ROZPOCET | BE152: =IF(N152="základní",J152,0) -> 0 | BF152: =IF(N152="snížená",J152,0) -> 0 | BG152: =IF(N152="zákl. přenesená",J152,0) -> 0 | BH152: =IF(N152="sníž. přenesená",J152,0) -> 0 | BI152: =IF(N152="nulová",J152,0) -> 0 | BJ152: 1
D153: Online PSC | F153: https://podminky.urs.cz/item/CS_URS_2026_02/271532212 | AT153: Online PSC | AU153: 0 | AY153: ROZPOCET | BJ153: 0
D154: VV | F154: Základové prahy mostků | AT154: VV | AU154: 0 | AV154: 1 | AW154: TRUE | AY154: ROZPOCET | BJ154: 0
D155: VV | F155: Most 1 | AT155: VV | AU155: 0 | AV155: 1 | AW155: TRUE | AY155: ROZPOCET | BJ155: 0
D156: VV | F156: 0,240*3*2 | H156: 1.44 | AT156: VV | AU156: 0 | AV156: 2 | AW156: TRUE | AY156: ROZPOCET | BJ156: 0
D157: VV | F157: Most 2 | AT157: VV | AU157: 0 | AV157: 1 | AW157: TRUE | AY157: ROZPOCET | BJ157: 0
D158: VV | F158: 0,240*3*2 | H158: 1.44 | AT158: VV | AU158: 0 | AV158: 2 | AW158: TRUE | AY158: ROZPOCET | BJ158: 0
D159: VV | F159: Součet | H159: 2.88 | AT159: VV | AU159: 0 | AV159: 4 | AW159: TRUE | AX159: TRUE | AY159: ROZPOCET | BJ159: 0
C160: 46 | D160: K | E160: 272325 | F160: ZÁKLADY ZE ŽELEZOBETONU DO C30/37 | G160: M3 | H160: 7.02 | J160: =ROUND(H160*I160,2) -> 0 | K160: 2023_OTSKP ~ 2023_OTSKP | N160: základní | P160: =H160*O160 -> 0 | Q160: 0 | R160: =H160*Q160 -> 0 | S160: 0 | T160: =H160*S160 -> 0 | AR160: 4 | AT160: K | AU160: 1 | AY160: ROZPOCET | BE160: =IF(N160="základní",J160,0) -> 0 | BF160: =IF(N160="snížená",J160,0) -> 0 | BG160: =IF(N160="zákl. přenesená",J160,0) -> 0 | BH160: =IF(N160="sníž. přenesená",J160,0) -> 0 | BI160: =IF(N160="nulová",J160,0) -> 0 | BJ160: 1
D161: P | F161: Poznámka k položce:_x000D_ - dodání čerstvého betonu (betonové směsi) požadované kvality, jeho uložení do požadovaného tvaru při jakékoliv hustotě výztuže, konzistenci čerstvého betonu a způsobu hutnění, ošetření a ochranu betonu, - zhotovení nepropustného, mrazuvzdorného betonu a betonu požadované trvanlivosti a vlastností, - užití potřebných přísad a technologií výroby betonu, - zřízení pracovních a dilatačních spar, včetně potřebných úprav, výplně, vložek, opracování, očištění a ošetření, - bednění požadovaných konstr. (i ztracené) s úpravou dle požadované kvality povrchu betonu, včetně odbedňovacích a odskružovacích prostředků, - podpěrné konstr. (skruže) a lešení všech druhů pro bednění, uložení čerstvého betonu, výztuže a doplňkových konstr., vč. požadovaných otvorů, ochranných a bezpečnostních opatření a základů těchto konstrukcí a lešení, - vytvoření kotevních čel, kapes, nálitků, a sedel, - zřízení všech požadovaných otvorů, kapes, výklenků, prostupů, dutin, drážek a pod., vč. ztížení práce a úprav kolem nich, - úpravy pro osazení výztuže, doplňkových konstrukcí a vybavení, - úpravy povrchu pro položení požadované izolace, povlaků a nátěrů, případně vyspravení, - ztížení práce u kabelových a injektážních trubek a ostatních zařízení osazovaných do betonu, - konstrukce betonových kloubů, upevnění kotevních prvků a doplňkových konstrukcí, - nátěry zabraňující soudržnost betonu a bednění, - výplň, těsnění a tmelení spar a spojů, - opatření povrchů betonu izolací proti zemní vlhkosti v částech, kde přijdou do styku se zeminou nebo kamenivem, - případné zřízení spojovací vrstvy u základů, - úpravy pro osazení zařízení ochrany konstrukce proti vlivu bludných proudů, | AT161: P | AU161: 0 | AY161: ROZPOCET | BJ161: 0
...

Sheet SO.12-K - Kácení
L2: >> skryté sloupce << | AT2: {00b0d1dd-0000-0000-0000-000000000000}
AT3: 2
D4: KRYCÍ LIST SOUPISU PRACÍ | AT4: FALSE
D6: Stavba:
E7: REVITALIZACE ZÁMECKÉHO PARKU ‐ TVRZIŠTĚ KLUČOV | AA7: =E7 -> REVITALIZACE ZÁMECKÉHO PARKU ‐ TVRZIŠTĚ KLUČOV
D8: Objekt:
E9: SO.12 - SADOVÉ ÚPRAVY A ZÁVLAHA | AA9: =E9 -> SO.12 - SADOVÉ ÚPRAVY A ZÁVLAHA
D10: Soupis:
E11: SO.12-K - Kácení | AA11: =E11 -> SO.12-K - Kácení
D13: KSO: | I13: CZ-CC:
D14: Místo: | I14: Datum: | J14: ='Rekapitulace stavby'!AN8 -> 46300
D16: Zadavatel: | I16: IČ: | J16: 00235431
E17: Obec Klučov | I17: DIČ:
D19: Zhotovitel: | I19: =I16 -> IČ: | J19: ='Rekapitulace stavby'!AN13 -> Vyplň údaj
E20: ='Rekapitulace stavby'!E14 -> Vyplň údaj | I20: =I17 -> DIČ: | J20: ='Rekapitulace stavby'!AN14 -> Vyplň údaj
D22: Projektant: | I22: =I16 -> IČ:
E23: Studio Anarchitekt s.r.o. | I23: =I17 -> DIČ:
D25: Zpracovatel: | I25: =I16 -> IČ: | J25: 05649358
E26: Ing. Theodor Collino | I26: =I17 -> DIČ: | J26: CZ8201043686
D28: Poznámka:
E29: ZPŮSOBILÉ VÝDAJE | AA29: =E29 -> ZPŮSOBILÉ VÝDAJE
D32: Cena bez DPH | J32: =ROUND(J116,2) -> 0
F34: Základ daně | I34: Sazba daně | J34: Výše daně
D35: DPH | E35: základní | F35: =SUM(BE116:BE187) -> 0 | I35: 0.21 | J35: =ROUND(F35*I35,2) -> 0
D38: Cena s DPH | G38: v | H38: CZK | J38: =SUM(J32:J36) -> 0
D45: =D22 -> Projektant: | G45: =D25 -> Zpracovatel:
D56: Datum a podpis: | F56: Razítko | G56: =D56 -> Datum a podpis: | J56: =F56 -> Razítko
D60: =D16 -> Zadavatel: | G60: =D19 -> Zhotovitel:
D71: =D56 -> Datum a podpis: | F71: =F56 -> Razítko | G71: =D56 -> Datum a podpis: | J71: =F56 -> Razítko
C77: REKAPITULACE ROZPOČTU
C79: Stavba:
E80: REVITALIZACE ZÁMECKÉHO PARKU ‐ TVRZIŠTĚ KLUČOV | AA80: REVITALIZACE ZÁMECKÉHO PARKU ‐ TVRZIŠTĚ KLUČOV
C81: Objekt:
E82: SO.12 - SADOVÉ ÚPRAVY A ZÁVLAHA | AA82: SO.12 - SADOVÉ ÚPRAVY A ZÁVLAHA
C83: Soupis:
E84: SO.12-K - Kácení | AA84: SO.12-K - Kácení
C86: Místo: | I86: =I14 -> Datum: | J86: =J14 -> 46300
C88: Zadavatel: | F88: Obec Klučov | I88: =D22 -> Projektant: | J88: =IF(E23="","",E23) -> Studio Anarchitekt s.r.o.
C89: Zhotovitel: | F89: =IF(E20="Vyplň údaj","",E20) | I89: =D25 -> Zpracovatel: | J89: =IF(E26="","",E26) -> Ing. Theodor Collino
C91: Kód dílu - Popis | J91: Cena celkem [CZK]
C93: Náklady celkem | J93: =J116 -> 0
D94: HSV - Práce a dodávky HSV | J94: =J117 -> 0
D95: 1 - Zemní práce | J95: =J118 -> 0
C101: SOUPIS PRACÍ | M101: v --- níže se nacházejí doplnkové a pomocné údaje k sestavám --- v
C103: =D6 -> Stavba:
E104: =IF(E7="","",E7) -> REVITALIZACE ZÁMECKÉHO PARKU ‐ TVRZIŠTĚ KLUČOV | AA104: =IF(AA7="","",AA7) -> REVITALIZACE ZÁMECKÉHO PARKU ‐ TVRZIŠTĚ KLUČOV
C105: =D8 -> Objekt:
E106: =E9 -> SO.12 - SADOVÉ ÚPRAVY A ZÁVLAHA | AA106: =AA9 -> SO.12 - SADOVÉ ÚPRAVY A ZÁVLAHA
C107: =D10 -> Soupis:
E108: =E11 -> SO.12-K - Kácení | AA108: =AA11 -> SO.12-K - Kácení
C110: =D14 -> Místo: | F110: =IF(F14="","",F14) | I110: =I14 -> Datum: | J110: =J14 -> 46300
C112: =D16 -> Zadavatel: | F112: =IF(E17="","",E17) -> Obec Klučov | I112: =D22 -> Projektant: | J112: =IF(E23="","",E23) -> Studio Anarchitekt s.r.o.
C113: =D19 -> Zhotovitel: | F113: =IF(E20="Vyplň údaj","",E20) | I113: =D25 -> Zpracovatel: | J113: =IF(E26="","",E26) -> Ing. Theodor Collino
C115: PČ | D115: Typ | E115: Kód | F115: Popis | G115: MJ | H115: Množství | I115: J. cena [CZK] | J115: Cena celkem [CZK] | K115: Cenová soustava | N115: DPH | O115: J. Nh [h] | P115: Nh celkem [h] | Q115: J. hmotnost [t] | R115: Hmotnost celkem [t] | S115: J. suť [t] | T115: Suť Celkem [t]
C116: Náklady soupisu celkem | J116: =J117 -> 0 | P116: =P117 -> 0 | R116: =R117 -> 0.11433 | T116: =T117 -> 0
D117: D | E117: HSV | F117: Práce a dodávky HSV | J117: =J118 -> 0 | P117: =P118 -> 0 | R117: =R118 -> 0.11433 | T117: =T118 -> 0 | AR117: 1 | AT117: D | AU117: 0 | AY117: ROZPOCET | BJ117: 0
D118: D | E118: 1 | F118: Zemní práce | J118: =J119 + J121 + J138 + J148 + J155 + J174 + J178 + J182 -> 0 | P118: =P119 + P121 + P138 + P148 + P155 + P174 + P178 + P182 -> 0 | R118: =R119 + R121 + R138 + R148 + R155 + R174 + R178 + R182 -> 0.11433 | T118: =T119 + T121 + T138 + T148 + T155 + T174 + T178 + T182 -> 0 | AR118: 1 | AT118: D | AU118: 1 | AY118: ROZPOCET | BJ118: 0
C119: 52 | D119: K | E119: 111209111 | F119: Spálení proutí a klestu | G119: m2 | H119: 3766 | J119: =ROUND(H119*I119,2) -> 0 | K119: CS ÚRS 2026 01 | N119: základní | P119: =H119*O119 -> 0 | Q119: 3e-05 | R119: =H119*Q119 -> 0.11298 | S119: 0 | T119: =H119*S119 -> 0 | AR119: 4 | AT119: K | AU119: 2 | AY119: ROZPOCET | BE119: =IF(N119="základní",J119,0) -> 0 | BF119: =IF(N119="snížená",J119,0) -> 0 | BG119: =IF(N119="zákl. přenesená",J119,0) -> 0 | BH119: =IF(N119="sníž. přenesená",J119,0) -> 0 | BI119: =IF(N119="nulová",J119,0) -> 0 | BJ119: 1
D120: Online PSC | F120: https://podminky.urs.cz/item/CS_URS_2026_01/111209111 | AT120: Online PSC | AU120: 0 | AY120: ROZPOCET | BJ120: 0
C121: 53 | D121: K | E121: 111212211 | F121: Odstranění nevhodných dřevin do 100 m2 v do 1 m s odstraněním pařezů v rovině nebo svahu do 1:5 | G121: m2 | H121: 398 | J121: =ROUND(H121*I121,2) -> 0 | K121: CS ÚRS 2026 01 | N121: základní | P121: =H121*O121 -> 0 | Q121: 0 | R121: =H121*Q121 -> 0 | S121: 0 | T121: =H121*S121 -> 0 | AR121: 4 | AT121: K | AU121: 2 | AY121: ROZPOCET | BE121: =IF(N121="základní",J121,0) -> 0 | BF121: =IF(N121="snížená",J121,0) -> 0 | BG121: =IF(N121="zákl. přenesená",J121,0) -> 0 | BH121: =IF(N121="sníž. přenesená",J121,0) -> 0 | BI121: =IF(N121="nulová",J121,0) -> 0 | BJ121: 1
D122: Online PSC | F122: https://podminky.urs.cz/item/CS_URS_2026_01/111212211 | AT122: Online PSC | AU122: 0 | AY122: ROZPOCET | BJ122: 0
D123: VV | F123: 18 " líska obecná, ořešák královský, třešeň ptačí ( Corylus avellana, Juglans regia, Prunus avium ) | H123: 18 | AT123: VV | AU123: 0 | AV123: 2 | AW123: TRUE | AY123: ROZPOCET | BJ123: 0
D124: VV | F124: 88 " líska obecná, topol osika ( Corylus avellana, Populus tremula ) | H124: 88 | AT124: VV | AU124: 0 | AV124: 2 | AW124: TRUE | AY124: ROZPOCET | BJ124: 0
D125: VV | F125: 58 " bez černý ( Sambucus nigra ) | H125: 58 | AT125: VV | AU125: 0 | AV125: 2 | AW125: TRUE | AY125: ROZPOCET | BJ125: 0
D126: VV | F126: 33 " líska obecná ( Corylus avellana ) | H126: 33 | AT126: VV | AU126: 0 | AV126: 2 | AW126: TRUE | AY126: ROZPOCET | BJ126: 0
D127: VV | F127: 47 " brslen evropský, líska obecná ( Euonymus europaeus, Corylus avellana ) | H127: 47 | AT127: VV | AU127: 0 | AV127: 2 | AW127: TRUE | AY127: ROZPOCET | BJ127: 0
D128: VV | F128: 8 " jasan ztepilý ( Fraxinus excelsior ) | H128: 8 | AT128: VV | AU128: 0 | AV128: 2 | AW128: TRUE | AY128: ROZPOCET | BJ128: 0
D129: VV | F129: 19 " bez černý ( Sambucus nigra ) | H129: 19 | AT129: VV | AU129: 0 | AV129: 2 | AW129: TRUE | AY129: ROZPOCET | BJ129: 0
D130: VV | F130: 12 " bez černý, jasan ztepilý ( Sambucus nigra, Fraxinus excelsior ) | H130: 12 | AT130: VV | AU130: 0 | AV130: 2 | AW130: TRUE | AY130: ROZPOCET | BJ130: 0
D131: VV | F131: 3 " bez černý, jasan ztepilý ( Sambucus nigra, Fraxinus excelsior ) | H131: 3 | AT131: VV | AU131: 0 | AV131: 2 | AW131: TRUE | AY131: ROZPOCET | BJ131: 0
D132: VV | F132: 12 " bez černý, jasan ztepilý ( Sambucus nigra, Fraxinus excelsior ) | H132: 12 | AT132: VV | AU132: 0 | AV132: 2 | AW132: TRUE | AY132: ROZPOCET | BJ132: 0
D133: VV | F133: 67 " bez černý, růže šípková ( Sambucus nigra, Rosa canina ) | H133: 67 | AT133: VV | AU133: 0 | AV133: 2 | AW133: TRUE | AY133: ROZPOCET | BJ133: 0
D134: VV | F134: 29 " růže šípková, svída krvavá ( Rosa canina, Cornus sanguinea ) | H134: 29 | AT134: VV | AU134: 0 | AV134: 2 | AW134: TRUE | AY134: ROZPOCET | BJ134: 0
D135: VV | F135: 4 " jasan ztepilý ( Fraxinus excelsior ) | H135: 4 | AT135: VV | AU135: 0 | AV135: 2 | AW135: TRUE | AY135: ROZPOCET | BJ135: 0
D136: VV | F136: Součet 398,0 | AT136: VV | AU136: 0 | AV136: 1 | AW136: TRUE | AY136: ROZPOCET | BJ136: 0
D137: VV | F137: Součet | H137: 398 | AT137: VV | AU137: 0 | AV137: 4 | AW137: TRUE | AX137: TRUE | AY137: ROZPOCET | BJ137: 0
C138: 54 | D138: K | E138: 111212215 | F138: Odstranění nevhodných dřevin přes 100 do 500 m2 v do 1 m s odstraněním pařezů v rovině nebo svahu do 1:5 | G138: m2 | H138: 1323 | J138: =ROUND(H138*I138,2) -> 0 | K138: CS ÚRS 2026 01 | N138: základní | P138: =H138*O138 -> 0 | Q138: 0 | R138: =H138*Q138 -> 0 | S138: 0 | T138: =H138*S138 -> 0 | AR138: 4 | AT138: K | AU138: 2 | AY138: ROZPOCET | BE138: =IF(N138="základní",J138,0) -> 0 | BF138: =IF(N138="snížená",J138,0) -> 0 | BG138: =IF(N138="zákl. přenesená",J138,0) -> 0 | BH138: =IF(N138="sníž. přenesená",J138,0) -> 0 | BI138: =IF(N138="nulová",J138,0) -> 0 | BJ138: 1
D139: Online PSC | F139: https://podminky.urs.cz/item/CS_URS_2026_01/111212215 | AT139: Online PSC | AU139: 0 | AY139: ROZPOCET | BJ139: 0
D140: VV | F140: 226 " bez černý, brslen evropský, jasan ztepilý, ořešák královský ( Sambucus nigra, Euonymus europaeus, Fraxinus excelsior, Juglans regia ) | H140: 226 | AT140: VV | AU140: 0 | AV140: 2 | AW140: TRUE | AY140: ROZPOCET | BJ140: 0
D141: VV | F141: 245 " brslen evropský, hloh jednosemenný, jasan ztepilý, ořešák královský, pustoryl věncový, slivoň myrobalán, třešeň ptačí ( Euonymus europaeus, Crat | H141: 245 | AT141: VV | AU141: 0 | AV141: 2 | AW141: TRUE | AY141: ROZPOCET | BJ141: 0
D142: VV | F142: 421 " bez černý, brslen evropský, jasan ztepilý, líska obecná, slivoň myrobalán, třešeň ptačí ( Sambucus nigra, Euonymus europaeus, Fraxinus excelsior | H142: 421 | AT142: VV | AU142: 0 | AV142: 2 | AW142: TRUE | AY142: ROZPOCET | BJ142: 0
D143: VV | F143: 111 " bez černý, brslen evropský, jasan ztepilý, ořešák královský ( Sambucus nigra, Euonymus europaeus, Fraxinus excelsior, Juglans regia ) | H143: 111 | AT143: VV | AU143: 0 | AV143: 2 | AW143: TRUE | AY143: ROZPOCET | BJ143: 0
D144: VV | F144: 207 " bez černý, líska obecná, slivoň myrobalán ( Sambucus nigra, Corylus avellana, Prunus cerasifera ) | H144: 207 | AT144: VV | AU144: 0 | AV144: 2 | AW144: TRUE | AY144: ROZPOCET | BJ144: 0
D145: VV | F145: 113 " bez černý, ořešák královský, slivoň myrobalán ( Sambucus nigra, Juglans regia, Prunus cerasifera ) | H145: 113 | AT145: VV | AU145: 0 | AV145: 2 | AW145: TRUE | AY145: ROZPOCET | BJ145: 0
D146: VV | F146: Součet 1323,0 | AT146: VV | AU146: 0 | AV146: 1 | AW146: TRUE | AY146: ROZPOCET | BJ146: 0
D147: VV | F147: Součet | H147: 1323 | AT147: VV | AU147: 0 | AV147: 4 | AW147: TRUE | AX147: TRUE | AY147: ROZPOCET | BJ147: 0
C148: 55 | D148: K | E148: 111212221 | F148: Odstranění nevhodných dřevin přes 500 m2 v do 1 m s odstraněním pařezů v rovině nebo svahu do 1:5 | G148: m2 | H148: 2045 | J148: =ROUND(H148*I148,2) -> 0 | K148: CS ÚRS 2026 01 | N148: základní | P148: =H148*O148 -> 0 | Q148: 0 | R148: =H148*Q148 -> 0 | S148: 0 | T148: =H148*S148 -> 0 | AR148: 4 | AT148: K | AU148: 2 | AY148: ROZPOCET | BE148: =IF(N148="základní",J148,0) -> 0 | BF148: =IF(N148="snížená",J148,0) -> 0 | BG148: =IF(N148="zákl. přenesená",J148,0) -> 0 | BH148: =IF(N148="sníž. přenesená",J148,0) -> 0 | BI148: =IF(N148="nulová",J148,0) -> 0 | BJ148: 1
D149: Online PSC | F149: https://podminky.urs.cz/item/CS_URS_2026_01/111212221 | AT149: Online PSC | AU149: 0 | AY149: ROZPOCET | BJ149: 0
D150: VV | F150: 715 " bez černý, ořešák královský, vrba křehká ( Sambucus nigra, Juglans regia, Salix Fragilis ) | H150: 715 | AT150: VV | AU150: 0 | AV150: 2 | AW150: TRUE | AY150: ROZPOCET | BJ150: 0
D151: VV | F151: 650 " jasan ztepilý, líska obecná, ořešák královský, růže šípková, slivoň myrobalán ( Fraxinus excelsior, Corylus avellana, Juglans regia, Rosa canina | H151: 650 | AT151: VV | AU151: 0 | AV151: 2 | AW151: TRUE | AY151: ROZPOCET | BJ151: 0
D152: VV | F152: 680 " bez černý, brslen evropský, hloh jednosemenný, jasan ztepilý, líska obecná, ořešák královský, růže šípková, slivoň myrobalán, třešeň ptačí, topo | H152: 680 | AT152: VV | AU152: 0 | AV152: 2 | AW152: TRUE | AY152: ROZPOCET | BJ152: 0
D153: VV | F153: Součet 2045,0 | AT153: VV | AU153: 0 | AV153: 1 | AW153: TRUE | AY153: ROZPOCET | BJ153: 0
D154: VV | F154: Součet | H154: 2045 | AT154: VV | AU154: 0 | AV154: 4 | AW154: TRUE | AX154: TRUE | AY154: ROZPOCET | BJ154: 0
C155: 56 | D155: K | E155: 111212351 | F155: Odstranění nevhodných dřevin do 100 m2 v přes 1 m s odstraněním pařezů v rovině nebo svahu do 1:5 | G155: m2 | H155: 15 | J155: =ROUND(H155*I155,2) -> 0 | K155: CS ÚRS 2026 01 | N155: základní | P155: =H155*O155 -> 0 | Q155: 0 | R155: =H155*Q155 -> 0 | S155: 0 | T155: =H155*S155 -> 0 | AR155: 4 | AT155: K | AU155: 2 | AY155: ROZPOCET | BE155: =IF(N155="základní",J155,0) -> 0 | BF155: =IF(N155="snížená",J155,0) -> 0 | BG155: =IF(N155="zákl. přenesená",J155,0) -> 0 | BH155: =IF(N155="sníž. přenesená",J155,0) -> 0 | BI155: =IF(N155="nulová",J155,0) -> 0 | BJ155: 1
D156: Online PSC | F156: https://podminky.urs.cz/item/CS_URS_2026_01/111212351 | AT156: Online PSC | AU156: 0 | AY156: ROZPOCET | BJ156: 0
D157: VV | F157: 1 "hrušeň obecná (Pyrus communis) | H157: 1 | AT157: VV | AU157: 0 | AV157: 2 | AW157: TRUE | AY157: ROZPOCET | BJ157: 0
D158: VV | F158: 1 "jasan ztepilý (Fraxinus excelsior) | H158: 1 | AT158: VV | AU158: 0 | AV158: 2 | AW158: TRUE | AY158: ROZPOCET | BJ158: 0
D159: VV | F159: 1 "jasan ztepilý (Fraxinus excelsior) | H159: 1 | AT159: VV | AU159: 0 | AV159: 2 | AW159: TRUE | AY159: ROZPOCET | BJ159: 0
D160: VV | F160: 1 "jasan ztepilý (Fraxinus excelsior) | H160: 1 | AT160: VV | AU160: 0 | AV160: 2 | AW160: TRUE | AY160: ROZPOCET | BJ160: 0
D161: VV | F161: 1 "hrušeň obecná (Pyrus communis) | H161: 1 | AT161: VV | AU161: 0 | AV161: 2 | AW161: TRUE | AY161: ROZPOCET | BJ161: 0
...

Sheet SO.12-N - Nové sadové úpravy
L2: >> skryté sloupce << | AT2: {00b0d1de-0000-0000-0000-000000000000}
AT3: 2
D4: KRYCÍ LIST SOUPISU PRACÍ | AT4: FALSE
D6: Stavba:
E7: REVITALIZACE ZÁMECKÉHO PARKU ‐ TVRZIŠTĚ KLUČOV | AA7: =E7 -> REVITALIZACE ZÁMECKÉHO PARKU ‐ TVRZIŠTĚ KLUČOV
D8: Objekt:
E9: SO.12 - SADOVÉ ÚPRAVY A ZÁVLAHA | AA9: =E9 -> SO.12 - SADOVÉ ÚPRAVY A ZÁVLAHA
D10: Soupis:
E11: SO.12-N - Nové sadové úpravy | AA11: =E11 -> SO.12-N - Nové sadové úpravy
D13: KSO: | I13: CZ-CC:
D14: Místo: | I14: Datum: | J14: ='Rekapitulace stavby'!AN8 -> 46300
D16: Zadavatel: | I16: IČ: | J16: 00235431
E17: Obec Klučov | I17: DIČ:
D19: Zhotovitel: | I19: =I16 -> IČ: | J19: ='Rekapitulace stavby'!AN13 -> Vyplň údaj
E20: ='Rekapitulace stavby'!E14 -> Vyplň údaj | I20: =I17 -> DIČ: | J20: ='Rekapitulace stavby'!AN14 -> Vyplň údaj
D22: Projektant: | I22: =I16 -> IČ:
E23: Studio Anarchitekt s.r.o. | I23: =I17 -> DIČ:
D25: Zpracovatel: | I25: =I16 -> IČ: | J25: 05649358
E26: Ing. Theodor Collino | I26: =I17 -> DIČ: | J26: CZ8201043686
D28: Poznámka:
E29: ZPŮSOBILÉ VÝDAJE | AA29: =E29 -> ZPŮSOBILÉ VÝDAJE
D32: Cena bez DPH | J32: =ROUND(J120,2) -> 0
F34: Základ daně | I34: Sazba daně | J34: Výše daně
D35: DPH | E35: základní | F35: =SUM(BE120:BE340) -> 0 | I35: 0.21 | J35: =ROUND(F35*I35,2) -> 0
D38: Cena s DPH | G38: v | H38: CZK | J38: =SUM(J32:J36) -> 0
D45: =D22 -> Projektant: | G45: =D25 -> Zpracovatel:
D56: Datum a podpis: | F56: Razítko | G56: =D56 -> Datum a podpis: | J56: =F56 -> Razítko
D60: =D16 -> Zadavatel: | G60: =D19 -> Zhotovitel:
D71: =D56 -> Datum a podpis: | F71: =F56 -> Razítko | G71: =D56 -> Datum a podpis: | J71: =F56 -> Razítko
C77: REKAPITULACE ROZPOČTU
C79: Stavba:
E80: REVITALIZACE ZÁMECKÉHO PARKU ‐ TVRZIŠTĚ KLUČOV | AA80: REVITALIZACE ZÁMECKÉHO PARKU ‐ TVRZIŠTĚ KLUČOV
C81: Objekt:
E82: SO.12 - SADOVÉ ÚPRAVY A ZÁVLAHA | AA82: SO.12 - SADOVÉ ÚPRAVY A ZÁVLAHA
C83: Soupis:
E84: SO.12-N - Nové sadové úpravy | AA84: SO.12-N - Nové sadové úpravy
C86: Místo: | I86: =I14 -> Datum: | J86: =J14 -> 46300
C88: Zadavatel: | F88: Obec Klučov | I88: =D22 -> Projektant: | J88: =IF(E23="","",E23) -> Studio Anarchitekt s.r.o.
C89: Zhotovitel: | F89: =IF(E20="Vyplň údaj","",E20) | I89: =D25 -> Zpracovatel: | J89: =IF(E26="","",E26) -> Ing. Theodor Collino
C91: Kód dílu - Popis | J91: Cena celkem [CZK]
C93: Náklady celkem | J93: =J120 -> 0
D94: HSV - Práce a dodávky HSV | J94: =J121 -> 0
D95: 1 - Zemní práce | J95: =J122 -> 0
D96: 12 - Zemní práce - odkopávky a prokopávky | J96: =J179 -> 0
D97: 16 - Zemní práce - přemístění výkopku | J97: =J184 -> 0
D98: 18 - Zemní práce - povrchové úpravy terénu | J98: =J189 -> 0
D99: HSV - Práce a dodávky HSV | J99: =J340 -> 0
C105: SOUPIS PRACÍ | M105: v --- níže se nacházejí doplnkové a pomocné údaje k sestavám --- v
C107: =D6 -> Stavba:
E108: =IF(E7="","",E7) -> REVITALIZACE ZÁMECKÉHO PARKU ‐ TVRZIŠTĚ KLUČOV | AA108: =IF(AA7="","",AA7) -> REVITALIZACE ZÁMECKÉHO PARKU ‐ TVRZIŠTĚ KLUČOV
C109: =D8 -> Objekt:
E110: =E9 -> SO.12 - SADOVÉ ÚPRAVY A ZÁVLAHA | AA110: =AA9 -> SO.12 - SADOVÉ ÚPRAVY A ZÁVLAHA
C111: =D10 -> Soupis:
E112: =E11 -> SO.12-N - Nové sadové úpravy | AA112: =AA11 -> SO.12-N - Nové sadové úpravy
C114: =D14 -> Místo: | F114: =IF(F14="","",F14) | I114: =I14 -> Datum: | J114: =J14 -> 46300
C116: =D16 -> Zadavatel: | F116: =IF(E17="","",E17) -> Obec Klučov | I116: =D22 -> Projektant: | J116: =IF(E23="","",E23) -> Studio Anarchitekt s.r.o.
C117: =D19 -> Zhotovitel: | F117: =IF(E20="Vyplň údaj","",E20) | I117: =D25 -> Zpracovatel: | J117: =IF(E26="","",E26) -> Ing. Theodor Collino
C119: PČ | D119: Typ | E119: Kód | F119: Popis | G119: MJ | H119: Množství | I119: J. cena [CZK] | J119: Cena celkem [CZK] | K119: Cenová soustava | N119: DPH | O119: J. Nh [h] | P119: Nh celkem [h] | Q119: J. hmotnost [t] | R119: Hmotnost celkem [t] | S119: J. suť [t] | T119: Suť Celkem [t]
C120: Náklady soupisu celkem | J120: =J121 + J340 -> 0 | P120: =P121 + P340 -> 0 | R120: =R121 + R340 -> 27.228728 | T120: =T121 + T340 -> 0
D121: D | E121: HSV | F121: Práce a dodávky HSV | J121: =J122 -> 0 | P121: =P122 -> 0 | R121: =R122 -> 27.228728 | T121: =T122 -> 0 | AR121: 1 | AT121: D | AU121: 0 | AY121: ROZPOCET | BJ121: 0
D122: D | E122: 1 | F122: Zemní práce | J122: =J123 + J129 + J133 + J136 + SUM(J138:J157) + J162 + J166 + J170 + J175 + J179 + J184 + J189 -> 0 | P122: =P123 + P129 + P133 + P136 + SUM(P138:P157) + P162 + P166 + P170 + P175 + P179 + P184 + P189 -> 0 | R122: =R123 + R129 + R133 + R136 + SUM(R138:R157) + R162 + R166 + R170 + R175 + R179 + R184 + R189 -> 27.228728 | T122: =T123 + T129 + T133 + T136 + SUM(T138:T157) + T162 + T166 + T170 + T175 + T179 + T184 + T189 -> 0 | AR122: 1 | AT122: D | AU122: 1 | AY122: ROZPOCET | BJ122: 0
C123: 60 | D123: K | E123: 183101121 | F123: Hloubení jamek bez výměny půdy zeminy tř 1 až 4 obj přes 0,4 do 1 m3 v rovině a svahu do 1:5 | G123: kus | H123: 91 | J123: =ROUND(H123*I123,2) -> 0 | K123: CS ÚRS 2026 01 | N123: základní | P123: =H123*O123 -> 0 | Q123: 0 | R123: =H123*Q123 -> 0 | S123: 0 | T123: =H123*S123 -> 0 | AR123: 4 | AT123: K | AU123: 2 | AY123: ROZPOCET | BE123: =IF(N123="základní",J123,0) -> 0 | BF123: =IF(N123="snížená",J123,0) -> 0 | BG123: =IF(N123="zákl. přenesená",J123,0) -> 0 | BH123: =IF(N123="sníž. přenesená",J123,0) -> 0 | BI123: =IF(N123="nulová",J123,0) -> 0 | BJ123: 1
D124: Online PSC | F124: https://podminky.urs.cz/item/CS_URS_2026_01/183101121 | AT124: Online PSC | AU124: 0 | AY124: ROZPOCET | BJ124: 0
D125: VV | F125: Výsadba vzrostlého stromu | AT125: VV | AU125: 0 | AV125: 1 | AW125: TRUE | AY125: ROZPOCET | BJ125: 0
D126: VV | F126: 91 | H126: 91 | AT126: VV | AU126: 0 | AV126: 2 | AW126: TRUE | AY126: ROZPOCET | BJ126: 0
D127: VV | F127: Součet 91,0 | AT127: VV | AU127: 0 | AV127: 1 | AW127: TRUE | AY127: ROZPOCET | BJ127: 0
D128: VV | F128: Součet | H128: 91 | AT128: VV | AU128: 0 | AV128: 4 | AW128: TRUE | AX128: TRUE | AY128: ROZPOCET | BJ128: 0
C129: 61 | D129: K | E129: 183106611 | F129: Ochrana stromu protikořenovou clonou v rovině nebo na svahu do 1:5 hl do 500 mm | G129: m | H129: 76.155 | J129: =ROUND(H129*I129,2) -> 0 | K129: CS ÚRS 2026 01 | N129: základní | P129: =H129*O129 -> 0 | Q129: 0 | R129: =H129*Q129 -> 0 | S129: 0 | T129: =H129*S129 -> 0 | AR129: 4 | AT129: K | AU129: 2 | AY129: ROZPOCET | BE129: =IF(N129="základní",J129,0) -> 0 | BF129: =IF(N129="snížená",J129,0) -> 0 | BG129: =IF(N129="zákl. přenesená",J129,0) -> 0 | BH129: =IF(N129="sníž. přenesená",J129,0) -> 0 | BI129: =IF(N129="nulová",J129,0) -> 0 | BJ129: 1
D130: Online PSC | F130: https://podminky.urs.cz/item/CS_URS_2026_01/183106611 | AT130: Online PSC | AU130: 0 | AY130: ROZPOCET | BJ130: 0
D131: VV | F131: Instalace protikořenové fólie | H131: 76.155 | AT131: VV | AU131: 0 | AV131: 2 | AW131: TRUE | AY131: ROZPOCET | BJ131: 0
D132: VV | F132: Součet | H132: 76.155 | AT132: VV | AU132: 0 | AV132: 4 | AW132: TRUE | AX132: TRUE | AY132: ROZPOCET | BJ132: 0
C133: 62 | D133: M | E133: 69311085 | F133: geotextilie netkaná separační, ochranná, filtrační, drenážní PP 800g/m2 | G133: m2 | H133: 60.924 | J133: =ROUND(H133*I133,2) -> 0 | K133: CS ÚRS 2026 01 | N133: základní | P133: =H133*O133 -> 0 | Q133: 0.0008 | R133: =H133*Q133 -> 0.0487392 | S133: 0 | T133: =H133*S133 -> 0 | AR133: 8 | AT133: M | AU133: 2 | AY133: ROZPOCET | BE133: =IF(N133="základní",J133,0) -> 0 | BF133: =IF(N133="snížená",J133,0) -> 0 | BG133: =IF(N133="zákl. přenesená",J133,0) -> 0 | BH133: =IF(N133="sníž. přenesená",J133,0) -> 0 | BI133: =IF(N133="nulová",J133,0) -> 0 | BJ133: 1
D134: VV | F134: VV0001 (4) * 0,8 | H134: 60.924 | AT134: VV | AU134: 0 | AV134: 2 | AW134: TRUE | AY134: ROZPOCET | BJ134: 0
D135: VV | F135: Součet | H135: 60.924 | AT135: VV | AU135: 0 | AV135: 4 | AW135: TRUE | AX135: TRUE | AY135: ROZPOCET | BJ135: 0
C136: 63 | D136: K | E136: 184102115 | F136: Výsadba dřeviny s balem D přes 0,5 do 0,6 m do jamky se zalitím v rovině a svahu do 1:5 | G136: kus | H136: 91 | J136: =ROUND(H136*I136,2) -> 0 | K136: CS ÚRS 2026 01 | N136: základní | P136: =H136*O136 -> 0 | Q136: 0 | R136: =H136*Q136 -> 0 | S136: 0 | T136: =H136*S136 -> 0 | AR136: 4 | AT136: K | AU136: 2 | AY136: ROZPOCET | BE136: =IF(N136="základní",J136,0) -> 0 | BF136: =IF(N136="snížená",J136,0) -> 0 | BG136: =IF(N136="zákl. přenesená",J136,0) -> 0 | BH136: =IF(N136="sníž. přenesená",J136,0) -> 0 | BI136: =IF(N136="nulová",J136,0) -> 0 | BJ136: 1
D137: Online PSC | F137: https://podminky.urs.cz/item/CS_URS_2026_01/184102115 | AT137: Online PSC | AU137: 0 | AY137: ROZPOCET | BJ137: 0
C138: 64 | D138: M | E138: 026-S1 | F138: Quercus robur | G138: kus | H138: 11 | J138: =ROUND(H138*I138,2) -> 0 | N138: základní | P138: =H138*O138 -> 0 | Q138: 0.04 | R138: =H138*Q138 -> 0.44 | S138: 0 | T138: =H138*S138 -> 0 | AR138: 8 | AT138: M | AU138: 2 | AY138: ROZPOCET | BE138: =IF(N138="základní",J138,0) -> 0 | BF138: =IF(N138="snížená",J138,0) -> 0 | BG138: =IF(N138="zákl. přenesená",J138,0) -> 0 | BH138: =IF(N138="sníž. přenesená",J138,0) -> 0 | BI138: =IF(N138="nulová",J138,0) -> 0 | BJ138: 1
C139: 65 | D139: M | E139: 026-S2 | F139: Salix alba | G139: kus | H139: 1 | J139: =ROUND(H139*I139,2) -> 0 | N139: základní | P139: =H139*O139 -> 0 | Q139: 0.04 | R139: =H139*Q139 -> 0.04 | S139: 0 | T139: =H139*S139 -> 0 | AR139: 8 | AT139: M | AU139: 2 | AY139: ROZPOCET | BE139: =IF(N139="základní",J139,0) -> 0 | BF139: =IF(N139="snížená",J139,0) -> 0 | BG139: =IF(N139="zákl. přenesená",J139,0) -> 0 | BH139: =IF(N139="sníž. přenesená",J139,0) -> 0 | BI139: =IF(N139="nulová",J139,0) -> 0 | BJ139: 1
C140: 66 | D140: M | E140: 026-S3 | F140: Acer pseudoplatanus 'Atropurpureum' | G140: kus | H140: 6 | J140: =ROUND(H140*I140,2) -> 0 | N140: základní | P140: =H140*O140 -> 0 | Q140: 0.04 | R140: =H140*Q140 -> 0.24 | S140: 0 | T140: =H140*S140 -> 0 | AR140: 8 | AT140: M | AU140: 2 | AY140: ROZPOCET | BE140: =IF(N140="základní",J140,0) -> 0 | BF140: =IF(N140="snížená",J140,0) -> 0 | BG140: =IF(N140="zákl. přenesená",J140,0) -> 0 | BH140: =IF(N140="sníž. přenesená",J140,0) -> 0 | BI140: =IF(N140="nulová",J140,0) -> 0 | BJ140: 1
C141: 67 | D141: M | E141: 026-S4 | F141: Tilia platyphyllos 'Rubra' | G141: kus | H141: 9 | J141: =ROUND(H141*I141,2) -> 0 | N141: základní | P141: =H141*O141 -> 0 | Q141: 0.04 | R141: =H141*Q141 -> 0.36 | S141: 0 | T141: =H141*S141 -> 0 | AR141: 8 | AT141: M | AU141: 2 | AY141: ROZPOCET | BE141: =IF(N141="základní",J141,0) -> 0 | BF141: =IF(N141="snížená",J141,0) -> 0 | BG141: =IF(N141="zákl. přenesená",J141,0) -> 0 | BH141: =IF(N141="sníž. přenesená",J141,0) -> 0 | BI141: =IF(N141="nulová",J141,0) -> 0 | BJ141: 1
C142: 68 | D142: M | E142: 026-S5 | F142: Acer plata noides | G142: kus | H142: 19 | J142: =ROUND(H142*I142,2) -> 0 | N142: základní | P142: =H142*O142 -> 0 | Q142: 0.04 | R142: =H142*Q142 -> 0.76 | S142: 0 | T142: =H142*S142 -> 0 | AR142: 8 | AT142: M | AU142: 2 | AY142: ROZPOCET | BE142: =IF(N142="základní",J142,0) -> 0 | BF142: =IF(N142="snížená",J142,0) -> 0 | BG142: =IF(N142="zákl. přenesená",J142,0) -> 0 | BH142: =IF(N142="sníž. přenesená",J142,0) -> 0 | BI142: =IF(N142="nulová",J142,0) -> 0 | BJ142: 1
C143: 69 | D143: M | E143: 026-S6 | F143: Betula pendula (syn. Betula alba) | G143: kus | H143: 3 | J143: =ROUND(H143*I143,2) -> 0 | N143: základní | P143: =H143*O143 -> 0 | Q143: 0.04 | R143: =H143*Q143 -> 0.12 | S143: 0 | T143: =H143*S143 -> 0 | AR143: 8 | AT143: M | AU143: 2 | AY143: ROZPOCET | BE143: =IF(N143="základní",J143,0) -> 0 | BF143: =IF(N143="snížená",J143,0) -> 0 | BG143: =IF(N143="zákl. přenesená",J143,0) -> 0 | BH143: =IF(N143="sníž. přenesená",J143,0) -> 0 | BI143: =IF(N143="nulová",J143,0) -> 0 | BJ143: 1
C144: 70 | D144: M | E144: 026-S7 | F144: Acer ca mpestře | G144: kus | H144: 17 | J144: =ROUND(H144*I144,2) -> 0 | N144: základní | P144: =H144*O144 -> 0 | Q144: 0.04 | R144: =H144*Q144 -> 0.68 | S144: 0 | T144: =H144*S144 -> 0 | AR144: 8 | AT144: M | AU144: 2 | AY144: ROZPOCET | BE144: =IF(N144="základní",J144,0) -> 0 | BF144: =IF(N144="snížená",J144,0) -> 0 | BG144: =IF(N144="zákl. přenesená",J144,0) -> 0 | BH144: =IF(N144="sníž. přenesená",J144,0) -> 0 | BI144: =IF(N144="nulová",J144,0) -> 0 | BJ144: 1
C145: 71 | D145: M | E145: 026-S8 | F145: Populus alba | G145: kus | H145: 2 | J145: =ROUND(H145*I145,2) -> 0 | N145: základní | P145: =H145*O145 -> 0 | Q145: 0.04 | R145: =H145*Q145 -> 0.08 | S145: 0 | T145: =H145*S145 -> 0 | AR145: 8 | AT145: M | AU145: 2 | AY145: ROZPOCET | BE145: =IF(N145="základní",J145,0) -> 0 | BF145: =IF(N145="snížená",J145,0) -> 0 | BG145: =IF(N145="zákl. přenesená",J145,0) -> 0 | BH145: =IF(N145="sníž. přenesená",J145,0) -> 0 | BI145: =IF(N145="nulová",J145,0) -> 0 | BJ145: 1
C146: 72 | D146: M | E146: 026-S9 | F146: Salix alba 'Tristis' | G146: kus | H146: 1 | J146: =ROUND(H146*I146,2) -> 0 | N146: základní | P146: =H146*O146 -> 0 | Q146: 0.04 | R146: =H146*Q146 -> 0.04 | S146: 0 | T146: =H146*S146 -> 0 | AR146: 8 | AT146: M | AU146: 2 | AY146: ROZPOCET | BE146: =IF(N146="základní",J146,0) -> 0 | BF146: =IF(N146="snížená",J146,0) -> 0 | BG146: =IF(N146="zákl. přenesená",J146,0) -> 0 | BH146: =IF(N146="sníž. přenesená",J146,0) -> 0 | BI146: =IF(N146="nulová",J146,0) -> 0 | BJ146: 1
C147: 73 | D147: M | E147: 026-S10 | F147: Fagus sylvatica | G147: kus | H147: 2 | J147: =ROUND(H147*I147,2) -> 0 | N147: základní | P147: =H147*O147 -> 0 | Q147: 0.04 | R147: =H147*Q147 -> 0.08 | S147: 0 | T147: =H147*S147 -> 0 | AR147: 8 | AT147: M | AU147: 2 | AY147: ROZPOCET | BE147: =IF(N147="základní",J147,0) -> 0 | BF147: =IF(N147="snížená",J147,0) -> 0 | BG147: =IF(N147="zákl. přenesená",J147,0) -> 0 | BH147: =IF(N147="sníž. přenesená",J147,0) -> 0 | BI147: =IF(N147="nulová",J147,0) -> 0 | BJ147: 1
C148: 74 | D148: M | E148: 026-S11 | F148: Carpinus betulus | G148: kus | H148: 3 | J148: =ROUND(H148*I148,2) -> 0 | N148: základní | P148: =H148*O148 -> 0 | Q148: 0.04 | R148: =H148*Q148 -> 0.12 | S148: 0 | T148: =H148*S148 -> 0 | AR148: 8 | AT148: M | AU148: 2 | AY148: ROZPOCET | BE148: =IF(N148="základní",J148,0) -> 0 | BF148: =IF(N148="snížená",J148,0) -> 0 | BG148: =IF(N148="zákl. přenesená",J148,0) -> 0 | BH148: =IF(N148="sníž. přenesená",J148,0) -> 0 | BI148: =IF(N148="nulová",J148,0) -> 0 | BJ148: 1
C149: 75 | D149: M | E149: 026-S12 | F149: Sorbus aria 'magnifica' | G149: kus | H149: 3 | J149: =ROUND(H149*I149,2) -> 0 | N149: základní | P149: =H149*O149 -> 0 | Q149: 0.04 | R149: =H149*Q149 -> 0.12 | S149: 0 | T149: =H149*S149 -> 0 | AR149: 8 | AT149: M | AU149: 2 | AY149: ROZPOCET | BE149: =IF(N149="základní",J149,0) -> 0 | BF149: =IF(N149="snížená",J149,0) -> 0 | BG149: =IF(N149="zákl. přenesená",J149,0) -> 0 | BH149: =IF(N149="sníž. přenesená",J149,0) -> 0 | BI149: =IF(N149="nulová",J149,0) -> 0 | BJ149: 1
... C156: 82 | D156: M | E156: 026-S19 | F156: Acer pseudoplatanus | G156: kus | H156: 1 | J156: =ROUND(H156*I156,2) -> 0 | N156: základní | P156: =H156*O156 -> 0 | Q156: 0.04 | R156: =H156*Q156 -> 0.04 | S156: 0 | T156: =H156*S156 -> 0 | AR156: 8 | AT156: M | AU156: 2 | AY156: ROZPOCET | BE156: =IF(N156="základní",J156,0) -> 0 | BF156: =IF(N156="snížená",J156,0) -> 0 | BG156: =IF(N156="zákl. přenesená",J156,0) -> 0 | BH156: =IF(N156="sníž. přenesená",J156,0) -> 0 | BI156: =IF(N156="nulová",J156,0) -> 0 | BJ156: 1
C157: 83 | D157: K | E157: 184215132 | F157: Ukotvení kmene dřevin třemi kůly D do 0,1 m dl přes 1 do 2 m | G157: kus | H157: 91 | J157: =ROUND(H157*I157,2) -> 0 | K157: CS ÚRS 2026 01 | N157: základní | P157: =H157*O157 -> 0 | Q157: 5e-05 | R157: =H157*Q157 -> 0.00455 | S157: 0 | T157: =H157*S157 -> 0 | AR157: 4 | AT157: K | AU157: 2 | AY157: ROZPOCET | BE157: =IF(N157="základní",J157,0) -> 0 | BF157: =IF(N157="snížená",J157,0) -> 0 | BG157: =IF(N157="zákl. přenesená",J157,0) -> 0 | BH157: =IF(N157="sníž. přenesená",J157,0) -> 0 | BI157: =IF(N157="nulová",J157,0) -> 0 | BJ157: 1
D158: Online PSC | F158: https://podminky.urs.cz/item/CS_URS_2026_01/184215132 | AT158: Online PSC | AU158: 0 | AY158: ROZPOCET | BJ158: 0
D159: VV | F159: PočetStromu (1) | H159: 91 | AT159: VV | AU159: 0 | AV159: 2 | AW159: TRUE | AY159: ROZPOCET | BJ159: 0
D160: VV | F160: Mezisoučet 91,0 | AT160: VV | AU160: 0 | AV160: 1 | AW160: TRUE | AY160: ROZPOCET | BJ160: 0
D161: VV | F161: Součet | H161: 91 | AT161: VV | AU161: 0 | AV161: 4 | AW161: TRUE | AX161: TRUE | AY161: ROZPOCET | BJ161: 0
C162: 84 | D162: M | E162: 60591253 | F162: kůl vyvazovací dřevěný impregnovaný D 8cm dl 2m | G162: kus | H162: 273 | J162: =ROUND(H162*I162,2) -> 0 | K162: CS ÚRS 2026 01 | N162: základní | P162: =H162*O162 -> 0 | Q162: 0.00472 | R162: =H162*Q162 -> 1.28856 | S162: 0 | T162: =H162*S162 -> 0 | AR162: 8 | AT162: M | AU162: 2 | AY162: ROZPOCET | BE162: =IF(N162="základní",J162,0) -> 0 | BF162: =IF(N162="snížená",J162,0) -> 0 | BG162: =IF(N162="zákl. přenesená",J162,0) -> 0 | BH162: =IF(N162="sníž. přenesená",J162,0) -> 0 | BI162: =IF(N162="nulová",J162,0) -> 0 | BJ162: 1
D163: VV | F163: PočetStromu (1) | H163: 91 | AT163: VV | AU163: 0 | AV163: 2 | AW163: TRUE | AY163: ROZPOCET | BJ163: 0
D164: VV | F164: Součet | H164: 91 | AT164: VV | AU164: 0 | AV164: 4 | AW164: TRUE | AY164: ROZPOCET | BJ164: 0
D165: VV | F165: 91*3 'Přepočtené koeficientem množství | H165: 273 | AT165: VV | AU165: 0 | AV165: 2 | AW165: TRUE | AX165: TRUE | AY165: ROZPOCET | BJ165: 0
C166: 85 | D166: K | E166: 184813121 | F166: Ochrana dřevin před okusem ručně pletivem v rovině a svahu do 1:5 | G166: kus | H166: 91 | J166: =ROUND(H166*I166,2) -> 0 | K166: CS ÚRS 2026 01 | N166: základní | P166: =H166*O166 -> 0 | Q166: 0.00208 | R166: =H166*Q166 -> 0.18928 | S166: 0 | T166: =H166*S166 -> 0 | AR166: 4 | AT166: K | AU166: 2 | AY166: ROZPOCET | BE166: =IF(N166="základní",J166,0) -> 0 | BF166: =IF(N166="snížená",J166,0) -> 0 | BG166: =IF(N166="zákl. přenesená",J166,0) -> 0 | BH166: =IF(N166="sníž. přenesená",J166,0) -> 0 | BI166: =IF(N166="nulová",J166,0) -> 0 | BJ166: 1
D167: Online PSC | F167: https://podminky.urs.cz/item/CS_URS_2026_01/184813121 | AT167: Online PSC | AU167: 0 | AY167: ROZPOCET | BJ167: 0
...

Sheet SO.12-Z - Závlaha
L2: >> skryté sloupce << | AT2: {00b0d1df-0000-0000-0000-000000000000}
AT3: 2
D4: KRYCÍ LIST SOUPISU PRACÍ | AT4: FALSE
D6: Stavba:
E7: REVITALIZACE ZÁMECKÉHO PARKU ‐ TVRZIŠTĚ KLUČOV | AA7: =E7 -> REVITALIZACE ZÁMECKÉHO PARKU ‐ TVRZIŠTĚ KLUČOV
D8: Objekt:
E9: SO.12 - SADOVÉ ÚPRAVY A ZÁVLAHA | AA9: =E9 -> SO.12 - SADOVÉ ÚPRAVY A ZÁVLAHA
D10: Soupis:
E11: SO.12-Z - Závlaha | AA11: =E11 -> SO.12-Z - Závlaha
D13: KSO: | I13: CZ-CC:
D14: Místo: | I14: Datum: | J14: ='Rekapitulace stavby'!AN8 -> 46300
D16: Zadavatel: | I16: IČ: | J16: 00235431
E17: Obec Klučov | I17: DIČ:
D19: Zhotovitel: | I19: =I16 -> IČ: | J19: ='Rekapitulace stavby'!AN13 -> Vyplň údaj
E20: ='Rekapitulace stavby'!E14 -> Vyplň údaj | I20: =I17 -> DIČ: | J20: ='Rekapitulace stavby'!AN14 -> Vyplň údaj
D22: Projektant: | I22: =I16 -> IČ:
E23: Studio Anarchitekt s.r.o. | I23: =I17 -> DIČ:
D25: Zpracovatel: | I25: =I16 -> IČ: | J25: 05649358
E26: Ing. Theodor Collino | I26: =I17 -> DIČ: | J26: CZ8201043686
D28: Poznámka:
E29: ZPŮSOBILÉ VÝDAJE | AA29: =E29 -> ZPŮSOBILÉ VÝDAJE
D32: Cena bez DPH | J32: =ROUND(J116,2) -> 0
F34: Základ daně | I34: Sazba daně | J34: Výše daně
D35: DPH | E35: základní | F35: =SUM(BE116:BE137) -> 0 | I35: 0.21 | J35: =ROUND(F35*I35,2) -> 0
D38: Cena s DPH | G38: v | H38: CZK | J38: =SUM(J32:J36) -> 0
D45: =D22 -> Projektant: | G45: =D25 -> Zpracovatel:
D56: Datum a podpis: | F56: Razítko | G56: =D56 -> Datum a podpis: | J56: =F56 -> Razítko
D60: =D16 -> Zadavatel: | G60: =D19 -> Zhotovitel:
D71: =D56 -> Datum a podpis: | F71: =F56 -> Razítko | G71: =D56 -> Datum a podpis: | J71: =F56 -> Razítko
C77: REKAPITULACE ROZPOČTU
C79: Stavba:
E80: REVITALIZACE ZÁMECKÉHO PARKU ‐ TVRZIŠTĚ KLUČOV | AA80: REVITALIZACE ZÁMECKÉHO PARKU ‐ TVRZIŠTĚ KLUČOV
C81: Objekt:
E82: SO.12 - SADOVÉ ÚPRAVY A ZÁVLAHA | AA82: SO.12 - SADOVÉ ÚPRAVY A ZÁVLAHA
C83: Soupis:
E84: SO.12-Z - Závlaha | AA84: SO.12-Z - Závlaha
C86: Místo: | I86: =I14 -> Datum: | J86: =J14 -> 46300
C88: Zadavatel: | F88: Obec Klučov | I88: =D22 -> Projektant: | J88: =IF(E23="","",E23) -> Studio Anarchitekt s.r.o.
C89: Zhotovitel: | F89: =IF(E20="Vyplň údaj","",E20) | I89: =D25 -> Zpracovatel: | J89: =IF(E26="","",E26) -> Ing. Theodor Collino
C91: Kód dílu - Popis | J91: Cena celkem [CZK]
C93: Náklady celkem | J93: =J116 -> 0
D94: HSV - Práce a dodávky HSV | J94: =J117 -> 0
D95: 8 - Trubní vedení | J95: =J118 -> 0
C101: SOUPIS PRACÍ | M101: v --- níže se nacházejí doplnkové a pomocné údaje k sestavám --- v
C103: =D6 -> Stavba:
E104: =IF(E7="","",E7) -> REVITALIZACE ZÁMECKÉHO PARKU ‐ TVRZIŠTĚ KLUČOV | AA104: =IF(AA7="","",AA7) -> REVITALIZACE ZÁMECKÉHO PARKU ‐ TVRZIŠTĚ KLUČOV
C105: =D8 -> Objekt:
E106: =E9 -> SO.12 - SADOVÉ ÚPRAVY A ZÁVLAHA | AA106: =AA9 -> SO.12 - SADOVÉ ÚPRAVY A ZÁVLAHA
C107: =D10 -> Soupis:
E108: =E11 -> SO.12-Z - Závlaha | AA108: =AA11 -> SO.12-Z - Závlaha
C110: =D14 -> Místo: | F110: =IF(F14="","",F14) | I110: =I14 -> Datum: | J110: =J14 -> 46300
C112: =D16 -> Zadavatel: | F112: =IF(E17="","",E17) -> Obec Klučov | I112: =D22 -> Projektant: | J112: =IF(E23="","",E23) -> Studio Anarchitekt s.r.o.
C113: =D19 -> Zhotovitel: | F113: =IF(E20="Vyplň údaj","",E20) | I113: =D25 -> Zpracovatel: | J113: =IF(E26="","",E26) -> Ing. Theodor Collino
C115: PČ | D115: Typ | E115: Kód | F115: Popis | G115: MJ | H115: Množství | I115: J. cena [CZK] | J115: Cena celkem [CZK] | K115: Cenová soustava | N115: DPH | O115: J. Nh [h] | P115: Nh celkem [h] | Q115: J. hmotnost [t] | R115: Hmotnost celkem [t] | S115: J. suť [t] | T115: Suť Celkem [t]
C116: Náklady soupisu celkem | J116: =J117 -> 0 | P116: =P117 -> 0 | R116: =R117 -> 0.20122623 | T116: =T117 -> 0
D117: D | E117: HSV | F117: Práce a dodávky HSV | J117: =J118 -> 0 | P117: =P118 -> 0 | R117: =R118 -> 0.20122623 | T117: =T118 -> 0 | AR117: 1 | AT117: D | AU117: 0 | AY117: ROZPOCET | BJ117: 0
D118: D | E118: 8 | F118: Trubní vedení | J118: =J119 + J123 + J127 + J131 + J135 -> 0 | P118: =P119 + P123 + P127 + P131 + P135 -> 0 | R118: =R119 + R123 + R127 + R131 + R135 -> 0.20122623 | T118: =T119 + T123 + T127 + T131 + T135 -> 0 | AR118: 1 | AT118: D | AU118: 1 | AY118: ROZPOCET | BJ118: 0
C119: 131 | D119: K | E119: 871143201 | F119: Kapková závlaha osazená pod povrchem plošně | G119: m2 | H119: 443.817 | J119: =ROUND(H119*I119,2) -> 0 | K119: CS ÚRS 2026 01 | N119: základní | P119: =H119*O119 -> 0 | Q119: 0.00026 | R119: =H119*Q119 -> 0.11539242 | S119: 0 | T119: =H119*S119 -> 0 | AR119: 4 | AT119: K | AU119: 2 | AY119: ROZPOCET | BE119: =IF(N119="základní",J119,0) -> 0 | BF119: =IF(N119="snížená",J119,0) -> 0 | BG119: =IF(N119="zákl. přenesená",J119,0) -> 0 | BH119: =IF(N119="sníž. přenesená",J119,0) -> 0 | BI119: =IF(N119="nulová",J119,0) -> 0 | BJ119: 1
D120: Online PSC | F120: https://podminky.urs.cz/item/CS_URS_2026_01/871143201 | AT120: Online PSC | AU120: 0 | AY120: ROZPOCET | BJ120: 0
D121: VV | F121: VV0001 (5) | H121: 443.817 | AT121: VV | AU121: 0 | AV121: 2 | AW121: TRUE | AY121: ROZPOCET | BJ121: 0
D122: VV | F122: Součet | H122: 443.817 | AT122: VV | AU122: 0 | AV122: 4 | AW122: TRUE | AX122: TRUE | AY122: ROZPOCET | BJ122: 0
C123: 132 | D123: K | E123: 871143211 | F123: Regulátor tlaku kapkové závlahy průtok 3,8 - 30,4 l/min | G123: kus | H123: 8.876 | J123: =ROUND(H123*I123,2) -> 0 | K123: CS ÚRS 2026 01 | N123: základní | P123: =H123*O123 -> 0 | Q123: 6e-05 | R123: =H123*Q123 -> 0.00053256 | S123: 0 | T123: =H123*S123 -> 0 | AR123: 4 | AT123: K | AU123: 2 | AY123: ROZPOCET | BE123: =IF(N123="základní",J123,0) -> 0 | BF123: =IF(N123="snížená",J123,0) -> 0 | BG123: =IF(N123="zákl. přenesená",J123,0) -> 0 | BH123: =IF(N123="sníž. přenesená",J123,0) -> 0 | BI123: =IF(N123="nulová",J123,0) -> 0 | BJ123: 1
D124: Online PSC | F124: https://podminky.urs.cz/item/CS_URS_2026_01/871143211 | AT124: Online PSC | AU124: 0 | AY124: ROZPOCET | BJ124: 0
D125: VV | F125: VV0001 (5) / 50 | H125: 8.876 | AT125: VV | AU125: 0 | AV125: 2 | AW125: TRUE | AY125: ROZPOCET | BJ125: 0
D126: VV | F126: Součet | H126: 8.876 | AT126: VV | AU126: 0 | AV126: 4 | AW126: TRUE | AX126: TRUE | AY126: ROZPOCET | BJ126: 0
C127: 133 | D127: K | E127: 871162101 | F127: Potrubí pro závlahy v otevřeném výkopu LDPE PE 40 SDR 11 PN6 25x2,3 | G127: m | H127: 443.817 | J127: =ROUND(H127*I127,2) -> 0 | K127: CS ÚRS 2026 01 | N127: základní | P127: =H127*O127 -> 0 | Q127: 0.00017 | R127: =H127*Q127 -> 0.07544889 | S127: 0 | T127: =H127*S127 -> 0 | AR127: 4 | AT127: K | AU127: 2 | AY127: ROZPOCET | BE127: =IF(N127="základní",J127,0) -> 0 | BF127: =IF(N127="snížená",J127,0) -> 0 | BG127: =IF(N127="zákl. přenesená",J127,0) -> 0 | BH127: =IF(N127="sníž. přenesená",J127,0) -> 0 | BI127: =IF(N127="nulová",J127,0) -> 0 | BJ127: 1
D128: Online PSC | F128: https://podminky.urs.cz/item/CS_URS_2026_01/871162101 | AT128: Online PSC | AU128: 0 | AY128: ROZPOCET | BJ128: 0
D129: VV | F129: Rozvody závlahy | H129: 443.817 | AT129: VV | AU129: 0 | AV129: 2 | AW129: TRUE | AY129: ROZPOCET | BJ129: 0
D130: VV | F130: Součet | H130: 443.817 | AT130: VV | AU130: 0 | AV130: 4 | AW130: TRUE | AX130: TRUE | AY130: ROZPOCET | BJ130: 0
C131: 134 | D131: K | E131: 879311302 | F131: Montáž a nastavení postřikovače rotorového elektricky ovládaného napojení 1" | G131: kus | H131: 8.876 | J131: =ROUND(H131*I131,2) -> 0 | K131: CS ÚRS 2026 01 | N131: základní | P131: =H131*O131 -> 0 | Q131: 0.00076 | R131: =H131*Q131 -> 0.00674576 | S131: 0 | T131: =H131*S131 -> 0 | AR131: 4 | AT131: K | AU131: 2 | AY131: ROZPOCET | BE131: =IF(N131="základní",J131,0) -> 0 | BF131: =IF(N131="snížená",J131,0) -> 0 | BG131: =IF(N131="zákl. přenesená",J131,0) -> 0 | BH131: =IF(N131="sníž. přenesená",J131,0) -> 0 | BI131: =IF(N131="nulová",J131,0) -> 0 | BJ131: 1
D132: Online PSC | F132: https://podminky.urs.cz/item/CS_URS_2026_01/879311302 | AT132: Online PSC | AU132: 0 | AY132: ROZPOCET | BJ132: 0
D133: VV | F133: VV0001 (5) / 50 | H133: 8.876 | AT133: VV | AU133: 0 | AV133: 2 | AW133: TRUE | AY133: ROZPOCET | BJ133: 0
D134: VV | F134: Součet | H134: 8.876 | AT134: VV | AU134: 0 | AV134: 4 | AW134: TRUE | AX134: TRUE | AY134: ROZPOCET | BJ134: 0
C135: 135 | D135: M | E135: 28655709 | F135: postřikovač rotorový s celokruhovou výsečí 360°, vstup 1" elektricky ovládaný | G135: kus | H135: 8.876 | J135: =ROUND(H135*I135,2) -> 0 | K135: CS ÚRS 2026 01 | N135: základní | P135: =H135*O135 -> 0 | Q135: 0.00035 | R135: =H135*Q135 -> 0.0031066 | S135: 0 | T135: =H135*S135 -> 0 | AR135: 8 | AT135: M | AU135: 2 | AY135: ROZPOCET | BE135: =IF(N135="základní",J135,0) -> 0 | BF135: =IF(N135="snížená",J135,0) -> 0 | BG135: =IF(N135="zákl. přenesená",J135,0) -> 0 | BH135: =IF(N135="sníž. přenesená",J135,0) -> 0 | BI135: =IF(N135="nulová",J135,0) -> 0 | BJ135: 1
D136: VV | F136: VV0001 (5) / 50 | H136: 8.876 | AT136: VV | AU136: 0 | AV136: 2 | AW136: TRUE | AY136: ROZPOCET | BJ136: 0
D137: VV | F137: Součet | H137: 8.876 | AT137: VV | AU137: 0 | AV137: 4 | AW137: TRUE | AX137: TRUE | AY137: ROZPOCET | BJ137: 0
C139: © 2026 ÚRS CZ a.s.: Informace v tomto dokumentu jsou chráněny autorskými a dalšími právy společnosti ÚRS CZ a.s. nebo tvůrce dokumentu._x000D_ Jakýmkoliv třetím osobám je zakázáno jejich automatizované či manuální zpracování pro šíření dalším osobám.

Sheet SO.13 - OPLOCENÍ, MOBILIÁŘ
L2: >> skryté sloupce << | AT2: {00b0d1e0-0000-0000-0000-000000000000}
AT3: 2
D4: KRYCÍ LIST SOUPISU PRACÍ | AT4: FALSE
D6: Stavba:
E7: REVITALIZACE ZÁMECKÉHO PARKU ‐ TVRZIŠTĚ KLUČOV | AA7: =E7 -> REVITALIZACE ZÁMECKÉHO PARKU ‐ TVRZIŠTĚ KLUČOV
D8: Objekt:
E9: SO.13 - OPLOCENÍ, MOBILIÁŘ | AA9: =E9 -> SO.13 - OPLOCENÍ, MOBILIÁŘ
D11: KSO: | I11: CZ-CC:
D12: Místo: | I12: Datum: | J12: ='Rekapitulace stavby'!AN8 -> 46300
D14: Zadavatel: | I14: IČ: | J14: 00235431
E15: Obec Klučov | I15: DIČ:
D17: Zhotovitel: | I17: =I14 -> IČ: | J17: ='Rekapitulace stavby'!AN13 -> Vyplň údaj
E18: ='Rekapitulace stavby'!E14 -> Vyplň údaj | I18: =I15 -> DIČ: | J18: ='Rekapitulace stavby'!AN14 -> Vyplň údaj
D20: Projektant: | I20: =I14 -> IČ:
E21: Studio Anarchitekt s.r.o. | I21: =I15 -> DIČ:
D23: Zpracovatel: | I23: =I14 -> IČ: | J23: 05649358
E24: Ing. Theodor Collino | I24: =I15 -> DIČ: | J24: CZ8201043686
D26: Poznámka:
E27: NAD SCHVÁLENÝ LIMIT bude zařazeno do nezpůsobilých výdajů | AA27: =E27 -> NAD SCHVÁLENÝ LIMIT bude zařazeno do nezpůsobilých výdajů
D30: Cena bez DPH | J30: =ROUND(J115,2) -> 0
F32: Základ daně | I32: Sazba daně | J32: Výše daně
D33: DPH | E33: základní | F33: =SUM(BE115:BE211) -> 0 | I33: 0.21 | J33: =ROUND(F33*I33,2) -> 0
D36: Cena s DPH | G36: v | H36: CZK | J36: =SUM(J30:J34) -> 0
D43: =D20 -> Projektant: | G43: =D23 -> Zpracovatel:
D54: Datum a podpis: | F54: Razítko | G54: =D54 -> Datum a podpis: | J54: =F54 -> Razítko
D58: =D14 -> Zadavatel: | G58: =D17 -> Zhotovitel:
D69: =D54 -> Datum a podpis: | F69: =F54 -> Razítko | G69: =D54 -> Datum a podpis: | J69: =F54 -> Razítko
C75: REKAPITULACE ROZPOČTU
C77: Stavba:
E78: REVITALIZACE ZÁMECKÉHO PARKU ‐ TVRZIŠTĚ KLUČOV | AA78: REVITALIZACE ZÁMECKÉHO PARKU ‐ TVRZIŠTĚ KLUČOV
C79: Objekt:
E80: SO.13 - OPLOCENÍ, MOBILIÁŘ | AA80: SO.13 - OPLOCENÍ, MOBILIÁŘ
C82: Místo: | I82: =I12 -> Datum: | J82: =J12 -> 46300
C84: Zadavatel: | F84: Obec Klučov | I84: =D20 -> Projektant: | J84: =IF(E21="","",E21) -> Studio Anarchitekt s.r.o.
C85: Zhotovitel: | F85: =IF(E18="Vyplň údaj","",E18) | I85: =D23 -> Zpracovatel: | J85: =IF(E24="","",E24) -> Ing. Theodor Collino
C87: Kód dílu - Popis | J87: Cena celkem [CZK]
C89: Náklady celkem | J89: =J115 -> 0
D90: HSV - Práce a dodávky HSV | J90: =J116 -> 0
D91: 3 - Svislé a kompletní konstrukce | J91: =J117 -> 0
D92: 6 - Úpravy povrchů, podlahy a osazování výplní | J92: =J131 -> 0
D93: 9 - Ostatní konstrukce a práce, bourání | J93: =J152 -> 0
D94: 998 - Přesun hmot | J94: =J201 -> 0
D95: VRN - Vedlejší rozpočtové náklady | J95: =J207 -> 0
D96: VRN1 - Průzkumné, geodetické a projektové práce | J96: =J208 -> 0
C102: SOUPIS PRACÍ | M102: v --- níže se nacházejí doplnkové a pomocné údaje k sestavám --- v
C104: =D6 -> Stavba:
E105: =IF(E7="","",E7) -> REVITALIZACE ZÁMECKÉHO PARKU ‐ TVRZIŠTĚ KLUČOV | AA105: =IF(AA7="","",AA7) -> REVITALIZACE ZÁMECKÉHO PARKU ‐ TVRZIŠTĚ KLUČOV
C106: =D8 -> Objekt:
E107: =E9 -> SO.13 - OPLOCENÍ, MOBILIÁŘ | AA107: =AA9 -> SO.13 - OPLOCENÍ, MOBILIÁŘ
C109: =D12 -> Místo: | F109: =IF(F12="","",F12) | I109: =I12 -> Datum: | J109: =J12 -> 46300
C111: =D14 -> Zadavatel: | F111: =IF(E15="","",E15) -> Obec Klučov | I111: =D20 -> Projektant: | J111: =IF(E21="","",E21) -> Studio Anarchitekt s.r.o.
C112: =D17 -> Zhotovitel: | F112: =IF(E18="Vyplň údaj","",E18) | I112: =D23 -> Zpracovatel: | J112: =IF(E24="","",E24) -> Ing. Theodor Collino
C114: PČ | D114: Typ | E114: Kód | F114: Popis | G114: MJ | H114: Množství | I114: J. cena [CZK] | J114: Cena celkem [CZK] | K114: Cenová soustava | N114: DPH | O114: J. Nh [h] | P114: Nh celkem [h] | Q114: J. hmotnost [t] | R114: Hmotnost celkem [t] | S114: J. suť [t] | T114: Suť Celkem [t]
C115: Náklady soupisu celkem | J115: =J116 + J207 -> 0 | P115: =P116 + P207 -> 0 | R115: =R116 + R207 -> 311.22012 | T115: =T116 + T207 -> 0
D116: D | E116: HSV | F116: Práce a dodávky HSV | J116: =J117 + J131 + J152 + J201 -> 0 | P116: =P117 + P131 + P152 + P201 -> 0 | R116: =R117 + R131 + R152 + R201 -> 311.22012 | T116: =T117 + T131 + T152 + T201 -> 0 | AR116: 1 | AT116: D | AU116: 0 | AY116: ROZPOCET | BJ116: 0
D117: D | E117: 3 | F117: Svislé a kompletní konstrukce | J117: =J118 + J122 + J126 -> 0 | P117: =P118 + P122 + P126 -> 0 | R117: =R118 + R122 + R126 -> 283.52934 | T117: =T118 + T122 + T126 -> 0 | AR117: 1 | AT117: D | AU117: 1 | AY117: ROZPOCET | BJ117: 0
C118: 136 | D118: K | E118: 311213113 | F118: Zdivo z nepravidelných kamenů na maltu objem jednoho kamene do 0,02 m3 š spáry přes 10 do 20 mm | G118: m3 | H118: 103.082 | J118: =ROUND(H118*I118,2) -> 0 | K118: CS ÚRS 2026 01 | N118: základní | P118: =H118*O118 -> 0 | Q118: 2.6768 | R118: =H118*Q118 -> 275.9299 | S118: 0 | T118: =H118*S118 -> 0 | AR118: 4 | AT118: K | AU118: 2 | AY118: ROZPOCET | BE118: =IF(N118="základní",J118,0) -> 0 | BF118: =IF(N118="snížená",J118,0) -> 0 | BG118: =IF(N118="zákl. přenesená",J118,0) -> 0 | BH118: =IF(N118="sníž. přenesená",J118,0) -> 0 | BI118: =IF(N118="nulová",J118,0) -> 0 | BJ118: 1
D119: Online PSC | F119: https://podminky.urs.cz/item/CS_URS_2026_01/311213113 | AT119: Online PSC | AU119: 0 | AY119: ROZPOCET | BJ119: 0
D120: VV | F120: Nastavení historické zdi o cca 1m * 0,60 * 1,0 | H120: 103.082 | AT120: VV | AU120: 0 | AV120: 2 | AW120: TRUE | AY120: ROZPOCET | BJ120: 0
D121: VV | F121: Součet | H121: 103.082 | AT121: VV | AU121: 0 | AV121: 4 | AW121: TRUE | AX121: TRUE | AY121: ROZPOCET | BJ121: 0
C122: 137 | D122: K | E122: 311213911 | F122: Příplatek k cenám zdění zdiva z kamene na maltu za jednostranné lícování zdiva | G122: m3 | H122: 103.082 | J122: =ROUND(H122*I122,2) -> 0 | K122: CS ÚRS 2026 01 | N122: základní | P122: =H122*O122 -> 0 | Q122: 0 | R122: =H122*Q122 -> 0 | S122: 0 | T122: =H122*S122 -> 0 | AR122: 4 | AT122: K | AU122: 2 | AY122: ROZPOCET | BE122: =IF(N122="základní",J122,0) -> 0 | BF122: =IF(N122="snížená",J122,0) -> 0 | BG122: =IF(N122="zákl. přenesená",J122,0) -> 0 | BH122: =IF(N122="sníž. přenesená",J122,0) -> 0 | BI122: =IF(N122="nulová",J122,0) -> 0 | BJ122: 1
D123: Online PSC | F123: https://podminky.urs.cz/item/CS_URS_2026_01/311213911 | AT123: Online PSC | AU123: 0 | AY123: ROZPOCET | BJ123: 0
D124: VV | F124: VV0002 (4) | H124: 103.082 | AT124: VV | AU124: 0 | AV124: 2 | AW124: TRUE | AY124: ROZPOCET | BJ124: 0
D125: VV | F125: Součet | H125: 103.082 | AT125: VV | AU125: 0 | AV125: 4 | AW125: TRUE | AX125: TRUE | AY125: ROZPOCET | BJ125: 0
C126: 138 | D126: K | E126: 317231626 | F126: Zdivo klenbových pásů z cihel plných dl 290 mm pevnosti P 20 na MVC 10 | G126: m3 | H126: 4 | J126: =ROUND(H126*I126,2) -> 0 | K126: CS ÚRS 2026 01 | N126: základní | P126: =H126*O126 -> 0 | Q126: 1.89986 | R126: =H126*Q126 -> 7.59944 | S126: 0 | T126: =H126*S126 -> 0 | AR126: 4 | AT126: K | AU126: 2 | AY126: ROZPOCET | BE126: =IF(N126="základní",J126,0) -> 0 | BF126: =IF(N126="snížená",J126,0) -> 0 | BG126: =IF(N126="zákl. přenesená",J126,0) -> 0 | BH126: =IF(N126="sníž. přenesená",J126,0) -> 0 | BI126: =IF(N126="nulová",J126,0) -> 0 | BJ126: 1
D127: Online PSC | F127: https://podminky.urs.cz/item/CS_URS_2026_01/317231626 | AT127: Online PSC | AU127: 0 | AY127: ROZPOCET | BJ127: 0
D128: VV | F128: doplnění historických kleneb | AT128: VV | AU128: 0 | AV128: 1 | AW128: TRUE | AY128: ROZPOCET | BJ128: 0
D129: VV | F129: 4 | H129: 4 | AT129: VV | AU129: 0 | AV129: 2 | AW129: TRUE | AY129: ROZPOCET | BJ129: 0
D130: VV | F130: Součet | H130: 4 | AT130: VV | AU130: 0 | AV130: 4 | AW130: TRUE | AX130: TRUE | AY130: ROZPOCET | BJ130: 0
D131: D | E131: 6 | F131: Úpravy povrchů, podlahy a osazování výplní | J131: =J132 + J136 + J140 + J144 + J148 -> 0 | P131: =P132 + P136 + P140 + P144 + P148 -> 0 | R131: =R132 + R136 + R140 + R144 + R148 -> 22.518219 | T131: =T132 + T136 + T140 + T144 + T148 -> 0 | AR131: 1 | AT131: D | AU131: 1 | AY131: ROZPOCET | BJ131: 0
C132: 139 | D132: K | E132: 622121100 | F132: Zatření spár vápennou u maltou vnějších stěn z cihel | G132: m2 | H132: 515.409 | J132: =ROUND(H132*I132,2) -> 0 | K132: CS ÚRS 2026 01 | N132: základní | P132: =H132*O132 -> 0 | Q132: 0.00193 | R132: =H132*Q132 -> 0.99473937 | S132: 0 | T132: =H132*S132 -> 0 | AR132: 4 | AT132: K | AU132: 2 | AY132: ROZPOCET | BE132: =IF(N132="základní",J132,0) -> 0 | BF132: =IF(N132="snížená",J132,0) -> 0 | BG132: =IF(N132="zákl. přenesená",J132,0) -> 0 | BH132: =IF(N132="sníž. přenesená",J132,0) -> 0 | BI132: =IF(N132="nulová",J132,0) -> 0 | BJ132: 1
D133: Online PSC | F133: https://podminky.urs.cz/item/CS_URS_2026_01/622121100 | AT133: Online PSC | AU133: 0 | AY133: ROZPOCET | BJ133: 0
D134: VV | F134: Nastavení historické zdi o cca 1m * 3 | H134: 515.409 | AT134: VV | AU134: 0 | AV134: 2 | AW134: TRUE | AY134: ROZPOCET | BJ134: 0
D135: VV | F135: Součet | H135: 515.409 | AT135: VV | AU135: 0 | AV135: 4 | AW135: TRUE | AX135: TRUE | AY135: ROZPOCET | BJ135: 0
C136: 140 | D136: K | E136: 622131100 | F136: Vápenný postřik vnějších stěn nanášený celoplošně ručně | G136: m2 | H136: 515.409 | J136: =ROUND(H136*I136,2) -> 0 | K136: CS ÚRS 2026 01 | N136: základní | P136: =H136*O136 -> 0 | Q136: 0.0065 | R136: =H136*Q136 -> 3.3501585 | S136: 0 | T136: =H136*S136 -> 0 | AR136: 4 | AT136: K | AU136: 2 | AY136: ROZPOCET | BE136: =IF(N136="základní",J136,0) -> 0 | BF136: =IF(N136="snížená",J136,0) -> 0 | BG136: =IF(N136="zákl. přenesená",J136,0) -> 0 | BH136: =IF(N136="sníž. přenesená",J136,0) -> 0 | BI136: =IF(N136="nulová",J136,0) -> 0 | BJ136: 1
D137: Online PSC | F137: https://podminky.urs.cz/item/CS_URS_2026_01/622131100 | AT137: Online PSC | AU137: 0 | AY137: ROZPOCET | BJ137: 0
D138: VV | F138: Nastavení historické zdi o cca 1m * 3 | H138: 515.409 | AT138: VV | AU138: 0 | AV138: 2 | AW138: TRUE | AY138: ROZPOCET | BJ138: 0
D139: VV | F139: Součet | H139: 515.409 | AT139: VV | AU139: 0 | AV139: 4 | AW139: TRUE | AX139: TRUE | AY139: ROZPOCET | BJ139: 0
C140: 141 | D140: K | E140: 622131121 | F140: Penetrační nátěr vnějších stěn nanášený ručně | G140: m2 | H140: 515.409 | J140: =ROUND(H140*I140,2) -> 0 | K140: CS ÚRS 2026 01 | N140: základní | P140: =H140*O140 -> 0 | Q140: 0.00026 | R140: =H140*Q140 -> 0.13400634 | S140: 0 | T140: =H140*S140 -> 0 | AR140: 4 | AT140: K | AU140: 2 | AY140: ROZPOCET | BE140: =IF(N140="základní",J140,0) -> 0 | BF140: =IF(N140="snížená",J140,0) -> 0 | BG140: =IF(N140="zákl. přenesená",J140,0) -> 0 | BH140: =IF(N140="sníž. přenesená",J140,0) -> 0 | BI140: =IF(N140="nulová",J140,0) -> 0 | BJ140: 1
D141: Online PSC | F141: https://podminky.urs.cz/item/CS_URS_2026_01/622131121 | AT141: Online PSC | AU141: 0 | AY141: ROZPOCET | BJ141: 0
D142: VV | F142: VV0003 (3) | H142: 515.409 | AT142: VV | AU142: 0 | AV142: 2 | AW142: TRUE | AY142: ROZPOCET | BJ142: 0
D143: VV | F143: Součet | H143: 515.409 | AT143: VV | AU143: 0 | AV143: 4 | AW143: TRUE | AX143: TRUE | AY143: ROZPOCET | BJ143: 0
C144: 142 | D144: K | E144: 622311101 | F144: Vápenná omítka hrubá jednovrstvá nezatřená vnějších stěn nanášená ručně | G144: m2 | H144: 515.409 | J144: =ROUND(H144*I144,2) -> 0 | K144: CS ÚRS 2026 01 | N144: základní | P144: =H144*O144 -> 0 | Q144: 0.021 | R144: =H144*Q144 -> 10.823589 | S144: 0 | T144: =H144*S144 -> 0 | AR144: 4 | AT144: K | AU144: 2 | AY144: ROZPOCET | BE144: =IF(N144="základní",J144,0) -> 0 | BF144: =IF(N144="snížená",J144,0) -> 0 | BG144: =IF(N144="zákl. přenesená",J144,0) -> 0 | BH144: =IF(N144="sníž. přenesená",J144,0) -> 0 | BI144: =IF(N144="nulová",J144,0) -> 0 | BJ144: 1
D145: Online PSC | F145: https://podminky.urs.cz/item/CS_URS_2026_01/622311101 | AT145: Online PSC | AU145: 0 | AY145: ROZPOCET | BJ145: 0
D146: VV | F146: VV0003 (3) | H146: 515.409 | AT146: VV | AU146: 0 | AV146: 2 | AW146: TRUE | AY146: ROZPOCET | BJ146: 0
D147: VV | F147: Součet | H147: 515.409 | AT147: VV | AU147: 0 | AV147: 4 | AW147: TRUE | AX147: TRUE | AY147: ROZPOCET | BJ147: 0
C148: 143 | D148: K | E148: 622311191 | F148: Příplatek k vápenné omítce vnějších stěn za každých dalších 5 mm tloušťky ručně | G148: m2 | H148: 1030.818 | J148: =ROUND(H148*I148,2) -> 0 | K148: CS ÚRS 2026 01 | N148: základní | P148: =H148*O148 -> 0 | Q148: 0.007 | R148: =H148*Q148 -> 7.215726 | S148: 0 | T148: =H148*S148 -> 0 | AR148: 4 | AT148: K | AU148: 2 | AY148: ROZPOCET | BE148: =IF(N148="základní",J148,0) -> 0 | BF148: =IF(N148="snížená",J148,0) -> 0 | BG148: =IF(N148="zákl. přenesená",J148,0) -> 0 | BH148: =IF(N148="sníž. přenesená",J148,0) -> 0 | BI148: =IF(N148="nulová",J148,0) -> 0 | BJ148: 1
D149: Online PSC | F149: https://podminky.urs.cz/item/CS_URS_2026_01/622311191 | AT149: Online PSC | AU149: 0 | AY149: ROZPOCET | BJ149: 0
D150: VV | F150: 2 * VV0003 (3) | H150: 1030.818 | AT150: VV | AU150: 0 | AV150: 2 | AW150: TRUE | AY150: ROZPOCET | BJ150: 0
D151: VV | F151: Součet | H151: 1030.818 | AT151: VV | AU151: 0 | AV151: 4 | AW151: TRUE | AX151: TRUE | AY151: ROZPOCET | BJ151: 0
D152: D | E152: 9 | F152: Ostatní konstrukce a práce, bourání | J152: =J153 + SUM(J159:J160) + SUM(J167:J169) + SUM(J179:J182) + SUM(J188:J189) + J191 + J193 + J195 + J197 -> 0 | P152: =P153 + SUM(P159:P160) + SUM(P167:P169) + SUM(P179:P182) + SUM(P188:P189) + P191 + P193 + P195 + P197 -> 0 | R152: =R153 + SUM(R159:R160) + SUM(R167:R169) + SUM(R179:R182) + SUM(R188:R189) + R191 + R193 + R195 + R197 -> 5.17256 | T152: =T153 + SUM(T159:T160) + SUM(T167:T169) + SUM(T179:T182) + SUM(T188:T189) + T191 + T193 + T195 + T197 -> 0 | AR152: 1 | AT152: D | AU152: 1 | AY152: ROZPOCET | BJ152: 0
C153: 144 | D153: K | E153: 936001002.R1 | F153: Montáž prvků městské a zahradní architektury hmotnosti přes 0,1 do 1,5 t - Betonový patník M5 | G153: kus | H153: 7 | J153: =ROUND(H153*I153,2) -> 0 | K153: CS ÚRS 2026 01 | N153: základní | P153: =H153*O153 -> 0 | Q153: 0 | R153: =H153*Q153 -> 0 | S153: 0 | T153: =H153*S153 -> 0 | AR153: 4 | AT153: K | AU153: 2 | AY153: ROZPOCET | BE153: =IF(N153="základní",J153,0) -> 0 | BF153: =IF(N153="snížená",J153,0) -> 0 | BG153: =IF(N153="zákl. přenesená",J153,0) -> 0 | BH153: =IF(N153="sníž. přenesená",J153,0) -> 0 | BI153: =IF(N153="nulová",J153,0) -> 0 | BJ153: 1
D154: Online PSC | F154: https://podminky.urs.cz/item/CS_URS_2026_01/936001002.R1 | AT154: Online PSC | AU154: 0 | AY154: ROZPOCET | BJ154: 0
D155: P | F155: Poznámka k položce:_x000D_ Přesná specifikace viz. PD. Cena je odborným odhadem, nutno poptat u dodavatele. Cena za kompletní dodávku a montáž. | AT155: P | AU155: 0 | AY155: ROZPOCET | BJ155: 0
D156: VV | F156: M5 - Patník betonový, válec, v. 50 cm, pr. 30 cm | AT156: VV | AU156: 0 | AV156: 1 | AW156: TRUE | AY156: ROZPOCET | BJ156: 0
D157: VV | F157: 7 | H157: 7 | AT157: VV | AU157: 0 | AV157: 2 | AW157: TRUE | AY157: ROZPOCET | BJ157: 0
D158: VV | F158: Součet | H158: 7 | AT158: VV | AU158: 0 | AV158: 4 | AW158: TRUE | AX158: TRUE | AY158: ROZPOCET | BJ158: 0
C159: 145 | D159: M | E159: RMAT001R4 | F159: M5 - Patník betonový, válec, v. 50 cm, pr. 30 cm | G159: kus | H159: 7 | J159: =ROUND(H159*I159,2) -> 0 | N159: základní | P159: =H159*O159 -> 0 | Q159: 0 | R159: =H159*Q159 -> 0 | S159: 0 | T159: =H159*S159 -> 0 | AR159: 8 | AT159: M | AU159: 2 | AY159: ROZPOCET | BE159: =IF(N159="základní",J159,0) -> 0 | BF159: =IF(N159="snížená",J159,0) -> 0 | BG159: =IF(N159="zákl. přenesená",J159,0) -> 0 | BH159: =IF(N159="sníž. přenesená",J159,0) -> 0 | BI159: =IF(N159="nulová",J159,0) -> 0 | BJ159: 1
C160: 146 | D160: K | E160: 936104211 | F160: Montáž odpadkového koše do betonové patky | G160: kus | H160: 12 | J160: =ROUND(H160*I160,2) -> 0 | K160: CS ÚRS 2026 01 | N160: základní | P160: =H160*O160 -> 0 | Q160: 0.07287 | R160: =H160*Q160 -> 0.87444 | S160: 0 | T160: =H160*S160 -> 0 | AR160: 4 | AT160: K | AU160: 2 | AY160: ROZPOCET | BE160: =IF(N160="základní",J160,0) -> 0 | BF160: =IF(N160="snížená",J160,0) -> 0 | BG160: =IF(N160="zákl. přenesená",J160,0) -> 0 | BH160: =IF(N160="sníž. přenesená",J160,0) -> 0 | BI160: =IF(N160="nulová",J160,0) -> 0 | BJ160: 1
D161: Online PSC | F161: https://podminky.urs.cz/item/CS_URS_2026_01/936104211 | AT161: Online PSC | AU161: 0 | AY161: ROZPOCET | BJ161: 0
...

Sheet SO.19 - Zařízení staveniště
L2: >> skryté sloupce << | AT2: {00b0d1e1-0000-0000-0000-000000000000}
AT3: 2
D4: KRYCÍ LIST SOUPISU PRACÍ | AT4: FALSE
D6: Stavba:
E7: REVITALIZACE ZÁMECKÉHO PARKU ‐ TVRZIŠTĚ KLUČOV | AA7: =E7 -> REVITALIZACE ZÁMECKÉHO PARKU ‐ TVRZIŠTĚ KLUČOV
D8: Objekt:
E9: SO.19 - Zařízení staveniště | AA9: =E9 -> SO.19 - Zařízení staveniště
D11: KSO: | I11: CZ-CC:
D12: Místo: | I12: Datum: | J12: ='Rekapitulace stavby'!AN8 -> 46300
D14: Zadavatel: | I14: IČ: | J14: 00235431
E15: Obec Klučov | I15: DIČ:
D17: Zhotovitel: | I17: =I14 -> IČ: | J17: ='Rekapitulace stavby'!AN13 -> Vyplň údaj
E18: ='Rekapitulace stavby'!E14 -> Vyplň údaj | I18: =I15 -> DIČ: | J18: ='Rekapitulace stavby'!AN14 -> Vyplň údaj
D20: Projektant: | I20: =I14 -> IČ:
E21: Studio Anarchitekt s.r.o. | I21: =I15 -> DIČ:
D23: Zpracovatel: | I23: =I14 -> IČ: | J23: 05649358
E24: Ing. Theodor Collino | I24: =I15 -> DIČ: | J24: CZ8201043686
D26: Poznámka:
E27: ZPŮSOBILÉ VÝDAJE | AA27: =E27 -> ZPŮSOBILÉ VÝDAJE
D30: Cena bez DPH | J30: =ROUND(J111,2) -> 0
F32: Základ daně | I32: Sazba daně | J32: Výše daně
D33: DPH | E33: základní | F33: =SUM(BE111:BE166) -> 0 | I33: 0.21 | J33: =ROUND(F33*I33,2) -> 0
D36: Cena s DPH | G36: v | H36: CZK | J36: =SUM(J30:J34) -> 0
D43: =D20 -> Projektant: | G43: =D23 -> Zpracovatel:
D54: Datum a podpis: | F54: Razítko | G54: =D54 -> Datum a podpis: | J54: =F54 -> Razítko
D58: =D14 -> Zadavatel: | G58: =D17 -> Zhotovitel:
D69: =D54 -> Datum a podpis: | F69: =F54 -> Razítko | G69: =D54 -> Datum a podpis: | J69: =F54 -> Razítko
C75: REKAPITULACE ROZPOČTU
C77: Stavba:
E78: REVITALIZACE ZÁMECKÉHO PARKU ‐ TVRZIŠTĚ KLUČOV | AA78: REVITALIZACE ZÁMECKÉHO PARKU ‐ TVRZIŠTĚ KLUČOV
C79: Objekt:
E80: SO.19 - Zařízení staveniště | AA80: SO.19 - Zařízení staveniště
C82: Místo: | I82: =I12 -> Datum: | J82: =J12 -> 46300
C84: Zadavatel: | F84: Obec Klučov | I84: =D20 -> Projektant: | J84: =IF(E21="","",E21) -> Studio Anarchitekt s.r.o.
C85: Zhotovitel: | F85: =IF(E18="Vyplň údaj","",E18) | I85: =D23 -> Zpracovatel: | J85: =IF(E24="","",E24) -> Ing. Theodor Collino
C87: Kód dílu - Popis | J87: Cena celkem [CZK]
C89: Náklady celkem | J89: =J111 -> 0
D90: VRN - Vedlejší rozpočtové náklady | J90: =J112 -> 0
D91: VRN3 - Zařízení staveniště | J91: =J113 -> 0
D92: VRN4 - Inženýrská činnost | J92: =J164 -> 0
C98: SOUPIS PRACÍ | M98: v --- níže se nacházejí doplnkové a pomocné údaje k sestavám --- v
C100: =D6 -> Stavba:
E101: =IF(E7="","",E7) -> REVITALIZACE ZÁMECKÉHO PARKU ‐ TVRZIŠTĚ KLUČOV | AA101: =IF(AA7="","",AA7) -> REVITALIZACE ZÁMECKÉHO PARKU ‐ TVRZIŠTĚ KLUČOV
C102: =D8 -> Objekt:
E103: =E9 -> SO.19 - Zařízení staveniště | AA103: =AA9 -> SO.19 - Zařízení staveniště
C105: =D12 -> Místo: | F105: =IF(F12="","",F12) | I105: =I12 -> Datum: | J105: =J12 -> 46300
C107: =D14 -> Zadavatel: | F107: =IF(E15="","",E15) -> Obec Klučov | I107: =D20 -> Projektant: | J107: =IF(E21="","",E21) -> Studio Anarchitekt s.r.o.
C108: =D17 -> Zhotovitel: | F108: =IF(E18="Vyplň údaj","",E18) | I108: =D23 -> Zpracovatel: | J108: =IF(E24="","",E24) -> Ing. Theodor Collino
C110: PČ | D110: Typ | E110: Kód | F110: Popis | G110: MJ | H110: Množství | I110: J. cena [CZK] | J110: Cena celkem [CZK] | K110: Cenová soustava | N110: DPH | O110: J. Nh [h] | P110: Nh celkem [h] | Q110: J. hmotnost [t] | R110: Hmotnost celkem [t] | S110: J. suť [t] | T110: Suť Celkem [t]
C111: Náklady soupisu celkem | J111: =J112 -> 0 | P111: =P112 -> 0 | R111: =R112 -> 0 | T111: =T112 -> 0
D112: D | E112: VRN | F112: Vedlejší rozpočtové náklady | J112: =J113 + J164 -> 0 | P112: =P113 + P164 -> 0 | R112: =R113 + R164 -> 0 | T112: =T113 + T164 -> 0 | AR112: 5 | AT112: D | AU112: 0 | AY112: ROZPOCET | BJ112: 0
D113: D | E113: VRN3 | F113: Zařízení staveniště | J113: =J114 + J123 + J129 + J131 + J136 + J139 + J148 + J153 + J158 + J160 + J162 -> 0 | P113: =P114 + P123 + P129 + P131 + P136 + P139 + P148 + P153 + P158 + P160 + P162 -> 0 | R113: =R114 + R123 + R129 + R131 + R136 + R139 + R148 + R153 + R158 + R160 + R162 -> 0 | T113: =T114 + T123 + T129 + T131 + T136 + T139 + T148 + T153 + T158 + T160 + T162 -> 0 | AR113: 5 | AT113: D | AU113: 1 | AY113: ROZPOCET | BJ113: 0
C114: 163 | D114: K | E114: 032103000 | F114: Náklady na stavební buňky | G114: kpl | H114: 6 | J114: =ROUND(H114*I114,2) -> 0 | K114: CS ÚRS 2026 01 | N114: základní | P114: =H114*O114 -> 0 | Q114: 0 | R114: =H114*Q114 -> 0 | S114: 0 | T114: =H114*S114 -> 0 | AR114: 1024 | AT114: K | AU114: 2 | AY114: ROZPOCET | BE114: =IF(N114="základní",J114,0) -> 0 | BF114: =IF(N114="snížená",J114,0) -> 0 | BG114: =IF(N114="zákl. přenesená",J114,0) -> 0 | BH114: =IF(N114="sníž. přenesená",J114,0) -> 0 | BI114: =IF(N114="nulová",J114,0) -> 0 | BJ114: 1
D115: Online PSC | F115: https://podminky.urs.cz/item/CS_URS_2026_01/032103000 | AT115: Online PSC | AU115: 0 | AY115: ROZPOCET | BJ115: 0
D116: P | F116: Poznámka k položce:_x000D_ "Dočasné zázemí - včetně montáže, napojení na inženýrské sítě a následné demontáže"_x000D_ včetně dopravy, nájmu (2 měsíce) a odvozu | AT116: P | AU116: 0 | AY116: ROZPOCET | BJ116: 0
D117: VV | F117: šatnové moduly | AT117: VV | AU117: 0 | AV117: 1 | AW117: TRUE | AY117: ROZPOCET | BJ117: 0
D118: VV | F118: 1 * 2 | H118: 2 | AT118: VV | AU118: 0 | AV118: 2 | AW118: TRUE | AY118: ROZPOCET | BJ118: 0
D119: VV | F119: skladový modul | AT119: VV | AU119: 0 | AV119: 1 | AW119: TRUE | AY119: ROZPOCET | BJ119: 0
D120: VV | F120: 2 * 2 | H120: 4 | AT120: VV | AU120: 0 | AV120: 2 | AW120: TRUE | AY120: ROZPOCET | BJ120: 0
D121: VV | F121: Součet 6,0 | AT121: VV | AU121: 0 | AV121: 1 | AW121: TRUE | AY121: ROZPOCET | BJ121: 0
D122: VV | F122: Součet | H122: 6 | AT122: VV | AU122: 0 | AV122: 4 | AW122: TRUE | AX122: TRUE | AY122: ROZPOCET | BJ122: 0
C123: 164 | D123: K | E123: 032803000 | F123: Ostatní vybavení staveniště | G123: měs | H123: 4 | J123: =ROUND(H123*I123,2) -> 0 | K123: CS ÚRS 2026 01 | N123: základní | P123: =H123*O123 -> 0 | Q123: 0 | R123: =H123*Q123 -> 0 | S123: 0 | T123: =H123*S123 -> 0 | AR123: 1024 | AT123: K | AU123: 2 | AY123: ROZPOCET | BE123: =IF(N123="základní",J123,0) -> 0 | BF123: =IF(N123="snížená",J123,0) -> 0 | BG123: =IF(N123="zákl. přenesená",J123,0) -> 0 | BH123: =IF(N123="sníž. přenesená",J123,0) -> 0 | BI123: =IF(N123="nulová",J123,0) -> 0 | BJ123: 1
D124: Online PSC | F124: https://podminky.urs.cz/item/CS_URS_2026_01/032803000 | AT124: Online PSC | AU124: 0 | AY124: ROZPOCET | BJ124: 0
D125: P | F125: Poznámka k položce:_x000D_ včetně dopravy, nájmu a odvozu | AT125: P | AU125: 0 | AY125: ROZPOCET | BJ125: 0
D126: VV | F126: Mobilní chemické WC | AT126: VV | AU126: 0 | AV126: 1 | AW126: TRUE | AY126: ROZPOCET | BJ126: 0
D127: VV | F127: 2 * ( 2 ) | H127: 4 | AT127: VV | AU127: 0 | AV127: 2 | AW127: TRUE | AY127: ROZPOCET | BJ127: 0
D128: VV | F128: Součet | H128: 4 | AT128: VV | AU128: 0 | AV128: 4 | AW128: TRUE | AX128: TRUE | AY128: ROZPOCET | BJ128: 0
C129: 165 | D129: K | E129: 032903000 | F129: Náklady na provoz a údržbu vybavení staveniště | G129: měs | H129: 2 | J129: =ROUND(H129*I129,2) -> 0 | K129: CS ÚRS 2026 01 | N129: základní | P129: =H129*O129 -> 0 | Q129: 0 | R129: =H129*Q129 -> 0 | S129: 0 | T129: =H129*S129 -> 0 | AR129: 1024 | AT129: K | AU129: 2 | AY129: ROZPOCET | BE129: =IF(N129="základní",J129,0) -> 0 | BF129: =IF(N129="snížená",J129,0) -> 0 | BG129: =IF(N129="zákl. přenesená",J129,0) -> 0 | BH129: =IF(N129="sníž. přenesená",J129,0) -> 0 | BI129: =IF(N129="nulová",J129,0) -> 0 | BJ129: 1
D130: Online PSC | F130: https://podminky.urs.cz/item/CS_URS_2026_01/032903000 | AT130: Online PSC | AU130: 0 | AY130: ROZPOCET | BJ130: 0
C131: 166 | D131: K | E131: 033103000 | F131: Připojení energií | G131: kpl | H131: 2 | J131: =ROUND(H131*I131,2) -> 0 | K131: CS ÚRS 2026 01 | N131: základní | P131: =H131*O131 -> 0 | Q131: 0 | R131: =H131*Q131 -> 0 | S131: 0 | T131: =H131*S131 -> 0 | AR131: 1024 | AT131: K | AU131: 2 | AY131: ROZPOCET | BE131: =IF(N131="základní",J131,0) -> 0 | BF131: =IF(N131="snížená",J131,0) -> 0 | BG131: =IF(N131="zákl. přenesená",J131,0) -> 0 | BH131: =IF(N131="sníž. přenesená",J131,0) -> 0 | BI131: =IF(N131="nulová",J131,0) -> 0 | BJ131: 1
D132: Online PSC | F132: https://podminky.urs.cz/item/CS_URS_2026_01/033103000 | AT132: Online PSC | AU132: 0 | AY132: ROZPOCET | BJ132: 0
D133: P | F133: Poznámka k položce:_x000D_ napojení na inženýrské sítě a následné demontáže | AT133: P | AU133: 0 | AY133: ROZPOCET | BJ133: 0
D134: VV | F134: 1 + 1 | H134: 2 | AT134: VV | AU134: 0 | AV134: 2 | AW134: TRUE | AY134: ROZPOCET | BJ134: 0
D135: VV | F135: Součet | H135: 2 | AT135: VV | AU135: 0 | AV135: 4 | AW135: TRUE | AX135: TRUE | AY135: ROZPOCET | BJ135: 0
C136: 167 | D136: K | E136: 033203000 | F136: Energie pro zařízení staveniště | G136: měs | H136: 2 | J136: =ROUND(H136*I136,2) -> 0 | K136: CS ÚRS 2026 01 | N136: základní | P136: =H136*O136 -> 0 | Q136: 0 | R136: =H136*Q136 -> 0 | S136: 0 | T136: =H136*S136 -> 0 | AR136: 1024 | AT136: K | AU136: 2 | AY136: ROZPOCET | BE136: =IF(N136="základní",J136,0) -> 0 | BF136: =IF(N136="snížená",J136,0) -> 0 | BG136: =IF(N136="zákl. přenesená",J136,0) -> 0 | BH136: =IF(N136="sníž. přenesená",J136,0) -> 0 | BI136: =IF(N136="nulová",J136,0) -> 0 | BJ136: 1
D137: Online PSC | F137: https://podminky.urs.cz/item/CS_URS_2026_01/033203000 | AT137: Online PSC | AU137: 0 | AY137: ROZPOCET | BJ137: 0
D138: P | F138: Poznámka k položce:_x000D_ včetně osazení staveništního rozvaděče | AT138: P | AU138: 0 | AY138: ROZPOCET | BJ138: 0
C139: 168 | D139: K | E139: 034103000 | F139: Oplocení staveniště | G139: m | H139: 30.175 | J139: =ROUND(H139*I139,2) -> 0 | K139: CS ÚRS 2026 01 | N139: základní | P139: =H139*O139 -> 0 | Q139: 0 | R139: =H139*Q139 -> 0 | S139: 0 | T139: =H139*S139 -> 0 | AR139: 1024 | AT139: K | AU139: 2 | AY139: ROZPOCET | BE139: =IF(N139="základní",J139,0) -> 0 | BF139: =IF(N139="snížená",J139,0) -> 0 | BG139: =IF(N139="zákl. přenesená",J139,0) -> 0 | BH139: =IF(N139="sníž. přenesená",J139,0) -> 0 | BI139: =IF(N139="nulová",J139,0) -> 0 | BJ139: 1
D140: Online PSC | F140: https://podminky.urs.cz/item/CS_URS_2026_01/034103000 | AT140: Online PSC | AU140: 0 | AY140: ROZPOCET | BJ140: 0
D141: P | F141: Poznámka k položce:_x000D_ _x000D_ | AT141: P | AU141: 0 | AY141: ROZPOCET | BJ141: 0
D142: VV | F142: "mobilní oplocení z modulů - betonový podstavec + ocelová kce s drátěnou výplní + konzoly a bal žiletkového drátu" | AT142: VV | AU142: 0 | AV142: 1 | AW142: TRUE | AY142: ROZPOCET | BJ142: 0
D143: VV | F143: 25,31 | H143: 25.31 | AT143: VV | AU143: 0 | AV143: 2 | AW143: TRUE | AY143: ROZPOCET | BJ143: 0
D144: VV | F144: "mobilní oplocení z modulů - betonový podstavec + ocelová kce s drátěnou výplní + konzoly a bal žiletkového drátu" | AT144: VV | AU144: 0 | AV144: 1 | AW144: TRUE | AY144: ROZPOCET | BJ144: 0
D145: VV | F145: 4,865 | H145: 4.865 | AT145: VV | AU145: 0 | AV145: 2 | AW145: TRUE | AY145: ROZPOCET | BJ145: 0
D146: VV | F146: Součet 30,175 | AT146: VV | AU146: 0 | AV146: 1 | AW146: TRUE | AY146: ROZPOCET | BJ146: 0
D147: VV | F147: Součet | H147: 30.175 | AT147: VV | AU147: 0 | AV147: 4 | AW147: TRUE | AX147: TRUE | AY147: ROZPOCET | BJ147: 0
C148: 169 | D148: K | E148: 034103000 B | F148: Oplocení staveniště - branka | G148: kpl | H148: 1 | J148: =ROUND(H148*I148,2) -> 0 | N148: základní | P148: =H148*O148 -> 0 | Q148: 0 | R148: =H148*Q148 -> 0 | S148: 0 | T148: =H148*S148 -> 0 | AR148: 1024 | AT148: K | AU148: 2 | AY148: ROZPOCET | BE148: =IF(N148="základní",J148,0) -> 0 | BF148: =IF(N148="snížená",J148,0) -> 0 | BG148: =IF(N148="zákl. přenesená",J148,0) -> 0 | BH148: =IF(N148="sníž. přenesená",J148,0) -> 0 | BI148: =IF(N148="nulová",J148,0) -> 0 | BJ148: 1
D149: P | F149: Poznámka k položce:_x000D_ "dočasná branka pro vstup do prostoru stanice BOL - včetně montáže a demontáže"_x000D_ ocelová kce, uzamykatelná, bezpečnostní kování_x000D_ | AT149: P | AU149: 0 | AY149: ROZPOCET | BJ149: 0
D150: VV | F150: ocelová kce, uzamykatelná, bezpečnostní kování Š=2,5m | AT150: VV | AU150: 0 | AV150: 1 | AW150: TRUE | AY150: ROZPOCET | BJ150: 0
D151: VV | F151: 1 | H151: 1 | AT151: VV | AU151: 0 | AV151: 2 | AW151: TRUE | AY151: ROZPOCET | BJ151: 0
D152: VV | F152: Součet | H152: 1 | AT152: VV | AU152: 0 | AV152: 4 | AW152: TRUE | AX152: TRUE | AY152: ROZPOCET | BJ152: 0
C153: 170 | D153: K | E153: 034103000 BR | F153: Oplocení staveniště - BRANKA | G153: kpl | H153: 1 | J153: =ROUND(H153*I153,2) -> 0 | N153: základní | P153: =H153*O153 -> 0 | Q153: 0 | R153: =H153*Q153 -> 0 | S153: 0 | T153: =H153*S153 -> 0 | AR153: 1024 | AT153: K | AU153: 2 | AY153: ROZPOCET | BE153: =IF(N153="základní",J153,0) -> 0 | BF153: =IF(N153="snížená",J153,0) -> 0 | BG153: =IF(N153="zákl. přenesená",J153,0) -> 0 | BH153: =IF(N153="sníž. přenesená",J153,0) -> 0 | BI153: =IF(N153="nulová",J153,0) -> 0 | BJ153: 1
D154: P | F154: Poznámka k položce:_x000D_ "dočasná vjezdová brána pro vjezd na staveniště - včetně montáže a demontáže"_x000D_ _x000D_ ocelová kce, uzamykatelná, bezpečnostní kování_x000D_ _x000D_ | AT154: P | AU154: 0 | AY154: ROZPOCET | BJ154: 0
D155: VV | F155: ocelová kce, uzamykatelná, bezpečnostní kování Š=5,00m | AT155: VV | AU155: 0 | AV155: 1 | AW155: TRUE | AY155: ROZPOCET | BJ155: 0
D156: VV | F156: 1 | H156: 1 | AT156: VV | AU156: 0 | AV156: 2 | AW156: TRUE | AY156: ROZPOCET | BJ156: 0
D157: VV | F157: Součet | H157: 1 | AT157: VV | AU157: 0 | AV157: 4 | AW157: TRUE | AX157: TRUE | AY157: ROZPOCET | BJ157: 0
C158: 171 | D158: K | E158: 034403000 | F158: Osvětlení staveniště | G158: kpl | H158: 1 | J158: =ROUND(H158*I158,2) -> 0 | K158: CS ÚRS 2026 01 | N158: základní | P158: =H158*O158 -> 0 | Q158: 0 | R158: =H158*Q158 -> 0 | S158: 0 | T158: =H158*S158 -> 0 | AR158: 1024 | AT158: K | AU158: 2 | AY158: ROZPOCET | BE158: =IF(N158="základní",J158,0) -> 0 | BF158: =IF(N158="snížená",J158,0) -> 0 | BG158: =IF(N158="zákl. přenesená",J158,0) -> 0 | BH158: =IF(N158="sníž. přenesená",J158,0) -> 0 | BI158: =IF(N158="nulová",J158,0) -> 0 | BJ158: 1
D159: Online PSC | F159: https://podminky.urs.cz/item/CS_URS_2026_01/034403000 | AT159: Online PSC | AU159: 0 | AY159: ROZPOCET | BJ159: 0
C160: 172 | D160: K | E160: 039103000 | F160: Rozebrání, bourání a odvoz zařízení staveniště | G160: kpl | H160: 1 | J160: =ROUND(H160*I160,2) -> 0 | K160: CS ÚRS 2026 01 | N160: základní | P160: =H160*O160 -> 0 | Q160: 0 | R160: =H160*Q160 -> 0 | S160: 0 | T160: =H160*S160 -> 0 | AR160: 1024 | AT160: K | AU160: 2 | AY160: ROZPOCET | BE160: =IF(N160="základní",J160,0) -> 0 | BF160: =IF(N160="snížená",J160,0) -> 0 | BG160: =IF(N160="zákl. přenesená",J160,0) -> 0 | BH160: =IF(N160="sníž. přenesená",J160,0) -> 0 | BI160: =IF(N160="nulová",J160,0) -> 0 | BJ160: 1
D161: Online PSC | F161: https://podminky.urs.cz/item/CS_URS_2026_01/039103000 | AT161: Online PSC | AU161: 0 | AY161: ROZPOCET | BJ161: 0
...

Sheet SO.21 - NN ROZVODY
L2: >> skryté sloupce << | AT2: {00b0d1e2-0000-0000-0000-000000000000}
AT3: 2
D4: KRYCÍ LIST SOUPISU PRACÍ | AT4: FALSE
D6: Stavba:
E7: REVITALIZACE ZÁMECKÉHO PARKU ‐ TVRZIŠTĚ KLUČOV | AA7: =E7 -> REVITALIZACE ZÁMECKÉHO PARKU ‐ TVRZIŠTĚ KLUČOV
D8: Objekt:
E9: SO.21 - NN ROZVODY | AA9: =E9 -> SO.21 - NN ROZVODY
D11: KSO: | I11: CZ-CC:
D12: Místo: | I12: Datum: | J12: ='Rekapitulace stavby'!AN8 -> 46300
D14: Zadavatel: | I14: IČ: | J14: 00235431
E15: Obec Klučov | I15: DIČ:
D17: Zhotovitel: | I17: =I14 -> IČ: | J17: ='Rekapitulace stavby'!AN13 -> Vyplň údaj
E18: ='Rekapitulace stavby'!E14 -> Vyplň údaj | I18: =I15 -> DIČ: | J18: ='Rekapitulace stavby'!AN14 -> Vyplň údaj
D20: Projektant: | I20: =I14 -> IČ:
E21: Studio Anarchitekt s.r.o. | I21: =I15 -> DIČ:
D23: Zpracovatel: | I23: =I14 -> IČ: | J23: 05649358
E24: Ing. Theodor Collino | I24: =I15 -> DIČ: | J24: CZ8201043686
D26: Poznámka:
E27: ZPŮSOBILÉ VÝDAJE | AA27: =E27 -> ZPŮSOBILÉ VÝDAJE
D30: Cena bez DPH | J30: =ROUND(J115,2) -> 0
F32: Základ daně | I32: Sazba daně | J32: Výše daně
D33: DPH | E33: základní | F33: =SUM(BE115:BE187) -> 0 | I33: 0.21 | J33: =ROUND(F33*I33,2) -> 0
D36: Cena s DPH | G36: v | H36: CZK | J36: =SUM(J30:J34) -> 0
D43: =D20 -> Projektant: | G43: =D23 -> Zpracovatel:
D54: Datum a podpis: | F54: Razítko | G54: =D54 -> Datum a podpis: | J54: =F54 -> Razítko
D58: =D14 -> Zadavatel: | G58: =D17 -> Zhotovitel:
D69: =D54 -> Datum a podpis: | F69: =F54 -> Razítko | G69: =D54 -> Datum a podpis: | J69: =F54 -> Razítko
C75: REKAPITULACE ROZPOČTU
C77: Stavba:
E78: REVITALIZACE ZÁMECKÉHO PARKU ‐ TVRZIŠTĚ KLUČOV | AA78: REVITALIZACE ZÁMECKÉHO PARKU ‐ TVRZIŠTĚ KLUČOV
C79: Objekt:
E80: SO.21 - NN ROZVODY | AA80: SO.21 - NN ROZVODY
C82: Místo: | I82: =I12 -> Datum: | J82: =J12 -> 46300
C84: Zadavatel: | F84: Obec Klučov | I84: =D20 -> Projektant: | J84: =IF(E21="","",E21) -> Studio Anarchitekt s.r.o.
C85: Zhotovitel: | F85: =IF(E18="Vyplň údaj","",E18) | I85: =D23 -> Zpracovatel: | J85: =IF(E24="","",E24) -> Ing. Theodor Collino
C87: Kód dílu - Popis | J87: Cena celkem [CZK]
C89: Náklady celkem | J89: =J115 -> 0
D90: HSV - Práce a dodávky HSV | J90: =J116 -> 0
D91: 8 - Trubní vedení | J91: =J117 -> 0
D92: PSV - Práce a dodávky PSV | J92: =J121 -> 0
D93: 741 - Elektroinstalace - silnoproud | J93: =J122 -> 0
D94: 742 - Elektroinstalace - slaboproud | J94: =J142 -> 0
D95: M - Práce a dodávky M | J95: =J156 -> 0
D96: 46-M - Zemní práce při extr.mont.pracích | J96: =J157 -> 0
C102: SOUPIS PRACÍ | M102: v --- níže se nacházejí doplnkové a pomocné údaje k sestavám --- v
C104: =D6 -> Stavba:
E105: =IF(E7="","",E7) -> REVITALIZACE ZÁMECKÉHO PARKU ‐ TVRZIŠTĚ KLUČOV | AA105: =IF(AA7="","",AA7) -> REVITALIZACE ZÁMECKÉHO PARKU ‐ TVRZIŠTĚ KLUČOV
C106: =D8 -> Objekt:
E107: =E9 -> SO.21 - NN ROZVODY | AA107: =AA9 -> SO.21 - NN ROZVODY
C109: =D12 -> Místo: | F109: =IF(F12="","",F12) | I109: =I12 -> Datum: | J109: =J12 -> 46300
C111: =D14 -> Zadavatel: | F111: =IF(E15="","",E15) -> Obec Klučov | I111: =D20 -> Projektant: | J111: =IF(E21="","",E21) -> Studio Anarchitekt s.r.o.
C112: =D17 -> Zhotovitel: | F112: =IF(E18="Vyplň údaj","",E18) | I112: =D23 -> Zpracovatel: | J112: =IF(E24="","",E24) -> Ing. Theodor Collino
C114: PČ | D114: Typ | E114: Kód | F114: Popis | G114: MJ | H114: Množství | I114: J. cena [CZK] | J114: Cena celkem [CZK] | K114: Cenová soustava | N114: DPH | O114: J. Nh [h] | P114: Nh celkem [h] | Q114: J. hmotnost [t] | R114: Hmotnost celkem [t] | S114: J. suť [t] | T114: Suť Celkem [t]
C115: Náklady soupisu celkem | J115: =J116 + J121 + J156 -> 0 | P115: =P116 + P121 + P156 -> 0 | R115: =R116 + R121 + R156 -> 0.906149 | T115: =T116 + T121 + T156 -> 0
D116: D | E116: HSV | F116: Práce a dodávky HSV | J116: =J117 -> 0 | P116: =P117 -> 0 | R116: =R117 -> 0 | T116: =T117 -> 0 | AR116: 1 | AT116: D | AU116: 0 | AY116: ROZPOCET | BJ116: 0
D117: D | E117: 8 | F117: Trubní vedení | J117: =J118 -> 0 | P117: =P118 -> 0 | R117: =R118 -> 0 | T117: =T118 -> 0 | AR117: 1 | AT117: D | AU117: 1 | AY117: ROZPOCET | BJ117: 0
C118: 175 | D118: K | E118: 800A4002 | F118: Přípojka elektro v zemi, kabel CYKY 4x16 mm2 | G118: m | H118: 76.155 | J118: =ROUND(H118*I118,2) -> 0 | K118: ÚRS RYRO 2026 01 | N118: základní | P118: =H118*O118 -> 0 | Q118: 0 | R118: =H118*Q118 -> 0 | S118: 0 | T118: =H118*S118 -> 0 | AR118: 4 | AT118: K | AU118: 2 | AY118: ROZPOCET | BE118: =IF(N118="základní",J118,0) -> 0 | BF118: =IF(N118="snížená",J118,0) -> 0 | BG118: =IF(N118="zákl. přenesená",J118,0) -> 0 | BH118: =IF(N118="sníž. přenesená",J118,0) -> 0 | BI118: =IF(N118="nulová",J118,0) -> 0 | BJ118: 1
D119: VV | F119: Instalace protikořenové fólie | H119: 76.155 | AT119: VV | AU119: 0 | AV119: 2 | AW119: TRUE | AY119: ROZPOCET | BJ119: 0
D120: VV | F120: Součet | H120: 76.155 | AT120: VV | AU120: 0 | AV120: 4 | AW120: TRUE | AX120: TRUE | AY120: ROZPOCET | BJ120: 0
D121: D | E121: PSV | F121: Práce a dodávky PSV | J121: =J122 + J142 -> 0 | P121: =P122 + P142 -> 0 | R121: =R122 + R142 -> 0.896549 | T121: =T122 + T142 -> 0 | AR121: 2 | AT121: D | AU121: 0 | AY121: ROZPOCET | BJ121: 0
D122: D | E122: 741 | F122: Elektroinstalace - silnoproud | J122: =J123 + J128 + J133 + J138 + J140 -> 0 | P122: =P123 + P128 + P133 + P138 + P140 -> 0 | R122: =R123 + R128 + R133 + R138 + R140 -> 0.853769 | T122: =T123 + T128 + T133 + T138 + T140 -> 0 | AR122: 2 | AT122: D | AU122: 1 | AY122: ROZPOCET | BJ122: 0
C123: 176 | D123: K | E123: 741110327 | F123: Montáž trubky ochranné do krabic plastové ohebné D přes 40 do 90 mm uložené volně | G123: m | H123: 713 | J123: =ROUND(H123*I123,2) -> 0 | K123: CS ÚRS 2026 02 | N123: základní | P123: =H123*O123 -> 0 | Q123: 0 | R123: =H123*Q123 -> 0 | S123: 0 | T123: =H123*S123 -> 0 | AR123: 16 | AT123: K | AU123: 2 | AY123: ROZPOCET | BE123: =IF(N123="základní",J123,0) -> 0 | BF123: =IF(N123="snížená",J123,0) -> 0 | BG123: =IF(N123="zákl. přenesená",J123,0) -> 0 | BH123: =IF(N123="sníž. přenesená",J123,0) -> 0 | BI123: =IF(N123="nulová",J123,0) -> 0 | BJ123: 1
D124: Online PSC | F124: https://podminky.urs.cz/item/CS_URS_2026_02/741110327 | AT124: Online PSC | AU124: 0 | AY124: ROZPOCET | BJ124: 0
D125: VV | F125: Hlavní areálový rozvod NN | AT125: VV | AU125: 0 | AV125: 1 | AW125: TRUE | AY125: ROZPOCET | BJ125: 0
D126: VV | F126: 713 | H126: 713 | AT126: VV | AU126: 0 | AV126: 2 | AW126: TRUE | AY126: ROZPOCET | BJ126: 0
D127: VV | F127: Součet | H127: 713 | AT127: VV | AU127: 0 | AV127: 4 | AW127: TRUE | AX127: TRUE | AY127: ROZPOCET | BJ127: 0
C128: 177 | D128: M | E128: 34571351 | F128: trubka elektroinstalační ohebná dvouplášťová korugovaná HDPE (chránička) D 40/50mm | G128: m | H128: 748.65 | J128: =ROUND(H128*I128,2) -> 0 | K128: CS ÚRS 2026 02 | N128: základní | P128: =H128*O128 -> 0 | Q128: 0.00026 | R128: =H128*Q128 -> 0.194649 | S128: 0 | T128: =H128*S128 -> 0 | AR128: 32 | AT128: M | AU128: 2 | AY128: ROZPOCET | BE128: =IF(N128="základní",J128,0) -> 0 | BF128: =IF(N128="snížená",J128,0) -> 0 | BG128: =IF(N128="zákl. přenesená",J128,0) -> 0 | BH128: =IF(N128="sníž. přenesená",J128,0) -> 0 | BI128: =IF(N128="nulová",J128,0) -> 0 | BJ128: 1
D129: VV | F129: Hlavní areálový rozvod NN | AT129: VV | AU129: 0 | AV129: 1 | AW129: TRUE | AY129: ROZPOCET | BJ129: 0
D130: VV | F130: 713 | H130: 713 | AT130: VV | AU130: 0 | AV130: 2 | AW130: TRUE | AY130: ROZPOCET | BJ130: 0
D131: VV | F131: Součet | H131: 713 | AT131: VV | AU131: 0 | AV131: 4 | AW131: TRUE | AY131: ROZPOCET | BJ131: 0
D132: VV | F132: 713*1,05 'Přepočtené koeficientem množství | H132: 748.65 | AT132: VV | AU132: 0 | AV132: 2 | AW132: TRUE | AX132: TRUE | AY132: ROZPOCET | BJ132: 0
C133: 178 | D133: K | E133: 741122144 | F133: Montáž kabel Cu plný kulatý žíla 5x10 mm2 zatažený v trubkách (např. CYKY, CYKFY) | G133: m | H133: 713 | J133: =ROUND(H133*I133,2) -> 0 | K133: CS ÚRS 2026 02 | N133: základní | P133: =H133*O133 -> 0 | Q133: 0 | R133: =H133*Q133 -> 0 | S133: 0 | T133: =H133*S133 -> 0 | AR133: 16 | AT133: K | AU133: 2 | AY133: ROZPOCET | BE133: =IF(N133="základní",J133,0) -> 0 | BF133: =IF(N133="snížená",J133,0) -> 0 | BG133: =IF(N133="zákl. přenesená",J133,0) -> 0 | BH133: =IF(N133="sníž. přenesená",J133,0) -> 0 | BI133: =IF(N133="nulová",J133,0) -> 0 | BJ133: 1
D134: Online PSC | F134: https://podminky.urs.cz/item/CS_URS_2026_02/741122144 | AT134: Online PSC | AU134: 0 | AY134: ROZPOCET | BJ134: 0
D135: VV | F135: Hlavní areálový rozvod NN | AT135: VV | AU135: 0 | AV135: 1 | AW135: TRUE | AY135: ROZPOCET | BJ135: 0
D136: VV | F136: 713 | H136: 713 | AT136: VV | AU136: 0 | AV136: 2 | AW136: TRUE | AY136: ROZPOCET | BJ136: 0
D137: VV | F137: Součet | H137: 713 | AT137: VV | AU137: 0 | AV137: 4 | AW137: TRUE | AX137: TRUE | AY137: ROZPOCET | BJ137: 0
C138: 179 | D138: M | E138: PKB.711040 | F138: CYKY-J 5x10 RE | G138: km | H138: 0.856 | J138: =ROUND(H138*I138,2) -> 0 | N138: základní | P138: =H138*O138 -> 0 | Q138: 0.77 | R138: =H138*Q138 -> 0.65912 | S138: 0 | T138: =H138*S138 -> 0 | AR138: 32 | AT138: M | AU138: 2 | AY138: ROZPOCET | BE138: =IF(N138="základní",J138,0) -> 0 | BF138: =IF(N138="snížená",J138,0) -> 0 | BG138: =IF(N138="zákl. přenesená",J138,0) -> 0 | BH138: =IF(N138="sníž. přenesená",J138,0) -> 0 | BI138: =IF(N138="nulová",J138,0) -> 0 | BJ138: 1
D139: VV | F139: 0,713*1,2 'Přepočtené koeficientem množství | H139: 0.856 | AT139: VV | AU139: 0 | AV139: 2 | AW139: TRUE | AX139: TRUE | AY139: ROZPOCET | BJ139: 0
C140: 180 | D140: K | E140: 998741101 | F140: Přesun hmot tonážní pro silnoproud v objektech v do 6 m | G140: t | H140: 0.854 | J140: =ROUND(H140*I140,2) -> 0 | K140: CS ÚRS 2026 02 | N140: základní | P140: =H140*O140 -> 0 | Q140: 0 | R140: =H140*Q140 -> 0 | S140: 0 | T140: =H140*S140 -> 0 | AR140: 16 | AT140: K | AU140: 2 | AY140: ROZPOCET | BE140: =IF(N140="základní",J140,0) -> 0 | BF140: =IF(N140="snížená",J140,0) -> 0 | BG140: =IF(N140="zákl. přenesená",J140,0) -> 0 | BH140: =IF(N140="sníž. přenesená",J140,0) -> 0 | BI140: =IF(N140="nulová",J140,0) -> 0 | BJ140: 1
D141: Online PSC | F141: https://podminky.urs.cz/item/CS_URS_2026_02/998741101 | AT141: Online PSC | AU141: 0 | AY141: ROZPOCET | BJ141: 0
D142: D | E142: 742 | F142: Elektroinstalace - slaboproud | J142: =J143 + J148 + J154 -> 0 | P142: =P143 + P148 + P154 -> 0 | R142: =R143 + R148 + R154 -> 0.04278 | T142: =T143 + T148 + T154 -> 0 | AR142: 2 | AT142: D | AU142: 1 | AY142: ROZPOCET | BJ142: 0
C143: 181 | D143: K | E143: 742124009 | F143: Montáž kabelů datových FTP, UTP, STP pro vnější rozvody do trubky | G143: m | H143: 713 | J143: =ROUND(H143*I143,2) -> 0 | K143: CS ÚRS 2026 02 | N143: základní | P143: =H143*O143 -> 0 | Q143: 0 | R143: =H143*Q143 -> 0 | S143: 0 | T143: =H143*S143 -> 0 | AR143: 16 | AT143: K | AU143: 2 | AY143: ROZPOCET | BE143: =IF(N143="základní",J143,0) -> 0 | BF143: =IF(N143="snížená",J143,0) -> 0 | BG143: =IF(N143="zákl. přenesená",J143,0) -> 0 | BH143: =IF(N143="sníž. přenesená",J143,0) -> 0 | BI143: =IF(N143="nulová",J143,0) -> 0 | BJ143: 1
D144: Online PSC | F144: https://podminky.urs.cz/item/CS_URS_2026_02/742124009 | AT144: Online PSC | AU144: 0 | AY144: ROZPOCET | BJ144: 0
D145: VV | F145: Hlavní areálový rozvod NN | AT145: VV | AU145: 0 | AV145: 1 | AW145: TRUE | AY145: ROZPOCET | BJ145: 0
D146: VV | F146: 713 | H146: 713 | AT146: VV | AU146: 0 | AV146: 2 | AW146: TRUE | AY146: ROZPOCET | BJ146: 0
D147: VV | F147: Součet | H147: 713 | AT147: VV | AU147: 0 | AV147: 4 | AW147: TRUE | AX147: TRUE | AY147: ROZPOCET | BJ147: 0
C148: 182 | D148: M | E148: 34121267 | F148: kabel datový venkovní celkově stíněný Al fólií jádro Cu plné plášť PE (F/UTP) kategorie 6 | G148: m | H148: 855.6 | J148: =ROUND(H148*I148,2) -> 0 | N148: základní | P148: =H148*O148 -> 0 | Q148: 5e-05 | R148: =H148*Q148 -> 0.04278 | S148: 0 | T148: =H148*S148 -> 0 | AR148: 32 | AT148: M | AU148: 2 | AY148: ROZPOCET | BE148: =IF(N148="základní",J148,0) -> 0 | BF148: =IF(N148="snížená",J148,0) -> 0 | BG148: =IF(N148="zákl. přenesená",J148,0) -> 0 | BH148: =IF(N148="sníž. přenesená",J148,0) -> 0 | BI148: =IF(N148="nulová",J148,0) -> 0 | BJ148: 1
D149: P | F149: Poznámka k položce:_x000D_ CAT6A F/UTP | AT149: P | AU149: 0 | AY149: ROZPOCET | BJ149: 0
D150: VV | F150: Hlavní areálový rozvod NN | AT150: VV | AU150: 0 | AV150: 1 | AW150: TRUE | AY150: ROZPOCET | BJ150: 0
D151: VV | F151: 713 | H151: 713 | AT151: VV | AU151: 0 | AV151: 2 | AW151: TRUE | AY151: ROZPOCET | BJ151: 0
D152: VV | F152: Součet | H152: 713 | AT152: VV | AU152: 0 | AV152: 4 | AW152: TRUE | AY152: ROZPOCET | BJ152: 0
D153: VV | F153: 713*1,2 'Přepočtené koeficientem množství | H153: 855.6 | AT153: VV | AU153: 0 | AV153: 2 | AW153: TRUE | AX153: TRUE | AY153: ROZPOCET | BJ153: 0
C154: 183 | D154: K | E154: 998742101 | F154: Přesun hmot tonážní pro slaboproud v objektech v do 6 m | G154: t | H154: 0.043 | J154: =ROUND(H154*I154,2) -> 0 | K154: CS ÚRS 2026 02 | N154: základní | P154: =H154*O154 -> 0 | Q154: 0 | R154: =H154*Q154 -> 0 | S154: 0 | T154: =H154*S154 -> 0 | AR154: 16 | AT154: K | AU154: 2 | AY154: ROZPOCET | BE154: =IF(N154="základní",J154,0) -> 0 | BF154: =IF(N154="snížená",J154,0) -> 0 | BG154: =IF(N154="zákl. přenesená",J154,0) -> 0 | BH154: =IF(N154="sníž. přenesená",J154,0) -> 0 | BI154: =IF(N154="nulová",J154,0) -> 0 | BJ154: 1
D155: Online PSC | F155: https://podminky.urs.cz/item/CS_URS_2026_02/998742101 | AT155: Online PSC | AU155: 0 | AY155: ROZPOCET | BJ155: 0
D156: D | E156: M | F156: Práce a dodávky M | J156: =J157 -> 0 | P156: =P157 -> 0 | R156: =R157 -> 0.0096 | T156: =T157 -> 0 | AR156: 3 | AT156: D | AU156: 0 | AY156: ROZPOCET | BJ156: 0
D157: D | E157: 46-M | F157: Zemní práce při extr.mont.pracích | J157: =J158 + J163 + J168 + J173 + J178 + J183 -> 0 | P157: =P158 + P163 + P168 + P173 + P178 + P183 -> 0 | R157: =R158 + R163 + R168 + R173 + R178 + R183 -> 0.0096 | T157: =T158 + T163 + T168 + T173 + T178 + T183 -> 0 | AR157: 3 | AT157: D | AU157: 1 | AY157: ROZPOCET | BJ157: 0
C158: 184 | D158: K | E158: 460171142 | F158: Hloubení kabelových nezapažených rýh strojně š 35 cm hl 50 cm v hornině tř I skupiny 3 | G158: m | H158: 80 | J158: =ROUND(H158*I158,2) -> 0 | K158: CS ÚRS 2026 02 | N158: základní | P158: =H158*O158 -> 0 | Q158: 0 | R158: =H158*Q158 -> 0 | S158: 0 | T158: =H158*S158 -> 0 | AR158: 64 | AT158: K | AU158: 2 | AY158: ROZPOCET | BE158: =IF(N158="základní",J158,0) -> 0 | BF158: =IF(N158="snížená",J158,0) -> 0 | BG158: =IF(N158="zákl. přenesená",J158,0) -> 0 | BH158: =IF(N158="sníž. přenesená",J158,0) -> 0 | BI158: =IF(N158="nulová",J158,0) -> 0 | BJ158: 1
D159: Online PSC | F159: https://podminky.urs.cz/item/CS_URS_2026_02/460171142 | AT159: Online PSC | AU159: 0 | AY159: ROZPOCET | BJ159: 0
D160: VV | F160: Hlavní areálový rozvod NN - trasa mimo VO | AT160: VV | AU160: 0 | AV160: 1 | AW160: TRUE | AY160: ROZPOCET | BJ160: 0
D161: VV | F161: 80 | H161: 80 | AT161: VV | AU161: 0 | AV161: 2 | AW161: TRUE | AY161: ROZPOCET | BJ161: 0
...

Sheet SO.22 - Kanalizační přípojka
L2: >> skryté sloupce << | AT2: {00b12687-0000-0000-0000-000000000000}
AT3: 2
D4: KRYCÍ LIST SOUPISU PRACÍ | AT4: FALSE
D6: Stavba:
E7: REVITALIZACE ZÁMECKÉHO PARKU ‐ TVRZIŠTĚ KLUČOV | AA7: =E7 -> REVITALIZACE ZÁMECKÉHO PARKU ‐ TVRZIŠTĚ KLUČOV
D8: Objekt:
E9: SO.22 - Kanalizační přípojka | AA9: =E9 -> SO.22 - Kanalizační přípojka
D11: KSO: | I11: CZ-CC:
D12: Místo: | I12: Datum: | J12: ='Rekapitulace stavby'!AN8 -> 46300
D14: Zadavatel: | I14: IČ: | J14: 00235431
E15: Obec Klučov | I15: DIČ:
D17: Zhotovitel: | I17: =I14 -> IČ: | J17: ='Rekapitulace stavby'!AN13 -> Vyplň údaj
E18: ='Rekapitulace stavby'!E14 -> Vyplň údaj | I18: =I15 -> DIČ: | J18: ='Rekapitulace stavby'!AN14 -> Vyplň údaj
D20: Projektant: | I20: =I14 -> IČ:
E21: Studio Anarchitekt s.r.o. | I21: =I15 -> DIČ:
D23: Zpracovatel: | I23: =I14 -> IČ: | J23: 05649358
E24: Ing. Theodor Collino | I24: =I15 -> DIČ: | J24: CZ8201043686
D26: Poznámka:
E27: ZPŮSOBILÉ VÝDAJE | AA27: =E27 -> ZPŮSOBILÉ VÝDAJE
D30: Cena bez DPH | J30: =ROUND(J117,2) -> 0
F32: Základ daně | I32: Sazba daně | J32: Výše daně
D33: DPH | E33: základní | F33: =SUM(BE117:BE252) -> 0 | I33: 0.21 | J33: =ROUND(F33*I33,2) -> 0
D36: Cena s DPH | G36: v | H36: CZK | J36: =SUM(J30:J34) -> 0
D43: =D20 -> Projektant: | G43: =D23 -> Zpracovatel:
D54: Datum a podpis: | F54: Razítko | G54: =D54 -> Datum a podpis: | J54: =F54 -> Razítko
D58: =D14 -> Zadavatel: | G58: =D17 -> Zhotovitel:
D69: =D54 -> Datum a podpis: | F69: =F54 -> Razítko | G69: =D54 -> Datum a podpis: | J69: =F54 -> Razítko
C75: REKAPITULACE ROZPOČTU
C77: Stavba:
E78: REVITALIZACE ZÁMECKÉHO PARKU ‐ TVRZIŠTĚ KLUČOV | AA78: REVITALIZACE ZÁMECKÉHO PARKU ‐ TVRZIŠTĚ KLUČOV
C79: Objekt:
E80: SO.22 - Kanalizační přípojka | AA80: SO.22 - Kanalizační přípojka
C82: Místo: | I82: =I12 -> Datum: | J82: =J12 -> 46300
C84: Zadavatel: | F84: Obec Klučov | I84: =D20 -> Projektant: | J84: =IF(E21="","",E21) -> Studio Anarchitekt s.r.o.
C85: Zhotovitel: | F85: =IF(E18="Vyplň údaj","",E18) | I85: =D23 -> Zpracovatel: | J85: =IF(E24="","",E24) -> Ing. Theodor Collino
C87: Kód dílu - Popis | J87: Cena celkem [CZK]
C89: Náklady celkem | J89: =J117 -> 0
D90: HSV - Práce a dodávky HSV | J90: =J118 -> 0
D91: 1 - Zemní práce | J91: =J119 -> 0
D92: 3 - Svislé a kompletní konstrukce | J92: =J176 -> 0
D93: 4 - Vodorovné konstrukce | J93: =J180 -> 0
D94: 8 - Vedení trubní dálková a přípojná | J94: =J197 -> 0
D95: 998 - Přesun hmot | J95: =J231 -> 0
D96: PSV - Práce a dodávky PSV | J96: =J236 -> 0
D97: 721 - Zdravotechnika - vnitřní kanalizace | J97: =J237 -> 0
D98: 722 - Zdravotechnika - vnitřní vodovod | J98: =J243 -> 0
C104: SOUPIS PRACÍ | M104: v --- níže se nacházejí doplnkové a pomocné údaje k sestavám --- v
C106: =D6 -> Stavba:
E107: =IF(E7="","",E7) -> REVITALIZACE ZÁMECKÉHO PARKU ‐ TVRZIŠTĚ KLUČOV | AA107: =IF(AA7="","",AA7) -> REVITALIZACE ZÁMECKÉHO PARKU ‐ TVRZIŠTĚ KLUČOV
C108: =D8 -> Objekt:
E109: =E9 -> SO.22 - Kanalizační přípojka | AA109: =AA9 -> SO.22 - Kanalizační přípojka
C111: =D12 -> Místo: | F111: =IF(F12="","",F12) | I111: =I12 -> Datum: | J111: =J12 -> 46300
C113: =D14 -> Zadavatel: | F113: =IF(E15="","",E15) -> Obec Klučov | I113: =D20 -> Projektant: | J113: =IF(E21="","",E21) -> Studio Anarchitekt s.r.o.
C114: =D17 -> Zhotovitel: | F114: =IF(E18="Vyplň údaj","",E18) | I114: =D23 -> Zpracovatel: | J114: =IF(E24="","",E24) -> Ing. Theodor Collino
C116: PČ | D116: Typ | E116: Kód | F116: Popis | G116: MJ | H116: Množství | I116: J. cena [CZK] | J116: Cena celkem [CZK] | K116: Cenová soustava | N116: DPH | O116: J. Nh [h] | P116: Nh celkem [h] | Q116: J. hmotnost [t] | R116: Hmotnost celkem [t] | S116: J. suť [t] | T116: Suť Celkem [t]
C117: Náklady soupisu celkem | J117: =J118 + J236 -> 0 | P117: =P118 + P236 -> 0 | R117: =R118 + R236 -> 63.038773 | T117: =T118 + T236 -> 0
D118: D | E118: HSV | F118: Práce a dodávky HSV | J118: =J119 + J176 + J180 + J197 + J231 -> 0 | P118: =P119 + P176 + P180 + P197 + P231 -> 0 | R118: =R119 + R176 + R180 + R197 + R231 -> 63.033038 | T118: =T119 + T176 + T180 + T197 + T231 -> 0 | AR118: 1 | AT118: D | AU118: 0 | AY118: ROZPOCET | BJ118: 0
D119: D | E119: 1 | F119: Zemní práce | J119: =J120 + J127 + J134 + J144 + J149 + J156 + J162 + J167 + J174 -> 0 | P119: =P120 + P127 + P134 + P144 + P149 + P156 + P162 + P167 + P174 -> 0 | R119: =R120 + R127 + R134 + R144 + R149 + R156 + R162 + R167 + R174 -> 62.18 | T119: =T120 + T127 + T134 + T144 + T149 + T156 + T162 + T167 + T174 -> 0 | AR119: 1 | AT119: D | AU119: 1 | AY119: ROZPOCET | BJ119: 0
C120: 190 | D120: K | E120: 132251102 | F120: Hloubení rýh nezapažených š do 800 mm v hornině třídy těžitelnosti I skupiny 3 objem do 50 m3 strojně | G120: m3 | H120: 124.384 | J120: =ROUND(H120*I120,2) -> 0 | K120: CS ÚRS 2026 01 | N120: základní | P120: =H120*O120 -> 0 | Q120: 0 | R120: =H120*Q120 -> 0 | S120: 0 | T120: =H120*S120 -> 0 | AR120: 4 | AT120: K | AU120: 2 | AY120: ROZPOCET | BE120: =IF(N120="základní",J120,0) -> 0 | BF120: =IF(N120="snížená",J120,0) -> 0 | BG120: =IF(N120="zákl. přenesená",J120,0) -> 0 | BH120: =IF(N120="sníž. přenesená",J120,0) -> 0 | BI120: =IF(N120="nulová",J120,0) -> 0 | BJ120: 1
D121: Online PSC | F121: https://podminky.urs.cz/item/CS_URS_2026_01/132251102 | AT121: Online PSC | AU121: 0 | AY121: ROZPOCET | BJ121: 0
D122: VV | F122: Kanalizační přípojka, š. 0,8 m, pr. hl. 1,5 m | AT122: VV | AU122: 0 | AV122: 1 | AW122: TRUE | AY122: ROZPOCET | BJ122: 0
D123: VV | F123: (95,58+3,38)*1,5*0,8 | H123: 118.752 | AT123: VV | AU123: 0 | AV123: 2 | AW123: TRUE | AY123: ROZPOCET | BJ123: 0
D124: VV | F124: Čerpací jímka, pr. 1,1 m, hl. 2,1 m + 0,1 m podkladní betonová deska | AT124: VV | AU124: 0 | AV124: 1 | AW124: TRUE | AY124: ROZPOCET | BJ124: 0
D125: VV | F125: 1,6*1,6*2,2 | H125: 5.632 | AT125: VV | AU125: 0 | AV125: 2 | AW125: TRUE | AY125: ROZPOCET | BJ125: 0
D126: VV | F126: Součet | H126: 124.384 | AT126: VV | AU126: 0 | AV126: 4 | AW126: TRUE | AX126: TRUE | AY126: ROZPOCET | BJ126: 0
C127: 191 | D127: K | E127: 161151103 | F127: Svislé přemístění výkopku z horniny třídy těžitelnosti I skupiny 1 až 3 hl výkopu přes 4 do 8 m | G127: m3 | H127: 124.384 | J127: =ROUND(H127*I127,2) -> 0 | K127: CS ÚRS 2026 01 | N127: základní | P127: =H127*O127 -> 0 | Q127: 0 | R127: =H127*Q127 -> 0 | S127: 0 | T127: =H127*S127 -> 0 | AR127: 4 | AT127: K | AU127: 2 | AY127: ROZPOCET | BE127: =IF(N127="základní",J127,0) -> 0 | BF127: =IF(N127="snížená",J127,0) -> 0 | BG127: =IF(N127="zákl. přenesená",J127,0) -> 0 | BH127: =IF(N127="sníž. přenesená",J127,0) -> 0 | BI127: =IF(N127="nulová",J127,0) -> 0 | BJ127: 1
D128: Online PSC | F128: https://podminky.urs.cz/item/CS_URS_2026_01/161151103 | AT128: Online PSC | AU128: 0 | AY128: ROZPOCET | BJ128: 0
D129: VV | F129: Kanalizační přípojka, š. 0,8 m, pr. hl. 1,5 m | AT129: VV | AU129: 0 | AV129: 1 | AW129: TRUE | AY129: ROZPOCET | BJ129: 0
D130: VV | F130: (95,58+3,38)*1,5*0,8 | H130: 118.752 | AT130: VV | AU130: 0 | AV130: 2 | AW130: TRUE | AY130: ROZPOCET | BJ130: 0
D131: VV | F131: Čerpací jímka, pr. 1,1 m, hl. 2,1 m + 0,1 m podkladní betonová deska | AT131: VV | AU131: 0 | AV131: 1 | AW131: TRUE | AY131: ROZPOCET | BJ131: 0
D132: VV | F132: 1,6*1,6*2,2 | H132: 5.632 | AT132: VV | AU132: 0 | AV132: 2 | AW132: TRUE | AY132: ROZPOCET | BJ132: 0
D133: VV | F133: Součet | H133: 124.384 | AT133: VV | AU133: 0 | AV133: 4 | AW133: TRUE | AX133: TRUE | AY133: ROZPOCET | BJ133: 0
C134: 192 | D134: K | E134: 162251102 | F134: Vodorovné přemístění přes 20 do 50 m výkopku/sypaniny z horniny třídy těžitelnosti I skupiny 1 až 3 | G134: m3 | H134: 207.51 | J134: =ROUND(H134*I134,2) -> 0 | K134: CS ÚRS 2026 01 | N134: základní | P134: =H134*O134 -> 0 | Q134: 0 | R134: =H134*Q134 -> 0 | S134: 0 | T134: =H134*S134 -> 0 | AR134: 4 | AT134: K | AU134: 2 | AY134: ROZPOCET | BE134: =IF(N134="základní",J134,0) -> 0 | BF134: =IF(N134="snížená",J134,0) -> 0 | BG134: =IF(N134="zákl. přenesená",J134,0) -> 0 | BH134: =IF(N134="sníž. přenesená",J134,0) -> 0 | BI134: =IF(N134="nulová",J134,0) -> 0 | BJ134: 1
D135: Online PSC | F135: https://podminky.urs.cz/item/CS_URS_2026_01/162251102 | AT135: Online PSC | AU135: 0 | AY135: ROZPOCET | BJ135: 0
D136: P | F136: Poznámka k položce:_x000D_ Nepředpokládá se další přesun přebytečné zeminy. | AT136: P | AU136: 0 | AY136: ROZPOCET | BJ136: 0
D137: VV | F137: Kanalizační přípojka, š. 0,8 m, pr. hl. 1,5 m | AT137: VV | AU137: 0 | AV137: 1 | AW137: TRUE | AY137: ROZPOCET | BJ137: 0
D138: VV | F138: (95,58+3,38)*1,5*0,8 | H138: 118.752 | AT138: VV | AU138: 0 | AV138: 2 | AW138: TRUE | AY138: ROZPOCET | BJ138: 0
D139: VV | F139: Čerpací jímka, pr. 1,1 m, hl. 2,1 m + 0,1 m podkladní betonová deska | AT139: VV | AU139: 0 | AV139: 1 | AW139: TRUE | AY139: ROZPOCET | BJ139: 0
D140: VV | F140: 1,6*1,6*2,2 | H140: 5.632 | AT140: VV | AU140: 0 | AV140: 2 | AW140: TRUE | AY140: ROZPOCET | BJ140: 0
D141: VV | F141: Zemina pro zpětné zásypy z původních výkopů | AT141: VV | AU141: 0 | AV141: 1 | AW141: TRUE | AY141: ROZPOCET | BJ141: 0
D142: VV | F142: 83,126 | H142: 83.126 | AT142: VV | AU142: 0 | AV142: 2 | AW142: TRUE | AY142: ROZPOCET | BJ142: 0
D143: VV | F143: Součet | H143: 207.51 | AT143: VV | AU143: 0 | AV143: 4 | AW143: TRUE | AX143: TRUE | AY143: ROZPOCET | BJ143: 0
C144: 193 | D144: K | E144: 167151101 | F144: Nakládání výkopku z hornin třídy těžitelnosti I skupiny 1 až 3 do 100 m3 | G144: m3 | H144: 83.126 | J144: =ROUND(H144*I144,2) -> 0 | K144: CS ÚRS 2026 01 | N144: základní | P144: =H144*O144 -> 0 | Q144: 0 | R144: =H144*Q144 -> 0 | S144: 0 | T144: =H144*S144 -> 0 | AR144: 4 | AT144: K | AU144: 2 | AY144: ROZPOCET | BE144: =IF(N144="základní",J144,0) -> 0 | BF144: =IF(N144="snížená",J144,0) -> 0 | BG144: =IF(N144="zákl. přenesená",J144,0) -> 0 | BH144: =IF(N144="sníž. přenesená",J144,0) -> 0 | BI144: =IF(N144="nulová",J144,0) -> 0 | BJ144: 1
D145: Online PSC | F145: https://podminky.urs.cz/item/CS_URS_2026_01/167151101 | AT145: Online PSC | AU145: 0 | AY145: ROZPOCET | BJ145: 0
D146: VV | F146: Kanalizační přípojka, š. 0,8 m, pr. hl. 1,5 m - odečet podsypu - 0,1 m, odečet obsypu - 0,35 m - pr. hl. 1,05 m | AT146: VV | AU146: 0 | AV146: 1 | AW146: TRUE | AY146: ROZPOCET | BJ146: 0
D147: VV | F147: (95,58+3,38)*1,05*0,8 | H147: 83.126 | AT147: VV | AU147: 0 | AV147: 2 | AW147: TRUE | AY147: ROZPOCET | BJ147: 0
D148: VV | F148: Součet | H148: 83.126 | AT148: VV | AU148: 0 | AV148: 4 | AW148: TRUE | AX148: TRUE | AY148: ROZPOCET | BJ148: 0
C149: 194 | D149: K | E149: 171251201 | F149: Uložení sypaniny na skládky nebo meziskládky | G149: m3 | H149: 124.384 | J149: =ROUND(H149*I149,2) -> 0 | K149: CS ÚRS 2026 01 | N149: základní | P149: =H149*O149 -> 0 | Q149: 0 | R149: =H149*Q149 -> 0 | S149: 0 | T149: =H149*S149 -> 0 | AR149: 4 | AT149: K | AU149: 2 | AY149: ROZPOCET | BE149: =IF(N149="základní",J149,0) -> 0 | BF149: =IF(N149="snížená",J149,0) -> 0 | BG149: =IF(N149="zákl. přenesená",J149,0) -> 0 | BH149: =IF(N149="sníž. přenesená",J149,0) -> 0 | BI149: =IF(N149="nulová",J149,0) -> 0 | BJ149: 1
D150: Online PSC | F150: https://podminky.urs.cz/item/CS_URS_2026_01/171251201 | AT150: Online PSC | AU150: 0 | AY150: ROZPOCET | BJ150: 0
D151: VV | F151: Kanalizační přípojka, š. 0,8 m, pr. hl. 1,5 m | AT151: VV | AU151: 0 | AV151: 1 | AW151: TRUE | AY151: ROZPOCET | BJ151: 0
D152: VV | F152: (95,58+3,38)*1,5*0,8 | H152: 118.752 | AT152: VV | AU152: 0 | AV152: 2 | AW152: TRUE | AY152: ROZPOCET | BJ152: 0
D153: VV | F153: Čerpací jímka, pr. 1,1 m, hl. 2,1 m + 0,1 m podkladní betonová deska | AT153: VV | AU153: 0 | AV153: 1 | AW153: TRUE | AY153: ROZPOCET | BJ153: 0
D154: VV | F154: 1,6*1,6*2,2 | H154: 5.632 | AT154: VV | AU154: 0 | AV154: 2 | AW154: TRUE | AY154: ROZPOCET | BJ154: 0
D155: VV | F155: Součet | H155: 124.384 | AT155: VV | AU155: 0 | AV155: 4 | AW155: TRUE | AX155: TRUE | AY155: ROZPOCET | BJ155: 0
C156: 195 | D156: K | E156: 174151101 | F156: Zásyp jam, šachet rýh nebo kolem objektů sypaninou se zhutněním | G156: m3 | H156: 83.126 | J156: =ROUND(H156*I156,2) -> 0 | K156: CS ÚRS 2026 01 | N156: základní | P156: =H156*O156 -> 0 | Q156: 0 | R156: =H156*Q156 -> 0 | S156: 0 | T156: =H156*S156 -> 0 | AR156: 4 | AT156: K | AU156: 2 | AY156: ROZPOCET | BE156: =IF(N156="základní",J156,0) -> 0 | BF156: =IF(N156="snížená",J156,0) -> 0 | BG156: =IF(N156="zákl. přenesená",J156,0) -> 0 | BH156: =IF(N156="sníž. přenesená",J156,0) -> 0 | BI156: =IF(N156="nulová",J156,0) -> 0 | BJ156: 1
D157: Online PSC | F157: https://podminky.urs.cz/item/CS_URS_2026_01/174151101 | AT157: Online PSC | AU157: 0 | AY157: ROZPOCET | BJ157: 0
D158: P | F158: Poznámka k položce:_x000D_ Zpětné zásypy - původní zeminou. | AT158: P | AU158: 0 | AY158: ROZPOCET | BJ158: 0
D159: VV | F159: Kanalizační přípojka, š. 0,8 m, pr. hl. 1,5 m - odečet podsypu - 0,1 m, odečet obsypu - 0,35 m - pr. hl. 1,05 m | AT159: VV | AU159: 0 | AV159: 1 | AW159: TRUE | AY159: ROZPOCET | BJ159: 0
D160: VV | F160: (95,58+3,38)*1,05*0,8 | H160: 83.126 | AT160: VV | AU160: 0 | AV160: 2 | AW160: TRUE | AY160: ROZPOCET | BJ160: 0
D161: VV | F161: Součet | H161: 83.126 | AT161: VV | AU161: 0 | AV161: 4 | AW161: TRUE | AX161: TRUE | AY161: ROZPOCET | BJ161: 0
...

Sheet SO.23 - DEŠŤOVÉ KANALIZACE A PŘ
L2: >> skryté sloupce << | AT2: {00b0d1e3-0000-0000-0000-000000000000}
AT3: 2
D4: KRYCÍ LIST SOUPISU PRACÍ | AT4: FALSE
D6: Stavba:
E7: REVITALIZACE ZÁMECKÉHO PARKU ‐ TVRZIŠTĚ KLUČOV | AA7: =E7 -> REVITALIZACE ZÁMECKÉHO PARKU ‐ TVRZIŠTĚ KLUČOV
D8: Objekt:
E9: SO.23 - DEŠŤOVÉ KANALIZACE A PŘÍPOJKY, AKUMULACE DEŠŤOVÝCH VOD, VSAK, ZÁVLAHA | AA9: =E9 -> SO.23 - DEŠŤOVÉ KANALIZACE A PŘÍPOJKY, AKUMULACE DEŠŤOVÝCH VOD, VSAK, ZÁVLAHA
D11: KSO: | I11: CZ-CC:
D12: Místo: | I12: Datum: | J12: ='Rekapitulace stavby'!AN8 -> 46300
D14: Zadavatel: | I14: IČ: | J14: 00235431
E15: Obec Klučov | I15: DIČ:
D17: Zhotovitel: | I17: =I14 -> IČ: | J17: ='Rekapitulace stavby'!AN13 -> Vyplň údaj
E18: ='Rekapitulace stavby'!E14 -> Vyplň údaj | I18: =I15 -> DIČ: | J18: ='Rekapitulace stavby'!AN14 -> Vyplň údaj
D20: Projektant: | I20: =I14 -> IČ:
E21: Studio Anarchitekt s.r.o. | I21: =I15 -> DIČ:
D23: Zpracovatel: | I23: =I14 -> IČ: | J23: 05649358
E24: Ing. Theodor Collino | I24: =I15 -> DIČ: | J24: CZ8201043686
D26: Poznámka:
E27: ZPŮSOBILÉ VÝDAJE | AA27: =E27 -> ZPŮSOBILÉ VÝDAJE
D30: Cena bez DPH | J30: =ROUND(J111,2) -> 0
F32: Základ daně | I32: Sazba daně | J32: Výše daně
D33: DPH | E33: základní | F33: =SUM(BE111:BE131) -> 0 | I33: 0.21 | J33: =ROUND(F33*I33,2) -> 0
D36: Cena s DPH | G36: v | H36: CZK | J36: =SUM(J30:J34) -> 0
D43: =D20 -> Projektant: | G43: =D23 -> Zpracovatel:
D54: Datum a podpis: | F54: Razítko | G54: =D54 -> Datum a podpis: | J54: =F54 -> Razítko
D58: =D14 -> Zadavatel: | G58: =D17 -> Zhotovitel:
D69: =D54 -> Datum a podpis: | F69: =F54 -> Razítko | G69: =D54 -> Datum a podpis: | J69: =F54 -> Razítko
C75: REKAPITULACE ROZPOČTU
C77: Stavba:
E78: REVITALIZACE ZÁMECKÉHO PARKU ‐ TVRZIŠTĚ KLUČOV | AA78: REVITALIZACE ZÁMECKÉHO PARKU ‐ TVRZIŠTĚ KLUČOV
C79: Objekt:
E80: SO.23 - DEŠŤOVÉ KANALIZACE A PŘÍPOJKY, AKUMULACE DEŠŤOVÝCH VOD, VSAK, ZÁVLAHA | AA80: SO.23 - DEŠŤOVÉ KANALIZACE A PŘÍPOJKY, AKUMULACE DEŠŤOVÝCH VOD, VSAK, ZÁVLAHA
C82: Místo: | I82: =I12 -> Datum: | J82: =J12 -> 46300
C84: Zadavatel: | F84: Obec Klučov | I84: =D20 -> Projektant: | J84: =IF(E21="","",E21) -> Studio Anarchitekt s.r.o.
C85: Zhotovitel: | F85: =IF(E18="Vyplň údaj","",E18) | I85: =D23 -> Zpracovatel: | J85: =IF(E24="","",E24) -> Ing. Theodor Collino
C87: Kód dílu - Popis | J87: Cena celkem [CZK]
C89: Náklady celkem | J89: =J111 -> 0
D90: HSV - Práce a dodávky HSV | J90: =J112 -> 0
D91: 8 - Trubní vedení | J91: =J113 -> 0
D92: 998 - Přesun hmot | J92: =J127 -> 0
C98: SOUPIS PRACÍ | M98: v --- níže se nacházejí doplnkové a pomocné údaje k sestavám --- v
C100: =D6 -> Stavba:
E101: =IF(E7="","",E7) -> REVITALIZACE ZÁMECKÉHO PARKU ‐ TVRZIŠTĚ KLUČOV | AA101: =IF(AA7="","",AA7) -> REVITALIZACE ZÁMECKÉHO PARKU ‐ TVRZIŠTĚ KLUČOV
C102: =D8 -> Objekt:
E103: =E9 -> SO.23 - DEŠŤOVÉ KANALIZACE A PŘÍPOJKY, AKUMULACE DEŠŤOVÝCH VOD, VSAK, ZÁVLAHA | AA103: =AA9 -> SO.23 - DEŠŤOVÉ KANALIZACE A PŘÍPOJKY, AKUMULACE DEŠŤOVÝCH VOD, VSAK, ZÁVLAHA
C105: =D12 -> Místo: | F105: =IF(F12="","",F12) | I105: =I12 -> Datum: | J105: =J12 -> 46300
C107: =D14 -> Zadavatel: | F107: =IF(E15="","",E15) -> Obec Klučov | I107: =D20 -> Projektant: | J107: =IF(E21="","",E21) -> Studio Anarchitekt s.r.o.
C108: =D17 -> Zhotovitel: | F108: =IF(E18="Vyplň údaj","",E18) | I108: =D23 -> Zpracovatel: | J108: =IF(E24="","",E24) -> Ing. Theodor Collino
C110: PČ | D110: Typ | E110: Kód | F110: Popis | G110: MJ | H110: Množství | I110: J. cena [CZK] | J110: Cena celkem [CZK] | K110: Cenová soustava | N110: DPH | O110: J. Nh [h] | P110: Nh celkem [h] | Q110: J. hmotnost [t] | R110: Hmotnost celkem [t] | S110: J. suť [t] | T110: Suť Celkem [t]
C111: Náklady soupisu celkem | J111: =J112 -> 0 | P111: =P112 -> 0 | R111: =R112 -> 1.1942476 | T111: =T112 -> 0
D112: D | E112: HSV | F112: Práce a dodávky HSV | J112: =J113 + J127 -> 0 | P112: =P113 + P127 -> 0 | R112: =R113 + R127 -> 1.1942476 | T112: =T113 + T127 -> 0 | AR112: 1 | AT112: D | AU112: 0 | AY112: ROZPOCET | BJ112: 0
D113: D | E113: 8 | F113: Trubní vedení | J113: =J114 + J122 + J124 + J126 -> 0 | P113: =P114 + P122 + P124 + P126 -> 0 | R113: =R114 + R122 + R124 + R126 -> 1.1942476 | T113: =T114 + T122 + T124 + T126 -> 0 | AR113: 1 | AT113: D | AU113: 1 | AY113: ROZPOCET | BJ113: 0
C114: 214 | D114: K | E114: 871370320 | F114: Montáž kanalizačního potrubí hladkého plnostěnného SN 12 z polypropylenu DN 300 | G114: m | H114: 29 | J114: =ROUND(H114*I114,2) -> 0 | K114: CS ÚRS 2026 01 | N114: základní | P114: =H114*O114 -> 0 | Q114: 2e-05 | R114: =H114*Q114 -> 0.00058 | S114: 0 | T114: =H114*S114 -> 0 | AR114: 4 | AT114: K | AU114: 2 | AY114: ROZPOCET | BE114: =IF(N114="základní",J114,0) -> 0 | BF114: =IF(N114="snížená",J114,0) -> 0 | BG114: =IF(N114="zákl. přenesená",J114,0) -> 0 | BH114: =IF(N114="sníž. přenesená",J114,0) -> 0 | BI114: =IF(N114="nulová",J114,0) -> 0 | BJ114: 1
D115: Online PSC | F115: https://podminky.urs.cz/item/CS_URS_2026_01/871370320 | AT115: Online PSC | AU115: 0 | AY115: ROZPOCET | BJ115: 0
D116: VV | F116: VĚTEV VÝCHODNÍ PVC D300 – 18 m | AT116: VV | AU116: 0 | AV116: 1 | AW116: TRUE | AY116: ROZPOCET | BJ116: 0
D117: VV | F117: 18 | H117: 18 | AT117: VV | AU117: 0 | AV117: 2 | AW117: TRUE | AY117: ROZPOCET | BJ117: 0
D118: VV | F118: VĚTEV ZÁPADNÍ, PVC D300 ‐ 11 m | AT118: VV | AU118: 0 | AV118: 1 | AW118: TRUE | AY118: ROZPOCET | BJ118: 0
D119: VV | F119: 11 | H119: 11 | AT119: VV | AU119: 0 | AV119: 2 | AW119: TRUE | AY119: ROZPOCET | BJ119: 0
D120: VV | F120: Součet 29,0 | AT120: VV | AU120: 0 | AV120: 1 | AW120: TRUE | AY120: ROZPOCET | BJ120: 0
D121: VV | F121: Součet | H121: 29 | AT121: VV | AU121: 0 | AV121: 4 | AW121: TRUE | AX121: TRUE | AY121: ROZPOCET | BJ121: 0
C122: 215 | D122: M | E122: 28617040 | F122: trubka kanalizační PP plnostěnná třívrstvá DN 300x6000mm SN12 | G122: m | H122: 29.435 | J122: =ROUND(H122*I122,2) -> 0 | K122: CS ÚRS 2026 01 | N122: základní | P122: =H122*O122 -> 0 | Q122: 0.01273 | R122: =H122*Q122 -> 0.37470755 | S122: 0 | T122: =H122*S122 -> 0 | AR122: 8 | AT122: M | AU122: 2 | AY122: ROZPOCET | BE122: =IF(N122="základní",J122,0) -> 0 | BF122: =IF(N122="snížená",J122,0) -> 0 | BG122: =IF(N122="zákl. přenesená",J122,0) -> 0 | BH122: =IF(N122="sníž. přenesená",J122,0) -> 0 | BI122: =IF(N122="nulová",J122,0) -> 0 | BJ122: 1
D123: VV | F123: 29*1,015 'Přepočtené koeficientem množství | H123: 29.435 | AT123: VV | AU123: 0 | AV123: 2 | AW123: TRUE | AX123: TRUE | AY123: ROZPOCET | BJ123: 0
C124: 216 | D124: K | E124: 894412411 | F124: Osazení betonových nebo železobetonových dílců pro šachty skruží přechodových | G124: kus | H124: 2 | J124: =ROUND(H124*I124,2) -> 0 | K124: CS ÚRS 2026 01 | N124: základní | P124: =H124*O124 -> 0 | Q124: 0.01248 | R124: =H124*Q124 -> 0.02496 | S124: 0 | T124: =H124*S124 -> 0 | AR124: 4 | AT124: K | AU124: 2 | AY124: ROZPOCET | BE124: =IF(N124="základní",J124,0) -> 0 | BF124: =IF(N124="snížená",J124,0) -> 0 | BG124: =IF(N124="zákl. přenesená",J124,0) -> 0 | BH124: =IF(N124="sníž. přenesená",J124,0) -> 0 | BI124: =IF(N124="nulová",J124,0) -> 0 | BJ124: 1
D125: Online PSC | F125: https://podminky.urs.cz/item/CS_URS_2026_01/894412411 | AT125: Online PSC | AU125: 0 | AY125: ROZPOCET | BJ125: 0
C126: 217 | D126: M | E126: 592TBM-Q | F126: VÝTOKOVÉ ČELO | G126: kus | H126: 2 | J126: =ROUND(H126*I126,2) -> 0 | N126: základní | P126: =H126*O126 -> 0 | Q126: 0.397 | R126: =H126*Q126 -> 0.794 | S126: 0 | T126: =H126*S126 -> 0 | AR126: 8 | AT126: M | AU126: 2 | AY126: ROZPOCET | BE126: =IF(N126="základní",J126,0) -> 0 | BF126: =IF(N126="snížená",J126,0) -> 0 | BG126: =IF(N126="zákl. přenesená",J126,0) -> 0 | BH126: =IF(N126="sníž. přenesená",J126,0) -> 0 | BI126: =IF(N126="nulová",J126,0) -> 0 | BJ126: 1
D127: D | E127: 998 | F127: Přesun hmot | J127: =J128 + J130 -> 0 | P127: =P128 + P130 -> 0 | R127: =R128 + R130 -> 0 | T127: =T128 + T130 -> 0 | AR127: 1 | AT127: D | AU127: 1 | AY127: ROZPOCET | BJ127: 0
C128: 218 | D128: K | E128: 998276101 | F128: Přesun hmot pro trubní vedení z trub z plastických hmot otevřený výkop | G128: t | H128: 1.194 | J128: =ROUND(H128*I128,2) -> 0 | K128: CS ÚRS 2026 01 | N128: základní | P128: =H128*O128 -> 0 | Q128: 0 | R128: =H128*Q128 -> 0 | S128: 0 | T128: =H128*S128 -> 0 | AR128: 4 | AT128: K | AU128: 2 | AY128: ROZPOCET | BE128: =IF(N128="základní",J128,0) -> 0 | BF128: =IF(N128="snížená",J128,0) -> 0 | BG128: =IF(N128="zákl. přenesená",J128,0) -> 0 | BH128: =IF(N128="sníž. přenesená",J128,0) -> 0 | BI128: =IF(N128="nulová",J128,0) -> 0 | BJ128: 1
D129: Online PSC | F129: https://podminky.urs.cz/item/CS_URS_2026_01/998276101 | AT129: Online PSC | AU129: 0 | AY129: ROZPOCET | BJ129: 0
C130: 219 | D130: K | E130: 998276124 | F130: Příplatek k přesunu hmot pro trubní vedení z trub z plastických hmot za zvětšený přesun do 500 m | G130: t | H130: 1.194 | J130: =ROUND(H130*I130,2) -> 0 | K130: CS ÚRS 2026 01 | N130: základní | P130: =H130*O130 -> 0 | Q130: 0 | R130: =H130*Q130 -> 0 | S130: 0 | T130: =H130*S130 -> 0 | AR130: 4 | AT130: K | AU130: 2 | AY130: ROZPOCET | BE130: =IF(N130="základní",J130,0) -> 0 | BF130: =IF(N130="snížená",J130,0) -> 0 | BG130: =IF(N130="zákl. přenesená",J130,0) -> 0 | BH130: =IF(N130="sníž. přenesená",J130,0) -> 0 | BI130: =IF(N130="nulová",J130,0) -> 0 | BJ130: 1
D131: Online PSC | F131: https://podminky.urs.cz/item/CS_URS_2026_01/998276124 | AT131: Online PSC | AU131: 0 | AY131: ROZPOCET | BJ131: 0
C133: © 2026 ÚRS CZ a.s.: Informace v tomto dokumentu jsou chráněny autorskými a dalšími právy společnosti ÚRS CZ a.s. nebo tvůrce dokumentu._x000D_ Jakýmkoliv třetím osobám je zakázáno jejich automatizované či manuální zpracování pro šíření dalším osobám.

Sheet SO.24 - Vodovodní přípojka
L2: >> skryté sloupce << | AT2: {00b0d1e4-0000-0000-0000-000000000000}
AT3: 2
D4: KRYCÍ LIST SOUPISU PRACÍ | AT4: FALSE
D6: Stavba:
E7: REVITALIZACE ZÁMECKÉHO PARKU ‐ TVRZIŠTĚ KLUČOV | AA7: =E7 -> REVITALIZACE ZÁMECKÉHO PARKU ‐ TVRZIŠTĚ KLUČOV
D8: Objekt:
E9: SO.24 - Vodovodní přípojka | AA9: =E9 -> SO.24 - Vodovodní přípojka
D11: KSO: | I11: CZ-CC:
D12: Místo: | I12: Datum: | J12: ='Rekapitulace stavby'!AN8 -> 46300
D14: Zadavatel: | I14: IČ: | J14: 00235431
E15: Obec Klučov | I15: DIČ:
D17: Zhotovitel: | I17: =I14 -> IČ: | J17: ='Rekapitulace stavby'!AN13 -> Vyplň údaj
E18: ='Rekapitulace stavby'!E14 -> Vyplň údaj | I18: =I15 -> DIČ: | J18: ='Rekapitulace stavby'!AN14 -> Vyplň údaj
D20: Projektant: | I20: =I14 -> IČ:
E21: Studio Anarchitekt s.r.o. | I21: =I15 -> DIČ:
D23: Zpracovatel: | I23: =I14 -> IČ: | J23: 05649358
E24: Ing. Theodor Collino | I24: =I15 -> DIČ: | J24: CZ8201043686
D26: Poznámka:
E27: ZPŮSOBILÉ VÝDAJE | AA27: =E27 -> ZPŮSOBILÉ VÝDAJE
D30: Cena bez DPH | J30: =ROUND(J115,2) -> 0
F32: Základ daně | I32: Sazba daně | J32: Výše daně
D33: DPH | E33: základní | F33: =SUM(BE115:BE235) -> 0 | I33: 0.21 | J33: =ROUND(F33*I33,2) -> 0
D36: Cena s DPH | G36: v | H36: CZK | J36: =SUM(J30:J34) -> 0
D43: =D20 -> Projektant: | G43: =D23 -> Zpracovatel:
D54: Datum a podpis: | F54: Razítko | G54: =D54 -> Datum a podpis: | J54: =F54 -> Razítko
D58: =D14 -> Zadavatel: | G58: =D17 -> Zhotovitel:
D69: =D54 -> Datum a podpis: | F69: =F54 -> Razítko | G69: =D54 -> Datum a podpis: | J69: =F54 -> Razítko
C75: REKAPITULACE ROZPOČTU
C77: Stavba:
E78: REVITALIZACE ZÁMECKÉHO PARKU ‐ TVRZIŠTĚ KLUČOV | AA78: REVITALIZACE ZÁMECKÉHO PARKU ‐ TVRZIŠTĚ KLUČOV
C79: Objekt:
E80: SO.24 - Vodovodní přípojka | AA80: SO.24 - Vodovodní přípojka
C82: Místo: | I82: =I12 -> Datum: | J82: =J12 -> 46300
C84: Zadavatel: | F84: Obec Klučov | I84: =D20 -> Projektant: | J84: =IF(E21="","",E21) -> Studio Anarchitekt s.r.o.
C85: Zhotovitel: | F85: =IF(E18="Vyplň údaj","",E18) | I85: =D23 -> Zpracovatel: | J85: =IF(E24="","",E24) -> Ing. Theodor Collino
C87: Kód dílu - Popis | J87: Cena celkem [CZK]
C89: Náklady celkem | J89: =J115 -> 0
D90: HSV - Práce a dodávky HSV | J90: =J116 -> 0
D91: 1 - Zemní práce | J91: =J117 -> 0
D92: 4 - Vodorovné konstrukce | J92: =J178 -> 0
D93: 8 - Vedení trubní dálková a přípojná | J93: =J184 -> 0
D94: 998 - Přesun hmot | J94: =J211 -> 0
D95: PSV - Práce a dodávky PSV | J95: =J216 -> 0
D96: 722 - Zdravotechnika - vnitřní vodovod | J96: =J217 -> 0
C102: SOUPIS PRACÍ | M102: v --- níže se nacházejí doplnkové a pomocné údaje k sestavám --- v
C104: =D6 -> Stavba:
E105: =IF(E7="","",E7) -> REVITALIZACE ZÁMECKÉHO PARKU ‐ TVRZIŠTĚ KLUČOV | AA105: =IF(AA7="","",AA7) -> REVITALIZACE ZÁMECKÉHO PARKU ‐ TVRZIŠTĚ KLUČOV
C106: =D8 -> Objekt:
E107: =E9 -> SO.24 - Vodovodní přípojka | AA107: =AA9 -> SO.24 - Vodovodní přípojka
C109: =D12 -> Místo: | F109: =IF(F12="","",F12) | I109: =I12 -> Datum: | J109: =J12 -> 46300
C111: =D14 -> Zadavatel: | F111: =IF(E15="","",E15) -> Obec Klučov | I111: =D20 -> Projektant: | J111: =IF(E21="","",E21) -> Studio Anarchitekt s.r.o.
C112: =D17 -> Zhotovitel: | F112: =IF(E18="Vyplň údaj","",E18) | I112: =D23 -> Zpracovatel: | J112: =IF(E24="","",E24) -> Ing. Theodor Collino
C114: PČ | D114: Typ | E114: Kód | F114: Popis | G114: MJ | H114: Množství | I114: J. cena [CZK] | J114: Cena celkem [CZK] | K114: Cenová soustava | N114: DPH | O114: J. Nh [h] | P114: Nh celkem [h] | Q114: J. hmotnost [t] | R114: Hmotnost celkem [t] | S114: J. suť [t] | T114: Suť Celkem [t]
C115: Náklady soupisu celkem | J115: =J116 + J216 -> 0 | P115: =P116 + P216 -> 0 | R115: =R116 + R216 -> 42.786611 | T115: =T116 + T216 -> 0
D116: D | E116: HSV | F116: Práce a dodávky HSV | J116: =J117 + J178 + J184 + J211 -> 0 | P116: =P117 + P178 + P184 + P211 -> 0 | R116: =R117 + R178 + R184 + R211 -> 42.777363 | T116: =T117 + T178 + T184 + T211 -> 0 | AR116: 1 | AT116: D | AU116: 0 | AY116: ROZPOCET | BJ116: 0
D117: D | E117: 1 | F117: Zemní práce | J117: =J118 + J125 + J132 + J141 + J146 + J153 + J159 + J164 + J169 + J176 -> 0 | P117: =P118 + P125 + P132 + P141 + P146 + P153 + P159 + P164 + P169 + P176 -> 0 | R117: =R118 + R125 + R132 + R141 + R146 + R153 + R159 + R164 + R169 + R176 -> 42.222 | T117: =T118 + T125 + T132 + T141 + T146 + T153 + T159 + T164 + T169 + T176 -> 0 | AR117: 1 | AT117: D | AU117: 1 | AY117: ROZPOCET | BJ117: 0
C118: 220 | D118: K | E118: 132251102 | F118: Hloubení rýh nezapažených š do 800 mm v hornině třídy těžitelnosti I skupiny 3 objem do 50 m3 strojně | G118: m3 | H118: 51.312 | J118: =ROUND(H118*I118,2) -> 0 | K118: CS ÚRS 2026 01 | N118: základní | P118: =H118*O118 -> 0 | Q118: 0 | R118: =H118*Q118 -> 0 | S118: 0 | T118: =H118*S118 -> 0 | AR118: 4 | AT118: K | AU118: 2 | AY118: ROZPOCET | BE118: =IF(N118="základní",J118,0) -> 0 | BF118: =IF(N118="snížená",J118,0) -> 0 | BG118: =IF(N118="zákl. přenesená",J118,0) -> 0 | BH118: =IF(N118="sníž. přenesená",J118,0) -> 0 | BI118: =IF(N118="nulová",J118,0) -> 0 | BJ118: 1
D119: Online PSC | F119: https://podminky.urs.cz/item/CS_URS_2026_01/132251102 | AT119: Online PSC | AU119: 0 | AY119: ROZPOCET | BJ119: 0
D120: VV | F120: Vodovodní přípojka, š. 0,8 m, pr. hl. 1,4 m | AT120: VV | AU120: 0 | AV120: 1 | AW120: TRUE | AY120: ROZPOCET | BJ120: 0
D121: VV | F121: 42,6*1,4*0,8 | H121: 47.712 | AT121: VV | AU121: 0 | AV121: 2 | AW121: TRUE | AY121: ROZPOCET | BJ121: 0
D122: VV | F122: Vodoměrná šachta, pr. 1 m, hl. 1,5 m + 0,1 m podkladní betonová deska | AT122: VV | AU122: 0 | AV122: 1 | AW122: TRUE | AY122: ROZPOCET | BJ122: 0
D123: VV | F123: 1,5*1,5*1,6 | H123: 3.6 | AT123: VV | AU123: 0 | AV123: 2 | AW123: TRUE | AY123: ROZPOCET | BJ123: 0
D124: VV | F124: Součet | H124: 51.312 | AT124: VV | AU124: 0 | AV124: 4 | AW124: TRUE | AX124: TRUE | AY124: ROZPOCET | BJ124: 0
C125: 221 | D125: K | E125: 161151103 | F125: Svislé přemístění výkopku z horniny třídy těžitelnosti I skupiny 1 až 3 hl výkopu přes 4 do 8 m | G125: m3 | H125: 51.312 | J125: =ROUND(H125*I125,2) -> 0 | K125: CS ÚRS 2026 01 | N125: základní | P125: =H125*O125 -> 0 | Q125: 0 | R125: =H125*Q125 -> 0 | S125: 0 | T125: =H125*S125 -> 0 | AR125: 4 | AT125: K | AU125: 2 | AY125: ROZPOCET | BE125: =IF(N125="základní",J125,0) -> 0 | BF125: =IF(N125="snížená",J125,0) -> 0 | BG125: =IF(N125="zákl. přenesená",J125,0) -> 0 | BH125: =IF(N125="sníž. přenesená",J125,0) -> 0 | BI125: =IF(N125="nulová",J125,0) -> 0 | BJ125: 1
D126: Online PSC | F126: https://podminky.urs.cz/item/CS_URS_2026_01/161151103 | AT126: Online PSC | AU126: 0 | AY126: ROZPOCET | BJ126: 0
D127: VV | F127: Vodovodní přípojka, š. 0,8 m, pr. hl. 1,4 m | AT127: VV | AU127: 0 | AV127: 1 | AW127: TRUE | AY127: ROZPOCET | BJ127: 0
D128: VV | F128: 42,6*1,4*0,8 | H128: 47.712 | AT128: VV | AU128: 0 | AV128: 2 | AW128: TRUE | AY128: ROZPOCET | BJ128: 0
D129: VV | F129: Vodoměrná šachta, pr. 1 m, hl. 1,5 m + 0,1 m podkladní betonová deska | AT129: VV | AU129: 0 | AV129: 1 | AW129: TRUE | AY129: ROZPOCET | BJ129: 0
D130: VV | F130: 1,5*1,5*1,6 | H130: 3.6 | AT130: VV | AU130: 0 | AV130: 2 | AW130: TRUE | AY130: ROZPOCET | BJ130: 0
D131: VV | F131: Součet | H131: 51.312 | AT131: VV | AU131: 0 | AV131: 4 | AW131: TRUE | AX131: TRUE | AY131: ROZPOCET | BJ131: 0
C132: 222 | D132: K | E132: 162251102 | F132: Vodorovné přemístění přes 20 do 50 m výkopku/sypaniny z horniny třídy těžitelnosti I skupiny 1 až 3 | G132: m3 | H132: 76.11 | J132: =ROUND(H132*I132,2) -> 0 | K132: CS ÚRS 2026 01 | N132: základní | P132: =H132*O132 -> 0 | Q132: 0 | R132: =H132*Q132 -> 0 | S132: 0 | T132: =H132*S132 -> 0 | AR132: 4 | AT132: K | AU132: 2 | AY132: ROZPOCET | BE132: =IF(N132="základní",J132,0) -> 0 | BF132: =IF(N132="snížená",J132,0) -> 0 | BG132: =IF(N132="zákl. přenesená",J132,0) -> 0 | BH132: =IF(N132="sníž. přenesená",J132,0) -> 0 | BI132: =IF(N132="nulová",J132,0) -> 0 | BJ132: 1
D133: Online PSC | F133: https://podminky.urs.cz/item/CS_URS_2026_01/162251102 | AT133: Online PSC | AU133: 0 | AY133: ROZPOCET | BJ133: 0
D134: VV | F134: Vodovodní přípojka, š. 0,8 m, pr. hl. 1,4 m | AT134: VV | AU134: 0 | AV134: 1 | AW134: TRUE | AY134: ROZPOCET | BJ134: 0
D135: VV | F135: 42,6*1,4*0,8 | H135: 47.712 | AT135: VV | AU135: 0 | AV135: 2 | AW135: TRUE | AY135: ROZPOCET | BJ135: 0
D136: VV | F136: Vodoměrná šachta, pr. 1 m, hl. 1,5 m + 0,1 m podkladní betonová deska | AT136: VV | AU136: 0 | AV136: 1 | AW136: TRUE | AY136: ROZPOCET | BJ136: 0
D137: VV | F137: 1,5*1,5*1,6 | H137: 3.6 | AT137: VV | AU137: 0 | AV137: 2 | AW137: TRUE | AY137: ROZPOCET | BJ137: 0
D138: VV | F138: Zemina pro zpětné zásypy z původních výkopů | AT138: VV | AU138: 0 | AV138: 1 | AW138: TRUE | AY138: ROZPOCET | BJ138: 0
D139: VV | F139: (42,6-10,578)*0,8*0,968 | H139: 24.798 | AT139: VV | AU139: 0 | AV139: 2 | AW139: TRUE | AY139: ROZPOCET | BJ139: 0
D140: VV | F140: Součet | H140: 76.11 | AT140: VV | AU140: 0 | AV140: 4 | AW140: TRUE | AX140: TRUE | AY140: ROZPOCET | BJ140: 0
C141: 223 | D141: K | E141: 167151101 | F141: Nakládání výkopku z hornin třídy těžitelnosti I skupiny 1 až 3 do 100 m3 | G141: m3 | H141: 24.798 | J141: =ROUND(H141*I141,2) -> 0 | K141: CS ÚRS 2026 01 | N141: základní | P141: =H141*O141 -> 0 | Q141: 0 | R141: =H141*Q141 -> 0 | S141: 0 | T141: =H141*S141 -> 0 | AR141: 4 | AT141: K | AU141: 2 | AY141: ROZPOCET | BE141: =IF(N141="základní",J141,0) -> 0 | BF141: =IF(N141="snížená",J141,0) -> 0 | BG141: =IF(N141="zákl. přenesená",J141,0) -> 0 | BH141: =IF(N141="sníž. přenesená",J141,0) -> 0 | BI141: =IF(N141="nulová",J141,0) -> 0 | BJ141: 1
D142: Online PSC | F142: https://podminky.urs.cz/item/CS_URS_2026_01/167151101 | AT142: Online PSC | AU142: 0 | AY142: ROZPOCET | BJ142: 0
D143: VV | F143: Zemina pro zpětné zásypy z původních výkopů | AT143: VV | AU143: 0 | AV143: 1 | AW143: TRUE | AY143: ROZPOCET | BJ143: 0
D144: VV | F144: (42,6-10,578)*0,8*0,968 | H144: 24.798 | AT144: VV | AU144: 0 | AV144: 2 | AW144: TRUE | AY144: ROZPOCET | BJ144: 0
D145: VV | F145: Součet | H145: 24.798 | AT145: VV | AU145: 0 | AV145: 4 | AW145: TRUE | AX145: TRUE | AY145: ROZPOCET | BJ145: 0
C146: 224 | D146: K | E146: 171251201 | F146: Uložení sypaniny na skládky nebo meziskládky | G146: m3 | H146: 51.312 | J146: =ROUND(H146*I146,2) -> 0 | K146: CS ÚRS 2026 01 | N146: základní | P146: =H146*O146 -> 0 | Q146: 0 | R146: =H146*Q146 -> 0 | S146: 0 | T146: =H146*S146 -> 0 | AR146: 4 | AT146: K | AU146: 2 | AY146: ROZPOCET | BE146: =IF(N146="základní",J146,0) -> 0 | BF146: =IF(N146="snížená",J146,0) -> 0 | BG146: =IF(N146="zákl. přenesená",J146,0) -> 0 | BH146: =IF(N146="sníž. přenesená",J146,0) -> 0 | BI146: =IF(N146="nulová",J146,0) -> 0 | BJ146: 1
D147: Online PSC | F147: https://podminky.urs.cz/item/CS_URS_2026_01/171251201 | AT147: Online PSC | AU147: 0 | AY147: ROZPOCET | BJ147: 0
D148: VV | F148: Vodovodní přípojka, š. 0,8 m, pr. hl. 1,4 m | AT148: VV | AU148: 0 | AV148: 1 | AW148: TRUE | AY148: ROZPOCET | BJ148: 0
D149: VV | F149: 42,6*1,4*0,8 | H149: 47.712 | AT149: VV | AU149: 0 | AV149: 2 | AW149: TRUE | AY149: ROZPOCET | BJ149: 0
D150: VV | F150: Vodoměrná šachta, pr. 1 m, hl. 1,5 m + 0,1 m podkladní betonová deska | AT150: VV | AU150: 0 | AV150: 1 | AW150: TRUE | AY150: ROZPOCET | BJ150: 0
D151: VV | F151: 1,5*1,5*1,6 | H151: 3.6 | AT151: VV | AU151: 0 | AV151: 2 | AW151: TRUE | AY151: ROZPOCET | BJ151: 0
D152: VV | F152: Součet | H152: 51.312 | AT152: VV | AU152: 0 | AV152: 4 | AW152: TRUE | AX152: TRUE | AY152: ROZPOCET | BJ152: 0
C153: 225 | D153: K | E153: 174151101 | F153: Zásyp jam, šachet rýh nebo kolem objektů sypaninou se zhutněním | G153: m3 | H153: 32.989 | J153: =ROUND(H153*I153,2) -> 0 | K153: CS ÚRS 2026 01 | N153: základní | P153: =H153*O153 -> 0 | Q153: 0 | R153: =H153*Q153 -> 0 | S153: 0 | T153: =H153*S153 -> 0 | AR153: 4 | AT153: K | AU153: 2 | AY153: ROZPOCET | BE153: =IF(N153="základní",J153,0) -> 0 | BF153: =IF(N153="snížená",J153,0) -> 0 | BG153: =IF(N153="zákl. přenesená",J153,0) -> 0 | BH153: =IF(N153="sníž. přenesená",J153,0) -> 0 | BI153: =IF(N153="nulová",J153,0) -> 0 | BJ153: 1
D154: Online PSC | F154: https://podminky.urs.cz/item/CS_URS_2026_01/174151101 | AT154: Online PSC | AU154: 0 | AY154: ROZPOCET | BJ154: 0
D155: P | F155: Poznámka k položce:_x000D_ Zpětné zásypy mimo komunikaci - původní zeminou. Zpětné zásypy pod komunikací - dovezenou zhutnitelnou zeminou/recyklátem. | AT155: P | AU155: 0 | AY155: ROZPOCET | BJ155: 0
D156: VV | F156: Vodovodní přípojka, š. 0,8 m, pr. hl. 1,4 m - odečet podsypu - 0,1 m, odečet obsypu - 0,332 m - pr. hl. 0,968 m | AT156: VV | AU156: 0 | AV156: 1 | AW156: TRUE | AY156: ROZPOCET | BJ156: 0
D157: VV | F157: 42,6*0,968*0,8 | H157: 32.989 | AT157: VV | AU157: 0 | AV157: 2 | AW157: TRUE | AY157: ROZPOCET | BJ157: 0
D158: VV | F158: Součet | H158: 32.989 | AT158: VV | AU158: 0 | AV158: 4 | AW158: TRUE | AX158: TRUE | AY158: ROZPOCET | BJ158: 0
C159: 226 | D159: M | E159: 10364100 | F159: zemina pro terénní úpravy - tříděná | G159: t | H159: 14.746 | J159: =ROUND(H159*I159,2) -> 0 | K159: CS ÚRS 2026 01 | N159: základní | P159: =H159*O159 -> 0 | Q159: 1 | R159: =H159*Q159 -> 14.746 | S159: 0 | T159: =H159*S159 -> 0 | AR159: 8 | AT159: M | AU159: 2 | AY159: ROZPOCET | BE159: =IF(N159="základní",J159,0) -> 0 | BF159: =IF(N159="snížená",J159,0) -> 0 | BG159: =IF(N159="zákl. přenesená",J159,0) -> 0 | BH159: =IF(N159="sníž. přenesená",J159,0) -> 0 | BI159: =IF(N159="nulová",J159,0) -> 0 | BJ159: 1
D160: VV | F160: Vodovodní přípojka, š. 0,8 m, pr. hl. 1,4 m - odečet podsypu - 0,1 m, odečet obsypu - 0,332 m - pr. hl. 0,968 m - pod komunikací | AT160: VV | AU160: 0 | AV160: 1 | AW160: TRUE | AY160: ROZPOCET | BJ160: 0
D161: VV | F161: 10,578*0,8*0,968 | H161: 8.192 | AT161: VV | AU161: 0 | AV161: 2 | AW161: TRUE | AY161: ROZPOCET | BJ161: 0
...

Sheet SO.25 - Veřejné osvětlení
L2: >> skryté sloupce << | AT2: {00b0d1e5-0000-0000-0000-000000000000}
AT3: 2
D4: KRYCÍ LIST SOUPISU PRACÍ | AT4: FALSE
D6: Stavba:
E7: REVITALIZACE ZÁMECKÉHO PARKU ‐ TVRZIŠTĚ KLUČOV | AA7: =E7 -> REVITALIZACE ZÁMECKÉHO PARKU ‐ TVRZIŠTĚ KLUČOV
