Workbook
Name Items: 'SO.11 - AREÁLOVÉ KOMUNIKACE A Z'!#REF!
Name Items: 'SO.11-D - Molo a pódium'!#REF!
Name Items: 'SO.11-M - MOSTKY'!#REF!
Name Items: 'SO.12-K - Kácení'!#REF!
Name Items: 'SO.12-N - Nové sadové úpravy'!#REF!
Name Items: 'SO.12-Z - Závlaha'!#REF!
Name Items: 'SO.13 - OPLOCENÍ, MOBILIÁŘ'!#REF!
Name Items: 'SO.19 - Zařízení staveniště'!#REF!
Name Items: 'SO.21 - NN ROZVODY'!#REF!
Name Items: 'SO.22 - Kanalizační přípojka'!#REF!
Name Items: 'SO.23 - DEŠŤOVÉ KANALIZACE A PŘ'!#REF!
Name Items: 'SO.24 - Vodovodní přípojka'!#REF!
Name Items: 'SO.25 - Veřejné osvětlení'!#REF!
Name Items: 'SO.J - Retenční nádrž'!#REF!
Name Items: 'SO.K - Altán'!#REF!
Name Items: 'SO.K zdi - Archeologická prezen'!#REF!
Name Items: 'SO.L. - Dětské hřiště'!#REF!
Name Items: 'SO.10 - ÚPRAVA VEŘEJNÉ KOMUNIKA'!#REF!

Sheet Rekapitulace stavby
A1: Export Komplet | AZ1: VZ | BA1: 2.0 | BB1: ZAMOK | BU1: FALSE | BV1: {00015ee4-0000-0000-0000-000000000000}
AR2: >> skryté sloupce << | BS2: 0.01 | BT2: 21
BS3: 0.01 | BT3: 12
D4: REKAPITULACE STAVBY | AS4: v --- níže se nacházejí doplnkové a pomocné údaje k sestavám --- v | BE4: Návod na vyplnění | BS4: 0.001
D5: Kód: | K5: Klucov | BE5: Měnit lze pouze buňky se žlutým podbarvením!_x000D_ _x000D_ 1) na prvním listu Rekapitulace stavby vyplňte v sestavě_x000D_ _x000D_ a) Souhrnný list_x000D_ - údaje o Uchazeči_x000D_ (přenesou se do ostatních sestav i v jiných listech)_x000D_ _x000D_ b) Rekapitulace objektů_x000D_ - potřebné Ostatní náklady_x000D_ _x000D_ 2) na vybraných listech vyplňte v sestavě_x000D_ _x000D_ a) Krycí list_x000D_ - údaje o Uchazeči, pokud se liší od údajů o Uchazeči na Souhrnném listu_x000D_ (údaje se přenesou do ostatních sestav v daném listu)_x000D_ _x000D_ b) Rekapitulace rozpočtu_x000D_ - potřebné Ostatní náklady_x000D_ _x000D_ c) Celkové náklady za stavbu_x000D_ - ceny u položek_x000D_ - množství, pokud má žluté podbarvení_x000D_ - a v případě potřeby poznámku (ta je ve skrytém sloupci) | BS5: 0.01
D6: Stavba: | K6: REVITALIZACE ZÁMECKÉHO PARKU ‐ TVRZIŠTĚ KLUČOV | BS6: 0.01 | CP6: REVITALIZACE ZÁMECKÉHO PARKU ‐ TVRZIŠTĚ KLUČOV
D7: KSO: | AK7: CZ-CC: | BS7: 0.01
D8: Místo: | AK8: Datum: | AN8: 46300 | BS8: 0.01
BS9: 0.01
D10: Zadavatel: | AK10: IČ: | AN10: 00235431 | BS10: 0.01
E11: Obec Klučov | AK11: DIČ: | BS11: 0.01
BS12: 0.01
D13: Zhotovitel: | AK13: IČ: | AN13: Vyplň údaj | BS13: 0.01
E14: Vyplň údaj | AK14: DIČ: | AN14: Vyplň údaj | BS14: 0.01
BS15: FALSE
D16: Projektant: | AK16: IČ: | BS16: FALSE
E17: Studio Anarchitekt s.r.o. | AK17: DIČ: | BS17: FALSE
BS18: 0.01
D19: Zpracovatel: | AK19: IČ: | AN19: 05649358 | BS19: 0.01
E20: Ing. Theodor Collino | AK20: DIČ: | AN20: CZ8201043686 | BS20: TRUE
BS21: FALSE
D22: Poznámka:
D26: Cena bez DPH | AK26: =ROUND(AG90,2) -> 0
L28: Sazba daně | W28: Základ daně | AK28: Výše daně
D29: DPH | F29: základní | L29: 0.21 | W29: =ROUND(AZ90,2) -> 0 | AK29: =ROUND(AV90,2) -> 0
D31: Cena s DPH | T31: v | X31: CZK | AK31: =SUM(AK26:AK29) -> 0
D45: Projektant: | AH45: Zpracovatel:
D56: Datum a podpis: | V56: Razítko | AH56: Datum a podpis: | AM56: Razítko
D60: Zadavatel: | AH60: Zhotovitel:
D71: Datum a podpis: | V71: Razítko | AH71: Datum a podpis: | AM71: Razítko
C78: REKAPITULACE OBJEKTŮ STAVBY A SOUPISŮ PRACÍ
C80: Kód | L80: =K5 -> Klucov
C81: Stavba: | L81: =K6 -> REVITALIZACE ZÁMECKÉHO PARKU ‐ TVRZIŠTĚ KLUČOV | CQ81: =CP6 -> REVITALIZACE ZÁMECKÉHO PARKU ‐ TVRZIŠTĚ KLUČOV
C83: Místo: | L83: =IF(K8="","",K8) | AI83: Datum: | AM83: =AN8 -> 46300
C85: Zadavatel: | L85: =IF(E11= "","",E11) -> Obec Klučov | AI85: Projektant: | AM85: =IF($E17="","",$E17) -> Studio Anarchitekt s.r.o. | AS85: Informatívní údaje z listů zakázek | CO85: =IF($E17="","",$E17) -> Studio Anarchitekt s.r.o.
C86: Zhotovitel: | L86: =IF(E14="Vyplň údaj","",E14) | AI86: Zpracovatel: | AM86: =IF($E20="","",$E20) -> Ing. Theodor Collino | CO86: =IF($E20="","",$E20) -> Ing. Theodor Collino
C88: Kód | I88: Popis | AG88: Cena bez DPH [CZK] | AN88: Cena s DPH [CZK] | AQ88: Typ | AS88: z toho Ostat. náklady [CZK] | AT88: DPH [CZK] | AU88: Nh celkem [h] | AV88: DPH základní [CZK] | AW88: DPH snížená [CZK] | AX88: DPH základní přenesená [CZK] | AY88: DPH snížená přenesená [CZK] | AZ88: Základna DPH základní | BA88: Základna DPH snížená | BB88: Základna DPH zákl. přenesená | BC88: Základna DPH sníž. přenesená | BD88: Základna DPH nulová
C90: Náklady soupisu celkem | AG90: =AG91 + AG92 + AG96 + AG100 + AG101 + AG102 + AG103 + AG104 + AG105 + AG106 + AG107 + AG108 + AG111 -> 0 | AN90: =AG90 + AT90 -> 0 | AS90: =AS91 + AS92 + AS96 + AS100 + AS101 + AS102 + AS103 + AS104 + AS105 + AS106 + AS107 + AS108 + AS111 -> 0 | AT90: =AV90+AW90 -> 0 | AU90: =ROUND(AU91 + AU92 + AU96 + AU100 + AU101 + AU102 + AU103 + AU104 + AU105 + AU106 + AU107 + AU108 + AU111,3) -> 0 | AV90: =ROUND(L29 * AZ90,2) -> 0 | AW90: =0 -> 0 | AX90: =0 -> 0 | AY90: =0 -> 0 | AZ90: =AZ91 + AZ92 + AZ96 + AZ100 + AZ101 + AZ102 + AZ103 + AZ104 + AZ105 + AZ106 + AZ107 + AZ108 + AZ111 -> 0 | BA90: =BA91 + BA92 + BA96 + BA100 + BA101 + BA102 + BA103 + BA104 + BA105 + BA106 + BA107 + BA108 + BA111 -> 0 | BB90: =BB91 + BB92 + BB96 + BB100 + BB101 + BB102 + BB103 + BB104 + BB105 + BB106 + BB107 + BB108 + BB111 -> 0 | BC90: =BC91 + BC92 + BC96 + BC100 + BC101 + BC102 + BC103 + BC104 + BC105 + BC106 + BC107 + BC108 + BC111 -> 0 | BD90: =BD91 + BD92 + BD96 + BD100 + BD101 + BD102 + BD103 + BD104 + BD105 + BD106 + BD107 + BD108 + BD111 -> 0 | BS90: D | BT90: 0 | BU90: ###NOIMPORT### | BV90: IMPORT | BW90: {00b0d1d7-0000-0000-0000-000000000000} | BX90: {00000000-0000-0000-0000-000000000000}
A91: / | D91: SO.10 | J91: ÚPRAVA VEŘEJNÉ KOMUNIKACE | AG91: ='SO.10 - ÚPRAVA VEŘEJNÉ KOMUNIKA'!J30 -> 0 | AN91: =AG91 + AT91 -> 0 | AQ91: STA | AS91: 0 | AT91: =AV91 + AW91 -> 0 | AU91: ='SO.10 - ÚPRAVA VEŘEJNÉ KOMUNIKA'!P120 -> 0 | AV91: =ROUND(L29 * AZ91,2) -> 0 | AW91: =0 -> 0 | AX91: =0 -> 0 | AY91: =0 -> 0 | AZ91: ='SO.10 - ÚPRAVA VEŘEJNÉ KOMUNIKA'!F33 -> 0 | BA91: 0 | BB91: 0 | BC91: 0 | BD91: 0 | BT91: 1 | BV91: IMPORT | BW91: {00b0d1d8-0000-0000-0000-000000000000} | BX91: {00b0d1d7-0000-0000-0000-000000000000} | CM91: 2 | CR91: ÚPRAVA VEŘEJNÉ KOMUNIKACE
D92: SO.11 | J92: AREÁLOVÉ KOMUNIKACE A ZPEVNĚNÉ PLOCHY | AG92: =AG93 + AG94 + AG95 -> 0 | AN92: =AG92 + AT92 -> 0 | AQ92: STA | AS92: =AS93 + AS94 + AS95 -> 0 | AT92: =AV92 + AW92 -> 0 | AU92: =ROUND(AU93 + AU94 + AU95,3) -> 0 | AV92: =ROUND(L29 * AZ92,2) -> 0 | AW92: =0 -> 0 | AX92: =0 -> 0 | AY92: =0 -> 0 | AZ92: =AZ93 + AZ94 + AZ95 -> 0 | BA92: =BA93 + BA94 + BA95 -> 0 | BB92: =BB93 + BB94 + BB95 -> 0 | BC92: =BC93 + BC94 + BC95 -> 0 | BD92: =BD93 + BD94 + BD95 -> 0 | BS92: D | BT92: 1 | BV92: IMPORT | BW92: {00b0d1d9-0000-0000-0000-000000000000} | BX92: {00b0d1d7-0000-0000-0000-000000000000} | CM92: 2 | CS92: AREÁLOVÉ KOMUNIKACE A ZPEVNĚNÉ PLOCHY
...

Sheet SO.10 - ÚPRAVA VEŘEJNÉ KOMUNIKA
L2: >> skryté sloupce << | AT2: {00b0d1d8-0000-0000-0000-000000000000}
AT3: 2
D4: KRYCÍ LIST SOUPISU PRACÍ | AT4: FALSE
D6: Stavba:
E7: REVITALIZACE ZÁMECKÉHO PARKU ‐ TVRZIŠTĚ KLUČOV | AA7: =E7 -> REVITALIZACE ZÁMECKÉHO PARKU ‐ TVRZIŠTĚ KLUČOV
D8: Objekt:
E9: SO.10 - ÚPRAVA VEŘEJNÉ KOMUNIKACE | AA9: =E9 -> SO.10 - ÚPRAVA VEŘEJNÉ KOMUNIKACE
D11: KSO: | I11: CZ-CC:
D12: Místo: | I12: Datum: | J12: ='Rekapitulace stavby'!AN8 -> 46300
D14: Zadavatel: | I14: IČ: | J14: 00235431
E15: Obec Klučov | I15: DIČ:
D17: Zhotovitel: | I17: =I14 -> IČ: | J17: ='Rekapitulace stavby'!AN13 -> Vyplň údaj
E18: ='Rekapitulace stavby'!E14 -> Vyplň údaj | I18: =I15 -> DIČ: | J18: ='Rekapitulace stavby'!AN14 -> Vyplň údaj
D20: Projektant: | I20: =I14 -> IČ:
E21: Studio Anarchitekt s.r.o. | I21: =I15 -> DIČ:
D23: Zpracovatel: | I23: =I14 -> IČ: | J23: 05649358
E24: Ing. Theodor Collino | I24: =I15 -> DIČ: | J24: CZ8201043686
D26: Poznámka:
E27: ZAŘAZENO DO NEZPŮSOBILÝCH VÝDAJŮ | AA27: =E27 -> ZAŘAZENO DO NEZPŮSOBILÝCH VÝDAJŮ
D30: Cena bez DPH | J30: =ROUND(J120,2) -> 0
F32: Základ daně | I32: Sazba daně | J32: Výše daně
D33: DPH | E33: základní | F33: =SUM(BE120:BE200) -> 0 | I33: 0.21 | J33: =ROUND(F33*I33,2) -> 0
D36: Cena s DPH | G36: v | H36: CZK | J36: =SUM(J30:J34) -> 0
D43: =D20 -> Projektant: | G43: =D23 -> Zpracovatel:
D54: Datum a podpis: | F54: Razítko | G54: =D54 -> Datum a podpis: | J54: =F54 -> Razítko
D58: =D14 -> Zadavatel: | G58: =D17 -> Zhotovitel:
D69: =D54 -> Datum a podpis: | F69: =F54 -> Razítko | G69: =D54 -> Datum a podpis: | J69: =F54 -> Razítko
C75: REKAPITULACE ROZPOČTU
C77: Stavba:
E78: REVITALIZACE ZÁMECKÉHO PARKU ‐ TVRZIŠTĚ KLUČOV | AA78: REVITALIZACE ZÁMECKÉHO PARKU ‐ TVRZIŠTĚ KLUČOV
C79: Objekt:
E80: SO.10 - ÚPRAVA VEŘEJNÉ KOMUNIKACE | AA80: SO.10 - ÚPRAVA VEŘEJNÉ KOMUNIKACE
C82: Místo: | I82: =I12 -> Datum: | J82: =J12 -> 46300
C84: Zadavatel: | F84: Obec Klučov | I84: =D20 -> Projektant: | J84: =IF(E21="","",E21) -> Studio Anarchitekt s.r.o.
C85: Zhotovitel: | F85: =IF(E18="Vyplň údaj","",E18) | I85: =D23 -> Zpracovatel: | J85: =IF(E24="","",E24) -> Ing. Theodor Collino
C87: Kód dílu - Popis | J87: Cena celkem [CZK]
C89: Náklady celkem | J89: =J120 -> 0
D90: HSV - Práce a dodávky HSV | J90: =J121 -> 0
D91: 1 - Zemní práce | J91: =J122 -> 0
D92: 12 - Zemní práce - odkopávky a prokopávky | J92: =J123 -> 0
...

Sheet SO.11 - AREÁLOVÉ KOMUNIKACE A Z
L2: >> skryté sloupce << | AT2: {00b0d1d9-0000-0000-0000-000000000000}
AT3: 2
D4: KRYCÍ LIST SOUPISU PRACÍ | AT4: FALSE
D6: Stavba:
E7: REVITALIZACE ZÁMECKÉHO PARKU ‐ TVRZIŠTĚ KLUČOV | AA7: =E7 -> REVITALIZACE ZÁMECKÉHO PARKU ‐ TVRZIŠTĚ KLUČOV
D8: Objekt:
E9: SO.11 - AREÁLOVÉ KOMUNIKACE A ZPEVNĚNÉ PLOCHY | AA9: =E9 -> SO.11 - AREÁLOVÉ KOMUNIKACE A ZPEVNĚNÉ PLOCHY
D11: KSO: | I11: CZ-CC:
D12: Místo: | I12: Datum: | J12: ='Rekapitulace stavby'!AN8 -> 46300
D14: Zadavatel: | I14: IČ: | J14: 00235431
E15: Obec Klučov | I15: DIČ:
D17: Zhotovitel: | I17: =I14 -> IČ: | J17: ='Rekapitulace stavby'!AN13 -> Vyplň údaj
E18: ='Rekapitulace stavby'!E14 -> Vyplň údaj | I18: =I15 -> DIČ: | J18: ='Rekapitulace stavby'!AN14 -> Vyplň údaj
D20: Projektant: | I20: =I14 -> IČ:
E21: Studio Anarchitekt s.r.o. | I21: =I15 -> DIČ:
D23: Zpracovatel: | I23: =I14 -> IČ: | J23: 05649358
E24: Ing. Theodor Collino | I24: =I15 -> DIČ: | J24: CZ8201043686
D26: Poznámka:
E27: ZPŮSOBILÉ VÝDAJE | AA27: =E27 -> ZPŮSOBILÉ VÝDAJE
D30: Cena bez DPH | J30: =ROUND(J114,2) -> 0
F32: Základ daně | I32: Sazba daně | J32: Výše daně
D33: DPH | E33: základní | F33: =SUM(BE114:BE166) -> 0 | I33: 0.21 | J33: =ROUND(F33*I33,2) -> 0
D36: Cena s DPH | G36: v | H36: CZK | J36: =SUM(J30:J34) -> 0
D43: =D20 -> Projektant: | G43: =D23 -> Zpracovatel:
D54: Datum a podpis: | F54: Razítko | G54: =D54 -> Datum a podpis: | J54: =F54 -> Razítko
D58: =D14 -> Zadavatel: | G58: =D17 -> Zhotovitel:
D69: =D54 -> Datum a podpis: | F69: =F54 -> Razítko | G69: =D54 -> Datum a podpis: | J69: =F54 -> Razítko
C75: REKAPITULACE ROZPOČTU
C77: Stavba:
E78: REVITALIZACE ZÁMECKÉHO PARKU ‐ TVRZIŠTĚ KLUČOV | AA78: REVITALIZACE ZÁMECKÉHO PARKU ‐ TVRZIŠTĚ KLUČOV
C79: Objekt:
E80: SO.11 - AREÁLOVÉ KOMUNIKACE A ZPEVNĚNÉ PLOCHY | AA80: SO.11 - AREÁLOVÉ KOMUNIKACE A ZPEVNĚNÉ PLOCHY
C82: Místo: | I82: =I12 -> Datum: | J82: =J12 -> 46300
C84: Zadavatel: | F84: Obec Klučov | I84: =D20 -> Projektant: | J84: =IF(E21="","",E21) -> Studio Anarchitekt s.r.o.
C85: Zhotovitel: | F85: =IF(E18="Vyplň údaj","",E18) | I85: =D23 -> Zpracovatel: | J85: =IF(E24="","",E24) -> Ing. Theodor Collino
C87: Kód dílu - Popis | J87: Cena celkem [CZK]
C89: Náklady celkem | J89: =J114 -> 0
D90: HSV - Práce a dodávky HSV | J90: =J115 -> 0
D91: 1 - Zemní práce | J91: =J116 -> 0
D92: 17 - Zemní práce - konstrukce ze zemin | J92: =J117 -> 0
...

Sheet SO.11-D - Molo a pódium
L2: >> skryté sloupce << | AT2: {00b0d1da-0000-0000-0000-000000000000}
AT3: 2
D4: KRYCÍ LIST SOUPISU PRACÍ | AT4: FALSE
D6: Stavba:
E7: REVITALIZACE ZÁMECKÉHO PARKU ‐ TVRZIŠTĚ KLUČOV | AA7: =E7 -> REVITALIZACE ZÁMECKÉHO PARKU ‐ TVRZIŠTĚ KLUČOV
D8: Objekt:
E9: SO.11 - AREÁLOVÉ KOMUNIKACE A ZPEVNĚNÉ PLOCHY | AA9: =E9 -> SO.11 - AREÁLOVÉ KOMUNIKACE A ZPEVNĚNÉ PLOCHY
D10: Soupis:
E11: SO.11-D - Molo a pódium | AA11: =E11 -> SO.11-D - Molo a pódium
D13: KSO: | I13: CZ-CC:
D14: Místo: | I14: Datum: | J14: ='Rekapitulace stavby'!AN8 -> 46300
D16: Zadavatel: | I16: IČ: | J16: 00235431
E17: Obec Klučov | I17: DIČ:
D19: Zhotovitel: | I19: =I16 -> IČ: | J19: ='Rekapitulace stavby'!AN13 -> Vyplň údaj
E20: ='Rekapitulace stavby'!E14 -> Vyplň údaj | I20: =I17 -> DIČ: | J20: ='Rekapitulace stavby'!AN14 -> Vyplň údaj
D22: Projektant: | I22: =I16 -> IČ:
E23: Studio Anarchitekt s.r.o. | I23: =I17 -> DIČ:
D25: Zpracovatel: | I25: =I16 -> IČ: | J25: 05649358
E26: Ing. Theodor Collino | I26: =I17 -> DIČ: | J26: CZ8201043686
D28: Poznámka:
E29: ZPŮSOBILÉ VÝDAJE | AA29: =E29 -> ZPŮSOBILÉ VÝDAJE
D32: Cena bez DPH | J32: =ROUND(J116,2) -> 0
F34: Základ daně | I34: Sazba daně | J34: Výše daně
D35: DPH | E35: základní | F35: =SUM(BE116:BE160) -> 0 | I35: 0.21 | J35: =ROUND(F35*I35,2) -> 0
D38: Cena s DPH | G38: v | H38: CZK | J38: =SUM(J32:J36) -> 0
D45: =D22 -> Projektant: | G45: =D25 -> Zpracovatel:
D56: Datum a podpis: | F56: Razítko | G56: =D56 -> Datum a podpis: | J56: =F56 -> Razítko
D60: =D16 -> Zadavatel: | G60: =D19 -> Zhotovitel:
D71: =D56 -> Datum a podpis: | F71: =F56 -> Razítko | G71: =D56 -> Datum a podpis: | J71: =F56 -> Razítko
C77: REKAPITULACE ROZPOČTU
C79: Stavba:
E80: REVITALIZACE ZÁMECKÉHO PARKU ‐ TVRZIŠTĚ KLUČOV | AA80: REVITALIZACE ZÁMECKÉHO PARKU ‐ TVRZIŠTĚ KLUČOV
C81: Objekt:
E82: SO.11 - AREÁLOVÉ KOMUNIKACE A ZPEVNĚNÉ PLOCHY | AA82: SO.11 - AREÁLOVÉ KOMUNIKACE A ZPEVNĚNÉ PLOCHY
C83: Soupis:
E84: SO.11-D - Molo a pódium | AA84: SO.11-D - Molo a pódium
C86: Místo: | I86: =I14 -> Datum: | J86: =J14 -> 46300
C88: Zadavatel: | F88: Obec Klučov | I88: =D22 -> Projektant: | J88: =IF(E23="","",E23) -> Studio Anarchitekt s.r.o.
C89: Zhotovitel: | F89: =IF(E20="Vyplň údaj","",E20) | I89: =D25 -> Zpracovatel: | J89: =IF(E26="","",E26) -> Ing. Theodor Collino
C91: Kód dílu - Popis | J91: Cena celkem [CZK]
...

Sheet SO.11-M - MOSTKY
L2: >> skryté sloupce << | AT2: {00b0d1db-0000-0000-0000-000000000000}
AT3: 2
D4: KRYCÍ LIST SOUPISU PRACÍ | AT4: FALSE
D6: Stavba:
E7: REVITALIZACE ZÁMECKÉHO PARKU ‐ TVRZIŠTĚ KLUČOV | AA7: =E7 -> REVITALIZACE ZÁMECKÉHO PARKU ‐ TVRZIŠTĚ KLUČOV
D8: Objekt:
E9: SO.11 - AREÁLOVÉ KOMUNIKACE A ZPEVNĚNÉ PLOCHY | AA9: =E9 -> SO.11 - AREÁLOVÉ KOMUNIKACE A ZPEVNĚNÉ PLOCHY
D10: Soupis:
E11: SO.11-M - MOSTKY | AA11: =E11 -> SO.11-M - MOSTKY
D13: KSO: | I13: CZ-CC:
D14: Místo: | I14: Datum: | J14: ='Rekapitulace stavby'!AN8 -> 46300
D16: Zadavatel: | I16: IČ: | J16: 00235431
E17: Obec Klučov | I17: DIČ:
D19: Zhotovitel: | I19: =I16 -> IČ: | J19: ='Rekapitulace stavby'!AN13 -> Vyplň údaj
E20: ='Rekapitulace stavby'!E14 -> Vyplň údaj | I20: =I17 -> DIČ: | J20: ='Rekapitulace stavby'!AN14 -> Vyplň údaj
D22: Projektant: | I22: =I16 -> IČ:
E23: Studio Anarchitekt s.r.o. | I23: =I17 -> DIČ:
D25: Zpracovatel: | I25: =I16 -> IČ: | J25: 05649358
E26: Ing. Theodor Collino | I26: =I17 -> DIČ: | J26: CZ8201043686
D28: Poznámka:
E29: NAD SCHVÁLENÝ LIMIT bude zařazeno do nezpůsobilých výdajů | AA29: =E29 -> NAD SCHVÁLENÝ LIMIT bude zařazeno do nezpůsobilých výdajů
D32: Cena bez DPH | J32: =ROUND(J119,2) -> 0
F34: Základ daně | I34: Sazba daně | J34: Výše daně
D35: DPH | E35: základní | F35: =SUM(BE119:BE192) -> 0 | I35: 0.21 | J35: =ROUND(F35*I35,2) -> 0
D38: Cena s DPH | G38: v | H38: CZK | J38: =SUM(J32:J36) -> 0
D45: =D22 -> Projektant: | G45: =D25 -> Zpracovatel:
D56: Datum a podpis: | F56: Razítko | G56: =D56 -> Datum a podpis: | J56: =F56 -> Razítko
D60: =D16 -> Zadavatel: | G60: =D19 -> Zhotovitel:
D71: =D56 -> Datum a podpis: | F71: =F56 -> Razítko | G71: =D56 -> Datum a podpis: | J71: =F56 -> Razítko
C77: REKAPITULACE ROZPOČTU
C79: Stavba:
E80: REVITALIZACE ZÁMECKÉHO PARKU ‐ TVRZIŠTĚ KLUČOV | AA80: REVITALIZACE ZÁMECKÉHO PARKU ‐ TVRZIŠTĚ KLUČOV
C81: Objekt:
E82: SO.11 - AREÁLOVÉ KOMUNIKACE A ZPEVNĚNÉ PLOCHY | AA82: SO.11 - AREÁLOVÉ KOMUNIKACE A ZPEVNĚNÉ PLOCHY
C83: Soupis:
E84: SO.11-M - MOSTKY | AA84: SO.11-M - MOSTKY
C86: Místo: | I86: =I14 -> Datum: | J86: =J14 -> 46300
C88: Zadavatel: | F88: Obec Klučov | I88: =D22 -> Projektant: | J88: =IF(E23="","",E23) -> Studio Anarchitekt s.r.o.
C89: Zhotovitel: | F89: =IF(E20="Vyplň údaj","",E20) | I89: =D25 -> Zpracovatel: | J89: =IF(E26="","",E26) -> Ing. Theodor Collino
C91: Kód dílu - Popis | J91: Cena celkem [CZK]
...

Sheet SO.12-K - Kácení
L2: >> skryté sloupce << | AT2: {00b0d1dd-0000-0000-0000-000000000000}
AT3: 2
D4: KRYCÍ LIST SOUPISU PRACÍ | AT4: FALSE
D6: Stavba:
E7: REVITALIZACE ZÁMECKÉHO PARKU ‐ TVRZIŠTĚ KLUČOV | AA7: =E7 -> REVITALIZACE ZÁMECKÉHO PARKU ‐ TVRZIŠTĚ KLUČOV
D8: Objekt:
E9: SO.12 - SADOVÉ ÚPRAVY A ZÁVLAHA | AA9: =E9 -> SO.12 - SADOVÉ ÚPRAVY A ZÁVLAHA
D10: Soupis:
E11: SO.12-K - Kácení | AA11: =E11 -> SO.12-K - Kácení
D13: KSO: | I13: CZ-CC:
D14: Místo: | I14: Datum: | J14: ='Rekapitulace stavby'!AN8 -> 46300
D16: Zadavatel: | I16: IČ: | J16: 00235431
E17: Obec Klučov | I17: DIČ:
D19: Zhotovitel: | I19: =I16 -> IČ: | J19: ='Rekapitulace stavby'!AN13 -> Vyplň údaj
E20: ='Rekapitulace stavby'!E14 -> Vyplň údaj | I20: =I17 -> DIČ: | J20: ='Rekapitulace stavby'!AN14 -> Vyplň údaj
D22: Projektant: | I22: =I16 -> IČ:
E23: Studio Anarchitekt s.r.o. | I23: =I17 -> DIČ:
D25: Zpracovatel: | I25: =I16 -> IČ: | J25: 05649358
E26: Ing. Theodor Collino | I26: =I17 -> DIČ: | J26: CZ8201043686
D28: Poznámka:
E29: ZPŮSOBILÉ VÝDAJE | AA29: =E29 -> ZPŮSOBILÉ VÝDAJE
D32: Cena bez DPH | J32: =ROUND(J116,2) -> 0
F34: Základ daně | I34: Sazba daně | J34: Výše daně
D35: DPH | E35: základní | F35: =SUM(BE116:BE187) -> 0 | I35: 0.21 | J35: =ROUND(F35*I35,2) -> 0
D38: Cena s DPH | G38: v | H38: CZK | J38: =SUM(J32:J36) -> 0
D45: =D22 -> Projektant: | G45: =D25 -> Zpracovatel:
D56: Datum a podpis: | F56: Razítko | G56: =D56 -> Datum a podpis: | J56: =F56 -> Razítko
D60: =D16 -> Zadavatel: | G60: =D19 -> Zhotovitel:
D71: =D56 -> Datum a podpis: | F71: =F56 -> Razítko | G71: =D56 -> Datum a podpis: | J71: =F56 -> Razítko
C77: REKAPITULACE ROZPOČTU
C79: Stavba:
E80: REVITALIZACE ZÁMECKÉHO PARKU ‐ TVRZIŠTĚ KLUČOV | AA80: REVITALIZACE ZÁMECKÉHO PARKU ‐ TVRZIŠTĚ KLUČOV
C81: Objekt:
E82: SO.12 - SADOVÉ ÚPRAVY A ZÁVLAHA | AA82: SO.12 - SADOVÉ ÚPRAVY A ZÁVLAHA
C83: Soupis:
E84: SO.12-K - Kácení | AA84: SO.12-K - Kácení
C86: Místo: | I86: =I14 -> Datum: | J86: =J14 -> 46300
C88: Zadavatel: | F88: Obec Klučov | I88: =D22 -> Projektant: | J88: =IF(E23="","",E23) -> Studio Anarchitekt s.r.o.
C89: Zhotovitel: | F89: =IF(E20="Vyplň údaj","",E20) | I89: =D25 -> Zpracovatel: | J89: =IF(E26="","",E26) -> Ing. Theodor Collino
C91: Kód dílu - Popis | J91: Cena celkem [CZK]
...

Sheet SO.12-N - Nové sadové úpravy
L2: >> skryté sloupce << | AT2: {00b0d1de-0000-0000-0000-000000000000}
AT3: 2
D4: KRYCÍ LIST SOUPISU PRACÍ | AT4: FALSE
D6: Stavba:
E7: REVITALIZACE ZÁMECKÉHO PARKU ‐ TVRZIŠTĚ KLUČOV | AA7: =E7 -> REVITALIZACE ZÁMECKÉHO PARKU ‐ TVRZIŠTĚ KLUČOV
D8: Objekt:
E9: SO.12 - SADOVÉ ÚPRAVY A ZÁVLAHA | AA9: =E9 -> SO.12 - SADOVÉ ÚPRAVY A ZÁVLAHA
D10: Soupis:
E11: SO.12-N - Nové sadové úpravy | AA11: =E11 -> SO.12-N - Nové sadové úpravy
D13: KSO: | I13: CZ-CC:
D14: Místo: | I14: Datum: | J14: ='Rekapitulace stavby'!AN8 -> 46300
D16: Zadavatel: | I16: IČ: | J16: 00235431
E17: Obec Klučov | I17: DIČ:
D19: Zhotovitel: | I19: =I16 -> IČ: | J19: ='Rekapitulace stavby'!AN13 -> Vyplň údaj
E20: ='Rekapitulace stavby'!E14 -> Vyplň údaj | I20: =I17 -> DIČ: | J20: ='Rekapitulace stavby'!AN14 -> Vyplň údaj
D22: Projektant: | I22: =I16 -> IČ:
E23: Studio Anarchitekt s.r.o. | I23: =I17 -> DIČ:
D25: Zpracovatel: | I25: =I16 -> IČ: | J25: 05649358
E26: Ing. Theodor Collino | I26: =I17 -> DIČ: | J26: CZ8201043686
D28: Poznámka:
E29: ZPŮSOBILÉ VÝDAJE | AA29: =E29 -> ZPŮSOBILÉ VÝDAJE
D32: Cena bez DPH | J32: =ROUND(J120,2) -> 0
F34: Základ daně | I34: Sazba daně | J34: Výše daně
D35: DPH | E35: základní | F35: =SUM(BE120:BE340) -> 0 | I35: 0.21 | J35: =ROUND(F35*I35,2) -> 0
D38: Cena s DPH | G38: v | H38: CZK | J38: =SUM(J32:J36) -> 0
D45: =D22 -> Projektant: | G45: =D25 -> Zpracovatel:
D56: Datum a podpis: | F56: Razítko | G56: =D56 -> Datum a podpis: | J56: =F56 -> Razítko
D60: =D16 -> Zadavatel: | G60: =D19 -> Zhotovitel:
D71: =D56 -> Datum a podpis: | F71: =F56 -> Razítko | G71: =D56 -> Datum a podpis: | J71: =F56 -> Razítko
C77: REKAPITULACE ROZPOČTU
C79: Stavba:
E80: REVITALIZACE ZÁMECKÉHO PARKU ‐ TVRZIŠTĚ KLUČOV | AA80: REVITALIZACE ZÁMECKÉHO PARKU ‐ TVRZIŠTĚ KLUČOV
C81: Objekt:
E82: SO.12 - SADOVÉ ÚPRAVY A ZÁVLAHA | AA82: SO.12 - SADOVÉ ÚPRAVY A ZÁVLAHA
C83: Soupis:
E84: SO.12-N - Nové sadové úpravy | AA84: SO.12-N - Nové sadové úpravy
C86: Místo: | I86: =I14 -> Datum: | J86: =J14 -> 46300
C88: Zadavatel: | F88: Obec Klučov | I88: =D22 -> Projektant: | J88: =IF(E23="","",E23) -> Studio Anarchitekt s.r.o.
C89: Zhotovitel: | F89: =IF(E20="Vyplň údaj","",E20) | I89: =D25 -> Zpracovatel: | J89: =IF(E26="","",E26) -> Ing. Theodor Collino
C91: Kód dílu - Popis | J91: Cena celkem [CZK]
...

Sheet SO.12-Z - Závlaha
L2: >> skryté sloupce << | AT2: {00b0d1df-0000-0000-0000-000000000000}
AT3: 2
D4: KRYCÍ LIST SOUPISU PRACÍ | AT4: FALSE
D6: Stavba:
E7: REVITALIZACE ZÁMECKÉHO PARKU ‐ TVRZIŠTĚ KLUČOV | AA7: =E7 -> REVITALIZACE ZÁMECKÉHO PARKU ‐ TVRZIŠTĚ KLUČOV
D8: Objekt:
E9: SO.12 - SADOVÉ ÚPRAVY A ZÁVLAHA | AA9: =E9 -> SO.12 - SADOVÉ ÚPRAVY A ZÁVLAHA
D10: Soupis:
E11: SO.12-Z - Závlaha | AA11: =E11 -> SO.12-Z - Závlaha
D13: KSO: | I13: CZ-CC:
D14: Místo: | I14: Datum: | J14: ='Rekapitulace stavby'!AN8 -> 46300
D16: Zadavatel: | I16: IČ: | J16: 00235431
E17: Obec Klučov | I17: DIČ:
D19: Zhotovitel: | I19: =I16 -> IČ: | J19: ='Rekapitulace stavby'!AN13 -> Vyplň údaj
E20: ='Rekapitulace stavby'!E14 -> Vyplň údaj | I20: =I17 -> DIČ: | J20: ='Rekapitulace stavby'!AN14 -> Vyplň údaj
D22: Projektant: | I22: =I16 -> IČ:
E23: Studio Anarchitekt s.r.o. | I23: =I17 -> DIČ:
D25: Zpracovatel: | I25: =I16 -> IČ: | J25: 05649358
E26: Ing. Theodor Collino | I26: =I17 -> DIČ: | J26: CZ8201043686
D28: Poznámka:
E29: ZPŮSOBILÉ VÝDAJE | AA29: =E29 -> ZPŮSOBILÉ VÝDAJE
D32: Cena bez DPH | J32: =ROUND(J116,2) -> 0
F34: Základ daně | I34: Sazba daně | J34: Výše daně
D35: DPH | E35: základní | F35: =SUM(BE116:BE137) -> 0 | I35: 0.21 | J35: =ROUND(F35*I35,2) -> 0
D38: Cena s DPH | G38: v | H38: CZK | J38: =SUM(J32:J36) -> 0
D45: =D22 -> Projektant: | G45: =D25 -> Zpracovatel:
D56: Datum a podpis: | F56: Razítko | G56: =D56 -> Datum a podpis: | J56: =F56 -> Razítko
D60: =D16 -> Zadavatel: | G60: =D19 -> Zhotovitel:
D71: =D56 -> Datum a podpis: | F71: =F56 -> Razítko | G71: =D56 -> Datum a podpis: | J71: =F56 -> Razítko
C77: REKAPITULACE ROZPOČTU
C79: Stavba:
E80: REVITALIZACE ZÁMECKÉHO PARKU ‐ TVRZIŠTĚ KLUČOV | AA80: REVITALIZACE ZÁMECKÉHO PARKU ‐ TVRZIŠTĚ KLUČOV
C81: Objekt:
E82: SO.12 - SADOVÉ ÚPRAVY A ZÁVLAHA | AA82: SO.12 - SADOVÉ ÚPRAVY A ZÁVLAHA
C83: Soupis:
E84: SO.12-Z - Závlaha | AA84: SO.12-Z - Závlaha
C86: Místo: | I86: =I14 -> Datum: | J86: =J14 -> 46300
C88: Zadavatel: | F88: Obec Klučov | I88: =D22 -> Projektant: | J88: =IF(E23="","",E23) -> Studio Anarchitekt s.r.o.
C89: Zhotovitel: | F89: =IF(E20="Vyplň údaj","",E20) | I89: =D25 -> Zpracovatel: | J89: =IF(E26="","",E26) -> Ing. Theodor Collino
C91: Kód dílu - Popis | J91: Cena celkem [CZK]
...

Sheet SO.13 - OPLOCENÍ, MOBILIÁŘ
L2: >> skryté sloupce << | AT2: {00b0d1e0-0000-0000-0000-000000000000}
AT3: 2
D4: KRYCÍ LIST SOUPISU PRACÍ | AT4: FALSE
D6: Stavba:
E7: REVITALIZACE ZÁMECKÉHO PARKU ‐ TVRZIŠTĚ KLUČOV | AA7: =E7 -> REVITALIZACE ZÁMECKÉHO PARKU ‐ TVRZIŠTĚ KLUČOV
D8: Objekt:
E9: SO.13 - OPLOCENÍ, MOBILIÁŘ | AA9: =E9 -> SO.13 - OPLOCENÍ, MOBILIÁŘ
D11: KSO: | I11: CZ-CC:
D12: Místo: | I12: Datum: | J12: ='Rekapitulace stavby'!AN8 -> 46300
D14: Zadavatel: | I14: IČ: | J14: 00235431
E15: Obec Klučov | I15: DIČ:
D17: Zhotovitel: | I17: =I14 -> IČ: | J17: ='Rekapitulace stavby'!AN13 -> Vyplň údaj
E18: ='Rekapitulace stavby'!E14 -> Vyplň údaj | I18: =I15 -> DIČ: | J18: ='Rekapitulace stavby'!AN14 -> Vyplň údaj
D20: Projektant: | I20: =I14 -> IČ:
E21: Studio Anarchitekt s.r.o. | I21: =I15 -> DIČ:
D23: Zpracovatel: | I23: =I14 -> IČ: | J23: 05649358
E24: Ing. Theodor Collino | I24: =I15 -> DIČ: | J24: CZ8201043686
D26: Poznámka:
E27: NAD SCHVÁLENÝ LIMIT bude zařazeno do nezpůsobilých výdajů | AA27: =E27 -> NAD SCHVÁLENÝ LIMIT bude zařazeno do nezpůsobilých výdajů
D30: Cena bez DPH | J30: =ROUND(J115,2) -> 0
F32: Základ daně | I32: Sazba daně | J32: Výše daně
D33: DPH | E33: základní | F33: =SUM(BE115:BE211) -> 0 | I33: 0.21 | J33: =ROUND(F33*I33,2) -> 0
D36: Cena s DPH | G36: v | H36: CZK | J36: =SUM(J30:J34) -> 0
D43: =D20 -> Projektant: | G43: =D23 -> Zpracovatel:
D54: Datum a podpis: | F54: Razítko | G54: =D54 -> Datum a podpis: | J54: =F54 -> Razítko
D58: =D14 -> Zadavatel: | G58: =D17 -> Zhotovitel:
D69: =D54 -> Datum a podpis: | F69: =F54 -> Razítko | G69: =D54 -> Datum a podpis: | J69: =F54 -> Razítko
C75: REKAPITULACE ROZPOČTU
C77: Stavba:
E78: REVITALIZACE ZÁMECKÉHO PARKU ‐ TVRZIŠTĚ KLUČOV | AA78: REVITALIZACE ZÁMECKÉHO PARKU ‐ TVRZIŠTĚ KLUČOV
C79: Objekt:
E80: SO.13 - OPLOCENÍ, MOBILIÁŘ | AA80: SO.13 - OPLOCENÍ, MOBILIÁŘ
C82: Místo: | I82: =I12 -> Datum: | J82: =J12 -> 46300
C84: Zadavatel: | F84: Obec Klučov | I84: =D20 -> Projektant: | J84: =IF(E21="","",E21) -> Studio Anarchitekt s.r.o.
C85: Zhotovitel: | F85: =IF(E18="Vyplň údaj","",E18) | I85: =D23 -> Zpracovatel: | J85: =IF(E24="","",E24) -> Ing. Theodor Collino
C87: Kód dílu - Popis | J87: Cena celkem [CZK]
C89: Náklady celkem | J89: =J115 -> 0
D90: HSV - Práce a dodávky HSV | J90: =J116 -> 0
D91: 3 - Svislé a kompletní konstrukce | J91: =J117 -> 0
D92: 6 - Úpravy povrchů, podlahy a osazování výplní | J92: =J131 -> 0
...

Sheet SO.19 - Zařízení staveniště
L2: >> skryté sloupce << | AT2: {00b0d1e1-0000-0000-0000-000000000000}
AT3: 2
D4: KRYCÍ LIST SOUPISU PRACÍ | AT4: FALSE
D6: Stavba:
E7: REVITALIZACE ZÁMECKÉHO PARKU ‐ TVRZIŠTĚ KLUČOV | AA7: =E7 -> REVITALIZACE ZÁMECKÉHO PARKU ‐ TVRZIŠTĚ KLUČOV
D8: Objekt:
E9: SO.19 - Zařízení staveniště | AA9: =E9 -> SO.19 - Zařízení staveniště
D11: KSO: | I11: CZ-CC:
D12: Místo: | I12: Datum: | J12: ='Rekapitulace stavby'!AN8 -> 46300
D14: Zadavatel: | I14: IČ: | J14: 00235431
E15: Obec Klučov | I15: DIČ:
D17: Zhotovitel: | I17: =I14 -> IČ: | J17: ='Rekapitulace stavby'!AN13 -> Vyplň údaj
E18: ='Rekapitulace stavby'!E14 -> Vyplň údaj | I18: =I15 -> DIČ: | J18: ='Rekapitulace stavby'!AN14 -> Vyplň údaj
D20: Projektant: | I20: =I14 -> IČ:
E21: Studio Anarchitekt s.r.o. | I21: =I15 -> DIČ:
D23: Zpracovatel: | I23: =I14 -> IČ: | J23: 05649358
E24: Ing. Theodor Collino | I24: =I15 -> DIČ: | J24: CZ8201043686
D26: Poznámka:
E27: ZPŮSOBILÉ VÝDAJE | AA27: =E27 -> ZPŮSOBILÉ VÝDAJE
D30: Cena bez DPH | J30: =ROUND(J111,2) -> 0
F32: Základ daně | I32: Sazba daně | J32: Výše daně
D33: DPH | E33: základní | F33: =SUM(BE111:BE166) -> 0 | I33: 0.21 | J33: =ROUND(F33*I33,2) -> 0
D36: Cena s DPH | G36: v | H36: CZK | J36: =SUM(J30:J34) -> 0
D43: =D20 -> Projektant: | G43: =D23 -> Zpracovatel:
D54: Datum a podpis: | F54: Razítko | G54: =D54 -> Datum a podpis: | J54: =F54 -> Razítko
D58: =D14 -> Zadavatel: | G58: =D17 -> Zhotovitel:
D69: =D54 -> Datum a podpis: | F69: =F54 -> Razítko | G69: =D54 -> Datum a podpis: | J69: =F54 -> Razítko
C75: REKAPITULACE ROZPOČTU
C77: Stavba:
E78: REVITALIZACE ZÁMECKÉHO PARKU ‐ TVRZIŠTĚ KLUČOV | AA78: REVITALIZACE ZÁMECKÉHO PARKU ‐ TVRZIŠTĚ KLUČOV
C79: Objekt:
E80: SO.19 - Zařízení staveniště | AA80: SO.19 - Zařízení staveniště
C82: Místo: | I82: =I12 -> Datum: | J82: =J12 -> 46300
C84: Zadavatel: | F84: Obec Klučov | I84: =D20 -> Projektant: | J84: =IF(E21="","",E21) -> Studio Anarchitekt s.r.o.
C85: Zhotovitel: | F85: =IF(E18="Vyplň údaj","",E18) | I85: =D23 -> Zpracovatel: | J85: =IF(E24="","",E24) -> Ing. Theodor Collino
C87: Kód dílu - Popis | J87: Cena celkem [CZK]
C89: Náklady celkem | J89: =J111 -> 0
D90: VRN - Vedlejší rozpočtové náklady | J90: =J112 -> 0
D91: VRN3 - Zařízení staveniště | J91: =J113 -> 0
D92: VRN4 - Inženýrská činnost | J92: =J164 -> 0
...

Sheet SO.21 - NN ROZVODY
L2: >> skryté sloupce << | AT2: {00b0d1e2-0000-0000-0000-000000000000}
AT3: 2
D4: KRYCÍ LIST SOUPISU PRACÍ | AT4: FALSE
D6: Stavba:
E7: REVITALIZACE ZÁMECKÉHO PARKU ‐ TVRZIŠTĚ KLUČOV | AA7: =E7 -> REVITALIZACE ZÁMECKÉHO PARKU ‐ TVRZIŠTĚ KLUČOV
D8: Objekt:
E9: SO.21 - NN ROZVODY | AA9: =E9 -> SO.21 - NN ROZVODY
D11: KSO: | I11: CZ-CC:
D12: Místo: | I12: Datum: | J12: ='Rekapitulace stavby'!AN8 -> 46300
D14: Zadavatel: | I14: IČ: | J14: 00235431
E15: Obec Klučov | I15: DIČ:
D17: Zhotovitel: | I17: =I14 -> IČ: | J17: ='Rekapitulace stavby'!AN13 -> Vyplň údaj
E18: ='Rekapitulace stavby'!E14 -> Vyplň údaj | I18: =I15 -> DIČ: | J18: ='Rekapitulace stavby'!AN14 -> Vyplň údaj
D20: Projektant: | I20: =I14 -> IČ:
E21: Studio Anarchitekt s.r.o. | I21: =I15 -> DIČ:
D23: Zpracovatel: | I23: =I14 -> IČ: | J23: 05649358
E24: Ing. Theodor Collino | I24: =I15 -> DIČ: | J24: CZ8201043686
D26: Poznámka:
E27: ZPŮSOBILÉ VÝDAJE | AA27: =E27 -> ZPŮSOBILÉ VÝDAJE
D30: Cena bez DPH | J30: =ROUND(J115,2) -> 0
F32: Základ daně | I32: Sazba daně | J32: Výše daně
D33: DPH | E33: základní | F33: =SUM(BE115:BE187) -> 0 | I33: 0.21 | J33: =ROUND(F33*I33,2) -> 0
D36: Cena s DPH | G36: v | H36: CZK | J36: =SUM(J30:J34) -> 0
D43: =D20 -> Projektant: | G43: =D23 -> Zpracovatel:
D54: Datum a podpis: | F54: Razítko | G54: =D54 -> Datum a podpis: | J54: =F54 -> Razítko
D58: =D14 -> Zadavatel: | G58: =D17 -> Zhotovitel:
D69: =D54 -> Datum a podpis: | F69: =F54 -> Razítko | G69: =D54 -> Datum a podpis: | J69: =F54 -> Razítko
C75: REKAPITULACE ROZPOČTU
C77: Stavba:
E78: REVITALIZACE ZÁMECKÉHO PARKU ‐ TVRZIŠTĚ KLUČOV | AA78: REVITALIZACE ZÁMECKÉHO PARKU ‐ TVRZIŠTĚ KLUČOV
C79: Objekt:
E80: SO.21 - NN ROZVODY | AA80: SO.21 - NN ROZVODY
C82: Místo: | I82: =I12 -> Datum: | J82: =J12 -> 46300
C84: Zadavatel: | F84: Obec Klučov | I84: =D20 -> Projektant: | J84: =IF(E21="","",E21) -> Studio Anarchitekt s.r.o.
C85: Zhotovitel: | F85: =IF(E18="Vyplň údaj","",E18) | I85: =D23 -> Zpracovatel: | J85: =IF(E24="","",E24) -> Ing. Theodor Collino
C87: Kód dílu - Popis | J87: Cena celkem [CZK]
C89: Náklady celkem | J89: =J115 -> 0
D90: HSV - Práce a dodávky HSV | J90: =J116 -> 0
D91: 8 - Trubní vedení | J91: =J117 -> 0
D92: PSV - Práce a dodávky PSV | J92: =J121 -> 0
...

Sheet SO.22 - Kanalizační přípojka
L2: >> skryté sloupce << | AT2: {00b12687-0000-0000-0000-000000000000}
AT3: 2
D4: KRYCÍ LIST SOUPISU PRACÍ | AT4: FALSE
D6: Stavba:
E7: REVITALIZACE ZÁMECKÉHO PARKU ‐ TVRZIŠTĚ KLUČOV | AA7: =E7 -> REVITALIZACE ZÁMECKÉHO PARKU ‐ TVRZIŠTĚ KLUČOV
D8: Objekt:
E9: SO.22 - Kanalizační přípojka | AA9: =E9 -> SO.22 - Kanalizační přípojka
D11: KSO: | I11: CZ-CC:
D12: Místo: | I12: Datum: | J12: ='Rekapitulace stavby'!AN8 -> 46300
D14: Zadavatel: | I14: IČ: | J14: 00235431
E15: Obec Klučov | I15: DIČ:
D17: Zhotovitel: | I17: =I14 -> IČ: | J17: ='Rekapitulace stavby'!AN13 -> Vyplň údaj
E18: ='Rekapitulace stavby'!E14 -> Vyplň údaj | I18: =I15 -> DIČ: | J18: ='Rekapitulace stavby'!AN14 -> Vyplň údaj
D20: Projektant: | I20: =I14 -> IČ:
E21: Studio Anarchitekt s.r.o. | I21: =I15 -> DIČ:
D23: Zpracovatel: | I23: =I14 -> IČ: | J23: 05649358
E24: Ing. Theodor Collino | I24: =I15 -> DIČ: | J24: CZ8201043686
D26: Poznámka:
E27: ZPŮSOBILÉ VÝDAJE | AA27: =E27 -> ZPŮSOBILÉ VÝDAJE
D30: Cena bez DPH | J30: =ROUND(J117,2) -> 0
F32: Základ daně | I32: Sazba daně | J32: Výše daně
D33: DPH | E33: základní | F33: =SUM(BE117:BE252) -> 0 | I33: 0.21 | J33: =ROUND(F33*I33,2) -> 0
D36: Cena s DPH | G36: v | H36: CZK | J36: =SUM(J30:J34) -> 0
D43: =D20 -> Projektant: | G43: =D23 -> Zpracovatel:
D54: Datum a podpis: | F54: Razítko | G54: =D54 -> Datum a podpis: | J54: =F54 -> Razítko
D58: =D14 -> Zadavatel: | G58: =D17 -> Zhotovitel:
D69: =D54 -> Datum a podpis: | F69: =F54 -> Razítko | G69: =D54 -> Datum a podpis: | J69: =F54 -> Razítko
C75: REKAPITULACE ROZPOČTU
C77: Stavba:
E78: REVITALIZACE ZÁMECKÉHO PARKU ‐ TVRZIŠTĚ KLUČOV | AA78: REVITALIZACE ZÁMECKÉHO PARKU ‐ TVRZIŠTĚ KLUČOV
C79: Objekt:
E80: SO.22 - Kanalizační přípojka | AA80: SO.22 - Kanalizační přípojka
C82: Místo: | I82: =I12 -> Datum: | J82: =J12 -> 46300
C84: Zadavatel: | F84: Obec Klučov | I84: =D20 -> Projektant: | J84: =IF(E21="","",E21) -> Studio Anarchitekt s.r.o.
C85: Zhotovitel: | F85: =IF(E18="Vyplň údaj","",E18) | I85: =D23 -> Zpracovatel: | J85: =IF(E24="","",E24) -> Ing. Theodor Collino
C87: Kód dílu - Popis | J87: Cena celkem [CZK]
C89: Náklady celkem | J89: =J117 -> 0
D90: HSV - Práce a dodávky HSV | J90: =J118 -> 0
D91: 1 - Zemní práce | J91: =J119 -> 0
D92: 3 - Svislé a kompletní konstrukce | J92: =J176 -> 0
...

Sheet SO.23 - DEŠŤOVÉ KANALIZACE A PŘ
L2: >> skryté sloupce << | AT2: {00b0d1e3-0000-0000-0000-000000000000}
AT3: 2
D4: KRYCÍ LIST SOUPISU PRACÍ | AT4: FALSE
D6: Stavba:
E7: REVITALIZACE ZÁMECKÉHO PARKU ‐ TVRZIŠTĚ KLUČOV | AA7: =E7 -> REVITALIZACE ZÁMECKÉHO PARKU ‐ TVRZIŠTĚ KLUČOV
D8: Objekt:
E9: SO.23 - DEŠŤOVÉ KANALIZACE A PŘÍPOJKY, AKUMULACE DEŠŤOVÝCH VOD, VSAK, ZÁVLAHA | AA9: =E9 -> SO.23 - DEŠŤOVÉ KANALIZACE A PŘÍPOJKY, AKUMULACE DEŠŤOVÝCH VOD, VSAK, ZÁVLAHA
D11: KSO: | I11: CZ-CC:
D12: Místo: | I12: Datum: | J12: ='Rekapitulace stavby'!AN8 -> 46300
D14: Zadavatel: | I14: IČ: | J14: 00235431
E15: Obec Klučov | I15: DIČ:
D17: Zhotovitel: | I17: =I14 -> IČ: | J17: ='Rekapitulace stavby'!AN13 -> Vyplň údaj
E18: ='Rekapitulace stavby'!E14 -> Vyplň údaj | I18: =I15 -> DIČ: | J18: ='Rekapitulace stavby'!AN14 -> Vyplň údaj
D20: Projektant: | I20: =I14 -> IČ:
E21: Studio Anarchitekt s.r.o. | I21: =I15 -> DIČ:
D23: Zpracovatel: | I23: =I14 -> IČ: | J23: 05649358
E24: Ing. Theodor Collino | I24: =I15 -> DIČ: | J24: CZ8201043686
D26: Poznámka:
E27: ZPŮSOBILÉ VÝDAJE | AA27: =E27 -> ZPŮSOBILÉ VÝDAJE
D30: Cena bez DPH | J30: =ROUND(J111,2) -> 0
F32: Základ daně | I32: Sazba daně | J32: Výše daně
D33: DPH | E33: základní | F33: =SUM(BE111:BE131) -> 0 | I33: 0.21 | J33: =ROUND(F33*I33,2) -> 0
D36: Cena s DPH | G36: v | H36: CZK | J36: =SUM(J30:J34) -> 0
D43: =D20 -> Projektant: | G43: =D23 -> Zpracovatel:
D54: Datum a podpis: | F54: Razítko | G54: =D54 -> Datum a podpis: | J54: =F54 -> Razítko
D58: =D14 -> Zadavatel: | G58: =D17 -> Zhotovitel:
D69: =D54 -> Datum a podpis: | F69: =F54 -> Razítko | G69: =D54 -> Datum a podpis: | J69: =F54 -> Razítko
C75: REKAPITULACE ROZPOČTU
C77: Stavba:
E78: REVITALIZACE ZÁMECKÉHO PARKU ‐ TVRZIŠTĚ KLUČOV | AA78: REVITALIZACE ZÁMECKÉHO PARKU ‐ TVRZIŠTĚ KLUČOV
C79: Objekt:
E80: SO.23 - DEŠŤOVÉ KANALIZACE A PŘÍPOJKY, AKUMULACE DEŠŤOVÝCH VOD, VSAK, ZÁVLAHA | AA80: SO.23 - DEŠŤOVÉ KANALIZACE A PŘÍPOJKY, AKUMULACE DEŠŤOVÝCH VOD, VSAK, ZÁVLAHA
C82: Místo: | I82: =I12 -> Datum: | J82: =J12 -> 46300
C84: Zadavatel: | F84: Obec Klučov | I84: =D20 -> Projektant: | J84: =IF(E21="","",E21) -> Studio Anarchitekt s.r.o.
C85: Zhotovitel: | F85: =IF(E18="Vyplň údaj","",E18) | I85: =D23 -> Zpracovatel: | J85: =IF(E24="","",E24) -> Ing. Theodor Collino
C87: Kód dílu - Popis | J87: Cena celkem [CZK]
C89: Náklady celkem | J89: =J111 -> 0
D90: HSV - Práce a dodávky HSV | J90: =J112 -> 0
D91: 8 - Trubní vedení | J91: =J113 -> 0
D92: 998 - Přesun hmot | J92: =J127 -> 0
...

Sheet SO.24 - Vodovodní přípojka
L2: >> skryté sloupce << | AT2: {00b0d1e4-0000-0000-0000-000000000000}
AT3: 2
D4: KRYCÍ LIST SOUPISU PRACÍ | AT4: FALSE
D6: Stavba:
E7: REVITALIZACE ZÁMECKÉHO PARKU ‐ TVRZIŠTĚ KLUČOV | AA7: =E7 -> REVITALIZACE ZÁMECKÉHO PARKU ‐ TVRZIŠTĚ KLUČOV
D8: Objekt:
E9: SO.24 - Vodovodní přípojka | AA9: =E9 -> SO.24 - Vodovodní přípojka
D11: KSO: | I11: CZ-CC:
D12: Místo: | I12: Datum: | J12: ='Rekapitulace stavby'!AN8 -> 46300
D14: Zadavatel: | I14: IČ: | J14: 00235431
E15: Obec Klučov | I15: DIČ:
D17: Zhotovitel: | I17: =I14 -> IČ: | J17: ='Rekapitulace stavby'!AN13 -> Vyplň údaj
E18: ='Rekapitulace stavby'!E14 -> Vyplň údaj | I18: =I15 -> DIČ: | J18: ='Rekapitulace stavby'!AN14 -> Vyplň údaj
D20: Projektant: | I20: =I14 -> IČ:
E21: Studio Anarchitekt s.r.o. | I21: =I15 -> DIČ:
D23: Zpracovatel: | I23: =I14 -> IČ: | J23: 05649358
E24: Ing. Theodor Collino | I24: =I15 -> DIČ: | J24: CZ8201043686
D26: Poznámka:
E27: ZPŮSOBILÉ VÝDAJE | AA27: =E27 -> ZPŮSOBILÉ VÝDAJE
D30: Cena bez DPH | J30: =ROUND(J115,2) -> 0
F32: Základ daně | I32: Sazba daně | J32: Výše daně
D33: DPH | E33: základní | F33: =SUM(BE115:BE235) -> 0 | I33: 0.21 | J33: =ROUND(F33*I33,2) -> 0
D36: Cena s DPH | G36: v | H36: CZK | J36: =SUM(J30:J34) -> 0
D43: =D20 -> Projektant: | G43: =D23 -> Zpracovatel:
D54: Datum a podpis: | F54: Razítko | G54: =D54 -> Datum a podpis: | J54: =F54 -> Razítko
D58: =D14 -> Zadavatel: | G58: =D17 -> Zhotovitel:
D69: =D54 -> Datum a podpis: | F69: =F54 -> Razítko | G69: =D54 -> Datum a podpis: | J69: =F54 -> Razítko
C75: REKAPITULACE ROZPOČTU
C77: Stavba:
E78: REVITALIZACE ZÁMECKÉHO PARKU ‐ TVRZIŠTĚ KLUČOV | AA78: REVITALIZACE ZÁMECKÉHO PARKU ‐ TVRZIŠTĚ KLUČOV
C79: Objekt:
E80: SO.24 - Vodovodní přípojka | AA80: SO.24 - Vodovodní přípojka
C82: Místo: | I82: =I12 -> Datum: | J82: =J12 -> 46300
C84: Zadavatel: | F84: Obec Klučov | I84: =D20 -> Projektant: | J84: =IF(E21="","",E21) -> Studio Anarchitekt s.r.o.
C85: Zhotovitel: | F85: =IF(E18="Vyplň údaj","",E18) | I85: =D23 -> Zpracovatel: | J85: =IF(E24="","",E24) -> Ing. Theodor Collino
C87: Kód dílu - Popis | J87: Cena celkem [CZK]
C89: Náklady celkem | J89: =J115 -> 0
D90: HSV - Práce a dodávky HSV | J90: =J116 -> 0
D91: 1 - Zemní práce | J91: =J117 -> 0
D92: 4 - Vodorovné konstrukce | J92: =J178 -> 0
...

Sheet SO.25 - Veřejné osvětlení
L2: >> skryté sloupce << | AT2: {00b0d1e5-0000-0000-0000-000000000000}
AT3: 2
D4: KRYCÍ LIST SOUPISU PRACÍ | AT4: FALSE
D6: Stavba:
E7: REVITALIZACE ZÁMECKÉHO PARKU ‐ TVRZIŠTĚ KLUČOV | AA7: =E7 -> REVITALIZACE ZÁMECKÉHO PARKU ‐ TVRZIŠTĚ KLUČOV
D8: Objekt:
E9: SO.25 - Veřejné osvětlení | AA9: =E9 -> SO.25 - Veřejné osvětlení
D11: KSO: | I11: CZ-CC:
D12: Místo: | I12: Datum: | J12: ='Rekapitulace stavby'!AN8 -> 46300
D14: Zadavatel: | I14: IČ: | J14: 00235431
E15: Obec Klučov | I15: DIČ:
D17: Zhotovitel: | I17: =I14 -> IČ: | J17: ='Rekapitulace stavby'!AN13 -> Vyplň údaj
E18: ='Rekapitulace stavby'!E14 -> Vyplň údaj | I18: =I15 -> DIČ: | J18: ='Rekapitulace stavby'!AN14 -> Vyplň údaj
D20: Projektant: | I20: =I14 -> IČ:
E21: Studio Anarchitekt s.r.o. | I21: =I15 -> DIČ:
D23: Zpracovatel: | I23: =I14 -> IČ: | J23: 05649358
E24: Ing. Theodor Collino | I24: =I15 -> DIČ: | J24: CZ8201043686
D26: Poznámka:
E27: ZPŮSOBILÉ VÝDAJE | AA27: =E27 -> ZPŮSOBILÉ VÝDAJE
D30: Cena bez DPH | J30: =ROUND(J113,2) -> 0
F32: Základ daně | I32: Sazba daně | J32: Výše daně
D33: DPH | E33: základní | F33: =SUM(BE113:BE284) -> 0 | I33: 0.21 | J33: =ROUND(F33*I33,2) -> 0
D36: Cena s DPH | G36: v | H36: CZK | J36: =SUM(J30:J34) -> 0
D43: =D20 -> Projektant: | G43: =D23 -> Zpracovatel:
D54: Datum a podpis: | F54: Razítko | G54: =D54 -> Datum a podpis: | J54: =F54 -> Razítko
D58: =D14 -> Zadavatel: | G58: =D17 -> Zhotovitel:
D69: =D54 -> Datum a podpis: | F69: =F54 -> Razítko | G69: =D54 -> Datum a podpis: | J69: =F54 -> Razítko
C75: REKAPITULACE ROZPOČTU
C77: Stavba:
E78: REVITALIZACE ZÁMECKÉHO PARKU ‐ TVRZIŠTĚ KLUČOV | AA78: REVITALIZACE ZÁMECKÉHO PARKU ‐ TVRZIŠTĚ KLUČOV
C79: Objekt:
E80: SO.25 - Veřejné osvětlení | AA80: SO.25 - Veřejné osvětlení
C82: Místo: | I82: =I12 -> Datum: | J82: =J12 -> 46300
C84: Zadavatel: | F84: Obec Klučov | I84: =D20 -> Projektant: | J84: =IF(E21="","",E21) -> Studio Anarchitekt s.r.o.
C85: Zhotovitel: | F85: =IF(E18="Vyplň údaj","",E18) | I85: =D23 -> Zpracovatel: | J85: =IF(E24="","",E24) -> Ing. Theodor Collino
C87: Kód dílu - Popis | J87: Cena celkem [CZK]
C89: Náklady celkem | J89: =J113 -> 0
D90: PSV - Práce a dodávky PSV | J90: =J114 -> 0
D91: 741 - Elektroinstalace - silnoproud | J91: =J115 -> 0
D92: M - Práce a dodávky M | J92: =J153 -> 0
...

Sheet SO.J - Retenční nádrž
L2: >> skryté sloupce << | AT2: {00b0d1e6-0000-0000-0000-000000000000}
AT3: 2
D4: KRYCÍ LIST SOUPISU PRACÍ | AT4: FALSE
D6: Stavba:
E7: REVITALIZACE ZÁMECKÉHO PARKU ‐ TVRZIŠTĚ KLUČOV | AA7: =E7 -> REVITALIZACE ZÁMECKÉHO PARKU ‐ TVRZIŠTĚ KLUČOV
D8: Objekt:
E9: SO.J - Retenční nádrž | AA9: =E9 -> SO.J - Retenční nádrž
D11: KSO: | I11: CZ-CC:
D12: Místo: | I12: Datum: | J12: ='Rekapitulace stavby'!AN8 -> 46300
D14: Zadavatel: | I14: IČ: | J14: 00235431
E15: Obec Klučov | I15: DIČ:
D17: Zhotovitel: | I17: =I14 -> IČ: | J17: ='Rekapitulace stavby'!AN13 -> Vyplň údaj
E18: ='Rekapitulace stavby'!E14 -> Vyplň údaj | I18: =I15 -> DIČ: | J18: ='Rekapitulace stavby'!AN14 -> Vyplň údaj
D20: Projektant: | I20: =I14 -> IČ:
E21: Studio Anarchitekt s.r.o. | I21: =I15 -> DIČ:
D23: Zpracovatel: | I23: =I14 -> IČ: | J23: 05649358
E24: Ing. Theodor Collino | I24: =I15 -> DIČ: | J24: CZ8201043686
D26: Poznámka:
E27: ZPŮSOBILÉ VÝDAJE | AA27: =E27 -> ZPŮSOBILÉ VÝDAJE
D30: Cena bez DPH | J30: =ROUND(J123,2) -> 0
F32: Základ daně | I32: Sazba daně | J32: Výše daně
D33: DPH | E33: základní | F33: =SUM(BE123:BE277) -> 0 | I33: 0.21 | J33: =ROUND(F33*I33,2) -> 0
D36: Cena s DPH | G36: v | H36: CZK | J36: =SUM(J30:J34) -> 0
D43: =D20 -> Projektant: | G43: =D23 -> Zpracovatel:
D54: Datum a podpis: | F54: Razítko | G54: =D54 -> Datum a podpis: | J54: =F54 -> Razítko
D58: =D14 -> Zadavatel: | G58: =D17 -> Zhotovitel:
D69: =D54 -> Datum a podpis: | F69: =F54 -> Razítko | G69: =D54 -> Datum a podpis: | J69: =F54 -> Razítko
C75: REKAPITULACE ROZPOČTU
C77: Stavba:
E78: REVITALIZACE ZÁMECKÉHO PARKU ‐ TVRZIŠTĚ KLUČOV | AA78: REVITALIZACE ZÁMECKÉHO PARKU ‐ TVRZIŠTĚ KLUČOV
C79: Objekt:
E80: SO.J - Retenční nádrž | AA80: SO.J - Retenční nádrž
C82: Místo: | I82: =I12 -> Datum: | J82: =J12 -> 46300
C84: Zadavatel: | F84: Obec Klučov | I84: =D20 -> Projektant: | J84: =IF(E21="","",E21) -> Studio Anarchitekt s.r.o.
C85: Zhotovitel: | F85: =IF(E18="Vyplň údaj","",E18) | I85: =D23 -> Zpracovatel: | J85: =IF(E24="","",E24) -> Ing. Theodor Collino
C87: Kód dílu - Popis | J87: Cena celkem [CZK]
C89: Náklady celkem | J89: =J123 -> 0
D90: HSV - Práce a dodávky HSV | J90: =J124 -> 0
D91: 1 - Zemní práce | J91: =J125 -> 0
D92: 11 - Zemní práce - přípravné a přidružené práce | J92: =J134 -> 0
...

Sheet SO.K - Altán
L2: >> skryté sloupce << | AT2: {00b0d1e7-0000-0000-0000-000000000000}
AT3: 2
D4: KRYCÍ LIST SOUPISU PRACÍ | AT4: FALSE
D6: Stavba:
E7: REVITALIZACE ZÁMECKÉHO PARKU ‐ TVRZIŠTĚ KLUČOV | AA7: =E7 -> REVITALIZACE ZÁMECKÉHO PARKU ‐ TVRZIŠTĚ KLUČOV
D8: Objekt:
E9: SO.K - Altán | AA9: =E9 -> SO.K - Altán
D11: KSO: | I11: CZ-CC:
D12: Místo: | I12: Datum: | J12: ='Rekapitulace stavby'!AN8 -> 46300
D14: Zadavatel: | I14: IČ: | J14: 00235431
E15: Obec Klučov | I15: DIČ:
D17: Zhotovitel: | I17: =I14 -> IČ: | J17: ='Rekapitulace stavby'!AN13 -> Vyplň údaj
E18: ='Rekapitulace stavby'!E14 -> Vyplň údaj | I18: =I15 -> DIČ: | J18: ='Rekapitulace stavby'!AN14 -> Vyplň údaj
D20: Projektant: | I20: =I14 -> IČ:
E21: Studio Anarchitekt s.r.o. | I21: =I15 -> DIČ:
D23: Zpracovatel: | I23: =I14 -> IČ: | J23: 05649358
E24: Ing. Theodor Collino | I24: =I15 -> DIČ: | J24: CZ8201043686
D26: Poznámka:
E27: ZPŮSOBILÉ VÝDAJE | AA27: =E27 -> ZPŮSOBILÉ VÝDAJE
D30: Cena bez DPH | J30: =ROUND(J150,2) -> 0
F32: Základ daně | I32: Sazba daně | J32: Výše daně
D33: DPH | E33: základní | F33: =SUM(BE150:BE903) -> 0 | I33: 0.21 | J33: =ROUND(F33*I33,2) -> 0
D36: Cena s DPH | G36: v | H36: CZK | J36: =SUM(J30:J34) -> 0
D43: =D20 -> Projektant: | G43: =D23 -> Zpracovatel:
D54: Datum a podpis: | F54: Razítko | G54: =D54 -> Datum a podpis: | J54: =F54 -> Razítko
D58: =D14 -> Zadavatel: | G58: =D17 -> Zhotovitel:
D69: =D54 -> Datum a podpis: | F69: =F54 -> Razítko | G69: =D54 -> Datum a podpis: | J69: =F54 -> Razítko
C75: REKAPITULACE ROZPOČTU
C77: Stavba:
E78: REVITALIZACE ZÁMECKÉHO PARKU ‐ TVRZIŠTĚ KLUČOV | AA78: REVITALIZACE ZÁMECKÉHO PARKU ‐ TVRZIŠTĚ KLUČOV
C79: Objekt:
E80: SO.K - Altán | AA80: SO.K - Altán
C82: Místo: | I82: =I12 -> Datum: | J82: =J12 -> 46300
C84: Zadavatel: | F84: Obec Klučov | I84: =D20 -> Projektant: | J84: =IF(E21="","",E21) -> Studio Anarchitekt s.r.o.
C85: Zhotovitel: | F85: =IF(E18="Vyplň údaj","",E18) | I85: =D23 -> Zpracovatel: | J85: =IF(E24="","",E24) -> Ing. Theodor Collino
C87: Kód dílu - Popis | J87: Cena celkem [CZK]
C89: Náklady celkem | J89: =J150 -> 0
D90: HSV - Práce a dodávky HSV | J90: =J151 -> 0
D91: 1 - Zemní práce | J91: =J152 -> 0
D92: 13 - Zemní práce - hloubené vykopávky | J92: =J153 -> 0
...

Sheet SO.K zdi - Archeologická prezen
L2: >> skryté sloupce << | AT2: {00b0d1e8-0000-0000-0000-000000000000}
AT3: 2
D4: KRYCÍ LIST SOUPISU PRACÍ | AT4: FALSE
D6: Stavba:
E7: REVITALIZACE ZÁMECKÉHO PARKU ‐ TVRZIŠTĚ KLUČOV | AA7: =E7 -> REVITALIZACE ZÁMECKÉHO PARKU ‐ TVRZIŠTĚ KLUČOV
D8: Objekt:
E9: SO.K - Altán | AA9: =E9 -> SO.K - Altán
D10: Soupis:
E11: SO.K zdi - Archeologická prezentace objektů | AA11: =E11 -> SO.K zdi - Archeologická prezentace objektů
D13: KSO: | I13: CZ-CC:
D14: Místo: | I14: Datum: | J14: ='Rekapitulace stavby'!AN8 -> 46300
D16: Zadavatel: | I16: IČ: | J16: 00235431
E17: Obec Klučov | I17: DIČ:
D19: Zhotovitel: | I19: =I16 -> IČ: | J19: ='Rekapitulace stavby'!AN13 -> Vyplň údaj
E20: ='Rekapitulace stavby'!E14 -> Vyplň údaj | I20: =I17 -> DIČ: | J20: ='Rekapitulace stavby'!AN14 -> Vyplň údaj
D22: Projektant: | I22: =I16 -> IČ:
E23: Studio Anarchitekt s.r.o. | I23: =I17 -> DIČ:
D25: Zpracovatel: | I25: =I16 -> IČ: | J25: 05649358
E26: Ing. Theodor Collino | I26: =I17 -> DIČ: | J26: CZ8201043686
D28: Poznámka:
E29: ZPŮSOBILÉ VÝDAJE | AA29: =E29 -> ZPŮSOBILÉ VÝDAJE
D32: Cena bez DPH | J32: =ROUND(J120,2) -> 0
F34: Základ daně | I34: Sazba daně | J34: Výše daně
D35: DPH | E35: základní | F35: =SUM(BE120:BE154) -> 0 | I35: 0.21 | J35: =ROUND(F35*I35,2) -> 0
D38: Cena s DPH | G38: v | H38: CZK | J38: =SUM(J32:J36) -> 0
D45: =D22 -> Projektant: | G45: =D25 -> Zpracovatel:
D56: Datum a podpis: | F56: Razítko | G56: =D56 -> Datum a podpis: | J56: =F56 -> Razítko
D60: =D16 -> Zadavatel: | G60: =D19 -> Zhotovitel:
D71: =D56 -> Datum a podpis: | F71: =F56 -> Razítko | G71: =D56 -> Datum a podpis: | J71: =F56 -> Razítko
C77: REKAPITULACE ROZPOČTU
C79: Stavba:
E80: REVITALIZACE ZÁMECKÉHO PARKU ‐ TVRZIŠTĚ KLUČOV | AA80: REVITALIZACE ZÁMECKÉHO PARKU ‐ TVRZIŠTĚ KLUČOV
C81: Objekt:
E82: SO.K - Altán | AA82: SO.K - Altán
C83: Soupis:
E84: SO.K zdi - Archeologická prezentace objektů | AA84: SO.K zdi - Archeologická prezentace objektů
C86: Místo: | I86: =I14 -> Datum: | J86: =J14 -> 46300
C88: Zadavatel: | F88: Obec Klučov | I88: =D22 -> Projektant: | J88: =IF(E23="","",E23) -> Studio Anarchitekt s.r.o.
C89: Zhotovitel: | F89: =IF(E20="Vyplň údaj","",E20) | I89: =D25 -> Zpracovatel: | J89: =IF(E26="","",E26) -> Ing. Theodor Collino
C91: Kód dílu - Popis | J91: Cena celkem [CZK]
...

Sheet SO.L. - Dětské hřiště
L2: >> skryté sloupce << | AT2: {00b0d1ea-0000-0000-0000-000000000000}
AT3: 2
D4: KRYCÍ LIST SOUPISU PRACÍ | AT4: FALSE
D6: Stavba:
E7: REVITALIZACE ZÁMECKÉHO PARKU ‐ TVRZIŠTĚ KLUČOV | AA7: =E7 -> REVITALIZACE ZÁMECKÉHO PARKU ‐ TVRZIŠTĚ KLUČOV
D8: Objekt:
E9: SO.L. - Dětské hřiště | AA9: =E9 -> SO.L. - Dětské hřiště
D11: KSO: | I11: CZ-CC:
D12: Místo: | I12: Datum: | J12: ='Rekapitulace stavby'!AN8 -> 46300
D14: Zadavatel: | I14: IČ: | J14: 00235431
E15: Obec Klučov | I15: DIČ:
D17: Zhotovitel: | I17: =I14 -> IČ: | J17: ='Rekapitulace stavby'!AN13 -> Vyplň údaj
E18: ='Rekapitulace stavby'!E14 -> Vyplň údaj | I18: =I15 -> DIČ: | J18: ='Rekapitulace stavby'!AN14 -> Vyplň údaj
D20: Projektant: | I20: =I14 -> IČ:
E21: Studio Anarchitekt s.r.o. | I21: =I15 -> DIČ:
D23: Zpracovatel: | I23: =I14 -> IČ: | J23: 05649358
E24: Ing. Theodor Collino | I24: =I15 -> DIČ: | J24: CZ8201043686
D26: Poznámka:
E27: ZAŘAZENO DO NEZPŮSOBILÝCH VÝDAJŮ | AA27: =E27 -> ZAŘAZENO DO NEZPŮSOBILÝCH VÝDAJŮ
D30: Cena bez DPH | J30: =ROUND(J115,2) -> 0
F32: Základ daně | I32: Sazba daně | J32: Výše daně
D33: DPH | E33: základní | F33: =SUM(BE115:BE168) -> 0 | I33: 0.21 | J33: =ROUND(F33*I33,2) -> 0
D36: Cena s DPH | G36: v | H36: CZK | J36: =SUM(J30:J34) -> 0
D43: =D20 -> Projektant: | G43: =D23 -> Zpracovatel:
D54: Datum a podpis: | F54: Razítko | G54: =D54 -> Datum a podpis: | J54: =F54 -> Razítko
D58: =D14 -> Zadavatel: | G58: =D17 -> Zhotovitel:
D69: =D54 -> Datum a podpis: | F69: =F54 -> Razítko | G69: =D54 -> Datum a podpis: | J69: =F54 -> Razítko
C75: REKAPITULACE ROZPOČTU
C77: Stavba:
E78: REVITALIZACE ZÁMECKÉHO PARKU ‐ TVRZIŠTĚ KLUČOV | AA78: REVITALIZACE ZÁMECKÉHO PARKU ‐ TVRZIŠTĚ KLUČOV
C79: Objekt:
E80: SO.L. - Dětské hřiště | AA80: SO.L. - Dětské hřiště
C82: Místo: | I82: =I12 -> Datum: | J82: =J12 -> 46300
C84: Zadavatel: | F84: Obec Klučov | I84: =D20 -> Projektant: | J84: =IF(E21="","",E21) -> Studio Anarchitekt s.r.o.
C85: Zhotovitel: | F85: =IF(E18="Vyplň údaj","",E18) | I85: =D23 -> Zpracovatel: | J85: =IF(E24="","",E24) -> Ing. Theodor Collino
C87: Kód dílu - Popis | J87: Cena celkem [CZK]
C89: Náklady celkem | J89: =J115 -> 0
D90: HSV - Práce a dodávky HSV | J90: =J116 -> 0
D91: 3 - Svislé a kompletní konstrukce | J91: =J117 -> 0
D92: 5 - Komunikace pozemní | J92: =J129 -> 0
...

Sheet Seznam figur
C4: SEZNAM FIGUR
C5: Kód: | D5: Klucov
C6: Stavba: | D6: REVITALIZACE ZÁMECKÉHO PARKU ‐ TVRZIŠTĚ KLUČOV
C7: Datum: | D7: 46300
C9: Kód | D9: Popis | E9: MJ | F9: Výměra
D10: 111 sejmutí ornice PLOCHA | F10: 10500
D11: Plocha sejmutí ornice | F11: 10500
C12: Použití figury:
C13: 121103111 | D13: Skrývka zemin schopných zúrodnění v rovině a svahu do 1:5 | E13: m3 | F13: 2100
D14: CLT panely - strop/podlaha | F14: 21.45
D15: CLT panely - strop/podlaha | F15: 0
D16: 2,600*6,000+2,600*2,250 | F16: 21.45
C17: Použití figury:
C18: 763781223 | D18: Montáž dřevostaveb stropní konstrukce z panelů tl přes 55 do 240 mm pl přes 10 do 20 m2 | E18: m2 | F18: 21.45
D19: CYKY_4x16 (1) | F19: 823.535
D20: 823,535 | F20: 823.535
C21: Použití figury:
C22: 34111080 | D22: kabel instalační jádro Cu plné izolace PVC plášť PVC 450/750V (CYKY) 4x16mm2 | E22: m | F22: 823.535
C23: 460791213 | D23: Montáž trubek ochranných plastových uložených volně do rýhy ohebných přes 50 do 90 mm | E23: m | F23: 823.535
D24: Délka plotu dětského hřiště | F24: 52.264
D25: 52,264 | F25: 52.264
C26: Použití figury:
C27: 348181113 | D27: Montáž dřevěného oplocení z dílců v přes 1 do 1,5 m | E27: m | F27: 52.264
D28: DélkaRýh (1) | F28: 713.535
D29: 713,535 | F29: 713.535
C30: Použití figury:
C31: 210220001 | D31: Montáž uzemňovacího vedení vodičů FeZn pomocí svorek na povrchu páskou do 120 mm2 | E31: m | F31: 764.135
C32: 35442062 | D32: pás zemnící 30x4mm FeZn | E32: kg | F32: 642.182
C33: 460010002 | D33: Vytyčení trasy vedení vzdušného sdělovacího nebo ovládacího podél silnice | E33: km | F33: 0.714
C34: 460171142 | D34: Hloubení kabelových nezapažených rýh strojně š 35 cm hl 50 cm v hornině tř I skupiny 3 | E34: m | F34: 642.182
C35: 460321111 | D35: Vodorovné přemístění horniny jakékoliv třídy stavebním kolečkem při elektromontážích do 10 m | E35: m3 | F35: 19.979
C36: 460341112 | D36: Vodorovné přemístění horniny jakékoliv třídy dopravními prostředky při elektromontážích přes 50 do 500 m | E36: m3 | F36: 124.869
C37: 460371121 | D37: Naložení výkopku při elektromontážích strojně z hornin třídy I skupiny 1 až 3 | E37: m3 | F37: 274.711
C38: 460451122 | D38: Zásyp kabelových rýh strojně se zhutněním š 35 cm hl 20 cm z horniny tř I skupiny 3 | E38: m | F38: 713.535
C39: 460661111 | D39: Kabelové lože z písku pro kabely nn bez zakrytí š lože do 35 cm | E39: m | F39: 713.535
C40: 460671114 | D40: Výstražná fólie pro krytí kabelů šířky 40 cm | E40: m | F40: 713.535
D41: DélkaRýh_V1 (1) | F41: 713.535
D42: 713,535 | F42: 713.535
C43: Použití figury:
C44: 210812035 | D44: Montáž kabelu Cu plného nebo laněného do 1 kV žíly 4x16 mm2 (např. CYKY) bez ukončení uloženého volně nebo v liště | E44: m | F44: 823.535
...

Sheet Pokyny pro vyplnění
C3: Struktura údajů, formát souboru a metodika pro zpracování
C4: Struktura
C6: Soubor je složen ze záložky Rekapitulace stavby a záložek s názvem soupisu prací pro jednotlivé objekty ve formátu XLSX. Každá ze záložek přitom obsahuje
C7: ještě samostatné sestavy vymezené orámovaním a nadpisem sestavy.
C9: Rekapitulace stavby obsahuje sestavu Rekapitulace stavby a Rekapitulace objektů stavby a soupisů prací.
D10: V sestavě Rekapitulace stavby jsou uvedeny informace identifikující předmět veřejné zakázky na stavební práce, KSO, CZ-CC, CZ-CPV, CZ-CPA a rekapitulaci
D11: celkové nabídkové ceny účastníka.
D13: Termínem "učastník" (resp. zhotovitel) se myslí "účastník zadávacího řízení" ve smyslu zákona o zadávání veřejných zakázek.
D15: V sestavě Rekapitulace objektů stavby a soupisů prací je uvedena rekapitulace stavebních objektů, inženýrských objektů, provozních souborů,
D16: vedlejších a ostatních nákladů a ostatních nákladů s rekapitulací nabídkové ceny za jednotlivé soupisy prací. Na základě údaje Typ je možné
D17: identifikovat, zda se jedná o objekt nebo soupis prací pro daný objekt:
E18: STA | F18: Stavební objekt pozemní
E19: ING | F19: Stavební objekt inženýrský
E20: PRO | F20: Provozní soubor
E21: VON | F21: Vedlejší a ostatní náklady
E22: OST | F22: Ostatní
E23: Soupis | F23: Soupis prací pro daný typ objektu
C25: Soupis prací pro jednotlivé objekty obsahuje sestavy Krycí list soupisu prací, Rekapitulace členění soupisu prací, Soupis prací. Za soupis prací může být považován
C26: i objekt stavby v případě, že neobsahuje podřízenou zakázku.
D27: Krycí list soupisu obsahuje rekapitulaci informací o předmětu veřejné zakázky ze sestavy Rekapitulace stavby, informaci o zařazení objektu do KSO,
D28: CZ-CC, CZ-CPV, CZ-CPA a rekapitulaci celkové nabídkové ceny účastníka za aktuální soupis prací.
D30: Rekapitulace členění soupisu prací obsahuje rekapitulaci soupisu prací ve všech úrovních členění soupisu tak, jak byla tato členění použita (např.
D31: stavební díly, funkční díly, případně jiné členění) s rekapitulací nabídkové ceny.
D33: Soupis prací obsahuje položky veškerých stavebních nebo montážních prací, dodávek materiálů a služeb nezbytných pro zhotovení stavebního objektu,
D34: inženýrského objektu, provozního souboru, vedlejších a ostatních nákladů.
D35: Pro položky soupisu prací se zobrazují následující informace:
E36: PČ | G36: Pořadové číslo položky v aktuálním soupisu
E37: TYP | G37: Typ položky: K - konstrukce, M - materiál, PP - plný popis, PSC - poznámka k souboru cen, P - poznámka k položce, VV - výkaz výměr, FIG - rozpad figur
E38: Kód | G38: Kód položky
E39: Popis | G39: Zkrácený popis položky
E40: MJ | G40: Měrná jednotka položky
E41: Množství | G41: Množství v měrné jednotce
E42: J.cena | G42: Jednotková cena položky. Zadaní může obsahovat namísto J.ceny sloupce J.materiál a J.montáž, jejichž součet definuje
G43: J.cenu položky.
E44: Cena celkem | G44: Celková cena položky daná jako součin množství a j.ceny
E45: Cenová soustava | G45: Příslušnost položky do cenové soustavy
D47: Ke každé položce soupisu prací se na samostatných řádcích může zobrazovat:
E48: Plný popis položky
E49: Poznámka k souboru cen a poznámka zadavatele
E50: Výkaz výměr
...
