Workbook

Sheet Rekapitulace stavby
A1: Export Komplet | BA1: 2.0 | BB1: ZAMOK | BT1: False | BU1: False | BV1: {4c385341-2355-427e-98e6-7cf170c2c9f2}
BS2: 0,01 | BT2: 21
BS3: 0,01 | BT3: 12
D4: REKAPITULACE STAVBY | AS4: v --- níže se nacházejí doplnkové a pomocné údaje k sestavám --- v | BE4: Návod na vyplnění | BS4: 0,001
D5: Kód: | K5: 22019B-26/II | BE5: Měnit lze pouze buňky se žlutým podbarvením!_x000D_ _x000D_ 1) na prvním listu Rekapitulace stavby vyplňte v sestavě_x000D_ _x000D_ a) Souhrnný list_x000D_ - údaje o Uchazeči_x000D_ (přenesou se do ostatních sestav i v jiných listech)_x000D_ _x000D_ b) Rekapitulace objektů_x000D_ - potřebné Ostatní náklady_x000D_ _x000D_ 2) na vybraných listech vyplňte v sestavě_x000D_ _x000D_ a) Krycí list_x000D_ - údaje o Uchazeči, pokud se liší od údajů o Uchazeči na Souhrnném listu_x000D_ (údaje se přenesou do ostatních sestav v daném listu)_x000D_ _x000D_ b) Rekapitulace rozpočtu_x000D_ - potřebné Ostatní náklady_x000D_ _x000D_ c) Celkové náklady za stavbu_x000D_ - ceny u položek_x000D_ - množství, pokud má žluté podbarvení_x000D_ - a v případě potřeby poznámku (ta je ve skrytém sloupci) | BS5: 0,01
D6: Stavba: | K6: 22019B - č.p. 37 - Doubravice - Oprava obvodového pláště budova Obecního úřadu) | BS6: 0,01
D7: KSO: | AK7: CC-CZ: | BS7: 0,01
D8: Místo: | K8: Doubravice | AK8: Datum: | AN8: 8. 7. 2026 | BS8: 0,01
BS9: 0,01
D10: Zadavatel: | AK10: IČ: | AN10: 00275751 | BS10: 0,01
E11: Obec Hrubá Skála | AK11: DIČ: | AN11: CZ275751 | BS11: 0,01
BS12: 0,01
D13: Uchazeč: | AK13: IČ: | AN13: Vyplň údaj | BS13: 0,01
E14: Vyplň údaj | AK14: DIČ: | AN14: Vyplň údaj | BS14: 0,01
BS15: False
D16: Projektant: | AK16: IČ: | AN16: 46506942 | BS16: False
E17: PROFES PROJEKT spol. s r.o. | AK17: DIČ: | AN17: CZ46506942 | BS17: True
BS18: 0,01
D19: Zpracovatel: | AK19: IČ: | BS19: 0,01
AK20: DIČ: | BS20: True
D22: Poznámka:
E23: Případná jména výrobců a obchodní názvy u položek jsou pouze informativní, uvedené jako reference technických parametrů, vzájemné kompatibility zařízení a dostupnosti odborného servisu._x000D_ Lze použít výrobky ekvivalentních vlastností jiných výrobců._x000D_
D26: Cena bez DPH | AK26: =ROUND(AG94,2) -> 0
L28: Sazba daně | W28: Základ daně | AK28: Výše daně
D29: DPH | F29: základní | L29: 0.21 | W29: =ROUND(AZ94, 2) -> 0 | AK29: =ROUND(AV94, 2) -> 0
F30: snížená | L30: 0.12 | W30: =ROUND(BA94, 2) -> 0 | AK30: =ROUND(AW94, 2) -> 0
F31: zákl. přenesená | L31: 0.21 | W31: =ROUND(BB94, 2) -> 0 | AK31: 0
F32: sníž. přenesená | L32: 0.12 | W32: =ROUND(BC94, 2) -> 0 | AK32: 0
F33: nulová | L33: 0 | W33: =ROUND(BD94, 2) -> 0 | AK33: 0
D35: Cena s DPH | T35: v | X35: CZK | AK35: =SUM(AK26:AK33) -> 0
D49: Projektant | AH49: Zpracovatel
D60: Datum a podpis: | V60: Razítko | AH60: Datum a podpis: | AM60: Razítko
D64: Objednavatel | AH64: Uchazeč
D75: Datum a podpis: | V75: Razítko | AH75: Datum a podpis: | AM75: Razítko
C82: REKAPITULACE OBJEKTŮ STAVBY A SOUPISŮ PRACÍ
C84: Kód: | L84: =K5 -> 22019B-26/II
C85: Stavba: | L85: =K6 -> 22019B - č.p. 37 - Doubravice - Oprava obvodového pláště budova Obecního úřadu)
C87: Místo: | L87: =IF(K8="","",K8) -> Doubravice | AI87: Datum: | AM87: =IF(AN8= "","",AN8) -> 8. 7. 2026
C89: Zadavatel: | L89: =IF(E11= "","",E11) -> Obec Hrubá Skála | AI89: Projektant: | AM89: =IF(E17="","",E17) -> PROFES PROJEKT spol. s r.o. | AS89: Informatívní údaje z listů zakázek
C90: Uchazeč: | L90: =IF(E14= "Vyplň údaj","",E14) | AI90: Zpracovatel: | AM90: =IF(E20="","",E20)
...

Sheet 22019A-VRN - 22019A-VRN -...
AT2: {87c62674-e668-404f-8a94-ff0fd0129194}
AT3: 2
D4: KRYCÍ LIST SOUPISU PRACÍ | M4: v --- níže se nacházejí doplnkové a pomocné údaje k sestavám --- v | AT4: False
D6: Stavba:
E7: ='Rekapitulace stavby'!K6 -> 22019B - č.p. 37 - Doubravice - Oprava obvodového pláště budova Obecního úřadu)
D8: Objekt:
E9: 22019A-VRN - 22019A-VRN - Vedlejší rozpočtové náklady
D11: KSO: | I11: CC-CZ:
D12: Místo: | F12: Doubravice | I12: Datum: | J12: ='Rekapitulace stavby'!AN8 -> 8. 7. 2026
D14: Zadavatel: | I14: IČ:
E15: Obec Hrubá Skála | I15: DIČ:
D17: Uchazeč: | I17: IČ: | J17: ='Rekapitulace stavby'!AN13 -> Vyplň údaj
E18: ='Rekapitulace stavby'!E14 -> Vyplň údaj | I18: DIČ: | J18: ='Rekapitulace stavby'!AN14 -> Vyplň údaj
D20: Projektant: | I20: IČ: | J20: 46506942
E21: PROFES PROJEKT spol. s r.o. | I21: DIČ: | J21: CZ46506942
D23: Zpracovatel: | I23: IČ: | J23: =IF('Rekapitulace stavby'!AN19="","",'Rekapitulace stavby'!AN19)
E24: =IF('Rekapitulace stavby'!E20="","",'Rekapitulace stavby'!E20) | I24: DIČ: | J24: =IF('Rekapitulace stavby'!AN20="","",'Rekapitulace stavby'!AN20)
D26: Poznámka:
D30: Cena bez DPH | J30: =ROUND(J123, 2) -> 0
F32: Základ daně | I32: Sazba daně | J32: Výše daně
D33: DPH | E33: základní | F33: =ROUND((SUM(BE123:BE160)), 2) -> 0 | I33: 0.21 | J33: =ROUND(((SUM(BE123:BE160))*I33), 2) -> 0
E34: snížená | F34: =ROUND((SUM(BF123:BF160)), 2) -> 0 | I34: 0.12 | J34: =ROUND(((SUM(BF123:BF160))*I34), 2) -> 0
E35: zákl. přenesená | F35: =ROUND((SUM(BG123:BG160)), 2) -> 0 | I35: 0.21 | J35: =0 -> 0
E36: sníž. přenesená | F36: =ROUND((SUM(BH123:BH160)), 2) -> 0 | I36: 0.12 | J36: =0 -> 0
E37: nulová | F37: =ROUND((SUM(BI123:BI160)), 2) -> 0 | I37: 0 | J37: =0 -> 0
D39: Cena s DPH | G39: v | H39: CZK | J39: =SUM(J30:J37) -> 0
D50: Projektant | G50: Zpracovatel
D61: Datum a podpis: | F61: Razítko | G61: Datum a podpis: | J61: Razítko
D65: Objednavatel | G65: Uchazeč
D76: Datum a podpis: | F76: Razítko | G76: Datum a podpis: | J76: Razítko
C82: REKAPITULACE ČLENĚNÍ SOUPISU PRACÍ
C84: Stavba:
E85: =E7 -> 22019B - č.p. 37 - Doubravice - Oprava obvodového pláště budova Obecního úřadu)
C86: Objekt:
E87: =E9 -> 22019A-VRN - 22019A-VRN - Vedlejší rozpočtové náklady
C89: Místo: | F89: =F12 -> Doubravice | I89: Datum: | J89: =IF(J12="","",J12) -> 8. 7. 2026
C91: Zadavatel: | F91: =E15 -> Obec Hrubá Skála | I91: Projektant: | J91: =E21 -> PROFES PROJEKT spol. s r.o.
C92: Uchazeč: | F92: =IF(E18="","",E18) -> Vyplň údaj | I92: Zpracovatel: | J92: =E24
C94: Kód dílu - Popis | J94: Cena celkem [CZK]
C96: Náklady ze soupisu prací | J96: =J123 -> 0 | AU96: -1
...

Sheet 22019A-01 - 22019A-01 - D...
AT2: {6d935f6d-fb5b-4958-b1b3-bc7f6af0e558}
AT3: 2
D4: KRYCÍ LIST SOUPISU PRACÍ | M4: v --- níže se nacházejí doplnkové a pomocné údaje k sestavám --- v | AT4: False
D6: Stavba:
E7: ='Rekapitulace stavby'!K6 -> 22019B - č.p. 37 - Doubravice - Oprava obvodového pláště budova Obecního úřadu)
D8: Objekt:
E9: 22019A-01 - 22019A-01 - D.1.1 - Stavební část
D11: KSO: | I11: CC-CZ:
D12: Místo: | F12: Doubravice | I12: Datum: | J12: ='Rekapitulace stavby'!AN8 -> 8. 7. 2026
D14: Zadavatel: | I14: IČ:
E15: Obec Hrubá Skála | I15: DIČ:
D17: Uchazeč: | I17: IČ: | J17: ='Rekapitulace stavby'!AN13 -> Vyplň údaj
E18: ='Rekapitulace stavby'!E14 -> Vyplň údaj | I18: DIČ: | J18: ='Rekapitulace stavby'!AN14 -> Vyplň údaj
D20: Projektant: | I20: IČ: | J20: 46506942
E21: PROFES PROJEKT spol. s r.o. | I21: DIČ: | J21: CZ46506942
D23: Zpracovatel: | I23: IČ: | J23: =IF('Rekapitulace stavby'!AN19="","",'Rekapitulace stavby'!AN19)
E24: =IF('Rekapitulace stavby'!E20="","",'Rekapitulace stavby'!E20) | I24: DIČ: | J24: =IF('Rekapitulace stavby'!AN20="","",'Rekapitulace stavby'!AN20)
D26: Poznámka:
D30: Cena bez DPH | J30: =ROUND(J139, 2) -> 0
F32: Základ daně | I32: Sazba daně | J32: Výše daně
D33: DPH | E33: základní | F33: =ROUND((SUM(BE139:BE1175)), 2) -> 0 | I33: 0.21 | J33: =ROUND(((SUM(BE139:BE1175))*I33), 2) -> 0
E34: snížená | F34: =ROUND((SUM(BF139:BF1175)), 2) -> 0 | I34: 0.12 | J34: =ROUND(((SUM(BF139:BF1175))*I34), 2) -> 0
E35: zákl. přenesená | F35: =ROUND((SUM(BG139:BG1175)), 2) -> 0 | I35: 0.21 | J35: =0 -> 0
E36: sníž. přenesená | F36: =ROUND((SUM(BH139:BH1175)), 2) -> 0 | I36: 0.12 | J36: =0 -> 0
E37: nulová | F37: =ROUND((SUM(BI139:BI1175)), 2) -> 0 | I37: 0 | J37: =0 -> 0
D39: Cena s DPH | G39: v | H39: CZK | J39: =SUM(J30:J37) -> 0
D50: Projektant | G50: Zpracovatel
D61: Datum a podpis: | F61: Razítko | G61: Datum a podpis: | J61: Razítko
D65: Objednavatel | G65: Uchazeč
D76: Datum a podpis: | F76: Razítko | G76: Datum a podpis: | J76: Razítko
C82: REKAPITULACE ČLENĚNÍ SOUPISU PRACÍ
C84: Stavba:
E85: =E7 -> 22019B - č.p. 37 - Doubravice - Oprava obvodového pláště budova Obecního úřadu)
C86: Objekt:
E87: =E9 -> 22019A-01 - 22019A-01 - D.1.1 - Stavební část
C89: Místo: | F89: =F12 -> Doubravice | I89: Datum: | J89: =IF(J12="","",J12) -> 8. 7. 2026
C91: Zadavatel: | F91: =E15 -> Obec Hrubá Skála | I91: Projektant: | J91: =E21 -> PROFES PROJEKT spol. s r.o.
C92: Uchazeč: | F92: =IF(E18="","",E18) -> Vyplň údaj | I92: Zpracovatel: | J92: =E24
C94: Kód dílu - Popis | J94: Cena celkem [CZK]
C96: Náklady ze soupisu prací | J96: =J139 -> 0 | AU96: -1
...

Sheet 22019A-01-D.1.4 - 22019A-...
AT2: {bcd3a7a9-f3a5-4974-90d7-5822856f2a57}
AT3: 2
D4: KRYCÍ LIST SOUPISU PRACÍ | M4: v --- níže se nacházejí doplnkové a pomocné údaje k sestavám --- v | AT4: False
D6: Stavba:
E7: ='Rekapitulace stavby'!K6 -> 22019B - č.p. 37 - Doubravice - Oprava obvodového pláště budova Obecního úřadu)
D8: Objekt:
E9: 22019A-01-D.1.4 - 22019A-01-D.1.4.g - Ochrana před bleskem
D11: KSO: | I11: CC-CZ:
D12: Místo: | F12: Doubravice | I12: Datum: | J12: ='Rekapitulace stavby'!AN8 -> 8. 7. 2026
D14: Zadavatel: | I14: IČ:
E15: Obec Hrubá Skála | I15: DIČ:
D17: Uchazeč: | I17: IČ: | J17: ='Rekapitulace stavby'!AN13 -> Vyplň údaj
E18: ='Rekapitulace stavby'!E14 -> Vyplň údaj | I18: DIČ: | J18: ='Rekapitulace stavby'!AN14 -> Vyplň údaj
D20: Projektant: | I20: IČ: | J20: 46506942
E21: PROFES PROJEKT spol. s r.o. | I21: DIČ: | J21: CZ46506942
D23: Zpracovatel: | I23: IČ: | J23: =IF('Rekapitulace stavby'!AN19="","",'Rekapitulace stavby'!AN19)
E24: =IF('Rekapitulace stavby'!E20="","",'Rekapitulace stavby'!E20) | I24: DIČ: | J24: =IF('Rekapitulace stavby'!AN20="","",'Rekapitulace stavby'!AN20)
D26: Poznámka:
D30: Cena bez DPH | J30: =ROUND(J118, 2) -> 0
F32: Základ daně | I32: Sazba daně | J32: Výše daně
D33: DPH | E33: základní | F33: =ROUND((SUM(BE118:BE122)), 2) -> 0 | I33: 0.21 | J33: =ROUND(((SUM(BE118:BE122))*I33), 2) -> 0
E34: snížená | F34: =ROUND((SUM(BF118:BF122)), 2) -> 0 | I34: 0.12 | J34: =ROUND(((SUM(BF118:BF122))*I34), 2) -> 0
E35: zákl. přenesená | F35: =ROUND((SUM(BG118:BG122)), 2) -> 0 | I35: 0.21 | J35: =0 -> 0
E36: sníž. přenesená | F36: =ROUND((SUM(BH118:BH122)), 2) -> 0 | I36: 0.12 | J36: =0 -> 0
E37: nulová | F37: =ROUND((SUM(BI118:BI122)), 2) -> 0 | I37: 0 | J37: =0 -> 0
D39: Cena s DPH | G39: v | H39: CZK | J39: =SUM(J30:J37) -> 0
D50: Projektant | G50: Zpracovatel
D61: Datum a podpis: | F61: Razítko | G61: Datum a podpis: | J61: Razítko
D65: Objednavatel | G65: Uchazeč
D76: Datum a podpis: | F76: Razítko | G76: Datum a podpis: | J76: Razítko
C82: REKAPITULACE ČLENĚNÍ SOUPISU PRACÍ
C84: Stavba:
E85: =E7 -> 22019B - č.p. 37 - Doubravice - Oprava obvodového pláště budova Obecního úřadu)
C86: Objekt:
E87: =E9 -> 22019A-01-D.1.4 - 22019A-01-D.1.4.g - Ochrana před bleskem
C89: Místo: | F89: =F12 -> Doubravice | I89: Datum: | J89: =IF(J12="","",J12) -> 8. 7. 2026
C91: Zadavatel: | F91: =E15 -> Obec Hrubá Skála | I91: Projektant: | J91: =E21 -> PROFES PROJEKT spol. s r.o.
C92: Uchazeč: | F92: =IF(E18="","",E18) -> Vyplň údaj | I92: Zpracovatel: | J92: =E24
C94: Kód dílu - Popis | J94: Cena celkem [CZK]
C96: Náklady ze soupisu prací | J96: =J118 -> 0 | AU96: -1
...
