Workbook

Sheet Rekapitulace stavby
A1: Export Komplet | BA1: 2.0 | BB1: ZAMOK | BT1: False | BU1: False | BV1: {4c385341-2355-427e-98e6-7cf170c2c9f2}
BS2: 0,01 | BT2: 21
BS3: 0,01 | BT3: 12
D4: REKAPITULACE STAVBY | AS4: v --- níže se nacházejí doplnkové a pomocné údaje k sestavám --- v | BE4: Návod na vyplnění | BS4: 0,001
D5: Kód: | K5: 22019B-26/II | BE5: Měnit lze pouze buňky se žlutým podbarvením!_x000D_ _x000D_ 1) na prvním listu Rekapitulace stavby vyplňte v sestavě_x000D_ _x000D_ a) Souhrnný list_x000D_ - údaje o Uchazeči_x000D_ (přenesou se do ostatních sestav i v jiných listech)_x000D_ _x000D_ b) Rekapitulace objektů_x000D_ - potřebné Ostatní náklady_x000D_ _x000D_ 2) na vybraných listech vyplňte v sestavě_x000D_ _x000D_ a) Krycí list_x000D_ - údaje o Uchazeči, pokud se liší od údajů o Uchazeči na Souhrnném listu_x000D_ (údaje se přenesou do ostatních sestav v daném listu)_x000D_ _x000D_ b) Rekapitulace rozpočtu_x000D_ - potřebné Ostatní náklady_x000D_ _x000D_ c) Celkové náklady za stavbu_x000D_ - ceny u položek_x000D_ - množství, pokud má žluté podbarvení_x000D_ - a v případě potřeby poznámku (ta je ve skrytém sloupci) | BS5: 0,01
D6: Stavba: | K6: 22019B - č.p. 37 - Doubravice - Oprava obvodového pláště budova Obecního úřadu) | BS6: 0,01
D7: KSO: | AK7: CC-CZ: | BS7: 0,01
D8: Místo: | K8: Doubravice | AK8: Datum: | AN8: 8. 7. 2026 | BS8: 0,01
BS9: 0,01
D10: Zadavatel: | AK10: IČ: | AN10: 00275751 | BS10: 0,01
E11: Obec Hrubá Skála | AK11: DIČ: | AN11: CZ275751 | BS11: 0,01
BS12: 0,01
D13: Uchazeč: | AK13: IČ: | AN13: Vyplň údaj | BS13: 0,01
E14: Vyplň údaj | AK14: DIČ: | AN14: Vyplň údaj | BS14: 0,01
BS15: False
D16: Projektant: | AK16: IČ: | AN16: 46506942 | BS16: False
E17: PROFES PROJEKT spol. s r.o. | AK17: DIČ: | AN17: CZ46506942 | BS17: True
BS18: 0,01
D19: Zpracovatel: | AK19: IČ: | BS19: 0,01
AK20: DIČ: | BS20: True
D22: Poznámka:
E23: Případná jména výrobců a obchodní názvy u položek jsou pouze informativní, uvedené jako reference technických parametrů, vzájemné kompatibility zařízení a dostupnosti odborného servisu._x000D_ Lze použít výrobky ekvivalentních vlastností jiných výrobců._x000D_
D26: Cena bez DPH | AK26: =ROUND(AG94,2) -> 0
L28: Sazba daně | W28: Základ daně | AK28: Výše daně
D29: DPH | F29: základní | L29: 0.21 | W29: =ROUND(AZ94, 2) -> 0 | AK29: =ROUND(AV94, 2) -> 0
F30: snížená | L30: 0.12 | W30: =ROUND(BA94, 2) -> 0 | AK30: =ROUND(AW94, 2) -> 0
F31: zákl. přenesená | L31: 0.21 | W31: =ROUND(BB94, 2) -> 0 | AK31: 0
F32: sníž. přenesená | L32: 0.12 | W32: =ROUND(BC94, 2) -> 0 | AK32: 0
F33: nulová | L33: 0 | W33: =ROUND(BD94, 2) -> 0 | AK33: 0
D35: Cena s DPH | T35: v | X35: CZK | AK35: =SUM(AK26:AK33) -> 0
D49: Projektant | AH49: Zpracovatel
D60: Datum a podpis: | V60: Razítko | AH60: Datum a podpis: | AM60: Razítko
D64: Objednavatel | AH64: Uchazeč
D75: Datum a podpis: | V75: Razítko | AH75: Datum a podpis: | AM75: Razítko
C82: REKAPITULACE OBJEKTŮ STAVBY A SOUPISŮ PRACÍ
C84: Kód: | L84: =K5 -> 22019B-26/II
C85: Stavba: | L85: =K6 -> 22019B - č.p. 37 - Doubravice - Oprava obvodového pláště budova Obecního úřadu)
C87: Místo: | L87: =IF(K8="","",K8) -> Doubravice | AI87: Datum: | AM87: =IF(AN8= "","",AN8) -> 8. 7. 2026
C89: Zadavatel: | L89: =IF(E11= "","",E11) -> Obec Hrubá Skála | AI89: Projektant: | AM89: =IF(E17="","",E17) -> PROFES PROJEKT spol. s r.o. | AS89: Informatívní údaje z listů zakázek
C90: Uchazeč: | L90: =IF(E14= "Vyplň údaj","",E14) | AI90: Zpracovatel: | AM90: =IF(E20="","",E20)
C92: Kód | I92: Popis | AG92: Cena bez DPH [CZK] | AN92: Cena s DPH [CZK] | AQ92: Typ | AS92: z toho Ostat._x000D_ náklady [CZK] | AT92: DPH [CZK] | AU92: Normohodiny [h] | AV92: DPH základní [CZK] | AW92: DPH snížená [CZK] | AX92: DPH základní přenesená_x000D_ [CZK] | AY92: DPH snížená přenesená_x000D_ [CZK] | AZ92: Základna_x000D_ DPH základní | BA92: Základna_x000D_ DPH snížená | BB92: Základna_x000D_ DPH zákl. přenesená | BC92: Základna_x000D_ DPH sníž. přenesená | BD92: Základna_x000D_ DPH nulová
C94: Náklady z rozpočtů | AG94: =ROUND(SUM(AG95:AG97),2) -> 0 | AN94: =SUM(AG94,AT94) -> 0 | AS94: =ROUND(SUM(AS95:AS97),2) -> 0 | AT94: =ROUND(SUM(AV94:AW94),2) -> 0 | AU94: =ROUND(SUM(AU95:AU97),5) -> 0 | AV94: =ROUND(AZ94*L29,2) -> 0 | AW94: =ROUND(BA94*L30,2) -> 0 | AX94: =ROUND(BB94*L29,2) -> 0 | AY94: =ROUND(BC94*L30,2) -> 0 | AZ94: =ROUND(SUM(AZ95:AZ97),2) -> 0 | BA94: =ROUND(SUM(BA95:BA97),2) -> 0 | BB94: =ROUND(SUM(BB95:BB97),2) -> 0 | BC94: =ROUND(SUM(BC95:BC97),2) -> 0 | BD94: =ROUND(SUM(BD95:BD97),2) -> 0 | BS94: D | BT94: 0 | BU94: ###NOIMPORT### | BV94: IMPORT | BW94: {4c385341-2355-427e-98e6-7cf170c2c9f2} | BX94: {00000000-0000-0000-0000-000000000000}
A95: / | D95: 22019A-VRN | J95: 22019A-VRN - Vedlejší rozpočtové náklady | AG95: ='22019A-VRN - 22019A-VRN -...'!J30 -> 0 | AN95: =SUM(AG95,AT95) -> 0 | AQ95: STA | AS95: 0 | AT95: =ROUND(SUM(AV95:AW95),2) -> 0 | AU95: ='22019A-VRN - 22019A-VRN -...'!P123 -> 0 | AV95: ='22019A-VRN - 22019A-VRN -...'!J33 -> 0 | AW95: ='22019A-VRN - 22019A-VRN -...'!J34 -> 0 | AX95: ='22019A-VRN - 22019A-VRN -...'!J35 -> 0 | AY95: ='22019A-VRN - 22019A-VRN -...'!J36 -> 0 | AZ95: ='22019A-VRN - 22019A-VRN -...'!F33 -> 0 | BA95: ='22019A-VRN - 22019A-VRN -...'!F34 -> 0 | BB95: ='22019A-VRN - 22019A-VRN -...'!F35 -> 0 | BC95: ='22019A-VRN - 22019A-VRN -...'!F36 -> 0 | BD95: ='22019A-VRN - 22019A-VRN -...'!F37 -> 0 | BT95: 1 | BV95: IMPORT | BW95: {87c62674-e668-404f-8a94-ff0fd0129194} | BX95: {4c385341-2355-427e-98e6-7cf170c2c9f2} | CM95: 2
A96: / | D96: 22019A-01 | J96: 22019A-01 - D.1.1 - Stavební část | AG96: ='22019A-01 - 22019A-01 - D...'!J30 -> 0 | AN96: =SUM(AG96,AT96) -> 0 | AQ96: STA | AS96: 0 | AT96: =ROUND(SUM(AV96:AW96),2) -> 0 | AU96: ='22019A-01 - 22019A-01 - D...'!P139 -> 0 | AV96: ='22019A-01 - 22019A-01 - D...'!J33 -> 0 | AW96: ='22019A-01 - 22019A-01 - D...'!J34 -> 0 | AX96: ='22019A-01 - 22019A-01 - D...'!J35 -> 0 | AY96: ='22019A-01 - 22019A-01 - D...'!J36 -> 0 | AZ96: ='22019A-01 - 22019A-01 - D...'!F33 -> 0 | BA96: ='22019A-01 - 22019A-01 - D...'!F34 -> 0 | BB96: ='22019A-01 - 22019A-01 - D...'!F35 -> 0 | BC96: ='22019A-01 - 22019A-01 - D...'!F36 -> 0 | BD96: ='22019A-01 - 22019A-01 - D...'!F37 -> 0 | BT96: 1 | BV96: IMPORT | BW96: {6d935f6d-fb5b-4958-b1b3-bc7f6af0e558} | BX96: {4c385341-2355-427e-98e6-7cf170c2c9f2} | CM96: 2
A97: / | D97: 22019A-01-D.1.4 | J97: 22019A-01-D.1.4.g - Ochrana před bleskem | AG97: ='22019A-01-D.1.4 - 22019A-...'!J30 -> 0 | AN97: =SUM(AG97,AT97) -> 0 | AQ97: STA | AS97: 0 | AT97: =ROUND(SUM(AV97:AW97),2) -> 0 | AU97: ='22019A-01-D.1.4 - 22019A-...'!P118 -> 0 | AV97: ='22019A-01-D.1.4 - 22019A-...'!J33 -> 0 | AW97: ='22019A-01-D.1.4 - 22019A-...'!J34 -> 0 | AX97: ='22019A-01-D.1.4 - 22019A-...'!J35 -> 0 | AY97: ='22019A-01-D.1.4 - 22019A-...'!J36 -> 0 | AZ97: ='22019A-01-D.1.4 - 22019A-...'!F33 -> 0 | BA97: ='22019A-01-D.1.4 - 22019A-...'!F34 -> 0 | BB97: ='22019A-01-D.1.4 - 22019A-...'!F35 -> 0 | BC97: ='22019A-01-D.1.4 - 22019A-...'!F36 -> 0 | BD97: ='22019A-01-D.1.4 - 22019A-...'!F37 -> 0 | BT97: 1 | BV97: IMPORT | BW97: {bcd3a7a9-f3a5-4974-90d7-5822856f2a57} | BX97: {4c385341-2355-427e-98e6-7cf170c2c9f2} | CM97: 2

Sheet 22019A-VRN - 22019A-VRN -...
AT2: {87c62674-e668-404f-8a94-ff0fd0129194}
AT3: 2
D4: KRYCÍ LIST SOUPISU PRACÍ | M4: v --- níže se nacházejí doplnkové a pomocné údaje k sestavám --- v | AT4: False
D6: Stavba:
E7: ='Rekapitulace stavby'!K6 -> 22019B - č.p. 37 - Doubravice - Oprava obvodového pláště budova Obecního úřadu)
D8: Objekt:
E9: 22019A-VRN - 22019A-VRN - Vedlejší rozpočtové náklady
D11: KSO: | I11: CC-CZ:
D12: Místo: | F12: Doubravice | I12: Datum: | J12: ='Rekapitulace stavby'!AN8 -> 8. 7. 2026
D14: Zadavatel: | I14: IČ:
E15: Obec Hrubá Skála | I15: DIČ:
D17: Uchazeč: | I17: IČ: | J17: ='Rekapitulace stavby'!AN13 -> Vyplň údaj
E18: ='Rekapitulace stavby'!E14 -> Vyplň údaj | I18: DIČ: | J18: ='Rekapitulace stavby'!AN14 -> Vyplň údaj
D20: Projektant: | I20: IČ: | J20: 46506942
E21: PROFES PROJEKT spol. s r.o. | I21: DIČ: | J21: CZ46506942
D23: Zpracovatel: | I23: IČ: | J23: =IF('Rekapitulace stavby'!AN19="","",'Rekapitulace stavby'!AN19)
E24: =IF('Rekapitulace stavby'!E20="","",'Rekapitulace stavby'!E20) | I24: DIČ: | J24: =IF('Rekapitulace stavby'!AN20="","",'Rekapitulace stavby'!AN20)
D26: Poznámka:
D30: Cena bez DPH | J30: =ROUND(J123, 2) -> 0
F32: Základ daně | I32: Sazba daně | J32: Výše daně
D33: DPH | E33: základní | F33: =ROUND((SUM(BE123:BE160)), 2) -> 0 | I33: 0.21 | J33: =ROUND(((SUM(BE123:BE160))*I33), 2) -> 0
E34: snížená | F34: =ROUND((SUM(BF123:BF160)), 2) -> 0 | I34: 0.12 | J34: =ROUND(((SUM(BF123:BF160))*I34), 2) -> 0
E35: zákl. přenesená | F35: =ROUND((SUM(BG123:BG160)), 2) -> 0 | I35: 0.21 | J35: =0 -> 0
E36: sníž. přenesená | F36: =ROUND((SUM(BH123:BH160)), 2) -> 0 | I36: 0.12 | J36: =0 -> 0
E37: nulová | F37: =ROUND((SUM(BI123:BI160)), 2) -> 0 | I37: 0 | J37: =0 -> 0
D39: Cena s DPH | G39: v | H39: CZK | J39: =SUM(J30:J37) -> 0
D50: Projektant | G50: Zpracovatel
D61: Datum a podpis: | F61: Razítko | G61: Datum a podpis: | J61: Razítko
D65: Objednavatel | G65: Uchazeč
D76: Datum a podpis: | F76: Razítko | G76: Datum a podpis: | J76: Razítko
C82: REKAPITULACE ČLENĚNÍ SOUPISU PRACÍ
C84: Stavba:
E85: =E7 -> 22019B - č.p. 37 - Doubravice - Oprava obvodového pláště budova Obecního úřadu)
C86: Objekt:
E87: =E9 -> 22019A-VRN - 22019A-VRN - Vedlejší rozpočtové náklady
C89: Místo: | F89: =F12 -> Doubravice | I89: Datum: | J89: =IF(J12="","",J12) -> 8. 7. 2026
C91: Zadavatel: | F91: =E15 -> Obec Hrubá Skála | I91: Projektant: | J91: =E21 -> PROFES PROJEKT spol. s r.o.
C92: Uchazeč: | F92: =IF(E18="","",E18) -> Vyplň údaj | I92: Zpracovatel: | J92: =E24
C94: Kód dílu - Popis | J94: Cena celkem [CZK]
C96: Náklady ze soupisu prací | J96: =J123 -> 0 | AU96: -1
D97: HZS - Hodinové zúčtovací sazby | J97: =J124 -> 0
D98: N00 - Nepojmenované práce | J98: =J128 -> 0
D99: N01 - Nepojmenovaný díl | J99: =J129 -> 0
D100: VRN - Vedlejší rozpočtové náklady | J100: =J132 -> 0
D101: VRN1 - Průzkumné, geodetické a projektové práce | J101: =J133 -> 0
D102: VRN3 - Zařízení staveniště | J102: =J150 -> 0
D103: VRN4 - Inženýrská činnost | J103: =J157 -> 0
C110: SOUPIS PRACÍ
C112: Stavba:
E113: =E7 -> 22019B - č.p. 37 - Doubravice - Oprava obvodového pláště budova Obecního úřadu)
C114: Objekt:
E115: =E9 -> 22019A-VRN - 22019A-VRN - Vedlejší rozpočtové náklady
C117: Místo: | F117: =F12 -> Doubravice | I117: Datum: | J117: =IF(J12="","",J12) -> 8. 7. 2026
C119: Zadavatel: | F119: =E15 -> Obec Hrubá Skála | I119: Projektant: | J119: =E21 -> PROFES PROJEKT spol. s r.o.
C120: Uchazeč: | F120: =IF(E18="","",E18) -> Vyplň údaj | I120: Zpracovatel: | J120: =E24
C122: PČ | D122: Typ | E122: Kód | F122: Popis | G122: MJ | H122: Množství | I122: J.cena [CZK] | J122: Cena celkem [CZK] | K122: Cenová soustava | N122: DPH | O122: J. Nh [h] | P122: Nh celkem [h] | Q122: J. hmotnost [t] | R122: Hmotnost celkem [t] | S122: J. suť [t] | T122: Suť Celkem [t]
C123: Náklady soupisu celkem | J123: =BK123 -> 0 | P123: =P124+P128+P132 -> 0 | R123: =R124+R128+R132 -> 0 | T123: =T124+T128+T132 -> 0 | AT123: D | AU123: -1 | BK123: =BK124+BK128+BK132 -> 0
D124: D | E124: HZS | F124: Hodinové zúčtovací sazby | J124: =BK124 -> 0 | P124: =SUM(P125:P127) -> 0 | R124: =SUM(R125:R127) -> 0 | T124: =SUM(T125:T127) -> 0 | AR124: 4 | AT124: D | AU124: 0 | AY124: ROZPOCET | BK124: =SUM(BK125:BK127) -> 0
C125: 1 | D125: K | E125: HZS4111 | F125: Hodinová zúčtovací sazba jeřáb s obsluhou resp. dle požadavku zhotovitele | G125: hod | H125: 10 | J125: =ROUND(I125*H125,2) -> 0 | N125: základní | P125: =O125*H125 -> 0 | Q125: 0 | R125: =Q125*H125 -> 0 | S125: 0 | T125: =S125*H125 -> 0 | AR125: 512 | AT125: K | AU125: 1 | AY125: ROZPOCET | BE125: =IF(N125="základní",J125,0) -> 0 | BF125: =IF(N125="snížená",J125,0) -> 0 | BG125: =IF(N125="zákl. přenesená",J125,0) -> 0 | BH125: =IF(N125="sníž. přenesená",J125,0) -> 0 | BI125: =IF(N125="nulová",J125,0) -> 0 | BJ125: 1 | BK125: =ROUND(I125*H125,2) -> 0 | BL125: 512 | BM125: -1245903872
D126: PP | F126: Hodinová zúčtovací sazba jeřáb s obsluhou resp. dle požadavku zhotovitele | AT126: PP | AU126: 1
D127: Online PSC | F127: https://podminky.urs.cz/item/CS_URS_2023_02/HZS4111 | AT127: Online PSC | AU127: 1
D128: D | E128: N00 | F128: Nepojmenované práce | J128: =BK128 -> 0 | P128: =P129 -> 0 | R128: =R129 -> 0 | T128: =T129 -> 0 | AR128: 4 | AT128: D | AU128: 0 | AY128: ROZPOCET | BK128: =BK129 -> 0
D129: D | E129: N01 | F129: Nepojmenovaný díl | J129: =BK129 -> 0 | P129: =SUM(P130:P131) -> 0 | R129: =SUM(R130:R131) -> 0 | T129: =SUM(T130:T131) -> 0 | AR129: 4 | AT129: D | AU129: 1 | AY129: ROZPOCET | BK129: =SUM(BK130:BK131) -> 0
C130: 2 | D130: K | E130: 012503000 | F130: Vytyčení podzemních sítí a zařízení | G130: kpl | H130: 1 | J130: =ROUND(I130*H130,2) -> 0 | N130: základní | P130: =O130*H130 -> 0 | Q130: 0 | R130: =Q130*H130 -> 0 | S130: 0 | T130: =S130*H130 -> 0 | AR130: 1024 | AT130: K | AU130: 2 | AY130: ROZPOCET | BE130: =IF(N130="základní",J130,0) -> 0 | BF130: =IF(N130="snížená",J130,0) -> 0 | BG130: =IF(N130="zákl. přenesená",J130,0) -> 0 | BH130: =IF(N130="sníž. přenesená",J130,0) -> 0 | BI130: =IF(N130="nulová",J130,0) -> 0 | BJ130: 1 | BK130: =ROUND(I130*H130,2) -> 0 | BL130: 1024 | BM130: 1531456900
D131: PP | F131: Vytyčení podzemních sítí a zařízení | AT131: PP | AU131: 2
D132: D | E132: VRN | F132: Vedlejší rozpočtové náklady | J132: =BK132 -> 0 | P132: =P133+P150+P157 -> 0 | R132: =R133+R150+R157 -> 0 | T132: =T133+T150+T157 -> 0 | AR132: 5 | AT132: D | AU132: 0 | AY132: ROZPOCET | BK132: =BK133+BK150+BK157 -> 0
D133: D | E133: VRN1 | F133: Průzkumné, geodetické a projektové práce | J133: =BK133 -> 0 | P133: =SUM(P134:P149) -> 0 | R133: =SUM(R134:R149) -> 0 | T133: =SUM(T134:T149) -> 0 | AR133: 5 | AT133: D | AU133: 1 | AY133: ROZPOCET | BK133: =SUM(BK134:BK149) -> 0
C134: 3 | D134: K | E134: 013244000 | F134: Dokumentace pro provádění stavby - výrobní dokumentace - detaily řešení styku kcí nezjistitelných při zpracování PD | G134: kpl | H134: 1 | J134: =ROUND(I134*H134,2) -> 0 | N134: základní | P134: =O134*H134 -> 0 | Q134: 0 | R134: =Q134*H134 -> 0 | S134: 0 | T134: =S134*H134 -> 0 | AR134: 1024 | AT134: K | AU134: 2 | AY134: ROZPOCET | BE134: =IF(N134="základní",J134,0) -> 0 | BF134: =IF(N134="snížená",J134,0) -> 0 | BG134: =IF(N134="zákl. přenesená",J134,0) -> 0 | BH134: =IF(N134="sníž. přenesená",J134,0) -> 0 | BI134: =IF(N134="nulová",J134,0) -> 0 | BJ134: 1 | BK134: =ROUND(I134*H134,2) -> 0 | BL134: 1024 | BM134: -1504017475
D135: PP | F135: Dokumentace pro provádění stavby-výrobní dokumentace | AT135: PP | AU135: 2
D136: Online PSC | F136: https://podminky.urs.cz/item/CS_URS_2023_02/013244000 | AT136: Online PSC | AU136: 2
C137: 4 | D137: K | E137: 0132-44-001 | F137: Akustické trasování fasády | G137: kpl | H137: 1 | J137: =ROUND(I137*H137,2) -> 0 | N137: základní | P137: =O137*H137 -> 0 | Q137: 0 | R137: =Q137*H137 -> 0 | S137: 0 | T137: =S137*H137 -> 0 | AR137: 1024 | AT137: K | AU137: 2 | AY137: ROZPOCET | BE137: =IF(N137="základní",J137,0) -> 0 | BF137: =IF(N137="snížená",J137,0) -> 0 | BG137: =IF(N137="zákl. přenesená",J137,0) -> 0 | BH137: =IF(N137="sníž. přenesená",J137,0) -> 0 | BI137: =IF(N137="nulová",J137,0) -> 0 | BJ137: 1 | BK137: =ROUND(I137*H137,2) -> 0 | BL137: 1024 | BM137: 665233040
D138: PP | F138: Akustické trasování fasády | AT138: PP | AU138: 2
C139: 5 | D139: K | E139: 013254000 | F139: Dokumentace skutečného provedení stavby | G139: kpl | H139: 1 | J139: =ROUND(I139*H139,2) -> 0 | N139: základní | P139: =O139*H139 -> 0 | Q139: 0 | R139: =Q139*H139 -> 0 | S139: 0 | T139: =S139*H139 -> 0 | AR139: 1024 | AT139: K | AU139: 2 | AY139: ROZPOCET | BE139: =IF(N139="základní",J139,0) -> 0 | BF139: =IF(N139="snížená",J139,0) -> 0 | BG139: =IF(N139="zákl. přenesená",J139,0) -> 0 | BH139: =IF(N139="sníž. přenesená",J139,0) -> 0 | BI139: =IF(N139="nulová",J139,0) -> 0 | BJ139: 1 | BK139: =ROUND(I139*H139,2) -> 0 | BL139: 1024 | BM139: 1495292097
D140: PP | F140: Dokumentace skutečného provedení stavby | AT140: PP | AU140: 2
D141: Online PSC | F141: https://podminky.urs.cz/item/CS_URS_2023_02/013254000 | AT141: Online PSC | AU141: 2
C142: 6 | D142: K | E142: 013274000 | F142: Pasportizace objektu před započetím prací | G142: kpl | H142: 1 | J142: =ROUND(I142*H142,2) -> 0 | N142: základní | P142: =O142*H142 -> 0 | Q142: 0 | R142: =Q142*H142 -> 0 | S142: 0 | T142: =S142*H142 -> 0 | AR142: 1024 | AT142: K | AU142: 2 | AY142: ROZPOCET | BE142: =IF(N142="základní",J142,0) -> 0 | BF142: =IF(N142="snížená",J142,0) -> 0 | BG142: =IF(N142="zákl. přenesená",J142,0) -> 0 | BH142: =IF(N142="sníž. přenesená",J142,0) -> 0 | BI142: =IF(N142="nulová",J142,0) -> 0 | BJ142: 1 | BK142: =ROUND(I142*H142,2) -> 0 | BL142: 1024 | BM142: 90773962
D143: PP | F143: Pasportizace objektu před započetím prací | AT143: PP | AU143: 2
D144: Online PSC | F144: https://podminky.urs.cz/item/CS_URS_2023_02/013274000 | AT144: Online PSC | AU144: 2
C145: 7 | D145: K | E145: 013294000 | F145: Ostatní dokumentace - VÝROBNÍ DÍLENSKÁ, DETAILY - po zřízení lešení detailní zaměření prvků vč. nadstřešních (podklad pro repasi resp. repliku) | G145: kpl | H145: 1 | J145: =ROUND(I145*H145,2) -> 0 | N145: základní | P145: =O145*H145 -> 0 | Q145: 0 | R145: =Q145*H145 -> 0 | S145: 0 | T145: =S145*H145 -> 0 | AR145: 1024 | AT145: K | AU145: 2 | AY145: ROZPOCET | BE145: =IF(N145="základní",J145,0) -> 0 | BF145: =IF(N145="snížená",J145,0) -> 0 | BG145: =IF(N145="zákl. přenesená",J145,0) -> 0 | BH145: =IF(N145="sníž. přenesená",J145,0) -> 0 | BI145: =IF(N145="nulová",J145,0) -> 0 | BJ145: 1 | BK145: =ROUND(I145*H145,2) -> 0 | BL145: 1024 | BM145: 487022741
D146: PP | F146: Ostatní dokumentace | AT146: PP | AU146: 2
D147: Online PSC | F147: https://podminky.urs.cz/item/CS_URS_2023_02/013294000 | AT147: Online PSC | AU147: 2
D148: VV | F148: 1 | H148: 1 | AT148: VV | AU148: 2 | AV148: 2 | AW148: True | AX148: 0 | AY148: ROZPOCET
D149: VV | F149: Mezisoučet | H149: 1 | AT149: VV | AU149: 2 | AV149: 3 | AW149: True | AX149: 1 | AY149: ROZPOCET
D150: D | E150: VRN3 | F150: Zařízení staveniště | J150: =BK150 -> 0 | P150: =SUM(P151:P156) -> 0 | R150: =SUM(R151:R156) -> 0 | T150: =SUM(T151:T156) -> 0 | AR150: 5 | AT150: D | AU150: 1 | AY150: ROZPOCET | BK150: =SUM(BK151:BK156) -> 0
C151: 8 | D151: K | E151: 030001000 | F151: Zařízení staveniště | G151: kpl | H151: 1 | J151: =ROUND(I151*H151,2) -> 0 | N151: základní | P151: =O151*H151 -> 0 | Q151: 0 | R151: =Q151*H151 -> 0 | S151: 0 | T151: =S151*H151 -> 0 | AR151: 1024 | AT151: K | AU151: 2 | AY151: ROZPOCET | BE151: =IF(N151="základní",J151,0) -> 0 | BF151: =IF(N151="snížená",J151,0) -> 0 | BG151: =IF(N151="zákl. přenesená",J151,0) -> 0 | BH151: =IF(N151="sníž. přenesená",J151,0) -> 0 | BI151: =IF(N151="nulová",J151,0) -> 0 | BJ151: 1 | BK151: =ROUND(I151*H151,2) -> 0 | BL151: 1024 | BM151: 1217260321
D152: PP | F152: Zařízení staveniště | AT152: PP | AU152: 2
D153: Online PSC | F153: https://podminky.urs.cz/item/CS_URS_2023_02/030001000 | AT153: Online PSC | AU153: 2
C154: 9 | D154: K | E154: 034002000 | F154: Zabezpečení staveniště | G154: kpl | H154: 1 | J154: =ROUND(I154*H154,2) -> 0 | N154: základní | P154: =O154*H154 -> 0 | Q154: 0 | R154: =Q154*H154 -> 0 | S154: 0 | T154: =S154*H154 -> 0 | AR154: 1024 | AT154: K | AU154: 2 | AY154: ROZPOCET | BE154: =IF(N154="základní",J154,0) -> 0 | BF154: =IF(N154="snížená",J154,0) -> 0 | BG154: =IF(N154="zákl. přenesená",J154,0) -> 0 | BH154: =IF(N154="sníž. přenesená",J154,0) -> 0 | BI154: =IF(N154="nulová",J154,0) -> 0 | BJ154: 1 | BK154: =ROUND(I154*H154,2) -> 0 | BL154: 1024 | BM154: 2036093263
D155: PP | F155: Zabezpečení staveniště | AT155: PP | AU155: 2
D156: Online PSC | F156: https://podminky.urs.cz/item/CS_URS_2023_02/034002000 | AT156: Online PSC | AU156: 2
D157: D | E157: VRN4 | F157: Inženýrská činnost | J157: =BK157 -> 0 | P157: =SUM(P158:P160) -> 0 | R157: =SUM(R158:R160) -> 0 | T157: =SUM(T158:T160) -> 0 | AR157: 5 | AT157: D | AU157: 1 | AY157: ROZPOCET | BK157: =SUM(BK158:BK160) -> 0
C158: 10 | D158: K | E158: 043154000 | F158: Zkoušky hutnicí | G158: kpl | H158: 2 | J158: =ROUND(I158*H158,2) -> 0 | N158: základní | P158: =O158*H158 -> 0 | Q158: 0 | R158: =Q158*H158 -> 0 | S158: 0 | T158: =S158*H158 -> 0 | AR158: 1024 | AT158: K | AU158: 2 | AY158: ROZPOCET | BE158: =IF(N158="základní",J158,0) -> 0 | BF158: =IF(N158="snížená",J158,0) -> 0 | BG158: =IF(N158="zákl. přenesená",J158,0) -> 0 | BH158: =IF(N158="sníž. přenesená",J158,0) -> 0 | BI158: =IF(N158="nulová",J158,0) -> 0 | BJ158: 1 | BK158: =ROUND(I158*H158,2) -> 0 | BL158: 1024 | BM158: -1593951188
D159: PP | F159: Zkoušky hutnicí | AT159: PP | AU159: 2
D160: Online PSC | F160: https://podminky.urs.cz/item/CS_URS_2023_02/043154000 | AT160: Online PSC | AU160: 2

Sheet 22019A-01 - 22019A-01 - D...
AT2: {6d935f6d-fb5b-4958-b1b3-bc7f6af0e558}
AT3: 2
D4: KRYCÍ LIST SOUPISU PRACÍ | M4: v --- níže se nacházejí doplnkové a pomocné údaje k sestavám --- v | AT4: False
D6: Stavba:
E7: ='Rekapitulace stavby'!K6 -> 22019B - č.p. 37 - Doubravice - Oprava obvodového pláště budova Obecního úřadu)
D8: Objekt:
E9: 22019A-01 - 22019A-01 - D.1.1 - Stavební část
D11: KSO: | I11: CC-CZ:
D12: Místo: | F12: Doubravice | I12: Datum: | J12: ='Rekapitulace stavby'!AN8 -> 8. 7. 2026
D14: Zadavatel: | I14: IČ:
E15: Obec Hrubá Skála | I15: DIČ:
D17: Uchazeč: | I17: IČ: | J17: ='Rekapitulace stavby'!AN13 -> Vyplň údaj
E18: ='Rekapitulace stavby'!E14 -> Vyplň údaj | I18: DIČ: | J18: ='Rekapitulace stavby'!AN14 -> Vyplň údaj
D20: Projektant: | I20: IČ: | J20: 46506942
E21: PROFES PROJEKT spol. s r.o. | I21: DIČ: | J21: CZ46506942
D23: Zpracovatel: | I23: IČ: | J23: =IF('Rekapitulace stavby'!AN19="","",'Rekapitulace stavby'!AN19)
E24: =IF('Rekapitulace stavby'!E20="","",'Rekapitulace stavby'!E20) | I24: DIČ: | J24: =IF('Rekapitulace stavby'!AN20="","",'Rekapitulace stavby'!AN20)
D26: Poznámka:
D30: Cena bez DPH | J30: =ROUND(J139, 2) -> 0
F32: Základ daně | I32: Sazba daně | J32: Výše daně
D33: DPH | E33: základní | F33: =ROUND((SUM(BE139:BE1175)), 2) -> 0 | I33: 0.21 | J33: =ROUND(((SUM(BE139:BE1175))*I33), 2) -> 0
E34: snížená | F34: =ROUND((SUM(BF139:BF1175)), 2) -> 0 | I34: 0.12 | J34: =ROUND(((SUM(BF139:BF1175))*I34), 2) -> 0
E35: zákl. přenesená | F35: =ROUND((SUM(BG139:BG1175)), 2) -> 0 | I35: 0.21 | J35: =0 -> 0
E36: sníž. přenesená | F36: =ROUND((SUM(BH139:BH1175)), 2) -> 0 | I36: 0.12 | J36: =0 -> 0
E37: nulová | F37: =ROUND((SUM(BI139:BI1175)), 2) -> 0 | I37: 0 | J37: =0 -> 0
D39: Cena s DPH | G39: v | H39: CZK | J39: =SUM(J30:J37) -> 0
D50: Projektant | G50: Zpracovatel
D61: Datum a podpis: | F61: Razítko | G61: Datum a podpis: | J61: Razítko
D65: Objednavatel | G65: Uchazeč
D76: Datum a podpis: | F76: Razítko | G76: Datum a podpis: | J76: Razítko
C82: REKAPITULACE ČLENĚNÍ SOUPISU PRACÍ
C84: Stavba:
E85: =E7 -> 22019B - č.p. 37 - Doubravice - Oprava obvodového pláště budova Obecního úřadu)
C86: Objekt:
E87: =E9 -> 22019A-01 - 22019A-01 - D.1.1 - Stavební část
C89: Místo: | F89: =F12 -> Doubravice | I89: Datum: | J89: =IF(J12="","",J12) -> 8. 7. 2026
C91: Zadavatel: | F91: =E15 -> Obec Hrubá Skála | I91: Projektant: | J91: =E21 -> PROFES PROJEKT spol. s r.o.
C92: Uchazeč: | F92: =IF(E18="","",E18) -> Vyplň údaj | I92: Zpracovatel: | J92: =E24
C94: Kód dílu - Popis | J94: Cena celkem [CZK]
C96: Náklady ze soupisu prací | J96: =J139 -> 0 | AU96: -1
D97: HSV - Práce a dodávky HSV | J97: =J140 -> 0
D98: 1 - Zemní práce | J98: =J141 -> 0
D99: 2 - Zakládání | J99: =J223 -> 0
D100: 5 - Komunikace pozemní | J100: =J244 -> 0
D101: 6 - Úpravy povrchů, podlahy a osazování výplní | J101: =J251 -> 0
D102: 8 - Trubní vedení | J102: =J398 -> 0
D103: 9 - Ostatní konstrukce a práce, bourání | J103: =J414 -> 0
D104: 997 - Přesun sutě | J104: =J484 -> 0
D105: 998 - Přesun hmot | J105: =J517 -> 0
D106: 9A - Kamenické prvky | J106: =J521 -> 0
D107: PSV - Práce a dodávky PSV | J107: =J599 -> 0
D108: 711 - Izolace proti vodě, vlhkosti a plynům | J108: =J600 -> 0
D109: 712 - Povlakové krytiny | J109: =J609 -> 0
D110: 741 - Elektroinstalace - silnoproud | J110: =J623 -> 0
D111: 762 - Konstrukce tesařské | J111: =J630 -> 0
D112: 764 - Konstrukce klempířské - měď | J112: =J801 -> 0
D113: 765 - Krytina skládaná | J113: =J945 -> 0
D114: 766 - Konstrukce truhlářské | J114: =J1000 -> 0
D115: 767 - Konstrukce zámečnické | J115: =J1004 -> 0
D116: 783 - Dokončovací práce - nátěry | J116: =J1058 -> 0
D117: N00 - Nepojmenované práce | J117: =J1173 -> 0
D118: N01 - Nepojmenovaný díl | J118: =J1174 -> 0
D119: VRN - Vedlejší rozpočtové náklady | J119: =J1175 -> 0
C126: SOUPIS PRACÍ
C128: Stavba:
E129: =E7 -> 22019B - č.p. 37 - Doubravice - Oprava obvodového pláště budova Obecního úřadu)
C130: Objekt:
E131: =E9 -> 22019A-01 - 22019A-01 - D.1.1 - Stavební část
C133: Místo: | F133: =F12 -> Doubravice | I133: Datum: | J133: =IF(J12="","",J12) -> 8. 7. 2026
C135: Zadavatel: | F135: =E15 -> Obec Hrubá Skála | I135: Projektant: | J135: =E21 -> PROFES PROJEKT spol. s r.o.
C136: Uchazeč: | F136: =IF(E18="","",E18) -> Vyplň údaj | I136: Zpracovatel: | J136: =E24
C138: PČ | D138: Typ | E138: Kód | F138: Popis | G138: MJ | H138: Množství | I138: J.cena [CZK] | J138: Cena celkem [CZK] | K138: Cenová soustava | N138: DPH | O138: J. Nh [h] | P138: Nh celkem [h] | Q138: J. hmotnost [t] | R138: Hmotnost celkem [t] | S138: J. suť [t] | T138: Suť Celkem [t]
C139: Náklady soupisu celkem | J139: =BK139 -> 0 | P139: =P140+P599+P1173+P1175 -> 0 | R139: =R140+R599+R1173+R1175 -> 493.03813 | T139: =T140+T599+T1173+T1175 -> 27.50858 | AT139: D | AU139: -1 | BK139: =BK140+BK599+BK1173+BK1175 -> 0
D140: D | E140: HSV | F140: Práce a dodávky HSV | J140: =BK140 -> 0 | P140: =P141+P223+P244+P251+P398+P414+P484+P517+P521 -> 0 | R140: =R141+R223+R244+R251+R398+R414+R484+R517+R521 -> 442.0644 | T140: =T141+T223+T244+T251+T398+T414+T484+T517+T521 -> 13.768 | AR140: 1 | AT140: D | AU140: 0 | AY140: ROZPOCET | BK140: =BK141+BK223+BK244+BK251+BK398+BK414+BK484+BK517+BK521 -> 0
D141: D | E141: 1 | F141: Zemní práce | J141: =BK141 -> 0 | P141: =SUM(P142:P222) -> 0 | R141: =SUM(R142:R222) -> 426.00716 | T141: =SUM(T142:T222) -> 3.52 | AR141: 1 | AT141: D | AU141: 1 | AY141: ROZPOCET | BK141: =SUM(BK142:BK222) -> 0
C142: 1 | D142: K | E142: 111211101 | F142: Odstranění křovin a stromů průměru kmene do 100 mm i s kořeny sklonu terénu do 1:5 ručně | G142: m2 | H142: 2 | J142: =ROUND(I142*H142,2) -> 0 | N142: základní | P142: =O142*H142 -> 0 | Q142: 0 | R142: =Q142*H142 -> 0 | S142: 0 | T142: =S142*H142 -> 0 | AR142: 4 | AT142: K | AU142: 2 | AY142: ROZPOCET | BE142: =IF(N142="základní",J142,0) -> 0 | BF142: =IF(N142="snížená",J142,0) -> 0 | BG142: =IF(N142="zákl. přenesená",J142,0) -> 0 | BH142: =IF(N142="sníž. přenesená",J142,0) -> 0 | BI142: =IF(N142="nulová",J142,0) -> 0 | BJ142: 1 | BK142: =ROUND(I142*H142,2) -> 0 | BL142: 4 | BM142: 2141216243
D143: PP | F143: Odstranění křovin a stromů s odstraněním kořenů ručně průměru kmene do 100 mm jakékoliv plochy v rovině nebo ve svahu o sklonu do 1:5 | AT143: PP | AU143: 2
D144: Online PSC | F144: https://podminky.urs.cz/item/CS_URS_2023_02/111211101 | AT144: Online PSC | AU144: 2
C145: 2 | D145: K | E145: 113107142 | F145: Odstranění podkladu živičného tl přes 50 do 100 mm ručně | G145: m2 | H145: 16 | J145: =ROUND(I145*H145,2) -> 0 | N145: základní | P145: =O145*H145 -> 0 | Q145: 0 | R145: =Q145*H145 -> 0 | S145: 0.22 | T145: =S145*H145 -> 3.52 | AR145: 4 | AT145: K | AU145: 2 | AY145: ROZPOCET | BE145: =IF(N145="základní",J145,0) -> 0 | BF145: =IF(N145="snížená",J145,0) -> 0 | BG145: =IF(N145="zákl. přenesená",J145,0) -> 0 | BH145: =IF(N145="sníž. přenesená",J145,0) -> 0 | BI145: =IF(N145="nulová",J145,0) -> 0 | BJ145: 1 | BK145: =ROUND(I145*H145,2) -> 0 | BL145: 4 | BM145: -1220319541
D146: PP | F146: Odstranění podkladů nebo krytů ručně s přemístěním hmot na skládku na vzdálenost do 3 m nebo s naložením na dopravní prostředek živičných, o tl. vrstvy přes 50 do 100 mm | AT146: PP | AU146: 2
D147: Online PSC | F147: https://podminky.urs.cz/item/CS_URS_2023_02/113107142 | AT147: Online PSC | AU147: 2
C148: 3 | D148: K | E148: 122252203 | F148: Odkopávky a prokopávky nezapažené pro silnice a dálnice v hornině třídy těžitelnosti I objem do 100 m3 strojně | G148: m3 | H148: 6 | J148: =ROUND(I148*H148,2) -> 0 | N148: základní | P148: =O148*H148 -> 0 | Q148: 0 | R148: =Q148*H148 -> 0 | S148: 0 | T148: =S148*H148 -> 0 | AR148: 4 | AT148: K | AU148: 2 | AY148: ROZPOCET | BE148: =IF(N148="základní",J148,0) -> 0 | BF148: =IF(N148="snížená",J148,0) -> 0 | BG148: =IF(N148="zákl. přenesená",J148,0) -> 0 | BH148: =IF(N148="sníž. přenesená",J148,0) -> 0 | BI148: =IF(N148="nulová",J148,0) -> 0 | BJ148: 1 | BK148: =ROUND(I148*H148,2) -> 0 | BL148: 4 | BM148: -1621365821
D149: PP | F149: Odkopávky a prokopávky nezapažené pro silnice a dálnice strojně v hornině třídy těžitelnosti I do 100 m3 | AT149: PP | AU149: 2
D150: Online PSC | F150: https://podminky.urs.cz/item/CS_URS_2023_02/122252203 | AT150: Online PSC | AU150: 2
D151: VV | F151: 24*0,25 | H151: 6 | AT151: VV | AU151: 2 | AV151: 2 | AW151: True | AX151: 0 | AY151: ROZPOCET
D152: VV | F152: Mezisoučet | H152: 6 | AT152: VV | AU152: 2 | AV152: 3 | AW152: True | AX152: 1 | AY152: ROZPOCET
C153: 4 | D153: K | E153: 132151104 | F153: Hloubení rýh nezapažených š do 800 mm v hornině třídy těžitelnosti I skupiny 1 a 2 objem přes 100 m3 strojně | G153: m3 | H153: 221.58 | J153: =ROUND(I153*H153,2) -> 0 | N153: základní | P153: =O153*H153 -> 0 | Q153: 0 | R153: =Q153*H153 -> 0 | S153: 0 | T153: =S153*H153 -> 0 | AR153: 4 | AT153: K | AU153: 2 | AY153: ROZPOCET | BE153: =IF(N153="základní",J153,0) -> 0 | BF153: =IF(N153="snížená",J153,0) -> 0 | BG153: =IF(N153="zákl. přenesená",J153,0) -> 0 | BH153: =IF(N153="sníž. přenesená",J153,0) -> 0 | BI153: =IF(N153="nulová",J153,0) -> 0 | BJ153: 1 | BK153: =ROUND(I153*H153,2) -> 0 | BL153: 4 | BM153: -314223068
D154: PP | F154: Hloubení nezapažených rýh šířky do 800 mm strojně s urovnáním dna do předepsaného profilu a spádu v hornině třídy těžitelnosti I skupiny 1 a 2 přes 100 m3 | AT154: PP | AU154: 2
D155: Online PSC | F155: https://podminky.urs.cz/item/CS_URS_2023_02/132151104 | AT155: Online PSC | AU155: 2
D156: VV | F156: 213 | H156: 213 | AT156: VV | AU156: 2 | AV156: 2 | AW156: True | AX156: 0 | AY156: ROZPOCET
D157: VV | F157: Mezisoučet výkop kolem objektu | H157: 213 | AT157: VV | AU157: 2 | AV157: 3 | AW157: True | AX157: 0 | AY157: ROZPOCET
D158: VV | F158: (7,5+6,8)*0,6*1 | H158: 8.58 | AT158: VV | AU158: 2 | AV158: 2 | AW158: True | AX158: 0 | AY158: ROZPOCET
D159: VV | F159: Mezisoučet dešťová a splašková kanalizace | H159: 8.58 | AT159: VV | AU159: 2 | AV159: 3 | AW159: True | AX159: 0 | AY159: ROZPOCET
D160: VV | F160: Součet | H160: 221.58 | AT160: VV | AU160: 2 | AV160: 4 | AW160: True | AX160: 1 | AY160: ROZPOCET
C161: 5 | D161: K | E161: 132151104-cz | F161: očištění zdiva zákl.kcí od zeminy | G161: m2 | H161: 129.75 | J161: =ROUND(I161*H161,2) -> 0 | N161: základní | P161: =O161*H161 -> 0 | Q161: 0 | R161: =Q161*H161 -> 0 | S161: 0 | T161: =S161*H161 -> 0 | AR161: 4 | AT161: K | AU161: 2 | AY161: ROZPOCET | BE161: =IF(N161="základní",J161,0) -> 0 | BF161: =IF(N161="snížená",J161,0) -> 0 | BG161: =IF(N161="zákl. přenesená",J161,0) -> 0 | BH161: =IF(N161="sníž. přenesená",J161,0) -> 0 | BI161: =IF(N161="nulová",J161,0) -> 0 | BJ161: 1 | BK161: =ROUND(I161*H161,2) -> 0 | BL161: 4 | BM161: -1829446293
D162: PP | F162: očištění zdiva zákl.kcí od zeminy | AT162: PP | AU162: 2
D163: VV | F163: 1,5*(6,3+9+4,5+3+5,5+7,7+1,5+4+8+9,5+6,5+21) | H163: 129.75 | AT163: VV | AU163: 2 | AV163: 2 | AW163: True | AX163: 0 | AY163: ROZPOCET
D164: VV | F164: Mezisoučet výkop kolem objektu | H164: 129.75 | AT164: VV | AU164: 2 | AV164: 3 | AW164: True | AX164: 1 | AY164: ROZPOCET
C165: 6 | D165: K | E165: 133151101 | F165: Hloubení šachet nezapažených v hornině třídy těžitelnosti I skupiny 1 a 2 objem do 20 m3 (základ pro stožáry) | G165: m3 | H165: 7.68 | J165: =ROUND(I165*H165,2) -> 0 | N165: základní | P165: =O165*H165 -> 0 | Q165: 0 | R165: =Q165*H165 -> 0 | S165: 0 | T165: =S165*H165 -> 0 | AR165: 4 | AT165: K | AU165: 2 | AY165: ROZPOCET | BE165: =IF(N165="základní",J165,0) -> 0 | BF165: =IF(N165="snížená",J165,0) -> 0 | BG165: =IF(N165="zákl. přenesená",J165,0) -> 0 | BH165: =IF(N165="sníž. přenesená",J165,0) -> 0 | BI165: =IF(N165="nulová",J165,0) -> 0 | BJ165: 1 | BK165: =ROUND(I165*H165,2) -> 0 | BL165: 4 | BM165: -1065842298
D166: PP | F166: Hloubení nezapažených šachet strojně v hornině třídy těžitelnosti I skupiny 1 a 2 do 20 m3 | AT166: PP | AU166: 2
...

Sheet 22019A-01-D.1.4 - 22019A-...
AT2: {bcd3a7a9-f3a5-4974-90d7-5822856f2a57}
AT3: 2
D4: KRYCÍ LIST SOUPISU PRACÍ | M4: v --- níže se nacházejí doplnkové a pomocné údaje k sestavám --- v | AT4: False
D6: Stavba:
E7: ='Rekapitulace stavby'!K6 -> 22019B - č.p. 37 - Doubravice - Oprava obvodového pláště budova Obecního úřadu)
D8: Objekt:
E9: 22019A-01-D.1.4 - 22019A-01-D.1.4.g - Ochrana před bleskem
D11: KSO: | I11: CC-CZ:
D12: Místo: | F12: Doubravice | I12: Datum: | J12: ='Rekapitulace stavby'!AN8 -> 8. 7. 2026
D14: Zadavatel: | I14: IČ:
E15: Obec Hrubá Skála | I15: DIČ:
D17: Uchazeč: | I17: IČ: | J17: ='Rekapitulace stavby'!AN13 -> Vyplň údaj
E18: ='Rekapitulace stavby'!E14 -> Vyplň údaj | I18: DIČ: | J18: ='Rekapitulace stavby'!AN14 -> Vyplň údaj
D20: Projektant: | I20: IČ: | J20: 46506942
E21: PROFES PROJEKT spol. s r.o. | I21: DIČ: | J21: CZ46506942
D23: Zpracovatel: | I23: IČ: | J23: =IF('Rekapitulace stavby'!AN19="","",'Rekapitulace stavby'!AN19)
E24: =IF('Rekapitulace stavby'!E20="","",'Rekapitulace stavby'!E20) | I24: DIČ: | J24: =IF('Rekapitulace stavby'!AN20="","",'Rekapitulace stavby'!AN20)
D26: Poznámka:
D30: Cena bez DPH | J30: =ROUND(J118, 2) -> 0
F32: Základ daně | I32: Sazba daně | J32: Výše daně
D33: DPH | E33: základní | F33: =ROUND((SUM(BE118:BE122)), 2) -> 0 | I33: 0.21 | J33: =ROUND(((SUM(BE118:BE122))*I33), 2) -> 0
E34: snížená | F34: =ROUND((SUM(BF118:BF122)), 2) -> 0 | I34: 0.12 | J34: =ROUND(((SUM(BF118:BF122))*I34), 2) -> 0
E35: zákl. přenesená | F35: =ROUND((SUM(BG118:BG122)), 2) -> 0 | I35: 0.21 | J35: =0 -> 0
E36: sníž. přenesená | F36: =ROUND((SUM(BH118:BH122)), 2) -> 0 | I36: 0.12 | J36: =0 -> 0
E37: nulová | F37: =ROUND((SUM(BI118:BI122)), 2) -> 0 | I37: 0 | J37: =0 -> 0
D39: Cena s DPH | G39: v | H39: CZK | J39: =SUM(J30:J37) -> 0
D50: Projektant | G50: Zpracovatel
D61: Datum a podpis: | F61: Razítko | G61: Datum a podpis: | J61: Razítko
D65: Objednavatel | G65: Uchazeč
D76: Datum a podpis: | F76: Razítko | G76: Datum a podpis: | J76: Razítko
C82: REKAPITULACE ČLENĚNÍ SOUPISU PRACÍ
C84: Stavba:
E85: =E7 -> 22019B - č.p. 37 - Doubravice - Oprava obvodového pláště budova Obecního úřadu)
C86: Objekt:
E87: =E9 -> 22019A-01-D.1.4 - 22019A-01-D.1.4.g - Ochrana před bleskem
C89: Místo: | F89: =F12 -> Doubravice | I89: Datum: | J89: =IF(J12="","",J12) -> 8. 7. 2026
C91: Zadavatel: | F91: =E15 -> Obec Hrubá Skála | I91: Projektant: | J91: =E21 -> PROFES PROJEKT spol. s r.o.
C92: Uchazeč: | F92: =IF(E18="","",E18) -> Vyplň údaj | I92: Zpracovatel: | J92: =E24
C94: Kód dílu - Popis | J94: Cena celkem [CZK]
C96: Náklady ze soupisu prací | J96: =J118 -> 0 | AU96: -1
D97: PSV - Práce a dodávky PSV | J97: =J119 -> 0
D98: 741 - Elektroinstalace - silnoproud | J98: =J120 -> 0
C105: SOUPIS PRACÍ
C107: Stavba:
E108: =E7 -> 22019B - č.p. 37 - Doubravice - Oprava obvodového pláště budova Obecního úřadu)
C109: Objekt:
E110: =E9 -> 22019A-01-D.1.4 - 22019A-01-D.1.4.g - Ochrana před bleskem
C112: Místo: | F112: =F12 -> Doubravice | I112: Datum: | J112: =IF(J12="","",J12) -> 8. 7. 2026
C114: Zadavatel: | F114: =E15 -> Obec Hrubá Skála | I114: Projektant: | J114: =E21 -> PROFES PROJEKT spol. s r.o.
C115: Uchazeč: | F115: =IF(E18="","",E18) -> Vyplň údaj | I115: Zpracovatel: | J115: =E24
C117: PČ | D117: Typ | E117: Kód | F117: Popis | G117: MJ | H117: Množství | I117: J.cena [CZK] | J117: Cena celkem [CZK] | K117: Cenová soustava | N117: DPH | O117: J. Nh [h] | P117: Nh celkem [h] | Q117: J. hmotnost [t] | R117: Hmotnost celkem [t] | S117: J. suť [t] | T117: Suť Celkem [t]
C118: Náklady soupisu celkem | J118: =BK118 -> 0 | P118: =P119 -> 0 | R118: =R119 -> 0 | T118: =T119 -> 0 | AT118: D | AU118: -1 | BK118: =BK119 -> 0
D119: D | E119: PSV | F119: Práce a dodávky PSV | J119: =BK119 -> 0 | P119: =P120 -> 0 | R119: =R120 -> 0 | T119: =T120 -> 0 | AR119: 2 | AT119: D | AU119: 0 | AY119: ROZPOCET | BK119: =BK120 -> 0
D120: D | E120: 741 | F120: Elektroinstalace - silnoproud | J120: =BK120 -> 0 | P120: =SUM(P121:P122) -> 0 | R120: =SUM(R121:R122) -> 0 | T120: =SUM(T121:T122) -> 0 | AR120: 2 | AT120: D | AU120: 1 | AY120: ROZPOCET | BK120: =SUM(BK121:BK122) -> 0
C121: 1 | D121: K | E121: R-741-A.00-1001 | F121: Ochrana před bleskem - viz samostatný výkaz | G121: kpl | H121: 1 | J121: =ROUND(I121*H121,2) -> 0 | N121: základní | P121: =O121*H121 -> 0 | Q121: 0 | R121: =Q121*H121 -> 0 | S121: 0 | T121: =S121*H121 -> 0 | AR121: 16 | AT121: K | AU121: 2 | AY121: ROZPOCET | BE121: =IF(N121="základní",J121,0) -> 0 | BF121: =IF(N121="snížená",J121,0) -> 0 | BG121: =IF(N121="zákl. přenesená",J121,0) -> 0 | BH121: =IF(N121="sníž. přenesená",J121,0) -> 0 | BI121: =IF(N121="nulová",J121,0) -> 0 | BJ121: 1 | BK121: =ROUND(I121*H121,2) -> 0 | BL121: 16 | BM121: 222936253
D122: PP | F122: Ochrana před bleskem - viz samostatný výkaz | AT122: PP | AU122: 2
