Workbook

Sheet ÚVOD
A6: ROZPOČET STAVBY
A30: Stupeň projektové dokumentace:
A45: Celkový počet listů:

Sheet SOUHRNNÝ LIST STAVBY
A1: SOUHRNNÝ LIST STAVBY
A2: Kód stavby : | B2: Název stavby : | E2: Datum:
B3: ZÁKL ŠKOLA MOCHOV PŘÍSTAVBA TĚLOCVIČNY | E3: 02/2025
A4: Místo stavby:
A5: MOCHOV č.p.287
A6: Projektant : | E6: IČO :
A7: Hana Pavlíčková | E7: DIČ :
A8: Objednatel : | E8: IČO :
A9: obec Mochov, Sokolovská 92 | E9: DIČ :
A10: Zpracovatel : | E10: IČO :
E11: DIČ :
A12: Zhotovitel : | E12: IČO :
E13: DIČ :
A14: ROZPOČTOVÉ NÁKLADY
A15: Základní rozpočtové náklady (ZRN) | E15: ='KRYCÍ LIST SO-01'!E20+'KRYCÍ LIST SO-02'!E20+'KRYCÍ LIST SO-03'!E20+'KRYCÍ LIST SO-04'!E20 -> 0 | G15: Kč
A16: Průzkumné, geodetické a projektové práce + Technologie + Mobiliář | E16: =SUM('KRYCÍ LIST SO-01'!E21:'KRYCÍ LIST SO-01'!E23)+SUM('KRYCÍ LIST SO-02'!E21:'KRYCÍ LIST SO-02'!E23)+SUM('KRYCÍ LIST SO-03'!E21:'KRYCÍ LIST SO-03'!E23)+SUM('KRYCÍ LIST SO-04'!E21:'KRYCÍ LIST SO-04'!E23) -> 0 | G16: Kč
A17: Vedlejší rozpočtové náklady (VRN) | E17: ='KRYCÍ LIST SO-01'!E25+'KRYCÍ LIST SO-02'!E25+'KRYCÍ LIST SO-03'!E25+'KRYCÍ LIST SO-04'!E25 -> 0 | G17: Kč
A18: Ostatní rozpočtové náklady (ORN) | E18: ='KRYCÍ LIST SO-01'!E26+'KRYCÍ LIST SO-02'!E26+'KRYCÍ LIST SO-03'!E26+'KRYCÍ LIST SO-04'!E26 -> 0 | G18: Kč
A19: Doplňkové rozpočtové náklady (DRN) | E19: ='KRYCÍ LIST SO-01'!E27+'KRYCÍ LIST SO-02'!E27+'KRYCÍ LIST SO-03'!E27+'KRYCÍ LIST SO-04'!E27 -> 0 | G19: Kč
A21: Cena bez DPH | E21: ='KRYCÍ LIST SO-01'!E28+'KRYCÍ LIST SO-02'!E28+'KRYCÍ LIST SO-03'!E28+'KRYCÍ LIST SO-04'!E28 -> 0 | G21: Kč
A23: Základ pro DPH | D23: 21% činí : | E23: ='KRYCÍ LIST SO-01'!H35+'KRYCÍ LIST SO-02'!H35+'KRYCÍ LIST SO-03'!H35+'KRYCÍ LIST SO-04'!H35 -> 0 | G23: Kč
A24: DPH | D24: 21% činí : | E24: ='KRYCÍ LIST SO-01'!H36+'KRYCÍ LIST SO-02'!H36+'KRYCÍ LIST SO-03'!H36+'KRYCÍ LIST SO-04'!H36 -> 0 | G24: Kč
A25: Základ pro DPH | D25: 12% činí : | E25: ='KRYCÍ LIST SO-01'!H37+'KRYCÍ LIST SO-02'!H37+'KRYCÍ LIST SO-03'!H37+'KRYCÍ LIST SO-04'!H37 -> 0 | G25: Kč
A26: DPH | D26: 12% činí : | E26: ='KRYCÍ LIST SO-01'!H38+'KRYCÍ LIST SO-02'!H38+'KRYCÍ LIST SO-03'!H38+'KRYCÍ LIST SO-04'!H38 -> 0 | G26: Kč
A27: CENA CELKEM VČETNĚ DPH: | E27: =SUM(E23:E26) -> 0 | G27: Kč
A29: Projektant: | D29: Zpracovatel:
A37: Datum, razítko, podpis | D37: Datum, razítko, podpis
A39: Objednatel: | D39: Zhotovitel:
A47: Datum, razítko, podpis | D47: Datum, razítko, podpis

Sheet REKAPITULACE OBJEKTŮ STAVBY
A1: REKAPITULACE OBJEKTŮ STAVBY
A2: Kód stavby : | B2: Název stavby : | E2: Datum:
B3: ZÁKL ŠKOLA MOCHOV PŘÍSTAVBA TĚLOCVIČNY | E3: 02/2025
A4: Místo stavby: | B4: MOCHOV č.p.287
A5: Projektant: | B5: Hana Pavlíčková
A6: Objednatel: | B6: obec Mochov, Sokolovská 92
A7: Zpracovatel:
A8: Zhotovitel:
A9: NÁKLADY ZA JEDNOTLIVÉ STAVEBNÍ OBJEKTY
A10: Kód objektu | B10: Název objektu | C10: KSO | D10: Cena bez DPH (Kč) | E10: Cena s DPH (Kč)
A11: SO-01 | B11: ODSTRANĚNÍ STAVBY | D11: ='KRYCÍ LIST SO-01'!E28 -> 0 | E11: ='KRYCÍ LIST SO-01'!H39 -> 0
A12: SO-02 | B12: NOVÁ TĚLOCVIČNA | D12: ='KRYCÍ LIST SO-02'!E28 -> 0 | E12: ='KRYCÍ LIST SO-02'!H39 -> 0
A13: SO-03 | B13: VENKOVNI ROZVODY SITI | D13: ='KRYCÍ LIST SO-03'!E28 -> 0 | E13: ='KRYCÍ LIST SO-03'!H39 -> 0
A14: SO-04 | B14: VENKOVNÍ SPORTOVIŠTĚ | D14: ='KRYCÍ LIST SO-04'!E28 -> 0 | E14: ='KRYCÍ LIST SO-04'!H39 -> 0
A15: CENA ZA STAVBU CELKEM | D15: =SUM(D11:D14) -> 0 | E15: =SUM(E11:E14) -> 0

Sheet KRYCÍ LIST SO-01
A1: KRYCÍ LIST ROZPOČTU
A3: Kód objektu: | E3: Název objektu: | K3: KSO: | M3: Cenová úroveň:
A4: SO-01 | E4: ODSTRANĚNÍ STAVBY | M4: 2025/II
A5: Kód stavby: | E5: Název stavby: | K5: SKP: | M5: Účelová M.J:
E6: ZÁKL ŠKOLA MOCHOV PŘÍSTAVBA TĚLOCVIČNY
A7: Projektant: | D7: Hana Pavlíčková | H7: Počet účel. měrných jednotek:
A8: Objednatel: | D8: obec Mochov, Sokolovská 92 | H8: Náklady na měrnou jednotku: | M8: =IF(M7=0,"",E28/M7)
A9: Počet listů: | H9: Zakázkové čís.:
A10: Zpracovatel: | H10: Zhotovitel:
A12: ROZPOČTOVÉ NÁKLADY
A13: Základní rozpočtové náklady (ZRN) | G13: Vedlejší rozpočtové náklady (VRN)
B14: Dodávka celkem | E14: ='REKAPITULACE SO-01'!C21 -> 0 | G14: Ztížené výrobní podmínky | L14: % | M14: =E20*K14/100 -> 0
B15: Montáž celkem | E15: ='REKAPITULACE SO-01'!D21 -> 0 | G15: Oborová přirážka | L15: % | M15: =E20*K15/100 -> 0
A16: Z | B16: HSV celkem | E16: ='REKAPITULACE SO-01'!E12 -> 0 | G16: Přesun stavebních kapacit | L16: % | M16: =E20*K16/100 -> 0
A17: R | B17: PSV celkem | E17: ='REKAPITULACE SO-01'!E19 -> 0 | G17: Mimostaveništní doprava | K17: 3.5 | L17: % | M17: =E20*K17/100 -> 0
A18: N | B18: Instalace | E18: 0 | G18: Zařízení staveniště | K18: 2.5 | L18: % | M18: =E20*K18/100 -> 0
A19: : | B19: Montáže | E19: 0 | G19: Provoz investora | K19: 1 | L19: % | M19: =E20*K19/100 -> 0
A20: ZRN celkem | E20: =SUM(E16:E19) -> 0 | G20: Kompletační činnost | K20: 2 | L20: % | M20: =E20*K20/100 -> 0
A21: I: Projektové práce | E21: 0 | G21: Ostatní VRN | L21: % | M21: =E20*K21/100 -> 0
A22: II: Technologie | E22: 0 | G22: Rezerva | L22: % | M22: =E20*K22/100 -> 0
A23: VII: Mobiliář | E23: 0 | L23: % | M23: =E20*K23/100 -> 0
A24: ZRN+I+II+VII | E24: =SUM(E20:E23) -> 0 | G24: Ostatní rozpočtové náklady (ORN)
A25: VRN celkem | E25: =SUM(M14:M23) -> 0 | L25: % | M25: =E20*K25/100 -> 0
A26: ORN celkem | E26: =SUM(M25:M26) -> 0 | L26: % | M26: =E20*K26/100 -> 0
A27: DRN celkem | E27: =SUM(M28:M28) -> 0 | G27: Doplňkové rozpočtové náklady (DRN)
A28: Náklady celkem | E28: =SUM(E24:E27) -> 0 | L28: % | M28: =E20*K28/100 -> 0
A29: Vypracoval | E29: Za zhotovitele | H29: Za objednatele
E30: Jméno: | H30: Jméno:
A31: Datum: | E31: Datum: | H31: Datum:
E32: Podpis: | H32: Podpis:
A35: Základ pro DPH | E35: 21 | G35: % činí : | H35: =E28-H37 -> 0 | M35: Kč
A36: DPH | E36: 21 | G36: % činí : | H36: =H35*E36/100 -> 0 | M36: Kč
A37: Základ pro DPH | E37: 12 | G37: % činí : | H37: 0 | M37: Kč
A38: DPH | E38: 12 | G38: % činí : | H38: =H37*E38/100 -> 0 | M38: Kč
A39: CENA ZA OBJEKT CELKEM VČETNĚ DPH: | H39: =SUM(H35:H38) -> 0 | M39: Kč

Sheet REKAPITULACE SO-01
A1: Stavba : - ZÁKL ŠKOLA MOCHOV PŘÍSTAVBA TĚLOCVIČNY | D1: Cenová úroveň : 2025/II
A2: Objekt : SO-01 - ODSTRANĚNÍ STAVBY | D2: Datum zpracování :
A4: REKAPITULACE ROZPOČTU
A6: Oddíl | B6: Název oddílu / řemeslného oboru | C6: CENA BEZ DPH
C7: Dodávka | D7: Montáž | E7: Celkem
B8: HSV:
A9: 1 | B9: Zemní práce | C9: ='ROZPOČET SO-01'!G14 -> 0 | D9: ='ROZPOČET SO-01'!I14 -> 0 | E9: =C9+D9 -> 0
A10: 94 | B10: Lešení a stavební výtahy | C10: ='ROZPOČET SO-01'!G19 -> 0 | D10: ='ROZPOČET SO-01'!I19 -> 0 | E10: =C10+D10 -> 0
A11: 96 | B11: Bourání konstrukcí | C11: ='ROZPOČET SO-01'!G51 -> 0 | D11: ='ROZPOČET SO-01'!I51 -> 0 | E11: =C11+D11 -> 0
B12: HSV CELKEM | C12: =SUM(C9:C11) -> 0 | D12: =SUM(D9:D11) -> 0 | E12: =SUM(E9:E11) -> 0
B14: PSV:
A15: 712 | B15: Povlakové krytiny | C15: ='ROZPOČET SO-01'!G61 -> 0 | D15: ='ROZPOČET SO-01'!I61 -> 0 | E15: =C15+D15 -> 0
A16: 713 | B16: Izolace tepelné | C16: ='ROZPOČET SO-01'!G64 -> 0 | D16: ='ROZPOČET SO-01'!I64 -> 0 | E16: =C16+D16 -> 0
A17: 762 | B17: Konstrukce tesařské | C17: ='ROZPOČET SO-01'!G70 -> 0 | D17: ='ROZPOČET SO-01'!I70 -> 0 | E17: =C17+D17 -> 0
A18: 765 | B18: Tvrdé krytiny | C18: ='ROZPOČET SO-01'!G76 -> 0 | D18: ='ROZPOČET SO-01'!I76 -> 0 | E18: =C18+D18 -> 0
B19: PSV CELKEM | C19: =SUM(C15:C18) -> 0 | D19: =SUM(D15:D18) -> 0 | E19: =SUM(E15:E18) -> 0
B21: Základní rozpočtové náklady stavebního objektu celkem | C21: =C12+C19 -> 0 | D21: =D12+D19 -> 0 | E21: =E12+E19 -> 0

Sheet ROZPOČET SO-01
A1: Stavba : - ZÁKL ŠKOLA MOCHOV PŘÍSTAVBA TĚLOCVIČNY | J1: Cenová úroveň : 2025/II
A2: Objekt : SO-01 - ODSTRANĚNÍ STAVBY | J2: Datum zpracování :
A4: POLOŽKOVÝ ROZPOČET S VÝKAZEM VÝMĚR
A6: Poř. | B6: Kód položky | C6: Text položky | D6: M.J. | E6: Množství | F6: CENA | J6: HMOTNOST
A7: čís. | F7: Dodávka | H7: Montáž
A8: pol. | F8: jednotková | G8: celková | H8: jednotková | I8: celková | J8: jednotková | K8: celková
A9: 1. | B9: 2. | C9: 3. | D9: 4. | E9: 5. | F9: 6. | G9: 7. | H9: 8. | I9: 9. | J9: 10. | K9: 11.
C10: HSV:
B11: oddíl 1 | C11: Zemní práce:
A12: 1 | B12: C-130901121-0 | C12: BOURANI VE VYKOP KOMP BET PROSTY | D12: M3 | E12: 10.96 | G12: =E12*F12 -> 0 | I12: =E12*H12 -> 0 | J12: 0 | K12: =E12*J12 -> 0
B13: množství = | C13: 1,0*1,0*1,2*6+4,7*0,5*0,8*2
B14: 1 | C14: ZEMNÍ PRÁCE CELKEM | G14: =SUM(G12:G13) -> 0 | I14: =SUM(I12:I13) -> 0 | K14: =SUM(K12:K13) -> 0
B15: oddíl 94 | C15: Lešení a stavební výtahy:
A16: =A12+1 -> 2 | B16: C-941941031-0 | C16: MTZ LESENI LEH RAD PRIME S 1M H 10M | D16: M2 | E16: 520 | G16: =E16*F16 -> 0 | I16: =E16*H16 -> 0 | J16: 4.7e-07 | K16: =E16*J16 -> 0.0002444
A17: =A16+1 -> 3 | B17: C-941941191-0 | C17: PRIPL ZK MESIC POUZ LESENI K POL 1031 | D17: M2 | E17: 520 | G17: =E17*F17 -> 0 | I17: =E17*H17 -> 0 | J17: 0.00141851 | K17: =E17*J17 -> 0.7376252
A18: =A17+1 -> 4 | B18: C-941941831-0 | C18: DMTZ LESENI L RAD PRIME S 1M H 10M | D18: M2 | E18: 520 | G18: =E18*F18 -> 0 | I18: =E18*H18 -> 0 | J18: 0 | K18: =E18*J18 -> 0
B19: 94 | C19: LEŠENÍ A STAVEBNÍ VÝTAHY CELKEM | G19: =SUM(G16:G18) -> 0 | I19: =SUM(I16:I18) -> 0 | K19: =SUM(K16:K18) -> 0.7378696
B20: oddíl 96 | C20: Bourání konstrukcí:
A21: =A18+1 -> 5 | B21: C-981131311-0 | C21: DEMOLICE HAL POST ROZ PODIL 10% | D21: M3OP | E21: 1302.6532 | G21: =E21*F21 -> 0 | I21: =E21*H21 -> 0 | J21: 0.15013752 | K21: =E21*J21 -> 195.57712
B22: množství = | C22: 13,06*12,46*7,0+(4,7*5,8)*3,0*2
A23: =A21+1 -> 6 | B23: C-979081022-0 | C23: NAKLADKA HMOT V PYTLICH K ODVOZU | D23: T | E23: 12.718 | G23: =E23*F23 -> 0 | I23: =E23*H23 -> 0 | J23: 0 | K23: =E23*J23 -> 0
A24: =A23+1 -> 7 | B24: C-979011213-0 | C24: SVISLA DOPR NOSENIM AZBESTU ZA 1.PODL | D24: T | E24: 12.718 | G24: =E24*F24 -> 0 | I24: =E24*H24 -> 0 | J24: 0 | K24: =E24*J24 -> 0
A25: =A24+1 -> 8 | B25: C-979011285-0 | C25: PRIPL ZKD NADZ PODL AZBESTOVYCH HMOT | D25: T | E25: 12.718 | G25: =E25*F25 -> 0 | I25: =E25*H25 -> 0 | J25: 0 | K25: =E25*J25 -> 0
A26: =A25+1 -> 9 | B26: C-979081093-0 | C26: PRIPL ZKD 10M VOD NOSENI AZBEST HMOT | D26: T | E26: 12.718 | G26: =E26*F26 -> 0 | I26: =E26*H26 -> 0 | J26: 0 | K26: =E26*J26 -> 0
A27: =A26+1 -> 10 | B27: C-979081013-0 | C27: NOSENI K NAKLADCE DO 10M AZBEST HMOT | D27: T | E27: 12.718 | G27: =E27*F27 -> 0 | I27: =E27*H27 -> 0 | J27: 0 | K27: =E27*J27 -> 0
A28: =A27+1 -> 11 | B28: C-979081113-0 | C28: ODVOZ AZBEST HMOT NA SKLADKU DO 1KM | D28: T | E28: 12.718 | G28: =E28*F28 -> 0 | I28: =E28*H28 -> 0 | J28: 0 | K28: =E28*J28 -> 0
A29: =A28+1 -> 12 | B29: C-979081123-0 | C29: PRIPL ZKD 1KM ODVOZU AZBESTU NA SKLAD | D29: T | E29: 305.232 | G29: =E29*F29 -> 0 | I29: =E29*H29 -> 0 | J29: 0 | K29: =E29*J29 -> 0
B30: množství = | C30: 12,718*24
A31: =A29+1 -> 13 | B31: C-979081133-0 | C31: SKLADKOVNE NEBEZPECNY ODPAD [AZBEST] | D31: T | E31: 12.718 | G31: =E31*F31 -> 0 | I31: =E31*H31 -> 0 | J31: 0 | K31: =E31*J31 -> 0
A32: =A31+1 -> 14 | B32: C-979011285-0 | C32: PRIPL ZKD NADZ PODL AZBESTOVYCH HMOT | D32: T | E32: 12.718 | G32: =E32*F32 -> 0 | I32: =E32*H32 -> 0 | J32: 0 | K32: =E32*J32 -> 0
A33: =A32+1 -> 15 | B33: C-979087212-0 | C33: NAKLADANI NA DOPR PROSTR SUTI | D33: T | E33: 219.689 | G33: =E33*F33 -> 0 | I33: =E33*H33 -> 0 | J33: 0 | K33: =E33*J33 -> 0
B34: množství = | C34: 195,577+10,96*2,2
A35: =A33+1 -> 16 | B35: C-979011212-0 | C35: SVISLA DOPR NOSENIM VYB HM ZA 1.PODL | D35: T | E35: 7.698 | G35: =E35*F35 -> 0 | I35: =E35*H35 -> 0 | J35: 0 | K35: =E35*J35 -> 0
A36: =A35+1 -> 17 | B36: C-979011222-0 | C36: SVISLA DOPR OS VYTAH VYB HM ZA 1.PODL | D36: T | E36: 11.2 | G36: =E36*F36 -> 0 | I36: =E36*H36 -> 0 | J36: 0 | K36: =E36*J36 -> 0
B37: množství = | C37: 7,698+0,382+3,12
A38: =A36+1 -> 18 | B38: C-979081012-0 | C38: NOSENI K NAKLADCE DO 10M VYBOUR HMOT | D38: T | E38: 11.2 | G38: =E38*F38 -> 0 | I38: =E38*H38 -> 0 | J38: 0 | K38: =E38*J38 -> 0
A39: =A38+1 -> 19 | B39: C-979081092-0 | C39: PRIPL ZKD 10M VOD NOSENI VYBOUR HMOT | D39: T | E39: 11.2 | G39: =E39*F39 -> 0 | I39: =E39*H39 -> 0 | J39: 0 | K39: =E39*J39 -> 0
A40: =A39+1 -> 20 | B40: C-979081102-0 | C40: NAKLADKA DO KONTEJN RUCNI VYBOUR HMOT | D40: T | E40: 11.2 | G40: =E40*F40 -> 0 | I40: =E40*H40 -> 0 | J40: 0 | K40: =E40*J40 -> 0
A41: =A40+1 -> 21 | B41: C-979081112-0 | C41: ODVOZ VYBOUR HMOT NA SKLADKU DO 1KM | D41: T | E41: 11.2 | G41: =E41*F41 -> 0 | I41: =E41*H41 -> 0 | J41: 0 | K41: =E41*J41 -> 0
A42: =A41+1 -> 22 | B42: C-979081122-0 | C42: PRIPL ZKD 1KM ODVOZU VYB HMOT NA SKL | D42: T | E42: 268.8 | G42: =E42*F42 -> 0 | I42: =E42*H42 -> 0 | J42: 0 | K42: =E42*J42 -> 0
...

Sheet KRYCÍ LIST SO-02
A1: KRYCÍ LIST ROZPOČTU
A3: Kód objektu: | E3: Název objektu: | K3: KSO: | M3: Cenová úroveň:
A4: SO-02 | E4: NOVÁ TĚLOCVIČNA | M4: 2025/II
A5: Kód stavby: | E5: Název stavby: | K5: SKP: | M5: Účelová M.J:
E6: ZÁKL ŠKOLA MOCHOV PŘÍSTAVBA TĚLOCVIČNY
A7: Projektant: | D7: Hana Pavlíčková | H7: Počet účel. měrných jednotek:
A8: Objednatel: | D8: obec Mochov, Sokolovská 92 | H8: Náklady na měrnou jednotku: | M8: =IF(M7=0,"",E28/M7)
A9: Počet listů: | H9: Zakázkové čís.:
A10: Zpracovatel: | H10: Zhotovitel:
A12: ROZPOČTOVÉ NÁKLADY
A13: Základní rozpočtové náklady (ZRN) | G13: Vedlejší rozpočtové náklady (VRN)
B14: Dodávka celkem | E14: ='REKAPITULACE SO-02'!C47 -> 0 | G14: Ztížené výrobní podmínky | L14: % | M14: =E20*K14/100 -> 0
B15: Montáž celkem | E15: ='REKAPITULACE SO-02'!D47 -> 0 | G15: Oborová přirážka | L15: % | M15: =E20*K15/100 -> 0
A16: Z | B16: HSV celkem | E16: ='REKAPITULACE SO-02'!E21 -> 0 | G16: Přesun stavebních kapacit | L16: % | M16: =E20*K16/100 -> 0
A17: R | B17: PSV celkem | E17: ='REKAPITULACE SO-02'!E36 -> 0 | G17: Mimostaveništní doprava | K17: 3.5 | L17: % | M17: =E20*K17/100 -> 0
A18: N | B18: Instalace | E18: ='REKAPITULACE SO-02'!E41 -> 0 | G18: Zařízení staveniště | K18: 2.5 | L18: % | M18: =E20*K18/100 -> 0
A19: : | B19: Montáže | E19: ='REKAPITULACE SO-02'!E45 -> 0 | G19: Provoz investora | K19: 1 | L19: % | M19: =E20*K19/100 -> 0
A20: ZRN celkem | E20: =SUM(E16:E19) -> 0 | G20: Kompletační činnost | K20: 2 | L20: % | M20: =E20*K20/100 -> 0
A21: I: Projektové práce | E21: 0 | G21: Ostatní VRN | L21: % | M21: =E20*K21/100 -> 0
A22: II: Technologie | E22: 0 | G22: Rezerva | L22: % | M22: =E20*K22/100 -> 0
A23: VII: Mobiliář | E23: 0 | L23: % | M23: =E20*K23/100 -> 0
A24: ZRN+I+II+VII | E24: =SUM(E20:E23) -> 0 | G24: Ostatní rozpočtové náklady (ORN)
A25: VRN celkem | E25: =SUM(M14:M23) -> 0 | L25: % | M25: =E20*K25/100 -> 0
A26: ORN celkem | E26: =SUM(M25:M26) -> 0 | L26: % | M26: =E20*K26/100 -> 0
A27: DRN celkem | E27: =SUM(M28:M28) -> 0 | G27: Doplňkové rozpočtové náklady (DRN)
A28: Náklady celkem | E28: =SUM(E24:E27) -> 0 | L28: % | M28: =E20*K28/100 -> 0
A29: Vypracoval | E29: Za zhotovitele | H29: Za objednatele
E30: Jméno: | H30: Jméno:
A31: Datum: | E31: Datum: | H31: Datum:
E32: Podpis: | H32: Podpis:
A35: Základ pro DPH | E35: 21 | G35: % činí : | H35: =E28-H37 -> 0 | M35: Kč
A36: DPH | E36: 21 | G36: % činí : | H36: =H35*E36/100 -> 0 | M36: Kč
A37: Základ pro DPH | E37: 12 | G37: % činí : | H37: 0 | M37: Kč
A38: DPH | E38: 12 | G38: % činí : | H38: =H37*E38/100 -> 0 | M38: Kč
A39: CENA ZA OBJEKT CELKEM VČETNĚ DPH: | H39: =SUM(H35:H38) -> 0 | M39: Kč

Sheet REKAPITULACE SO-02
A1: Stavba : - ZÁKL ŠKOLA MOCHOV PŘÍSTAVBA TĚLOCVIČNY | D1: Cenová úroveň : 2025/II
A2: Objekt : SO-02 - NOVÁ TĚLOCVIČNA | D2: Datum zpracování :
A4: REKAPITULACE ROZPOČTU
A6: Oddíl | B6: Název oddílu / řemeslného oboru | C6: CENA BEZ DPH
C7: Dodávka | D7: Montáž | E7: Celkem
B8: HSV:
A9: 1 | B9: Zemní práce | C9: ='ROZPOČET SO-02'!G19 -> 0 | D9: ='ROZPOČET SO-02'!I19 -> 0 | E9: =C9+D9 -> 0
A10: 2 | B10: Základy a zvláštní zakládání | C10: ='ROZPOČET SO-02'!G30 -> 0 | D10: ='ROZPOČET SO-02'!I30 -> 0 | E10: =C10+D10 -> 0
A11: 3 | B11: Svislé konstrukce | C11: ='ROZPOČET SO-02'!G47 -> 0 | D11: ='ROZPOČET SO-02'!I47 -> 0 | E11: =C11+D11 -> 0
A12: 4 | B12: Vodorovné konstrukce | C12: ='ROZPOČET SO-02'!G56 -> 0 | D12: ='ROZPOČET SO-02'!I56 -> 0 | E12: =C12+D12 -> 0
A13: 5 | B13: Komunikace | C13: ='ROZPOČET SO-02'!G59 -> 0 | D13: ='ROZPOČET SO-02'!I59 -> 0 | E13: =C13+D13 -> 0
A14: 61 | B14: Úpravy povrchů vnitřní | C14: ='ROZPOČET SO-02'!G64 -> 0 | D14: ='ROZPOČET SO-02'!I64 -> 0 | E14: =C14+D14 -> 0
A15: 62 | B15: Úpravy povrchů vnější | C15: ='ROZPOČET SO-02'!G74 -> 0 | D15: ='ROZPOČET SO-02'!I74 -> 0 | E15: =C15+D15 -> 0
A16: 63 | B16: Podlahy | C16: ='ROZPOČET SO-02'!G86 -> 0 | D16: ='ROZPOČET SO-02'!I86 -> 0 | E16: =C16+D16 -> 0
A17: 64 | B17: Osazování výplní otvorů | C17: ='ROZPOČET SO-02'!G97 -> 0 | D17: ='ROZPOČET SO-02'!I97 -> 0 | E17: =C17+D17 -> 0
A18: 9 | B18: Ostatní konstrukce a práce | C18: ='ROZPOČET SO-02'!G101 -> 0 | D18: ='ROZPOČET SO-02'!I101 -> 0 | E18: =C18+D18 -> 0
A19: 94 | B19: Lešení a stavební výtahy | C19: ='ROZPOČET SO-02'!G121 -> 0 | D19: ='ROZPOČET SO-02'!I121 -> 0 | E19: =C19+D19 -> 0
A20: 99 | B20: Přesun hmot | C20: ='ROZPOČET SO-02'!G125 -> 0 | D20: ='ROZPOČET SO-02'!I125 -> 0 | E20: =C20+D20 -> 0
B21: HSV CELKEM | C21: =SUM(C9:C20) -> 0 | D21: =SUM(D9:D20) -> 0 | E21: =SUM(E9:E20) -> 0
B23: PSV:
A24: 711 | B24: Izolace proti vodě | C24: ='ROZPOČET SO-02'!G141 -> 0 | D24: ='ROZPOČET SO-02'!I141 -> 0 | E24: =C24+D24 -> 0
A25: 712 | B25: Povlakové krytiny | C25: ='ROZPOČET SO-02'!G150 -> 0 | D25: ='ROZPOČET SO-02'!I150 -> 0 | E25: =C25+D25 -> 0
A26: 713 | B26: Izolace tepelné | C26: ='ROZPOČET SO-02'!G167 -> 0 | D26: ='ROZPOČET SO-02'!I167 -> 0 | E26: =C26+D26 -> 0
A27: 762 | B27: Konstrukce tesařské | C27: ='ROZPOČET SO-02'!G178 -> 0 | D27: ='ROZPOČET SO-02'!I178 -> 0 | E27: =C27+D27 -> 0
A28: 763 | B28: Dřevostavby a konstrukce sádrokartonové | C28: ='ROZPOČET SO-02'!G186 -> 0 | D28: ='ROZPOČET SO-02'!I186 -> 0 | E28: =C28+D28 -> 0
A29: 764 | B29: Konstrukce klempířské | C29: ='ROZPOČET SO-02'!G207 -> 0 | D29: ='ROZPOČET SO-02'!I207 -> 0 | E29: =C29+D29 -> 0
A30: 766 | B30: Konstrukce truhlářské | C30: ='ROZPOČET SO-02'!G229 -> 0 | D30: ='ROZPOČET SO-02'!I229 -> 0 | E30: =C30+D30 -> 0
A31: 771 | B31: Podlahy z dlaždic | C31: ='ROZPOČET SO-02'!G239 -> 0 | D31: ='ROZPOČET SO-02'!I239 -> 0 | E31: =C31+D31 -> 0
A32: 776 | B32: Podlahy povlakové | C32: ='ROZPOČET SO-02'!G248 -> 0 | D32: ='ROZPOČET SO-02'!I248 -> 0 | E32: =C32+D32 -> 0
A33: 777 | B33: Podlahy syntetické | C33: ='ROZPOČET SO-02'!G253 -> 0 | D33: ='ROZPOČET SO-02'!I253 -> 0 | E33: =C33+D33 -> 0
A34: 781 | B34: Obklady | C34: ='ROZPOČET SO-02'!G263 -> 0 | D34: ='ROZPOČET SO-02'!I263 -> 0 | E34: =C34+D34 -> 0
A35: 784 | B35: Malby | C35: ='ROZPOČET SO-02'!G268 -> 0 | D35: ='ROZPOČET SO-02'!I268 -> 0 | E35: =C35+D35 -> 0
B36: PSV CELKEM | C36: =SUM(C24:C35) -> 0 | D36: =SUM(D24:D35) -> 0 | E36: =SUM(E24:E35) -> 0
B38: INSTALACE:
A39: 720 | B39: Zdravotně technické instalace | C39: ='ROZPOČET SO-02'!G278+'ROZPOČET SO-02'!G281+'ROZPOČET SO-02'!G308 -> 0 | D39: ='ROZPOČET SO-02'!I278+'ROZPOČET SO-02'!I281+'ROZPOČET SO-02'!I308 -> 0 | E39: =C39+D39 -> 0
A40: 730 | B40: Ústřední vytápění | C40: ='ROZPOČET SO-02'!G312+'ROZPOČET SO-02'!G316 -> 0 | D40: ='ROZPOČET SO-02'!I312+'ROZPOČET SO-02'!I316 -> 0 | E40: =C40+D40 -> 0
B41: INSTALACE CELKEM | C41: =SUM(C39:C40) -> 0 | D41: =SUM(D39:D40) -> 0 | E41: =SUM(E39:E40) -> 0
B43: MONTÁŽNÍ PRÁCE:
A44: M21 | B44: Montáže silnoproud | C44: ='ROZPOČET SO-02'!G339 -> 0 | D44: ='ROZPOČET SO-02'!I339 -> 0 | E44: =C44+D44 -> 0
B45: MONTÁŽNÍ PRÁCE CELKEM | C45: =SUM(C44:C44) -> 0 | D45: =SUM(D44:D44) -> 0 | E45: =SUM(E44:E44) -> 0
...

Sheet ROZPOČET SO-02
A1: Stavba : - ZÁKL ŠKOLA MOCHOV PŘÍSTAVBA TĚLOCVIČNY | J1: Cenová úroveň : 2025/II
A2: Objekt : SO-02 - NOVÁ TĚLOCVIČNA | J2: Datum zpracování :
A4: POLOŽKOVÝ ROZPOČET S VÝKAZEM VÝMĚR
A6: Poř. | B6: Kód položky | C6: Text položky | D6: M.J. | E6: Množství | F6: CENA | J6: HMOTNOST
A7: čís. | F7: Dodávka | H7: Montáž
A8: pol. | F8: jednotková | G8: celková | H8: jednotková | I8: celková | J8: jednotková | K8: celková
A9: 1. | B9: 2. | C9: 3. | D9: 4. | E9: 5. | F9: 6. | G9: 7. | H9: 8. | I9: 9. | J9: 10. | K9: 11.
C10: HSV:
B11: oddíl 1 | C11: Zemní práce:
A12: 1 | B12: C-121101052-0 | C12: SEJMUTI ORNICE -50M3 S VOD PREM -100M | D12: M3 | E12: 300 | G12: =E12*F12 -> 0 | I12: =E12*H12 -> 0 | J12: 0 | K12: =E12*J12 -> 0
A13: =A12+1 -> 2 | B13: C-132201101-0 | C13: HLOUB RYH TR 3 S DO 60CM DO 100M3 | D13: M3 | E13: 76.86 | G13: =E13*F13 -> 0 | I13: =E13*H13 -> 0 | J13: 0 | K13: =E13*J13 -> 0
B14: množství = | C14: (20,75+25,0)*2*1,2*0,7
A15: =A13+1 -> 3 | B15: C-132201109-0 | C15: PRIPL ZA LEPIVOST HL RYH TR 3 60CM | D15: M3 | E15: 76.86 | G15: =E15*F15 -> 0 | I15: =E15*H15 -> 0 | J15: 0 | K15: =E15*J15 -> 0
A16: =A15+1 -> 4 | B16: C-162201103-0 | C16: VODOROVNE PREM VYKOPKU DO 100M TR 1-4 | D16: M3 | E16: 76.86 | G16: =E16*F16 -> 0 | I16: =E16*H16 -> 0 | J16: 0 | K16: =E16*J16 -> 0
A17: =A16+1 -> 5 | B17: C-181300103-0 | C17: ROZPR ZEMINY ROVINA 500M2 TL 20CM | D17: M2 | E17: 384.3 | G17: =E17*F17 -> 0 | I17: =E17*H17 -> 0 | J17: 0 | K17: =E17*J17 -> 0
B18: množství = | C18: 76,86*5
B19: 1 | C19: ZEMNÍ PRÁCE CELKEM | G19: =SUM(G12:G18) -> 0 | I19: =SUM(I12:I18) -> 0 | K19: =SUM(K12:K18) -> 0
B20: oddíl 2 | C20: Základy a zvláštní zakládání:
A21: =A17+1 -> 6 | B21: C-274311711-0 | C21: BETON ZAKL PASU PROKL SPC TR C20/25 | D21: M3 | E21: 46.053 | G21: =E21*F21 -> 0 | I21: =E21*H21 -> 0 | J21: 2.5785684 | K21: =E21*J21 -> 118.75081
B22: množství = | C22: (25,0+20,25)*2*0,7*0,6+10,25*0,6*0,7+4,45*2*0,7*0,6
A23: =A21+1 -> 7 | B23: C-274351215-0 | C23: BEDNENI STEN ZAKL PASU ZRIZENI | D23: M2 | E23: 129.42 | G23: =E23*F23 -> 0 | I23: =E23*H23 -> 0 | J23: 0.001760281 | K23: =E23*J23 -> 0.22781557
B24: množství = | C24: (20,75+23,6+4,45)*2*0,6*2+10,25*2*0,6
A25: =A23+1 -> 8 | B25: C-274351216-0 | C25: BEDNENI STEN ZAKL PASU ODSTRANENI | D25: M2 | E25: 129.22 | G25: =E25*F25 -> 0 | I25: =E25*H25 -> 0 | J25: 0.000222 | K25: =E25*J25 -> 0.02868684
A26: =A25+1 -> 9 | B26: C-274385713-0 | C26: ZAKL PASY ZTRAC BED TL 50CM B C20/25 | D26: M2 | E26: 53.925 | G26: =E26*F26 -> 0 | I26: =E26*H26 -> 0 | J26: 1.1661819 | K26: =E26*J26 -> 62.886358
B27: množství = | C27: (23,6+20,75+4,45)*2*0,5+10,25*0,5
A28: =A26+1 -> 10 | B28: C-274366181-0 | C28: VYZTUZ ZAKL PASU NADRZI OCEL 10505 | D28: T | E28: 1.18646 | G28: =E28*F28 -> 0 | I28: =E28*H28 -> 0 | J28: 1.0277473 | K28: =E28*J28 -> 1.219381
B29: množství = | C29: 53,93*0,4*0,055
B30: 2 | C30: ZÁKLADY A ZVLÁŠTNÍ ZAKLÁDÁNÍ CELKEM | G30: =SUM(G21:G29) -> 0 | I30: =SUM(I21:I29) -> 0 | K30: =SUM(K21:K29) -> 183.11305
B31: oddíl 3 | C31: Svislé konstrukce:
A32: =A28+1 -> 11 | B32: C-311237312-0 | C32: ZDI OBV PTH BR EKO+ PROFI 50 MAL TENK | D32: M2 | E32: 670.7125 | G32: =E32*F32 -> 0 | I32: =E32*H32 -> 0 | J32: 0.32562278 | K32: =E32*J32 -> 218.39927
B33: množství = | C33: (4,45*2+11,45)*3,25+(24,0+16,0)*2*8,5+4,15*2*3,25-(2,0*0,75*16+3,0*1,375*16+1,1*2,0*3+1,45*2,0*2)
A34: =A32+1 -> 12 | B34: C-342247592-0 | C34: PRICKY PTH BROUS PROFI 11,5 MAL TENK | D34: M2 | E34: 59.675 | G34: =E34*F34 -> 0 | I34: =E34*H34 -> 0 | J34: 0.10443278 | K34: =E34*J34 -> 6.2320264
B35: množství = | C35: (4,45*2+2,05*2+1,7+2,3+1,9*2+0,9*2+1,2+1,6+4,15)*2,5-(0,9*2,0*2+0,8*2,0*4+0,7*2,0*3)
A36: =A34+1 -> 13 | B36: C-317167110-0 | C36: PREKLAD PTH KERAM PLOCHY 11,5x7,1x100 | D36: KS | E36: 6 | G36: =E36*F36 -> 0 | I36: =E36*H36 -> 0 | J36: 0.01828 | K36: =E36*J36 -> 0.10968
A37: =A36+1 -> 14 | B37: C-317167112-0 | C37: PREKLAD PTH KERAM PLOCHY 11,5x7,1x125 | D37: KS | E37: 2 | G37: =E37*F37 -> 0 | I37: =E37*H37 -> 0 | J37: 0.023959 | K37: =E37*J37 -> 0.047918
A38: =A37+1 -> 15 | B38: C-317167315-0 | C38: PREKLAD PTH NOSNY VYSOKY 23,8x7x150 | D38: KS | E38: 12 | G38: =E38*F38 -> 0 | I38: =E38*H38 -> 0 | J38: 0.054218 | K38: =E38*J38 -> 0.650616
A39: =A38+1 -> 16 | B39: C-317167310-0 | C39: PREKLAD PTH NOSNY VYSOKY 23,8x7x100 | D39: KS | E39: 54 | G39: =E39*F39 -> 0 | I39: =E39*H39 -> 0 | J39: 0.036368 | K39: =E39*J39 -> 1.963872
A40: =A39+1 -> 17 | B40: C-317167320-0 | C40: PREKLAD PTH NOSNY VYSOKY 23,8x7x200 | D40: KS | E40: 6 | G40: =E40*F40 -> 0 | I40: =E40*H40 -> 0 | J40: 0.072068 | K40: =E40*J40 -> 0.432408
A41: =A40+1 -> 18 | B41: C-317167325-0 | C41: PREKLAD PTH NOSNY VYSOKY 23,8x7x250 | D41: KS | E41: 96 | G41: =E41*F41 -> 0 | I41: =E41*H41 -> 0 | J41: 0.089988 | K41: =E41*J41 -> 8.638848
A42: =A41+1 -> 19 | B42: C-317167335-0 | C42: PREKLAD PTH NOSNY VYSOKY 23,8x7x350 | D42: KS | E42: 24 | G42: =E42*F42 -> 0 | I42: =E42*H42 -> 0 | J42: 0.129258 | K42: =E42*J42 -> 3.102192
...

Sheet KRYCÍ LIST SO-03
A1: KRYCÍ LIST ROZPOČTU
A3: Kód objektu: | E3: Název objektu: | K3: KSO: | M3: Cenová úroveň:
A4: SO-03 | E4: VENKOVNI ROZVODY SITI | M4: 2025/II
A5: Kód stavby: | E5: Název stavby: | K5: SKP: | M5: Účelová M.J:
E6: ZÁKL ŠKOLA MOCHOV PŘÍSTAVBA TĚLOCVIČNY
A7: Projektant: | D7: Hana Pavlíčková | H7: Počet účel. měrných jednotek:
A8: Objednatel: | D8: obec Mochov, Sokolovská 92 | H8: Náklady na měrnou jednotku: | M8: =IF(M7=0,"",E28/M7)
A9: Počet listů: | H9: Zakázkové čís.:
A10: Zpracovatel: | H10: Zhotovitel:
A12: ROZPOČTOVÉ NÁKLADY
A13: Základní rozpočtové náklady (ZRN) | G13: Vedlejší rozpočtové náklady (VRN)
B14: Dodávka celkem | E14: ='REKAPITULACE SO-03'!C18 -> 0 | G14: Ztížené výrobní podmínky | L14: % | M14: =E20*K14/100 -> 0
B15: Montáž celkem | E15: ='REKAPITULACE SO-03'!D18 -> 0 | G15: Oborová přirážka | L15: % | M15: =E20*K15/100 -> 0
A16: Z | B16: HSV celkem | E16: ='REKAPITULACE SO-03'!E12 -> 0 | G16: Přesun stavebních kapacit | L16: % | M16: =E20*K16/100 -> 0
A17: R | B17: PSV celkem | E17: 0 | G17: Mimostaveništní doprava | K17: 3.5 | L17: % | M17: =E20*K17/100 -> 0
A18: N | B18: Instalace | E18: 0 | G18: Zařízení staveniště | K18: 2.5 | L18: % | M18: =E20*K18/100 -> 0
A19: : | B19: Montáže | E19: ='REKAPITULACE SO-03'!E16 -> 0 | G19: Provoz investora | K19: 1 | L19: % | M19: =E20*K19/100 -> 0
A20: ZRN celkem | E20: =SUM(E16:E19) -> 0 | G20: Kompletační činnost | K20: 2 | L20: % | M20: =E20*K20/100 -> 0
A21: I: Projektové práce | E21: 0 | G21: Ostatní VRN | L21: % | M21: =E20*K21/100 -> 0
A22: II: Technologie | E22: 0 | G22: Rezerva | L22: % | M22: =E20*K22/100 -> 0
A23: VII: Mobiliář | E23: 0 | L23: % | M23: =E20*K23/100 -> 0
A24: ZRN+I+II+VII | E24: =SUM(E20:E23) -> 0 | G24: Ostatní rozpočtové náklady (ORN)
A25: VRN celkem | E25: =SUM(M14:M23) -> 0 | L25: % | M25: =E20*K25/100 -> 0
A26: ORN celkem | E26: =SUM(M25:M26) -> 0 | L26: % | M26: =E20*K26/100 -> 0
A27: DRN celkem | E27: =SUM(M28:M28) -> 0 | G27: Doplňkové rozpočtové náklady (DRN)
A28: Náklady celkem | E28: =SUM(E24:E27) -> 0 | L28: % | M28: =E20*K28/100 -> 0
A29: Vypracoval | E29: Za zhotovitele | H29: Za objednatele
E30: Jméno: | H30: Jméno:
A31: Datum: | E31: Datum: | H31: Datum:
E32: Podpis: | H32: Podpis:
A35: Základ pro DPH | E35: 21 | G35: % činí : | H35: =E28-H37 -> 0 | M35: Kč
A36: DPH | E36: 21 | G36: % činí : | H36: =H35*E36/100 -> 0 | M36: Kč
A37: Základ pro DPH | E37: 12 | G37: % činí : | H37: 0 | M37: Kč
A38: DPH | E38: 12 | G38: % činí : | H38: =H37*E38/100 -> 0 | M38: Kč
A39: CENA ZA OBJEKT CELKEM VČETNĚ DPH: | H39: =SUM(H35:H38) -> 0 | M39: Kč

Sheet REKAPITULACE SO-03
A1: Stavba : - ZÁKL ŠKOLA MOCHOV PŘÍSTAVBA TĚLOCVIČNY | D1: Cenová úroveň : 2025/II
A2: Objekt : SO-03 - VENKOVNI ROZVODY SITI | D2: Datum zpracování :
A4: REKAPITULACE ROZPOČTU
A6: Oddíl | B6: Název oddílu / řemeslného oboru | C6: CENA BEZ DPH
C7: Dodávka | D7: Montáž | E7: Celkem
B8: HSV:
A9: 1 | B9: Zemní práce | C9: ='ROZPOČET SO-03'!G30 -> 0 | D9: ='ROZPOČET SO-03'!I30 -> 0 | E9: =C9+D9 -> 0
A10: 3 | B10: Svislé konstrukce | C10: ='ROZPOČET SO-03'!G34 -> 0 | D10: ='ROZPOČET SO-03'!I34 -> 0 | E10: =C10+D10 -> 0
A11: 8 | B11: Potrubí | C11: ='ROZPOČET SO-03'!G48 -> 0 | D11: ='ROZPOČET SO-03'!I48 -> 0 | E11: =C11+D11 -> 0
B12: HSV CELKEM | C12: =SUM(C9:C11) -> 0 | D12: =SUM(D9:D11) -> 0 | E12: =SUM(E9:E11) -> 0
B14: MONTÁŽNÍ PRÁCE:
A15: M46 | B15: Zemní práce prováděné při externích montážích | C15: ='ROZPOČET SO-03'!G69 -> 0 | D15: ='ROZPOČET SO-03'!I69 -> 0 | E15: =C15+D15 -> 0
B16: MONTÁŽNÍ PRÁCE CELKEM | C16: =SUM(C15:C15) -> 0 | D16: =SUM(D15:D15) -> 0 | E16: =SUM(E15:E15) -> 0
B18: Základní rozpočtové náklady stavebního objektu celkem | C18: =C12+C16 -> 0 | D18: =D12+D16 -> 0 | E18: =E12+E16 -> 0

Sheet ROZPOČET SO-03
A1: Stavba : - ZÁKL ŠKOLA MOCHOV PŘÍSTAVBA TĚLOCVIČNY | J1: Cenová úroveň : 2025/II
A2: Objekt : SO-03 - VENKOVNI ROZVODY SITI | J2: Datum zpracování :
A4: POLOŽKOVÝ ROZPOČET S VÝKAZEM VÝMĚR
A6: Poř. | B6: Kód položky | C6: Text položky | D6: M.J. | E6: Množství | F6: CENA | J6: HMOTNOST
A7: čís. | F7: Dodávka | H7: Montáž
A8: pol. | F8: jednotková | G8: celková | H8: jednotková | I8: celková | J8: jednotková | K8: celková
A9: 1. | B9: 2. | C9: 3. | D9: 4. | E9: 5. | F9: 6. | G9: 7. | H9: 8. | I9: 9. | J9: 10. | K9: 11.
C10: HSV:
B11: oddíl 1 | C11: Zemní práce:
A12: 1 | B12: C-131201101-0 | C12: HLOUBENI JAM TR 3 NEZAP DO 100M3 | D12: M3 | E12: 40 | G12: =E12*F12 -> 0 | I12: =E12*H12 -> 0 | J12: 0 | K12: =E12*J12 -> 0
B13: množství = | C13: 10,0+5,0*3,0*2,0
A14: =A12+1 -> 2 | B14: C-131201109-0 | C14: PRIPL ZA LEPIVOST HL JAM TR 3 NEZAP | D14: M3 | E14: 40 | G14: =E14*F14 -> 0 | I14: =E14*H14 -> 0 | J14: 0 | K14: =E14*J14 -> 0
A15: =A14+1 -> 3 | B15: C-132301101-0 | C15: HLOUB RYH TR 4 S DO 60CM DO 100M3 | D15: M3 | E15: 195.84 | G15: =E15*F15 -> 0 | I15: =E15*H15 -> 0 | J15: 0 | K15: =E15*J15 -> 0
B16: množství = | C16: (56,0+46,0)*1,2*1,6
A17: =A15+1 -> 4 | B17: C-132301109-0 | C17: PRIPL ZA LEPIVOST HL RYH TR 4 60CM | D17: M3 | E17: 195.84 | G17: =E17*F17 -> 0 | I17: =E17*H17 -> 0 | J17: 0 | K17: =E17*J17 -> 0
A18: =A17+1 -> 5 | B18: C-161101101-0 | C18: SVISLE PREMIST VYKOPKU HORN 1-4 2,5M | D18: M3 | E18: 105.28 | G18: =E18*F18 -> 0 | I18: =E18*H18 -> 0 | J18: 0 | K18: =E18*J18 -> 0
B19: množství = | C19: 40,0+195,84/3
A20: =A18+1 -> 6 | B20: C-162201103-0 | C20: VODOROVNE PREM VYKOPKU DO 100M TR 1-4 | D20: M3 | E20: 64.48 | G20: =E20*F20 -> 0 | I20: =E20*H20 -> 0 | J20: 0 | K20: =E20*J20 -> 0
B21: množství = | C21: 24,48+40,0
A22: =A20+1 -> 7 | B22: C-175101101-0 | C22: OBSYP POTRUBI BEZ PROHOZENI SYPANINY | D22: M3 | E22: 24.48 | G22: =E22*F22 -> 0 | I22: =E22*H22 -> 0 | J22: 0 | K22: =E22*J22 -> 0
B23: množství = | C23: 102,0*1,2*0,2
A24: =A22+1 -> 8 | B24: C-174201101-0 | C24: ZASYP NEZHUTNENY JAM | D24: M3 | E24: 40 | G24: =E24*F24 -> 0 | I24: =E24*H24 -> 0 | J24: 0 | K24: =E24*J24 -> 0
A25: =A24+1 -> 9 | B25: H-58351110-1 | C25: KACIREK FR 8-16MM SEDY VL | D25: T | E25: 72 | G25: =E25*F25 -> 0 | I25: =E25*H25 -> 0 | J25: 1 | K25: =E25*J25 -> 72
B26: množství = | C26: 40,0*1,8
A27: =A25+1 -> 10 | B27: H-67352150-1 | C27: GEOTEXTILIE JUTOVA PROTIEROZ 500g/m2 | D27: M2 | E27: 50 | G27: =E27*F27 -> 0 | I27: =E27*H27 -> 0 | J27: 0.0005 | K27: =E27*J27 -> 0.025
A28: =A27+1 -> 11 | B28: C-174101101-0 | C28: ZASYP ZHUTNENI JAM RYH KOLEM OBJEKTU | D28: M3 | E28: 171.36 | G28: =E28*F28 -> 0 | I28: =E28*H28 -> 0 | J28: 0 | K28: =E28*J28 -> 0
B29: množství = | C29: 195,84-24,48
B30: 1 | C30: ZEMNÍ PRÁCE CELKEM | G30: =SUM(G12:G29) -> 0 | I30: =SUM(I12:I29) -> 0 | K30: =SUM(K12:K29) -> 72.025
B31: oddíl 3 | C31: Svislé konstrukce:
A32: =A28+1 -> 12 | B32: C-386381117-0 | C32: MTZ JIMKY BET ZEL 12 M3 | D32: KS | E32: 1 | G32: =E32*F32 -> 0 | I32: =E32*H32 -> 0 | J32: 4.6063335 | K32: =E32*J32 -> 4.6063335
A33: =A32+1 -> 13 | B33: H-59224971-1 | C33: JIMKA RD JV 12 12M3 475x214x12+POKLOP | D33: SOUB | E33: 1 | G33: =E33*F33 -> 0 | I33: =E33*H33 -> 0 | J33: 10 | K33: =E33*J33 -> 10
B34: 3 | C34: SVISLÉ KONSTRUKCE CELKEM | G34: =SUM(G32:G33) -> 0 | I34: =SUM(I32:I33) -> 0 | K34: =SUM(K32:K33) -> 14.606333
B35: oddíl 8 | C35: Potrubí:
A36: =A33+1 -> 14 | B36: C-894912111-0 | C36: OSAZ SACHET PLAST KAN REVIZ OBJ 1,5M3 | D36: KS | E36: 5 | G36: =E36*F36 -> 0 | I36: =E36*H36 -> 0 | J36: 0.00192528 | K36: =E36*J36 -> 0.0096264
A37: =A36+1 -> 15 | B37: C-899101111-0 | C37: OSAZ SACHT POKLOPU S RAMEM DO 50kg | D37: KS | E37: 5 | G37: =E37*F37 -> 0 | I37: =E37*H37 -> 0 | J37: 0.00468 | K37: =E37*J37 -> 0.0234
A38: =A37+1 -> 16 | B38: H-56230032-1 | C38: SACHTA REVIZNI PVC KG +POKLOP D 315 B | D38: SADA | E38: 5 | G38: =E38*F38 -> 0 | I38: =E38*H38 -> 0 | J38: 0.00645 | K38: =E38*J38 -> 0.03225
A39: =A38+1 -> 17 | B39: C-877275211-0 | C39: MTZ TVAR KANAL POTR PVC KG 1OS DN 125 | D39: KS | E39: 9 | G39: =E39*F39 -> 0 | I39: =E39*H39 -> 0 | J39: 2.2e-06 | K39: =E39*J39 -> 1.98e-05
A40: =A39+1 -> 18 | B40: H-28611389-1 | C40: ODBOCKA PVC KANAL KGEA 125/125 45° | D40: KS | E40: 9 | G40: =E40*F40 -> 0 | I40: =E40*H40 -> 0 | J40: 0.0008 | K40: =E40*J40 -> 0.0072
A41: =A40+1 -> 19 | B41: C-871275201-0 | C41: MTZ POTR KANAL PVC SYSTEM KG DN 125 | D41: M | E41: 56 | G41: =E41*F41 -> 0 | I41: =E41*H41 -> 0 | J41: 1.1e-06 | K41: =E41*J41 -> 6.16e-05
B42: množství = | C42: 35,0+21,0
...

Sheet KRYCÍ LIST SO-04
A1: KRYCÍ LIST ROZPOČTU
A3: Kód objektu: | E3: Název objektu: | K3: KSO: | M3: Cenová úroveň:
A4: SO-04 | E4: VENKOVNÍ SPORTOVIŠTĚ | M4: 2025/II
A5: Kód stavby: | E5: Název stavby: | K5: SKP: | M5: Účelová M.J:
E6: ZÁKL ŠKOLA MOCHOV PŘÍSTAVBA TĚLOCVIČNY
A7: Projektant: | D7: Hana Pavlíčková | H7: Počet účel. měrných jednotek:
A8: Objednatel: | D8: obec Mochov, Sokolovská 92 | H8: Náklady na měrnou jednotku: | M8: =IF(M7=0,"",E28/M7)
A9: Počet listů: | H9: Zakázkové čís.:
A10: Zpracovatel: | H10: Zhotovitel:
A12: ROZPOČTOVÉ NÁKLADY
A13: Základní rozpočtové náklady (ZRN) | G13: Vedlejší rozpočtové náklady (VRN)
B14: Dodávka celkem | E14: ='REKAPITULACE SO-04'!C20 -> 0 | G14: Ztížené výrobní podmínky | L14: % | M14: =E20*K14/100 -> 0
B15: Montáž celkem | E15: ='REKAPITULACE SO-04'!D20 -> 0 | G15: Oborová přirážka | L15: % | M15: =E20*K15/100 -> 0
A16: Z | B16: HSV celkem | E16: ='REKAPITULACE SO-04'!E14 -> 0 | G16: Přesun stavebních kapacit | L16: % | M16: =E20*K16/100 -> 0
A17: R | B17: PSV celkem | E17: ='REKAPITULACE SO-04'!E18 -> 0 | G17: Mimostaveništní doprava | K17: 3.5 | L17: % | M17: =E20*K17/100 -> 0
A18: N | B18: Instalace | E18: 0 | G18: Zařízení staveniště | K18: 2.5 | L18: % | M18: =E20*K18/100 -> 0
A19: : | B19: Montáže | E19: 0 | G19: Provoz investora | K19: 1 | L19: % | M19: =E20*K19/100 -> 0
A20: ZRN celkem | E20: =SUM(E16:E19) -> 0 | G20: Kompletační činnost | K20: 2 | L20: % | M20: =E20*K20/100 -> 0
A21: I: Projektové práce | E21: 0 | G21: Ostatní VRN | L21: % | M21: =E20*K21/100 -> 0
A22: II: Technologie | E22: 0 | G22: Rezerva | L22: % | M22: =E20*K22/100 -> 0
A23: VII: Mobiliář | E23: 0 | L23: % | M23: =E20*K23/100 -> 0
A24: ZRN+I+II+VII | E24: =SUM(E20:E23) -> 0 | G24: Ostatní rozpočtové náklady (ORN)
A25: VRN celkem | E25: =SUM(M14:M23) -> 0 | L25: % | M25: =E20*K25/100 -> 0
A26: ORN celkem | E26: =SUM(M25:M26) -> 0 | L26: % | M26: =E20*K26/100 -> 0
A27: DRN celkem | E27: =SUM(M28:M28) -> 0 | G27: Doplňkové rozpočtové náklady (DRN)
A28: Náklady celkem | E28: =SUM(E24:E27) -> 0 | L28: % | M28: =E20*K28/100 -> 0
A29: Vypracoval | E29: Za zhotovitele | H29: Za objednatele
E30: Jméno: | H30: Jméno:
A31: Datum: | E31: Datum: | H31: Datum:
E32: Podpis: | H32: Podpis:
A35: Základ pro DPH | E35: 21 | G35: % činí : | H35: =E28-H37 -> 0 | M35: Kč
A36: DPH | E36: 21 | G36: % činí : | H36: =H35*E36/100 -> 0 | M36: Kč
A37: Základ pro DPH | E37: 12 | G37: % činí : | H37: 0 | M37: Kč
A38: DPH | E38: 12 | G38: % činí : | H38: =H37*E38/100 -> 0 | M38: Kč
A39: CENA ZA OBJEKT CELKEM VČETNĚ DPH: | H39: =SUM(H35:H38) -> 0 | M39: Kč

Sheet REKAPITULACE SO-04
A1: Stavba : - ZÁKL ŠKOLA MOCHOV PŘÍSTAVBA TĚLOCVIČNY | D1: Cenová úroveň : 2025/II
A2: Objekt : SO-04 - VENKOVNÍ SPORTOVIŠTĚ | D2: Datum zpracování :
A4: REKAPITULACE ROZPOČTU
A6: Oddíl | B6: Název oddílu / řemeslného oboru | C6: CENA BEZ DPH
C7: Dodávka | D7: Montáž | E7: Celkem
B8: HSV:
A9: 1 | B9: Zemní práce | C9: ='ROZPOČET SO-04'!G22 -> 0 | D9: ='ROZPOČET SO-04'!I22 -> 0 | E9: =C9+D9 -> 0
A10: 2 | B10: Základy a zvláštní zakládání | C10: ='ROZPOČET SO-04'!G28 -> 0 | D10: ='ROZPOČET SO-04'!I28 -> 0 | E10: =C10+D10 -> 0
A11: 3 | B11: Svislé konstrukce | C11: ='ROZPOČET SO-04'!G33 -> 0 | D11: ='ROZPOČET SO-04'!I33 -> 0 | E11: =C11+D11 -> 0
A12: 5 | B12: Komunikace | C12: ='ROZPOČET SO-04'!G42 -> 0 | D12: ='ROZPOČET SO-04'!I42 -> 0 | E12: =C12+D12 -> 0
A13: 99 | B13: Přesun hmot | C13: ='ROZPOČET SO-04'!G46 -> 0 | D13: ='ROZPOČET SO-04'!I46 -> 0 | E13: =C13+D13 -> 0
B14: HSV CELKEM | C14: =SUM(C9:C13) -> 0 | D14: =SUM(D9:D13) -> 0 | E14: =SUM(E9:E13) -> 0
B16: PSV:
A17: 767 | B17: Kovové doplňkové konstrukce | C17: ='ROZPOČET SO-04'!G61 -> 0 | D17: ='ROZPOČET SO-04'!I61 -> 0 | E17: =C17+D17 -> 0
B18: PSV CELKEM | C18: =SUM(C17:C17) -> 0 | D18: =SUM(D17:D17) -> 0 | E18: =SUM(E17:E17) -> 0
B20: Základní rozpočtové náklady stavebního objektu celkem | C20: =C14+C18 -> 0 | D20: =D14+D18 -> 0 | E20: =E14+E18 -> 0

Sheet ROZPOČET SO-04
A1: Stavba : - ZÁKL ŠKOLA MOCHOV PŘÍSTAVBA TĚLOCVIČNY | J1: Cenová úroveň : 2025/II
A2: Objekt : SO-04 - VENKOVNÍ SPORTOVIŠTĚ | J2: Datum zpracování :
A4: POLOŽKOVÝ ROZPOČET S VÝKAZEM VÝMĚR
A6: Poř. | B6: Kód položky | C6: Text položky | D6: M.J. | E6: Množství | F6: CENA | J6: HMOTNOST
A7: čís. | F7: Dodávka | H7: Montáž
A8: pol. | F8: jednotková | G8: celková | H8: jednotková | I8: celková | J8: jednotková | K8: celková
A9: 1. | B9: 2. | C9: 3. | D9: 4. | E9: 5. | F9: 6. | G9: 7. | H9: 8. | I9: 9. | J9: 10. | K9: 11.
C10: HSV:
B11: oddíl 1 | C11: Zemní práce:
A12: 1 | B12: C-121101102-0 | C12: SEJMUTI ORNICE 50M3- S VOD PREM -100M | D12: M3 | E12: 212 | G12: =E12*F12 -> 0 | I12: =E12*H12 -> 0 | J12: 0 | K12: =E12*J12 -> 0
B13: množství = | C13: 1060*0,2
A14: =A12+1 -> 2 | B14: C-121101208-0 | C14: PRIPL ZA KORENY PRI SEJMUTI ORNICE | D14: M3 | E14: 212 | G14: =E14*F14 -> 0 | I14: =E14*H14 -> 0 | J14: 0 | K14: =E14*J14 -> 0
A15: =A14+1 -> 3 | B15: C-180909131-0 | C15: VEG STRECHA-ROZPROSTRENI ZEMINY -20CM | D15: M2 | E15: 1000 | G15: =E15*F15 -> 0 | I15: =E15*H15 -> 0 | J15: 0 | K15: =E15*J15 -> 0
A16: =A15+1 -> 4 | B16: C-180402111-0 | C16: ZALOZ TRAVNIKU VYSEV PARK V ROVINE | D16: M2 | E16: 1000 | G16: =E16*F16 -> 0 | I16: =E16*H16 -> 0 | J16: 0 | K16: =E16*J16 -> 0
A17: =A16+1 -> 5 | B17: C-132203302-0 | C17: HLOUB RYH PRO DRENY TR 3 HL DO 1,1M | D17: M | E17: 225 | G17: =E17*F17 -> 0 | I17: =E17*H17 -> 0 | J17: 0 | K17: =E17*J17 -> 0
B18: množství = | C18: 21,0*9+36,0
A19: =A17+1 -> 6 | B19: C-174203301-0 | C19: ZASYP RYH DRENY BEZ ZH HOR 4 HL 1,1M | D19: M | E19: 225 | G19: =E19*F19 -> 0 | I19: =E19*H19 -> 0 | J19: 0 | K19: =E19*J19 -> 0
A20: =A19+1 -> 7 | B20: C-133101100-0 | C20: HLOUBENI SACHET TR 1-2 DO 10M3 | D20: M3 | E20: 6.86 | G20: =E20*F20 -> 0 | I20: =E20*H20 -> 0 | J20: 0 | K20: =E20*J20 -> 0
B21: množství = | C21: 0,35*0,35*0,8*70
B22: 1 | C22: ZEMNÍ PRÁCE CELKEM | G22: =SUM(G12:G21) -> 0 | I22: =SUM(I12:I21) -> 0 | K22: =SUM(K12:K21) -> 0
B23: oddíl 2 | C23: Základy a zvláštní zakládání:
A24: =A20+1 -> 8 | B24: C-275311711-0 | C24: BETON ZAKL PATEK PROKL SPC TR C20/25 | D24: M3 | E24: 6.86 | G24: =E24*F24 -> 0 | I24: =E24*H24 -> 0 | J24: 2.6119367 | K24: =E24*J24 -> 17.917886
A25: =A24+1 -> 9 | B25: C-212795114-0 | C25: ZRIZ TRATIV Z DRENAZ TRUB FLEX DN 100 | D25: M | E25: 225 | G25: =E25*F25 -> 0 | I25: =E25*H25 -> 0 | J25: 0 | K25: =E25*J25 -> 0
A26: =A25+1 -> 10 | B26: H-28611213-1 | C26: TRUBKY PVC FLEX DREN DN 100MM | D26: M | E26: 236.25 | G26: =E26*F26 -> 0 | I26: =E26*H26 -> 0 | J26: 0.0004 | K26: =E26*J26 -> 0.0945
B27: množství = | C27: 225,0*1,05
B28: 2 | C28: ZÁKLADY A ZVLÁŠTNÍ ZAKLÁDÁNÍ CELKEM | G28: =SUM(G24:G27) -> 0 | I28: =SUM(I24:I27) -> 0 | K28: =SUM(K24:K27) -> 18.012386
B29: oddíl 3 | C29: Svislé konstrukce:
A30: =A26+1 -> 11 | B30: C-338171125-0 | C30: OSAZ PLOT SLOUPKU OCEL V 4M ZABETON VC VZPERNYCH | D30: KS | E30: 70 | G30: =E30*F30 -> 0 | I30: =E30*H30 -> 0 | J30: 0.11725 | K30: =E30*J30 -> 8.2075
A31: =A30+1 -> 12 | B31: H-31686540-1 | C31: SLOUPEK PLOT ZINK POPL 1,8/60MM 450CM | D31: KS | E31: 70 | G31: =E31*F31 -> 0 | I31: =E31*H31 -> 0 | J31: 0.009 | K31: =E31*J31 -> 0.63
A32: =A31+1 -> 13 | B32: H-56282114-1 | C32: CEPICKA NA PLOT SLOUPEK PVC D 60MM | D32: KS | E32: 58 | G32: =E32*F32 -> 0 | I32: =E32*H32 -> 0 | J32: 0.00012 | K32: =E32*J32 -> 0.00696
B33: 3 | C33: SVISLÉ KONSTRUKCE CELKEM | G33: =SUM(G30:G32) -> 0 | I33: =SUM(I30:I32) -> 0 | K33: =SUM(K30:K32) -> 8.84446
B34: oddíl 5 | C34: Komunikace:
A35: =A32+1 -> 14 | B35: C-565192193-0 | C35: DRENAZ PODKLADU HRIST TRUB FLEX 100MM | D35: M | E35: 225 | G35: =E35*F35 -> 0 | I35: =E35*H35 -> 0 | J35: 0.330392 | K35: =E35*J35 -> 74.3382
A36: =A35+1 -> 15 | B36: C-564851111-0 | C36: PODKLAD ZE STERKODRTE TL PO ZHUT 15CM | D36: M2 | E36: 720 | G36: =E36*F36 -> 0 | I36: =E36*H36 -> 0 | J36: 0.27994 | K36: =E36*J36 -> 201.5568
B37: množství = | C37: 36,0*20,0
A38: =A36+1 -> 16 | B38: C-564762111-0 | C38: PODKLAD Z VIBROVANEHO STERKU TL 20CM | D38: M2 | E38: 720 | G38: =E38*F38 -> 0 | I38: =E38*H38 -> 0 | J38: 0.4857404 | K38: =E38*J38 -> 349.73309
A39: =A38+1 -> 17 | B39: C-589116114-0 | C39: KRYT HRIST UMELY CONIPUR 2S | D39: M2 | E39: 720 | G39: =E39*F39 -> 0 | I39: =E39*H39 -> 0 | J39: 0.1362 | K39: =E39*J39 -> 98.064
B40: množství = | C40: 36*20
A41: =A39+1 -> 18 | B41: C-576152111-0 | C41: KOBEREC OTEVR KAM DRC ASF 6CM | D41: M2 | E41: 720 | G41: =E41*F41 -> 0 | I41: =E41*H41 -> 0 | J41: 0.1392 | K41: =E41*J41 -> 100.224
B42: 5 | C42: KOMUNIKACE CELKEM | G42: =SUM(G35:G41) -> 0 | I42: =SUM(I35:I41) -> 0 | K42: =SUM(K35:K41) -> 823.91609
...
