Workbook

Sheet ÚVOD
A6: ROZPOČET STAVBY
A30: Stupeň projektové dokumentace:
A45: Celkový počet listů:

Sheet SOUHRNNÝ LIST STAVBY
A1: SOUHRNNÝ LIST STAVBY
A2: Kód stavby : | B2: Název stavby : | E2: Datum:
B3: ZÁKL ŠKOLA MOCHOV PŘÍSTAVBA TĚLOCVIČNY | E3: 02/2025
A4: Místo stavby:
A5: MOCHOV č.p.287
A6: Projektant : | E6: IČO :
A7: Hana Pavlíčková | E7: DIČ :
A8: Objednatel : | E8: IČO :
A9: obec Mochov, Sokolovská 92 | E9: DIČ :
A10: Zpracovatel : | E10: IČO :
E11: DIČ :
A12: Zhotovitel : | E12: IČO :
E13: DIČ :
A14: ROZPOČTOVÉ NÁKLADY
A15: Základní rozpočtové náklady (ZRN) | E15: ='KRYCÍ LIST SO-01'!E20+'KRYCÍ LIST SO-02'!E20+'KRYCÍ LIST SO-03'!E20+'KRYCÍ LIST SO-04'!E20 -> 0 | G15: Kč
A16: Průzkumné, geodetické a projektové práce + Technologie + Mobiliář | E16: =SUM('KRYCÍ LIST SO-01'!E21:'KRYCÍ LIST SO-01'!E23)+SUM('KRYCÍ LIST SO-02'!E21:'KRYCÍ LIST SO-02'!E23)+SUM('KRYCÍ LIST SO-03'!E21:'KRYCÍ LIST SO-03'!E23)+SUM('KRYCÍ LIST SO-04'!E21:'KRYCÍ LIST SO-04'!E23) -> 0 | G16: Kč
A17: Vedlejší rozpočtové náklady (VRN) | E17: ='KRYCÍ LIST SO-01'!E25+'KRYCÍ LIST SO-02'!E25+'KRYCÍ LIST SO-03'!E25+'KRYCÍ LIST SO-04'!E25 -> 0 | G17: Kč
A18: Ostatní rozpočtové náklady (ORN) | E18: ='KRYCÍ LIST SO-01'!E26+'KRYCÍ LIST SO-02'!E26+'KRYCÍ LIST SO-03'!E26+'KRYCÍ LIST SO-04'!E26 -> 0 | G18: Kč
A19: Doplňkové rozpočtové náklady (DRN) | E19: ='KRYCÍ LIST SO-01'!E27+'KRYCÍ LIST SO-02'!E27+'KRYCÍ LIST SO-03'!E27+'KRYCÍ LIST SO-04'!E27 -> 0 | G19: Kč
A21: Cena bez DPH | E21: ='KRYCÍ LIST SO-01'!E28+'KRYCÍ LIST SO-02'!E28+'KRYCÍ LIST SO-03'!E28+'KRYCÍ LIST SO-04'!E28 -> 0 | G21: Kč
A23: Základ pro DPH | D23: 21% činí : | E23: ='KRYCÍ LIST SO-01'!H35+'KRYCÍ LIST SO-02'!H35+'KRYCÍ LIST SO-03'!H35+'KRYCÍ LIST SO-04'!H35 -> 0 | G23: Kč
A24: DPH | D24: 21% činí : | E24: ='KRYCÍ LIST SO-01'!H36+'KRYCÍ LIST SO-02'!H36+'KRYCÍ LIST SO-03'!H36+'KRYCÍ LIST SO-04'!H36 -> 0 | G24: Kč
A25: Základ pro DPH | D25: 12% činí : | E25: ='KRYCÍ LIST SO-01'!H37+'KRYCÍ LIST SO-02'!H37+'KRYCÍ LIST SO-03'!H37+'KRYCÍ LIST SO-04'!H37 -> 0 | G25: Kč
A26: DPH | D26: 12% činí : | E26: ='KRYCÍ LIST SO-01'!H38+'KRYCÍ LIST SO-02'!H38+'KRYCÍ LIST SO-03'!H38+'KRYCÍ LIST SO-04'!H38 -> 0 | G26: Kč
A27: CENA CELKEM VČETNĚ DPH: | E27: =SUM(E23:E26) -> 0 | G27: Kč
A29: Projektant: | D29: Zpracovatel:
A37: Datum, razítko, podpis | D37: Datum, razítko, podpis
A39: Objednatel: | D39: Zhotovitel:
A47: Datum, razítko, podpis | D47: Datum, razítko, podpis

Sheet REKAPITULACE OBJEKTŮ STAVBY
A1: REKAPITULACE OBJEKTŮ STAVBY
A2: Kód stavby : | B2: Název stavby : | E2: Datum:
B3: ZÁKL ŠKOLA MOCHOV PŘÍSTAVBA TĚLOCVIČNY | E3: 02/2025
A4: Místo stavby: | B4: MOCHOV č.p.287
A5: Projektant: | B5: Hana Pavlíčková
A6: Objednatel: | B6: obec Mochov, Sokolovská 92
A7: Zpracovatel:
A8: Zhotovitel:
A9: NÁKLADY ZA JEDNOTLIVÉ STAVEBNÍ OBJEKTY
A10: Kód objektu | B10: Název objektu | C10: KSO | D10: Cena bez DPH (Kč) | E10: Cena s DPH (Kč)
A11: SO-01 | B11: ODSTRANĚNÍ STAVBY | D11: ='KRYCÍ LIST SO-01'!E28 -> 0 | E11: ='KRYCÍ LIST SO-01'!H39 -> 0
A12: SO-02 | B12: NOVÁ TĚLOCVIČNA | D12: ='KRYCÍ LIST SO-02'!E28 -> 0 | E12: ='KRYCÍ LIST SO-02'!H39 -> 0
A13: SO-03 | B13: VENKOVNI ROZVODY SITI | D13: ='KRYCÍ LIST SO-03'!E28 -> 0 | E13: ='KRYCÍ LIST SO-03'!H39 -> 0
A14: SO-04 | B14: VENKOVNÍ SPORTOVIŠTĚ | D14: ='KRYCÍ LIST SO-04'!E28 -> 0 | E14: ='KRYCÍ LIST SO-04'!H39 -> 0
A15: CENA ZA STAVBU CELKEM | D15: =SUM(D11:D14) -> 0 | E15: =SUM(E11:E14) -> 0

Sheet KRYCÍ LIST SO-01
A1: KRYCÍ LIST ROZPOČTU
A3: Kód objektu: | E3: Název objektu: | K3: KSO: | M3: Cenová úroveň:
A4: SO-01 | E4: ODSTRANĚNÍ STAVBY | M4: 2025/II
A5: Kód stavby: | E5: Název stavby: | K5: SKP: | M5: Účelová M.J:
E6: ZÁKL ŠKOLA MOCHOV PŘÍSTAVBA TĚLOCVIČNY
A7: Projektant: | D7: Hana Pavlíčková | H7: Počet účel. měrných jednotek:
A8: Objednatel: | D8: obec Mochov, Sokolovská 92 | H8: Náklady na měrnou jednotku: | M8: =IF(M7=0,"",E28/M7)
A9: Počet listů: | H9: Zakázkové čís.:
A10: Zpracovatel: | H10: Zhotovitel:
A12: ROZPOČTOVÉ NÁKLADY
A13: Základní rozpočtové náklady (ZRN) | G13: Vedlejší rozpočtové náklady (VRN)
B14: Dodávka celkem | E14: ='REKAPITULACE SO-01'!C21 -> 0 | G14: Ztížené výrobní podmínky | L14: % | M14: =E20*K14/100 -> 0
B15: Montáž celkem | E15: ='REKAPITULACE SO-01'!D21 -> 0 | G15: Oborová přirážka | L15: % | M15: =E20*K15/100 -> 0
A16: Z | B16: HSV celkem | E16: ='REKAPITULACE SO-01'!E12 -> 0 | G16: Přesun stavebních kapacit | L16: % | M16: =E20*K16/100 -> 0
A17: R | B17: PSV celkem | E17: ='REKAPITULACE SO-01'!E19 -> 0 | G17: Mimostaveništní doprava | K17: 3.5 | L17: % | M17: =E20*K17/100 -> 0
A18: N | B18: Instalace | E18: 0 | G18: Zařízení staveniště | K18: 2.5 | L18: % | M18: =E20*K18/100 -> 0
A19: : | B19: Montáže | E19: 0 | G19: Provoz investora | K19: 1 | L19: % | M19: =E20*K19/100 -> 0
A20: ZRN celkem | E20: =SUM(E16:E19) -> 0 | G20: Kompletační činnost | K20: 2 | L20: % | M20: =E20*K20/100 -> 0
A21: I: Projektové práce | E21: 0 | G21: Ostatní VRN | L21: % | M21: =E20*K21/100 -> 0
A22: II: Technologie | E22: 0 | G22: Rezerva | L22: % | M22: =E20*K22/100 -> 0
A23: VII: Mobiliář | E23: 0 | L23: % | M23: =E20*K23/100 -> 0
A24: ZRN+I+II+VII | E24: =SUM(E20:E23) -> 0 | G24: Ostatní rozpočtové náklady (ORN)
A25: VRN celkem | E25: =SUM(M14:M23) -> 0 | L25: % | M25: =E20*K25/100 -> 0
A26: ORN celkem | E26: =SUM(M25:M26) -> 0 | L26: % | M26: =E20*K26/100 -> 0
A27: DRN celkem | E27: =SUM(M28:M28) -> 0 | G27: Doplňkové rozpočtové náklady (DRN)
A28: Náklady celkem | E28: =SUM(E24:E27) -> 0 | L28: % | M28: =E20*K28/100 -> 0
A29: Vypracoval | E29: Za zhotovitele | H29: Za objednatele
E30: Jméno: | H30: Jméno:
A31: Datum: | E31: Datum: | H31: Datum:
E32: Podpis: | H32: Podpis:
A35: Základ pro DPH | E35: 21 | G35: % činí : | H35: =E28-H37 -> 0 | M35: Kč
A36: DPH | E36: 21 | G36: % činí : | H36: =H35*E36/100 -> 0 | M36: Kč
A37: Základ pro DPH | E37: 12 | G37: % činí : | H37: 0 | M37: Kč
A38: DPH | E38: 12 | G38: % činí : | H38: =H37*E38/100 -> 0 | M38: Kč
A39: CENA ZA OBJEKT CELKEM VČETNĚ DPH: | H39: =SUM(H35:H38) -> 0 | M39: Kč

Sheet REKAPITULACE SO-01
A1: Stavba : - ZÁKL ŠKOLA MOCHOV PŘÍSTAVBA TĚLOCVIČNY | D1: Cenová úroveň : 2025/II
A2: Objekt : SO-01 - ODSTRANĚNÍ STAVBY | D2: Datum zpracování :
A4: REKAPITULACE ROZPOČTU
A6: Oddíl | B6: Název oddílu / řemeslného oboru | C6: CENA BEZ DPH
C7: Dodávka | D7: Montáž | E7: Celkem
B8: HSV:
A9: 1 | B9: Zemní práce | C9: ='ROZPOČET SO-01'!G14 -> 0 | D9: ='ROZPOČET SO-01'!I14 -> 0 | E9: =C9+D9 -> 0
A10: 94 | B10: Lešení a stavební výtahy | C10: ='ROZPOČET SO-01'!G19 -> 0 | D10: ='ROZPOČET SO-01'!I19 -> 0 | E10: =C10+D10 -> 0
A11: 96 | B11: Bourání konstrukcí | C11: ='ROZPOČET SO-01'!G51 -> 0 | D11: ='ROZPOČET SO-01'!I51 -> 0 | E11: =C11+D11 -> 0
B12: HSV CELKEM | C12: =SUM(C9:C11) -> 0 | D12: =SUM(D9:D11) -> 0 | E12: =SUM(E9:E11) -> 0
B14: PSV:
A15: 712 | B15: Povlakové krytiny | C15: ='ROZPOČET SO-01'!G61 -> 0 | D15: ='ROZPOČET SO-01'!I61 -> 0 | E15: =C15+D15 -> 0
A16: 713 | B16: Izolace tepelné | C16: ='ROZPOČET SO-01'!G64 -> 0 | D16: ='ROZPOČET SO-01'!I64 -> 0 | E16: =C16+D16 -> 0
A17: 762 | B17: Konstrukce tesařské | C17: ='ROZPOČET SO-01'!G70 -> 0 | D17: ='ROZPOČET SO-01'!I70 -> 0 | E17: =C17+D17 -> 0
A18: 765 | B18: Tvrdé krytiny | C18: ='ROZPOČET SO-01'!G76 -> 0 | D18: ='ROZPOČET SO-01'!I76 -> 0 | E18: =C18+D18 -> 0
B19: PSV CELKEM | C19: =SUM(C15:C18) -> 0 | D19: =SUM(D15:D18) -> 0 | E19: =SUM(E15:E18) -> 0
B21: Základní rozpočtové náklady stavebního objektu celkem | C21: =C12+C19 -> 0 | D21: =D12+D19 -> 0 | E21: =E12+E19 -> 0

Sheet ROZPOČET SO-01
A1: Stavba : - ZÁKL ŠKOLA MOCHOV PŘÍSTAVBA TĚLOCVIČNY | J1: Cenová úroveň : 2025/II
A2: Objekt : SO-01 - ODSTRANĚNÍ STAVBY | J2: Datum zpracování :
A4: POLOŽKOVÝ ROZPOČET S VÝKAZEM VÝMĚR
A6: Poř. | B6: Kód položky | C6: Text položky | D6: M.J. | E6: Množství | F6: CENA | J6: HMOTNOST
A7: čís. | F7: Dodávka | H7: Montáž
A8: pol. | F8: jednotková | G8: celková | H8: jednotková | I8: celková | J8: jednotková | K8: celková
A9: 1. | B9: 2. | C9: 3. | D9: 4. | E9: 5. | F9: 6. | G9: 7. | H9: 8. | I9: 9. | J9: 10. | K9: 11.
C10: HSV:
B11: oddíl 1 | C11: Zemní práce:
A12: 1 | B12: C-130901121-0 | C12: BOURANI VE VYKOP KOMP BET PROSTY | D12: M3 | E12: 10.96 | G12: =E12*F12 -> 0 | I12: =E12*H12 -> 0 | J12: 0 | K12: =E12*J12 -> 0
B13: množství = | C13: 1,0*1,0*1,2*6+4,7*0,5*0,8*2
B14: 1 | C14: ZEMNÍ PRÁCE CELKEM | G14: =SUM(G12:G13) -> 0 | I14: =SUM(I12:I13) -> 0 | K14: =SUM(K12:K13) -> 0
B15: oddíl 94 | C15: Lešení a stavební výtahy:
A16: =A12+1 -> 2 | B16: C-941941031-0 | C16: MTZ LESENI LEH RAD PRIME S 1M H 10M | D16: M2 | E16: 520 | G16: =E16*F16 -> 0 | I16: =E16*H16 -> 0 | J16: 4.7e-07 | K16: =E16*J16 -> 0.0002444
A17: =A16+1 -> 3 | B17: C-941941191-0 | C17: PRIPL ZK MESIC POUZ LESENI K POL 1031 | D17: M2 | E17: 520 | G17: =E17*F17 -> 0 | I17: =E17*H17 -> 0 | J17: 0.00141851 | K17: =E17*J17 -> 0.7376252
A18: =A17+1 -> 4 | B18: C-941941831-0 | C18: DMTZ LESENI L RAD PRIME S 1M H 10M | D18: M2 | E18: 520 | G18: =E18*F18 -> 0 | I18: =E18*H18 -> 0 | J18: 0 | K18: =E18*J18 -> 0
B19: 94 | C19: LEŠENÍ A STAVEBNÍ VÝTAHY CELKEM | G19: =SUM(G16:G18) -> 0 | I19: =SUM(I16:I18) -> 0 | K19: =SUM(K16:K18) -> 0.7378696
B20: oddíl 96 | C20: Bourání konstrukcí:
A21: =A18+1 -> 5 | B21: C-981131311-0 | C21: DEMOLICE HAL POST ROZ PODIL 10% | D21: M3OP | E21: 1302.6532 | G21: =E21*F21 -> 0 | I21: =E21*H21 -> 0 | J21: 0.15013752 | K21: =E21*J21 -> 195.57712
B22: množství = | C22: 13,06*12,46*7,0+(4,7*5,8)*3,0*2
A23: =A21+1 -> 6 | B23: C-979081022-0 | C23: NAKLADKA HMOT V PYTLICH K ODVOZU | D23: T | E23: 12.718 | G23: =E23*F23 -> 0 | I23: =E23*H23 -> 0 | J23: 0 | K23: =E23*J23 -> 0
A24: =A23+1 -> 7 | B24: C-979011213-0 | C24: SVISLA DOPR NOSENIM AZBESTU ZA 1.PODL | D24: T | E24: 12.718 | G24: =E24*F24 -> 0 | I24: =E24*H24 -> 0 | J24: 0 | K24: =E24*J24 -> 0
A25: =A24+1 -> 8 | B25: C-979011285-0 | C25: PRIPL ZKD NADZ PODL AZBESTOVYCH HMOT | D25: T | E25: 12.718 | G25: =E25*F25 -> 0 | I25: =E25*H25 -> 0 | J25: 0 | K25: =E25*J25 -> 0
A26: =A25+1 -> 9 | B26: C-979081093-0 | C26: PRIPL ZKD 10M VOD NOSENI AZBEST HMOT | D26: T | E26: 12.718 | G26: =E26*F26 -> 0 | I26: =E26*H26 -> 0 | J26: 0 | K26: =E26*J26 -> 0
A27: =A26+1 -> 10 | B27: C-979081013-0 | C27: NOSENI K NAKLADCE DO 10M AZBEST HMOT | D27: T | E27: 12.718 | G27: =E27*F27 -> 0 | I27: =E27*H27 -> 0 | J27: 0 | K27: =E27*J27 -> 0
A28: =A27+1 -> 11 | B28: C-979081113-0 | C28: ODVOZ AZBEST HMOT NA SKLADKU DO 1KM | D28: T | E28: 12.718 | G28: =E28*F28 -> 0 | I28: =E28*H28 -> 0 | J28: 0 | K28: =E28*J28 -> 0
A29: =A28+1 -> 12 | B29: C-979081123-0 | C29: PRIPL ZKD 1KM ODVOZU AZBESTU NA SKLAD | D29: T | E29: 305.232 | G29: =E29*F29 -> 0 | I29: =E29*H29 -> 0 | J29: 0 | K29: =E29*J29 -> 0
B30: množství = | C30: 12,718*24
A31: =A29+1 -> 13 | B31: C-979081133-0 | C31: SKLADKOVNE NEBEZPECNY ODPAD [AZBEST] | D31: T | E31: 12.718 | G31: =E31*F31 -> 0 | I31: =E31*H31 -> 0 | J31: 0 | K31: =E31*J31 -> 0
A32: =A31+1 -> 14 | B32: C-979011285-0 | C32: PRIPL ZKD NADZ PODL AZBESTOVYCH HMOT | D32: T | E32: 12.718 | G32: =E32*F32 -> 0 | I32: =E32*H32 -> 0 | J32: 0 | K32: =E32*J32 -> 0
A33: =A32+1 -> 15 | B33: C-979087212-0 | C33: NAKLADANI NA DOPR PROSTR SUTI | D33: T | E33: 219.689 | G33: =E33*F33 -> 0 | I33: =E33*H33 -> 0 | J33: 0 | K33: =E33*J33 -> 0
B34: množství = | C34: 195,577+10,96*2,2
A35: =A33+1 -> 16 | B35: C-979011212-0 | C35: SVISLA DOPR NOSENIM VYB HM ZA 1.PODL | D35: T | E35: 7.698 | G35: =E35*F35 -> 0 | I35: =E35*H35 -> 0 | J35: 0 | K35: =E35*J35 -> 0
A36: =A35+1 -> 17 | B36: C-979011222-0 | C36: SVISLA DOPR OS VYTAH VYB HM ZA 1.PODL | D36: T | E36: 11.2 | G36: =E36*F36 -> 0 | I36: =E36*H36 -> 0 | J36: 0 | K36: =E36*J36 -> 0
B37: množství = | C37: 7,698+0,382+3,12
A38: =A36+1 -> 18 | B38: C-979081012-0 | C38: NOSENI K NAKLADCE DO 10M VYBOUR HMOT | D38: T | E38: 11.2 | G38: =E38*F38 -> 0 | I38: =E38*H38 -> 0 | J38: 0 | K38: =E38*J38 -> 0
A39: =A38+1 -> 19 | B39: C-979081092-0 | C39: PRIPL ZKD 10M VOD NOSENI VYBOUR HMOT | D39: T | E39: 11.2 | G39: =E39*F39 -> 0 | I39: =E39*H39 -> 0 | J39: 0 | K39: =E39*J39 -> 0
A40: =A39+1 -> 20 | B40: C-979081102-0 | C40: NAKLADKA DO KONTEJN RUCNI VYBOUR HMOT | D40: T | E40: 11.2 | G40: =E40*F40 -> 0 | I40: =E40*H40 -> 0 | J40: 0 | K40: =E40*J40 -> 0
A41: =A40+1 -> 21 | B41: C-979081112-0 | C41: ODVOZ VYBOUR HMOT NA SKLADKU DO 1KM | D41: T | E41: 11.2 | G41: =E41*F41 -> 0 | I41: =E41*H41 -> 0 | J41: 0 | K41: =E41*J41 -> 0
A42: =A41+1 -> 22 | B42: C-979081122-0 | C42: PRIPL ZKD 1KM ODVOZU VYB HMOT NA SKL | D42: T | E42: 268.8 | G42: =E42*F42 -> 0 | I42: =E42*H42 -> 0 | J42: 0 | K42: =E42*J42 -> 0
B43: množství = | C43: 11,2*24
A44: =A42+1 -> 23 | B44: C-979081111-0 | C44: ODVOZ STAVEB SUTI NA SKLADKU DO 1KM | D44: T | E44: 219.689 | G44: =E44*F44 -> 0 | I44: =E44*H44 -> 0 | J44: 0 | K44: =E44*J44 -> 0
A45: =A44+1 -> 24 | B45: C-979081121-0 | C45: PRIPL ZKD 1KM ODVOZU SUTI NA SKLADKU | D45: T | E45: 5272.536 | G45: =E45*F45 -> 0 | I45: =E45*H45 -> 0 | J45: 0 | K45: =E45*J45 -> 0
B46: množství = | C46: 219,689*24
A47: =A45+1 -> 25 | B47: C-979081131-0 | C47: SKLADKOVNE TRIDENA SUT [BET-CI-KERAM] | D47: T | E47: 219.689 | G47: =E47*F47 -> 0 | I47: =E47*H47 -> 0 | J47: 0 | K47: =E47*J47 -> 0
A48: =A47+1 -> 26 | B48: C-979081145-0 | C48: SKLADKOVNE ASFALTOVE PASY | D48: T | E48: 0.382 | G48: =E48*F48 -> 0 | I48: =E48*H48 -> 0 | J48: 0 | K48: =E48*J48 -> 0
A49: =A48+1 -> 27 | B49: C-979081146-0 | C49: SKLADKOVNE MINERALNI A SKELNA VATA | D49: T | E49: 3.12 | G49: =E49*F49 -> 0 | I49: =E49*H49 -> 0 | J49: 0 | K49: =E49*J49 -> 0
A50: =A49+1 -> 28 | B50: C-979081143-0 | C50: SKLADKOVNE STAVEBNI DREVO,DESKY,OBALY | D50: T | E50: 7.698 | G50: =E50*F50 -> 0 | I50: =E50*H50 -> 0 | J50: 0 | K50: =E50*J50 -> 0
B51: 96 | C51: BOURÁNÍ KONSTRUKCÍ CELKEM | G51: =SUM(G21:G50) -> 0 | I51: =SUM(I21:I50) -> 0 | K51: =SUM(K21:K50) -> 195.57712
A53: Poř. | B53: Kód položky | C53: Text položky | D53: M.J. | E53: Množství | F53: CENA | J53: HMOTNOST
A54: čís. | F54: Dodávka | H54: Montáž
A55: pol. | F55: jednotková | G55: celková | H55: jednotková | I55: celková | J55: jednotková | K55: celková
A56: 1. | B56: 2. | C56: 3. | D56: 4. | E56: 5. | F56: 6. | G56: 7. | H56: 8. | I56: 9. | J56: 10. | K56: 11.
C57: PSV:
B58: oddíl 712 | C58: Povlakové krytiny:
A59: =A50+1 -> 29 | B59: C-712300833-0 | C59: ODSTR IZOL POVL STRECH PL 3 VRSTVY | D59: M2 | E59: 27.26 | G59: =E59*F59 -> 0 | I59: =E59*H59 -> 0 | J59: 0.014 | K59: =E59*J59 -> 0.38164
B60: množství = | C60: 4,7*5,8
B61: 712 | C61: POVLAKOVÉ KRYTINY CELKEM | G61: =SUM(G59:G60) -> 0 | I61: =SUM(I59:I60) -> 0 | K61: =SUM(K59:K60) -> 0.38164
B62: oddíl 713 | C62: Izolace tepelné:
A63: =A59+1 -> 30 | B63: C-713100833-0 | C63: ODSTR IZOL TEP DESKY/PASY MINER 10CM | D63: M2 | E63: 520 | G63: =E63*F63 -> 0 | I63: =E63*H63 -> 0 | J63: 0.006 | K63: =E63*J63 -> 3.12
B64: 713 | C64: IZOLACE TEPELNÉ CELKEM | G64: =SUM(G63:G63) -> 0 | I64: =SUM(I63:I63) -> 0 | K64: =SUM(K63:K63) -> 3.12
B65: oddíl 762 | C65: Konstrukce tesařské:
A66: =A63+1 -> 31 | B66: C-762131811-0 | C66: DMTZ TESAR BEDNENI STEN Z PRKEN HRUB | D66: M2 | E66: 357.28 | G66: =E66*F66 -> 0 | I66: =E66*H66 -> 0 | J66: 0.014165024 | K66: =E66*J66 -> 5.0608798
B67: množství = | C67: (12,46+13,06)*2*7,0
A68: =A66+1 -> 32 | B68: C-762341811-0 | C68: DMTZ TESAR BEDNENI STRECH Z PRKEN | D68: M2 | E68: 175.7876 | G68: =E68*F68 -> 0 | I68: =E68*H68 -> 0 | J68: 0.015 | K68: =E68*J68 -> 2.636814
B69: množství = | C69: 13,46*13,06
B70: 762 | C70: KONSTRUKCE TESAŘSKÉ CELKEM | G70: =SUM(G66:G69) -> 0 | I70: =SUM(I66:I69) -> 0 | K70: =SUM(K66:K69) -> 7.6976938
B71: oddíl 765 | C71: Tvrdé krytiny:
A72: =A68+1 -> 33 | B72: R-765321800-0 | C72: DMTZ AZC OBKLADU STEN TL 10MM | D72: M2 | E72: 532.4676 | G72: =E72*F72 -> 0 | I72: =E72*H72 -> 0 | J72: 0.014 | K72: =E72*J72 -> 7.4545464
B73: množství = | C73: 14,06*12,46+(12,46+13,06)*2*7,0
A74: =A72+1 -> 34 | B74: C-765328801-0 | C74: DMTZ AZC HREBENU/NAROZI KRYTINY HLAD | D74: M | E74: 12.46 | G74: =E74*F74 -> 0 | I74: =E74*H74 -> 0 | J74: 0.003 | K74: =E74*J74 -> 0.03738
A75: =A74+1 -> 35 | B75: C-765999991-0 | C75: HZS PRACE POKRYVACSKE TVRDYCH KRYTIN - ZTIZENA PRACE | D75: HOD | E75: 72.8 | G75: =E75*F75 -> 0 | I75: =E75*H75 -> 0 | J75: 0 | K75: =E75*J75 -> 0
B76: 765 | C76: TVRDÉ KRYTINY CELKEM | G76: =SUM(G72:G75) -> 0 | I76: =SUM(I72:I75) -> 0 | K76: =SUM(K72:K75) -> 7.4919264
C78: Základní rozpočtové náklady stav. objektu celkem (bez DPH) : | J78: ='KRYCÍ LIST SO-01'!E20 -> 0

Sheet KRYCÍ LIST SO-02
A1: KRYCÍ LIST ROZPOČTU
A3: Kód objektu: | E3: Název objektu: | K3: KSO: | M3: Cenová úroveň:
A4: SO-02 | E4: NOVÁ TĚLOCVIČNA | M4: 2025/II
A5: Kód stavby: | E5: Název stavby: | K5: SKP: | M5: Účelová M.J:
E6: ZÁKL ŠKOLA MOCHOV PŘÍSTAVBA TĚLOCVIČNY
A7: Projektant: | D7: Hana Pavlíčková | H7: Počet účel. měrných jednotek:
A8: Objednatel: | D8: obec Mochov, Sokolovská 92 | H8: Náklady na měrnou jednotku: | M8: =IF(M7=0,"",E28/M7)
A9: Počet listů: | H9: Zakázkové čís.:
A10: Zpracovatel: | H10: Zhotovitel:
A12: ROZPOČTOVÉ NÁKLADY
A13: Základní rozpočtové náklady (ZRN) | G13: Vedlejší rozpočtové náklady (VRN)
B14: Dodávka celkem | E14: ='REKAPITULACE SO-02'!C47 -> 0 | G14: Ztížené výrobní podmínky | L14: % | M14: =E20*K14/100 -> 0
B15: Montáž celkem | E15: ='REKAPITULACE SO-02'!D47 -> 0 | G15: Oborová přirážka | L15: % | M15: =E20*K15/100 -> 0
A16: Z | B16: HSV celkem | E16: ='REKAPITULACE SO-02'!E21 -> 0 | G16: Přesun stavebních kapacit | L16: % | M16: =E20*K16/100 -> 0
A17: R | B17: PSV celkem | E17: ='REKAPITULACE SO-02'!E36 -> 0 | G17: Mimostaveništní doprava | K17: 3.5 | L17: % | M17: =E20*K17/100 -> 0
A18: N | B18: Instalace | E18: ='REKAPITULACE SO-02'!E41 -> 0 | G18: Zařízení staveniště | K18: 2.5 | L18: % | M18: =E20*K18/100 -> 0
A19: : | B19: Montáže | E19: ='REKAPITULACE SO-02'!E45 -> 0 | G19: Provoz investora | K19: 1 | L19: % | M19: =E20*K19/100 -> 0
A20: ZRN celkem | E20: =SUM(E16:E19) -> 0 | G20: Kompletační činnost | K20: 2 | L20: % | M20: =E20*K20/100 -> 0
A21: I: Projektové práce | E21: 0 | G21: Ostatní VRN | L21: % | M21: =E20*K21/100 -> 0
A22: II: Technologie | E22: 0 | G22: Rezerva | L22: % | M22: =E20*K22/100 -> 0
A23: VII: Mobiliář | E23: 0 | L23: % | M23: =E20*K23/100 -> 0
A24: ZRN+I+II+VII | E24: =SUM(E20:E23) -> 0 | G24: Ostatní rozpočtové náklady (ORN)
A25: VRN celkem | E25: =SUM(M14:M23) -> 0 | L25: % | M25: =E20*K25/100 -> 0
A26: ORN celkem | E26: =SUM(M25:M26) -> 0 | L26: % | M26: =E20*K26/100 -> 0
A27: DRN celkem | E27: =SUM(M28:M28) -> 0 | G27: Doplňkové rozpočtové náklady (DRN)
A28: Náklady celkem | E28: =SUM(E24:E27) -> 0 | L28: % | M28: =E20*K28/100 -> 0
A29: Vypracoval | E29: Za zhotovitele | H29: Za objednatele
E30: Jméno: | H30: Jméno:
A31: Datum: | E31: Datum: | H31: Datum:
E32: Podpis: | H32: Podpis:
A35: Základ pro DPH | E35: 21 | G35: % činí : | H35: =E28-H37 -> 0 | M35: Kč
A36: DPH | E36: 21 | G36: % činí : | H36: =H35*E36/100 -> 0 | M36: Kč
A37: Základ pro DPH | E37: 12 | G37: % činí : | H37: 0 | M37: Kč
A38: DPH | E38: 12 | G38: % činí : | H38: =H37*E38/100 -> 0 | M38: Kč
A39: CENA ZA OBJEKT CELKEM VČETNĚ DPH: | H39: =SUM(H35:H38) -> 0 | M39: Kč

Sheet REKAPITULACE SO-02
A1: Stavba : - ZÁKL ŠKOLA MOCHOV PŘÍSTAVBA TĚLOCVIČNY | D1: Cenová úroveň : 2025/II
A2: Objekt : SO-02 - NOVÁ TĚLOCVIČNA | D2: Datum zpracování :
A4: REKAPITULACE ROZPOČTU
A6: Oddíl | B6: Název oddílu / řemeslného oboru | C6: CENA BEZ DPH
C7: Dodávka | D7: Montáž | E7: Celkem
B8: HSV:
A9: 1 | B9: Zemní práce | C9: ='ROZPOČET SO-02'!G19 -> 0 | D9: ='ROZPOČET SO-02'!I19 -> 0 | E9: =C9+D9 -> 0
A10: 2 | B10: Základy a zvláštní zakládání | C10: ='ROZPOČET SO-02'!G30 -> 0 | D10: ='ROZPOČET SO-02'!I30 -> 0 | E10: =C10+D10 -> 0
A11: 3 | B11: Svislé konstrukce | C11: ='ROZPOČET SO-02'!G47 -> 0 | D11: ='ROZPOČET SO-02'!I47 -> 0 | E11: =C11+D11 -> 0
A12: 4 | B12: Vodorovné konstrukce | C12: ='ROZPOČET SO-02'!G56 -> 0 | D12: ='ROZPOČET SO-02'!I56 -> 0 | E12: =C12+D12 -> 0
A13: 5 | B13: Komunikace | C13: ='ROZPOČET SO-02'!G59 -> 0 | D13: ='ROZPOČET SO-02'!I59 -> 0 | E13: =C13+D13 -> 0
A14: 61 | B14: Úpravy povrchů vnitřní | C14: ='ROZPOČET SO-02'!G64 -> 0 | D14: ='ROZPOČET SO-02'!I64 -> 0 | E14: =C14+D14 -> 0
A15: 62 | B15: Úpravy povrchů vnější | C15: ='ROZPOČET SO-02'!G74 -> 0 | D15: ='ROZPOČET SO-02'!I74 -> 0 | E15: =C15+D15 -> 0
A16: 63 | B16: Podlahy | C16: ='ROZPOČET SO-02'!G86 -> 0 | D16: ='ROZPOČET SO-02'!I86 -> 0 | E16: =C16+D16 -> 0
A17: 64 | B17: Osazování výplní otvorů | C17: ='ROZPOČET SO-02'!G97 -> 0 | D17: ='ROZPOČET SO-02'!I97 -> 0 | E17: =C17+D17 -> 0
A18: 9 | B18: Ostatní konstrukce a práce | C18: ='ROZPOČET SO-02'!G101 -> 0 | D18: ='ROZPOČET SO-02'!I101 -> 0 | E18: =C18+D18 -> 0
A19: 94 | B19: Lešení a stavební výtahy | C19: ='ROZPOČET SO-02'!G121 -> 0 | D19: ='ROZPOČET SO-02'!I121 -> 0 | E19: =C19+D19 -> 0
A20: 99 | B20: Přesun hmot | C20: ='ROZPOČET SO-02'!G125 -> 0 | D20: ='ROZPOČET SO-02'!I125 -> 0 | E20: =C20+D20 -> 0
B21: HSV CELKEM | C21: =SUM(C9:C20) -> 0 | D21: =SUM(D9:D20) -> 0 | E21: =SUM(E9:E20) -> 0
B23: PSV:
A24: 711 | B24: Izolace proti vodě | C24: ='ROZPOČET SO-02'!G141 -> 0 | D24: ='ROZPOČET SO-02'!I141 -> 0 | E24: =C24+D24 -> 0
A25: 712 | B25: Povlakové krytiny | C25: ='ROZPOČET SO-02'!G150 -> 0 | D25: ='ROZPOČET SO-02'!I150 -> 0 | E25: =C25+D25 -> 0
A26: 713 | B26: Izolace tepelné | C26: ='ROZPOČET SO-02'!G167 -> 0 | D26: ='ROZPOČET SO-02'!I167 -> 0 | E26: =C26+D26 -> 0
A27: 762 | B27: Konstrukce tesařské | C27: ='ROZPOČET SO-02'!G178 -> 0 | D27: ='ROZPOČET SO-02'!I178 -> 0 | E27: =C27+D27 -> 0
A28: 763 | B28: Dřevostavby a konstrukce sádrokartonové | C28: ='ROZPOČET SO-02'!G186 -> 0 | D28: ='ROZPOČET SO-02'!I186 -> 0 | E28: =C28+D28 -> 0
A29: 764 | B29: Konstrukce klempířské | C29: ='ROZPOČET SO-02'!G207 -> 0 | D29: ='ROZPOČET SO-02'!I207 -> 0 | E29: =C29+D29 -> 0
A30: 766 | B30: Konstrukce truhlářské | C30: ='ROZPOČET SO-02'!G229 -> 0 | D30: ='ROZPOČET SO-02'!I229 -> 0 | E30: =C30+D30 -> 0
A31: 771 | B31: Podlahy z dlaždic | C31: ='ROZPOČET SO-02'!G239 -> 0 | D31: ='ROZPOČET SO-02'!I239 -> 0 | E31: =C31+D31 -> 0
A32: 776 | B32: Podlahy povlakové | C32: ='ROZPOČET SO-02'!G248 -> 0 | D32: ='ROZPOČET SO-02'!I248 -> 0 | E32: =C32+D32 -> 0
A33: 777 | B33: Podlahy syntetické | C33: ='ROZPOČET SO-02'!G253 -> 0 | D33: ='ROZPOČET SO-02'!I253 -> 0 | E33: =C33+D33 -> 0
A34: 781 | B34: Obklady | C34: ='ROZPOČET SO-02'!G263 -> 0 | D34: ='ROZPOČET SO-02'!I263 -> 0 | E34: =C34+D34 -> 0
A35: 784 | B35: Malby | C35: ='ROZPOČET SO-02'!G268 -> 0 | D35: ='ROZPOČET SO-02'!I268 -> 0 | E35: =C35+D35 -> 0
B36: PSV CELKEM | C36: =SUM(C24:C35) -> 0 | D36: =SUM(D24:D35) -> 0 | E36: =SUM(E24:E35) -> 0
B38: INSTALACE:
A39: 720 | B39: Zdravotně technické instalace | C39: ='ROZPOČET SO-02'!G278+'ROZPOČET SO-02'!G281+'ROZPOČET SO-02'!G308 -> 0 | D39: ='ROZPOČET SO-02'!I278+'ROZPOČET SO-02'!I281+'ROZPOČET SO-02'!I308 -> 0 | E39: =C39+D39 -> 0
A40: 730 | B40: Ústřední vytápění | C40: ='ROZPOČET SO-02'!G312+'ROZPOČET SO-02'!G316 -> 0 | D40: ='ROZPOČET SO-02'!I312+'ROZPOČET SO-02'!I316 -> 0 | E40: =C40+D40 -> 0
B41: INSTALACE CELKEM | C41: =SUM(C39:C40) -> 0 | D41: =SUM(D39:D40) -> 0 | E41: =SUM(E39:E40) -> 0
B43: MONTÁŽNÍ PRÁCE:
A44: M21 | B44: Montáže silnoproud | C44: ='ROZPOČET SO-02'!G339 -> 0 | D44: ='ROZPOČET SO-02'!I339 -> 0 | E44: =C44+D44 -> 0
B45: MONTÁŽNÍ PRÁCE CELKEM | C45: =SUM(C44:C44) -> 0 | D45: =SUM(D44:D44) -> 0 | E45: =SUM(E44:E44) -> 0
B47: Základní rozpočtové náklady stavebního objektu celkem | C47: =C21+C36+C41+C45 -> 0 | D47: =D21+D36+D41+D45 -> 0 | E47: =E21+E36+E41+E45 -> 0

Sheet ROZPOČET SO-02
A1: Stavba : - ZÁKL ŠKOLA MOCHOV PŘÍSTAVBA TĚLOCVIČNY | J1: Cenová úroveň : 2025/II
A2: Objekt : SO-02 - NOVÁ TĚLOCVIČNA | J2: Datum zpracování :
A4: POLOŽKOVÝ ROZPOČET S VÝKAZEM VÝMĚR
A6: Poř. | B6: Kód položky | C6: Text položky | D6: M.J. | E6: Množství | F6: CENA | J6: HMOTNOST
A7: čís. | F7: Dodávka | H7: Montáž
A8: pol. | F8: jednotková | G8: celková | H8: jednotková | I8: celková | J8: jednotková | K8: celková
A9: 1. | B9: 2. | C9: 3. | D9: 4. | E9: 5. | F9: 6. | G9: 7. | H9: 8. | I9: 9. | J9: 10. | K9: 11.
C10: HSV:
B11: oddíl 1 | C11: Zemní práce:
A12: 1 | B12: C-121101052-0 | C12: SEJMUTI ORNICE -50M3 S VOD PREM -100M | D12: M3 | E12: 300 | G12: =E12*F12 -> 0 | I12: =E12*H12 -> 0 | J12: 0 | K12: =E12*J12 -> 0
A13: =A12+1 -> 2 | B13: C-132201101-0 | C13: HLOUB RYH TR 3 S DO 60CM DO 100M3 | D13: M3 | E13: 76.86 | G13: =E13*F13 -> 0 | I13: =E13*H13 -> 0 | J13: 0 | K13: =E13*J13 -> 0
B14: množství = | C14: (20,75+25,0)*2*1,2*0,7
A15: =A13+1 -> 3 | B15: C-132201109-0 | C15: PRIPL ZA LEPIVOST HL RYH TR 3 60CM | D15: M3 | E15: 76.86 | G15: =E15*F15 -> 0 | I15: =E15*H15 -> 0 | J15: 0 | K15: =E15*J15 -> 0
A16: =A15+1 -> 4 | B16: C-162201103-0 | C16: VODOROVNE PREM VYKOPKU DO 100M TR 1-4 | D16: M3 | E16: 76.86 | G16: =E16*F16 -> 0 | I16: =E16*H16 -> 0 | J16: 0 | K16: =E16*J16 -> 0
A17: =A16+1 -> 5 | B17: C-181300103-0 | C17: ROZPR ZEMINY ROVINA 500M2 TL 20CM | D17: M2 | E17: 384.3 | G17: =E17*F17 -> 0 | I17: =E17*H17 -> 0 | J17: 0 | K17: =E17*J17 -> 0
B18: množství = | C18: 76,86*5
B19: 1 | C19: ZEMNÍ PRÁCE CELKEM | G19: =SUM(G12:G18) -> 0 | I19: =SUM(I12:I18) -> 0 | K19: =SUM(K12:K18) -> 0
B20: oddíl 2 | C20: Základy a zvláštní zakládání:
A21: =A17+1 -> 6 | B21: C-274311711-0 | C21: BETON ZAKL PASU PROKL SPC TR C20/25 | D21: M3 | E21: 46.053 | G21: =E21*F21 -> 0 | I21: =E21*H21 -> 0 | J21: 2.5785684 | K21: =E21*J21 -> 118.75081
B22: množství = | C22: (25,0+20,25)*2*0,7*0,6+10,25*0,6*0,7+4,45*2*0,7*0,6
A23: =A21+1 -> 7 | B23: C-274351215-0 | C23: BEDNENI STEN ZAKL PASU ZRIZENI | D23: M2 | E23: 129.42 | G23: =E23*F23 -> 0 | I23: =E23*H23 -> 0 | J23: 0.001760281 | K23: =E23*J23 -> 0.22781557
B24: množství = | C24: (20,75+23,6+4,45)*2*0,6*2+10,25*2*0,6
A25: =A23+1 -> 8 | B25: C-274351216-0 | C25: BEDNENI STEN ZAKL PASU ODSTRANENI | D25: M2 | E25: 129.22 | G25: =E25*F25 -> 0 | I25: =E25*H25 -> 0 | J25: 0.000222 | K25: =E25*J25 -> 0.02868684
A26: =A25+1 -> 9 | B26: C-274385713-0 | C26: ZAKL PASY ZTRAC BED TL 50CM B C20/25 | D26: M2 | E26: 53.925 | G26: =E26*F26 -> 0 | I26: =E26*H26 -> 0 | J26: 1.1661819 | K26: =E26*J26 -> 62.886358
B27: množství = | C27: (23,6+20,75+4,45)*2*0,5+10,25*0,5
A28: =A26+1 -> 10 | B28: C-274366181-0 | C28: VYZTUZ ZAKL PASU NADRZI OCEL 10505 | D28: T | E28: 1.18646 | G28: =E28*F28 -> 0 | I28: =E28*H28 -> 0 | J28: 1.0277473 | K28: =E28*J28 -> 1.219381
B29: množství = | C29: 53,93*0,4*0,055
B30: 2 | C30: ZÁKLADY A ZVLÁŠTNÍ ZAKLÁDÁNÍ CELKEM | G30: =SUM(G21:G29) -> 0 | I30: =SUM(I21:I29) -> 0 | K30: =SUM(K21:K29) -> 183.11305
B31: oddíl 3 | C31: Svislé konstrukce:
A32: =A28+1 -> 11 | B32: C-311237312-0 | C32: ZDI OBV PTH BR EKO+ PROFI 50 MAL TENK | D32: M2 | E32: 670.7125 | G32: =E32*F32 -> 0 | I32: =E32*H32 -> 0 | J32: 0.32562278 | K32: =E32*J32 -> 218.39927
B33: množství = | C33: (4,45*2+11,45)*3,25+(24,0+16,0)*2*8,5+4,15*2*3,25-(2,0*0,75*16+3,0*1,375*16+1,1*2,0*3+1,45*2,0*2)
A34: =A32+1 -> 12 | B34: C-342247592-0 | C34: PRICKY PTH BROUS PROFI 11,5 MAL TENK | D34: M2 | E34: 59.675 | G34: =E34*F34 -> 0 | I34: =E34*H34 -> 0 | J34: 0.10443278 | K34: =E34*J34 -> 6.2320264
B35: množství = | C35: (4,45*2+2,05*2+1,7+2,3+1,9*2+0,9*2+1,2+1,6+4,15)*2,5-(0,9*2,0*2+0,8*2,0*4+0,7*2,0*3)
A36: =A34+1 -> 13 | B36: C-317167110-0 | C36: PREKLAD PTH KERAM PLOCHY 11,5x7,1x100 | D36: KS | E36: 6 | G36: =E36*F36 -> 0 | I36: =E36*H36 -> 0 | J36: 0.01828 | K36: =E36*J36 -> 0.10968
A37: =A36+1 -> 14 | B37: C-317167112-0 | C37: PREKLAD PTH KERAM PLOCHY 11,5x7,1x125 | D37: KS | E37: 2 | G37: =E37*F37 -> 0 | I37: =E37*H37 -> 0 | J37: 0.023959 | K37: =E37*J37 -> 0.047918
A38: =A37+1 -> 15 | B38: C-317167315-0 | C38: PREKLAD PTH NOSNY VYSOKY 23,8x7x150 | D38: KS | E38: 12 | G38: =E38*F38 -> 0 | I38: =E38*H38 -> 0 | J38: 0.054218 | K38: =E38*J38 -> 0.650616
A39: =A38+1 -> 16 | B39: C-317167310-0 | C39: PREKLAD PTH NOSNY VYSOKY 23,8x7x100 | D39: KS | E39: 54 | G39: =E39*F39 -> 0 | I39: =E39*H39 -> 0 | J39: 0.036368 | K39: =E39*J39 -> 1.963872
A40: =A39+1 -> 17 | B40: C-317167320-0 | C40: PREKLAD PTH NOSNY VYSOKY 23,8x7x200 | D40: KS | E40: 6 | G40: =E40*F40 -> 0 | I40: =E40*H40 -> 0 | J40: 0.072068 | K40: =E40*J40 -> 0.432408
A41: =A40+1 -> 18 | B41: C-317167325-0 | C41: PREKLAD PTH NOSNY VYSOKY 23,8x7x250 | D41: KS | E41: 96 | G41: =E41*F41 -> 0 | I41: =E41*H41 -> 0 | J41: 0.089988 | K41: =E41*J41 -> 8.638848
A42: =A41+1 -> 19 | B42: C-317167335-0 | C42: PREKLAD PTH NOSNY VYSOKY 23,8x7x350 | D42: KS | E42: 24 | G42: =E42*F42 -> 0 | I42: =E42*H42 -> 0 | J42: 0.129258 | K42: =E42*J42 -> 3.102192
A43: =A42+1 -> 20 | B43: C-317998113-0 | C43: IZOL TEPEL MEZI PREKL PTH POLYST 8CM | D43: M | E43: 68 | G43: =E43*F43 -> 0 | I43: =E43*H43 -> 0 | J43: 0.0004416 | K43: =E43*J43 -> 0.0300288
B44: množství = | C44: 3,5*4+2,5*16+2,0+1,5*2+9,0
A45: =A43+1 -> 21 | B45: C-346244355-0 | C45: OBEZDIVKY ZARIZOVACICH PRADMETU | D45: M2 | E45: 4.5 | G45: =E45*F45 -> 0 | I45: =E45*H45 -> 0 | J45: 0.1610768 | K45: =E45*J45 -> 0.7248456
B46: množství = | C46: (1,2+0,9+0,9)*1,5
B47: 3 | C47: SVISLÉ KONSTRUKCE CELKEM | G47: =SUM(G32:G46) -> 0 | I47: =SUM(I32:I46) -> 0 | K47: =SUM(K32:K46) -> 240.33171
B48: oddíl 4 | C48: Vodorovné konstrukce:
A49: =A45+1 -> 22 | B49: C-417321515-0 | C49: BETON ZTUZ PASU/VENCU ZELEZ TR C25/30 | D49: M3 | E49: 23.58125 | G49: =E49*F49 -> 0 | I49: =E49*H49 -> 0 | J49: 2.4072097 | K49: =E49*J49 -> 56.765015
B50: množství = | C50: (4,45*2+11,45+4,15*2)*0,5*0,25+(24,0+16,0)*2*0,5*0,25*2
A51: =A49+1 -> 23 | B51: C-417351115-0 | C51: BEDNENI ZTUZUJICICH VENCU ZRIZENI | D51: M2 | E51: 132.475 | G51: =E51*F51 -> 0 | I51: =E51*H51 -> 0 | J51: 0.003369553 | K51: =E51*J51 -> 0.44638153
B52: množství = | C52: (16,0+24,0)*2*0,35*2*2+(4,45*4+11,45)*0,35*2
A53: =A51+1 -> 24 | B53: C-417351116-0 | C53: BEDNENI ZTUZUJICICH VENCU ODSTRANENI | D53: M2 | E53: 132.48 | G53: =E53*F53 -> 0 | I53: =E53*H53 -> 0 | J53: 0.000222 | K53: =E53*J53 -> 0.02941056
A54: =A53+1 -> 25 | B54: C-417361821-0 | C54: VYZTUZ ZTUZUJICICH PASU OCEL 10505 | D54: T | E54: 1.65067 | G54: =E54*F54 -> 0 | I54: =E54*H54 -> 0 | J54: 1.0168391 | K54: =E54*J54 -> 1.6784659
B55: množství = | C55: 23,581*0,07
B56: 4 | C56: VODOROVNÉ KONSTRUKCE CELKEM | G56: =SUM(G49:G55) -> 0 | I56: =SUM(I49:I55) -> 0 | K56: =SUM(K49:K55) -> 58.919273
B57: oddíl 5 | C57: Komunikace:
A58: =A54+1 -> 26 | B58: C-564762111-0 | C58: PODKLAD Z VIBROVANEHO STERKU TL 20CM | D58: M2 | E58: 18.6 | G58: =E58*F58 -> 0 | I58: =E58*H58 -> 0 | J58: 0.4857404 | K58: =E58*J58 -> 9.0347714
B59: 5 | C59: KOMUNIKACE CELKEM | G59: =SUM(G58:G58) -> 0 | I59: =SUM(I58:I58) -> 0 | K59: =SUM(K58:K58) -> 9.0347714
B60: oddíl 61 | C60: Úpravy povrchů vnitřní:
A61: =A58+1 -> 27 | B61: C-612421637-0 | C61: OMIT VNI STEN VAPCEM STUKOVE | D61: M2 | E61: 620.9 | G61: =E61*F61 -> 0 | I61: =E61*H61 -> 0 | J61: 0.0476577 | K61: =E61*J61 -> 29.590666
B62: množství = | C62: (24,0+15,0)*2*6,9+(3,4+4,5+2,25+5,0+4,15+4,15*2)*2*2,7+(2,05*3+5,0+2,25)*2*0,7-(3,0*5,5*3+2,0*0,75*16+0,8*2,0*3+0,9*2,0*3+0,7*2,0)
A63: =A61+1 -> 28 | B63: C-612421626-0 | C63: OMIT VNI STEN VAPCEM HLADKE | D63: M2 | E63: 83 | G63: =E63*F63 -> 0 | I63: =E63*H63 -> 0 | J63: 0.04413348 | K63: =E63*J63 -> 3.6630788
B64: 61 | C64: ÚPRAVY POVRCHŮ VNITŘNÍ CELKEM | G64: =SUM(G61:G63) -> 0 | I64: =SUM(I61:I63) -> 0 | K64: =SUM(K61:K63) -> 33.253745
B65: oddíl 62 | C65: Úpravy povrchů vnější:
A66: =A63+1 -> 29 | B66: C-622421143-0 | C66: OMIT VNE STEN VAPCEM STUKOVE SLOZ 1-2 | D66: M2 | E66: 665.92 | G66: =E66*F66 -> 0 | I66: =E66*H66 -> 0 | J66: 0.0525748 | K66: =E66*J66 -> 35.010611
B67: množství = | C67: (16,0+25,0)*9,0*2+(4,75+4,45)*2*3,55-(3,0*5,5*4+2,0*0,75*16*1,45*2,0+0,9*2,0)
A68: =A66+1 -> 30 | B68: C-620991121-0 | C68: ZAKRYVANI OKENNICH OTVORU Z LESENI | D68: M2 | E68: 42.75 | G68: =E68*F68 -> 0 | I68: =E68*H68 -> 0 | J68: 0.00014427 | K68: =E68*J68 -> 0.0061675425
B69: množství = | C69: 3,0*5,5+2,0*0,75*16+0,5*0,5*9
A70: =A68+1 -> 31 | B70: C-620992121-0 | C70: OCHR VNEJS RAMU OKEN LEP PASKOU -1M2 | D70: KS | E70: 25 | G70: =E70*F70 -> 0 | I70: =E70*H70 -> 0 | J70: 1.38e-05 | K70: =E70*J70 -> 0.000345
A71: =A70+1 -> 32 | B71: C-620992124-0 | C71: OCHR VNEJS RAMU OKEN LEP PASKOU 10M2- | D71: KS | E71: 4 | G71: =E71*F71 -> 0 | I71: =E71*H71 -> 0 | J71: 5.34e-05 | K71: =E71*J71 -> 0.0002136
A72: =A71+1 -> 33 | B72: C-620471811-0 | C72: NATER PENETRACNI VNE OMIT SLOZ 1-4 1x | D72: M2 | E72: 665.92 | G72: =E72*F72 -> 0 | I72: =E72*H72 -> 0 | J72: 0 | K72: =E72*J72 -> 0
A73: =A72+1 -> 34 | B73: C-622414212-0 | C73: NATER OMIT FASAD 1-2 VAP BAR 2 | D73: M2 | E73: 665.92 | G73: =E73*F73 -> 0 | I73: =E73*H73 -> 0 | J73: 0.0006188 | K73: =E73*J73 -> 0.4120713
B74: 62 | C74: ÚPRAVY POVRCHŮ VNĚJŠÍ CELKEM | G74: =SUM(G66:G73) -> 0 | I74: =SUM(I66:I73) -> 0 | K74: =SUM(K66:K73) -> 35.429408
B75: oddíl 63 | C75: Podlahy:
A76: =A73+1 -> 35 | B76: C-631315811-0 | C76: MAZANINA Z BETONU TL 24CM TR C25/30 | D76: M3 | E76: 73.007625 | G76: =E76*F76 -> 0 | I76: =E76*H76 -> 0 | J76: 2.36441 | K76: =E76*J76 -> 172.61996
B77: množství = | C77: (25,0*16,0+4,95*11,65+4,15*7,0)*0,15
A78: =A76+1 -> 36 | B78: C-631319155-0 | C78: PRIPL ZA PREHLAZ POD POVLAKY TL 24CM | D78: M3 | E78: 73.008 | G78: =E78*F78 -> 0 | I78: =E78*H78 -> 0 | J78: 0 | K78: =E78*J78 -> 0
A79: =A78+1 -> 37 | B79: C-631351101-0 | C79: BEDNENI V PODLAHACH ZRIZENI | D79: M2 | E79: 30.0875 | G79: =E79*F79 -> 0 | I79: =E79*H79 -> 0 | J79: 0.016275553 | K79: =E79*J79 -> 0.4896907
B80: množství = | C80: (25,0+20,75+4,15+4,45)*0,25*2+11,65*0,25
A81: =A79+1 -> 38 | B81: C-631351102-0 | C81: BEDNENI V PODLAHACH ODSTRANENI | D81: M2 | E81: 30.09 | G81: =E81*F81 -> 0 | I81: =E81*H81 -> 0 | J81: 0.000222 | K81: =E81*J81 -> 0.00667998
A82: =A81+1 -> 39 | B82: C-631361921-0 | C82: VYZTUZ MAZANIN STRKPIS SVAR SITE | D82: T | E82: 2.838551 | G82: =E82*F82 -> 0 | I82: =E82*H82 -> 0 | J82: 1.0530587 | K82: =E82*J82 -> 2.9891608
B83: množství = | C83: 73,008/0,15*0,0054*1,08
A84: =A82+1 -> 40 | B84: C-631571003-0 | C84: NASYP ZE STERKOPISKU 0-32 ZPEVNUJICI | D84: M3 | E84: 73.008 | G84: =E84*F84 -> 0 | I84: =E84*H84 -> 0 | J84: 1.837 | K84: =E84*J84 -> 134.1157
A85: =A84+1 -> 41 | B85: C-632922336-0 | C85: DLAZBA BET VYMYVANA 40x40CM STERKOPIS | D85: M2 | E85: 18.6 | G85: =E85*F85 -> 0 | I85: =E85*H85 -> 0 | J85: 0.27074 | K85: =E85*J85 -> 5.035764
B86: 63 | C86: PODLAHY CELKEM | G86: =SUM(G76:G85) -> 0 | I86: =SUM(I76:I85) -> 0 | K86: =SUM(K76:K85) -> 315.25695
B87: oddíl 64 | C87: Osazování výplní otvorů:
A88: =A85+1 -> 42 | B88: C-641991611-0 | C88: OSAZ RAMU OKEN PLAST PLOCHA DO 1M2 | D88: KS | E88: 23 | G88: =E88*F88 -> 0 | I88: =E88*H88 -> 0 | J88: 0.000574 | K88: =E88*J88 -> 0.013202
A89: =A88+1 -> 43 | B89: C-641991721-0 | C89: OSAZ RAMU OKEN PLAST PLOCHA DO 4M2 | D89: KS | E89: 16 | G89: =E89*F89 -> 0 | I89: =E89*H89 -> 0 | J89: 0.001058 | K89: =E89*J89 -> 0.016928
A90: =A89+1 -> 44 | B90: C-642952121-0 | C90: OSAZ DVER ZARUB DR DODAT HOBL -2,5M2 | D90: KS | E90: 10 | G90: =E90*F90 -> 0 | I90: =E90*H90 -> 0 | J90: 0.003467048 | K90: =E90*J90 -> 0.03467048
A91: =A90+1 -> 45 | B91: H-61182115-1 | C91: ZARUBEN OBLOZK 60-90 7-15 DYHA | D91: KS | E91: 10 | G91: =E91*F91 -> 0 | I91: =E91*H91 -> 0 | J91: 0.021 | K91: =E91*J91 -> 0.21
A92: =A91+1 -> 46 | B92: C-642952770-0 | C92: OSAZ DVER ZARUB DREV OBLOZK DO 4,5M2 | D92: KS | E92: 1 | G92: =E92*F92 -> 0 | I92: =E92*H92 -> 0 | J92: 0.0015368 | K92: =E92*J92 -> 0.0015368
A93: =A92+1 -> 47 | B93: H-61182511-1 | C93: ZARUBEN OBLOZK POZ 110/145 7-15 FOL | D93: KS | E93: 1 | G93: =E93*F93 -> 0 | I93: =E93*H93 -> 0 | J93: 0.029 | K93: =E93*J93 -> 0.029
A94: =A93+1 -> 48 | B94: C-648991111-0 | C94: OSAZ PARAPET DESEK PLAST MC SIR 20CM | D94: M | E94: 72.55 | G94: =E94*F94 -> 0 | I94: =E94*H94 -> 0 | J94: 0.0088455 | K94: =E94*J94 -> 0.64174102
B95: množství = | C95: 0,95*9+0,95*16+3,05*16
A96: =A94+1 -> 49 | B96: H-60775330-1 | C96: PARAPET VNITR DTD TL 19 S 300MM +KRYT | D96: M | E96: 72.6 | G96: =E96*F96 -> 0 | I96: =E96*H96 -> 0 | J96: 0.00456 | K96: =E96*J96 -> 0.331056
B97: 64 | C97: OSAZOVÁNÍ VÝPLNÍ OTVORŮ CELKEM | G97: =SUM(G88:G96) -> 0 | I97: =SUM(I88:I96) -> 0 | K97: =SUM(K88:K96) -> 1.2781343
B98: oddíl 9 | C98: Ostatní konstrukce a práce:
A99: =A96+1 -> 50 | B99: C-916531111-0 | C99: OSAZ OBRUB ZAHON -OPERA DO LOZE Z BET | D99: M | E99: 4 | G99: =E99*F99 -> 0 | I99: =E99*H99 -> 0 | J99: 0.0885788 | K99: =E99*J99 -> 0.3543152
A100: =A99+1 -> 51 | B100: H-59217088-1 | C100: OBRUBNIK PARK ABO 10-25Z 100x10x25 PR | D100: KS | E100: 4.04 | G100: =E100*F100 -> 0 | I100: =E100*H100 -> 0 | J100: 0.054 | K100: =E100*J100 -> 0.21816
B101: 9 | C101: OSTATNÍ KONSTRUKCE A PRÁCE CELKEM | G101: =SUM(G99:G100) -> 0 | I101: =SUM(I99:I100) -> 0 | K101: =SUM(K99:K100) -> 0.5724752
B102: oddíl 94 | C102: Lešení a stavební výtahy:
...

Sheet KRYCÍ LIST SO-03
A1: KRYCÍ LIST ROZPOČTU
A3: Kód objektu: | E3: Název objektu: | K3: KSO: | M3: Cenová úroveň:
A4: SO-03 | E4: VENKOVNI ROZVODY SITI | M4: 2025/II
A5: Kód stavby: | E5: Název stavby: | K5: SKP: | M5: Účelová M.J:
E6: ZÁKL ŠKOLA MOCHOV PŘÍSTAVBA TĚLOCVIČNY
A7: Projektant: | D7: Hana Pavlíčková | H7: Počet účel. měrných jednotek:
A8: Objednatel: | D8: obec Mochov, Sokolovská 92 | H8: Náklady na měrnou jednotku: | M8: =IF(M7=0,"",E28/M7)
A9: Počet listů: | H9: Zakázkové čís.:
A10: Zpracovatel: | H10: Zhotovitel:
A12: ROZPOČTOVÉ NÁKLADY
A13: Základní rozpočtové náklady (ZRN) | G13: Vedlejší rozpočtové náklady (VRN)
B14: Dodávka celkem | E14: ='REKAPITULACE SO-03'!C18 -> 0 | G14: Ztížené výrobní podmínky | L14: % | M14: =E20*K14/100 -> 0
B15: Montáž celkem | E15: ='REKAPITULACE SO-03'!D18 -> 0 | G15: Oborová přirážka | L15: % | M15: =E20*K15/100 -> 0
A16: Z | B16: HSV celkem | E16: ='REKAPITULACE SO-03'!E12 -> 0 | G16: Přesun stavebních kapacit | L16: % | M16: =E20*K16/100 -> 0
A17: R | B17: PSV celkem | E17: 0 | G17: Mimostaveništní doprava | K17: 3.5 | L17: % | M17: =E20*K17/100 -> 0
A18: N | B18: Instalace | E18: 0 | G18: Zařízení staveniště | K18: 2.5 | L18: % | M18: =E20*K18/100 -> 0
A19: : | B19: Montáže | E19: ='REKAPITULACE SO-03'!E16 -> 0 | G19: Provoz investora | K19: 1 | L19: % | M19: =E20*K19/100 -> 0
A20: ZRN celkem | E20: =SUM(E16:E19) -> 0 | G20: Kompletační činnost | K20: 2 | L20: % | M20: =E20*K20/100 -> 0
A21: I: Projektové práce | E21: 0 | G21: Ostatní VRN | L21: % | M21: =E20*K21/100 -> 0
A22: II: Technologie | E22: 0 | G22: Rezerva | L22: % | M22: =E20*K22/100 -> 0
A23: VII: Mobiliář | E23: 0 | L23: % | M23: =E20*K23/100 -> 0
A24: ZRN+I+II+VII | E24: =SUM(E20:E23) -> 0 | G24: Ostatní rozpočtové náklady (ORN)
A25: VRN celkem | E25: =SUM(M14:M23) -> 0 | L25: % | M25: =E20*K25/100 -> 0
A26: ORN celkem | E26: =SUM(M25:M26) -> 0 | L26: % | M26: =E20*K26/100 -> 0
A27: DRN celkem | E27: =SUM(M28:M28) -> 0 | G27: Doplňkové rozpočtové náklady (DRN)
A28: Náklady celkem | E28: =SUM(E24:E27) -> 0 | L28: % | M28: =E20*K28/100 -> 0
A29: Vypracoval | E29: Za zhotovitele | H29: Za objednatele
E30: Jméno: | H30: Jméno:
A31: Datum: | E31: Datum: | H31: Datum:
E32: Podpis: | H32: Podpis:
A35: Základ pro DPH | E35: 21 | G35: % činí : | H35: =E28-H37 -> 0 | M35: Kč
A36: DPH | E36: 21 | G36: % činí : | H36: =H35*E36/100 -> 0 | M36: Kč
A37: Základ pro DPH | E37: 12 | G37: % činí : | H37: 0 | M37: Kč
A38: DPH | E38: 12 | G38: % činí : | H38: =H37*E38/100 -> 0 | M38: Kč
A39: CENA ZA OBJEKT CELKEM VČETNĚ DPH: | H39: =SUM(H35:H38) -> 0 | M39: Kč

Sheet REKAPITULACE SO-03
A1: Stavba : - ZÁKL ŠKOLA MOCHOV PŘÍSTAVBA TĚLOCVIČNY | D1: Cenová úroveň : 2025/II
A2: Objekt : SO-03 - VENKOVNI ROZVODY SITI | D2: Datum zpracování :
A4: REKAPITULACE ROZPOČTU
A6: Oddíl | B6: Název oddílu / řemeslného oboru | C6: CENA BEZ DPH
C7: Dodávka | D7: Montáž | E7: Celkem
B8: HSV:
A9: 1 | B9: Zemní práce | C9: ='ROZPOČET SO-03'!G30 -> 0 | D9: ='ROZPOČET SO-03'!I30 -> 0 | E9: =C9+D9 -> 0
A10: 3 | B10: Svislé konstrukce | C10: ='ROZPOČET SO-03'!G34 -> 0 | D10: ='ROZPOČET SO-03'!I34 -> 0 | E10: =C10+D10 -> 0
A11: 8 | B11: Potrubí | C11: ='ROZPOČET SO-03'!G48 -> 0 | D11: ='ROZPOČET SO-03'!I48 -> 0 | E11: =C11+D11 -> 0
B12: HSV CELKEM | C12: =SUM(C9:C11) -> 0 | D12: =SUM(D9:D11) -> 0 | E12: =SUM(E9:E11) -> 0
B14: MONTÁŽNÍ PRÁCE:
A15: M46 | B15: Zemní práce prováděné při externích montážích | C15: ='ROZPOČET SO-03'!G69 -> 0 | D15: ='ROZPOČET SO-03'!I69 -> 0 | E15: =C15+D15 -> 0
B16: MONTÁŽNÍ PRÁCE CELKEM | C16: =SUM(C15:C15) -> 0 | D16: =SUM(D15:D15) -> 0 | E16: =SUM(E15:E15) -> 0
B18: Základní rozpočtové náklady stavebního objektu celkem | C18: =C12+C16 -> 0 | D18: =D12+D16 -> 0 | E18: =E12+E16 -> 0

Sheet ROZPOČET SO-03
A1: Stavba : - ZÁKL ŠKOLA MOCHOV PŘÍSTAVBA TĚLOCVIČNY | J1: Cenová úroveň : 2025/II
A2: Objekt : SO-03 - VENKOVNI ROZVODY SITI | J2: Datum zpracování :
A4: POLOŽKOVÝ ROZPOČET S VÝKAZEM VÝMĚR
A6: Poř. | B6: Kód položky | C6: Text položky | D6: M.J. | E6: Množství | F6: CENA | J6: HMOTNOST
A7: čís. | F7: Dodávka | H7: Montáž
A8: pol. | F8: jednotková | G8: celková | H8: jednotková | I8: celková | J8: jednotková | K8: celková
A9: 1. | B9: 2. | C9: 3. | D9: 4. | E9: 5. | F9: 6. | G9: 7. | H9: 8. | I9: 9. | J9: 10. | K9: 11.
C10: HSV:
B11: oddíl 1 | C11: Zemní práce:
A12: 1 | B12: C-131201101-0 | C12: HLOUBENI JAM TR 3 NEZAP DO 100M3 | D12: M3 | E12: 40 | G12: =E12*F12 -> 0 | I12: =E12*H12 -> 0 | J12: 0 | K12: =E12*J12 -> 0
B13: množství = | C13: 10,0+5,0*3,0*2,0
A14: =A12+1 -> 2 | B14: C-131201109-0 | C14: PRIPL ZA LEPIVOST HL JAM TR 3 NEZAP | D14: M3 | E14: 40 | G14: =E14*F14 -> 0 | I14: =E14*H14 -> 0 | J14: 0 | K14: =E14*J14 -> 0
A15: =A14+1 -> 3 | B15: C-132301101-0 | C15: HLOUB RYH TR 4 S DO 60CM DO 100M3 | D15: M3 | E15: 195.84 | G15: =E15*F15 -> 0 | I15: =E15*H15 -> 0 | J15: 0 | K15: =E15*J15 -> 0
B16: množství = | C16: (56,0+46,0)*1,2*1,6
A17: =A15+1 -> 4 | B17: C-132301109-0 | C17: PRIPL ZA LEPIVOST HL RYH TR 4 60CM | D17: M3 | E17: 195.84 | G17: =E17*F17 -> 0 | I17: =E17*H17 -> 0 | J17: 0 | K17: =E17*J17 -> 0
A18: =A17+1 -> 5 | B18: C-161101101-0 | C18: SVISLE PREMIST VYKOPKU HORN 1-4 2,5M | D18: M3 | E18: 105.28 | G18: =E18*F18 -> 0 | I18: =E18*H18 -> 0 | J18: 0 | K18: =E18*J18 -> 0
B19: množství = | C19: 40,0+195,84/3
A20: =A18+1 -> 6 | B20: C-162201103-0 | C20: VODOROVNE PREM VYKOPKU DO 100M TR 1-4 | D20: M3 | E20: 64.48 | G20: =E20*F20 -> 0 | I20: =E20*H20 -> 0 | J20: 0 | K20: =E20*J20 -> 0
B21: množství = | C21: 24,48+40,0
A22: =A20+1 -> 7 | B22: C-175101101-0 | C22: OBSYP POTRUBI BEZ PROHOZENI SYPANINY | D22: M3 | E22: 24.48 | G22: =E22*F22 -> 0 | I22: =E22*H22 -> 0 | J22: 0 | K22: =E22*J22 -> 0
B23: množství = | C23: 102,0*1,2*0,2
A24: =A22+1 -> 8 | B24: C-174201101-0 | C24: ZASYP NEZHUTNENY JAM | D24: M3 | E24: 40 | G24: =E24*F24 -> 0 | I24: =E24*H24 -> 0 | J24: 0 | K24: =E24*J24 -> 0
A25: =A24+1 -> 9 | B25: H-58351110-1 | C25: KACIREK FR 8-16MM SEDY VL | D25: T | E25: 72 | G25: =E25*F25 -> 0 | I25: =E25*H25 -> 0 | J25: 1 | K25: =E25*J25 -> 72
B26: množství = | C26: 40,0*1,8
A27: =A25+1 -> 10 | B27: H-67352150-1 | C27: GEOTEXTILIE JUTOVA PROTIEROZ 500g/m2 | D27: M2 | E27: 50 | G27: =E27*F27 -> 0 | I27: =E27*H27 -> 0 | J27: 0.0005 | K27: =E27*J27 -> 0.025
A28: =A27+1 -> 11 | B28: C-174101101-0 | C28: ZASYP ZHUTNENI JAM RYH KOLEM OBJEKTU | D28: M3 | E28: 171.36 | G28: =E28*F28 -> 0 | I28: =E28*H28 -> 0 | J28: 0 | K28: =E28*J28 -> 0
B29: množství = | C29: 195,84-24,48
B30: 1 | C30: ZEMNÍ PRÁCE CELKEM | G30: =SUM(G12:G29) -> 0 | I30: =SUM(I12:I29) -> 0 | K30: =SUM(K12:K29) -> 72.025
B31: oddíl 3 | C31: Svislé konstrukce:
A32: =A28+1 -> 12 | B32: C-386381117-0 | C32: MTZ JIMKY BET ZEL 12 M3 | D32: KS | E32: 1 | G32: =E32*F32 -> 0 | I32: =E32*H32 -> 0 | J32: 4.6063335 | K32: =E32*J32 -> 4.6063335
A33: =A32+1 -> 13 | B33: H-59224971-1 | C33: JIMKA RD JV 12 12M3 475x214x12+POKLOP | D33: SOUB | E33: 1 | G33: =E33*F33 -> 0 | I33: =E33*H33 -> 0 | J33: 10 | K33: =E33*J33 -> 10
B34: 3 | C34: SVISLÉ KONSTRUKCE CELKEM | G34: =SUM(G32:G33) -> 0 | I34: =SUM(I32:I33) -> 0 | K34: =SUM(K32:K33) -> 14.606333
B35: oddíl 8 | C35: Potrubí:
A36: =A33+1 -> 14 | B36: C-894912111-0 | C36: OSAZ SACHET PLAST KAN REVIZ OBJ 1,5M3 | D36: KS | E36: 5 | G36: =E36*F36 -> 0 | I36: =E36*H36 -> 0 | J36: 0.00192528 | K36: =E36*J36 -> 0.0096264
A37: =A36+1 -> 15 | B37: C-899101111-0 | C37: OSAZ SACHT POKLOPU S RAMEM DO 50kg | D37: KS | E37: 5 | G37: =E37*F37 -> 0 | I37: =E37*H37 -> 0 | J37: 0.00468 | K37: =E37*J37 -> 0.0234
A38: =A37+1 -> 16 | B38: H-56230032-1 | C38: SACHTA REVIZNI PVC KG +POKLOP D 315 B | D38: SADA | E38: 5 | G38: =E38*F38 -> 0 | I38: =E38*H38 -> 0 | J38: 0.00645 | K38: =E38*J38 -> 0.03225
A39: =A38+1 -> 17 | B39: C-877275211-0 | C39: MTZ TVAR KANAL POTR PVC KG 1OS DN 125 | D39: KS | E39: 9 | G39: =E39*F39 -> 0 | I39: =E39*H39 -> 0 | J39: 2.2e-06 | K39: =E39*J39 -> 1.98e-05
A40: =A39+1 -> 18 | B40: H-28611389-1 | C40: ODBOCKA PVC KANAL KGEA 125/125 45° | D40: KS | E40: 9 | G40: =E40*F40 -> 0 | I40: =E40*H40 -> 0 | J40: 0.0008 | K40: =E40*J40 -> 0.0072
A41: =A40+1 -> 19 | B41: C-871275201-0 | C41: MTZ POTR KANAL PVC SYSTEM KG DN 125 | D41: M | E41: 56 | G41: =E41*F41 -> 0 | I41: =E41*H41 -> 0 | J41: 1.1e-06 | K41: =E41*J41 -> 6.16e-05
B42: množství = | C42: 35,0+21,0
A43: =A41+1 -> 20 | B43: H-28611307-1 | C43: ROURY PVC KANAL HRDL KGEM SN 4 DN 125 | D43: M | E43: 58.8 | G43: =E43*F43 -> 0 | I43: =E43*H43 -> 0 | J43: 0.001266 | K43: =E43*J43 -> 0.0744408
B44: množství = | C44: 56,0*1,05
A45: =A43+1 -> 21 | B45: C-871325201-0 | C45: MTZ POTR KANAL PVC SYSTEM KG DN 150 | D45: M | E45: 46 | G45: =E45*F45 -> 0 | I45: =E45*H45 -> 0 | J45: 1.5e-06 | K45: =E45*J45 -> 6.9e-05
A46: =A45+1 -> 22 | B46: H-28611312-1 | C46: ROURY PVC KANAL HRDL KGEM SN 4 DN 150 | D46: M | E46: 48.3 | G46: =E46*F46 -> 0 | I46: =E46*H46 -> 0 | J46: 0.00202 | K46: =E46*J46 -> 0.097566
B47: množství = | C47: 46,0*1,05
B48: 8 | C48: POTRUBÍ CELKEM | G48: =SUM(G36:G47) -> 0 | I48: =SUM(I36:I47) -> 0 | K48: =SUM(K36:K47) -> 0.2446336
A50: Poř. | B50: Kód položky | C50: Text položky | D50: M.J. | E50: Množství | F50: CENA | J50: HMOTNOST
A51: čís. | F51: Dodávka | H51: Montáž
A52: pol. | F52: jednotková | G52: celková | H52: jednotková | I52: celková | J52: jednotková | K52: celková
A53: 1. | B53: 2. | C53: 3. | D53: 4. | E53: 5. | F53: 6. | G53: 7. | H53: 8. | I53: 9. | J53: 10. | K53: 11.
C54: MONTÁŽNÍ PRÁCE:
B55: oddíl M46 | C55: Zemní práce prováděné při externích montážích:
A56: =A46+1 -> 23 | B56: M-4600 | C56: PODRUZNY ELEKTROROZVADĚČ | D56: KS | E56: 1 | G56: =E56*F56 -> 0 | I56: =E56*H56 -> 0 | J56: 0 | K56: =E56*J56 -> 0
A57: =A56+1 -> 24 | B57: M-460200134-0 | C57: KABEL RYHY S 35 HL 50cm ZEMINA TR 4 | D57: M | E57: 56 | G57: =E57*F57 -> 0 | I57: =E57*H57 -> 0 | J57: 0 | K57: =E57*J57 -> 0
A58: =A57+1 -> 25 | B58: M-460050303-0 | C58: JAMA STOZ J PAT EZP 12290 ROVIN ZEM 3 | D58: KS | E58: 4 | G58: =E58*F58 -> 0 | I58: =E58*H58 -> 0 | J58: 0 | K58: =E58*J58 -> 0
A59: =A58+1 -> 26 | B59: M-460560133-0 | C59: ZAHOZ RYHY S 35cm HL 50cm ZEM TR 3 | D59: M | E59: 56 | G59: =E59*F59 -> 0 | I59: =E59*H59 -> 0 | J59: 0 | K59: =E59*J59 -> 0
A60: =A59+1 -> 27 | B60: M-460070343-0 | C60: JAMA ZAKLAD SKRINKY NZBZ ZEM 3 | D60: KS | E60: 1 | G60: =E60*F60 -> 0 | I60: =E60*H60 -> 0 | J60: 0 | K60: =E60*J60 -> 0
A61: =A60+1 -> 28 | B61: M-460080002-0 | C61: BETONOVY ZAKLAD DO BEDNENI | D61: M3 | E61: 1.1 | G61: =E61*F61 -> 0 | I61: =E61*H61 -> 0 | J61: 0 | K61: =E61*J61 -> 0
A62: =A61+1 -> 29 | B62: M-460270001-0 | C62: ZD PILIR PRO SP 3,4,5 - BEZ KONC DILU | D62: KS | E62: 1 | G62: =E62*F62 -> 0 | I62: =E62*H62 -> 0 | J62: 0 | K62: =E62*J62 -> 0
A63: =A62+1 -> 30 | B63: M-460310011-0 | C63: ULOZ 1 KABEL ZEMINA TR 3 | D63: M | E63: 56 | G63: =E63*F63 -> 0 | I63: =E63*H63 -> 0 | J63: 0 | K63: =E63*J63 -> 0
A64: =A63+1 -> 31 | B64: M-460420301-0 | C64: ZRIZ KAB LOZE ZAKR CIH VE SMERU 35 PZ | D64: M | E64: 56 | G64: =E64*F64 -> 0 | I64: =E64*H64 -> 0 | J64: 0 | K64: =E64*J64 -> 0
A65: =A64+1 -> 32 | B65: M-460490011-0 | C65: ZAKRYTI KAB 110 KV FOLIE PVC 22cm | D65: M | E65: 56 | G65: =E65*F65 -> 0 | I65: =E65*H65 -> 0 | J65: 0 | K65: =E65*J65 -> 0
A66: =A65+1 -> 33 | B66: H-34111080-1 | C66: KABEL INSTAL CU JADRO CYKY- 4x16mm2+3x1,5 | D66: M | E66: 60 | G66: =E66*F66 -> 0 | I66: =E66*H66 -> 0 | J66: 0.000925 | K66: =E66*J66 -> 0.0555
A67: =A66+1 -> 34 | B67: M-460010024-0 | C67: VYTYC TRATI KABEL VED V ZAST PROSTORU | D67: KM | E67: 0.056 | G67: =E67*F67 -> 0 | I67: =E67*H67 -> 0 | J67: 0 | K67: =E67*J67 -> 0
A68: =A67+1 -> 35 | B68: M-460010021-0 | C68: VYTYC TRATI KABEL VED V OBVODU ZEL ST | D68: KM | E68: 0.056 | G68: =E68*F68 -> 0 | I68: =E68*H68 -> 0 | J68: 0 | K68: =E68*J68 -> 0
B69: M46 | C69: ZEMNÍ PRÁCE PŘI EXTERNÍCH MONTÁŽÍCH CELKEM | G69: =SUM(G56:G68) -> 0 | I69: =SUM(I56:I68) -> 0 | K69: =SUM(K56:K68) -> 0.0555
C71: Základní rozpočtové náklady stav. objektu celkem (bez DPH) : | J71: ='KRYCÍ LIST SO-03'!E20 -> 0

Sheet KRYCÍ LIST SO-04
A1: KRYCÍ LIST ROZPOČTU
A3: Kód objektu: | E3: Název objektu: | K3: KSO: | M3: Cenová úroveň:
A4: SO-04 | E4: VENKOVNÍ SPORTOVIŠTĚ | M4: 2025/II
A5: Kód stavby: | E5: Název stavby: | K5: SKP: | M5: Účelová M.J:
E6: ZÁKL ŠKOLA MOCHOV PŘÍSTAVBA TĚLOCVIČNY
A7: Projektant: | D7: Hana Pavlíčková | H7: Počet účel. měrných jednotek:
A8: Objednatel: | D8: obec Mochov, Sokolovská 92 | H8: Náklady na měrnou jednotku: | M8: =IF(M7=0,"",E28/M7)
A9: Počet listů: | H9: Zakázkové čís.:
A10: Zpracovatel: | H10: Zhotovitel:
A12: ROZPOČTOVÉ NÁKLADY
A13: Základní rozpočtové náklady (ZRN) | G13: Vedlejší rozpočtové náklady (VRN)
B14: Dodávka celkem | E14: ='REKAPITULACE SO-04'!C20 -> 0 | G14: Ztížené výrobní podmínky | L14: % | M14: =E20*K14/100 -> 0
B15: Montáž celkem | E15: ='REKAPITULACE SO-04'!D20 -> 0 | G15: Oborová přirážka | L15: % | M15: =E20*K15/100 -> 0
A16: Z | B16: HSV celkem | E16: ='REKAPITULACE SO-04'!E14 -> 0 | G16: Přesun stavebních kapacit | L16: % | M16: =E20*K16/100 -> 0
A17: R | B17: PSV celkem | E17: ='REKAPITULACE SO-04'!E18 -> 0 | G17: Mimostaveništní doprava | K17: 3.5 | L17: % | M17: =E20*K17/100 -> 0
A18: N | B18: Instalace | E18: 0 | G18: Zařízení staveniště | K18: 2.5 | L18: % | M18: =E20*K18/100 -> 0
A19: : | B19: Montáže | E19: 0 | G19: Provoz investora | K19: 1 | L19: % | M19: =E20*K19/100 -> 0
A20: ZRN celkem | E20: =SUM(E16:E19) -> 0 | G20: Kompletační činnost | K20: 2 | L20: % | M20: =E20*K20/100 -> 0
A21: I: Projektové práce | E21: 0 | G21: Ostatní VRN | L21: % | M21: =E20*K21/100 -> 0
A22: II: Technologie | E22: 0 | G22: Rezerva | L22: % | M22: =E20*K22/100 -> 0
A23: VII: Mobiliář | E23: 0 | L23: % | M23: =E20*K23/100 -> 0
A24: ZRN+I+II+VII | E24: =SUM(E20:E23) -> 0 | G24: Ostatní rozpočtové náklady (ORN)
A25: VRN celkem | E25: =SUM(M14:M23) -> 0 | L25: % | M25: =E20*K25/100 -> 0
A26: ORN celkem | E26: =SUM(M25:M26) -> 0 | L26: % | M26: =E20*K26/100 -> 0
A27: DRN celkem | E27: =SUM(M28:M28) -> 0 | G27: Doplňkové rozpočtové náklady (DRN)
A28: Náklady celkem | E28: =SUM(E24:E27) -> 0 | L28: % | M28: =E20*K28/100 -> 0
A29: Vypracoval | E29: Za zhotovitele | H29: Za objednatele
E30: Jméno: | H30: Jméno:
A31: Datum: | E31: Datum: | H31: Datum:
E32: Podpis: | H32: Podpis:
A35: Základ pro DPH | E35: 21 | G35: % činí : | H35: =E28-H37 -> 0 | M35: Kč
A36: DPH | E36: 21 | G36: % činí : | H36: =H35*E36/100 -> 0 | M36: Kč
A37: Základ pro DPH | E37: 12 | G37: % činí : | H37: 0 | M37: Kč
A38: DPH | E38: 12 | G38: % činí : | H38: =H37*E38/100 -> 0 | M38: Kč
A39: CENA ZA OBJEKT CELKEM VČETNĚ DPH: | H39: =SUM(H35:H38) -> 0 | M39: Kč

Sheet REKAPITULACE SO-04
A1: Stavba : - ZÁKL ŠKOLA MOCHOV PŘÍSTAVBA TĚLOCVIČNY | D1: Cenová úroveň : 2025/II
A2: Objekt : SO-04 - VENKOVNÍ SPORTOVIŠTĚ | D2: Datum zpracování :
A4: REKAPITULACE ROZPOČTU
A6: Oddíl | B6: Název oddílu / řemeslného oboru | C6: CENA BEZ DPH
C7: Dodávka | D7: Montáž | E7: Celkem
B8: HSV:
A9: 1 | B9: Zemní práce | C9: ='ROZPOČET SO-04'!G22 -> 0 | D9: ='ROZPOČET SO-04'!I22 -> 0 | E9: =C9+D9 -> 0
A10: 2 | B10: Základy a zvláštní zakládání | C10: ='ROZPOČET SO-04'!G28 -> 0 | D10: ='ROZPOČET SO-04'!I28 -> 0 | E10: =C10+D10 -> 0
A11: 3 | B11: Svislé konstrukce | C11: ='ROZPOČET SO-04'!G33 -> 0 | D11: ='ROZPOČET SO-04'!I33 -> 0 | E11: =C11+D11 -> 0
A12: 5 | B12: Komunikace | C12: ='ROZPOČET SO-04'!G42 -> 0 | D12: ='ROZPOČET SO-04'!I42 -> 0 | E12: =C12+D12 -> 0
A13: 99 | B13: Přesun hmot | C13: ='ROZPOČET SO-04'!G46 -> 0 | D13: ='ROZPOČET SO-04'!I46 -> 0 | E13: =C13+D13 -> 0
B14: HSV CELKEM | C14: =SUM(C9:C13) -> 0 | D14: =SUM(D9:D13) -> 0 | E14: =SUM(E9:E13) -> 0
B16: PSV:
A17: 767 | B17: Kovové doplňkové konstrukce | C17: ='ROZPOČET SO-04'!G61 -> 0 | D17: ='ROZPOČET SO-04'!I61 -> 0 | E17: =C17+D17 -> 0
B18: PSV CELKEM | C18: =SUM(C17:C17) -> 0 | D18: =SUM(D17:D17) -> 0 | E18: =SUM(E17:E17) -> 0
B20: Základní rozpočtové náklady stavebního objektu celkem | C20: =C14+C18 -> 0 | D20: =D14+D18 -> 0 | E20: =E14+E18 -> 0

Sheet ROZPOČET SO-04
A1: Stavba : - ZÁKL ŠKOLA MOCHOV PŘÍSTAVBA TĚLOCVIČNY | J1: Cenová úroveň : 2025/II
A2: Objekt : SO-04 - VENKOVNÍ SPORTOVIŠTĚ | J2: Datum zpracování :
A4: POLOŽKOVÝ ROZPOČET S VÝKAZEM VÝMĚR
A6: Poř. | B6: Kód položky | C6: Text položky | D6: M.J. | E6: Množství | F6: CENA | J6: HMOTNOST
A7: čís. | F7: Dodávka | H7: Montáž
A8: pol. | F8: jednotková | G8: celková | H8: jednotková | I8: celková | J8: jednotková | K8: celková
A9: 1. | B9: 2. | C9: 3. | D9: 4. | E9: 5. | F9: 6. | G9: 7. | H9: 8. | I9: 9. | J9: 10. | K9: 11.
C10: HSV:
B11: oddíl 1 | C11: Zemní práce:
A12: 1 | B12: C-121101102-0 | C12: SEJMUTI ORNICE 50M3- S VOD PREM -100M | D12: M3 | E12: 212 | G12: =E12*F12 -> 0 | I12: =E12*H12 -> 0 | J12: 0 | K12: =E12*J12 -> 0
B13: množství = | C13: 1060*0,2
A14: =A12+1 -> 2 | B14: C-121101208-0 | C14: PRIPL ZA KORENY PRI SEJMUTI ORNICE | D14: M3 | E14: 212 | G14: =E14*F14 -> 0 | I14: =E14*H14 -> 0 | J14: 0 | K14: =E14*J14 -> 0
A15: =A14+1 -> 3 | B15: C-180909131-0 | C15: VEG STRECHA-ROZPROSTRENI ZEMINY -20CM | D15: M2 | E15: 1000 | G15: =E15*F15 -> 0 | I15: =E15*H15 -> 0 | J15: 0 | K15: =E15*J15 -> 0
A16: =A15+1 -> 4 | B16: C-180402111-0 | C16: ZALOZ TRAVNIKU VYSEV PARK V ROVINE | D16: M2 | E16: 1000 | G16: =E16*F16 -> 0 | I16: =E16*H16 -> 0 | J16: 0 | K16: =E16*J16 -> 0
A17: =A16+1 -> 5 | B17: C-132203302-0 | C17: HLOUB RYH PRO DRENY TR 3 HL DO 1,1M | D17: M | E17: 225 | G17: =E17*F17 -> 0 | I17: =E17*H17 -> 0 | J17: 0 | K17: =E17*J17 -> 0
B18: množství = | C18: 21,0*9+36,0
A19: =A17+1 -> 6 | B19: C-174203301-0 | C19: ZASYP RYH DRENY BEZ ZH HOR 4 HL 1,1M | D19: M | E19: 225 | G19: =E19*F19 -> 0 | I19: =E19*H19 -> 0 | J19: 0 | K19: =E19*J19 -> 0
A20: =A19+1 -> 7 | B20: C-133101100-0 | C20: HLOUBENI SACHET TR 1-2 DO 10M3 | D20: M3 | E20: 6.86 | G20: =E20*F20 -> 0 | I20: =E20*H20 -> 0 | J20: 0 | K20: =E20*J20 -> 0
B21: množství = | C21: 0,35*0,35*0,8*70
B22: 1 | C22: ZEMNÍ PRÁCE CELKEM | G22: =SUM(G12:G21) -> 0 | I22: =SUM(I12:I21) -> 0 | K22: =SUM(K12:K21) -> 0
B23: oddíl 2 | C23: Základy a zvláštní zakládání:
A24: =A20+1 -> 8 | B24: C-275311711-0 | C24: BETON ZAKL PATEK PROKL SPC TR C20/25 | D24: M3 | E24: 6.86 | G24: =E24*F24 -> 0 | I24: =E24*H24 -> 0 | J24: 2.6119367 | K24: =E24*J24 -> 17.917886
A25: =A24+1 -> 9 | B25: C-212795114-0 | C25: ZRIZ TRATIV Z DRENAZ TRUB FLEX DN 100 | D25: M | E25: 225 | G25: =E25*F25 -> 0 | I25: =E25*H25 -> 0 | J25: 0 | K25: =E25*J25 -> 0
A26: =A25+1 -> 10 | B26: H-28611213-1 | C26: TRUBKY PVC FLEX DREN DN 100MM | D26: M | E26: 236.25 | G26: =E26*F26 -> 0 | I26: =E26*H26 -> 0 | J26: 0.0004 | K26: =E26*J26 -> 0.0945
B27: množství = | C27: 225,0*1,05
B28: 2 | C28: ZÁKLADY A ZVLÁŠTNÍ ZAKLÁDÁNÍ CELKEM | G28: =SUM(G24:G27) -> 0 | I28: =SUM(I24:I27) -> 0 | K28: =SUM(K24:K27) -> 18.012386
B29: oddíl 3 | C29: Svislé konstrukce:
A30: =A26+1 -> 11 | B30: C-338171125-0 | C30: OSAZ PLOT SLOUPKU OCEL V 4M ZABETON VC VZPERNYCH | D30: KS | E30: 70 | G30: =E30*F30 -> 0 | I30: =E30*H30 -> 0 | J30: 0.11725 | K30: =E30*J30 -> 8.2075
A31: =A30+1 -> 12 | B31: H-31686540-1 | C31: SLOUPEK PLOT ZINK POPL 1,8/60MM 450CM | D31: KS | E31: 70 | G31: =E31*F31 -> 0 | I31: =E31*H31 -> 0 | J31: 0.009 | K31: =E31*J31 -> 0.63
A32: =A31+1 -> 13 | B32: H-56282114-1 | C32: CEPICKA NA PLOT SLOUPEK PVC D 60MM | D32: KS | E32: 58 | G32: =E32*F32 -> 0 | I32: =E32*H32 -> 0 | J32: 0.00012 | K32: =E32*J32 -> 0.00696
B33: 3 | C33: SVISLÉ KONSTRUKCE CELKEM | G33: =SUM(G30:G32) -> 0 | I33: =SUM(I30:I32) -> 0 | K33: =SUM(K30:K32) -> 8.84446
B34: oddíl 5 | C34: Komunikace:
A35: =A32+1 -> 14 | B35: C-565192193-0 | C35: DRENAZ PODKLADU HRIST TRUB FLEX 100MM | D35: M | E35: 225 | G35: =E35*F35 -> 0 | I35: =E35*H35 -> 0 | J35: 0.330392 | K35: =E35*J35 -> 74.3382
A36: =A35+1 -> 15 | B36: C-564851111-0 | C36: PODKLAD ZE STERKODRTE TL PO ZHUT 15CM | D36: M2 | E36: 720 | G36: =E36*F36 -> 0 | I36: =E36*H36 -> 0 | J36: 0.27994 | K36: =E36*J36 -> 201.5568
B37: množství = | C37: 36,0*20,0
A38: =A36+1 -> 16 | B38: C-564762111-0 | C38: PODKLAD Z VIBROVANEHO STERKU TL 20CM | D38: M2 | E38: 720 | G38: =E38*F38 -> 0 | I38: =E38*H38 -> 0 | J38: 0.4857404 | K38: =E38*J38 -> 349.73309
A39: =A38+1 -> 17 | B39: C-589116114-0 | C39: KRYT HRIST UMELY CONIPUR 2S | D39: M2 | E39: 720 | G39: =E39*F39 -> 0 | I39: =E39*H39 -> 0 | J39: 0.1362 | K39: =E39*J39 -> 98.064
B40: množství = | C40: 36*20
A41: =A39+1 -> 18 | B41: C-576152111-0 | C41: KOBEREC OTEVR KAM DRC ASF 6CM | D41: M2 | E41: 720 | G41: =E41*F41 -> 0 | I41: =E41*H41 -> 0 | J41: 0.1392 | K41: =E41*J41 -> 100.224
B42: 5 | C42: KOMUNIKACE CELKEM | G42: =SUM(G35:G41) -> 0 | I42: =SUM(I35:I41) -> 0 | K42: =SUM(K35:K41) -> 823.91609
B43: oddíl 99 | C43: Přesun hmot:
A44: =A41+1 -> 19 | B44: C-998222012-0 | C44: PRESUN HMOT PLOCH HRIST A SPORTOVIST | D44: T | E44: 850.772 | G44: =E44*F44 -> 0 | I44: =E44*H44 -> 0 | J44: 0 | K44: =E44*J44 -> 0
B45: množství = | C45: 18,012+08,844+823,916
B46: 99 | C46: PŘESUN HMOT CELKEM | G46: =SUM(G44:G45) -> 0 | I46: =SUM(I44:I45) -> 0 | K46: =SUM(K44:K45) -> 0
A48: Poř. | B48: Kód položky | C48: Text položky | D48: M.J. | E48: Množství | F48: CENA | J48: HMOTNOST
A49: čís. | F49: Dodávka | H49: Montáž
A50: pol. | F50: jednotková | G50: celková | H50: jednotková | I50: celková | J50: jednotková | K50: celková
A51: 1. | B51: 2. | C51: 3. | D51: 4. | E51: 5. | F51: 6. | G51: 7. | H51: 8. | I51: 9. | J51: 10. | K51: 11.
C52: PSV:
B53: oddíl 767 | C53: Kovové doplňkové konstrukce:
A54: =A44+1 -> 20 | B54: C-767921220-0 | C54: MTZ VRATEK OPLOC SLOUPKY OCEL PL 4M2 | D54: KS | E54: 1 | G54: =E54*F54 -> 0 | I54: =E54*H54 -> 0 | J54: 0 | K54: =E54*J54 -> 0
A55: =A54+1 -> 21 | B55: H-55346344-1 | C55: BRANKA OC POZIN DO ZDIVA+PANT 120x200 | D55: KS | E55: 1 | G55: =E55*F55 -> 0 | I55: =E55*H55 -> 0 | J55: 0.081 | K55: =E55*J55 -> 0.081
A56: =A55+1 -> 22 | B56: C-767911240-0 | C56: MTZ OPLOC STR PLET+NAP DR 15ST- 400CM | D56: M2 | E56: 448 | G56: =E56*F56 -> 0 | I56: =E56*H56 -> 0 | J56: 0 | K56: =E56*J56 -> 0
B57: množství = | C57: 112,0*4,0
A58: =A56+1 -> 23 | B58: H-31327449-1 | C58: PLET ZN+PVC D 3,0 NEZAPL 55x55 V 2000 | D58: M | E58: 246.4 | G58: =E58*F58 -> 0 | I58: =E58*H58 -> 0 | J58: 0.0032 | K58: =E58*J58 -> 0.78848
B59: množství = | C59: 224,0*1,1
A60: =A58+1 -> 24 | B60: C-998767101-0 | C60: KOVOVE D KONST PRESUN HMOT VYSKA -6M | D60: T | E60: 0.869 | G60: =E60*F60 -> 0 | I60: =E60*H60 -> 0 | J60: 0 | K60: =E60*J60 -> 0
B61: 767 | C61: KOVOVÉ DOPLŇKOVÉ KONSTRUKCE CELKEM | G61: =SUM(G54:G60) -> 0 | I61: =SUM(I54:I60) -> 0 | K61: =SUM(K54:K60) -> 0.86948
C63: Základní rozpočtové náklady stav. objektu celkem (bez DPH) : | J63: ='KRYCÍ LIST SO-04'!E20 -> 0
