Workbook

Sheet Rekapitulace stavby
A1: Export Komplet | AZ1: VZ | BA1: 2.0 | BT1: False | BU1: False | BV1: {3b51110c-6af6-42ab-a4f0-a7ea8534f328}
AR2: >> skryté sloupce << | BS2: 0,01 | BT2: 21
BS3: 0,01 | BT3: 12
D4: REKAPITULACE STAVBY | AS4: v --- níže se nacházejí doplnkové a pomocné údaje k sestavám --- v | BS4: 0,001
D5: Kód: | K5: 26-04_5136_A | BS5: 0,01
D6: Stavba: | K6: Kluziště Smržovka | BS6: 0,01
D7: KSO: | AK7: CC-CZ: | BS7: 0,01
D8: Místo: | K8: p.č. 2115/1, 2115/3, 2105 | AK8: Datum: | AN8: 2. 4. 2026 | BS8: 0,01
BS9: 0,01
D10: Zadavatel: | AK10: IČ: | BS10: 0,01
E11: Město Smržovka | AK11: DIČ: | BS11: 0,01
BS12: 0,01
D13: Zhotovitel: | AK13: IČ: | BS13: 0,01
AK14: DIČ: | BS14: 0,01
BS15: False
D16: Projektant: | AK16: IČ: | AN16: 14080923 | BS16: False
E17: mjölking s.r.o., Šternovská 2304/6, Chodov, Praha | AK17: DIČ: | BS17: True
BS18: 0,01
D19: Zpracovatel: | AK19: IČ: | BS19: 0,01
E20: Propos Liberec s.r.o. | AK20: DIČ: | BS20: False
D22: Poznámka:
E23: Soupis prací je sestaven s využitím Cenové soustavy ÚRS. Položky, které pochází z této cenové soustavy, jsou ve sloupci 'Cenová soustava' označeny popisem 'CS ÚRS' a úrovní příslušného kalendářního pololetí. Veškeré další informace vymezující popis a podmínky použití těchto položek z Cenové soustavy, které nejsou uvedeny přímo v soupisu prací, jsou neomezeně dálkově k dispozici na webu podminky.urs.cz.
D26: Cena bez DPH | AK26: =ROUND(AG54,2) -> 0
L28: Sazba daně | W28: Základ daně | AK28: Výše daně
D29: DPH | F29: základní | L29: 0.21 | W29: =ROUND(AZ54, 2) -> 0 | AK29: =ROUND(AV54, 2) -> 0
F30: snížená | L30: 0.12 | W30: =ROUND(BA54, 2) -> 0 | AK30: =ROUND(AW54, 2) -> 0
F31: zákl. přenesená | L31: 0.21 | W31: =ROUND(BB54, 2) -> 0 | AK31: 0
F32: sníž. přenesená | L32: 0.12 | W32: =ROUND(BC54, 2) -> 0 | AK32: 0
F33: nulová | L33: 0 | W33: =ROUND(BD54, 2) -> 0 | AK33: 0
D35: Cena s DPH | T35: v | X35: CZK | AK35: =SUM(AK26:AK33) -> 0
C42: REKAPITULACE OBJEKTŮ STAVBY A SOUPISŮ PRACÍ
C44: Kód: | L44: =K5 -> 26-04_5136_A
C45: Stavba: | L45: =K6 -> Kluziště Smržovka
C47: Místo: | L47: =IF(K8="","",K8) -> p.č. 2115/1, 2115/3, 2105 | AI47: Datum: | AM47: =IF(AN8= "","",AN8) -> 2. 4. 2026
C49: Zadavatel: | L49: =IF(E11= "","",E11) -> Město Smržovka | AI49: Projektant: | AM49: =IF(E17="","",E17) -> mjölking s.r.o., Šternovská 2304/6, Chodov, Praha | AS49: Informatívní údaje z listů zakázek
C50: Zhotovitel: | L50: =IF(E14="","",E14) | AI50: Zpracovatel: | AM50: =IF(E20="","",E20) -> Propos Liberec s.r.o.
C52: Kód | I52: Popis | AG52: Cena bez DPH [CZK] | AN52: Cena s DPH [CZK] | AQ52: Typ | AS52: z toho Ostat._x000D_ náklady [CZK] | AT52: DPH [CZK] | AU52: Normohodiny [h] | AV52: DPH základní [CZK] | AW52: DPH snížená [CZK] | AX52: DPH základní přenesená_x000D_ [CZK] | AY52: DPH snížená přenesená_x000D_ [CZK] | AZ52: Základna_x000D_ DPH základní | BA52: Základna_x000D_ DPH snížená | BB52: Základna_x000D_ DPH zákl. přenesená | BC52: Základna_x000D_ DPH sníž. přenesená | BD52: Základna_x000D_ DPH nulová
C54: Náklady stavby celkem | AG54: =ROUND(SUM(AG55:AG59),2) -> 0 | AN54: =AG54*1.21 -> 0 | AS54: =ROUND(SUM(AS55:AS59),2) -> 0 | AT54: =ROUND(SUM(AV54:AW54),2) -> 0 | AU54: =ROUND(SUM(AU55:AU59),5) -> #REF! | AV54: =ROUND(AZ54*L29,2) -> 0 | AW54: =ROUND(BA54*L30,2) -> 0 | AX54: =ROUND(BB54*L29,2) -> 0 | AY54: =ROUND(BC54*L30,2) -> 0 | AZ54: =ROUND(SUM(AZ55:AZ59),2) -> 0 | BA54: =ROUND(SUM(BA55:BA59),2) -> 0 | BB54: =ROUND(SUM(BB55:BB59),2) -> 0 | BC54: =ROUND(SUM(BC55:BC59),2) -> 0 | BD54: =ROUND(SUM(BD55:BD59),2) -> 0 | BS54: D | BT54: 0 | BU54: ###NOIMPORT### | BV54: IMPORT | BW54: {3b51110c-6af6-42ab-a4f0-a7ea8534f328} | BX54: {00000000-0000-0000-0000-000000000000}
A55: / | D55: SO 01 | J55: Multifunkční hřiště | AG55: ='SO 01 - Multifunkční hřiště'!J30 -> 0 | AN55: =SUM(AG55,AT55) -> 0 | AQ55: STA | AS55: 0 | AT55: =ROUND(SUM(AV55:AW55),2) -> 0 | AU55: ='SO 01 - Multifunkční hřiště'!P90 -> 3337.0361 | AV55: ='SO 01 - Multifunkční hřiště'!J33 -> 0 | AW55: ='SO 01 - Multifunkční hřiště'!J34 -> 0 | AX55: ='SO 01 - Multifunkční hřiště'!J35 -> 0 | AY55: ='SO 01 - Multifunkční hřiště'!J36 -> 0 | AZ55: ='SO 01 - Multifunkční hřiště'!F33 -> 0 | BA55: ='SO 01 - Multifunkční hřiště'!F34 -> 0 | BB55: ='SO 01 - Multifunkční hřiště'!F35 -> 0 | BC55: ='SO 01 - Multifunkční hřiště'!F36 -> 0 | BD55: ='SO 01 - Multifunkční hřiště'!F37 -> 0 | BT55: 1 | BV55: IMPORT | BW55: {afeabcc7-04fd-44b6-adc5-8047a80ef630} | BX55: {3b51110c-6af6-42ab-a4f0-a7ea8534f328} | CM55: 2
A56: / | D56: SO 03 | J56: Přípojka vody | AG56: ='SO 03 Přípojka vody'!J30 -> 0 | AN56: =SUM(AG56,AT56) -> 0 | AQ56: STA | AS56: 0 | AT56: =ROUND(SUM(AV56:AW56),2) -> 0 | AU56: ='SO 03 Přípojka vody'!P89 -> 378.45226 | AV56: ='SO 03 Přípojka vody'!J33 -> 0 | AW56: ='SO 03 Přípojka vody'!J34 -> 0 | AX56: ='SO 03 Přípojka vody'!J35 -> 0 | AY56: ='SO 03 Přípojka vody'!J36 -> 0 | AZ56: ='SO 03 Přípojka vody'!F33 -> 0 | BA56: ='SO 03 Přípojka vody'!F34 -> 0 | BB56: ='SO 03 Přípojka vody'!F35 -> 0 | BC56: ='SO 03 Přípojka vody'!F36 -> 0 | BD56: ='SO 03 Přípojka vody'!F37 -> 0 | BT56: 1 | BV56: IMPORT | BW56: {c38061aa-5787-4dda-81d6-a409055e0c01} | BX56: {3b51110c-6af6-42ab-a4f0-a7ea8534f328} | CM56: 2
...

Sheet SO 01 - Multifunkční hřiště
L2: >> skryté sloupce << | AT2: {afeabcc7-04fd-44b6-adc5-8047a80ef630}
AT3: 2
D4: KRYCÍ LIST SOUPISU PRACÍ | M4: v --- níže se nacházejí doplnkové a pomocné údaje k sestavám --- v | AT4: False
D6: Stavba:
E7: ='Rekapitulace stavby'!K6 -> Kluziště Smržovka
D8: Objekt:
E9: SO 01 - Multifunkční hřiště
D11: KSO: | I11: CC-CZ:
D12: Místo: | F12: p.č. 2115/1, 2115/3, 2105 | I12: Datum: | J12: ='Rekapitulace stavby'!AN8 -> 2. 4. 2026
D14: Zadavatel: | I14: IČ:
E15: Město Smržovka | I15: DIČ:
D17: Zhotovitel: | I17: IČ: | J17: ='Rekapitulace stavby'!AN13
E18: ='Rekapitulace stavby'!E14 | I18: DIČ: | J18: ='Rekapitulace stavby'!AN14
D20: Projektant: | I20: IČ: | J20: 14080923
E21: mjölking s.r.o., Šternovská 2304/6, Chodov, Praha | I21: DIČ:
D23: Zpracovatel: | I23: IČ:
E24: Propos Liberec s.r.o. | I24: DIČ:
D26: Poznámka:
E27: Soupis prací je sestaven s využitím Cenové soustavy ÚRS. Položky, které pochází z této cenové soustavy, jsou ve sloupci 'Cenová soustava' označeny popisem 'CS ÚRS' a úrovní příslušného kalendářního pololetí. Veškeré další informace vymezující popis a podmínky použití těchto položek z Cenové soustavy, které nejsou uvedeny přímo v soupisu prací, jsou neomezeně dálkově k dispozici na webu podminky.urs.cz.
D30: Cena bez DPH | J30: =ROUND(J90, 2) -> 0
F32: Základ daně | I32: Sazba daně | J32: Výše daně
D33: DPH | E33: základní | F33: =ROUND((SUM(BE90:BE348)), 2) -> 0 | I33: 0.21 | J33: =ROUND(((SUM(BE90:BE348))*I33), 2) -> 0
E34: snížená | F34: =ROUND((SUM(BF90:BF348)), 2) -> 0 | I34: 0.12 | J34: =ROUND(((SUM(BF90:BF348))*I34), 2) -> 0
E35: zákl. přenesená | F35: =ROUND((SUM(BG90:BG348)), 2) -> 0 | I35: 0.21 | J35: =0 -> 0
E36: sníž. přenesená | F36: =ROUND((SUM(BH90:BH348)), 2) -> 0 | I36: 0.12 | J36: =0 -> 0
E37: nulová | F37: =ROUND((SUM(BI90:BI348)), 2) -> 0 | I37: 0 | J37: =0 -> 0
D39: Cena s DPH | G39: v | H39: CZK | J39: =SUM(J30:J37) -> 0
C45: REKAPITULACE ČLENĚNÍ SOUPISU PRACÍ
C47: Stavba:
E48: =E7 -> Kluziště Smržovka
C49: Objekt:
E50: =E9 -> SO 01 - Multifunkční hřiště
C52: Místo: | F52: =F12 -> p.č. 2115/1, 2115/3, 2105 | I52: Datum: | J52: =IF(J12="","",J12) -> 2. 4. 2026
C54: Zadavatel: | F54: =E15 -> Město Smržovka | I54: Projektant: | J54: =E21 -> mjölking s.r.o., Šternovská 2304/6, Chodov, Praha
C55: Zhotovitel: | F55: =IF(E18="","",E18) | I55: Zpracovatel: | J55: =E24 -> Propos Liberec s.r.o.
C57: Kód dílu - Popis | J57: Cena celkem [CZK]
C59: Náklady stavby celkem | J59: =J90 -> 0 | AU59: -1
D60: HSV - Práce a dodávky HSV | J60: =J91 -> 0
D61: 1 - Zemní práce | J61: =J92 -> 0
D62: 2 - Zakládání | J62: =J149 -> 0
...

Sheet SO 04 - zázemí kluziště 
L2: >> skryté sloupce << | AT2: {49341d9f-1909-4fdb-9ad8-6774ff7f6edb} | AZ2: asfaltpaszakl | BC2: 46,8 | BD2: 2
AT3: 2 | AZ3: geotex | BC3: 46,8 | BD3: 2
D4: KRYCÍ LIST SOUPISU PRACÍ | M4: v --- níže se nacházejí doplnkové a pomocné údaje k sestavám --- v | AT4: False | AZ4: chranic | BC4: 1,5 | BD4: 2
AZ5: klinatik | BC5: 19,62 | BD5: 2
D6: Stavba: | AZ6: mazanin | BC6: 6,888 | BD6: 2
E7: ='Rekapitulace stavby'!K6 -> Kluziště Smržovka | AZ7: odkopani | BC7: 6 | BD7: 2
D8: Objekt: | AZ8: ryhy | BC8: 10,803 | BD8: 2
E9: SO 04 -zázemí kluziště | AZ9: strechs01 | BC9: 46,456 | BD9: 2
AZ10: zpetnasyp | BC10: 15 | BD10: 2
D11: KSO: | I11: CC-CZ: | AZ11: zpetokoli | BC11: 2 | BD11: 2
D12: Místo: | F12: p.č. 2115/1, 2115/3, 2105 | I12: Datum: | J12: ='Rekapitulace stavby'!AN8 -> 2. 4. 2026
D14: Zadavatel: | I14: IČ:
E15: Město Smržovka | I15: DIČ:
D17: Zhotovitel: | I17: IČ: | J17: ='Rekapitulace stavby'!AN13
E18: ='Rekapitulace stavby'!E14 | I18: DIČ: | J18: ='Rekapitulace stavby'!AN14
D20: Projektant: | I20: IČ: | J20: 14080923
E21: mjölking s.r.o., Šternovská 2304/6, Chodov, Praha | I21: DIČ:
D23: Zpracovatel: | I23: IČ:
E24: Propos Liberec s.r.o. | I24: DIČ:
D26: Poznámka:
E27: Soupis prací je sestaven s využitím Cenové soustavy ÚRS. Položky, které pochází z této cenové soustavy, jsou ve sloupci 'Cenová soustava' označeny popisem 'CS ÚRS' a úrovní příslušného kalendářního pololetí. Veškeré další informace vymezující popis a podmínky použití těchto položek z Cenové soustavy, které nejsou uvedeny přímo v soupisu prací, jsou neomezeně dálkově k dispozici na webu podminky.urs.cz.
D30: Cena bez DPH | J30: =ROUND(J91, 2) -> 0
F32: Základ daně | I32: Sazba daně | J32: Výše daně
D33: DPH | E33: základní | F33: 808398.36 | I33: 0.21 | J33: 169763.66
E34: snížená | F34: =ROUND((SUM(BF91:BF271)), 2) -> 0 | I34: 0.12 | J34: =ROUND(((SUM(BF91:BF271))*I34), 2) -> 0
E35: zákl. přenesená | F35: =ROUND((SUM(BG91:BG271)), 2) -> 0 | I35: 0.21 | J35: =0 -> 0
E36: sníž. přenesená | F36: =ROUND((SUM(BH91:BH271)), 2) -> 0 | I36: 0.12 | J36: =0 -> 0
E37: nulová | F37: =ROUND((SUM(BI91:BI271)), 2) -> 0 | I37: 0 | J37: =0 -> 0
D39: Cena s DPH | G39: v | H39: CZK | J39: =J30*1.21 -> 0
C45: REKAPITULACE ČLENĚNÍ SOUPISU PRACÍ
C47: Stavba:
E48: =E7 -> Kluziště Smržovka
C49: Objekt:
E50: =E9 -> SO 04 -zázemí kluziště
C52: Místo: | F52: =F12 -> p.č. 2115/1, 2115/3, 2105 | I52: Datum: | J52: =IF(J12="","",J12) -> 2. 4. 2026
C54: Zadavatel: | F54: =E15 -> Město Smržovka | I54: Projektant: | J54: =E21 -> mjölking s.r.o., Šternovská 2304/6, Chodov, Praha
C55: Zhotovitel: | F55: =IF(E18="","",E18) | I55: Zpracovatel: | J55: =E24 -> Propos Liberec s.r.o.
C57: Kód dílu - Popis | J57: Cena celkem [CZK]
C59: Náklady stavby celkem | J59: =J60+J65 -> 0 | AU59: -1
D60: HSV - Práce a dodávky HSV | J60: =J92 -> 0
...

Sheet SO 03 Přípojka vody
L2: >> skryté sloupce << | AT2: {c38061aa-5787-4dda-81d6-a409055e0c01}
AT3: 2
D4: KRYCÍ LIST SOUPISU PRACÍ | M4: v --- níže se nacházejí doplnkové a pomocné údaje k sestavám --- v | AT4: False
D6: Stavba:
E7: ='Rekapitulace stavby'!K6 -> Kluziště Smržovka
D8: Objekt:
E9: SO 03 - Přípojka vody a kanalizace
D11: KSO: | I11: CC-CZ:
D12: Místo: | F12: p.č. 2115/1, 2115/3, 2105 | I12: Datum: | J12: ='Rekapitulace stavby'!AN8 -> 2. 4. 2026
D14: Zadavatel: | I14: IČ:
E15: Město Smržovka | I15: DIČ:
D17: Zhotovitel: | I17: IČ: | J17: ='Rekapitulace stavby'!AN13
E18: ='Rekapitulace stavby'!E14 | I18: DIČ: | J18: ='Rekapitulace stavby'!AN14
D20: Projektant: | I20: IČ: | J20: 14080923
E21: mjölking s.r.o., Šternovská 2304/6, Chodov, Praha | I21: DIČ:
D23: Zpracovatel: | I23: IČ:
E24: Propos Liberec s.r.o. | I24: DIČ:
D26: Poznámka:
E27: Soupis prací je sestaven s využitím Cenové soustavy ÚRS. Položky, které pochází z této cenové soustavy, jsou ve sloupci 'Cenová soustava' označeny popisem 'CS ÚRS' a úrovní příslušného kalendářního pololetí. Veškeré další informace vymezující popis a podmínky použití těchto položek z Cenové soustavy, které nejsou uvedeny přímo v soupisu prací, jsou neomezeně dálkově k dispozici na webu podminky.urs.cz.
D30: Cena bez DPH | J30: =ROUND(J89, 2) -> 0
F32: Základ daně | I32: Sazba daně | J32: Výše daně
D33: DPH | E33: základní | F33: =ROUND((SUM(BE89:BE213)), 2) -> 0 | I33: 0.21 | J33: =ROUND(((SUM(BE89:BE213))*I33), 2) -> 0
E34: snížená | F34: =ROUND((SUM(BF89:BF213)), 2) -> 0 | I34: 0.12 | J34: =ROUND(((SUM(BF89:BF213))*I34), 2) -> 0
E35: zákl. přenesená | F35: =ROUND((SUM(BG89:BG213)), 2) -> 0 | I35: 0.21 | J35: =0 -> 0
E36: sníž. přenesená | F36: =ROUND((SUM(BH89:BH213)), 2) -> 0 | I36: 0.12 | J36: =0 -> 0
E37: nulová | F37: =ROUND((SUM(BI89:BI213)), 2) -> 0 | I37: 0 | J37: =0 -> 0
D39: Cena s DPH | G39: v | H39: CZK | J39: =SUM(J30:J37) -> 0
C45: REKAPITULACE ČLENĚNÍ SOUPISU PRACÍ
C47: Stavba:
E48: =E7 -> Kluziště Smržovka
C49: Objekt:
E50: =E9 -> SO 03 - Přípojka vody a kanalizace
C52: Místo: | F52: =F12 -> p.č. 2115/1, 2115/3, 2105 | I52: Datum: | J52: =IF(J12="","",J12) -> 2. 4. 2026
C54: Zadavatel: | F54: =E15 -> Město Smržovka | I54: Projektant: | J54: =E21 -> mjölking s.r.o., Šternovská 2304/6, Chodov, Praha
C55: Zhotovitel: | F55: =IF(E18="","",E18) | I55: Zpracovatel: | J55: =E24 -> Propos Liberec s.r.o.
C57: Kód dílu - Popis | J57: Cena celkem [CZK]
C59: Náklady stavby celkem | J59: =J89 -> 0 | AU59: -1
D60: HSV - Práce a dodávky HSV | J60: =J90 -> 0
D61: 1 - Zemní práce | J61: =J91 -> 0
D62: 4 - Vodorovné konstrukce | J62: =J120 -> 0
...

Sheet SO 05 - Venkovní rozvody ...
L2: >> skryté sloupce << | AT2: {dd8d18ce-370c-4b98-96d0-c04e0b0e05cb}
AT3: 2
D4: KRYCÍ LIST SOUPISU PRACÍ | M4: v --- níže se nacházejí doplnkové a pomocné údaje k sestavám --- v | AT4: False
D6: Stavba:
E7: ='Rekapitulace stavby'!K6 -> Kluziště Smržovka
D8: Objekt:
E9: SO 05 - Venkovní rozvody NN a vnitřní elektroinstalace SO 02
D11: KSO: | I11: CC-CZ:
D12: Místo: | F12: p.č. 2115/1, 2115/3, 2105 | I12: Datum: | J12: ='Rekapitulace stavby'!AN8 -> 2. 4. 2026
D14: Zadavatel: | I14: IČ:
E15: Město Smržovka | I15: DIČ:
D17: Zhotovitel: | I17: IČ: | J17: ='Rekapitulace stavby'!AN13
E18: ='Rekapitulace stavby'!E14 | I18: DIČ: | J18: ='Rekapitulace stavby'!AN14
D20: Projektant: | I20: IČ: | J20: 14080923
E21: mjölking s.r.o., Šternovská 2304/6, Chodov, Praha | I21: DIČ:
D23: Zpracovatel: | I23: IČ:
E24: Propos Liberec s.r.o. | I24: DIČ:
D26: Poznámka:
E27: Soupis prací je sestaven s využitím Cenové soustavy ÚRS. Položky, které pochází z této cenové soustavy, jsou ve sloupci 'Cenová soustava' označeny popisem 'CS ÚRS' a úrovní příslušného kalendářního pololetí. Veškeré další informace vymezující popis a podmínky použití těchto položek z Cenové soustavy, které nejsou uvedeny přímo v soupisu prací, jsou neomezeně dálkově k dispozici na webu podminky.urs.cz.
D30: Cena bez DPH | J30: =ROUND(J88, 2) -> 0
F32: Základ daně | I32: Sazba daně | J32: Výše daně
D33: DPH | E33: základní | F33: =ROUND((SUM(BE88:BE133)), 2) -> 0 | I33: 0.21 | J33: =ROUND(((SUM(BE88:BE133))*I33), 2) -> 0
E34: snížená | F34: =ROUND((SUM(BF88:BF133)), 2) -> 0 | I34: 0.12 | J34: =ROUND(((SUM(BF88:BF133))*I34), 2) -> 0
E35: zákl. přenesená | F35: =ROUND((SUM(BG88:BG133)), 2) -> 0 | I35: 0.21 | J35: =0 -> 0
E36: sníž. přenesená | F36: =ROUND((SUM(BH88:BH133)), 2) -> 0 | I36: 0.12 | J36: =0 -> 0
E37: nulová | F37: =ROUND((SUM(BI88:BI133)), 2) -> 0 | I37: 0 | J37: =0 -> 0
D39: Cena s DPH | G39: v | H39: CZK | J39: =SUM(J30:J37) -> 0
C45: REKAPITULACE ČLENĚNÍ SOUPISU PRACÍ
C47: Stavba:
E48: =E7 -> Kluziště Smržovka
C49: Objekt:
E50: =E9 -> SO 05 - Venkovní rozvody NN a vnitřní elektroinstalace SO 02
C52: Místo: | F52: =F12 -> p.č. 2115/1, 2115/3, 2105 | I52: Datum: | J52: =IF(J12="","",J12) -> 2. 4. 2026
C54: Zadavatel: | F54: =E15 -> Město Smržovka | I54: Projektant: | J54: =E21 -> mjölking s.r.o., Šternovská 2304/6, Chodov, Praha
C55: Zhotovitel: | F55: =IF(E18="","",E18) | I55: Zpracovatel: | J55: =E24 -> Propos Liberec s.r.o.
C57: Kód dílu - Popis | J57: Cena celkem [CZK]
C59: Náklady stavby celkem | J59: =J88 -> 0 | AU59: -1
D60: 1 - Rozvaděče | J60: =J89 -> 0
D61: 2 - Svítidla dle knihy svítidel | J61: =J97 -> 0
D62: 3 - Vypínače | J62: =J100 -> 0
...

Sheet VRN - Vedlejší rozpočtové...
L2: >> skryté sloupce << | AT2: {c6bd2c1f-60a5-4778-b256-90c59f807d7e}
AT3: 2
D4: KRYCÍ LIST SOUPISU PRACÍ | M4: v --- níže se nacházejí doplnkové a pomocné údaje k sestavám --- v | AT4: False
D6: Stavba:
E7: ='Rekapitulace stavby'!K6 -> Kluziště Smržovka
D8: Objekt:
E9: VRN - Vedlejší rozpočtové náklady a náklady spojené s umístěním stavby
D11: KSO: | I11: CC-CZ:
D12: Místo: | F12: p.č. 2115/1, 2115/3, 2105 | I12: Datum: | J12: ='Rekapitulace stavby'!AN8 -> 2. 4. 2026
D14: Zadavatel: | I14: IČ:
E15: Město Smržovka | I15: DIČ:
D17: Zhotovitel: | I17: IČ: | J17: ='Rekapitulace stavby'!AN13
E18: ='Rekapitulace stavby'!E14 | I18: DIČ: | J18: ='Rekapitulace stavby'!AN14
D20: Projektant: | I20: IČ: | J20: 14080923
E21: mjölking s.r.o., Šternovská 2304/6, Chodov, Praha | I21: DIČ:
D23: Zpracovatel: | I23: IČ:
E24: Propos Liberec s.r.o. | I24: DIČ:
D26: Poznámka:
E27: Soupis prací je sestaven s využitím Cenové soustavy ÚRS. Položky, které pochází z této cenové soustavy, jsou ve sloupci 'Cenová soustava' označeny popisem 'CS ÚRS' a úrovní příslušného kalendářního pololetí. Veškeré další informace vymezující popis a podmínky použití těchto položek z Cenové soustavy, které nejsou uvedeny přímo v soupisu prací, jsou neomezeně dálkově k dispozici na webu podminky.urs.cz.
D30: Cena bez DPH | J30: =ROUND(J82, 2) -> 0
F32: Základ daně | I32: Sazba daně | J32: Výše daně
D33: DPH | E33: základní | F33: =ROUND((SUM(BE82:BE89)), 2) -> 0 | I33: 0.21 | J33: =ROUND(((SUM(BE82:BE89))*I33), 2) -> 0
E34: snížená | F34: =ROUND((SUM(BF82:BF89)), 2) -> 0 | I34: 0.12 | J34: =ROUND(((SUM(BF82:BF89))*I34), 2) -> 0
E35: zákl. přenesená | F35: =ROUND((SUM(BG82:BG89)), 2) -> 0 | I35: 0.21 | J35: =0 -> 0
E36: sníž. přenesená | F36: =ROUND((SUM(BH82:BH89)), 2) -> 0 | I36: 0.12 | J36: =0 -> 0
E37: nulová | F37: =ROUND((SUM(BI82:BI89)), 2) -> 0 | I37: 0 | J37: =0 -> 0
D39: Cena s DPH | G39: v | H39: CZK | J39: =SUM(J30:J37) -> 0
C45: REKAPITULACE ČLENĚNÍ SOUPISU PRACÍ
C47: Stavba:
E48: =E7 -> Kluziště Smržovka
C49: Objekt:
E50: =E9 -> VRN - Vedlejší rozpočtové náklady a náklady spojené s umístěním stavby
C52: Místo: | F52: =F12 -> p.č. 2115/1, 2115/3, 2105 | I52: Datum: | J52: =IF(J12="","",J12) -> 2. 4. 2026
C54: Zadavatel: | F54: =E15 -> Město Smržovka | I54: Projektant: | J54: =E21 -> mjölking s.r.o., Šternovská 2304/6, Chodov, Praha
C55: Zhotovitel: | F55: =IF(E18="","",E18) | I55: Zpracovatel: | J55: =E24 -> Propos Liberec s.r.o.
C57: Kód dílu - Popis | J57: Cena celkem [CZK]
C59: Náklady stavby celkem | J59: =J82 -> 0 | AU59: -1
D60: VRN - Vedlejší rozpočtové náklady | J60: =J83 -> 0
D61: VRN1 - Průzkumné, zeměměřičské a projektové práce | J61: =J84 -> 0
D62: VRN2 - Zařízení staveniště | J62: =J88 -> 0
...

Sheet Seznam figur
C4: SEZNAM FIGUR
C5: Kód: | D5: 26-04_5136_A
C6: Stavba: | D6: Kluziště Smržovka
C7: Datum: | D7: ='Rekapitulace stavby'!AN8 -> 2. 4. 2026
C9: Kód | D9: Popis | E9: MJ | F9: Výměra
C10: SO 02 | D10: Sklad mobiliáře hřiště
C11: asfaltpaszakl | F11: 46.8
D12: Skladba P01 | F12: 0
D13: Plocha dle dm | F13: 0
D14: 42,80 | F14: 42.8
D15: "přípočet na přetažení" 4,0 | F15: 4
F16: 0
C17: asfaltpaszakl | D17: Mezisoučet | F17: 46.8
C18: Použití figury:
C19: 711141559 | D19: Provedení izolace proti zemní vlhkosti pásy přitavením vodorovné NAIP | E19: m2 | F19: 46.8
C20: 62853004 | D20: pás asfaltový natavitelný modifikovaný SBS s vložkou ze skleněné tkaniny a spalitelnou PE fólií nebo jemnozrnným minerálním posypem na horním povrchu tl 4,0mm | E20: m2 | F20: 54.288
C21: geotex | F21: 46.8
D22: Skladba P01 | F22: 0
D23: Plocha dle dm | F23: 0
D24: 42,80 | F24: 42.8
D25: "přípočet na přesah" 4,0 | F25: 4
F26: 0
C27: geotex | D27: Mezisoučet | F27: 46.8
C28: Použití figury:
C29: 213141111 | D29: Zřízení vrstvy z geotextilie v rovině nebo ve sklonu do 1:5 š do 3 m | E29: m2 | F29: 46.8
C30: 69311081 | D30: geotextilie netkaná separační, ochranná, filtrační, drenážní PES 300g/m2 | E30: m2 | F30: 55.224
C31: chranic | F31: 1.5
D32: Průchod skrz základovou desku | F32: 0
D33: 1,50 | F33: 1.5
F34: 0
C35: chranic | D35: Mezisoučet | F35: 1.5
C36: Použití figury:
C37: 219991112 | D37: Položení chráničky z plastových trubek DN přes 35 do 50 mm | E37: m | F37: 1.5
C38: 34571351 | D38: trubka elektroinstalační ohebná dvouplášťová korugovaná HDPE (chránička) D 40/50mm | E38: m | F38: 1.575
C39: klinatik | F39: 19.62
D40: 3,08+13,59+2,95 | F40: 19.62
F41: 0
C42: klinatik | D42: Mezisoučet | F42: 19.62
C43: Použití figury:
C44: 713141212 | D44: Montáž izolace tepelné střech plochých lepené nízkoexpanzní (PUR) pěnou atikový klín | E44: m | F44: 19.62
...

Sheet Pokyny pro vyplnění
C3: Struktura údajů, formát souboru a metodika pro zpracování
C4: Struktura
C6: Soubor je složen ze záložky Rekapitulace stavby a záložek s názvem soupisu prací pro jednotlivé objekty ve formátu XLSX. Každá ze záložek přitom obsahuje
C7: ještě samostatné sestavy vymezené orámovaním a nadpisem sestavy.
C9: Rekapitulace stavby obsahuje sestavu Rekapitulace stavby a Rekapitulace objektů stavby a soupisů prací.
D10: V sestavě Rekapitulace stavby jsou uvedeny informace identifikující předmět veřejné zakázky na stavební práce, KSO, CC-CZ, CZ-CPV, CZ-CPA a rekapitulaci
D11: celkové nabídkové ceny účastníka.
D13: Termínem "učastník" (resp. zhotovitel) se myslí "účastník zadávacího řízení" ve smyslu zákona o zadávání veřejných zakázek.
D15: V sestavě Rekapitulace objektů stavby a soupisů prací je uvedena rekapitulace stavebních objektů, inženýrských objektů, provozních souborů,
D16: vedlejších a ostatních nákladů a ostatních nákladů s rekapitulací nabídkové ceny za jednotlivé soupisy prací. Na základě údaje Typ je možné
D17: identifikovat, zda se jedná o objekt nebo soupis prací pro daný objekt:
E18: STA | F18: Stavební objekt pozemní
E19: ING | F19: Stavební objekt inženýrský
E20: PRO | F20: Provozní soubor
E21: VON | F21: Vedlejší a ostatní náklady
E22: OST | F22: Ostatní
E23: Soupis | F23: Soupis prací pro daný typ objektu
C25: Soupis prací pro jednotlivé objekty obsahuje sestavy Krycí list soupisu prací, Rekapitulace členění soupisu prací, Soupis prací. Za soupis prací může být považován
C26: i objekt stavby v případě, že neobsahuje podřízenou zakázku.
D27: Krycí list soupisu obsahuje rekapitulaci informací o předmětu veřejné zakázky ze sestavy Rekapitulace stavby, informaci o zařazení objektu do KSO,
D28: CC-CZ, CZ-CPV, CZ-CPA a rekapitulaci celkové nabídkové ceny účastníka za aktuální soupis prací.
D30: Rekapitulace členění soupisu prací obsahuje rekapitulaci soupisu prací ve všech úrovních členění soupisu tak, jak byla tato členění použita (např.
D31: stavební díly, funkční díly, případně jiné členění) s rekapitulací nabídkové ceny.
D33: Soupis prací obsahuje položky veškerých stavebních nebo montážních prací, dodávek materiálů a služeb nezbytných pro zhotovení stavebního objektu,
D34: inženýrského objektu, provozního souboru, vedlejších a ostatních nákladů.
D35: Pro položky soupisu prací se zobrazují následující informace:
E36: PČ | G36: Pořadové číslo položky v aktuálním soupisu
E37: TYP | G37: Typ položky: K - konstrukce, M - materiál, PP - plný popis, PSC - poznámka k souboru cen, P - poznámka k položce, VV - výkaz výměr, FIG - rozpad figur
E38: Kód | G38: Kód položky
E39: Popis | G39: Zkrácený popis položky
E40: MJ | G40: Měrná jednotka položky
E41: Množství | G41: Množství v měrné jednotce
E42: J.cena | G42: Jednotková cena položky. Zadaní může obsahovat namísto J.ceny sloupce J.materiál a J.montáž, jejichž součet definuje
G43: J.cenu položky.
E44: Cena celkem | G44: Celková cena položky daná jako součin množství a j.ceny
E45: Cenová soustava | G45: Příslušnost položky do cenové soustavy
D47: Ke každé položce soupisu prací se na samostatných řádcích může zobrazovat:
E48: Plný popis položky
E49: Poznámka k souboru cen a poznámka zadavatele
E50: Výkaz výměr
...
