Workbook

Sheet Rekapitulace stavby
A1: Export Komplet | AZ1: VZ | BA1: 2.0 | BT1: False | BU1: False | BV1: {3b51110c-6af6-42ab-a4f0-a7ea8534f328}
AR2: >> skryté sloupce << | BS2: 0,01 | BT2: 21
BS3: 0,01 | BT3: 12
D4: REKAPITULACE STAVBY | AS4: v --- níže se nacházejí doplnkové a pomocné údaje k sestavám --- v | BS4: 0,001
D5: Kód: | K5: 26-04_5136_A | BS5: 0,01
D6: Stavba: | K6: Kluziště Smržovka | BS6: 0,01
D7: KSO: | AK7: CC-CZ: | BS7: 0,01
D8: Místo: | K8: p.č. 2115/1, 2115/3, 2105 | AK8: Datum: | AN8: 2. 4. 2026 | BS8: 0,01
BS9: 0,01
D10: Zadavatel: | AK10: IČ: | BS10: 0,01
E11: Město Smržovka | AK11: DIČ: | BS11: 0,01
BS12: 0,01
D13: Zhotovitel: | AK13: IČ: | BS13: 0,01
AK14: DIČ: | BS14: 0,01
BS15: False
D16: Projektant: | AK16: IČ: | AN16: 14080923 | BS16: False
E17: mjölking s.r.o., Šternovská 2304/6, Chodov, Praha | AK17: DIČ: | BS17: True
BS18: 0,01
D19: Zpracovatel: | AK19: IČ: | BS19: 0,01
E20: Propos Liberec s.r.o. | AK20: DIČ: | BS20: False
D22: Poznámka:
E23: Soupis prací je sestaven s využitím Cenové soustavy ÚRS. Položky, které pochází z této cenové soustavy, jsou ve sloupci 'Cenová soustava' označeny popisem 'CS ÚRS' a úrovní příslušného kalendářního pololetí. Veškeré další informace vymezující popis a podmínky použití těchto položek z Cenové soustavy, které nejsou uvedeny přímo v soupisu prací, jsou neomezeně dálkově k dispozici na webu podminky.urs.cz.
D26: Cena bez DPH | AK26: =ROUND(AG54,2) -> 0
L28: Sazba daně | W28: Základ daně | AK28: Výše daně
D29: DPH | F29: základní | L29: 0.21 | W29: =ROUND(AZ54, 2) -> 0 | AK29: =ROUND(AV54, 2) -> 0
F30: snížená | L30: 0.12 | W30: =ROUND(BA54, 2) -> 0 | AK30: =ROUND(AW54, 2) -> 0
F31: zákl. přenesená | L31: 0.21 | W31: =ROUND(BB54, 2) -> 0 | AK31: 0
F32: sníž. přenesená | L32: 0.12 | W32: =ROUND(BC54, 2) -> 0 | AK32: 0
F33: nulová | L33: 0 | W33: =ROUND(BD54, 2) -> 0 | AK33: 0
D35: Cena s DPH | T35: v | X35: CZK | AK35: =SUM(AK26:AK33) -> 0
C42: REKAPITULACE OBJEKTŮ STAVBY A SOUPISŮ PRACÍ
C44: Kód: | L44: =K5 -> 26-04_5136_A
C45: Stavba: | L45: =K6 -> Kluziště Smržovka
C47: Místo: | L47: =IF(K8="","",K8) -> p.č. 2115/1, 2115/3, 2105 | AI47: Datum: | AM47: =IF(AN8= "","",AN8) -> 2. 4. 2026
C49: Zadavatel: | L49: =IF(E11= "","",E11) -> Město Smržovka | AI49: Projektant: | AM49: =IF(E17="","",E17) -> mjölking s.r.o., Šternovská 2304/6, Chodov, Praha | AS49: Informatívní údaje z listů zakázek
C50: Zhotovitel: | L50: =IF(E14="","",E14) | AI50: Zpracovatel: | AM50: =IF(E20="","",E20) -> Propos Liberec s.r.o.
C52: Kód | I52: Popis | AG52: Cena bez DPH [CZK] | AN52: Cena s DPH [CZK] | AQ52: Typ | AS52: z toho Ostat._x000D_ náklady [CZK] | AT52: DPH [CZK] | AU52: Normohodiny [h] | AV52: DPH základní [CZK] | AW52: DPH snížená [CZK] | AX52: DPH základní přenesená_x000D_ [CZK] | AY52: DPH snížená přenesená_x000D_ [CZK] | AZ52: Základna_x000D_ DPH základní | BA52: Základna_x000D_ DPH snížená | BB52: Základna_x000D_ DPH zákl. přenesená | BC52: Základna_x000D_ DPH sníž. přenesená | BD52: Základna_x000D_ DPH nulová
C54: Náklady stavby celkem | AG54: =ROUND(SUM(AG55:AG59),2) -> 0 | AN54: =AG54*1.21 -> 0 | AS54: =ROUND(SUM(AS55:AS59),2) -> 0 | AT54: =ROUND(SUM(AV54:AW54),2) -> 0 | AU54: =ROUND(SUM(AU55:AU59),5) -> #REF! | AV54: =ROUND(AZ54*L29,2) -> 0 | AW54: =ROUND(BA54*L30,2) -> 0 | AX54: =ROUND(BB54*L29,2) -> 0 | AY54: =ROUND(BC54*L30,2) -> 0 | AZ54: =ROUND(SUM(AZ55:AZ59),2) -> 0 | BA54: =ROUND(SUM(BA55:BA59),2) -> 0 | BB54: =ROUND(SUM(BB55:BB59),2) -> 0 | BC54: =ROUND(SUM(BC55:BC59),2) -> 0 | BD54: =ROUND(SUM(BD55:BD59),2) -> 0 | BS54: D | BT54: 0 | BU54: ###NOIMPORT### | BV54: IMPORT | BW54: {3b51110c-6af6-42ab-a4f0-a7ea8534f328} | BX54: {00000000-0000-0000-0000-000000000000}
A55: / | D55: SO 01 | J55: Multifunkční hřiště | AG55: ='SO 01 - Multifunkční hřiště'!J30 -> 0 | AN55: =SUM(AG55,AT55) -> 0 | AQ55: STA | AS55: 0 | AT55: =ROUND(SUM(AV55:AW55),2) -> 0 | AU55: ='SO 01 - Multifunkční hřiště'!P90 -> 3337.0361 | AV55: ='SO 01 - Multifunkční hřiště'!J33 -> 0 | AW55: ='SO 01 - Multifunkční hřiště'!J34 -> 0 | AX55: ='SO 01 - Multifunkční hřiště'!J35 -> 0 | AY55: ='SO 01 - Multifunkční hřiště'!J36 -> 0 | AZ55: ='SO 01 - Multifunkční hřiště'!F33 -> 0 | BA55: ='SO 01 - Multifunkční hřiště'!F34 -> 0 | BB55: ='SO 01 - Multifunkční hřiště'!F35 -> 0 | BC55: ='SO 01 - Multifunkční hřiště'!F36 -> 0 | BD55: ='SO 01 - Multifunkční hřiště'!F37 -> 0 | BT55: 1 | BV55: IMPORT | BW55: {afeabcc7-04fd-44b6-adc5-8047a80ef630} | BX55: {3b51110c-6af6-42ab-a4f0-a7ea8534f328} | CM55: 2
A56: / | D56: SO 03 | J56: Přípojka vody | AG56: ='SO 03 Přípojka vody'!J30 -> 0 | AN56: =SUM(AG56,AT56) -> 0 | AQ56: STA | AS56: 0 | AT56: =ROUND(SUM(AV56:AW56),2) -> 0 | AU56: ='SO 03 Přípojka vody'!P89 -> 378.45226 | AV56: ='SO 03 Přípojka vody'!J33 -> 0 | AW56: ='SO 03 Přípojka vody'!J34 -> 0 | AX56: ='SO 03 Přípojka vody'!J35 -> 0 | AY56: ='SO 03 Přípojka vody'!J36 -> 0 | AZ56: ='SO 03 Přípojka vody'!F33 -> 0 | BA56: ='SO 03 Přípojka vody'!F34 -> 0 | BB56: ='SO 03 Přípojka vody'!F35 -> 0 | BC56: ='SO 03 Přípojka vody'!F36 -> 0 | BD56: ='SO 03 Přípojka vody'!F37 -> 0 | BT56: 1 | BV56: IMPORT | BW56: {c38061aa-5787-4dda-81d6-a409055e0c01} | BX56: {3b51110c-6af6-42ab-a4f0-a7ea8534f328} | CM56: 2
D57: SO 04 | J57: Zázemí kluziště | AG57: ='SO 04 - zázemí kluziště '!J59 -> 0 | AN57: =AG57*1.21 -> 0 | AQ57: STA
A58: / | D58: SO 05 | J58: Venkovní rozvody NN | AG58: ='SO 05 - Venkovní rozvody ...'!J30 -> 0 | AN58: =SUM(AG58,AT58) -> 0 | AQ58: STA | AS58: 0 | AT58: =ROUND(SUM(AV58:AW58),2) -> 0 | AU58: ='SO 05 - Venkovní rozvody ...'!P88 -> 0 | AV58: ='SO 05 - Venkovní rozvody ...'!J33 -> 0 | AW58: ='SO 05 - Venkovní rozvody ...'!J34 -> 0 | AX58: ='SO 05 - Venkovní rozvody ...'!J35 -> 0 | AY58: ='SO 05 - Venkovní rozvody ...'!J36 -> 0 | AZ58: ='SO 05 - Venkovní rozvody ...'!F33 -> 0 | BA58: ='SO 05 - Venkovní rozvody ...'!F34 -> 0 | BB58: ='SO 05 - Venkovní rozvody ...'!F35 -> 0 | BC58: ='SO 05 - Venkovní rozvody ...'!F36 -> 0 | BD58: ='SO 05 - Venkovní rozvody ...'!F37 -> 0 | BT58: 1 | BV58: IMPORT | BW58: {dd8d18ce-370c-4b98-96d0-c04e0b0e05cb} | BX58: {3b51110c-6af6-42ab-a4f0-a7ea8534f328} | CM58: 2
A59: / | D59: VRN | J59: Vedlejší rozpočtové náklady a náklady spojené s umístěním stavby | AG59: ='VRN - Vedlejší rozpočtové...'!J30 -> 0 | AN59: =SUM(AG59,AT59) -> 0 | AQ59: STA | AS59: 0 | AT59: =ROUND(SUM(AV59:AW59),2) -> 0 | AU59: ='VRN - Vedlejší rozpočtové...'!P82 -> #REF! | AV59: ='VRN - Vedlejší rozpočtové...'!J33 -> 0 | AW59: ='VRN - Vedlejší rozpočtové...'!J34 -> 0 | AX59: ='VRN - Vedlejší rozpočtové...'!J35 -> 0 | AY59: ='VRN - Vedlejší rozpočtové...'!J36 -> 0 | AZ59: ='VRN - Vedlejší rozpočtové...'!F33 -> 0 | BA59: ='VRN - Vedlejší rozpočtové...'!F34 -> 0 | BB59: ='VRN - Vedlejší rozpočtové...'!F35 -> 0 | BC59: ='VRN - Vedlejší rozpočtové...'!F36 -> 0 | BD59: ='VRN - Vedlejší rozpočtové...'!F37 -> 0 | BT59: 1 | BV59: IMPORT | BW59: {c6bd2c1f-60a5-4778-b256-90c59f807d7e} | BX59: {3b51110c-6af6-42ab-a4f0-a7ea8534f328} | CM59: 2

Sheet SO 01 - Multifunkční hřiště
L2: >> skryté sloupce << | AT2: {afeabcc7-04fd-44b6-adc5-8047a80ef630}
AT3: 2
D4: KRYCÍ LIST SOUPISU PRACÍ | M4: v --- níže se nacházejí doplnkové a pomocné údaje k sestavám --- v | AT4: False
D6: Stavba:
E7: ='Rekapitulace stavby'!K6 -> Kluziště Smržovka
D8: Objekt:
E9: SO 01 - Multifunkční hřiště
D11: KSO: | I11: CC-CZ:
D12: Místo: | F12: p.č. 2115/1, 2115/3, 2105 | I12: Datum: | J12: ='Rekapitulace stavby'!AN8 -> 2. 4. 2026
D14: Zadavatel: | I14: IČ:
E15: Město Smržovka | I15: DIČ:
D17: Zhotovitel: | I17: IČ: | J17: ='Rekapitulace stavby'!AN13
E18: ='Rekapitulace stavby'!E14 | I18: DIČ: | J18: ='Rekapitulace stavby'!AN14
D20: Projektant: | I20: IČ: | J20: 14080923
E21: mjölking s.r.o., Šternovská 2304/6, Chodov, Praha | I21: DIČ:
D23: Zpracovatel: | I23: IČ:
E24: Propos Liberec s.r.o. | I24: DIČ:
D26: Poznámka:
E27: Soupis prací je sestaven s využitím Cenové soustavy ÚRS. Položky, které pochází z této cenové soustavy, jsou ve sloupci 'Cenová soustava' označeny popisem 'CS ÚRS' a úrovní příslušného kalendářního pololetí. Veškeré další informace vymezující popis a podmínky použití těchto položek z Cenové soustavy, které nejsou uvedeny přímo v soupisu prací, jsou neomezeně dálkově k dispozici na webu podminky.urs.cz.
D30: Cena bez DPH | J30: =ROUND(J90, 2) -> 0
F32: Základ daně | I32: Sazba daně | J32: Výše daně
D33: DPH | E33: základní | F33: =ROUND((SUM(BE90:BE348)), 2) -> 0 | I33: 0.21 | J33: =ROUND(((SUM(BE90:BE348))*I33), 2) -> 0
E34: snížená | F34: =ROUND((SUM(BF90:BF348)), 2) -> 0 | I34: 0.12 | J34: =ROUND(((SUM(BF90:BF348))*I34), 2) -> 0
E35: zákl. přenesená | F35: =ROUND((SUM(BG90:BG348)), 2) -> 0 | I35: 0.21 | J35: =0 -> 0
E36: sníž. přenesená | F36: =ROUND((SUM(BH90:BH348)), 2) -> 0 | I36: 0.12 | J36: =0 -> 0
E37: nulová | F37: =ROUND((SUM(BI90:BI348)), 2) -> 0 | I37: 0 | J37: =0 -> 0
D39: Cena s DPH | G39: v | H39: CZK | J39: =SUM(J30:J37) -> 0
C45: REKAPITULACE ČLENĚNÍ SOUPISU PRACÍ
C47: Stavba:
E48: =E7 -> Kluziště Smržovka
C49: Objekt:
E50: =E9 -> SO 01 - Multifunkční hřiště
C52: Místo: | F52: =F12 -> p.č. 2115/1, 2115/3, 2105 | I52: Datum: | J52: =IF(J12="","",J12) -> 2. 4. 2026
C54: Zadavatel: | F54: =E15 -> Město Smržovka | I54: Projektant: | J54: =E21 -> mjölking s.r.o., Šternovská 2304/6, Chodov, Praha
C55: Zhotovitel: | F55: =IF(E18="","",E18) | I55: Zpracovatel: | J55: =E24 -> Propos Liberec s.r.o.
C57: Kód dílu - Popis | J57: Cena celkem [CZK]
C59: Náklady stavby celkem | J59: =J90 -> 0 | AU59: -1
D60: HSV - Práce a dodávky HSV | J60: =J91 -> 0
D61: 1 - Zemní práce | J61: =J92 -> 0
D62: 2 - Zakládání | J62: =J149 -> 0
D63: 3 - Svislé a kompletní konstrukce | J63: =J177 -> 0
D64: 4 - Vodorovné konstrukce | J64: =J187 -> 0
D65: 5 - Komunikace pozemní | J65: =J208 -> 0
D66: 9 - Ostatní konstrukce a práce, bourání | J66: =J287 -> 0
D67: 997 - Doprava suti a vybouraných hmot | J67: =J318 -> 0
D68: 998 - Přesun hmot | J68: =J330 -> 0
D69: PSV - Práce a dodávky PSV | J69: =J333 -> 0
D70: 767 - Konstrukce zámečnické vč. přesunu hmot,doplňků a příslušenství (bližší specifikace viz tab. výrobků) | J70: =J334 -> 0
C77: SOUPIS PRACÍ
C79: Stavba:
E80: =E7 -> Kluziště Smržovka
C81: Objekt:
E82: =E9 -> SO 01 - Multifunkční hřiště
C84: Místo: | F84: =F12 -> p.č. 2115/1, 2115/3, 2105 | I84: Datum: | J84: =IF(J12="","",J12) -> 2. 4. 2026
C86: Zadavatel: | F86: =E15 -> Město Smržovka | I86: Projektant: | J86: =E21 -> mjölking s.r.o., Šternovská 2304/6, Chodov, Praha
C87: Zhotovitel: | F87: =IF(E18="","",E18) | I87: Zpracovatel: | J87: =E24 -> Propos Liberec s.r.o.
C89: PČ | D89: Typ | E89: Kód | F89: Popis | G89: MJ | H89: Množství | I89: J.cena [CZK] | J89: Cena celkem [CZK] | K89: Cenová soustava | N89: DPH | O89: J. Nh [h] | P89: Nh celkem [h] | Q89: J. hmotnost [t] | R89: Hmotnost celkem [t] | S89: J. suť [t] | T89: Suť Celkem [t]
C90: Náklady soupisu celkem | J90: =BK90 -> 0 | P90: =P91+P333 -> 3337.0361 | R90: =R91+R333 -> 367.24862 | T90: =T91+T333 -> 609.91735 | AT90: D | AU90: -1 | BK90: =BK91+BK333 -> 0
D91: D | E91: HSV | F91: Práce a dodávky HSV | J91: =BK91 -> 0 | P91: =P92+P149+P177+P187+P208+P287+P318+P330 -> 3267.7148 | R91: =R92+R149+R177+R187+R208+R287+R318+R330 -> 358.6338 | T91: =T92+T149+T177+T187+T208+T287+T318+T330 -> 609.91735 | AR91: 1 | AT91: D | AU91: 0 | AY91: ROZPOCET | BK91: =BK92+BK149+BK177+BK187+BK208+BK287+BK318+BK330 -> 0
D92: D | E92: 1 | F92: Zemní práce | J92: =BK92 -> 0 | P92: =SUM(P93:P148) -> 349.07229 | R92: =SUM(R93:R148) -> 0.0081939 | T92: =SUM(T93:T148) -> 514.33305 | AR92: 1 | AT92: D | AU92: 1 | AY92: ROZPOCET | BK92: =SUM(BK93:BK148) -> 0
D93: Online PSC | F93: https://podminky.urs.cz/item/CS_URS_2026_01/112151115 | AT93: Online PSC | AU93: 2
D94: Online PSC | F94: https://podminky.urs.cz/item/CS_URS_2026_01/112251103 | AT94: Online PSC | AU94: 2
C95: 1 | D95: K | E95: 113106571 | F95: Rozebrání dlažeb vozovek a ploch s přemístěním hmot na skládku na vzdálenost do 3 m nebo s naložením na dopravní prostředek, s jakoukoliv výplní spár strojně plochy jednotlivě přes 200 m2 ze zámkové dlažby s ložem z kameniva | G95: m2 | H95: 579.08 | I95: 0 | J95: =ROUND(I95*H95,2) -> 0 | K95: CS ÚRS 2026 01 | N95: základní | O95: 0.027 | P95: =O95*H95 -> 15.63516 | Q95: 0 | R95: =Q95*H95 -> 0 | S95: 0.295 | T95: =S95*H95 -> 170.8286 | AR95: 4 | AT95: K | AU95: 2 | AY95: ROZPOCET | BE95: =IF(N95="základní",J95,0) -> 0 | BF95: =IF(N95="snížená",J95,0) -> 0 | BG95: =IF(N95="zákl. přenesená",J95,0) -> 0 | BH95: =IF(N95="sníž. přenesená",J95,0) -> 0 | BI95: =IF(N95="nulová",J95,0) -> 0 | BJ95: 1 | BK95: =ROUND(I95*H95,2) -> 0 | BL95: 4 | BM95: 1966420048
D96: Online PSC | F96: https://podminky.urs.cz/item/CS_URS_2026_01/113106571 | AT96: Online PSC | AU96: 2
D97: VV | F97: "viz SO 01_D.1.1.2.1.03 BOURACÍ PRÁCE" 579,08 | H97: 579.08 | AT97: VV | AU97: 2 | AV97: 2 | AW97: True | AX97: 1 | AY97: ROZPOCET
C98: 2 | D98: K | E98: 113107221 | F98: Odstranění podkladů nebo krytů strojně plochy jednotlivě přes 200 m2 s přemístěním hmot na skládku na vzdálenost do 20 m nebo s naložením na dopravní prostředek z kameniva hrubého drceného, o tl. vrstvy do 100 mm | G98: m2 | H98: 273.13 | I98: 0 | J98: =ROUND(I98*H98,2) -> 0 | K98: CS ÚRS 2026 01 | N98: základní | O98: 0.05 | P98: =O98*H98 -> 13.6565 | Q98: 0 | R98: =Q98*H98 -> 0 | S98: 0.17 | T98: =S98*H98 -> 46.4321 | AR98: 4 | AT98: K | AU98: 2 | AY98: ROZPOCET | BE98: =IF(N98="základní",J98,0) -> 0 | BF98: =IF(N98="snížená",J98,0) -> 0 | BG98: =IF(N98="zákl. přenesená",J98,0) -> 0 | BH98: =IF(N98="sníž. přenesená",J98,0) -> 0 | BI98: =IF(N98="nulová",J98,0) -> 0 | BJ98: 1 | BK98: =ROUND(I98*H98,2) -> 0 | BL98: 4 | BM98: -949549941
D99: Online PSC | F99: https://podminky.urs.cz/item/CS_URS_2026_01/113107221 | AT99: Online PSC | AU99: 2
D100: VV | F100: "viz SO 01_D.1.1.2.1.03 BOURACÍ PRÁCE" 273,13 | H100: 273.13 | AT100: VV | AU100: 2 | AV100: 2 | AW100: True | AX100: 1 | AY100: ROZPOCET
C101: 3 | D101: K | E101: 113107222 | F101: Odstranění podkladů nebo krytů strojně plochy jednotlivě přes 200 m2 s přemístěním hmot na skládku na vzdálenost do 20 m nebo s naložením na dopravní prostředek z kameniva hrubého drceného, o tl. vrstvy přes 100 do 200 mm | G101: m2 | H101: 579.08 | I101: 0 | J101: =ROUND(I101*H101,2) -> 0 | K101: CS ÚRS 2026 01 | N101: základní | O101: 0.073 | P101: =O101*H101 -> 42.27284 | Q101: 0 | R101: =Q101*H101 -> 0 | S101: 0.29 | T101: =S101*H101 -> 167.9332 | AR101: 4 | AT101: K | AU101: 2 | AY101: ROZPOCET | BE101: =IF(N101="základní",J101,0) -> 0 | BF101: =IF(N101="snížená",J101,0) -> 0 | BG101: =IF(N101="zákl. přenesená",J101,0) -> 0 | BH101: =IF(N101="sníž. přenesená",J101,0) -> 0 | BI101: =IF(N101="nulová",J101,0) -> 0 | BJ101: 1 | BK101: =ROUND(I101*H101,2) -> 0 | BL101: 4 | BM101: 240176769
D102: Online PSC | F102: https://podminky.urs.cz/item/CS_URS_2026_01/113107222 | AT102: Online PSC | AU102: 2
D103: VV | F103: "viz SO 01_D.1.1.2.1.03 BOURACÍ PRÁCE" 579,08 | H103: 579.08 | AT103: VV | AU103: 2 | AV103: 2 | AW103: True | AX103: 1 | AY103: ROZPOCET
C104: 4 | D104: K | E104: 113107325 | F104: Odstranění podkladů nebo krytů strojně plochy jednotlivě do 50 m2 s přemístěním hmot na skládku na vzdálenost do 3 m nebo s naložením na dopravní prostředek z kameniva hrubého drceného, o tl. vrstvy přes 400 do 500 mm | G104: m2 | H104: 12.439 | I104: 0 | J104: =ROUND(I104*H104,2) -> 0 | K104: CS ÚRS 2026 01 | N104: základní | O104: 0.295 | P104: =O104*H104 -> 3.669505 | Q104: 0 | R104: =Q104*H104 -> 0 | S104: 0.75 | T104: =S104*H104 -> 9.32925 | AR104: 4 | AT104: K | AU104: 2 | AY104: ROZPOCET | BE104: =IF(N104="základní",J104,0) -> 0 | BF104: =IF(N104="snížená",J104,0) -> 0 | BG104: =IF(N104="zákl. přenesená",J104,0) -> 0 | BH104: =IF(N104="sníž. přenesená",J104,0) -> 0 | BI104: =IF(N104="nulová",J104,0) -> 0 | BJ104: 1 | BK104: =ROUND(I104*H104,2) -> 0 | BL104: 4 | BM104: -1646003645
D105: Online PSC | F105: https://podminky.urs.cz/item/CS_URS_2026_01/113107325 | AT105: Online PSC | AU105: 2
D106: VV | F106: "viz tabulka zámečnických výrobků/mobiliáře hřiště - ozn. B - Betonová klouzačka s pískovištěm" 13,35*0,60+(0,98*2+12,556)*0,25 | H106: 11.639 | AT106: VV | AU106: 2 | AV106: 2 | AW106: True | AX106: 0 | AY106: ROZPOCET
D107: VV | F107: "viz tabulka zámečnických výrobků/mobiliáře hřiště - ozn. D - basketbalový koš" 0,80*1,00 | H107: 0.8 | AT107: VV | AU107: 2 | AV107: 2 | AW107: True | AX107: 0 | AY107: ROZPOCET
D108: VV | F108: Součet | H108: 12.439 | AT108: VV | AU108: 2 | AV108: 4 | AW108: True | AX108: 1 | AY108: ROZPOCET
C109: 5 | D109: K | E109: 113154528 | F109: Frézování živičného podkladu nebo krytu s naložením hmot na dopravní prostředek plochy do 500 m2 pruhu šířky přes 0,5 m, tloušťky vrstvy 100 mm | G109: m2 | H109: 273.13 | I109: 0 | J109: =ROUND(I109*H109,2) -> 0 | K109: CS ÚRS 2026 01 | N109: základní | O109: 0.048 | P109: =O109*H109 -> 13.11024 | Q109: 3e-05 | R109: =Q109*H109 -> 0.0081939 | S109: 0.23 | T109: =S109*H109 -> 62.8199 | AR109: 4 | AT109: K | AU109: 2 | AY109: ROZPOCET | BE109: =IF(N109="základní",J109,0) -> 0 | BF109: =IF(N109="snížená",J109,0) -> 0 | BG109: =IF(N109="zákl. přenesená",J109,0) -> 0 | BH109: =IF(N109="sníž. přenesená",J109,0) -> 0 | BI109: =IF(N109="nulová",J109,0) -> 0 | BJ109: 1 | BK109: =ROUND(I109*H109,2) -> 0 | BL109: 4 | BM109: 1017847423
D110: Online PSC | F110: https://podminky.urs.cz/item/CS_URS_2026_01/113154528 | AT110: Online PSC | AU110: 2
D111: VV | F111: "viz SO 01_D.1.1.2.1.03 BOURACÍ PRÁCE" 273,13 | H111: 273.13 | AT111: VV | AU111: 2 | AV111: 2 | AW111: True | AX111: 0 | AY111: ROZPOCET
D112: VV | F112: Součet | H112: 273.13 | AT112: VV | AU112: 2 | AV112: 4 | AW112: True | AX112: 1 | AY112: ROZPOCET
C113: 6 | D113: K | E113: 113202111 | F113: Vytrhání obrub s vybouráním lože, s přemístěním hmot na skládku na vzdálenost do 3 m nebo s naložením na dopravní prostředek z krajníků nebo obrubníků stojatých | G113: m | H113: 278 | I113: 0 | J113: =ROUND(I113*H113,2) -> 0 | K113: CS ÚRS 2026 01 | N113: základní | O113: 0.133 | P113: =O113*H113 -> 36.974 | Q113: 0 | R113: =Q113*H113 -> 0 | S113: 0.205 | T113: =S113*H113 -> 56.99 | AR113: 4 | AT113: K | AU113: 2 | AY113: ROZPOCET | BE113: =IF(N113="základní",J113,0) -> 0 | BF113: =IF(N113="snížená",J113,0) -> 0 | BG113: =IF(N113="zákl. přenesená",J113,0) -> 0 | BH113: =IF(N113="sníž. přenesená",J113,0) -> 0 | BI113: =IF(N113="nulová",J113,0) -> 0 | BJ113: 1 | BK113: =ROUND(I113*H113,2) -> 0 | BL113: 4 | BM113: -954177439
D114: Online PSC | F114: https://podminky.urs.cz/item/CS_URS_2026_01/113202111 | AT114: Online PSC | AU114: 2
D115: VV | F115: "viz SO 01_D.1.1.2.1.03 BOURACÍ PRÁCE" | AT115: VV | AU115: 2 | AV115: 1 | AW115: True | AX115: 0 | AY115: ROZPOCET
D116: VV | F116: "oddělění zelených ploch od betonové dlažby" 132,00 | H116: 132 | AT116: VV | AU116: 2 | AV116: 2 | AW116: True | AX116: 0 | AY116: ROZPOCET
D117: VV | F117: "oddělění asf. ploch od betonové dlažby" 146,00 | H117: 146 | AT117: VV | AU117: 2 | AV117: 2 | AW117: True | AX117: 0 | AY117: ROZPOCET
D118: VV | F118: Součet | H118: 278 | AT118: VV | AU118: 2 | AV118: 4 | AW118: True | AX118: 1 | AY118: ROZPOCET
C119: 7 | D119: K | E119: 121151105 | F119: Sejmutí ornice strojně při souvislé ploše do 100 m2, tl. vrstvy přes 250 do 300 mm | G119: m2 | H119: 191.04 | I119: 0 | J119: =ROUND(I119*H119,2) -> 0 | K119: CS ÚRS 2026 01 | N119: základní | O119: 0.098 | P119: =O119*H119 -> 18.72192 | Q119: 0 | R119: =Q119*H119 -> 0 | S119: 0 | T119: =S119*H119 -> 0 | AR119: 4 | AT119: K | AU119: 2 | AY119: ROZPOCET | BE119: =IF(N119="základní",J119,0) -> 0 | BF119: =IF(N119="snížená",J119,0) -> 0 | BG119: =IF(N119="zákl. přenesená",J119,0) -> 0 | BH119: =IF(N119="sníž. přenesená",J119,0) -> 0 | BI119: =IF(N119="nulová",J119,0) -> 0 | BJ119: 1 | BK119: =ROUND(I119*H119,2) -> 0 | BL119: 4 | BM119: 2141472937
D120: Online PSC | F120: https://podminky.urs.cz/item/CS_URS_2026_01/121151105 | AT120: Online PSC | AU120: 2
D121: VV | F121: "viz SO 01_D.1.1.2.1.03 BOURACÍ PRÁCE" 30,61+27,32+21,59+62,39+49,13 | H121: 191.04 | AT121: VV | AU121: 2 | AV121: 2 | AW121: True | AX121: 1 | AY121: ROZPOCET
C122: 8 | D122: K | E122: 132212331 | F122: Hloubení nezapažených rýh šířky přes 800 do 2 000 mm ručně s urovnáním dna do předepsaného profilu a spádu v hornině třídy těžitelnosti I skupiny 3 soudržných | G122: m3 | H122: 34.178 | I122: 0 | J122: =ROUND(I122*H122,2) -> 0 | K122: CS ÚRS 2026 01 | N122: základní | O122: 3.77 | P122: =O122*H122 -> 128.85106 | Q122: 0 | R122: =Q122*H122 -> 0 | S122: 0 | T122: =S122*H122 -> 0 | AR122: 4 | AT122: K | AU122: 2 | AY122: ROZPOCET | BE122: =IF(N122="základní",J122,0) -> 0 | BF122: =IF(N122="snížená",J122,0) -> 0 | BG122: =IF(N122="zákl. přenesená",J122,0) -> 0 | BH122: =IF(N122="sníž. přenesená",J122,0) -> 0 | BI122: =IF(N122="nulová",J122,0) -> 0 | BJ122: 1 | BK122: =ROUND(I122*H122,2) -> 0 | BL122: 4 | BM122: -756017676
D123: Online PSC | F123: https://podminky.urs.cz/item/CS_URS_2026_01/132212331 | AT123: Online PSC | AU123: 2
D124: VV | F124: "tribuna" 19,00*0,75*2,18 | H124: 31.065 | AT124: VV | AU124: 2 | AV124: 2 | AW124: True | AX124: 0 | AY124: ROZPOCET
D125: VV | F125: "viz tabulka zámečnických výrobků/mobiliáře hřiště - ozn. D - basketbalový koš" 0,80*1,00*0,45 | H125: 0.36 | AT125: VV | AU125: 2 | AV125: 2 | AW125: True | AX125: 0 | AY125: ROZPOCET
D126: VV | F126: Součet | H126: 34.178 | AT126: VV | AU126: 2 | AV126: 4 | AW126: True | AX126: 1 | AY126: ROZPOCET
C127: 9 | D127: K | E127: 132251101 | F127: Hloubení nezapažených rýh šířky do 800 mm strojně s urovnáním dna do předepsaného profilu a spádu v hornině třídy těžitelnosti I skupiny 3 do 20 m3 | G127: m3 | H127: 8.25 | I127: 0 | J127: =ROUND(I127*H127,2) -> 0 | K127: CS ÚRS 2026 01 | N127: základní | O127: 1.72 | P127: =O127*H127 -> 14.19 | Q127: 0 | R127: =Q127*H127 -> 0 | S127: 0 | T127: =S127*H127 -> 0 | AR127: 4 | AT127: K | AU127: 2 | AY127: ROZPOCET | BE127: =IF(N127="základní",J127,0) -> 0 | BF127: =IF(N127="snížená",J127,0) -> 0 | BG127: =IF(N127="zákl. přenesená",J127,0) -> 0 | BH127: =IF(N127="sníž. přenesená",J127,0) -> 0 | BI127: =IF(N127="nulová",J127,0) -> 0 | BJ127: 1 | BK127: =ROUND(I127*H127,2) -> 0 | BL127: 4 | BM127: 840830677
D128: Online PSC | F128: https://podminky.urs.cz/item/CS_URS_2026_01/132251101 | AT128: Online PSC | AU128: 2
D129: VV | F129: "viz tabulka zámečnických výrobků/mobiliáře hřiště - ozn. R - konstrukce nového plotu" 33,00*1,00*0,25 | H129: 8.25 | AT129: VV | AU129: 2 | AV129: 2 | AW129: True | AX129: 1 | AY129: ROZPOCET
C130: 10 | D130: K | E130: 162351103 | F130: Vodorovné přemístění výkopku nebo sypaniny po suchu na obvyklém dopravním prostředku, bez naložení výkopku, avšak se složením bez rozhrnutí z horniny třídy těžitelnosti I skupiny 1 až 3 na vzdálenost přes 50 do 500 m | G130: m3 | H130: 199.48 | I130: 0 | J130: =ROUND(I130*H130,2) -> 0 | K130: CS ÚRS 2026 01 | N130: základní | O130: 0.044 | P130: =O130*H130 -> 8.77712 | Q130: 0 | R130: =Q130*H130 -> 0 | S130: 0 | T130: =S130*H130 -> 0 | AR130: 4 | AT130: K | AU130: 2 | AY130: ROZPOCET | BE130: =IF(N130="základní",J130,0) -> 0 | BF130: =IF(N130="snížená",J130,0) -> 0 | BG130: =IF(N130="zákl. přenesená",J130,0) -> 0 | BH130: =IF(N130="sníž. přenesená",J130,0) -> 0 | BI130: =IF(N130="nulová",J130,0) -> 0 | BJ130: 1 | BK130: =ROUND(I130*H130,2) -> 0 | BL130: 4 | BM130: -315199334
D131: Online PSC | F131: https://podminky.urs.cz/item/CS_URS_2026_01/162351103 | AT131: Online PSC | AU131: 2
D132: VV | F132: "ornice" 191,04*0,30 | H132: 57.312 | AT132: VV | AU132: 2 | AV132: 2 | AW132: True | AX132: 0 | AY132: ROZPOCET
...

Sheet SO 04 - zázemí kluziště 
L2: >> skryté sloupce << | AT2: {49341d9f-1909-4fdb-9ad8-6774ff7f6edb} | AZ2: asfaltpaszakl | BC2: 46,8 | BD2: 2
AT3: 2 | AZ3: geotex | BC3: 46,8 | BD3: 2
D4: KRYCÍ LIST SOUPISU PRACÍ | M4: v --- níže se nacházejí doplnkové a pomocné údaje k sestavám --- v | AT4: False | AZ4: chranic | BC4: 1,5 | BD4: 2
AZ5: klinatik | BC5: 19,62 | BD5: 2
D6: Stavba: | AZ6: mazanin | BC6: 6,888 | BD6: 2
E7: ='Rekapitulace stavby'!K6 -> Kluziště Smržovka | AZ7: odkopani | BC7: 6 | BD7: 2
D8: Objekt: | AZ8: ryhy | BC8: 10,803 | BD8: 2
E9: SO 04 -zázemí kluziště | AZ9: strechs01 | BC9: 46,456 | BD9: 2
AZ10: zpetnasyp | BC10: 15 | BD10: 2
D11: KSO: | I11: CC-CZ: | AZ11: zpetokoli | BC11: 2 | BD11: 2
D12: Místo: | F12: p.č. 2115/1, 2115/3, 2105 | I12: Datum: | J12: ='Rekapitulace stavby'!AN8 -> 2. 4. 2026
D14: Zadavatel: | I14: IČ:
E15: Město Smržovka | I15: DIČ:
D17: Zhotovitel: | I17: IČ: | J17: ='Rekapitulace stavby'!AN13
E18: ='Rekapitulace stavby'!E14 | I18: DIČ: | J18: ='Rekapitulace stavby'!AN14
D20: Projektant: | I20: IČ: | J20: 14080923
E21: mjölking s.r.o., Šternovská 2304/6, Chodov, Praha | I21: DIČ:
D23: Zpracovatel: | I23: IČ:
E24: Propos Liberec s.r.o. | I24: DIČ:
D26: Poznámka:
E27: Soupis prací je sestaven s využitím Cenové soustavy ÚRS. Položky, které pochází z této cenové soustavy, jsou ve sloupci 'Cenová soustava' označeny popisem 'CS ÚRS' a úrovní příslušného kalendářního pololetí. Veškeré další informace vymezující popis a podmínky použití těchto položek z Cenové soustavy, které nejsou uvedeny přímo v soupisu prací, jsou neomezeně dálkově k dispozici na webu podminky.urs.cz.
D30: Cena bez DPH | J30: =ROUND(J91, 2) -> 0
F32: Základ daně | I32: Sazba daně | J32: Výše daně
D33: DPH | E33: základní | F33: 808398.36 | I33: 0.21 | J33: 169763.66
E34: snížená | F34: =ROUND((SUM(BF91:BF271)), 2) -> 0 | I34: 0.12 | J34: =ROUND(((SUM(BF91:BF271))*I34), 2) -> 0
E35: zákl. přenesená | F35: =ROUND((SUM(BG91:BG271)), 2) -> 0 | I35: 0.21 | J35: =0 -> 0
E36: sníž. přenesená | F36: =ROUND((SUM(BH91:BH271)), 2) -> 0 | I36: 0.12 | J36: =0 -> 0
E37: nulová | F37: =ROUND((SUM(BI91:BI271)), 2) -> 0 | I37: 0 | J37: =0 -> 0
D39: Cena s DPH | G39: v | H39: CZK | J39: =J30*1.21 -> 0
C45: REKAPITULACE ČLENĚNÍ SOUPISU PRACÍ
C47: Stavba:
E48: =E7 -> Kluziště Smržovka
C49: Objekt:
E50: =E9 -> SO 04 -zázemí kluziště
C52: Místo: | F52: =F12 -> p.č. 2115/1, 2115/3, 2105 | I52: Datum: | J52: =IF(J12="","",J12) -> 2. 4. 2026
C54: Zadavatel: | F54: =E15 -> Město Smržovka | I54: Projektant: | J54: =E21 -> mjölking s.r.o., Šternovská 2304/6, Chodov, Praha
C55: Zhotovitel: | F55: =IF(E18="","",E18) | I55: Zpracovatel: | J55: =E24 -> Propos Liberec s.r.o.
C57: Kód dílu - Popis | J57: Cena celkem [CZK]
C59: Náklady stavby celkem | J59: =J60+J65 -> 0 | AU59: -1
D60: HSV - Práce a dodávky HSV | J60: =J92 -> 0
D61: 1- | E61: Zakládání | J61: =J93 -> 0
D62: 9- | E62: Ostatní konstrukce a práce,bourání | J62: =J163 -> 0
D63: 997- | E63: Doprava suti a vybouraných hmot | J63: =J183 -> 0
D64: 998- | E64: Přesun hmot | J64: =J196 -> 0
D65: PSV - Práce a dodávky PSV | J65: =J66+J67+J68+J69+J70+J71 -> 0
D66: 762- | E66: Konstrukce tesařské | J66: =J200 -> 0
D67: 764- | E67: Konstrukce klempířské | J67: =J258 -> 0
D68: 766- | E68: Konstrukce truhlářské | J68: =J282 -> 0
D69: 766.1 | E69: Výlpně otvorů vč.přesunu hmot,doplňků a příslušenství | J69: =J308 -> 0
D70: 767- | E70: Konstrukce zámečnické | J70: =J313 -> 0
D71: 783- | E71: Dokončovací práce - nátěry | J71: =J321 -> 0
C78: SOUPIS PRACÍ
C80: Stavba:
E81: =E7 -> Kluziště Smržovka
C82: Objekt:
E83: =E9 -> SO 04 -zázemí kluziště
C85: Místo: | F85: =F12 -> p.č. 2115/1, 2115/3, 2105 | I85: Datum: | J85: =IF(J12="","",J12) -> 2. 4. 2026
C87: Zadavatel: | F87: =E15 -> Město Smržovka | I87: Projektant: | J87: =E21 -> mjölking s.r.o., Šternovská 2304/6, Chodov, Praha
C88: Zhotovitel: | F88: =IF(E18="","",E18) | I88: Zpracovatel: | J88: =E24 -> Propos Liberec s.r.o.
C90: PČ | D90: Typ | E90: Kód | F90: Popis | G90: MJ | H90: Množství | I90: J.cena [CZK] | J90: Cena celkem [CZK] | K90: Cenová soustava | N90: DPH | O90: J. Nh [h] | P90: Nh celkem [h] | Q90: J. hmotnost [t] | R90: Hmotnost celkem [t] | S90: J. suť [t] | T90: Suť Celkem [t]
C91: Náklady soupisu celkem | J91: =J92+J199 -> 0 | P91: =P92+P216 -> #REF! | R91: =R92+R216 -> #REF! | T91: =T92+T216 -> #REF! | AT91: D | AU91: -1 | BK91: =BK92+BK216 -> #REF!
D92: D | E92: HSV | F92: Práce a dodávky HSV | J92: =J93+J163+J183+J196 -> 0 | P92: =P93+P145+P163+P183+P196+P200+P213 -> 751.25404 | R92: =R93+R145+R163+R183+R196+R200+R213 -> 83.185961 | T92: =T93+T145+T163+T183+T196+T200+T213 -> 0 | AR92: 1 | AT92: D | AU92: 0 | AY92: ROZPOCET | BK92: =BK93+BK145+BK163+BK183+BK196+BK200+BK213 -> 0
D93: D | E93: 1 | F93: Zakládání | J93: =J94+J101+J108+J117+J119+J124+J126+J131+J134+J139+J141+J143+J150+J157 -> 0 | P93: =SUM(P94:P144) -> 501.67293 | R93: =SUM(R94:R144) -> 0 | T93: =SUM(T94:T144) -> 0 | AR93: 1 | AT93: D | AU93: 1 | AY93: ROZPOCET | BK93: =SUM(BK94:BK144) -> 0
C94: 1 | D94: K | E94: 622131101 | F94: Podkladní a spojovací vrstva vnějších omítaných ploch cementový postřik nanášený ručně celoplošně stěn | G94: m2 | H94: 141.575 | I94: 0 | J94: =ROUND(I94*H94,2) -> 0 | K94: CS ÚRS 2026 01 | N94: základní | O94: 0.854 | P94: =O94*H94 -> 120.90505 | Q94: 0 | R94: =Q94*H94 -> 0 | S94: 0 | T94: =S94*H94 -> 0 | AR94: 4 | AT94: K | AU94: 2 | AY94: ROZPOCET | BE94: =IF(N94="základní",J94,0) -> 0 | BF94: =IF(N94="snížená",J94,0) -> 0 | BG94: =IF(N94="zákl. přenesená",J94,0) -> 0 | BH94: =IF(N94="sníž. přenesená",J94,0) -> 0 | BI94: =IF(N94="nulová",J94,0) -> 0 | BJ94: 1 | BK94: =ROUND(I94*H94,2) -> 0 | BL94: 4 | BM94: 971524787
D95: Online PSC | F95: https://podminky.urs.cz/item/CS_URS_2026_01/622131101 | AT95: Online PSC | AU95: 2
D96: VV | F96: "pohled západní" 4,77*5,74 | H96: 27.38 | AT96: VV | AU96: 2 | AV96: 1 | AW96: True | AX96: 0 | AY96: ROZPOCET
D97: VV | F97: "pohled východní" 4,77*5,74 | H97: 27.38 | AT97: VV | AU97: 2 | AV97: 1 | AW97: True | AX97: 0 | AY97: ROZPOCET
D98: VV | F98: "pohled severní" 9,70*5,65 | H98: 54.805 | AT98: VV | AU98: 2 | AV98: 2 | AW98: True | AX98: 0 | AY98: ROZPOCET
D99: VV | F99: "pohled jižní" 9,70*3,30 | H99: 32.01 | AT99: VV | AU99: 2 | AV99: 3 | AW99: True | AX99: 0 | AY99: ROZPOCET
D100: VV | F100: Součet | H100: 141.575 | AT100: VV | AU100: 2 | AV100: 4 | AW100: True | AX100: 1 | AY100: ROZPOCET
C101: 2 | D101: K | E101: 622131121 | F101: Podkladní a spojovací vrstva vnějších omítaných ploch penetrace nanášená ručně stěn | G101: m2 | H101: 141.575 | I101: 0 | J101: =ROUND(I101*H101,2) -> 0 | K101: CS ÚRS 2026 01 | N101: základní | O101: 2.349 | P101: =O101*H101 -> 332.55968 | Q101: 0 | R101: =Q101*H101 -> 0 | S101: 0 | T101: =S101*H101 -> 0 | AR101: 4 | AT101: K | AU101: 2 | AY101: ROZPOCET | BE101: =IF(N101="základní",J101,0) -> 0 | BF101: =IF(N101="snížená",J101,0) -> 0 | BG101: =IF(N101="zákl. přenesená",J101,0) -> 0 | BH101: =IF(N101="sníž. přenesená",J101,0) -> 0 | BI101: =IF(N101="nulová",J101,0) -> 0 | BJ101: 1 | BK101: =ROUND(I101*H101,2) -> 0 | BL101: 4 | BM101: 2141894245
D102: Online PSC | F102: https://podminky.urs.cz/item/CS_URS_2026_01/622131121 | AT102: Online PSC | AU102: 2
D103: VV | F103: "pohled západní" 4,77*5,74 | H103: 27.38 | AT103: VV | AU103: 2 | AV103: 1 | AW103: True | AX103: 0 | AY103: ROZPOCET
D104: VV | F104: "pohled východní" 4,77*5,74 | H104: 27.38 | AT104: VV | AU104: 2 | AV104: 1 | AW104: True | AX104: 0 | AY104: ROZPOCET
D105: VV | F105: "pohled severní" 9,70*5,65 | H105: 54.805 | AT105: VV | AU105: 2 | AV105: 2 | AW105: True | AX105: 0 | AY105: ROZPOCET
D106: VV | F106: "pohled jižní" 9,70*3,30 | H106: 32.01 | AT106: VV | AU106: 2 | AV106: 3 | AW106: True | AX106: 0 | AY106: ROZPOCET
D107: VV | F107: Součet | H107: 141.575 | AT107: VV | AU107: 2 | AV107: 4 | AW107: True | AX107: 1 | AY107: ROZPOCET
C108: 3 | D108: K | E108: 622143003 | F108: Montáž omítkových profilů plastových, pozinkovaných nebo dřevěných upevněných vtlačením do podkladní vrstvy nebo přibitím rohových s tkaninou | G108: m | H108: 81.29 | I108: 0 | J108: =ROUND(I108*H108,2) -> 0 | K108: CS ÚRS 2026 01 | N108: základní | O108: 0.08 | P108: =O108*H108 -> 6.5032 | Q108: 0 | R108: =Q108*H108 -> 0 | S108: 0 | T108: =S108*H108 -> 0 | AR108: 4 | AT108: K | AU108: 2 | AY108: ROZPOCET | BE108: =IF(N108="základní",J108,0) -> 0 | BF108: =IF(N108="snížená",J108,0) -> 0 | BG108: =IF(N108="zákl. přenesená",J108,0) -> 0 | BH108: =IF(N108="sníž. přenesená",J108,0) -> 0 | BI108: =IF(N108="nulová",J108,0) -> 0 | BJ108: 1 | BK108: =ROUND(I108*H108,2) -> 0 | BL108: 4 | BM108: -2105994107
D109: Online PSC | F109: https://podminky.urs.cz/item/CS_URS_2026_01/622143003 | AT109: Online PSC | AU109: 2
D110: VV | F110: "pohled západní" 2*5,74+(1,07+1,30*2+1,07+1,45*2) | H110: 19.12 | AT110: VV | AU110: 2 | AV110: 1 | AW110: True | AX110: 0 | AY110: ROZPOCET
D111: VV | F111: "pohled východní" 2*5,74+(1,07+1,30*2+1,07+1,45*2) | H111: 19.12 | AT111: VV | AU111: 2 | AV111: 2 | AW111: True | AX111: 0 | AY111: ROZPOCET
D112: VV | F112: "pohled severní" 2*5,65+((1,07+1,45*2)*2+1,07+2,22*2+(1,50+1,20*2)*3) | H112: 36.45 | AT112: VV | AU112: 2 | AV112: 2 | AW112: True | AX112: 0 | AY112: ROZPOCET
D113: VV | F113: "pohled jižní" 2*3,30 | H113: 6.6 | AT113: VV | AU113: 2 | AV113: 1 | AW113: True | AX113: 0 | AY113: ROZPOCET
D114: VV | F114: Součet | H114: 81.29 | AT114: VV | AU114: 2 | AV114: 2 | AW114: True | AX114: 0 | AY114: ROZPOCET
D115: VV | F115: zpetnasyp | H115: 15 | AT115: VV | AU115: 2 | AV115: 2 | AW115: True | AX115: 0 | AY115: ROZPOCET
D116: VV | F116: Součet | H116: 33.803 | AT116: VV | AU116: 2 | AV116: 4 | AW116: True | AX116: 1 | AY116: ROZPOCET
C117: 4 | D117: K | E117: 55343026 | F117: profil rohový Pz+PVC pro vnější omítky tl 15mm | G117: m | H117: 85.355 | I117: 0 | J117: =ROUND(I117*H117,2) -> 0 | K117: CS ÚRS 2026 01 | N117: základní | O117: 0.256 | P117: =O117*H117 -> 21.85088 | Q117: 0 | R117: =Q117*H117 -> 0 | S117: 0 | T117: =S117*H117 -> 0 | AR117: 4 | AT117: K | AU117: 2 | AY117: ROZPOCET | BE117: =IF(N117="základní",J117,0) -> 0 | BF117: =IF(N117="snížená",J117,0) -> 0 | BG117: =IF(N117="zákl. přenesená",J117,0) -> 0 | BH117: =IF(N117="sníž. přenesená",J117,0) -> 0 | BI117: =IF(N117="nulová",J117,0) -> 0 | BJ117: 1 | BK117: =ROUND(I117*H117,2) -> 0 | BL117: 4 | BM117: -729893321
D118: Online PSC | F118: 81,29*1,05 'Přepočtené koeficientem množství | H118: 85.355 | AT118: Online PSC | AU118: 2
C119: 5 | D119: VV | E119: 622143004 | F119: Montáž omítkových profilů plastových, pozinkovaných nebo dřevěných upevněných vtlačením do podkladní vrstvy nebo přibitím začišťovacích samolepících pro vytvoření dilatujícího spoje s okenním rámem | G119: m | H119: 102.76 | I119: 0 | J119: =ROUND(I119*H119,2) -> 0 | K119: CS ÚRS 2026 01 | AT119: VV | AU119: 2 | AV119: 1 | AW119: True | AX119: 0 | AY119: ROZPOCET
D120: VV | F120: https://podminky.urs.cz/item/CS_URS_2026_01/622143004 | AT120: VV | AU120: 2 | AV120: 2 | AW120: True | AX120: 0 | AY120: ROZPOCET
D121: VV | F121: "viz detail D2 - detail vstupních dveří" (1,10+2,22*2)*2 | H121: 11.08 | AT121: VV | AU121: 2 | AV121: 2 | AW121: True | AX121: 0 | AY121: ROZPOCET
D122: VV | F122: "viz detail D3 - detail parapetu, nadpraží a ostění" ((1,07+1,45)*4+(1,07+1,30)*2+(1,50+1,20)*3)*2*2 | H122: 91.68 | AT122: VV | AU122: 2 | AV122: 4 | AW122: True | AX122: 1 | AY122: ROZPOCET
F123: Součet | H123: 102.76 | N123: základní | O123: 0.131 | P123: =O123*H123 -> 13.46156 | Q123: 0 | R123: =Q123*H123 -> 0 | S123: 0 | T123: =S123*H123 -> 0 | AR123: 4 | AT123: K | AU123: 2 | AY123: ROZPOCET | BE123: =IF(N123="základní",J123,0) -> 0 | BF123: =IF(N123="snížená",J123,0) -> 0 | BG123: =IF(N123="zákl. přenesená",J123,0) -> 0 | BH123: =IF(N123="sníž. přenesená",J123,0) -> 0 | BI123: =IF(N123="nulová",J123,0) -> 0 | BJ123: 1 | BK123: =ROUND(I123*H123,2) -> 0 | BL123: 4 | BM123: 587959834
C124: 6 | D124: Online PSC | E124: 5905147.R | F124: profil napojovací - APU lišta | G124: m | H124: 107.898 | I124: 0 | J124: =ROUND(I124*H124,2) -> 0 | AT124: Online PSC | AU124: 2
D125: VV | F125: 102,76*1,05 'Přepočtené koeficientem množství | H125: 107.898 | AT125: VV | AU125: 2 | AV125: 1 | AW125: True | AX125: 0 | AY125: ROZPOCET
C126: 7 | D126: VV | E126: 622252002 | F126: Montáž profilů kontaktního zateplení ostatních stěnových, dilatačních apod. lepených do tmelu | G126: m | H126: 21.84 | I126: 0 | J126: =ROUND(I126*H126,2) -> 0 | K126: CS ÚRS 2026 01 | AT126: VV | AU126: 2 | AV126: 2 | AW126: True | AX126: 0 | AY126: ROZPOCET
D127: VV | F127: https://podminky.urs.cz/item/CS_URS_2026_01/622252002 | AT127: VV | AU127: 2 | AV127: 3 | AW127: True | AX127: 0 | AY127: ROZPOCET
D128: VV | F128: "viz detail D3 - detail parapetu" (1,07*6+1,50*3) | H128: 10.92 | AT128: VV | AU128: 2 | AV128: 4 | AW128: True | AX128: 1 | AY128: ROZPOCET
F129: "viz detail D3 - detail nadpraží" (1,07*6+1,50*3) | H129: 10.92 | N129: základní | O129: 0.328 | P129: =O129*H129 -> 3.58176 | Q129: 0 | R129: =Q129*H129 -> 0 | S129: 0 | T129: =S129*H129 -> 0 | AR129: 4 | AT129: K | AU129: 2 | AY129: ROZPOCET | BE129: =IF(N129="základní",J129,0) -> 0 | BF129: =IF(N129="snížená",J129,0) -> 0 | BG129: =IF(N129="zákl. přenesená",J129,0) -> 0 | BH129: =IF(N129="sníž. přenesená",J129,0) -> 0 | BI129: =IF(N129="nulová",J129,0) -> 0 | BJ129: 1 | BK129: =ROUND(I129*H129,2) -> 0 | BL129: 4 | BM129: 312973280
D130: Online PSC | F130: Součet | H130: 21.84 | AT130: Online PSC | AU130: 2
...

Sheet SO 03 Přípojka vody
L2: >> skryté sloupce << | AT2: {c38061aa-5787-4dda-81d6-a409055e0c01}
AT3: 2
D4: KRYCÍ LIST SOUPISU PRACÍ | M4: v --- níže se nacházejí doplnkové a pomocné údaje k sestavám --- v | AT4: False
D6: Stavba:
E7: ='Rekapitulace stavby'!K6 -> Kluziště Smržovka
D8: Objekt:
E9: SO 03 - Přípojka vody a kanalizace
D11: KSO: | I11: CC-CZ:
D12: Místo: | F12: p.č. 2115/1, 2115/3, 2105 | I12: Datum: | J12: ='Rekapitulace stavby'!AN8 -> 2. 4. 2026
D14: Zadavatel: | I14: IČ:
E15: Město Smržovka | I15: DIČ:
D17: Zhotovitel: | I17: IČ: | J17: ='Rekapitulace stavby'!AN13
E18: ='Rekapitulace stavby'!E14 | I18: DIČ: | J18: ='Rekapitulace stavby'!AN14
D20: Projektant: | I20: IČ: | J20: 14080923
E21: mjölking s.r.o., Šternovská 2304/6, Chodov, Praha | I21: DIČ:
D23: Zpracovatel: | I23: IČ:
E24: Propos Liberec s.r.o. | I24: DIČ:
D26: Poznámka:
E27: Soupis prací je sestaven s využitím Cenové soustavy ÚRS. Položky, které pochází z této cenové soustavy, jsou ve sloupci 'Cenová soustava' označeny popisem 'CS ÚRS' a úrovní příslušného kalendářního pololetí. Veškeré další informace vymezující popis a podmínky použití těchto položek z Cenové soustavy, které nejsou uvedeny přímo v soupisu prací, jsou neomezeně dálkově k dispozici na webu podminky.urs.cz.
D30: Cena bez DPH | J30: =ROUND(J89, 2) -> 0
F32: Základ daně | I32: Sazba daně | J32: Výše daně
D33: DPH | E33: základní | F33: =ROUND((SUM(BE89:BE213)), 2) -> 0 | I33: 0.21 | J33: =ROUND(((SUM(BE89:BE213))*I33), 2) -> 0
E34: snížená | F34: =ROUND((SUM(BF89:BF213)), 2) -> 0 | I34: 0.12 | J34: =ROUND(((SUM(BF89:BF213))*I34), 2) -> 0
E35: zákl. přenesená | F35: =ROUND((SUM(BG89:BG213)), 2) -> 0 | I35: 0.21 | J35: =0 -> 0
E36: sníž. přenesená | F36: =ROUND((SUM(BH89:BH213)), 2) -> 0 | I36: 0.12 | J36: =0 -> 0
E37: nulová | F37: =ROUND((SUM(BI89:BI213)), 2) -> 0 | I37: 0 | J37: =0 -> 0
D39: Cena s DPH | G39: v | H39: CZK | J39: =SUM(J30:J37) -> 0
C45: REKAPITULACE ČLENĚNÍ SOUPISU PRACÍ
C47: Stavba:
E48: =E7 -> Kluziště Smržovka
C49: Objekt:
E50: =E9 -> SO 03 - Přípojka vody a kanalizace
C52: Místo: | F52: =F12 -> p.č. 2115/1, 2115/3, 2105 | I52: Datum: | J52: =IF(J12="","",J12) -> 2. 4. 2026
C54: Zadavatel: | F54: =E15 -> Město Smržovka | I54: Projektant: | J54: =E21 -> mjölking s.r.o., Šternovská 2304/6, Chodov, Praha
C55: Zhotovitel: | F55: =IF(E18="","",E18) | I55: Zpracovatel: | J55: =E24 -> Propos Liberec s.r.o.
C57: Kód dílu - Popis | J57: Cena celkem [CZK]
C59: Náklady stavby celkem | J59: =J89 -> 0 | AU59: -1
D60: HSV - Práce a dodávky HSV | J60: =J90 -> 0
D61: 1 - Zemní práce | J61: =J91 -> 0
D62: 4 - Vodorovné konstrukce | J62: =J120 -> 0
D63: 5 - Komunikace pozemní | J63: =J124 -> 0
D64: 8 - Trubní vedení | J64: =J131 -> 0
D65: 9 - Ostatní konstrukce a práce, bourání | J65: =J166 -> 0
D66: 997 - Přesun sutě | J66: =J173 -> 0
D67: 998 - Přesun hmot | J67: =J184 -> 0
D68: 722 - Zdravotechnika - vnitřní vodovod | J68: =J187 -> 0
D69: VRN - Vedlejší rozpočtové náklady | J69: =J209 -> 0
C76: SOUPIS PRACÍ
C78: Stavba:
E79: =E7 -> Kluziště Smržovka
C80: Objekt:
E81: =E9 -> SO 03 - Přípojka vody a kanalizace
C83: Místo: | F83: =F12 -> p.č. 2115/1, 2115/3, 2105 | I83: Datum: | J83: =IF(J12="","",J12) -> 2. 4. 2026
C85: Zadavatel: | F85: =E15 -> Město Smržovka | I85: Projektant: | J85: =E21 -> mjölking s.r.o., Šternovská 2304/6, Chodov, Praha
C86: Zhotovitel: | F86: =IF(E18="","",E18) | I86: Zpracovatel: | J86: =E24 -> Propos Liberec s.r.o.
C88: PČ | D88: Typ | E88: Kód | F88: Popis | G88: MJ | H88: Množství | I88: J.cena [CZK] | J88: Cena celkem [CZK] | K88: Cenová soustava | N88: DPH | O88: J. Nh [h] | P88: Nh celkem [h] | Q88: J. hmotnost [t] | R88: Hmotnost celkem [t] | S88: J. suť [t] | T88: Suť Celkem [t]
C89: Náklady soupisu celkem | J89: =BK89 -> 0 | P89: =P90+P209 -> 378.45226 | R89: =R90+R209 -> 46.245729 | T89: =T90+T209 -> 3.08 | AT89: D | AU89: -1 | BK89: =BK90+BK209 -> 0
D90: D | E90: HSV | F90: Práce a dodávky HSV | J90: =BK90 -> 0 | P90: =P91+P120+P124+P131+P166+P173+P184+P187 -> 378.45226 | R90: =R91+R120+R124+R131+R166+R173+R184+R187 -> 46.245729 | T90: =T91+T120+T124+T131+T166+T173+T184+T187 -> 3.08 | AR90: 1 | AT90: D | AU90: 0 | AY90: ROZPOCET | BK90: =BK91+BK120+BK124+BK131+BK166+BK173+BK184+BK187 -> 0
D91: D | E91: 1 | F91: Zemní práce | J91: =BK91 -> 0 | P91: =SUM(P92:P119) -> 233.69964 | R91: =SUM(R92:R119) -> 45.616768 | T91: =SUM(T92:T119) -> 3.08 | AR91: 1 | AT91: D | AU91: 1 | AY91: ROZPOCET | BK91: =SUM(BK92:BK119) -> 0
C92: 1 | D92: K | E92: 113107042 | F92: Odstranění podkladů nebo krytů při překopech inženýrských sítí s přemístěním hmot na skládku ve vzdálenosti do 3 m nebo s naložením na dopravní prostředek ručně živičných, o tl. vrstvy přes 50 do 100 mm | G92: m2 | H92: 14 | I92: 0 | J92: =ROUND(I92*H92,2) -> 0 | K92: CS ÚRS 2026 01 | N92: základní | O92: 0.772 | P92: =O92*H92 -> 10.808 | Q92: 0 | R92: =Q92*H92 -> 0 | S92: 0.22 | T92: =S92*H92 -> 3.08 | AR92: 4 | AT92: K | AU92: 2 | AY92: ROZPOCET | BE92: =IF(N92="základní",J92,0) -> 0 | BF92: =IF(N92="snížená",J92,0) -> 0 | BG92: =IF(N92="zákl. přenesená",J92,0) -> 0 | BH92: =IF(N92="sníž. přenesená",J92,0) -> 0 | BI92: =IF(N92="nulová",J92,0) -> 0 | BJ92: 1 | BK92: =ROUND(I92*H92,2) -> 0 | BL92: 4 | BM92: -779746579
D93: Online PSC | F93: https://podminky.urs.cz/item/CS_URS_2026_01/113107042 | AT93: Online PSC | AU93: 2
C94: 2 | D94: K | E94: 131151104 | F94: Hloubení nezapažených jam a zářezů strojně s urovnáním dna do předepsaného profilu a spádu v hornině třídy těžitelnosti I skupiny 1 a 2 přes 100 do 500 m3 | G94: m3 | H94: 5.089 | I94: 0 | J94: =ROUND(I94*H94,2) -> 0 | K94: CS ÚRS 2026 01 | N94: základní | O94: 0.177 | P94: =O94*H94 -> 0.900753 | Q94: 0 | R94: =Q94*H94 -> 0 | S94: 0 | T94: =S94*H94 -> 0 | AR94: 4 | AT94: K | AU94: 2 | AY94: ROZPOCET | BE94: =IF(N94="základní",J94,0) -> 0 | BF94: =IF(N94="snížená",J94,0) -> 0 | BG94: =IF(N94="zákl. přenesená",J94,0) -> 0 | BH94: =IF(N94="sníž. přenesená",J94,0) -> 0 | BI94: =IF(N94="nulová",J94,0) -> 0 | BJ94: 1 | BK94: =ROUND(I94*H94,2) -> 0 | BL94: 4 | BM94: -203555776
D95: Online PSC | F95: https://podminky.urs.cz/item/CS_URS_2026_01/131151104 | AT95: Online PSC | AU95: 2
D96: VV | F96: PI*(0,9)^2*2 | H96: 5.089 | AT96: VV | AU96: 2 | AV96: 2 | AW96: True | AX96: 1 | AY96: ROZPOCET
C97: 3 | D97: K | E97: 132154104 | F97: Hloubení zapažených rýh šířky do 800 mm strojně s urovnáním dna do předepsaného profilu a spádu v hornině třídy těžitelnosti I skupiny 1 a 2 přes 100 m3 | G97: m3 | H97: 109.164 | I97: 0 | J97: =ROUND(I97*H97,2) -> 0 | K97: CS ÚRS 2026 01 | N97: základní | O97: 0.447 | P97: =O97*H97 -> 48.796308 | Q97: 0 | R97: =Q97*H97 -> 0 | S97: 0 | T97: =S97*H97 -> 0 | AR97: 4 | AT97: K | AU97: 2 | AY97: ROZPOCET | BE97: =IF(N97="základní",J97,0) -> 0 | BF97: =IF(N97="snížená",J97,0) -> 0 | BG97: =IF(N97="zákl. přenesená",J97,0) -> 0 | BH97: =IF(N97="sníž. přenesená",J97,0) -> 0 | BI97: =IF(N97="nulová",J97,0) -> 0 | BJ97: 1 | BK97: =ROUND(I97*H97,2) -> 0 | BL97: 4 | BM97: 541419961
D98: Online PSC | F98: https://podminky.urs.cz/item/CS_URS_2026_01/132154104 | AT98: Online PSC | AU98: 2
D99: VV | F99: 0,8*((49,7+33,0)*1,65) | H99: 109.164 | AT99: VV | AU99: 2 | AV99: 2 | AW99: True | AX99: 1 | AY99: ROZPOCET
C100: 4 | D100: K | E100: 151101101 | F100: Zřízení pažení a rozepření stěn rýh pro podzemní vedení příložné pro jakoukoliv mezerovitost, hloubky do 2 m | G100: m2 | H100: 165.2 | I100: 0 | J100: =ROUND(I100*H100,2) -> 0 | K100: CS ÚRS 2026 01 | N100: základní | O100: 0.236 | P100: =O100*H100 -> 38.9872 | Q100: 0.00084 | R100: =Q100*H100 -> 0.138768 | S100: 0 | T100: =S100*H100 -> 0 | AR100: 4 | AT100: K | AU100: 2 | AY100: ROZPOCET | BE100: =IF(N100="základní",J100,0) -> 0 | BF100: =IF(N100="snížená",J100,0) -> 0 | BG100: =IF(N100="zákl. přenesená",J100,0) -> 0 | BH100: =IF(N100="sníž. přenesená",J100,0) -> 0 | BI100: =IF(N100="nulová",J100,0) -> 0 | BJ100: 1 | BK100: =ROUND(I100*H100,2) -> 0 | BL100: 4 | BM100: -1662968959
D101: Online PSC | F101: https://podminky.urs.cz/item/CS_URS_2026_01/151101101 | AT101: Online PSC | AU101: 2
D102: VV | F102: (32,9+49,7)*2 | H102: 165.2 | AT102: VV | AU102: 2 | AV102: 2 | AW102: True | AX102: 1 | AY102: ROZPOCET
C103: 5 | D103: K | E103: 151101111 | F103: Odstranění pažení a rozepření stěn rýh pro podzemní vedení s uložením materiálu na vzdálenost do 3 m od kraje výkopu příložné, hloubky do 2 m | G103: m2 | H103: 165.2 | I103: 0 | J103: =ROUND(I103*H103,2) -> 0 | K103: CS ÚRS 2026 01 | N103: základní | O103: 0.216 | P103: =O103*H103 -> 35.6832 | Q103: 0 | R103: =Q103*H103 -> 0 | S103: 0 | T103: =S103*H103 -> 0 | AR103: 4 | AT103: K | AU103: 2 | AY103: ROZPOCET | BE103: =IF(N103="základní",J103,0) -> 0 | BF103: =IF(N103="snížená",J103,0) -> 0 | BG103: =IF(N103="zákl. přenesená",J103,0) -> 0 | BH103: =IF(N103="sníž. přenesená",J103,0) -> 0 | BI103: =IF(N103="nulová",J103,0) -> 0 | BJ103: 1 | BK103: =ROUND(I103*H103,2) -> 0 | BL103: 4 | BM103: 1858089235
D104: Online PSC | F104: https://podminky.urs.cz/item/CS_URS_2026_01/151101111 | AT104: Online PSC | AU104: 2
C105: 6 | D105: K | E105: 162211201 | F105: Vodorovné přemístění výkopku nebo sypaniny nošením s vyprázdněním nádoby na hromady nebo do dopravního prostředku na vzdálenost do 10 m z horniny třídy těžitelnosti I, skupiny 1 až 3 | G105: m3 | H105: 34.467 | I105: 0 | J105: =ROUND(I105*H105,2) -> 0 | K105: CS ÚRS 2026 01 | N105: základní | O105: 0.851 | P105: =O105*H105 -> 29.331417 | Q105: 0 | R105: =Q105*H105 -> 0 | S105: 0 | T105: =S105*H105 -> 0 | AR105: 4 | AT105: K | AU105: 2 | AY105: ROZPOCET | BE105: =IF(N105="základní",J105,0) -> 0 | BF105: =IF(N105="snížená",J105,0) -> 0 | BG105: =IF(N105="zákl. přenesená",J105,0) -> 0 | BH105: =IF(N105="sníž. přenesená",J105,0) -> 0 | BI105: =IF(N105="nulová",J105,0) -> 0 | BJ105: 1 | BK105: =ROUND(I105*H105,2) -> 0 | BL105: 4 | BM105: -815537725
D106: Online PSC | F106: https://podminky.urs.cz/item/CS_URS_2026_01/162211201 | AT106: Online PSC | AU106: 2
D107: VV | F107: 22,739+10,032+Pi*(0,6*0,6)*1,5 | H107: 34.467 | AT107: VV | AU107: 2 | AV107: 2 | AW107: True | AX107: 1 | AY107: ROZPOCET
C108: 7 | D108: K | E108: 167151111 | F108: Nakládání, skládání a překládání neulehlého výkopku nebo sypaniny strojně nakládání, množství přes 100 m3, z hornin třídy těžitelnosti I, skupiny 1 až 3 | G108: m3 | H108: 34.467 | I108: 0 | J108: =ROUND(I108*H108,2) -> 0 | K108: CS ÚRS 2026 01 | N108: základní | O108: 0.072 | P108: =O108*H108 -> 2.481624 | Q108: 0 | R108: =Q108*H108 -> 0 | S108: 0 | T108: =S108*H108 -> 0 | AR108: 4 | AT108: K | AU108: 2 | AY108: ROZPOCET | BE108: =IF(N108="základní",J108,0) -> 0 | BF108: =IF(N108="snížená",J108,0) -> 0 | BG108: =IF(N108="zákl. přenesená",J108,0) -> 0 | BH108: =IF(N108="sníž. přenesená",J108,0) -> 0 | BI108: =IF(N108="nulová",J108,0) -> 0 | BJ108: 1 | BK108: =ROUND(I108*H108,2) -> 0 | BL108: 4 | BM108: -1347124888
D109: Online PSC | F109: https://podminky.urs.cz/item/CS_URS_2026_01/167151111 | AT109: Online PSC | AU109: 2
C110: 8 | D110: K | E110: 174151101 | F110: Zásyp sypaninou z jakékoliv horniny strojně s uložením výkopku ve vrstvách se zhutněním jam, šachet, rýh nebo kolem objektů v těchto vykopávkách | G110: m3 | H110: 79.363 | I110: 0 | J110: =ROUND(I110*H110,2) -> 0 | K110: CS ÚRS 2026 01 | N110: základní | O110: 0.328 | P110: =O110*H110 -> 26.031064 | Q110: 0 | R110: =Q110*H110 -> 0 | S110: 0 | T110: =S110*H110 -> 0 | AR110: 4 | AT110: K | AU110: 2 | AY110: ROZPOCET | BE110: =IF(N110="základní",J110,0) -> 0 | BF110: =IF(N110="snížená",J110,0) -> 0 | BG110: =IF(N110="zákl. přenesená",J110,0) -> 0 | BH110: =IF(N110="sníž. přenesená",J110,0) -> 0 | BI110: =IF(N110="nulová",J110,0) -> 0 | BJ110: 1 | BK110: =ROUND(I110*H110,2) -> 0 | BL110: 4 | BM110: 1519352415
D111: Online PSC | F111: https://podminky.urs.cz/item/CS_URS_2026_01/174151101 | AT111: Online PSC | AU111: 2
D112: VV | F112: 109,164-22,739-10,032-PI*(0,04*0,04)*83,6 | H112: 75.973 | AT112: VV | AU112: 2 | AV112: 2 | AW112: True | AX112: 0 | AY112: ROZPOCET
D113: VV | F113: 5,086-Pi*0,6*0,6*1,5 | H113: 3.39 | AT113: VV | AU113: 2 | AV113: 2 | AW113: True | AX113: 0 | AY113: ROZPOCET
D114: VV | F114: Součet | H114: 79.363 | AT114: VV | AU114: 2 | AV114: 4 | AW114: True | AX114: 1 | AY114: ROZPOCET
C115: 9 | D115: K | E115: 175111101 | F115: Obsypání potrubí ručně sypaninou z vhodných hornin třídy těžitelnosti I a II, skupiny 1 až 4 nebo materiálem připraveným podél výkopu ve vzdálenosti do 3 m od jeho kraje pro jakoukoliv hloubku výkopu a míru zhutnění bez prohození sypaniny | G115: m3 | H115: 22.739 | I115: 0 | J115: =ROUND(I115*H115,2) -> 0 | K115: CS ÚRS 2026 01 | N115: základní | O115: 1.789 | P115: =O115*H115 -> 40.680071 | Q115: 0 | R115: =Q115*H115 -> 0 | S115: 0 | T115: =S115*H115 -> 0 | AR115: 4 | AT115: K | AU115: 2 | AY115: ROZPOCET | BE115: =IF(N115="základní",J115,0) -> 0 | BF115: =IF(N115="snížená",J115,0) -> 0 | BG115: =IF(N115="zákl. přenesená",J115,0) -> 0 | BH115: =IF(N115="sníž. přenesená",J115,0) -> 0 | BI115: =IF(N115="nulová",J115,0) -> 0 | BJ115: 1 | BK115: =ROUND(I115*H115,2) -> 0 | BL115: 4 | BM115: -1866244226
D116: Online PSC | F116: https://podminky.urs.cz/item/CS_URS_2026_01/175111101 | AT116: Online PSC | AU116: 2
D117: VV | F117: 0,8*(0,34*83,6) | H117: 22.739 | AT117: VV | AU117: 2 | AV117: 2 | AW117: True | AX117: 1 | AY117: ROZPOCET
C118: 10 | D118: M | E118: 58337303 | F118: štěrkopísek frakce 0/8 | G118: t | H118: 45.478 | I118: 0 | J118: =ROUND(I118*H118,2) -> 0 | K118: CS ÚRS 2026 01 | N118: základní | O118: 0 | P118: =O118*H118 -> 0 | Q118: 1 | R118: =Q118*H118 -> 45.478 | S118: 0 | T118: =S118*H118 -> 0 | AR118: 8 | AT118: M | AU118: 2 | AY118: ROZPOCET | BE118: =IF(N118="základní",J118,0) -> 0 | BF118: =IF(N118="snížená",J118,0) -> 0 | BG118: =IF(N118="zákl. přenesená",J118,0) -> 0 | BH118: =IF(N118="sníž. přenesená",J118,0) -> 0 | BI118: =IF(N118="nulová",J118,0) -> 0 | BJ118: 1 | BK118: =ROUND(I118*H118,2) -> 0 | BL118: 4 | BM118: 43580708
D119: VV | F119: 22,739*2 | H119: 45.478 | AT119: VV | AU119: 2 | AV119: 2 | AW119: True | AX119: 1 | AY119: ROZPOCET
D120: D | E120: 4 | F120: Vodorovné konstrukce | J120: =BK120 -> 0 | P120: =SUM(P121:P123) -> 17.00424 | R120: =SUM(R121:R123) -> 0 | T120: =SUM(T121:T123) -> 0 | AR120: 1 | AT120: D | AU120: 1 | AY120: ROZPOCET | BK120: =SUM(BK121:BK123) -> 0
C121: 11 | D121: K | E121: 451572111 | F121: Lože pod potrubí, stoky a drobné objekty v otevřeném výkopu z kameniva drobného těženého 0 až 4 mm | G121: m3 | H121: 10.032 | I121: 0 | J121: =ROUND(I121*H121,2) -> 0 | K121: CS ÚRS 2026 01 | N121: základní | O121: 1.695 | P121: =O121*H121 -> 17.00424 | Q121: 0 | R121: =Q121*H121 -> 0 | S121: 0 | T121: =S121*H121 -> 0 | AR121: 4 | AT121: K | AU121: 2 | AY121: ROZPOCET | BE121: =IF(N121="základní",J121,0) -> 0 | BF121: =IF(N121="snížená",J121,0) -> 0 | BG121: =IF(N121="zákl. přenesená",J121,0) -> 0 | BH121: =IF(N121="sníž. přenesená",J121,0) -> 0 | BI121: =IF(N121="nulová",J121,0) -> 0 | BJ121: 1 | BK121: =ROUND(I121*H121,2) -> 0 | BL121: 4 | BM121: -399608175
D122: Online PSC | F122: https://podminky.urs.cz/item/CS_URS_2026_01/451572111 | AT122: Online PSC | AU122: 2
D123: VV | F123: 0,15*0,8*83,6 | H123: 10.032 | AT123: VV | AU123: 2 | AV123: 2 | AW123: True | AX123: 1 | AY123: ROZPOCET
D124: D | E124: 5 | F124: Komunikace pozemní | J124: =BK124 -> 0 | P124: =SUM(P125:P130) -> 6.306 | R124: =SUM(R125:R130) -> 0 | T124: =SUM(T125:T130) -> 0 | AR124: 1 | AT124: D | AU124: 1 | AY124: ROZPOCET | BK124: =SUM(BK125:BK130) -> 0
C125: 12 | D125: K | E125: 564750101 | F125: Podklad nebo kryt z kameniva hrubého drceného vel. 16-32 mm s rozprostřením a zhutněním plochy jednotlivě do 100 m2, po zhutnění tl. 150 mm | G125: m2 | H125: 14 | I125: 0 | J125: =ROUND(I125*H125,2) -> 0 | K125: CS ÚRS 2026 01 | N125: základní | O125: 0.095 | P125: =O125*H125 -> 1.33 | Q125: 0 | R125: =Q125*H125 -> 0 | S125: 0 | T125: =S125*H125 -> 0 | AR125: 4 | AT125: K | AU125: 2 | AY125: ROZPOCET | BE125: =IF(N125="základní",J125,0) -> 0 | BF125: =IF(N125="snížená",J125,0) -> 0 | BG125: =IF(N125="zákl. přenesená",J125,0) -> 0 | BH125: =IF(N125="sníž. přenesená",J125,0) -> 0 | BI125: =IF(N125="nulová",J125,0) -> 0 | BJ125: 1 | BK125: =ROUND(I125*H125,2) -> 0 | BL125: 4 | BM125: -2007757181
D126: Online PSC | F126: https://podminky.urs.cz/item/CS_URS_2026_01/564750101 | AT126: Online PSC | AU126: 2
C127: 13 | D127: K | E127: 565155101 | F127: Asfaltový beton vrstva podkladní ACP 16 z nemodifikovaného asfaltu s rozprostřením a zhutněním ACP 16 S v pruhu šířky do 1,5 m, po zhutnění tl. 70 mm | G127: m2 | H127: 14 | I127: 0 | J127: =ROUND(I127*H127,2) -> 0 | K127: CS ÚRS 2026 01 | N127: základní | O127: 0.214 | P127: =O127*H127 -> 2.996 | Q127: 0 | R127: =Q127*H127 -> 0 | S127: 0 | T127: =S127*H127 -> 0 | AR127: 4 | AT127: K | AU127: 2 | AY127: ROZPOCET | BE127: =IF(N127="základní",J127,0) -> 0 | BF127: =IF(N127="snížená",J127,0) -> 0 | BG127: =IF(N127="zákl. přenesená",J127,0) -> 0 | BH127: =IF(N127="sníž. přenesená",J127,0) -> 0 | BI127: =IF(N127="nulová",J127,0) -> 0 | BJ127: 1 | BK127: =ROUND(I127*H127,2) -> 0 | BL127: 4 | BM127: -728004456
D128: Online PSC | F128: https://podminky.urs.cz/item/CS_URS_2026_01/565155101 | AT128: Online PSC | AU128: 2
C129: 14 | D129: K | E129: 577134111 | F129: Asfaltový beton vrstva obrusná ACO 11 z nemodifikovaného asfaltu s rozprostřením a se zhutněním ACO 11+ v pruhu šířky přes 1,5 do 3 m, po zhutnění tl. 40 mm | G129: m2 | H129: 30 | I129: 0 | J129: =ROUND(I129*H129,2) -> 0 | K129: CS ÚRS 2026 01 | N129: základní | O129: 0.066 | P129: =O129*H129 -> 1.98 | Q129: 0 | R129: =Q129*H129 -> 0 | S129: 0 | T129: =S129*H129 -> 0 | AR129: 4 | AT129: K | AU129: 2 | AY129: ROZPOCET | BE129: =IF(N129="základní",J129,0) -> 0 | BF129: =IF(N129="snížená",J129,0) -> 0 | BG129: =IF(N129="zákl. přenesená",J129,0) -> 0 | BH129: =IF(N129="sníž. přenesená",J129,0) -> 0 | BI129: =IF(N129="nulová",J129,0) -> 0 | BJ129: 1 | BK129: =ROUND(I129*H129,2) -> 0 | BL129: 4 | BM129: 895182293
D130: Online PSC | F130: https://podminky.urs.cz/item/CS_URS_2026_01/577134111 | AT130: Online PSC | AU130: 2
D131: D | E131: 8 | F131: Trubní vedení | J131: =BK131 -> 0 | P131: =SUM(P132:P165) -> 30.1347 | R131: =SUM(R132:R165) -> 0.49040107 | T131: =SUM(T132:T165) -> 0 | AR131: 1 | AT131: D | AU131: 1 | AY131: ROZPOCET | BK131: =SUM(BK132:BK165) -> 0
C132: 15 | D132: K | E132: 871161141 | F132: Montáž vodovodního potrubí z polyetylenu PE100 RC v otevřeném výkopu svařovaných na tupo SDR 11/PN16 d 32 x 3,0 mm | G132: m | H132: 35.1 | I132: 0 | J132: =ROUND(I132*H132,2) -> 0 | K132: CS ÚRS 2026 01 | N132: základní | O132: 0.124 | P132: =O132*H132 -> 4.3524 | Q132: 0 | R132: =Q132*H132 -> 0 | S132: 0 | T132: =S132*H132 -> 0 | AR132: 4 | AT132: K | AU132: 2 | AY132: ROZPOCET | BE132: =IF(N132="základní",J132,0) -> 0 | BF132: =IF(N132="snížená",J132,0) -> 0 | BG132: =IF(N132="zákl. přenesená",J132,0) -> 0 | BH132: =IF(N132="sníž. přenesená",J132,0) -> 0 | BI132: =IF(N132="nulová",J132,0) -> 0 | BJ132: 1 | BK132: =ROUND(I132*H132,2) -> 0 | BL132: 4 | BM132: 1602774603
...

Sheet SO 05 - Venkovní rozvody ...
L2: >> skryté sloupce << | AT2: {dd8d18ce-370c-4b98-96d0-c04e0b0e05cb}
AT3: 2
D4: KRYCÍ LIST SOUPISU PRACÍ | M4: v --- níže se nacházejí doplnkové a pomocné údaje k sestavám --- v | AT4: False
D6: Stavba:
E7: ='Rekapitulace stavby'!K6 -> Kluziště Smržovka
D8: Objekt:
E9: SO 05 - Venkovní rozvody NN a vnitřní elektroinstalace SO 02
D11: KSO: | I11: CC-CZ:
D12: Místo: | F12: p.č. 2115/1, 2115/3, 2105 | I12: Datum: | J12: ='Rekapitulace stavby'!AN8 -> 2. 4. 2026
D14: Zadavatel: | I14: IČ:
E15: Město Smržovka | I15: DIČ:
D17: Zhotovitel: | I17: IČ: | J17: ='Rekapitulace stavby'!AN13
E18: ='Rekapitulace stavby'!E14 | I18: DIČ: | J18: ='Rekapitulace stavby'!AN14
D20: Projektant: | I20: IČ: | J20: 14080923
E21: mjölking s.r.o., Šternovská 2304/6, Chodov, Praha | I21: DIČ:
D23: Zpracovatel: | I23: IČ:
E24: Propos Liberec s.r.o. | I24: DIČ:
D26: Poznámka:
E27: Soupis prací je sestaven s využitím Cenové soustavy ÚRS. Položky, které pochází z této cenové soustavy, jsou ve sloupci 'Cenová soustava' označeny popisem 'CS ÚRS' a úrovní příslušného kalendářního pololetí. Veškeré další informace vymezující popis a podmínky použití těchto položek z Cenové soustavy, které nejsou uvedeny přímo v soupisu prací, jsou neomezeně dálkově k dispozici na webu podminky.urs.cz.
D30: Cena bez DPH | J30: =ROUND(J88, 2) -> 0
F32: Základ daně | I32: Sazba daně | J32: Výše daně
D33: DPH | E33: základní | F33: =ROUND((SUM(BE88:BE133)), 2) -> 0 | I33: 0.21 | J33: =ROUND(((SUM(BE88:BE133))*I33), 2) -> 0
E34: snížená | F34: =ROUND((SUM(BF88:BF133)), 2) -> 0 | I34: 0.12 | J34: =ROUND(((SUM(BF88:BF133))*I34), 2) -> 0
E35: zákl. přenesená | F35: =ROUND((SUM(BG88:BG133)), 2) -> 0 | I35: 0.21 | J35: =0 -> 0
E36: sníž. přenesená | F36: =ROUND((SUM(BH88:BH133)), 2) -> 0 | I36: 0.12 | J36: =0 -> 0
E37: nulová | F37: =ROUND((SUM(BI88:BI133)), 2) -> 0 | I37: 0 | J37: =0 -> 0
D39: Cena s DPH | G39: v | H39: CZK | J39: =SUM(J30:J37) -> 0
C45: REKAPITULACE ČLENĚNÍ SOUPISU PRACÍ
C47: Stavba:
E48: =E7 -> Kluziště Smržovka
C49: Objekt:
E50: =E9 -> SO 05 - Venkovní rozvody NN a vnitřní elektroinstalace SO 02
C52: Místo: | F52: =F12 -> p.č. 2115/1, 2115/3, 2105 | I52: Datum: | J52: =IF(J12="","",J12) -> 2. 4. 2026
C54: Zadavatel: | F54: =E15 -> Město Smržovka | I54: Projektant: | J54: =E21 -> mjölking s.r.o., Šternovská 2304/6, Chodov, Praha
C55: Zhotovitel: | F55: =IF(E18="","",E18) | I55: Zpracovatel: | J55: =E24 -> Propos Liberec s.r.o.
C57: Kód dílu - Popis | J57: Cena celkem [CZK]
C59: Náklady stavby celkem | J59: =J88 -> 0 | AU59: -1
D60: 1 - Rozvaděče | J60: =J89 -> 0
D61: 2 - Svítidla dle knihy svítidel | J61: =J97 -> 0
D62: 3 - Vypínače | J62: =J100 -> 0
D63: 4 - Zásuvky | J63: =J102 -> 0
D64: 5 - Krabice | J64: =J104 -> 0
D65: 6 - Kabely | J65: =J107 -> 0
D66: 8 - Hromosvod | J66: =J116 -> 0
D67: 9 - Venkovní osvětlení | J67: =J124 -> 0
D68: 10 - Ostatní | J68: =J127 -> 0
C75: SOUPIS PRACÍ
C77: Stavba:
E78: =E7 -> Kluziště Smržovka
C79: Objekt:
E80: =E9 -> SO 05 - Venkovní rozvody NN a vnitřní elektroinstalace SO 02
C82: Místo: | F82: =F12 -> p.č. 2115/1, 2115/3, 2105 | I82: Datum: | J82: =IF(J12="","",J12) -> 2. 4. 2026
C84: Zadavatel: | F84: =E15 -> Město Smržovka | I84: Projektant: | J84: =E21 -> mjölking s.r.o., Šternovská 2304/6, Chodov, Praha
C85: Zhotovitel: | F85: =IF(E18="","",E18) | I85: Zpracovatel: | J85: =E24 -> Propos Liberec s.r.o.
C87: PČ | D87: Typ | E87: Kód | F87: Popis | G87: MJ | H87: Množství | I87: J.cena [CZK] | J87: Cena celkem [CZK] | K87: Cenová soustava | N87: DPH | O87: J. Nh [h] | P87: Nh celkem [h] | Q87: J. hmotnost [t] | R87: Hmotnost celkem [t] | S87: J. suť [t] | T87: Suť Celkem [t]
C88: Náklady soupisu celkem | J88: =BK88 -> 0 | P88: =P89+P97+P100+P102+P104+P107+P116+P124 -> 0 | R88: =R89+R97+R100+R102+R104+R107+R116+R124 -> 0 | T88: =T89+T97+T100+T102+T104+T107+T116+T124 -> 0 | AT88: D | AU88: -1 | BK88: =BK89+BK97+BK100+BK102+BK104+BK107+BK116+BK124 -> 0
D89: D | E89: 1 | F89: Rozvaděče | J89: =BK89 -> 0 | P89: =SUM(P90:P96) -> 0 | R89: =SUM(R90:R96) -> 0 | T89: =SUM(T90:T96) -> 0 | AR89: 1 | AT89: D | AU89: 0 | AY89: ROZPOCET | BK89: =SUM(BK90:BK96) -> 0
C90: 1 | D90: K | E90: 741-01-01 | F90: Repase přípojkové skříně, oprava povrchu | G90: ks | H90: 1 | I90: 0 | J90: =ROUND(I90*H90,2) -> 0 | N90: základní | O90: 0 | P90: =O90*H90 -> 0 | Q90: 0 | R90: =Q90*H90 -> 0 | S90: 0 | T90: =S90*H90 -> 0 | AR90: 16 | AT90: K | AU90: 1 | AY90: ROZPOCET | BE90: =IF(N90="základní",J90,0) -> 0 | BF90: =IF(N90="snížená",J90,0) -> 0 | BG90: =IF(N90="zákl. přenesená",J90,0) -> 0 | BH90: =IF(N90="sníž. přenesená",J90,0) -> 0 | BI90: =IF(N90="nulová",J90,0) -> 0 | BJ90: 1 | BK90: =ROUND(I90*H90,2) -> 0 | BL90: 16 | BM90: 236108419
C91: 2 | D91: K | E91: 741-01-02 | F91: Rozvaděč RE, vestavný, 25A/3/B, ČEZ | G91: ks | H91: 1 | I91: 0 | J91: =ROUND(I91*H91,2) -> 0 | N91: základní | O91: 0 | P91: =O91*H91 -> 0 | Q91: 0 | R91: =Q91*H91 -> 0 | S91: 0 | T91: =S91*H91 -> 0 | AR91: 16 | AT91: K | AU91: 1 | AY91: ROZPOCET | BE91: =IF(N91="základní",J91,0) -> 0 | BF91: =IF(N91="snížená",J91,0) -> 0 | BG91: =IF(N91="zákl. přenesená",J91,0) -> 0 | BH91: =IF(N91="sníž. přenesená",J91,0) -> 0 | BI91: =IF(N91="nulová",J91,0) -> 0 | BJ91: 1 | BK91: =ROUND(I91*H91,2) -> 0 | BL91: 16 | BM91: -2125004161
C92: 3 | D92: K | E92: 741-01-03 | F92: Rozvaděč RB1 dle PD | G92: ks | H92: 1 | I92: 0 | J92: =ROUND(I92*H92,2) -> 0 | N92: základní | O92: 0 | P92: =O92*H92 -> 0 | Q92: 0 | R92: =Q92*H92 -> 0 | S92: 0 | T92: =S92*H92 -> 0 | AR92: 16 | AT92: K | AU92: 1 | AY92: ROZPOCET | BE92: =IF(N92="základní",J92,0) -> 0 | BF92: =IF(N92="snížená",J92,0) -> 0 | BG92: =IF(N92="zákl. přenesená",J92,0) -> 0 | BH92: =IF(N92="sníž. přenesená",J92,0) -> 0 | BI92: =IF(N92="nulová",J92,0) -> 0 | BJ92: 1 | BK92: =ROUND(I92*H92,2) -> 0 | BL92: 16 | BM92: -608384795
C93: 4 | D93: K | E93: 741-01-03a | F93: Dočasné napojení stávajícího rozvaděče | G93: ks | H93: 1 | I93: 0 | J93: =ROUND(I93*H93,2) -> 0 | N93: základní | O93: 0 | P93: =O93*H93 -> 0 | Q93: 0 | R93: =Q93*H93 -> 0 | S93: 0 | T93: =S93*H93 -> 0 | AR93: 16 | AT93: K | AU93: 1 | AY93: ROZPOCET | BE93: =IF(N93="základní",J93,0) -> 0 | BF93: =IF(N93="snížená",J93,0) -> 0 | BG93: =IF(N93="zákl. přenesená",J93,0) -> 0 | BH93: =IF(N93="sníž. přenesená",J93,0) -> 0 | BI93: =IF(N93="nulová",J93,0) -> 0 | BJ93: 1 | BK93: =ROUND(I93*H93,2) -> 0 | BL93: 16 | BM93: -1803478390
C94: 5 | D94: K | E94: 741-01-04 | F94: Zásuvková skříň 1x400V/32A, 1x400V/16A, 2x230V, jištění, IP65 | G94: ks | H94: 1 | I94: 0 | J94: =ROUND(I94*H94,2) -> 0 | N94: základní | O94: 0 | P94: =O94*H94 -> 0 | Q94: 0 | R94: =Q94*H94 -> 0 | S94: 0 | T94: =S94*H94 -> 0 | AR94: 16 | AT94: K | AU94: 1 | AY94: ROZPOCET | BE94: =IF(N94="základní",J94,0) -> 0 | BF94: =IF(N94="snížená",J94,0) -> 0 | BG94: =IF(N94="zákl. přenesená",J94,0) -> 0 | BH94: =IF(N94="sníž. přenesená",J94,0) -> 0 | BI94: =IF(N94="nulová",J94,0) -> 0 | BJ94: 1 | BK94: =ROUND(I94*H94,2) -> 0 | BL94: 16 | BM94: -2072292398
C95: 6 | D95: K | E95: 741-01-05 | F95: Napojení PPS | G95: ks | H95: 1 | I95: 0 | J95: =ROUND(I95*H95,2) -> 0 | N95: základní | O95: 0 | P95: =O95*H95 -> 0 | Q95: 0 | R95: =Q95*H95 -> 0 | S95: 0 | T95: =S95*H95 -> 0 | AR95: 16 | AT95: K | AU95: 1 | AY95: ROZPOCET | BE95: =IF(N95="základní",J95,0) -> 0 | BF95: =IF(N95="snížená",J95,0) -> 0 | BG95: =IF(N95="zákl. přenesená",J95,0) -> 0 | BH95: =IF(N95="sníž. přenesená",J95,0) -> 0 | BI95: =IF(N95="nulová",J95,0) -> 0 | BJ95: 1 | BK95: =ROUND(I95*H95,2) -> 0 | BL95: 16 | BM95: -1170849736
C96: 7 | D96: K | E96: 741-01-06 | F96: HOP | G96: ks | H96: 1 | I96: 0 | J96: =ROUND(I96*H96,2) -> 0 | N96: základní | O96: 0 | P96: =O96*H96 -> 0 | Q96: 0 | R96: =Q96*H96 -> 0 | S96: 0 | T96: =S96*H96 -> 0 | AR96: 16 | AT96: K | AU96: 1 | AY96: ROZPOCET | BE96: =IF(N96="základní",J96,0) -> 0 | BF96: =IF(N96="snížená",J96,0) -> 0 | BG96: =IF(N96="zákl. přenesená",J96,0) -> 0 | BH96: =IF(N96="sníž. přenesená",J96,0) -> 0 | BI96: =IF(N96="nulová",J96,0) -> 0 | BJ96: 1 | BK96: =ROUND(I96*H96,2) -> 0 | BL96: 16 | BM96: 1145041457
D97: D | E97: 2 | F97: Svítidla dle knihy svítidel | J97: =BK97 -> 0 | P97: =SUM(P98:P99) -> 0 | R97: =SUM(R98:R99) -> 0 | T97: =SUM(T98:T99) -> 0 | AR97: 1 | AT97: D | AU97: 0 | AY97: ROZPOCET | BK97: =SUM(BK98:BK99) -> 0
C98: 8 | D98: K | E98: 741-02-04 | F98: Svítidlo D Průmyslové liniové LED 32W | G98: ks | H98: 3 | I98: 0 | J98: =ROUND(I98*H98,2) -> 0 | N98: základní | O98: 0 | P98: =O98*H98 -> 0 | Q98: 0 | R98: =Q98*H98 -> 0 | S98: 0 | T98: =S98*H98 -> 0 | AR98: 16 | AT98: K | AU98: 1 | AY98: ROZPOCET | BE98: =IF(N98="základní",J98,0) -> 0 | BF98: =IF(N98="snížená",J98,0) -> 0 | BG98: =IF(N98="zákl. přenesená",J98,0) -> 0 | BH98: =IF(N98="sníž. přenesená",J98,0) -> 0 | BI98: =IF(N98="nulová",J98,0) -> 0 | BJ98: 1 | BK98: =ROUND(I98*H98,2) -> 0 | BL98: 16 | BM98: 1161392533
C99: 9 | D99: K | E99: 741-02-08 | F99: Recyklační poplatek za svítidlo | G99: ks | H99: 3 | I99: 0 | J99: =ROUND(I99*H99,2) -> 0 | N99: základní | O99: 0 | P99: =O99*H99 -> 0 | Q99: 0 | R99: =Q99*H99 -> 0 | S99: 0 | T99: =S99*H99 -> 0 | AR99: 16 | AT99: K | AU99: 1 | AY99: ROZPOCET | BE99: =IF(N99="základní",J99,0) -> 0 | BF99: =IF(N99="snížená",J99,0) -> 0 | BG99: =IF(N99="zákl. přenesená",J99,0) -> 0 | BH99: =IF(N99="sníž. přenesená",J99,0) -> 0 | BI99: =IF(N99="nulová",J99,0) -> 0 | BJ99: 1 | BK99: =ROUND(I99*H99,2) -> 0 | BL99: 16 | BM99: 25201208
D100: D | E100: 3 | F100: Vypínače | J100: =BK100 -> 0 | P100: =P101 -> 0 | R100: =R101 -> 0 | T100: =T101 -> 0 | AR100: 1 | AT100: D | AU100: 0 | AY100: ROZPOCET | BK100: =BK101 -> 0
C101: 10 | D101: K | E101: 741-03-03 | F101: Vypínač č. 1 pro povrchovou montáž | G101: ks | H101: 1 | I101: 0 | J101: =ROUND(I101*H101,2) -> 0 | N101: základní | O101: 0 | P101: =O101*H101 -> 0 | Q101: 0 | R101: =Q101*H101 -> 0 | S101: 0 | T101: =S101*H101 -> 0 | AR101: 16 | AT101: K | AU101: 1 | AY101: ROZPOCET | BE101: =IF(N101="základní",J101,0) -> 0 | BF101: =IF(N101="snížená",J101,0) -> 0 | BG101: =IF(N101="zákl. přenesená",J101,0) -> 0 | BH101: =IF(N101="sníž. přenesená",J101,0) -> 0 | BI101: =IF(N101="nulová",J101,0) -> 0 | BJ101: 1 | BK101: =ROUND(I101*H101,2) -> 0 | BL101: 16 | BM101: -1150232388
D102: D | E102: 4 | F102: Zásuvky | J102: =BK102 -> 0 | P102: =P103 -> 0 | R102: =R103 -> 0 | T102: =T103 -> 0 | AR102: 1 | AT102: D | AU102: 0 | AY102: ROZPOCET | BK102: =BK103 -> 0
C103: 11 | D103: K | E103: 741-04-04 | F103: Zásuvka jedn. 230V IP44, povrchová montáž | G103: ks | H103: 1 | I103: 0 | J103: =ROUND(I103*H103,2) -> 0 | N103: základní | O103: 0 | P103: =O103*H103 -> 0 | Q103: 0 | R103: =Q103*H103 -> 0 | S103: 0 | T103: =S103*H103 -> 0 | AR103: 16 | AT103: K | AU103: 1 | AY103: ROZPOCET | BE103: =IF(N103="základní",J103,0) -> 0 | BF103: =IF(N103="snížená",J103,0) -> 0 | BG103: =IF(N103="zákl. přenesená",J103,0) -> 0 | BH103: =IF(N103="sníž. přenesená",J103,0) -> 0 | BI103: =IF(N103="nulová",J103,0) -> 0 | BJ103: 1 | BK103: =ROUND(I103*H103,2) -> 0 | BL103: 16 | BM103: -958015338
D104: D | E104: 5 | F104: Krabice | J104: =BK104 -> 0 | P104: =SUM(P105:P106) -> 0 | R104: =SUM(R105:R106) -> 0 | T104: =SUM(T105:T106) -> 0 | AR104: 1 | AT104: D | AU104: 0 | AY104: ROZPOCET | BK104: =SUM(BK105:BK106) -> 0
C105: 12 | D105: K | E105: 741-05-03 | F105: Krabice přepojovací s víčkem pro povrchovou montáž | G105: ks | H105: 2 | I105: 0 | J105: =ROUND(I105*H105,2) -> 0 | N105: základní | O105: 0 | P105: =O105*H105 -> 0 | Q105: 0 | R105: =Q105*H105 -> 0 | S105: 0 | T105: =S105*H105 -> 0 | AR105: 16 | AT105: K | AU105: 1 | AY105: ROZPOCET | BE105: =IF(N105="základní",J105,0) -> 0 | BF105: =IF(N105="snížená",J105,0) -> 0 | BG105: =IF(N105="zákl. přenesená",J105,0) -> 0 | BH105: =IF(N105="sníž. přenesená",J105,0) -> 0 | BI105: =IF(N105="nulová",J105,0) -> 0 | BJ105: 1 | BK105: =ROUND(I105*H105,2) -> 0 | BL105: 16 | BM105: 150843173
C106: 13 | D106: K | E106: 741-05-04 | F106: Svorky propojovací 4x1-2,5mm | G106: ks | H106: 6 | I106: 0 | J106: =ROUND(I106*H106,2) -> 0 | N106: základní | O106: 0 | P106: =O106*H106 -> 0 | Q106: 0 | R106: =Q106*H106 -> 0 | S106: 0 | T106: =S106*H106 -> 0 | AR106: 16 | AT106: K | AU106: 1 | AY106: ROZPOCET | BE106: =IF(N106="základní",J106,0) -> 0 | BF106: =IF(N106="snížená",J106,0) -> 0 | BG106: =IF(N106="zákl. přenesená",J106,0) -> 0 | BH106: =IF(N106="sníž. přenesená",J106,0) -> 0 | BI106: =IF(N106="nulová",J106,0) -> 0 | BJ106: 1 | BK106: =ROUND(I106*H106,2) -> 0 | BL106: 16 | BM106: 1549350668
D107: D | E107: 6 | F107: Kabely | J107: =BK107 -> 0 | P107: =SUM(P108:P115) -> 0 | R107: =SUM(R108:R115) -> 0 | T107: =SUM(T108:T115) -> 0 | AR107: 1 | AT107: D | AU107: 0 | AY107: ROZPOCET | BK107: =SUM(BK108:BK115) -> 0
C108: 14 | D108: K | E108: 741-06-01 | F108: CYKY 3x1,5 | G108: m | H108: 15 | I108: 0 | J108: =ROUND(I108*H108,2) -> 0 | N108: základní | O108: 0 | P108: =O108*H108 -> 0 | Q108: 0 | R108: =Q108*H108 -> 0 | S108: 0 | T108: =S108*H108 -> 0 | AR108: 16 | AT108: K | AU108: 1 | AY108: ROZPOCET | BE108: =IF(N108="základní",J108,0) -> 0 | BF108: =IF(N108="snížená",J108,0) -> 0 | BG108: =IF(N108="zákl. přenesená",J108,0) -> 0 | BH108: =IF(N108="sníž. přenesená",J108,0) -> 0 | BI108: =IF(N108="nulová",J108,0) -> 0 | BJ108: 1 | BK108: =ROUND(I108*H108,2) -> 0 | BL108: 16 | BM108: -959176757
C109: 15 | D109: K | E109: 741-06-03 | F109: CYKY 3x2,5 | G109: m | H109: 105 | I109: 0 | J109: =ROUND(I109*H109,2) -> 0 | N109: základní | O109: 0 | P109: =O109*H109 -> 0 | Q109: 0 | R109: =Q109*H109 -> 0 | S109: 0 | T109: =S109*H109 -> 0 | AR109: 16 | AT109: K | AU109: 1 | AY109: ROZPOCET | BE109: =IF(N109="základní",J109,0) -> 0 | BF109: =IF(N109="snížená",J109,0) -> 0 | BG109: =IF(N109="zákl. přenesená",J109,0) -> 0 | BH109: =IF(N109="sníž. přenesená",J109,0) -> 0 | BI109: =IF(N109="nulová",J109,0) -> 0 | BJ109: 1 | BK109: =ROUND(I109*H109,2) -> 0 | BL109: 16 | BM109: -772310971
C110: 16 | D110: K | E110: 741-06-05 | F110: CYKY 5x4 | G110: m | H110: 10 | I110: 0 | J110: =ROUND(I110*H110,2) -> 0 | N110: základní | O110: 0 | P110: =O110*H110 -> 0 | Q110: 0 | R110: =Q110*H110 -> 0 | S110: 0 | T110: =S110*H110 -> 0 | AR110: 16 | AT110: K | AU110: 1 | AY110: ROZPOCET | BE110: =IF(N110="základní",J110,0) -> 0 | BF110: =IF(N110="snížená",J110,0) -> 0 | BG110: =IF(N110="zákl. přenesená",J110,0) -> 0 | BH110: =IF(N110="sníž. přenesená",J110,0) -> 0 | BI110: =IF(N110="nulová",J110,0) -> 0 | BJ110: 1 | BK110: =ROUND(I110*H110,2) -> 0 | BL110: 16 | BM110: 52903254
C111: 17 | D111: K | E111: 741-06-06 | F111: CYKY 5x6 | G111: m | H111: 150 | I111: 0 | J111: =ROUND(I111*H111,2) -> 0 | N111: základní | O111: 0 | P111: =O111*H111 -> 0 | Q111: 0 | R111: =Q111*H111 -> 0 | S111: 0 | T111: =S111*H111 -> 0 | AR111: 16 | AT111: K | AU111: 1 | AY111: ROZPOCET | BE111: =IF(N111="základní",J111,0) -> 0 | BF111: =IF(N111="snížená",J111,0) -> 0 | BG111: =IF(N111="zákl. přenesená",J111,0) -> 0 | BH111: =IF(N111="sníž. přenesená",J111,0) -> 0 | BI111: =IF(N111="nulová",J111,0) -> 0 | BJ111: 1 | BK111: =ROUND(I111*H111,2) -> 0 | BL111: 16 | BM111: -2133549731
C112: 18 | D112: K | E112: 741-06-07 | F112: CYKY 4x10 | G112: m | H112: 10 | I112: 0 | J112: =ROUND(I112*H112,2) -> 0 | N112: základní | O112: 0 | P112: =O112*H112 -> 0 | Q112: 0 | R112: =Q112*H112 -> 0 | S112: 0 | T112: =S112*H112 -> 0 | AR112: 16 | AT112: K | AU112: 1 | AY112: ROZPOCET | BE112: =IF(N112="základní",J112,0) -> 0 | BF112: =IF(N112="snížená",J112,0) -> 0 | BG112: =IF(N112="zákl. přenesená",J112,0) -> 0 | BH112: =IF(N112="sníž. přenesená",J112,0) -> 0 | BI112: =IF(N112="nulová",J112,0) -> 0 | BJ112: 1 | BK112: =ROUND(I112*H112,2) -> 0 | BL112: 16 | BM112: 446592694
C113: 19 | D113: K | E113: 741-06-09 | F113: CY16 | G113: m | H113: 5 | I113: 0 | J113: =ROUND(I113*H113,2) -> 0 | N113: základní | O113: 0 | P113: =O113*H113 -> 0 | Q113: 0 | R113: =Q113*H113 -> 0 | S113: 0 | T113: =S113*H113 -> 0 | AR113: 16 | AT113: K | AU113: 1 | AY113: ROZPOCET | BE113: =IF(N113="základní",J113,0) -> 0 | BF113: =IF(N113="snížená",J113,0) -> 0 | BG113: =IF(N113="zákl. přenesená",J113,0) -> 0 | BH113: =IF(N113="sníž. přenesená",J113,0) -> 0 | BI113: =IF(N113="nulová",J113,0) -> 0 | BJ113: 1 | BK113: =ROUND(I113*H113,2) -> 0 | BL113: 16 | BM113: 1269537178
C114: 20 | D114: K | E114: 741-06-11 | F114: Chránička KOPOFLEX 50 | G114: m | H114: 250 | I114: 0 | J114: =ROUND(I114*H114,2) -> 0 | N114: základní | O114: 0 | P114: =O114*H114 -> 0 | Q114: 0 | R114: =Q114*H114 -> 0 | S114: 0 | T114: =S114*H114 -> 0 | AR114: 16 | AT114: K | AU114: 1 | AY114: ROZPOCET | BE114: =IF(N114="základní",J114,0) -> 0 | BF114: =IF(N114="snížená",J114,0) -> 0 | BG114: =IF(N114="zákl. přenesená",J114,0) -> 0 | BH114: =IF(N114="sníž. přenesená",J114,0) -> 0 | BI114: =IF(N114="nulová",J114,0) -> 0 | BJ114: 1 | BK114: =ROUND(I114*H114,2) -> 0 | BL114: 16 | BM114: -1739841333
C115: 21 | D115: K | E115: 741-06-12 | F115: Tuhá instalační trubka do DN25 vč. kotvení | G115: m | H115: 15 | I115: 0 | J115: =ROUND(I115*H115,2) -> 0 | N115: základní | O115: 0 | P115: =O115*H115 -> 0 | Q115: 0 | R115: =Q115*H115 -> 0 | S115: 0 | T115: =S115*H115 -> 0 | AR115: 16 | AT115: K | AU115: 1 | AY115: ROZPOCET | BE115: =IF(N115="základní",J115,0) -> 0 | BF115: =IF(N115="snížená",J115,0) -> 0 | BG115: =IF(N115="zákl. přenesená",J115,0) -> 0 | BH115: =IF(N115="sníž. přenesená",J115,0) -> 0 | BI115: =IF(N115="nulová",J115,0) -> 0 | BJ115: 1 | BK115: =ROUND(I115*H115,2) -> 0 | BL115: 16 | BM115: -289804073
D116: D | E116: 8 | F116: Hromosvod | J116: =BK116 -> 0 | P116: =SUM(P117:P123) -> 0 | R116: =SUM(R117:R123) -> 0 | T116: =SUM(T117:T123) -> 0 | AR116: 1 | AT116: D | AU116: 0 | AY116: ROZPOCET | BK116: =SUM(BK117:BK123) -> 0
C117: 22 | D117: K | E117: 741-08-01 | F117: FeZn 30x4 | G117: m | H117: 180 | I117: 0 | J117: =ROUND(I117*H117,2) -> 0 | N117: základní | O117: 0 | P117: =O117*H117 -> 0 | Q117: 0 | R117: =Q117*H117 -> 0 | S117: 0 | T117: =S117*H117 -> 0 | AR117: 16 | AT117: K | AU117: 1 | AY117: ROZPOCET | BE117: =IF(N117="základní",J117,0) -> 0 | BF117: =IF(N117="snížená",J117,0) -> 0 | BG117: =IF(N117="zákl. přenesená",J117,0) -> 0 | BH117: =IF(N117="sníž. přenesená",J117,0) -> 0 | BI117: =IF(N117="nulová",J117,0) -> 0 | BJ117: 1 | BK117: =ROUND(I117*H117,2) -> 0 | BL117: 16 | BM117: -417828071
C118: 23 | D118: K | E118: 741-08-02 | F118: FeZn 10mm | G118: m | H118: 30 | I118: 0 | J118: =ROUND(I118*H118,2) -> 0 | N118: základní | O118: 0 | P118: =O118*H118 -> 0 | Q118: 0 | R118: =Q118*H118 -> 0 | S118: 0 | T118: =S118*H118 -> 0 | AR118: 16 | AT118: K | AU118: 1 | AY118: ROZPOCET | BE118: =IF(N118="základní",J118,0) -> 0 | BF118: =IF(N118="snížená",J118,0) -> 0 | BG118: =IF(N118="zákl. přenesená",J118,0) -> 0 | BH118: =IF(N118="sníž. přenesená",J118,0) -> 0 | BI118: =IF(N118="nulová",J118,0) -> 0 | BJ118: 1 | BK118: =ROUND(I118*H118,2) -> 0 | BL118: 16 | BM118: -970680537
C119: 24 | D119: K | E119: 741-08-05 | F119: Svorka SS, SP, SR, SK, SO,… | G119: ks | H119: 30 | I119: 0 | J119: =ROUND(I119*H119,2) -> 0 | N119: základní | O119: 0 | P119: =O119*H119 -> 0 | Q119: 0 | R119: =Q119*H119 -> 0 | S119: 0 | T119: =S119*H119 -> 0 | AR119: 16 | AT119: K | AU119: 1 | AY119: ROZPOCET | BE119: =IF(N119="základní",J119,0) -> 0 | BF119: =IF(N119="snížená",J119,0) -> 0 | BG119: =IF(N119="zákl. přenesená",J119,0) -> 0 | BH119: =IF(N119="sníž. přenesená",J119,0) -> 0 | BI119: =IF(N119="nulová",J119,0) -> 0 | BJ119: 1 | BK119: =ROUND(I119*H119,2) -> 0 | BL119: 16 | BM119: 664326548
C120: 25 | D120: K | E120: 741-08-06 | F120: Svorka SZ | G120: ks | H120: 4 | I120: 0 | J120: =ROUND(I120*H120,2) -> 0 | N120: základní | O120: 0 | P120: =O120*H120 -> 0 | Q120: 0 | R120: =Q120*H120 -> 0 | S120: 0 | T120: =S120*H120 -> 0 | AR120: 16 | AT120: K | AU120: 1 | AY120: ROZPOCET | BE120: =IF(N120="základní",J120,0) -> 0 | BF120: =IF(N120="snížená",J120,0) -> 0 | BG120: =IF(N120="zákl. přenesená",J120,0) -> 0 | BH120: =IF(N120="sníž. přenesená",J120,0) -> 0 | BI120: =IF(N120="nulová",J120,0) -> 0 | BJ120: 1 | BK120: =ROUND(I120*H120,2) -> 0 | BL120: 16 | BM120: -1432245262
C121: 26 | D121: K | E121: 741-08-07 | F121: Zemní krabice pro zkušební svorku | G121: ks | H121: 2 | I121: 0 | J121: =ROUND(I121*H121,2) -> 0 | N121: základní | O121: 0 | P121: =O121*H121 -> 0 | Q121: 0 | R121: =Q121*H121 -> 0 | S121: 0 | T121: =S121*H121 -> 0 | AR121: 16 | AT121: K | AU121: 1 | AY121: ROZPOCET | BE121: =IF(N121="základní",J121,0) -> 0 | BF121: =IF(N121="snížená",J121,0) -> 0 | BG121: =IF(N121="zákl. přenesená",J121,0) -> 0 | BH121: =IF(N121="sníž. přenesená",J121,0) -> 0 | BI121: =IF(N121="nulová",J121,0) -> 0 | BJ121: 1 | BK121: =ROUND(I121*H121,2) -> 0 | BL121: 16 | BM121: 931862174
C122: 27 | D122: K | E122: 741-08-12 | F122: Antikorozní ochrana | G122: ks | H122: 1 | I122: 0 | J122: =ROUND(I122*H122,2) -> 0 | N122: základní | O122: 0 | P122: =O122*H122 -> 0 | Q122: 0 | R122: =Q122*H122 -> 0 | S122: 0 | T122: =S122*H122 -> 0 | AR122: 16 | AT122: K | AU122: 1 | AY122: ROZPOCET | BE122: =IF(N122="základní",J122,0) -> 0 | BF122: =IF(N122="snížená",J122,0) -> 0 | BG122: =IF(N122="zákl. přenesená",J122,0) -> 0 | BH122: =IF(N122="sníž. přenesená",J122,0) -> 0 | BI122: =IF(N122="nulová",J122,0) -> 0 | BJ122: 1 | BK122: =ROUND(I122*H122,2) -> 0 | BL122: 16 | BM122: 134336492
C123: 28 | D123: K | E123: 741-08-13 | F123: Čísla svodů | G123: ks | H123: 4 | I123: 0 | J123: =ROUND(I123*H123,2) -> 0 | N123: základní | O123: 0 | P123: =O123*H123 -> 0 | Q123: 0 | R123: =Q123*H123 -> 0 | S123: 0 | T123: =S123*H123 -> 0 | AR123: 16 | AT123: K | AU123: 1 | AY123: ROZPOCET | BE123: =IF(N123="základní",J123,0) -> 0 | BF123: =IF(N123="snížená",J123,0) -> 0 | BG123: =IF(N123="zákl. přenesená",J123,0) -> 0 | BH123: =IF(N123="sníž. přenesená",J123,0) -> 0 | BI123: =IF(N123="nulová",J123,0) -> 0 | BJ123: 1 | BK123: =ROUND(I123*H123,2) -> 0 | BL123: 16 | BM123: -175983936
D124: D | E124: 9 | F124: Venkovní osvětlení | J124: =BK124 -> 0 | P124: =P125+P126+P127 -> 0 | R124: =R125+R126+R127 -> 0 | T124: =T125+T126+T127 -> 0 | AR124: 1 | AT124: D | AU124: 0 | AY124: ROZPOCET | BK124: =BK125+BK126+BK127 -> 0
C125: 29 | D125: K | E125: 741-09-04 | F125: Výkop pro betonový základ stožáru | G125: ks | H125: 4 | I125: 0 | J125: =ROUND(I125*H125,2) -> 0 | N125: základní | O125: 0 | P125: =O125*H125 -> 0 | Q125: 0 | R125: =Q125*H125 -> 0 | S125: 0 | T125: =S125*H125 -> 0 | AR125: 16 | AT125: K | AU125: 1 | AY125: ROZPOCET | BE125: =IF(N125="základní",J125,0) -> 0 | BF125: =IF(N125="snížená",J125,0) -> 0 | BG125: =IF(N125="zákl. přenesená",J125,0) -> 0 | BH125: =IF(N125="sníž. přenesená",J125,0) -> 0 | BI125: =IF(N125="nulová",J125,0) -> 0 | BJ125: 1 | BK125: =ROUND(I125*H125,2) -> 0 | BL125: 16 | BM125: 1819413792
C126: 30 | D126: K | E126: 741-09-05 | F126: Betonový základ pro stožár s pouzdrem | G126: ks | H126: 4 | I126: 0 | J126: =ROUND(I126*H126,2) -> 0 | N126: základní | O126: 0 | P126: =O126*H126 -> 0 | Q126: 0 | R126: =Q126*H126 -> 0 | S126: 0 | T126: =S126*H126 -> 0 | AR126: 16 | AT126: K | AU126: 1 | AY126: ROZPOCET | BE126: =IF(N126="základní",J126,0) -> 0 | BF126: =IF(N126="snížená",J126,0) -> 0 | BG126: =IF(N126="zákl. přenesená",J126,0) -> 0 | BH126: =IF(N126="sníž. přenesená",J126,0) -> 0 | BI126: =IF(N126="nulová",J126,0) -> 0 | BJ126: 1 | BK126: =ROUND(I126*H126,2) -> 0 | BL126: 16 | BM126: -1108127479
D127: D | E127: 10 | F127: Ostatní | J127: =BK127 -> 0 | P127: =SUM(P128:P133) -> 0 | R127: =SUM(R128:R133) -> 0 | T127: =SUM(T128:T133) -> 0 | AR127: 1 | AT127: D | AU127: 1 | AY127: ROZPOCET | BK127: =SUM(BK128:BK133) -> 0
C128: 31 | D128: K | E128: 741-10-01 | F128: Pomocné, montážní a zednické práce | G128: hod | H128: 6 | I128: 0 | J128: =ROUND(I128*H128,2) -> 0 | N128: základní | O128: 0 | P128: =O128*H128 -> 0 | Q128: 0 | R128: =Q128*H128 -> 0 | S128: 0 | T128: =S128*H128 -> 0 | AR128: 16 | AT128: K | AU128: 2 | AY128: ROZPOCET | BE128: =IF(N128="základní",J128,0) -> 0 | BF128: =IF(N128="snížená",J128,0) -> 0 | BG128: =IF(N128="zákl. přenesená",J128,0) -> 0 | BH128: =IF(N128="sníž. přenesená",J128,0) -> 0 | BI128: =IF(N128="nulová",J128,0) -> 0 | BJ128: 1 | BK128: =ROUND(I128*H128,2) -> 0 | BL128: 16 | BM128: 1839963497
C129: 32 | D129: K | E129: 741-10-02 | F129: Výkop vč. záhozu do 80x30, pískové lože | G129: bm | H129: 175 | I129: 0 | J129: =ROUND(I129*H129,2) -> 0 | N129: základní | O129: 0 | P129: =O129*H129 -> 0 | Q129: 0 | R129: =Q129*H129 -> 0 | S129: 0 | T129: =S129*H129 -> 0 | AR129: 16 | AT129: K | AU129: 2 | AY129: ROZPOCET | BE129: =IF(N129="základní",J129,0) -> 0 | BF129: =IF(N129="snížená",J129,0) -> 0 | BG129: =IF(N129="zákl. přenesená",J129,0) -> 0 | BH129: =IF(N129="sníž. přenesená",J129,0) -> 0 | BI129: =IF(N129="nulová",J129,0) -> 0 | BJ129: 1 | BK129: =ROUND(I129*H129,2) -> 0 | BL129: 16 | BM129: -1310045375
C130: 33 | D130: K | E130: 741-10-03 | F130: Signalizační fólie | G130: m | H130: 150 | I130: 0 | J130: =ROUND(I130*H130,2) -> 0 | N130: základní | O130: 0 | P130: =O130*H130 -> 0 | Q130: 0 | R130: =Q130*H130 -> 0 | S130: 0 | T130: =S130*H130 -> 0 | AR130: 16 | AT130: K | AU130: 2 | AY130: ROZPOCET | BE130: =IF(N130="základní",J130,0) -> 0 | BF130: =IF(N130="snížená",J130,0) -> 0 | BG130: =IF(N130="zákl. přenesená",J130,0) -> 0 | BH130: =IF(N130="sníž. přenesená",J130,0) -> 0 | BI130: =IF(N130="nulová",J130,0) -> 0 | BJ130: 1 | BK130: =ROUND(I130*H130,2) -> 0 | BL130: 16 | BM130: -194476600
C131: 34 | D131: K | E131: 741-10-04 | F131: Doprava | G131: soub | H131: 1 | I131: 0 | J131: =ROUND(I131*H131,2) -> 0 | N131: základní | O131: 0 | P131: =O131*H131 -> 0 | Q131: 0 | R131: =Q131*H131 -> 0 | S131: 0 | T131: =S131*H131 -> 0 | AR131: 16 | AT131: K | AU131: 2 | AY131: ROZPOCET | BE131: =IF(N131="základní",J131,0) -> 0 | BF131: =IF(N131="snížená",J131,0) -> 0 | BG131: =IF(N131="zákl. přenesená",J131,0) -> 0 | BH131: =IF(N131="sníž. přenesená",J131,0) -> 0 | BI131: =IF(N131="nulová",J131,0) -> 0 | BJ131: 1 | BK131: =ROUND(I131*H131,2) -> 0 | BL131: 16 | BM131: -484173776
C132: 35 | D132: K | E132: 741-10-05 | F132: Drobný spojovací a montážní materiál | G132: soub | H132: 1 | I132: 0 | J132: =ROUND(I132*H132,2) -> 0 | N132: základní | O132: 0 | P132: =O132*H132 -> 0 | Q132: 0 | R132: =Q132*H132 -> 0 | S132: 0 | T132: =S132*H132 -> 0 | AR132: 16 | AT132: K | AU132: 2 | AY132: ROZPOCET | BE132: =IF(N132="základní",J132,0) -> 0 | BF132: =IF(N132="snížená",J132,0) -> 0 | BG132: =IF(N132="zákl. přenesená",J132,0) -> 0 | BH132: =IF(N132="sníž. přenesená",J132,0) -> 0 | BI132: =IF(N132="nulová",J132,0) -> 0 | BJ132: 1 | BK132: =ROUND(I132*H132,2) -> 0 | BL132: 16 | BM132: 1435435657
...

Sheet VRN - Vedlejší rozpočtové...
L2: >> skryté sloupce << | AT2: {c6bd2c1f-60a5-4778-b256-90c59f807d7e}
AT3: 2
D4: KRYCÍ LIST SOUPISU PRACÍ | M4: v --- níže se nacházejí doplnkové a pomocné údaje k sestavám --- v | AT4: False
D6: Stavba:
E7: ='Rekapitulace stavby'!K6 -> Kluziště Smržovka
D8: Objekt:
E9: VRN - Vedlejší rozpočtové náklady a náklady spojené s umístěním stavby
D11: KSO: | I11: CC-CZ:
D12: Místo: | F12: p.č. 2115/1, 2115/3, 2105 | I12: Datum: | J12: ='Rekapitulace stavby'!AN8 -> 2. 4. 2026
D14: Zadavatel: | I14: IČ:
E15: Město Smržovka | I15: DIČ:
D17: Zhotovitel: | I17: IČ: | J17: ='Rekapitulace stavby'!AN13
E18: ='Rekapitulace stavby'!E14 | I18: DIČ: | J18: ='Rekapitulace stavby'!AN14
D20: Projektant: | I20: IČ: | J20: 14080923
E21: mjölking s.r.o., Šternovská 2304/6, Chodov, Praha | I21: DIČ:
D23: Zpracovatel: | I23: IČ:
E24: Propos Liberec s.r.o. | I24: DIČ:
D26: Poznámka:
E27: Soupis prací je sestaven s využitím Cenové soustavy ÚRS. Položky, které pochází z této cenové soustavy, jsou ve sloupci 'Cenová soustava' označeny popisem 'CS ÚRS' a úrovní příslušného kalendářního pololetí. Veškeré další informace vymezující popis a podmínky použití těchto položek z Cenové soustavy, které nejsou uvedeny přímo v soupisu prací, jsou neomezeně dálkově k dispozici na webu podminky.urs.cz.
D30: Cena bez DPH | J30: =ROUND(J82, 2) -> 0
F32: Základ daně | I32: Sazba daně | J32: Výše daně
D33: DPH | E33: základní | F33: =ROUND((SUM(BE82:BE89)), 2) -> 0 | I33: 0.21 | J33: =ROUND(((SUM(BE82:BE89))*I33), 2) -> 0
E34: snížená | F34: =ROUND((SUM(BF82:BF89)), 2) -> 0 | I34: 0.12 | J34: =ROUND(((SUM(BF82:BF89))*I34), 2) -> 0
E35: zákl. přenesená | F35: =ROUND((SUM(BG82:BG89)), 2) -> 0 | I35: 0.21 | J35: =0 -> 0
E36: sníž. přenesená | F36: =ROUND((SUM(BH82:BH89)), 2) -> 0 | I36: 0.12 | J36: =0 -> 0
E37: nulová | F37: =ROUND((SUM(BI82:BI89)), 2) -> 0 | I37: 0 | J37: =0 -> 0
D39: Cena s DPH | G39: v | H39: CZK | J39: =SUM(J30:J37) -> 0
C45: REKAPITULACE ČLENĚNÍ SOUPISU PRACÍ
C47: Stavba:
E48: =E7 -> Kluziště Smržovka
C49: Objekt:
E50: =E9 -> VRN - Vedlejší rozpočtové náklady a náklady spojené s umístěním stavby
C52: Místo: | F52: =F12 -> p.č. 2115/1, 2115/3, 2105 | I52: Datum: | J52: =IF(J12="","",J12) -> 2. 4. 2026
C54: Zadavatel: | F54: =E15 -> Město Smržovka | I54: Projektant: | J54: =E21 -> mjölking s.r.o., Šternovská 2304/6, Chodov, Praha
C55: Zhotovitel: | F55: =IF(E18="","",E18) | I55: Zpracovatel: | J55: =E24 -> Propos Liberec s.r.o.
C57: Kód dílu - Popis | J57: Cena celkem [CZK]
C59: Náklady stavby celkem | J59: =J82 -> 0 | AU59: -1
D60: VRN - Vedlejší rozpočtové náklady | J60: =J83 -> 0
D61: VRN1 - Průzkumné, zeměměřičské a projektové práce | J61: =J84 -> 0
D62: VRN2 - Zařízení staveniště | J62: =J88 -> 0
C69: SOUPIS PRACÍ
C71: Stavba:
E72: =E7 -> Kluziště Smržovka
C73: Objekt:
E74: =E9 -> VRN - Vedlejší rozpočtové náklady a náklady spojené s umístěním stavby
C76: Místo: | F76: =F12 -> p.č. 2115/1, 2115/3, 2105 | I76: Datum: | J76: =IF(J12="","",J12) -> 2. 4. 2026
C78: Zadavatel: | F78: =E15 -> Město Smržovka | I78: Projektant: | J78: =E21 -> mjölking s.r.o., Šternovská 2304/6, Chodov, Praha
C79: Zhotovitel: | F79: =IF(E18="","",E18) | I79: Zpracovatel: | J79: =E24 -> Propos Liberec s.r.o.
C81: PČ | D81: Typ | E81: Kód | F81: Popis | G81: MJ | H81: Množství | I81: J.cena [CZK] | J81: Cena celkem [CZK] | K81: Cenová soustava | N81: DPH | O81: J. Nh [h] | P81: Nh celkem [h] | Q81: J. hmotnost [t] | R81: Hmotnost celkem [t] | S81: J. suť [t] | T81: Suť Celkem [t]
C82: Náklady soupisu celkem | J82: =J83 -> 0 | P82: =P83 -> #REF! | R82: =R83 -> #REF! | T82: =T83 -> #REF! | AT82: D | AU82: -1 | BK82: =BK83 -> #REF!
D83: D | E83: VRN | F83: Vedlejší rozpočtové náklady | J83: =J84+J88 -> 0 | P83: =P84+P88+#REF! -> #REF! | R83: =R84+R88+#REF! -> #REF! | T83: =T84+T88+#REF! -> #REF! | AR83: 5 | AT83: D | AU83: 0 | AY83: ROZPOCET | BK83: =BK84+BK88+#REF! -> #REF!
D84: D | E84: VRN1 | F84: Průzkumné, zeměměřičské a projektové práce | J84: =BK84 -> 0 | P84: =SUM(P85:P87) -> 0 | R84: =SUM(R85:R87) -> 0 | T84: =SUM(T85:T87) -> 0 | AR84: 5 | AT84: D | AU84: 1 | AY84: ROZPOCET | BK84: =SUM(BK85:BK87) -> 0
C85: 1 | D85: K | E85: 013254000 | F85: Dokumentace skutečného provedení stavby | G85: Kč | H85: 1 | I85: 0 | J85: =ROUND(I85*H85,2) -> 0 | K85: CS ÚRS 2026 01 | N85: základní | O85: 0 | P85: =O85*H85 -> 0 | Q85: 0 | R85: =Q85*H85 -> 0 | S85: 0 | T85: =S85*H85 -> 0 | AR85: 1024 | AT85: K | AU85: 2 | AY85: ROZPOCET | BE85: =IF(N85="základní",J85,0) -> 0 | BF85: =IF(N85="snížená",J85,0) -> 0 | BG85: =IF(N85="zákl. přenesená",J85,0) -> 0 | BH85: =IF(N85="sníž. přenesená",J85,0) -> 0 | BI85: =IF(N85="nulová",J85,0) -> 0 | BJ85: 1 | BK85: =ROUND(I85*H85,2) -> 0 | BL85: 1024 | BM85: -1431563758
D86: Online PSC | F86: https://podminky.urs.cz/item/CS_URS_2026_01/013254000 | AT86: Online PSC | AU86: 2
C87: 2 | D87: K | E87: 013294001 | F87: Dílenská dokumentace dodavatele | G87: Kč | H87: 1 | I87: 0 | J87: =ROUND(I87*H87,2) -> 0 | N87: základní | O87: 0 | P87: =O87*H87 -> 0 | Q87: 0 | R87: =Q87*H87 -> 0 | S87: 0 | T87: =S87*H87 -> 0 | AR87: 1024 | AT87: K | AU87: 2 | AY87: ROZPOCET | BE87: =IF(N87="základní",J87,0) -> 0 | BF87: =IF(N87="snížená",J87,0) -> 0 | BG87: =IF(N87="zákl. přenesená",J87,0) -> 0 | BH87: =IF(N87="sníž. přenesená",J87,0) -> 0 | BI87: =IF(N87="nulová",J87,0) -> 0 | BJ87: 1 | BK87: =ROUND(I87*H87,2) -> 0 | BL87: 1024 | BM87: -1934488352
D88: D | E88: VRN2 | F88: Zařízení staveniště | J88: =BK88 -> 0 | P88: =SUM(P89:P89) -> 0 | R88: =SUM(R89:R89) -> 0 | T88: =SUM(T89:T89) -> 0 | AR88: 5 | AT88: D | AU88: 1 | AY88: ROZPOCET | BK88: =SUM(BK89:BK89) -> 0
C89: 3 | D89: K | E89: 030001000.1 | F89: Zařízení staveniště vč.ochrany a zajištění nových konstrukcí proti poškození | G89: Kč | H89: 1 | I89: 0 | J89: =ROUND(I89*H89,2) -> 0 | N89: základní | O89: 0 | P89: =O89*H89 -> 0 | Q89: 0 | R89: =Q89*H89 -> 0 | S89: 0 | T89: =S89*H89 -> 0 | AR89: 1024 | AT89: K | AU89: 2 | AY89: ROZPOCET | BE89: =IF(N89="základní",J89,0) -> 0 | BF89: =IF(N89="snížená",J89,0) -> 0 | BG89: =IF(N89="zákl. přenesená",J89,0) -> 0 | BH89: =IF(N89="sníž. přenesená",J89,0) -> 0 | BI89: =IF(N89="nulová",J89,0) -> 0 | BJ89: 1 | BK89: =ROUND(I89*H89,2) -> 0 | BL89: 1024 | BM89: 1004249647

Sheet Seznam figur
C4: SEZNAM FIGUR
C5: Kód: | D5: 26-04_5136_A
C6: Stavba: | D6: Kluziště Smržovka
C7: Datum: | D7: ='Rekapitulace stavby'!AN8 -> 2. 4. 2026
C9: Kód | D9: Popis | E9: MJ | F9: Výměra
C10: SO 02 | D10: Sklad mobiliáře hřiště
C11: asfaltpaszakl | F11: 46.8
D12: Skladba P01 | F12: 0
D13: Plocha dle dm | F13: 0
D14: 42,80 | F14: 42.8
D15: "přípočet na přetažení" 4,0 | F15: 4
F16: 0
C17: asfaltpaszakl | D17: Mezisoučet | F17: 46.8
C18: Použití figury:
C19: 711141559 | D19: Provedení izolace proti zemní vlhkosti pásy přitavením vodorovné NAIP | E19: m2 | F19: 46.8
C20: 62853004 | D20: pás asfaltový natavitelný modifikovaný SBS s vložkou ze skleněné tkaniny a spalitelnou PE fólií nebo jemnozrnným minerálním posypem na horním povrchu tl 4,0mm | E20: m2 | F20: 54.288
C21: geotex | F21: 46.8
D22: Skladba P01 | F22: 0
D23: Plocha dle dm | F23: 0
D24: 42,80 | F24: 42.8
D25: "přípočet na přesah" 4,0 | F25: 4
F26: 0
C27: geotex | D27: Mezisoučet | F27: 46.8
C28: Použití figury:
C29: 213141111 | D29: Zřízení vrstvy z geotextilie v rovině nebo ve sklonu do 1:5 š do 3 m | E29: m2 | F29: 46.8
C30: 69311081 | D30: geotextilie netkaná separační, ochranná, filtrační, drenážní PES 300g/m2 | E30: m2 | F30: 55.224
C31: chranic | F31: 1.5
D32: Průchod skrz základovou desku | F32: 0
D33: 1,50 | F33: 1.5
F34: 0
C35: chranic | D35: Mezisoučet | F35: 1.5
C36: Použití figury:
C37: 219991112 | D37: Položení chráničky z plastových trubek DN přes 35 do 50 mm | E37: m | F37: 1.5
C38: 34571351 | D38: trubka elektroinstalační ohebná dvouplášťová korugovaná HDPE (chránička) D 40/50mm | E38: m | F38: 1.575
C39: klinatik | F39: 19.62
D40: 3,08+13,59+2,95 | F40: 19.62
F41: 0
C42: klinatik | D42: Mezisoučet | F42: 19.62
C43: Použití figury:
C44: 713141212 | D44: Montáž izolace tepelné střech plochých lepené nízkoexpanzní (PUR) pěnou atikový klín | E44: m | F44: 19.62
C45: 63152005 | D45: klín atikový přechodný minerální plochých střech tl 50x50mm | E45: m | F45: 20.601
C46: mazanin | F46: 6.888
D47: Skladba P01 | F47: 0
D48: Plocha dle dm x tl. | F48: 0
D49: 36,87*0,10 | F49: 3.687
F50: 0
D51: Skladba S01 | F51: 0
D52: Spádová mazanina 30 - 135mm | F52: 0
D53: Plocha dle dm x průměrná tl. | F53: 0
D54: 38,80*0,0825 | F54: 3.201
F55: 0
C56: mazanin | D56: Mezisoučet | F56: 6.888
C57: Použití figury:
C58: 631311126 | D58: Mazanina tl přes 80 do 120 mm z betonu prostého bez zvýšených nároků na prostředí tř. C 25/30 | E58: m3 | F58: 6.888
C59: 631319012 | D59: Příplatek k mazanině tl přes 80 do 120 mm za přehlazení povrchu | E59: m3 | F59: 6.888
C60: 631319173 | D60: Příplatek k mazanině tl přes 80 do 120 mm za stržení povrchu spodní vrstvy před vložením výztuže | E60: m3 | F60: 6.888
C61: odkopani | F61: 6
D62: Odkop po sejmutí ornice | F62: 0
D63: Výška odkopu průměrná | F63: 0
D64: 16,0*1,50*0,25 | F64: 6
F65: 0
C66: odkopani | D66: Mezisoučet | F66: 6
C67: Použití figury:
C68: 122351101 | D68: Odkopávky a prokopávky nezapažené v hornině třídy těžitelnosti II skupiny 4 objem do 20 m3 strojně | E68: m3 | F68: 6
C69: 162251122 | D69: Vodorovné přemístění přes 20 do 50 m výkopku/sypaniny z horniny třídy těžitelnosti II skupiny 4 a 5 | E69: m3 | F69: 33.803
C70: ryhy | F70: 10.803
D71: Hloubka základových pásů 850mm | F71: 0
D72: Hloubení rýh 650mm - zbytek zohledněn v sejmutí ornice a odkopu | F72: 0
D73: (15,94+2,20+13,0+2,10)*0,50*0,65 | F73: 10.803
F74: 0
C75: ryhy | D75: Mezisoučet | F75: 10.803
C76: Použití figury:
C77: 132351101 | D77: Hloubení rýh nezapažených š do 800 mm v hornině třídy těžitelnosti II skupiny 4 objem do 20 m3 strojně | E77: m3 | F77: 10.803
C78: 162251122 | D78: Vodorovné přemístění přes 20 do 50 m výkopku/sypaniny z horniny třídy těžitelnosti II skupiny 4 a 5 | E78: m3 | F78: 33.803
C79: sejmutor | F79: 69.454
C80: strechs01 | F80: 46.456
D81: Skladba S01 | F81: 0
D82: Plocha dle dm | F82: 0
D83: 39,41 | F83: 39.41
D84: "vytažení na atiku - v. průměrná" (3,24+13,79+3,10)*(0,20+0,15) | F84: 7.046
F85: 0
C86: strechs01 | D86: Mezisoučet | F86: 46.456
C87: Použití figury:
C88: 712311101 | D88: Provedení povlakové krytiny střech do 10° za studena lakem penetračním nebo asfaltovým | E88: m2 | F88: 46.456
C89: 712341559 | D89: Provedení povlakové krytiny střech do 10° pásy NAIP přitavením v plné ploše | E89: m2 | F89: 92.912
C90: 62853003 | D90: pás asfaltový natavitelný modifikovaný SBS s vložkou ze skleněné tkaniny a spalitelnou PE fólií nebo jemnozrnným minerálním posypem na horním povrchu tl 3,5mm | E90: m2 | F90: 53.889
C91: 62855007 | D91: pás asfaltový natavitelný modifikovaný SBS s vložkou z polyesterové vyztužené rohože a hrubozrnným břidličným posypem na horním povrchu tl 4,5mm | E91: m2 | F91: 53.889
C92: zpetnasyp | F92: 15
D93: Řez A - předpoklad | F93: 0
D94: 15,0 | F94: 15
F95: 0
C96: zpetnasyp | D96: Mezisoučet | F96: 15
C97: Použití figury:
C98: 171151103 | D98: Uložení sypaniny z hornin soudržných do násypů zhutněných strojně | E98: m3 | F98: 15
C99: 162251122 | D99: Vodorovné přemístění přes 20 do 50 m výkopku/sypaniny z horniny třídy těžitelnosti II skupiny 4 a 5 | E99: m3 | F99: 33.803
C100: 167151102 | D100: Nakládání výkopku z hornin třídy těžitelnosti II skupiny 4 a 5 do 100 m3 | E100: m3 | F100: 17
C101: zpetokoli | F101: 2
D102: Drobné terénní úpravy okolo nového objektu | F102: 0
D103: Předpoklad | F103: 0
D104: 2,0 | F104: 2
...

Sheet Pokyny pro vyplnění
C3: Struktura údajů, formát souboru a metodika pro zpracování
C4: Struktura
C6: Soubor je složen ze záložky Rekapitulace stavby a záložek s názvem soupisu prací pro jednotlivé objekty ve formátu XLSX. Každá ze záložek přitom obsahuje
C7: ještě samostatné sestavy vymezené orámovaním a nadpisem sestavy.
C9: Rekapitulace stavby obsahuje sestavu Rekapitulace stavby a Rekapitulace objektů stavby a soupisů prací.
D10: V sestavě Rekapitulace stavby jsou uvedeny informace identifikující předmět veřejné zakázky na stavební práce, KSO, CC-CZ, CZ-CPV, CZ-CPA a rekapitulaci
D11: celkové nabídkové ceny účastníka.
D13: Termínem "učastník" (resp. zhotovitel) se myslí "účastník zadávacího řízení" ve smyslu zákona o zadávání veřejných zakázek.
D15: V sestavě Rekapitulace objektů stavby a soupisů prací je uvedena rekapitulace stavebních objektů, inženýrských objektů, provozních souborů,
D16: vedlejších a ostatních nákladů a ostatních nákladů s rekapitulací nabídkové ceny za jednotlivé soupisy prací. Na základě údaje Typ je možné
D17: identifikovat, zda se jedná o objekt nebo soupis prací pro daný objekt:
E18: STA | F18: Stavební objekt pozemní
E19: ING | F19: Stavební objekt inženýrský
E20: PRO | F20: Provozní soubor
E21: VON | F21: Vedlejší a ostatní náklady
E22: OST | F22: Ostatní
E23: Soupis | F23: Soupis prací pro daný typ objektu
C25: Soupis prací pro jednotlivé objekty obsahuje sestavy Krycí list soupisu prací, Rekapitulace členění soupisu prací, Soupis prací. Za soupis prací může být považován
C26: i objekt stavby v případě, že neobsahuje podřízenou zakázku.
D27: Krycí list soupisu obsahuje rekapitulaci informací o předmětu veřejné zakázky ze sestavy Rekapitulace stavby, informaci o zařazení objektu do KSO,
D28: CC-CZ, CZ-CPV, CZ-CPA a rekapitulaci celkové nabídkové ceny účastníka za aktuální soupis prací.
D30: Rekapitulace členění soupisu prací obsahuje rekapitulaci soupisu prací ve všech úrovních členění soupisu tak, jak byla tato členění použita (např.
D31: stavební díly, funkční díly, případně jiné členění) s rekapitulací nabídkové ceny.
D33: Soupis prací obsahuje položky veškerých stavebních nebo montážních prací, dodávek materiálů a služeb nezbytných pro zhotovení stavebního objektu,
D34: inženýrského objektu, provozního souboru, vedlejších a ostatních nákladů.
D35: Pro položky soupisu prací se zobrazují následující informace:
E36: PČ | G36: Pořadové číslo položky v aktuálním soupisu
E37: TYP | G37: Typ položky: K - konstrukce, M - materiál, PP - plný popis, PSC - poznámka k souboru cen, P - poznámka k položce, VV - výkaz výměr, FIG - rozpad figur
E38: Kód | G38: Kód položky
E39: Popis | G39: Zkrácený popis položky
E40: MJ | G40: Měrná jednotka položky
E41: Množství | G41: Množství v měrné jednotce
E42: J.cena | G42: Jednotková cena položky. Zadaní může obsahovat namísto J.ceny sloupce J.materiál a J.montáž, jejichž součet definuje
G43: J.cenu položky.
E44: Cena celkem | G44: Celková cena položky daná jako součin množství a j.ceny
E45: Cenová soustava | G45: Příslušnost položky do cenové soustavy
D47: Ke každé položce soupisu prací se na samostatných řádcích může zobrazovat:
E48: Plný popis položky
E49: Poznámka k souboru cen a poznámka zadavatele
E50: Výkaz výměr
D51: Pokud je k řádku výkazu výměr evidovaný údaj ve sloupci Kód, jedná se o definovaný odkaz, na který se může odvolávat výkaz výměr z jiné položky.
C52: Metodika pro zpracování
C54: Jednotlivé sestavy jsou v souboru provázány. Editovatelné pole jsou zvýrazněny žlutým podbarvením, ostatní pole neslouží k editaci a nesmí být jakkoliv
C55: modifikovány.
C57: Účastník je pro podání nabídky povinen vyplnit žlutě podbarvená pole:
D58: Pole Účastník v sestavě Rekapitulace stavby - zde účastník vyplní svůj název (název subjektu)
D59: Pole IČ a DIČ v sestavě Rekapitulace stavby - zde účastník vyplní svoje IČ a DIČ
D60: Datum v sestavě Rekapitulace stavby - zde účastník vyplní datum vytvoření nabídky
D61: J.cena = jednotková cena v sestavě Soupis prací o maximálním počtu desetinných míst uvedených v poli
D62: - pokud sestavy soupisů prací obsahují pole J.cena, měla by být všechna tato pole vyplněna nenulovými
D63: Poznámka - nepovinný údaj pro položku soupisu
D65: V případě, že sestavy soupisů prací neobsahují pole J.cena, potom ve všech soupisech prací obsahují pole:
D66: - J.materiál - jednotková cena materiálu
D67: - J.montáž - jednotková cena montáže
D68: Účastník v tomto případě by měl vyplnit všechna pole J.materiál a pole J.montáž nenulovými kladnými číslicemi. V případech, kdy položka
D69: neobsahuje žádný materiál je přípustné, aby pole J.materiál bylo vyplněno nulou. V případech, kdy položka neobsahuje žádnou montáž je přípustné,
D70: aby pole J.montáž bylo vyplněno nulou. Obě pole - J.materiál, J.Montáž u jedné položky by však neměly být vyplněny nulou.
C75: Rekapitulace stavby
C76: Název | F76: Povinný | H76: Popis | I76: Typ | J76: Max. počet
C77: atributu | F77: (A/N) | J77: znaků
C79: Kód | F79: A | H79: Kód stavby | I79: String | J79: 20
C80: Stavba | F80: A | H80: Název stavby | I80: String | J80: 120
C81: Místo | F81: N | H81: Místo stavby | I81: String | J81: 50
C82: Datum | F82: A | H82: Datum vykonaného exportu | I82: Date
C83: KSO | F83: N | H83: Klasifikace stavebního objektu | I83: String | J83: 15
C84: CC-CZ | F84: N | H84: Klasifikace stavbeních děl | I84: String | J84: 15
C85: CZ-CPV | F85: N | H85: Společný slovník pro veřejné zakázky | I85: String | J85: 20
C86: CZ-CPA | F86: N | H86: Klasifikace produkce podle činností | I86: String | J86: 20
C87: Zadavatel | F87: N | H87: Zadavatel zadaní | I87: String | J87: 50
C88: IČ | F88: N | H88: IČ zadavatele zadaní | I88: String | J88: 20
C89: DIČ | F89: N | H89: DIČ zadavatele zadaní | I89: String | J89: 20
C90: Účastník | F90: N | H90: Účastník veřejné zakázky | I90: String | J90: 50
C91: Projektant | F91: N | H91: Projektant | I91: String | J91: 50
C92: Poznámka | F92: N | H92: Poznámka k zadání | I92: String | J92: 255
C93: Sazba DPH | F93: A | H93: Rekapitulace sazeb DPH u položek soupisů | I93: eGSazbaDph
C94: Základna DPH | F94: A | H94: Základna DPH určena součtem celkové ceny z položek soupisů | I94: Double
C95: Hodnota DPH | F95: A | H95: Hodnota DPH | I95: Double
C96: Cena bez DPH | F96: A | H96: Celková cena bez DPH za celou stavbu. Sčítává se ze všech listů. | I96: Double
C97: Cena s DPH | F97: A | H97: Celková cena s DPH za celou stavbu | I97: Double
C102: Rekapitulace objektů stavby a soupisů prací
C103: Název | F103: Povinný | H103: Popis | I103: Typ | J103: Max. počet
C104: atributu | F104: (A/N) | J104: znaků
C106: Kód | F106: A | H106: Přebírá se z Rekapitulace stavby | I106: String | J106: 20
C107: Stavba | F107: A | H107: Přebírá se z Rekapitulace stavby | I107: String | J107: 120
C108: Místo | F108: N | H108: Přebírá se z Rekapitulace stavby | I108: String | J108: 50
C109: Datum | F109: A | H109: Přebírá se z Rekapitulace stavby | I109: Date
C110: Zadavatel | F110: N | H110: Přebírá se z Rekapitulace stavby | I110: String | J110: 50
C111: Projektant | F111: N | H111: Přebírá se z Rekapitulace stavby | I111: String | J111: 50
C112: Účastník | F112: N | H112: Přebírá se z Rekapitulace stavby | I112: String | J112: 50
C113: Kód | F113: A | H113: Kód objektu | I113: String | J113: 20
C114: Objektu, Soupis prací | F114: A | H114: Název objektu | I114: String | J114: 120
C115: Cena bez DPH | F115: A | H115: Cena bez DPH za daný objekt | I115: Double
C116: Cena s DPH | F116: A | H116: Cena spolu s DPH za daný objekt | I116: Double
C117: Typ | F117: A | H117: Typ zakázky | I117: eGTypZakazky
C122: Krycí list soupisu
C123: Název | F123: Povinný | H123: Popis | I123: Typ | J123: Max. počet
C124: atributu | F124: (A/N) | J124: znaků
C126: Stavba | F126: A | H126: Přebírá se z Rekapitulace stavby | I126: String | J126: 120
C127: Objekt | F127: A | H127: Kód a název objektu | I127: String | J127: 20 + 120
C128: Soupis | F128: A | H128: Kód a název soupisu | I128: String | J128: 20 + 120
...
