Workbook

Sheet Rekapitulace stavby
A1: Export Komplet | BA1: 2.0 | BB1: ZAMOK | BT1: False | BU1: False | BV1: {eeb630c5-0146-4a34-982e-697e4b3ee429}
BS2: 0,01 | BT2: 21
BS3: 0,01 | BT3: 12
D4: REKAPITULACE STAVBY | AS4: v --- níže se nacházejí doplnkové a pomocné údaje k sestavám --- v | BE4: Návod na vyplnění | BS4: 0,001
D5: Kód: | K5: 20260413 | BE5: Měnit lze pouze buňky se žlutým podbarvením!_x000D_ _x000D_ 1) na prvním listu Rekapitulace stavby vyplňte v sestavě_x000D_ _x000D_ a) Souhrnný list_x000D_ - údaje o Uchazeči_x000D_ (přenesou se do ostatních sestav i v jiných listech)_x000D_ _x000D_ b) Rekapitulace objektů_x000D_ - potřebné Ostatní náklady_x000D_ _x000D_ 2) na vybraných listech vyplňte v sestavě_x000D_ _x000D_ a) Krycí list_x000D_ - údaje o Uchazeči, pokud se liší od údajů o Uchazeči na Souhrnném listu_x000D_ (údaje se přenesou do ostatních sestav v daném listu)_x000D_ _x000D_ b) Rekapitulace rozpočtu_x000D_ - potřebné Ostatní náklady_x000D_ _x000D_ c) Celkové náklady za stavbu_x000D_ - ceny u položek_x000D_ - množství, pokud má žluté podbarvení_x000D_ - a v případě potřeby poznámku (ta je ve skrytém sloupci) | BS5: 0,01
D6: Stavba: | K6: Obnova obecního rybníka v k.ú. Žeretice | BS6: 0,01
D7: KSO: | AK7: CC-CZ: | BS7: 0,01
D8: Místo: | K8: Žeretice | AK8: Datum: | AN8: 13. 4. 2026 | BS8: 0,01
BS9: 0,01
D10: Zadavatel: | AK10: IČ: | BS10: 0,01
E11: Obec Žeretice | AK11: DIČ: | BS11: 0,01
BS12: 0,01
D13: Uchazeč: | AK13: IČ: | AN13: Vyplň údaj | BS13: 0,01
E14: Vyplň údaj | AK14: DIČ: | AN14: Vyplň údaj | BS14: 0,01
BS15: False
D16: Projektant: | AK16: IČ: | BS16: False
E17: Projektový ateliér Dlabáček s.r.o. | AK17: DIČ: | BS17: True
BS18: 0,01
D19: Zpracovatel: | AK19: IČ: | BS19: 0,01
AK20: DIČ: | BS20: True
D22: Poznámka:
D26: Cena bez DPH | AK26: =ROUND(AG94,2) -> 0
L28: Sazba daně | W28: Základ daně | AK28: Výše daně
D29: DPH | F29: základní | L29: 0.21 | W29: =ROUND(AZ94, 2) -> 0 | AK29: =ROUND(AV94, 2) -> 0
F30: snížená | L30: 0.12 | W30: =ROUND(BA94, 2) -> 0 | AK30: =ROUND(AW94, 2) -> 0
F31: zákl. přenesená | L31: 0.21 | W31: =ROUND(BB94, 2) -> 0 | AK31: 0
F32: sníž. přenesená | L32: 0.12 | W32: =ROUND(BC94, 2) -> 0 | AK32: 0
F33: nulová | L33: 0 | W33: =ROUND(BD94, 2) -> 0 | AK33: 0
D35: Cena s DPH | T35: v | X35: CZK | AK35: =SUM(AK26:AK33) -> 0
D49: Projektant | AH49: Zpracovatel
D60: Datum a podpis: | V60: Razítko | AH60: Datum a podpis: | AM60: Razítko
D64: Objednavatel | AH64: Uchazeč
D75: Datum a podpis: | V75: Razítko | AH75: Datum a podpis: | AM75: Razítko
C82: REKAPITULACE OBJEKTŮ STAVBY A SOUPISŮ PRACÍ
C84: Kód: | L84: =K5 -> 20260413
C85: Stavba: | L85: =K6 -> Obnova obecního rybníka v k.ú. Žeretice
C87: Místo: | L87: =IF(K8="","",K8) -> Žeretice | AI87: Datum: | AM87: =IF(AN8= "","",AN8) -> 13. 4. 2026
C89: Zadavatel: | L89: =IF(E11= "","",E11) -> Obec Žeretice | AI89: Projektant: | AM89: =IF(E17="","",E17) -> Projektový ateliér Dlabáček s.r.o. | AS89: Informatívní údaje z listů zakázek
C90: Uchazeč: | L90: =IF(E14= "Vyplň údaj","",E14) | AI90: Zpracovatel: | AM90: =IF(E20="","",E20)
C92: Kód | I92: Popis | AG92: Cena bez DPH [CZK] | AN92: Cena s DPH [CZK] | AQ92: Typ | AS92: z toho Ostat._x000D_ náklady [CZK] | AT92: DPH [CZK] | AU92: Normohodiny [h] | AV92: DPH základní [CZK] | AW92: DPH snížená [CZK] | AX92: DPH základní přenesená_x000D_ [CZK] | AY92: DPH snížená přenesená_x000D_ [CZK] | AZ92: Základna_x000D_ DPH základní | BA92: Základna_x000D_ DPH snížená | BB92: Základna_x000D_ DPH zákl. přenesená | BC92: Základna_x000D_ DPH sníž. přenesená | BD92: Základna_x000D_ DPH nulová
C94: Náklady z rozpočtů | AG94: =ROUND(SUM(AG95:AG101),2) -> 0 | AN94: =SUM(AG94,AT94) -> 0 | AS94: =ROUND(SUM(AS95:AS101),2) -> 0 | AT94: =ROUND(SUM(AV94:AW94),2) -> 0 | AU94: =ROUND(SUM(AU95:AU101),5) -> 0 | AV94: =ROUND(AZ94*L29,2) -> 0 | AW94: =ROUND(BA94*L30,2) -> 0 | AX94: =ROUND(BB94*L29,2) -> 0 | AY94: =ROUND(BC94*L30,2) -> 0 | AZ94: =ROUND(SUM(AZ95:AZ101),2) -> 0 | BA94: =ROUND(SUM(BA95:BA101),2) -> 0 | BB94: =ROUND(SUM(BB95:BB101),2) -> 0 | BC94: =ROUND(SUM(BC95:BC101),2) -> 0 | BD94: =ROUND(SUM(BD95:BD101),2) -> 0 | BS94: D | BT94: 0 | BU94: ###NOIMPORT### | BV94: IMPORT | BW94: {eeb630c5-0146-4a34-982e-697e4b3ee429} | BX94: {00000000-0000-0000-0000-000000000000}
A95: / | D95: SO 01 | J95: Odstranění nánosu | AG95: ='SO 01 - Odstranění nánosu'!J30 -> 0 | AN95: =SUM(AG95,AT95) -> 0 | AQ95: STA | AS95: 0 | AT95: =ROUND(SUM(AV95:AW95),2) -> 0 | AU95: ='SO 01 - Odstranění nánosu'!P118 -> 0 | AV95: ='SO 01 - Odstranění nánosu'!J33 -> 0 | AW95: ='SO 01 - Odstranění nánosu'!J34 -> 0 | AX95: ='SO 01 - Odstranění nánosu'!J35 -> 0 | AY95: ='SO 01 - Odstranění nánosu'!J36 -> 0 | AZ95: ='SO 01 - Odstranění nánosu'!F33 -> 0 | BA95: ='SO 01 - Odstranění nánosu'!F34 -> 0 | BB95: ='SO 01 - Odstranění nánosu'!F35 -> 0 | BC95: ='SO 01 - Odstranění nánosu'!F36 -> 0 | BD95: ='SO 01 - Odstranění nánosu'!F37 -> 0 | BT95: 1 | BV95: IMPORT | BW95: {03c0b9f5-28d6-440b-a681-fe3a5851fea7} | BX95: {eeb630c5-0146-4a34-982e-697e4b3ee429} | CM95: 2
A96: / | D96: SO 02 | J96: Stabilizace břehu rybníka | AG96: ='SO 02 - Stabilizace břehu...'!J30 -> 0 | AN96: =SUM(AG96,AT96) -> 0 | AQ96: STA | AS96: 0 | AT96: =ROUND(SUM(AV96:AW96),2) -> 0 | AU96: ='SO 02 - Stabilizace břehu...'!P120 -> 0 | AV96: ='SO 02 - Stabilizace břehu...'!J33 -> 0 | AW96: ='SO 02 - Stabilizace břehu...'!J34 -> 0 | AX96: ='SO 02 - Stabilizace břehu...'!J35 -> 0 | AY96: ='SO 02 - Stabilizace břehu...'!J36 -> 0 | AZ96: ='SO 02 - Stabilizace břehu...'!F33 -> 0 | BA96: ='SO 02 - Stabilizace břehu...'!F34 -> 0 | BB96: ='SO 02 - Stabilizace břehu...'!F35 -> 0 | BC96: ='SO 02 - Stabilizace břehu...'!F36 -> 0 | BD96: ='SO 02 - Stabilizace břehu...'!F37 -> 0 | BT96: 1 | BV96: IMPORT | BW96: {762e8f79-b9e4-4ca3-96a8-9771e2bfc090} | BX96: {eeb630c5-0146-4a34-982e-697e4b3ee429} | CM96: 2
A97: / | D97: SO 03 | J97: Nápustné zařízení | AG97: ='SO 03 - Nápustné zařízení'!J30 -> 0 | AN97: =SUM(AG97,AT97) -> 0 | AQ97: STA | AS97: 0 | AT97: =ROUND(SUM(AV97:AW97),2) -> 0 | AU97: ='SO 03 - Nápustné zařízení'!P126 -> 0 | AV97: ='SO 03 - Nápustné zařízení'!J33 -> 0 | AW97: ='SO 03 - Nápustné zařízení'!J34 -> 0 | AX97: ='SO 03 - Nápustné zařízení'!J35 -> 0 | AY97: ='SO 03 - Nápustné zařízení'!J36 -> 0 | AZ97: ='SO 03 - Nápustné zařízení'!F33 -> 0 | BA97: ='SO 03 - Nápustné zařízení'!F34 -> 0 | BB97: ='SO 03 - Nápustné zařízení'!F35 -> 0 | BC97: ='SO 03 - Nápustné zařízení'!F36 -> 0 | BD97: ='SO 03 - Nápustné zařízení'!F37 -> 0 | BT97: 1 | BV97: IMPORT | BW97: {246ef0a1-edfb-4657-b088-eb95eecc318f} | BX97: {eeb630c5-0146-4a34-982e-697e4b3ee429} | CM97: 2
A98: / | D98: SO 04 | J98: Sanace hráze - schody | AG98: ='SO 04 - Sanace hráze - sc...'!J30 -> 0 | AN98: =SUM(AG98,AT98) -> 0 | AQ98: STA | AS98: 0 | AT98: =ROUND(SUM(AV98:AW98),2) -> 0 | AU98: ='SO 04 - Sanace hráze - sc...'!P123 -> 0 | AV98: ='SO 04 - Sanace hráze - sc...'!J33 -> 0 | AW98: ='SO 04 - Sanace hráze - sc...'!J34 -> 0 | AX98: ='SO 04 - Sanace hráze - sc...'!J35 -> 0 | AY98: ='SO 04 - Sanace hráze - sc...'!J36 -> 0 | AZ98: ='SO 04 - Sanace hráze - sc...'!F33 -> 0 | BA98: ='SO 04 - Sanace hráze - sc...'!F34 -> 0 | BB98: ='SO 04 - Sanace hráze - sc...'!F35 -> 0 | BC98: ='SO 04 - Sanace hráze - sc...'!F36 -> 0 | BD98: ='SO 04 - Sanace hráze - sc...'!F37 -> 0 | BT98: 1 | BV98: IMPORT | BW98: {fcc91534-1e57-4cfc-82de-e737f635034e} | BX98: {eeb630c5-0146-4a34-982e-697e4b3ee429} | CM98: 2
A99: / | D99: SO 05 | J99: Oprava výpustného zařízení | AG99: ='SO 05 - Oprava výpustného...'!J30 -> 0 | AN99: =SUM(AG99,AT99) -> 0 | AQ99: STA | AS99: 0 | AT99: =ROUND(SUM(AV99:AW99),2) -> 0 | AU99: ='SO 05 - Oprava výpustného...'!P122 -> 0 | AV99: ='SO 05 - Oprava výpustného...'!J33 -> 0 | AW99: ='SO 05 - Oprava výpustného...'!J34 -> 0 | AX99: ='SO 05 - Oprava výpustného...'!J35 -> 0 | AY99: ='SO 05 - Oprava výpustného...'!J36 -> 0 | AZ99: ='SO 05 - Oprava výpustného...'!F33 -> 0 | BA99: ='SO 05 - Oprava výpustného...'!F34 -> 0 | BB99: ='SO 05 - Oprava výpustného...'!F35 -> 0 | BC99: ='SO 05 - Oprava výpustného...'!F36 -> 0 | BD99: ='SO 05 - Oprava výpustného...'!F37 -> 0 | BT99: 1 | BV99: IMPORT | BW99: {ae1f125a-daf5-4cc1-b504-d36e8f58e68b} | BX99: {eeb630c5-0146-4a34-982e-697e4b3ee429} | CM99: 2
A100: / | D100: SO 06 | J100: Oprava kamenného stupně | AG100: ='SO 06 - Oprava kamenného ...'!J30 -> 0 | AN100: =SUM(AG100,AT100) -> 0 | AQ100: STA | AS100: 0 | AT100: =ROUND(SUM(AV100:AW100),2) -> 0 | AU100: ='SO 06 - Oprava kamenného ...'!P124 -> 0 | AV100: ='SO 06 - Oprava kamenného ...'!J33 -> 0 | AW100: ='SO 06 - Oprava kamenného ...'!J34 -> 0 | AX100: ='SO 06 - Oprava kamenného ...'!J35 -> 0 | AY100: ='SO 06 - Oprava kamenného ...'!J36 -> 0 | AZ100: ='SO 06 - Oprava kamenného ...'!F33 -> 0 | BA100: ='SO 06 - Oprava kamenného ...'!F34 -> 0 | BB100: ='SO 06 - Oprava kamenného ...'!F35 -> 0 | BC100: ='SO 06 - Oprava kamenného ...'!F36 -> 0 | BD100: ='SO 06 - Oprava kamenného ...'!F37 -> 0 | BT100: 1 | BV100: IMPORT | BW100: {87f812a8-b374-46ac-9c5c-6c2f9062ef82} | BX100: {eeb630c5-0146-4a34-982e-697e4b3ee429} | CM100: 2
A101: / | D101: VRN | J101: Vedlejší rozpočtové náklady | AG101: ='VRN - Vedlejší rozpočtové...'!J30 -> 0 | AN101: =SUM(AG101,AT101) -> 0 | AQ101: STA | AS101: 0 | AT101: =ROUND(SUM(AV101:AW101),2) -> 0 | AU101: ='VRN - Vedlejší rozpočtové...'!P121 -> 0 | AV101: ='VRN - Vedlejší rozpočtové...'!J33 -> 0 | AW101: ='VRN - Vedlejší rozpočtové...'!J34 -> 0 | AX101: ='VRN - Vedlejší rozpočtové...'!J35 -> 0 | AY101: ='VRN - Vedlejší rozpočtové...'!J36 -> 0 | AZ101: ='VRN - Vedlejší rozpočtové...'!F33 -> 0 | BA101: ='VRN - Vedlejší rozpočtové...'!F34 -> 0 | BB101: ='VRN - Vedlejší rozpočtové...'!F35 -> 0 | BC101: ='VRN - Vedlejší rozpočtové...'!F36 -> 0 | BD101: ='VRN - Vedlejší rozpočtové...'!F37 -> 0 | BT101: 1 | BV101: IMPORT | BW101: {60aa0245-a777-460b-bbea-af6df86799c0} | BX101: {eeb630c5-0146-4a34-982e-697e4b3ee429} | CM101: 2

Sheet SO 01 - Odstranění nánosu
AT2: {03c0b9f5-28d6-440b-a681-fe3a5851fea7}
AT3: 2
D4: KRYCÍ LIST SOUPISU PRACÍ | M4: v --- níže se nacházejí doplnkové a pomocné údaje k sestavám --- v | AT4: False
D6: Stavba:
E7: ='Rekapitulace stavby'!K6 -> Obnova obecního rybníka v k.ú. Žeretice
D8: Objekt:
E9: SO 01 - Odstranění nánosu
D11: KSO: | I11: CC-CZ:
D12: Místo: | I12: Datum: | J12: ='Rekapitulace stavby'!AN8 -> 13. 4. 2026
D14: Zadavatel: | I14: IČ: | J14: =IF('Rekapitulace stavby'!AN10="","",'Rekapitulace stavby'!AN10)
E15: =IF('Rekapitulace stavby'!E11="","",'Rekapitulace stavby'!E11) -> Obec Žeretice | I15: DIČ: | J15: =IF('Rekapitulace stavby'!AN11="","",'Rekapitulace stavby'!AN11)
D17: Uchazeč: | I17: IČ: | J17: ='Rekapitulace stavby'!AN13 -> Vyplň údaj
E18: ='Rekapitulace stavby'!E14 -> Vyplň údaj | I18: DIČ: | J18: ='Rekapitulace stavby'!AN14 -> Vyplň údaj
D20: Projektant: | I20: IČ: | J20: =IF('Rekapitulace stavby'!AN16="","",'Rekapitulace stavby'!AN16)
E21: =IF('Rekapitulace stavby'!E17="","",'Rekapitulace stavby'!E17) -> Projektový ateliér Dlabáček s.r.o. | I21: DIČ: | J21: =IF('Rekapitulace stavby'!AN17="","",'Rekapitulace stavby'!AN17)
D23: Zpracovatel: | I23: IČ: | J23: =IF('Rekapitulace stavby'!AN19="","",'Rekapitulace stavby'!AN19)
E24: =IF('Rekapitulace stavby'!E20="","",'Rekapitulace stavby'!E20) | I24: DIČ: | J24: =IF('Rekapitulace stavby'!AN20="","",'Rekapitulace stavby'!AN20)
D26: Poznámka:
D30: Cena bez DPH | J30: =ROUND(J118, 2) -> 0
F32: Základ daně | I32: Sazba daně | J32: Výše daně
D33: DPH | E33: základní | F33: =ROUND((SUM(BE118:BE154)), 2) -> 0 | I33: 0.21 | J33: =ROUND(((SUM(BE118:BE154))*I33), 2) -> 0
E34: snížená | F34: =ROUND((SUM(BF118:BF154)), 2) -> 0 | I34: 0.12 | J34: =ROUND(((SUM(BF118:BF154))*I34), 2) -> 0
E35: zákl. přenesená | F35: =ROUND((SUM(BG118:BG154)), 2) -> 0 | I35: 0.21 | J35: =0 -> 0
E36: sníž. přenesená | F36: =ROUND((SUM(BH118:BH154)), 2) -> 0 | I36: 0.12 | J36: =0 -> 0
E37: nulová | F37: =ROUND((SUM(BI118:BI154)), 2) -> 0 | I37: 0 | J37: =0 -> 0
D39: Cena s DPH | G39: v | H39: CZK | J39: =SUM(J30:J37) -> 0
D50: Projektant | G50: Zpracovatel
D61: Datum a podpis: | F61: Razítko | G61: Datum a podpis: | J61: Razítko
D65: Objednavatel | G65: Uchazeč
D76: Datum a podpis: | F76: Razítko | G76: Datum a podpis: | J76: Razítko
C82: REKAPITULACE ČLENĚNÍ SOUPISU PRACÍ
C84: Stavba:
E85: =E7 -> Obnova obecního rybníka v k.ú. Žeretice
C86: Objekt:
E87: =E9 -> SO 01 - Odstranění nánosu
C89: Místo: | F89: =F12 | I89: Datum: | J89: =IF(J12="","",J12) -> 13. 4. 2026
C91: Zadavatel: | F91: =E15 -> Obec Žeretice | I91: Projektant: | J91: =E21 -> Projektový ateliér Dlabáček s.r.o.
C92: Uchazeč: | F92: =IF(E18="","",E18) -> Vyplň údaj | I92: Zpracovatel: | J92: =E24
C94: Kód dílu - Popis | J94: Cena celkem [CZK]
C96: Náklady ze soupisu prací | J96: =J118 -> 0 | AU96: -1
D97: HSV - Práce a dodávky HSV | J97: =J119 -> 0
D98: 1 - Zemní práce | J98: =J120 -> 0
C105: SOUPIS PRACÍ
C107: Stavba:
E108: =E7 -> Obnova obecního rybníka v k.ú. Žeretice
C109: Objekt:
E110: =E9 -> SO 01 - Odstranění nánosu
C112: Místo: | F112: =F12 | I112: Datum: | J112: =IF(J12="","",J12) -> 13. 4. 2026
C114: Zadavatel: | F114: =E15 -> Obec Žeretice | I114: Projektant: | J114: =E21 -> Projektový ateliér Dlabáček s.r.o.
C115: Uchazeč: | F115: =IF(E18="","",E18) -> Vyplň údaj | I115: Zpracovatel: | J115: =E24
C117: PČ | D117: Typ | E117: Kód | F117: Popis | G117: MJ | H117: Množství | I117: J.cena [CZK] | J117: Cena celkem [CZK] | K117: Cenová soustava | N117: DPH | O117: J. Nh [h] | P117: Nh celkem [h] | Q117: J. hmotnost [t] | R117: Hmotnost celkem [t] | S117: J. suť [t] | T117: Suť Celkem [t]
C118: Náklady soupisu celkem | J118: =BK118 -> 0 | P118: =P119 -> 0 | R118: =R119 -> 0 | T118: =T119 -> 0 | AT118: D | AU118: -1 | BK118: =BK119 -> 0
D119: D | E119: HSV | F119: Práce a dodávky HSV | J119: =BK119 -> 0 | P119: =P120 -> 0 | R119: =R120 -> 0 | T119: =T120 -> 0 | AR119: 1 | AT119: D | AU119: 0 | AY119: ROZPOCET | BK119: =BK120 -> 0
D120: D | E120: 1 | F120: Zemní práce | J120: =BK120 -> 0 | P120: =SUM(P121:P154) -> 0 | R120: =SUM(R121:R154) -> 0 | T120: =SUM(T121:T154) -> 0 | AR120: 1 | AT120: D | AU120: 1 | AY120: ROZPOCET | BK120: =SUM(BK121:BK154) -> 0
C121: 1 | D121: K | E121: 122703602 | F121: Odstranění nánosů při únosnosti dna přes 40 do 60 kPa | G121: m3 | H121: 6408 | J121: =ROUND(I121*H121,2) -> 0 | N121: základní | P121: =O121*H121 -> 0 | Q121: 0 | R121: =Q121*H121 -> 0 | S121: 0 | T121: =S121*H121 -> 0 | AR121: 4 | AT121: K | AU121: 2 | AY121: ROZPOCET | BE121: =IF(N121="základní",J121,0) -> 0 | BF121: =IF(N121="snížená",J121,0) -> 0 | BG121: =IF(N121="zákl. přenesená",J121,0) -> 0 | BH121: =IF(N121="sníž. přenesená",J121,0) -> 0 | BI121: =IF(N121="nulová",J121,0) -> 0 | BJ121: 1 | BK121: =ROUND(I121*H121,2) -> 0 | BL121: 4 | BM121: -2708460
D122: PP | F122: Odstranění nánosů z vypuštěných vodních nádrží nebo rybníků s uložením do hromad na vzdálenost do 20 m ve výkopišti při únosnosti dna přes 40 kPa do 60 kPa | AT122: PP | AU122: 2
C123: 2 | D123: K | E123: 162253101 | F123: Vodorovné přemístění nánosu z nádrží přes 20 do 60 m při únosnosti dna přes 40 kPa | G123: m3 | H123: 6408 | J123: =ROUND(I123*H123,2) -> 0 | N123: základní | P123: =O123*H123 -> 0 | Q123: 0 | R123: =Q123*H123 -> 0 | S123: 0 | T123: =S123*H123 -> 0 | AR123: 4 | AT123: K | AU123: 2 | AY123: ROZPOCET | BE123: =IF(N123="základní",J123,0) -> 0 | BF123: =IF(N123="snížená",J123,0) -> 0 | BG123: =IF(N123="zákl. přenesená",J123,0) -> 0 | BH123: =IF(N123="sníž. přenesená",J123,0) -> 0 | BI123: =IF(N123="nulová",J123,0) -> 0 | BJ123: 1 | BK123: =ROUND(I123*H123,2) -> 0 | BL123: 4 | BM123: 546046786
D124: PP | F124: Vodorovné přemístění nánosu z vodních nádrží nebo rybníků s vyklopením a hrubým urovnáním skládky při únosnosti dna přes 40 kPa, na vzdálenost přes 20 do 60 m | AT124: PP | AU124: 2
D125: VV | F125: Uložení na deponii, rybník | AT125: VV | AU125: 2 | AV125: 1 | AW125: True | AX125: 0 | AY125: ROZPOCET
D126: VV | F126: 6408,000 | H126: 6408 | AT126: VV | AU126: 2 | AV126: 2 | AW126: True | AX126: 0 | AY126: ROZPOCET
D127: VV | F127: Součet | H127: 6408 | AT127: VV | AU127: 2 | AV127: 4 | AW127: True | AX127: 1 | AY127: ROZPOCET
C128: 3 | D128: K | E128: 162253901 | F128: Příplatek k vodorovnému přemístění nánosu při únosnosti dna přes 40 kPa ZKD 40 m přes 60 m | G128: m3 | H128: 6408 | J128: =ROUND(I128*H128,2) -> 0 | N128: základní | P128: =O128*H128 -> 0 | Q128: 0 | R128: =Q128*H128 -> 0 | S128: 0 | T128: =S128*H128 -> 0 | AR128: 4 | AT128: K | AU128: 2 | AY128: ROZPOCET | BE128: =IF(N128="základní",J128,0) -> 0 | BF128: =IF(N128="snížená",J128,0) -> 0 | BG128: =IF(N128="zákl. přenesená",J128,0) -> 0 | BH128: =IF(N128="sníž. přenesená",J128,0) -> 0 | BI128: =IF(N128="nulová",J128,0) -> 0 | BJ128: 1 | BK128: =ROUND(I128*H128,2) -> 0 | BL128: 4 | BM128: -579400062
D129: PP | F129: Vodorovné přemístění nánosu z vodních nádrží nebo rybníků s vyklopením a hrubým urovnáním skládky Příplatek k ceně -3101 za každých dalších i započatých 40 m přes 60 m | AT129: PP | AU129: 2
C130: 4 | D130: K | E130: 167151111 | F130: Nakládání výkopku z hornin třídy těžitelnosti I skupiny 1 až 3 přes 100 m3 | G130: m3 | H130: 6408 | J130: =ROUND(I130*H130,2) -> 0 | N130: základní | P130: =O130*H130 -> 0 | Q130: 0 | R130: =Q130*H130 -> 0 | S130: 0 | T130: =S130*H130 -> 0 | AR130: 4 | AT130: K | AU130: 2 | AY130: ROZPOCET | BE130: =IF(N130="základní",J130,0) -> 0 | BF130: =IF(N130="snížená",J130,0) -> 0 | BG130: =IF(N130="zákl. přenesená",J130,0) -> 0 | BH130: =IF(N130="sníž. přenesená",J130,0) -> 0 | BI130: =IF(N130="nulová",J130,0) -> 0 | BJ130: 1 | BK130: =ROUND(I130*H130,2) -> 0 | BL130: 4 | BM130: 671202839
D131: PP | F131: Nakládání, skládání a překládání neulehlého výkopku nebo sypaniny strojně nakládání, množství přes 100 m3, z hornin třídy těžitelnosti I, skupiny 1 až 3 | AT131: PP | AU131: 2
D132: VV | F132: Naložení vyschlého sedimentu | AT132: VV | AU132: 2 | AV132: 1 | AW132: True | AX132: 0 | AY132: ROZPOCET
D133: VV | F133: 6408,000 | H133: 6408 | AT133: VV | AU133: 2 | AV133: 2 | AW133: True | AX133: 0 | AY133: ROZPOCET
D134: VV | F134: Součet | H134: 6408 | AT134: VV | AU134: 2 | AV134: 4 | AW134: True | AX134: 1 | AY134: ROZPOCET
C135: 5 | D135: K | E135: 162351104 | F135: Vodorovné přemístění přes 500 do 1000 m výkopku/sypaniny z horniny třídy těžitelnosti I skupiny 1 až 3 | G135: m3 | H135: 6408 | J135: =ROUND(I135*H135,2) -> 0 | N135: základní | P135: =O135*H135 -> 0 | Q135: 0 | R135: =Q135*H135 -> 0 | S135: 0 | T135: =S135*H135 -> 0 | AR135: 4 | AT135: K | AU135: 2 | AY135: ROZPOCET | BE135: =IF(N135="základní",J135,0) -> 0 | BF135: =IF(N135="snížená",J135,0) -> 0 | BG135: =IF(N135="zákl. přenesená",J135,0) -> 0 | BH135: =IF(N135="sníž. přenesená",J135,0) -> 0 | BI135: =IF(N135="nulová",J135,0) -> 0 | BJ135: 1 | BK135: =ROUND(I135*H135,2) -> 0 | BL135: 4 | BM135: -766059162
D136: PP | F136: Vodorovné přemístění výkopku nebo sypaniny po suchu na obvyklém dopravním prostředku, bez naložení výkopku, avšak se složením bez rozhrnutí z horniny třídy těžitelnosti I skupiny 1 až 3 na vzdálenost přes 500 do 1 000 m | AT136: PP | AU136: 2
D137: VV | F137: Převoz sedimentu na okolní pole | AT137: VV | AU137: 2 | AV137: 1 | AW137: True | AX137: 0 | AY137: ROZPOCET
D138: VV | F138: 6408,000 | H138: 6408 | AT138: VV | AU138: 2 | AV138: 2 | AW138: True | AX138: 0 | AY138: ROZPOCET
D139: VV | F139: Součet | H139: 6408 | AT139: VV | AU139: 2 | AV139: 4 | AW139: True | AX139: 1 | AY139: ROZPOCET
C140: 6 | D140: K | E140: 181151331 | F140: Plošná úprava terénu přes 500 m2 zemina skupiny 1 až 4 nerovnosti přes 150 do 200 mm v rovinně a svahu do 1:5 | G140: m2 | H140: 9685.714 | J140: =ROUND(I140*H140,2) -> 0 | N140: základní | P140: =O140*H140 -> 0 | Q140: 0 | R140: =Q140*H140 -> 0 | S140: 0 | T140: =S140*H140 -> 0 | AR140: 4 | AT140: K | AU140: 2 | AY140: ROZPOCET | BE140: =IF(N140="základní",J140,0) -> 0 | BF140: =IF(N140="snížená",J140,0) -> 0 | BG140: =IF(N140="zákl. přenesená",J140,0) -> 0 | BH140: =IF(N140="sníž. přenesená",J140,0) -> 0 | BI140: =IF(N140="nulová",J140,0) -> 0 | BJ140: 1 | BK140: =ROUND(I140*H140,2) -> 0 | BL140: 4 | BM140: -593530475
D141: PP | F141: Plošná úprava terénu v zemině skupiny 1 až 4 s urovnáním povrchu bez doplnění ornice souvislé plochy přes 500 m2 při nerovnostech terénu přes 150 do 200 mm v rovině nebo na svahu do 1:5 | AT141: PP | AU141: 2
D142: VV | F142: Srovnání terénu, břehu po odtěžení | AT142: VV | AU142: 2 | AV142: 1 | AW142: True | AX142: 0 | AY142: ROZPOCET
D143: VV | F143: 6780/0,7 | H143: 9685.714 | AT143: VV | AU143: 2 | AV143: 2 | AW143: True | AX143: 0 | AY143: ROZPOCET
D144: VV | F144: Součet | H144: 9685.714 | AT144: VV | AU144: 2 | AV144: 4 | AW144: True | AX144: 1 | AY144: ROZPOCET
C145: 7 | D145: K | E145: 181351113.1 | F145: Rozprostření zeminy tl vrstvy do 100 mm pl přes 500 m2 v rovině nebo ve svahu do 1:5 strojně | G145: m2 | H145: 64080 | J145: =ROUND(I145*H145,2) -> 0 | N145: základní | P145: =O145*H145 -> 0 | Q145: 0 | R145: =Q145*H145 -> 0 | S145: 0 | T145: =S145*H145 -> 0 | AR145: 4 | AT145: K | AU145: 2 | AY145: ROZPOCET | BE145: =IF(N145="základní",J145,0) -> 0 | BF145: =IF(N145="snížená",J145,0) -> 0 | BG145: =IF(N145="zákl. přenesená",J145,0) -> 0 | BH145: =IF(N145="sníž. přenesená",J145,0) -> 0 | BI145: =IF(N145="nulová",J145,0) -> 0 | BJ145: 1 | BK145: =ROUND(I145*H145,2) -> 0 | BL145: 4 | BM145: -923239793
D146: PP | F146: Rozprostření a urovnání zeminy v rovině nebo ve svahu sklonu do 1:5 strojně při souvislé ploše přes 500 m2, tl. vrstvy do 100 mm | AT146: PP | AU146: 2
D147: VV | F147: Rozprostření sedimentu na poli | AT147: VV | AU147: 2 | AV147: 1 | AW147: True | AX147: 0 | AY147: ROZPOCET
D148: VV | F148: 6408/0,1 | H148: 64080 | AT148: VV | AU148: 2 | AV148: 2 | AW148: True | AX148: 0 | AY148: ROZPOCET
D149: VV | F149: Součet | H149: 64080 | AT149: VV | AU149: 2 | AV149: 4 | AW149: True | AX149: 1 | AY149: ROZPOCET
C150: 8 | D150: K | E150: 183403112.1 | F150: Obdělání půdy oráním a vápněním na hl přes 0,1 do 0,2 m v rovině a svahu do 1:5 | G150: m2 | H150: 64080 | J150: =ROUND(I150*H150,2) -> 0 | N150: základní | P150: =O150*H150 -> 0 | Q150: 0 | R150: =Q150*H150 -> 0 | S150: 0 | T150: =S150*H150 -> 0 | AR150: 4 | AT150: K | AU150: 2 | AY150: ROZPOCET | BE150: =IF(N150="základní",J150,0) -> 0 | BF150: =IF(N150="snížená",J150,0) -> 0 | BG150: =IF(N150="zákl. přenesená",J150,0) -> 0 | BH150: =IF(N150="sníž. přenesená",J150,0) -> 0 | BI150: =IF(N150="nulová",J150,0) -> 0 | BJ150: 1 | BK150: =ROUND(I150*H150,2) -> 0 | BL150: 4 | BM150: 599703070
D151: PP | F151: Obdělání půdy oráním a vápněním na hl přes 0,1 do 0,2 m v rovině a svahu do 1:5 | AT151: PP | AU151: 2
D152: VV | F152: Zaorání | AT152: VV | AU152: 2 | AV152: 1 | AW152: True | AX152: 0 | AY152: ROZPOCET
D153: VV | F153: 64080,000 | H153: 64080 | AT153: VV | AU153: 2 | AV153: 2 | AW153: True | AX153: 0 | AY153: ROZPOCET
D154: VV | F154: Součet | H154: 64080 | AT154: VV | AU154: 2 | AV154: 4 | AW154: True | AX154: 1 | AY154: ROZPOCET

Sheet SO 02 - Stabilizace břehu...
AT2: {762e8f79-b9e4-4ca3-96a8-9771e2bfc090}
AT3: 2
D4: KRYCÍ LIST SOUPISU PRACÍ | M4: v --- níže se nacházejí doplnkové a pomocné údaje k sestavám --- v | AT4: False
D6: Stavba:
E7: ='Rekapitulace stavby'!K6 -> Obnova obecního rybníka v k.ú. Žeretice
D8: Objekt:
E9: SO 02 - Stabilizace břehu rybníka
D11: KSO: | I11: CC-CZ:
D12: Místo: | I12: Datum: | J12: ='Rekapitulace stavby'!AN8 -> 13. 4. 2026
D14: Zadavatel: | I14: IČ: | J14: =IF('Rekapitulace stavby'!AN10="","",'Rekapitulace stavby'!AN10)
E15: =IF('Rekapitulace stavby'!E11="","",'Rekapitulace stavby'!E11) -> Obec Žeretice | I15: DIČ: | J15: =IF('Rekapitulace stavby'!AN11="","",'Rekapitulace stavby'!AN11)
D17: Uchazeč: | I17: IČ: | J17: ='Rekapitulace stavby'!AN13 -> Vyplň údaj
E18: ='Rekapitulace stavby'!E14 -> Vyplň údaj | I18: DIČ: | J18: ='Rekapitulace stavby'!AN14 -> Vyplň údaj
D20: Projektant: | I20: IČ: | J20: =IF('Rekapitulace stavby'!AN16="","",'Rekapitulace stavby'!AN16)
E21: =IF('Rekapitulace stavby'!E17="","",'Rekapitulace stavby'!E17) -> Projektový ateliér Dlabáček s.r.o. | I21: DIČ: | J21: =IF('Rekapitulace stavby'!AN17="","",'Rekapitulace stavby'!AN17)
D23: Zpracovatel: | I23: IČ: | J23: =IF('Rekapitulace stavby'!AN19="","",'Rekapitulace stavby'!AN19)
E24: =IF('Rekapitulace stavby'!E20="","",'Rekapitulace stavby'!E20) | I24: DIČ: | J24: =IF('Rekapitulace stavby'!AN20="","",'Rekapitulace stavby'!AN20)
D26: Poznámka:
D30: Cena bez DPH | J30: =ROUND(J120, 2) -> 0
F32: Základ daně | I32: Sazba daně | J32: Výše daně
D33: DPH | E33: základní | F33: =ROUND((SUM(BE120:BE168)), 2) -> 0 | I33: 0.21 | J33: =ROUND(((SUM(BE120:BE168))*I33), 2) -> 0
E34: snížená | F34: =ROUND((SUM(BF120:BF168)), 2) -> 0 | I34: 0.12 | J34: =ROUND(((SUM(BF120:BF168))*I34), 2) -> 0
E35: zákl. přenesená | F35: =ROUND((SUM(BG120:BG168)), 2) -> 0 | I35: 0.21 | J35: =0 -> 0
E36: sníž. přenesená | F36: =ROUND((SUM(BH120:BH168)), 2) -> 0 | I36: 0.12 | J36: =0 -> 0
E37: nulová | F37: =ROUND((SUM(BI120:BI168)), 2) -> 0 | I37: 0 | J37: =0 -> 0
D39: Cena s DPH | G39: v | H39: CZK | J39: =SUM(J30:J37) -> 0
D50: Projektant | G50: Zpracovatel
D61: Datum a podpis: | F61: Razítko | G61: Datum a podpis: | J61: Razítko
D65: Objednavatel | G65: Uchazeč
D76: Datum a podpis: | F76: Razítko | G76: Datum a podpis: | J76: Razítko
C82: REKAPITULACE ČLENĚNÍ SOUPISU PRACÍ
C84: Stavba:
E85: =E7 -> Obnova obecního rybníka v k.ú. Žeretice
C86: Objekt:
E87: =E9 -> SO 02 - Stabilizace břehu rybníka
C89: Místo: | F89: =F12 | I89: Datum: | J89: =IF(J12="","",J12) -> 13. 4. 2026
C91: Zadavatel: | F91: =E15 -> Obec Žeretice | I91: Projektant: | J91: =E21 -> Projektový ateliér Dlabáček s.r.o.
C92: Uchazeč: | F92: =IF(E18="","",E18) -> Vyplň údaj | I92: Zpracovatel: | J92: =E24
C94: Kód dílu - Popis | J94: Cena celkem [CZK]
C96: Náklady ze soupisu prací | J96: =J120 -> 0 | AU96: -1
D97: HSV - Práce a dodávky HSV | J97: =J121 -> 0
D98: 1 - Zemní práce | J98: =J122 -> 0
D99: 4 - Vodorovné konstrukce | J99: =J155 -> 0
D100: 998 - Přesun hmot | J100: =J166 -> 0
C107: SOUPIS PRACÍ
C109: Stavba:
E110: =E7 -> Obnova obecního rybníka v k.ú. Žeretice
C111: Objekt:
E112: =E9 -> SO 02 - Stabilizace břehu rybníka
C114: Místo: | F114: =F12 | I114: Datum: | J114: =IF(J12="","",J12) -> 13. 4. 2026
C116: Zadavatel: | F116: =E15 -> Obec Žeretice | I116: Projektant: | J116: =E21 -> Projektový ateliér Dlabáček s.r.o.
C117: Uchazeč: | F117: =IF(E18="","",E18) -> Vyplň údaj | I117: Zpracovatel: | J117: =E24
C119: PČ | D119: Typ | E119: Kód | F119: Popis | G119: MJ | H119: Množství | I119: J.cena [CZK] | J119: Cena celkem [CZK] | K119: Cenová soustava | N119: DPH | O119: J. Nh [h] | P119: Nh celkem [h] | Q119: J. hmotnost [t] | R119: Hmotnost celkem [t] | S119: J. suť [t] | T119: Suť Celkem [t]
C120: Náklady soupisu celkem | J120: =BK120 -> 0 | P120: =P121 -> 0 | R120: =R121 -> 1171.6099 | T120: =T121 -> 0 | AT120: D | AU120: -1 | BK120: =BK121 -> 0
D121: D | E121: HSV | F121: Práce a dodávky HSV | J121: =BK121 -> 0 | P121: =P122+P155+P166 -> 0 | R121: =R122+R155+R166 -> 1171.6099 | T121: =T122+T155+T166 -> 0 | AR121: 1 | AT121: D | AU121: 0 | AY121: ROZPOCET | BK121: =BK122+BK155+BK166 -> 0
D122: D | E122: 1 | F122: Zemní práce | J122: =BK122 -> 0 | P122: =SUM(P123:P154) -> 0 | R122: =SUM(R123:R154) -> 0 | T122: =SUM(T123:T154) -> 0 | AR122: 1 | AT122: D | AU122: 1 | AY122: ROZPOCET | BK122: =SUM(BK123:BK154) -> 0
C123: 1 | D123: K | E123: 122251104 | F123: Odkopávky a prokopávky nezapažené v hornině třídy těžitelnosti I skupiny 3 objem do 500 m3 strojně | G123: m3 | H123: 549 | J123: =ROUND(I123*H123,2) -> 0 | N123: základní | P123: =O123*H123 -> 0 | Q123: 0 | R123: =Q123*H123 -> 0 | S123: 0 | T123: =S123*H123 -> 0 | AR123: 4 | AT123: K | AU123: 2 | AY123: ROZPOCET | BE123: =IF(N123="základní",J123,0) -> 0 | BF123: =IF(N123="snížená",J123,0) -> 0 | BG123: =IF(N123="zákl. přenesená",J123,0) -> 0 | BH123: =IF(N123="sníž. přenesená",J123,0) -> 0 | BI123: =IF(N123="nulová",J123,0) -> 0 | BJ123: 1 | BK123: =ROUND(I123*H123,2) -> 0 | BL123: 4 | BM123: -1375975920
D124: PP | F124: Odkopávky a prokopávky nezapažené strojně v hornině třídy těžitelnosti I skupiny 3 přes 100 do 500 m3 | AT124: PP | AU124: 2
D125: VV | F125: Příprava terénu před záhozem | AT125: VV | AU125: 2 | AV125: 1 | AW125: True | AX125: 0 | AY125: ROZPOCET
D126: VV | F126: Zához, viz výkaz PD | AT126: VV | AU126: 2 | AV126: 1 | AW126: True | AX126: 0 | AY126: ROZPOCET
D127: VV | F127: (549/0,3)*0,3 | H127: 549 | AT127: VV | AU127: 2 | AV127: 2 | AW127: True | AX127: 0 | AY127: ROZPOCET
D128: VV | F128: Součet | H128: 549 | AT128: VV | AU128: 2 | AV128: 4 | AW128: True | AX128: 1 | AY128: ROZPOCET
C129: 2 | D129: K | E129: 182151111 | F129: Svahování v zářezech v hornině třídy těžitelnosti I skupiny 1 až 3 strojně | G129: m2 | H129: 1830 | J129: =ROUND(I129*H129,2) -> 0 | N129: základní | P129: =O129*H129 -> 0 | Q129: 0 | R129: =Q129*H129 -> 0 | S129: 0 | T129: =S129*H129 -> 0 | AR129: 4 | AT129: K | AU129: 2 | AY129: ROZPOCET | BE129: =IF(N129="základní",J129,0) -> 0 | BF129: =IF(N129="snížená",J129,0) -> 0 | BG129: =IF(N129="zákl. přenesená",J129,0) -> 0 | BH129: =IF(N129="sníž. přenesená",J129,0) -> 0 | BI129: =IF(N129="nulová",J129,0) -> 0 | BJ129: 1 | BK129: =ROUND(I129*H129,2) -> 0 | BL129: 4 | BM129: -2100544772
D130: PP | F130: Svahování trvalých svahů do projektovaných profilů strojně s potřebným přemístěním výkopku při svahování v zářezech v hornině třídy těžitelnosti I, skupiny 1 až 3 | AT130: PP | AU130: 2
D131: VV | F131: Příprava terénu před záhozem | AT131: VV | AU131: 2 | AV131: 1 | AW131: True | AX131: 0 | AY131: ROZPOCET
D132: VV | F132: Zához, viz výkaz PD | AT132: VV | AU132: 2 | AV132: 1 | AW132: True | AX132: 0 | AY132: ROZPOCET
D133: VV | F133: 549/0,3 | H133: 1830 | AT133: VV | AU133: 2 | AV133: 2 | AW133: True | AX133: 0 | AY133: ROZPOCET
D134: VV | F134: Součet | H134: 1830 | AT134: VV | AU134: 2 | AV134: 4 | AW134: True | AX134: 1 | AY134: ROZPOCET
C135: 3 | D135: K | E135: 167151111 | F135: Nakládání výkopku z hornin třídy těžitelnosti I skupiny 1 až 3 přes 100 m3 | G135: m3 | H135: 549 | J135: =ROUND(I135*H135,2) -> 0 | N135: základní | P135: =O135*H135 -> 0 | Q135: 0 | R135: =Q135*H135 -> 0 | S135: 0 | T135: =S135*H135 -> 0 | AR135: 4 | AT135: K | AU135: 2 | AY135: ROZPOCET | BE135: =IF(N135="základní",J135,0) -> 0 | BF135: =IF(N135="snížená",J135,0) -> 0 | BG135: =IF(N135="zákl. přenesená",J135,0) -> 0 | BH135: =IF(N135="sníž. přenesená",J135,0) -> 0 | BI135: =IF(N135="nulová",J135,0) -> 0 | BJ135: 1 | BK135: =ROUND(I135*H135,2) -> 0 | BL135: 4 | BM135: 1472071574
D136: PP | F136: Nakládání, skládání a překládání neulehlého výkopku nebo sypaniny strojně nakládání, množství přes 100 m3, z hornin třídy těžitelnosti I, skupiny 1 až 3 | AT136: PP | AU136: 2
D137: VV | F137: Převoz výkopku na okolní pole | AT137: VV | AU137: 2 | AV137: 1 | AW137: True | AX137: 0 | AY137: ROZPOCET
D138: VV | F138: 549 | H138: 549 | AT138: VV | AU138: 2 | AV138: 2 | AW138: True | AX138: 0 | AY138: ROZPOCET
D139: VV | F139: Součet | H139: 549 | AT139: VV | AU139: 2 | AV139: 4 | AW139: True | AX139: 1 | AY139: ROZPOCET
C140: 4 | D140: K | E140: 162351104 | F140: Vodorovné přemístění přes 500 do 1000 m výkopku/sypaniny z horniny třídy těžitelnosti I skupiny 1 až 3 | G140: m3 | H140: 549 | J140: =ROUND(I140*H140,2) -> 0 | N140: základní | P140: =O140*H140 -> 0 | Q140: 0 | R140: =Q140*H140 -> 0 | S140: 0 | T140: =S140*H140 -> 0 | AR140: 4 | AT140: K | AU140: 2 | AY140: ROZPOCET | BE140: =IF(N140="základní",J140,0) -> 0 | BF140: =IF(N140="snížená",J140,0) -> 0 | BG140: =IF(N140="zákl. přenesená",J140,0) -> 0 | BH140: =IF(N140="sníž. přenesená",J140,0) -> 0 | BI140: =IF(N140="nulová",J140,0) -> 0 | BJ140: 1 | BK140: =ROUND(I140*H140,2) -> 0 | BL140: 4 | BM140: 656947086
D141: PP | F141: Vodorovné přemístění výkopku nebo sypaniny po suchu na obvyklém dopravním prostředku, bez naložení výkopku, avšak se složením bez rozhrnutí z horniny třídy těžitelnosti I skupiny 1 až 3 na vzdálenost přes 500 do 1 000 m | AT141: PP | AU141: 2
D142: VV | F142: Převoz výkopku na okolní pole | AT142: VV | AU142: 2 | AV142: 1 | AW142: True | AX142: 0 | AY142: ROZPOCET
D143: VV | F143: 549 | H143: 549 | AT143: VV | AU143: 2 | AV143: 2 | AW143: True | AX143: 0 | AY143: ROZPOCET
D144: VV | F144: Součet | H144: 549 | AT144: VV | AU144: 2 | AV144: 4 | AW144: True | AX144: 1 | AY144: ROZPOCET
C145: 5 | D145: K | E145: 181351113.1 | F145: Rozprostření zeminy tl vrstvy do 100 mm pl přes 500 m2 v rovině nebo ve svahu do 1:5 strojně | G145: m2 | H145: 5490 | J145: =ROUND(I145*H145,2) -> 0 | N145: základní | P145: =O145*H145 -> 0 | Q145: 0 | R145: =Q145*H145 -> 0 | S145: 0 | T145: =S145*H145 -> 0 | AR145: 4 | AT145: K | AU145: 2 | AY145: ROZPOCET | BE145: =IF(N145="základní",J145,0) -> 0 | BF145: =IF(N145="snížená",J145,0) -> 0 | BG145: =IF(N145="zákl. přenesená",J145,0) -> 0 | BH145: =IF(N145="sníž. přenesená",J145,0) -> 0 | BI145: =IF(N145="nulová",J145,0) -> 0 | BJ145: 1 | BK145: =ROUND(I145*H145,2) -> 0 | BL145: 4 | BM145: 1998993290
D146: PP | F146: Rozprostření a urovnání zeminy v rovině nebo ve svahu sklonu do 1:5 strojně při souvislé ploše přes 500 m2, tl. vrstvy do 100 mm | AT146: PP | AU146: 2
D147: VV | F147: Rozprostření výkopku na poli | AT147: VV | AU147: 2 | AV147: 1 | AW147: True | AX147: 0 | AY147: ROZPOCET
D148: VV | F148: 549/0,1 | H148: 5490 | AT148: VV | AU148: 2 | AV148: 2 | AW148: True | AX148: 0 | AY148: ROZPOCET
D149: VV | F149: Součet | H149: 5490 | AT149: VV | AU149: 2 | AV149: 4 | AW149: True | AX149: 1 | AY149: ROZPOCET
C150: 6 | D150: K | E150: 183403112.1 | F150: Obdělání půdy oráním a vápněním na hl přes 0,1 do 0,2 m v rovině a svahu do 1:5 | G150: m2 | H150: 5490 | J150: =ROUND(I150*H150,2) -> 0 | N150: základní | P150: =O150*H150 -> 0 | Q150: 0 | R150: =Q150*H150 -> 0 | S150: 0 | T150: =S150*H150 -> 0 | AR150: 4 | AT150: K | AU150: 2 | AY150: ROZPOCET | BE150: =IF(N150="základní",J150,0) -> 0 | BF150: =IF(N150="snížená",J150,0) -> 0 | BG150: =IF(N150="zákl. přenesená",J150,0) -> 0 | BH150: =IF(N150="sníž. přenesená",J150,0) -> 0 | BI150: =IF(N150="nulová",J150,0) -> 0 | BJ150: 1 | BK150: =ROUND(I150*H150,2) -> 0 | BL150: 4 | BM150: 142717031
D151: PP | F151: Obdělání půdy oráním a vápněním na hl přes 0,1 do 0,2 m v rovině a svahu do 1:5 | AT151: PP | AU151: 2
D152: VV | F152: Rozprostření výkopku na poli | AT152: VV | AU152: 2 | AV152: 1 | AW152: True | AX152: 0 | AY152: ROZPOCET
D153: VV | F153: 549/0,1 | H153: 5490 | AT153: VV | AU153: 2 | AV153: 2 | AW153: True | AX153: 0 | AY153: ROZPOCET
D154: VV | F154: Součet | H154: 5490 | AT154: VV | AU154: 2 | AV154: 4 | AW154: True | AX154: 1 | AY154: ROZPOCET
D155: D | E155: 4 | F155: Vodorovné konstrukce | J155: =BK155 -> 0 | P155: =SUM(P156:P165) -> 0 | R155: =SUM(R156:R165) -> 1171.6099 | T155: =SUM(T156:T165) -> 0 | AR155: 1 | AT155: D | AU155: 1 | AY155: ROZPOCET | BK155: =SUM(BK156:BK165) -> 0
C156: 7 | D156: K | E156: 462511270 | F156: Zához z lomového kamene bez proštěrkování z terénu hmotnost do 200 kg | G156: m3 | H156: 549 | J156: =ROUND(I156*H156,2) -> 0 | N156: základní | P156: =O156*H156 -> 0 | Q156: 2.13408 | R156: =Q156*H156 -> 1171.6099 | S156: 0 | T156: =S156*H156 -> 0 | AR156: 4 | AT156: K | AU156: 2 | AY156: ROZPOCET | BE156: =IF(N156="základní",J156,0) -> 0 | BF156: =IF(N156="snížená",J156,0) -> 0 | BG156: =IF(N156="zákl. přenesená",J156,0) -> 0 | BH156: =IF(N156="sníž. přenesená",J156,0) -> 0 | BI156: =IF(N156="nulová",J156,0) -> 0 | BJ156: 1 | BK156: =ROUND(I156*H156,2) -> 0 | BL156: 4 | BM156: -1172820988
D157: PP | F157: Zához z lomového kamene neupraveného záhozového bez proštěrkování z terénu, hmotnosti jednotlivých kamenů do 200 kg | AT157: PP | AU157: 2
D158: VV | F158: Zához, viz výkaz PD | AT158: VV | AU158: 2 | AV158: 1 | AW158: True | AX158: 0 | AY158: ROZPOCET
D159: VV | F159: 549 | H159: 549 | AT159: VV | AU159: 2 | AV159: 2 | AW159: True | AX159: 0 | AY159: ROZPOCET
D160: VV | F160: Součet | H160: 549 | AT160: VV | AU160: 2 | AV160: 4 | AW160: True | AX160: 1 | AY160: ROZPOCET
C161: 8 | D161: K | E161: 462519002 | F161: Příplatek za urovnání ploch záhozu z lomového kamene hmotnost do 200 kg | G161: m2 | H161: 1830 | J161: =ROUND(I161*H161,2) -> 0 | N161: základní | P161: =O161*H161 -> 0 | Q161: 0 | R161: =Q161*H161 -> 0 | S161: 0 | T161: =S161*H161 -> 0 | AR161: 4 | AT161: K | AU161: 2 | AY161: ROZPOCET | BE161: =IF(N161="základní",J161,0) -> 0 | BF161: =IF(N161="snížená",J161,0) -> 0 | BG161: =IF(N161="zákl. přenesená",J161,0) -> 0 | BH161: =IF(N161="sníž. přenesená",J161,0) -> 0 | BI161: =IF(N161="nulová",J161,0) -> 0 | BJ161: 1 | BK161: =ROUND(I161*H161,2) -> 0 | BL161: 4 | BM161: -978245986
D162: PP | F162: Zához z lomového kamene neupraveného záhozového Příplatek k cenám za urovnání viditelných ploch záhozu z kamene, hmotnosti jednotlivých kamenů do 200 kg | AT162: PP | AU162: 2
D163: VV | F163: Zához, viz výkaz PD | AT163: VV | AU163: 2 | AV163: 1 | AW163: True | AX163: 0 | AY163: ROZPOCET
D164: VV | F164: 549/0,3 | H164: 1830 | AT164: VV | AU164: 2 | AV164: 2 | AW164: True | AX164: 0 | AY164: ROZPOCET
D165: VV | F165: Součet | H165: 1830 | AT165: VV | AU165: 2 | AV165: 4 | AW165: True | AX165: 1 | AY165: ROZPOCET
D166: D | E166: 998 | F166: Přesun hmot | J166: =BK166 -> 0 | P166: =SUM(P167:P168) -> 0 | R166: =SUM(R167:R168) -> 0 | T166: =SUM(T167:T168) -> 0 | AR166: 1 | AT166: D | AU166: 1 | AY166: ROZPOCET | BK166: =SUM(BK167:BK168) -> 0
...

Sheet SO 03 - Nápustné zařízení
AT2: {246ef0a1-edfb-4657-b088-eb95eecc318f}
AT3: 2
D4: KRYCÍ LIST SOUPISU PRACÍ | M4: v --- níže se nacházejí doplnkové a pomocné údaje k sestavám --- v | AT4: False
D6: Stavba:
E7: ='Rekapitulace stavby'!K6 -> Obnova obecního rybníka v k.ú. Žeretice
D8: Objekt:
E9: SO 03 - Nápustné zařízení
D11: KSO: | I11: CC-CZ:
D12: Místo: | I12: Datum: | J12: ='Rekapitulace stavby'!AN8 -> 13. 4. 2026
D14: Zadavatel: | I14: IČ: | J14: =IF('Rekapitulace stavby'!AN10="","",'Rekapitulace stavby'!AN10)
E15: =IF('Rekapitulace stavby'!E11="","",'Rekapitulace stavby'!E11) -> Obec Žeretice | I15: DIČ: | J15: =IF('Rekapitulace stavby'!AN11="","",'Rekapitulace stavby'!AN11)
D17: Uchazeč: | I17: IČ: | J17: ='Rekapitulace stavby'!AN13 -> Vyplň údaj
E18: ='Rekapitulace stavby'!E14 -> Vyplň údaj | I18: DIČ: | J18: ='Rekapitulace stavby'!AN14 -> Vyplň údaj
D20: Projektant: | I20: IČ: | J20: =IF('Rekapitulace stavby'!AN16="","",'Rekapitulace stavby'!AN16)
E21: =IF('Rekapitulace stavby'!E17="","",'Rekapitulace stavby'!E17) -> Projektový ateliér Dlabáček s.r.o. | I21: DIČ: | J21: =IF('Rekapitulace stavby'!AN17="","",'Rekapitulace stavby'!AN17)
D23: Zpracovatel: | I23: IČ: | J23: =IF('Rekapitulace stavby'!AN19="","",'Rekapitulace stavby'!AN19)
E24: =IF('Rekapitulace stavby'!E20="","",'Rekapitulace stavby'!E20) | I24: DIČ: | J24: =IF('Rekapitulace stavby'!AN20="","",'Rekapitulace stavby'!AN20)
D26: Poznámka:
D30: Cena bez DPH | J30: =ROUND(J126, 2) -> 0
F32: Základ daně | I32: Sazba daně | J32: Výše daně
D33: DPH | E33: základní | F33: =ROUND((SUM(BE126:BE251)), 2) -> 0 | I33: 0.21 | J33: =ROUND(((SUM(BE126:BE251))*I33), 2) -> 0
E34: snížená | F34: =ROUND((SUM(BF126:BF251)), 2) -> 0 | I34: 0.12 | J34: =ROUND(((SUM(BF126:BF251))*I34), 2) -> 0
E35: zákl. přenesená | F35: =ROUND((SUM(BG126:BG251)), 2) -> 0 | I35: 0.21 | J35: =0 -> 0
E36: sníž. přenesená | F36: =ROUND((SUM(BH126:BH251)), 2) -> 0 | I36: 0.12 | J36: =0 -> 0
E37: nulová | F37: =ROUND((SUM(BI126:BI251)), 2) -> 0 | I37: 0 | J37: =0 -> 0
D39: Cena s DPH | G39: v | H39: CZK | J39: =SUM(J30:J37) -> 0
D50: Projektant | G50: Zpracovatel
D61: Datum a podpis: | F61: Razítko | G61: Datum a podpis: | J61: Razítko
D65: Objednavatel | G65: Uchazeč
D76: Datum a podpis: | F76: Razítko | G76: Datum a podpis: | J76: Razítko
C82: REKAPITULACE ČLENĚNÍ SOUPISU PRACÍ
C84: Stavba:
E85: =E7 -> Obnova obecního rybníka v k.ú. Žeretice
C86: Objekt:
E87: =E9 -> SO 03 - Nápustné zařízení
C89: Místo: | F89: =F12 | I89: Datum: | J89: =IF(J12="","",J12) -> 13. 4. 2026
C91: Zadavatel: | F91: =E15 -> Obec Žeretice | I91: Projektant: | J91: =E21 -> Projektový ateliér Dlabáček s.r.o.
C92: Uchazeč: | F92: =IF(E18="","",E18) -> Vyplň údaj | I92: Zpracovatel: | J92: =E24
C94: Kód dílu - Popis | J94: Cena celkem [CZK]
C96: Náklady ze soupisu prací | J96: =J126 -> 0 | AU96: -1
D97: HSV - Práce a dodávky HSV | J97: =J127 -> 0
D98: 1 - Zemní práce | J98: =J128 -> 0
D99: 3 - Svislé a kompletní konstrukce | J99: =J168 -> 0
D100: 4 - Vodorovné konstrukce | J100: =J197 -> 0
D101: 9 - Ostatní konstrukce a práce, bourání | J101: =J220 -> 0
D102: 96 - Bourání konstrukcí | J102: =J226 -> 0
D103: 997 - Doprava suti a vybouraných hmot | J103: =J232 -> 0
D104: 998 - Přesun hmot | J104: =J243 -> 0
D105: PSV - Práce a dodávky PSV | J105: =J246 -> 0
D106: 767 - Konstrukce zámečnické | J106: =J247 -> 0
C113: SOUPIS PRACÍ
C115: Stavba:
E116: =E7 -> Obnova obecního rybníka v k.ú. Žeretice
C117: Objekt:
E118: =E9 -> SO 03 - Nápustné zařízení
C120: Místo: | F120: =F12 | I120: Datum: | J120: =IF(J12="","",J12) -> 13. 4. 2026
C122: Zadavatel: | F122: =E15 -> Obec Žeretice | I122: Projektant: | J122: =E21 -> Projektový ateliér Dlabáček s.r.o.
C123: Uchazeč: | F123: =IF(E18="","",E18) -> Vyplň údaj | I123: Zpracovatel: | J123: =E24
C125: PČ | D125: Typ | E125: Kód | F125: Popis | G125: MJ | H125: Množství | I125: J.cena [CZK] | J125: Cena celkem [CZK] | K125: Cenová soustava | N125: DPH | O125: J. Nh [h] | P125: Nh celkem [h] | Q125: J. hmotnost [t] | R125: Hmotnost celkem [t] | S125: J. suť [t] | T125: Suť Celkem [t]
C126: Náklady soupisu celkem | J126: =BK126 -> 0 | P126: =P127+P246 -> 0 | R126: =R127+R246 -> 44.218176 | T126: =T127+T246 -> 8.835 | AT126: D | AU126: -1 | BK126: =BK127+BK246 -> 0
D127: D | E127: HSV | F127: Práce a dodávky HSV | J127: =BK127 -> 0 | P127: =P128+P168+P197+P220+P232+P243 -> 0 | R127: =R128+R168+R197+R220+R232+R243 -> 44.218176 | T127: =T128+T168+T197+T220+T232+T243 -> 8.835 | AR127: 1 | AT127: D | AU127: 0 | AY127: ROZPOCET | BK127: =BK128+BK168+BK197+BK220+BK232+BK243 -> 0
D128: D | E128: 1 | F128: Zemní práce | J128: =BK128 -> 0 | P128: =SUM(P129:P167) -> 0 | R128: =SUM(R129:R167) -> 0 | T128: =SUM(T129:T167) -> 0 | AR128: 1 | AT128: D | AU128: 1 | AY128: ROZPOCET | BK128: =SUM(BK129:BK167) -> 0
C129: 1 | D129: K | E129: 111211101 | F129: Odstranění křovin a stromů průměru kmene do 100 mm i s kořeny sklonu terénu do 1:5 ručně | G129: m2 | H129: 70 | J129: =ROUND(I129*H129,2) -> 0 | N129: základní | P129: =O129*H129 -> 0 | Q129: 0 | R129: =Q129*H129 -> 0 | S129: 0 | T129: =S129*H129 -> 0 | AR129: 4 | AT129: K | AU129: 2 | AY129: ROZPOCET | BE129: =IF(N129="základní",J129,0) -> 0 | BF129: =IF(N129="snížená",J129,0) -> 0 | BG129: =IF(N129="zákl. přenesená",J129,0) -> 0 | BH129: =IF(N129="sníž. přenesená",J129,0) -> 0 | BI129: =IF(N129="nulová",J129,0) -> 0 | BJ129: 1 | BK129: =ROUND(I129*H129,2) -> 0 | BL129: 4 | BM129: 1973553040
D130: PP | F130: Odstranění křovin a stromů s odstraněním kořenů ručně průměru kmene do 100 mm jakékoliv plochy v rovině nebo ve svahu o sklonu do 1:5 | AT130: PP | AU130: 2
C131: 2 | D131: K | E131: 112101102 | F131: Odstranění stromů listnatých průměru kmene přes 300 do 500 mm | G131: kus | H131: 33 | J131: =ROUND(I131*H131,2) -> 0 | N131: základní | P131: =O131*H131 -> 0 | Q131: 0 | R131: =Q131*H131 -> 0 | S131: 0 | T131: =S131*H131 -> 0 | AR131: 4 | AT131: K | AU131: 2 | AY131: ROZPOCET | BE131: =IF(N131="základní",J131,0) -> 0 | BF131: =IF(N131="snížená",J131,0) -> 0 | BG131: =IF(N131="zákl. přenesená",J131,0) -> 0 | BH131: =IF(N131="sníž. přenesená",J131,0) -> 0 | BI131: =IF(N131="nulová",J131,0) -> 0 | BJ131: 1 | BK131: =ROUND(I131*H131,2) -> 0 | BL131: 4 | BM131: 591083515
D132: PP | F132: Odstranění stromů s odřezáním kmene a s odvětvením listnatých, průměru kmene přes 300 do 500 mm | AT132: PP | AU132: 2
C133: 3 | D133: K | E133: 112155121 | F133: Štěpkování stromků a větví v zapojeném porostu průměru kmene přes 300 do 500 mm s naložením | G133: kus | H133: 33 | J133: =ROUND(I133*H133,2) -> 0 | N133: základní | P133: =O133*H133 -> 0 | Q133: 0 | R133: =Q133*H133 -> 0 | S133: 0 | T133: =S133*H133 -> 0 | AR133: 4 | AT133: K | AU133: 2 | AY133: ROZPOCET | BE133: =IF(N133="základní",J133,0) -> 0 | BF133: =IF(N133="snížená",J133,0) -> 0 | BG133: =IF(N133="zákl. přenesená",J133,0) -> 0 | BH133: =IF(N133="sníž. přenesená",J133,0) -> 0 | BI133: =IF(N133="nulová",J133,0) -> 0 | BJ133: 1 | BK133: =ROUND(I133*H133,2) -> 0 | BL133: 4 | BM133: -1488782224
D134: PP | F134: Štěpkování s naložením na dopravní prostředek a odvozem do 20 km stromků a větví v zapojeném porostu, průměru kmene přes 300 do 500 mm | AT134: PP | AU134: 2
C135: 4 | D135: K | E135: 112155315 | F135: Štěpkování keřového porostu hustého s naložením | G135: m2 | H135: 70 | J135: =ROUND(I135*H135,2) -> 0 | N135: základní | P135: =O135*H135 -> 0 | Q135: 0 | R135: =Q135*H135 -> 0 | S135: 0 | T135: =S135*H135 -> 0 | AR135: 4 | AT135: K | AU135: 2 | AY135: ROZPOCET | BE135: =IF(N135="základní",J135,0) -> 0 | BF135: =IF(N135="snížená",J135,0) -> 0 | BG135: =IF(N135="zákl. přenesená",J135,0) -> 0 | BH135: =IF(N135="sníž. přenesená",J135,0) -> 0 | BI135: =IF(N135="nulová",J135,0) -> 0 | BJ135: 1 | BK135: =ROUND(I135*H135,2) -> 0 | BL135: 4 | BM135: 1550236732
D136: PP | F136: Štěpkování s naložením na dopravní prostředek a odvozem do 20 km keřového porostu hustého | AT136: PP | AU136: 2
C137: 5 | D137: K | E137: 112251102 | F137: Odstranění pařezů průměru přes 300 do 500 mm | G137: kus | H137: 33 | J137: =ROUND(I137*H137,2) -> 0 | N137: základní | P137: =O137*H137 -> 0 | Q137: 0 | R137: =Q137*H137 -> 0 | S137: 0 | T137: =S137*H137 -> 0 | AR137: 4 | AT137: K | AU137: 2 | AY137: ROZPOCET | BE137: =IF(N137="základní",J137,0) -> 0 | BF137: =IF(N137="snížená",J137,0) -> 0 | BG137: =IF(N137="zákl. přenesená",J137,0) -> 0 | BH137: =IF(N137="sníž. přenesená",J137,0) -> 0 | BI137: =IF(N137="nulová",J137,0) -> 0 | BJ137: 1 | BK137: =ROUND(I137*H137,2) -> 0 | BL137: 4 | BM137: -124161669
D138: PP | F138: Odstranění pařezů strojně s jejich vykopáním nebo vytrháním průměru přes 300 do 500 mm | AT138: PP | AU138: 2
C139: 6 | D139: K | E139: 132251253 | F139: Hloubení rýh nezapažených š do 2000 mm v hornině třídy těžitelnosti I skupiny 3 objem do 100 m3 strojně | G139: m3 | H139: 20.93 | J139: =ROUND(I139*H139,2) -> 0 | N139: základní | P139: =O139*H139 -> 0 | Q139: 0 | R139: =Q139*H139 -> 0 | S139: 0 | T139: =S139*H139 -> 0 | AR139: 4 | AT139: K | AU139: 2 | AY139: ROZPOCET | BE139: =IF(N139="základní",J139,0) -> 0 | BF139: =IF(N139="snížená",J139,0) -> 0 | BG139: =IF(N139="zákl. přenesená",J139,0) -> 0 | BH139: =IF(N139="sníž. přenesená",J139,0) -> 0 | BI139: =IF(N139="nulová",J139,0) -> 0 | BJ139: 1 | BK139: =ROUND(I139*H139,2) -> 0 | BL139: 4 | BM139: -318921662
D140: PP | F140: Hloubení nezapažených rýh šířky přes 800 do 2 000 mm strojně s urovnáním dna do předepsaného profilu a spádu v hornině třídy těžitelnosti I skupiny 3 přes 50 do 100 m3 | AT140: PP | AU140: 2
D141: VV | F141: Úprava koryta | AT141: VV | AU141: 2 | AV141: 1 | AW141: True | AX141: 0 | AY141: ROZPOCET
D142: VV | F142: 46,25*0,4 | H142: 18.5 | AT142: VV | AU142: 2 | AV142: 2 | AW142: True | AX142: 0 | AY142: ROZPOCET
D143: VV | F143: 2,43 | H143: 2.43 | AT143: VV | AU143: 2 | AV143: 2 | AW143: True | AX143: 0 | AY143: ROZPOCET
D144: VV | F144: Součet | H144: 20.93 | AT144: VV | AU144: 2 | AV144: 4 | AW144: True | AX144: 1 | AY144: ROZPOCET
C145: 7 | D145: K | E145: 162201422 | F145: Vodorovné přemístění pařezů do 1 km D přes 300 do 500 mm | G145: kus | H145: 33 | J145: =ROUND(I145*H145,2) -> 0 | N145: základní | P145: =O145*H145 -> 0 | Q145: 0 | R145: =Q145*H145 -> 0 | S145: 0 | T145: =S145*H145 -> 0 | AR145: 4 | AT145: K | AU145: 2 | AY145: ROZPOCET | BE145: =IF(N145="základní",J145,0) -> 0 | BF145: =IF(N145="snížená",J145,0) -> 0 | BG145: =IF(N145="zákl. přenesená",J145,0) -> 0 | BH145: =IF(N145="sníž. přenesená",J145,0) -> 0 | BI145: =IF(N145="nulová",J145,0) -> 0 | BJ145: 1 | BK145: =ROUND(I145*H145,2) -> 0 | BL145: 4 | BM145: 1143885336
D146: PP | F146: Vodorovné přemístění větví, kmenů nebo pařezů s naložením, složením a dopravou do 1000 m pařezů kmenů, průměru přes 300 do 500 mm | AT146: PP | AU146: 2
C147: 8 | D147: K | E147: 162301972 | F147: Příplatek k vodorovnému přemístění pařezů D přes 300 do 500 mm ZKD 1 km | G147: kus | H147: 1254 | J147: =ROUND(I147*H147,2) -> 0 | N147: základní | P147: =O147*H147 -> 0 | Q147: 0 | R147: =Q147*H147 -> 0 | S147: 0 | T147: =S147*H147 -> 0 | AR147: 4 | AT147: K | AU147: 2 | AY147: ROZPOCET | BE147: =IF(N147="základní",J147,0) -> 0 | BF147: =IF(N147="snížená",J147,0) -> 0 | BG147: =IF(N147="zákl. přenesená",J147,0) -> 0 | BH147: =IF(N147="sníž. přenesená",J147,0) -> 0 | BI147: =IF(N147="nulová",J147,0) -> 0 | BJ147: 1 | BK147: =ROUND(I147*H147,2) -> 0 | BL147: 4 | BM147: 731131047
D148: PP | F148: Vodorovné přemístění větví, kmenů nebo pařezů s naložením, složením a dopravou Příplatek k cenám za každých dalších i započatých 1000 m přes 1000 m pařezů kmenů, průměru přes 300 do 500 mm | AT148: PP | AU148: 2
D149: VV | F149: 33*38 | H149: 1254 | AT149: VV | AU149: 2 | AV149: 2 | AW149: True | AX149: 1 | AY149: ROZPOCET
C150: 9 | D150: K | E150: 162351104 | F150: Vodorovné přemístění přes 500 do 1000 m výkopku/sypaniny z horniny třídy těžitelnosti I skupiny 1 až 3 | G150: m3 | H150: 20.93 | J150: =ROUND(I150*H150,2) -> 0 | N150: základní | P150: =O150*H150 -> 0 | Q150: 0 | R150: =Q150*H150 -> 0 | S150: 0 | T150: =S150*H150 -> 0 | AR150: 4 | AT150: K | AU150: 2 | AY150: ROZPOCET | BE150: =IF(N150="základní",J150,0) -> 0 | BF150: =IF(N150="snížená",J150,0) -> 0 | BG150: =IF(N150="zákl. přenesená",J150,0) -> 0 | BH150: =IF(N150="sníž. přenesená",J150,0) -> 0 | BI150: =IF(N150="nulová",J150,0) -> 0 | BJ150: 1 | BK150: =ROUND(I150*H150,2) -> 0 | BL150: 4 | BM150: -115304742
D151: PP | F151: Vodorovné přemístění výkopku nebo sypaniny po suchu na obvyklém dopravním prostředku, bez naložení výkopku, avšak se složením bez rozhrnutí z horniny třídy těžitelnosti I skupiny 1 až 3 na vzdálenost přes 500 do 1 000 m | AT151: PP | AU151: 2
D152: VV | F152: Odvoz na pole | AT152: VV | AU152: 2 | AV152: 1 | AW152: True | AX152: 0 | AY152: ROZPOCET
D153: VV | F153: 20,930 | H153: 20.93 | AT153: VV | AU153: 2 | AV153: 2 | AW153: True | AX153: 0 | AY153: ROZPOCET
D154: VV | F154: Součet | H154: 20.93 | AT154: VV | AU154: 2 | AV154: 4 | AW154: True | AX154: 1 | AY154: ROZPOCET
C155: 10 | D155: K | E155: 167151111 | F155: Nakládání výkopku z hornin třídy těžitelnosti I skupiny 1 až 3 přes 100 m3 | G155: m3 | H155: 20.93 | J155: =ROUND(I155*H155,2) -> 0 | N155: základní | P155: =O155*H155 -> 0 | Q155: 0 | R155: =Q155*H155 -> 0 | S155: 0 | T155: =S155*H155 -> 0 | AR155: 4 | AT155: K | AU155: 2 | AY155: ROZPOCET | BE155: =IF(N155="základní",J155,0) -> 0 | BF155: =IF(N155="snížená",J155,0) -> 0 | BG155: =IF(N155="zákl. přenesená",J155,0) -> 0 | BH155: =IF(N155="sníž. přenesená",J155,0) -> 0 | BI155: =IF(N155="nulová",J155,0) -> 0 | BJ155: 1 | BK155: =ROUND(I155*H155,2) -> 0 | BL155: 4 | BM155: -954947110
D156: PP | F156: Nakládání, skládání a překládání neulehlého výkopku nebo sypaniny strojně nakládání, množství přes 100 m3, z hornin třídy těžitelnosti I, skupiny 1 až 3 | AT156: PP | AU156: 2
C157: 11 | D157: K | E157: 181351113.1 | F157: Rozprostření zeminy tl vrstvy do 100 mm pl přes 500 m2 v rovině nebo ve svahu do 1:5 strojně | G157: m2 | H157: 209.3 | J157: =ROUND(I157*H157,2) -> 0 | N157: základní | P157: =O157*H157 -> 0 | Q157: 0 | R157: =Q157*H157 -> 0 | S157: 0 | T157: =S157*H157 -> 0 | AR157: 4 | AT157: K | AU157: 2 | AY157: ROZPOCET | BE157: =IF(N157="základní",J157,0) -> 0 | BF157: =IF(N157="snížená",J157,0) -> 0 | BG157: =IF(N157="zákl. přenesená",J157,0) -> 0 | BH157: =IF(N157="sníž. přenesená",J157,0) -> 0 | BI157: =IF(N157="nulová",J157,0) -> 0 | BJ157: 1 | BK157: =ROUND(I157*H157,2) -> 0 | BL157: 4 | BM157: -857386597
D158: PP | F158: Rozprostření a urovnání zeminy v rovině nebo ve svahu sklonu do 1:5 strojně při souvislé ploše přes 500 m2, tl. vrstvy do 100 mm | AT158: PP | AU158: 2
D159: VV | F159: 20,930/0,1 | H159: 209.3 | AT159: VV | AU159: 2 | AV159: 2 | AW159: True | AX159: 0 | AY159: ROZPOCET
D160: VV | F160: Součet | H160: 209.3 | AT160: VV | AU160: 2 | AV160: 4 | AW160: True | AX160: 1 | AY160: ROZPOCET
C161: 12 | D161: K | E161: 183403112.1 | F161: Obdělání půdy oráním a vápněním na hl přes 0,1 do 0,2 m v rovině a svahu do 1:5 | G161: m2 | H161: 209.3 | J161: =ROUND(I161*H161,2) -> 0 | N161: základní | P161: =O161*H161 -> 0 | Q161: 0 | R161: =Q161*H161 -> 0 | S161: 0 | T161: =S161*H161 -> 0 | AR161: 4 | AT161: K | AU161: 2 | AY161: ROZPOCET | BE161: =IF(N161="základní",J161,0) -> 0 | BF161: =IF(N161="snížená",J161,0) -> 0 | BG161: =IF(N161="zákl. přenesená",J161,0) -> 0 | BH161: =IF(N161="sníž. přenesená",J161,0) -> 0 | BI161: =IF(N161="nulová",J161,0) -> 0 | BJ161: 1 | BK161: =ROUND(I161*H161,2) -> 0 | BL161: 4 | BM161: 1468517390
D162: PP | F162: Obdělání půdy oráním a vápněním na hl přes 0,1 do 0,2 m v rovině a svahu do 1:5 | AT162: PP | AU162: 2
C163: 13 | D163: K | E163: 997013811 | F163: Poplatek za uložení na skládce (skládkovné) stavebního odpadu dřevěného kód odpadu 17 02 01 | G163: t | H163: 6.6 | J163: =ROUND(I163*H163,2) -> 0 | N163: základní | P163: =O163*H163 -> 0 | Q163: 0 | R163: =Q163*H163 -> 0 | S163: 0 | T163: =S163*H163 -> 0 | AR163: 4 | AT163: K | AU163: 2 | AY163: ROZPOCET | BE163: =IF(N163="základní",J163,0) -> 0 | BF163: =IF(N163="snížená",J163,0) -> 0 | BG163: =IF(N163="zákl. přenesená",J163,0) -> 0 | BH163: =IF(N163="sníž. přenesená",J163,0) -> 0 | BI163: =IF(N163="nulová",J163,0) -> 0 | BJ163: 1 | BK163: =ROUND(I163*H163,2) -> 0 | BL163: 4 | BM163: -1427846442
D164: PP | F164: Poplatek za uložení stavebního odpadu na skládce (skládkovné) dřevěného zatříděného do Katalogu odpadů pod kódem 17 02 01 | AT164: PP | AU164: 2
D165: VV | F165: Pařezy | AT165: VV | AU165: 2 | AV165: 1 | AW165: True | AX165: 0 | AY165: ROZPOCET
D166: VV | F166: 33*0,2 | H166: 6.6 | AT166: VV | AU166: 2 | AV166: 2 | AW166: True | AX166: 0 | AY166: ROZPOCET
...

Sheet SO 04 - Sanace hráze - sc...
AT2: {fcc91534-1e57-4cfc-82de-e737f635034e}
AT3: 2
D4: KRYCÍ LIST SOUPISU PRACÍ | M4: v --- níže se nacházejí doplnkové a pomocné údaje k sestavám --- v | AT4: False
D6: Stavba:
E7: ='Rekapitulace stavby'!K6 -> Obnova obecního rybníka v k.ú. Žeretice
D8: Objekt:
E9: SO 04 - Sanace hráze - schody
D11: KSO: | I11: CC-CZ:
D12: Místo: | I12: Datum: | J12: ='Rekapitulace stavby'!AN8 -> 13. 4. 2026
D14: Zadavatel: | I14: IČ: | J14: =IF('Rekapitulace stavby'!AN10="","",'Rekapitulace stavby'!AN10)
E15: =IF('Rekapitulace stavby'!E11="","",'Rekapitulace stavby'!E11) -> Obec Žeretice | I15: DIČ: | J15: =IF('Rekapitulace stavby'!AN11="","",'Rekapitulace stavby'!AN11)
D17: Uchazeč: | I17: IČ: | J17: ='Rekapitulace stavby'!AN13 -> Vyplň údaj
E18: ='Rekapitulace stavby'!E14 -> Vyplň údaj | I18: DIČ: | J18: ='Rekapitulace stavby'!AN14 -> Vyplň údaj
D20: Projektant: | I20: IČ: | J20: =IF('Rekapitulace stavby'!AN16="","",'Rekapitulace stavby'!AN16)
E21: =IF('Rekapitulace stavby'!E17="","",'Rekapitulace stavby'!E17) -> Projektový ateliér Dlabáček s.r.o. | I21: DIČ: | J21: =IF('Rekapitulace stavby'!AN17="","",'Rekapitulace stavby'!AN17)
D23: Zpracovatel: | I23: IČ: | J23: =IF('Rekapitulace stavby'!AN19="","",'Rekapitulace stavby'!AN19)
E24: =IF('Rekapitulace stavby'!E20="","",'Rekapitulace stavby'!E20) | I24: DIČ: | J24: =IF('Rekapitulace stavby'!AN20="","",'Rekapitulace stavby'!AN20)
D26: Poznámka:
D30: Cena bez DPH | J30: =ROUND(J123, 2) -> 0
F32: Základ daně | I32: Sazba daně | J32: Výše daně
D33: DPH | E33: základní | F33: =ROUND((SUM(BE123:BE248)), 2) -> 0 | I33: 0.21 | J33: =ROUND(((SUM(BE123:BE248))*I33), 2) -> 0
E34: snížená | F34: =ROUND((SUM(BF123:BF248)), 2) -> 0 | I34: 0.12 | J34: =ROUND(((SUM(BF123:BF248))*I34), 2) -> 0
E35: zákl. přenesená | F35: =ROUND((SUM(BG123:BG248)), 2) -> 0 | I35: 0.21 | J35: =0 -> 0
E36: sníž. přenesená | F36: =ROUND((SUM(BH123:BH248)), 2) -> 0 | I36: 0.12 | J36: =0 -> 0
E37: nulová | F37: =ROUND((SUM(BI123:BI248)), 2) -> 0 | I37: 0 | J37: =0 -> 0
D39: Cena s DPH | G39: v | H39: CZK | J39: =SUM(J30:J37) -> 0
D50: Projektant | G50: Zpracovatel
D61: Datum a podpis: | F61: Razítko | G61: Datum a podpis: | J61: Razítko
D65: Objednavatel | G65: Uchazeč
D76: Datum a podpis: | F76: Razítko | G76: Datum a podpis: | J76: Razítko
C82: REKAPITULACE ČLENĚNÍ SOUPISU PRACÍ
C84: Stavba:
E85: =E7 -> Obnova obecního rybníka v k.ú. Žeretice
C86: Objekt:
E87: =E9 -> SO 04 - Sanace hráze - schody
C89: Místo: | F89: =F12 | I89: Datum: | J89: =IF(J12="","",J12) -> 13. 4. 2026
C91: Zadavatel: | F91: =E15 -> Obec Žeretice | I91: Projektant: | J91: =E21 -> Projektový ateliér Dlabáček s.r.o.
C92: Uchazeč: | F92: =IF(E18="","",E18) -> Vyplň údaj | I92: Zpracovatel: | J92: =E24
C94: Kód dílu - Popis | J94: Cena celkem [CZK]
C96: Náklady ze soupisu prací | J96: =J123 -> 0 | AU96: -1
D97: HSV - Práce a dodávky HSV | J97: =J124 -> 0
D98: 1 - Zemní práce | J98: =J125 -> 0
D99: 18 - Povrchové úpravy terénu | J99: =J198 -> 0
D100: 4 - Vodorovné konstrukce | J100: =J204 -> 0
D101: 43 - Schodišťové konstrukce a rampy | J101: =J212 -> 0
D102: 6 - Úpravy povrchů, podlahy a osazování výplní | J102: =J239 -> 0
D103: 998 - Přesun hmot | J103: =J246 -> 0
C110: SOUPIS PRACÍ
C112: Stavba:
E113: =E7 -> Obnova obecního rybníka v k.ú. Žeretice
C114: Objekt:
E115: =E9 -> SO 04 - Sanace hráze - schody
C117: Místo: | F117: =F12 | I117: Datum: | J117: =IF(J12="","",J12) -> 13. 4. 2026
C119: Zadavatel: | F119: =E15 -> Obec Žeretice | I119: Projektant: | J119: =E21 -> Projektový ateliér Dlabáček s.r.o.
C120: Uchazeč: | F120: =IF(E18="","",E18) -> Vyplň údaj | I120: Zpracovatel: | J120: =E24
C122: PČ | D122: Typ | E122: Kód | F122: Popis | G122: MJ | H122: Množství | I122: J.cena [CZK] | J122: Cena celkem [CZK] | K122: Cenová soustava | N122: DPH | O122: J. Nh [h] | P122: Nh celkem [h] | Q122: J. hmotnost [t] | R122: Hmotnost celkem [t] | S122: J. suť [t] | T122: Suť Celkem [t]
C123: Náklady soupisu celkem | J123: =BK123 -> 0 | P123: =P124 -> 0 | R123: =R124 -> 110.74809 | T123: =T124 -> 71.55 | AT123: D | AU123: -1 | BK123: =BK124 -> 0
D124: D | E124: HSV | F124: Práce a dodávky HSV | J124: =BK124 -> 0 | P124: =P125+P204+P212+P239+P246 -> 0 | R124: =R125+R204+R212+R239+R246 -> 110.74809 | T124: =T125+T204+T212+T239+T246 -> 71.55 | AR124: 1 | AT124: D | AU124: 0 | AY124: ROZPOCET | BK124: =BK125+BK204+BK212+BK239+BK246 -> 0
D125: D | E125: 1 | F125: Zemní práce | J125: =BK125 -> 0 | P125: =P126+SUM(P127:P198) -> 0 | R125: =R126+SUM(R127:R198) -> 60.90071 | T125: =T126+SUM(T127:T198) -> 71.55 | AR125: 1 | AT125: D | AU125: 1 | AY125: ROZPOCET | BK125: =BK126+SUM(BK127:BK198) -> 0
C126: 1 | D126: K | E126: 112101102 | F126: Odstranění stromů listnatých průměru kmene přes 300 do 500 mm | G126: kus | H126: 8 | J126: =ROUND(I126*H126,2) -> 0 | N126: základní | P126: =O126*H126 -> 0 | Q126: 0 | R126: =Q126*H126 -> 0 | S126: 0 | T126: =S126*H126 -> 0 | AR126: 4 | AT126: K | AU126: 2 | AY126: ROZPOCET | BE126: =IF(N126="základní",J126,0) -> 0 | BF126: =IF(N126="snížená",J126,0) -> 0 | BG126: =IF(N126="zákl. přenesená",J126,0) -> 0 | BH126: =IF(N126="sníž. přenesená",J126,0) -> 0 | BI126: =IF(N126="nulová",J126,0) -> 0 | BJ126: 1 | BK126: =ROUND(I126*H126,2) -> 0 | BL126: 4 | BM126: -1924554089
D127: PP | F127: Odstranění stromů s odřezáním kmene a s odvětvením listnatých, průměru kmene přes 300 do 500 mm | AT127: PP | AU127: 2
C128: 2 | D128: K | E128: 112155121 | F128: Štěpkování stromků a větví v zapojeném porostu průměru kmene přes 300 do 500 mm s naložením | G128: kus | H128: 8 | J128: =ROUND(I128*H128,2) -> 0 | N128: základní | P128: =O128*H128 -> 0 | Q128: 0 | R128: =Q128*H128 -> 0 | S128: 0 | T128: =S128*H128 -> 0 | AR128: 4 | AT128: K | AU128: 2 | AY128: ROZPOCET | BE128: =IF(N128="základní",J128,0) -> 0 | BF128: =IF(N128="snížená",J128,0) -> 0 | BG128: =IF(N128="zákl. přenesená",J128,0) -> 0 | BH128: =IF(N128="sníž. přenesená",J128,0) -> 0 | BI128: =IF(N128="nulová",J128,0) -> 0 | BJ128: 1 | BK128: =ROUND(I128*H128,2) -> 0 | BL128: 4 | BM128: -2026802752
D129: PP | F129: Štěpkování s naložením na dopravní prostředek a odvozem do 20 km stromků a větví v zapojeném porostu, průměru kmene přes 300 do 500 mm | AT129: PP | AU129: 2
C130: 3 | D130: K | E130: 112251102 | F130: Odstranění pařezů průměru přes 300 do 500 mm | G130: kus | H130: 8 | J130: =ROUND(I130*H130,2) -> 0 | N130: základní | P130: =O130*H130 -> 0 | Q130: 0 | R130: =Q130*H130 -> 0 | S130: 0 | T130: =S130*H130 -> 0 | AR130: 4 | AT130: K | AU130: 2 | AY130: ROZPOCET | BE130: =IF(N130="základní",J130,0) -> 0 | BF130: =IF(N130="snížená",J130,0) -> 0 | BG130: =IF(N130="zákl. přenesená",J130,0) -> 0 | BH130: =IF(N130="sníž. přenesená",J130,0) -> 0 | BI130: =IF(N130="nulová",J130,0) -> 0 | BJ130: 1 | BK130: =ROUND(I130*H130,2) -> 0 | BL130: 4 | BM130: 992982688
D131: PP | F131: Odstranění pařezů strojně s jejich vykopáním nebo vytrháním průměru přes 300 do 500 mm | AT131: PP | AU131: 2
C132: 4 | D132: K | E132: 114203101 | F132: Rozebrání dlažeb z lomového kamene nebo betonových tvárnic na sucho | G132: m3 | H132: 39.75 | J132: =ROUND(I132*H132,2) -> 0 | N132: základní | P132: =O132*H132 -> 0 | Q132: 0 | R132: =Q132*H132 -> 0 | S132: 1.8 | T132: =S132*H132 -> 71.55 | AR132: 4 | AT132: K | AU132: 2 | AY132: ROZPOCET | BE132: =IF(N132="základní",J132,0) -> 0 | BF132: =IF(N132="snížená",J132,0) -> 0 | BG132: =IF(N132="zákl. přenesená",J132,0) -> 0 | BH132: =IF(N132="sníž. přenesená",J132,0) -> 0 | BI132: =IF(N132="nulová",J132,0) -> 0 | BJ132: 1 | BK132: =ROUND(I132*H132,2) -> 0 | BL132: 4 | BM132: -1466611893
D133: PP | F133: Rozebrání dlažeb nebo záhozů s naložením na dopravní prostředek dlažeb z lomového kamene nebo betonových tvárnic na sucho nebo se spárami vyplněnými pískem nebo drnem | AT133: PP | AU133: 2
D134: VV | F134: Rozebrání stávající zpevněné plochy | AT134: VV | AU134: 2 | AV134: 1 | AW134: True | AX134: 0 | AY134: ROZPOCET
D135: VV | F135: 132,5*0,3 | H135: 39.75 | AT135: VV | AU135: 2 | AV135: 2 | AW135: True | AX135: 0 | AY135: ROZPOCET
D136: VV | F136: Součet | H136: 39.75 | AT136: VV | AU136: 2 | AV136: 4 | AW136: True | AX136: 1 | AY136: ROZPOCET
C137: 5 | D137: K | E137: 114203201 | F137: Očištění lomového kamene nebo betonových tvárnic od hlíny nebo písku | G137: m3 | H137: 39.75 | J137: =ROUND(I137*H137,2) -> 0 | N137: základní | P137: =O137*H137 -> 0 | Q137: 0.4 | R137: =Q137*H137 -> 15.9 | S137: 0 | T137: =S137*H137 -> 0 | AR137: 4 | AT137: K | AU137: 2 | AY137: ROZPOCET | BE137: =IF(N137="základní",J137,0) -> 0 | BF137: =IF(N137="snížená",J137,0) -> 0 | BG137: =IF(N137="zákl. přenesená",J137,0) -> 0 | BH137: =IF(N137="sníž. přenesená",J137,0) -> 0 | BI137: =IF(N137="nulová",J137,0) -> 0 | BJ137: 1 | BK137: =ROUND(I137*H137,2) -> 0 | BL137: 4 | BM137: 1433015464
D138: PP | F138: Očištění lomového kamene nebo betonových tvárnic získaných při rozebrání dlažeb, záhozů, rovnanin a soustřeďovacích staveb od hlíny nebo písku | AT138: PP | AU138: 2
D139: VV | F139: Použití rozebraných kamenů pro zához | AT139: VV | AU139: 2 | AV139: 1 | AW139: True | AX139: 0 | AY139: ROZPOCET
D140: VV | F140: 39,750 | H140: 39.75 | AT140: VV | AU140: 2 | AV140: 2 | AW140: True | AX140: 0 | AY140: ROZPOCET
D141: VV | F141: Součet | H141: 39.75 | AT141: VV | AU141: 2 | AV141: 4 | AW141: True | AX141: 1 | AY141: ROZPOCET
C142: 6 | D142: K | E142: 114253301 | F142: Třídění lomového kamene nebo betonových tvárnic podle druhu, velikosti nebo tvaru - strojně | G142: m3 | H142: 39.75 | J142: =ROUND(I142*H142,2) -> 0 | N142: základní | P142: =O142*H142 -> 0 | Q142: 0 | R142: =Q142*H142 -> 0 | S142: 0 | T142: =S142*H142 -> 0 | AR142: 4 | AT142: K | AU142: 2 | AY142: ROZPOCET | BE142: =IF(N142="základní",J142,0) -> 0 | BF142: =IF(N142="snížená",J142,0) -> 0 | BG142: =IF(N142="zákl. přenesená",J142,0) -> 0 | BH142: =IF(N142="sníž. přenesená",J142,0) -> 0 | BI142: =IF(N142="nulová",J142,0) -> 0 | BJ142: 1 | BK142: =ROUND(I142*H142,2) -> 0 | BL142: 4 | BM142: 1764682180
D143: PP | F143: Třídění lomového kamene nebo betonových tvárnic strojně získaných při rozebrání dlažeb, záhozů, rovnanin a soustřeďovacích staveb podle druhu, velikosti nebo tvaru | AT143: PP | AU143: 2
C144: 7 | D144: K | E144: 121151103 | F144: Sejmutí ornice plochy do 100 m2 tl vrstvy do 200 mm strojně | G144: m2 | H144: 35.5 | J144: =ROUND(I144*H144,2) -> 0 | N144: základní | P144: =O144*H144 -> 0 | Q144: 0 | R144: =Q144*H144 -> 0 | S144: 0 | T144: =S144*H144 -> 0 | AR144: 4 | AT144: K | AU144: 2 | AY144: ROZPOCET | BE144: =IF(N144="základní",J144,0) -> 0 | BF144: =IF(N144="snížená",J144,0) -> 0 | BG144: =IF(N144="zákl. přenesená",J144,0) -> 0 | BH144: =IF(N144="sníž. přenesená",J144,0) -> 0 | BI144: =IF(N144="nulová",J144,0) -> 0 | BJ144: 1 | BK144: =ROUND(I144*H144,2) -> 0 | BL144: 4 | BM144: 1079019072
D145: PP | F145: Sejmutí ornice strojně při souvislé ploše do 100 m2, tl. vrstvy do 200 mm | AT145: PP | AU145: 2
D146: VV | F146: V místě provádění prací mimo rozebranou dlažnu | AT146: VV | AU146: 2 | AV146: 1 | AW146: True | AX146: 0 | AY146: ROZPOCET
D147: VV | F147: 35,5 | H147: 35.5 | AT147: VV | AU147: 2 | AV147: 2 | AW147: True | AX147: 0 | AY147: ROZPOCET
D148: VV | F148: Součet | H148: 35.5 | AT148: VV | AU148: 2 | AV148: 4 | AW148: True | AX148: 1 | AY148: ROZPOCET
C149: 8 | D149: K | E149: 132251253 | F149: Hloubení rýh nezapažených š do 2000 mm v hornině třídy těžitelnosti I skupiny 3 objem do 100 m3 strojně | G149: m3 | H149: 64 | J149: =ROUND(I149*H149,2) -> 0 | N149: základní | P149: =O149*H149 -> 0 | Q149: 0 | R149: =Q149*H149 -> 0 | S149: 0 | T149: =S149*H149 -> 0 | AR149: 4 | AT149: K | AU149: 2 | AY149: ROZPOCET | BE149: =IF(N149="základní",J149,0) -> 0 | BF149: =IF(N149="snížená",J149,0) -> 0 | BG149: =IF(N149="zákl. přenesená",J149,0) -> 0 | BH149: =IF(N149="sníž. přenesená",J149,0) -> 0 | BI149: =IF(N149="nulová",J149,0) -> 0 | BJ149: 1 | BK149: =ROUND(I149*H149,2) -> 0 | BL149: 4 | BM149: 1673203268
D150: PP | F150: Hloubení nezapažených rýh šířky přes 800 do 2 000 mm strojně s urovnáním dna do předepsaného profilu a spádu v hornině třídy těžitelnosti I skupiny 3 přes 50 do 100 m3 | AT150: PP | AU150: 2
D151: VV | F151: Výkop v místě hráze | AT151: VV | AU151: 2 | AV151: 1 | AW151: True | AX151: 0 | AY151: ROZPOCET
D152: VV | F152: 20*3,2 | H152: 64 | AT152: VV | AU152: 2 | AV152: 2 | AW152: True | AX152: 0 | AY152: ROZPOCET
D153: VV | F153: Součet | H153: 64 | AT153: VV | AU153: 2 | AV153: 4 | AW153: True | AX153: 1 | AY153: ROZPOCET
C154: 9 | D154: K | E154: 162201422 | F154: Vodorovné přemístění pařezů do 1 km D přes 300 do 500 mm | G154: kus | H154: 8 | J154: =ROUND(I154*H154,2) -> 0 | N154: základní | P154: =O154*H154 -> 0 | Q154: 0 | R154: =Q154*H154 -> 0 | S154: 0 | T154: =S154*H154 -> 0 | AR154: 4 | AT154: K | AU154: 2 | AY154: ROZPOCET | BE154: =IF(N154="základní",J154,0) -> 0 | BF154: =IF(N154="snížená",J154,0) -> 0 | BG154: =IF(N154="zákl. přenesená",J154,0) -> 0 | BH154: =IF(N154="sníž. přenesená",J154,0) -> 0 | BI154: =IF(N154="nulová",J154,0) -> 0 | BJ154: 1 | BK154: =ROUND(I154*H154,2) -> 0 | BL154: 4 | BM154: -976460836
D155: PP | F155: Vodorovné přemístění větví, kmenů nebo pařezů s naložením, složením a dopravou do 1000 m pařezů kmenů, průměru přes 300 do 500 mm | AT155: PP | AU155: 2
C156: 10 | D156: K | E156: 162301972 | F156: Příplatek k vodorovnému přemístění pařezů D přes 300 do 500 mm ZKD 1 km | G156: kus | H156: 304 | J156: =ROUND(I156*H156,2) -> 0 | N156: základní | P156: =O156*H156 -> 0 | Q156: 0 | R156: =Q156*H156 -> 0 | S156: 0 | T156: =S156*H156 -> 0 | AR156: 4 | AT156: K | AU156: 2 | AY156: ROZPOCET | BE156: =IF(N156="základní",J156,0) -> 0 | BF156: =IF(N156="snížená",J156,0) -> 0 | BG156: =IF(N156="zákl. přenesená",J156,0) -> 0 | BH156: =IF(N156="sníž. přenesená",J156,0) -> 0 | BI156: =IF(N156="nulová",J156,0) -> 0 | BJ156: 1 | BK156: =ROUND(I156*H156,2) -> 0 | BL156: 4 | BM156: 1192186103
D157: PP | F157: Vodorovné přemístění větví, kmenů nebo pařezů s naložením, složením a dopravou Příplatek k cenám za každých dalších i započatých 1000 m přes 1000 m pařezů kmenů, průměru přes 300 do 500 mm | AT157: PP | AU157: 2
D158: VV | F158: 8*38 | H158: 304 | AT158: VV | AU158: 2 | AV158: 2 | AW158: True | AX158: 0 | AY158: ROZPOCET
D159: VV | F159: Součet | H159: 304 | AT159: VV | AU159: 2 | AV159: 4 | AW159: True | AX159: 1 | AY159: ROZPOCET
C160: 11 | D160: K | E160: 997013811 | F160: Poplatek za uložení na skládce (skládkovné) stavebního odpadu dřevěného kód odpadu 17 02 01 | G160: t | H160: 1.6 | J160: =ROUND(I160*H160,2) -> 0 | N160: základní | P160: =O160*H160 -> 0 | Q160: 0 | R160: =Q160*H160 -> 0 | S160: 0 | T160: =S160*H160 -> 0 | AR160: 4 | AT160: K | AU160: 2 | AY160: ROZPOCET | BE160: =IF(N160="základní",J160,0) -> 0 | BF160: =IF(N160="snížená",J160,0) -> 0 | BG160: =IF(N160="zákl. přenesená",J160,0) -> 0 | BH160: =IF(N160="sníž. přenesená",J160,0) -> 0 | BI160: =IF(N160="nulová",J160,0) -> 0 | BJ160: 1 | BK160: =ROUND(I160*H160,2) -> 0 | BL160: 4 | BM160: -1846662895
D161: PP | F161: Poplatek za uložení stavebního odpadu na skládce (skládkovné) dřevěného zatříděného do Katalogu odpadů pod kódem 17 02 01 | AT161: PP | AU161: 2
D162: VV | F162: Pařezy | AT162: VV | AU162: 2 | AV162: 1 | AW162: True | AX162: 0 | AY162: ROZPOCET
D163: VV | F163: 8*0,2 | H163: 1.6 | AT163: VV | AU163: 2 | AV163: 2 | AW163: True | AX163: 0 | AY163: ROZPOCET
D164: VV | F164: Součet | H164: 1.6 | AT164: VV | AU164: 2 | AV164: 4 | AW164: True | AX164: 1 | AY164: ROZPOCET
C165: 12 | D165: K | E165: 167151111 | F165: Nakládání výkopku z hornin třídy těžitelnosti I skupiny 1 až 3 přes 100 m3 | G165: m3 | H165: 41.6 | J165: =ROUND(I165*H165,2) -> 0 | N165: základní | P165: =O165*H165 -> 0 | Q165: 0 | R165: =Q165*H165 -> 0 | S165: 0 | T165: =S165*H165 -> 0 | AR165: 4 | AT165: K | AU165: 2 | AY165: ROZPOCET | BE165: =IF(N165="základní",J165,0) -> 0 | BF165: =IF(N165="snížená",J165,0) -> 0 | BG165: =IF(N165="zákl. přenesená",J165,0) -> 0 | BH165: =IF(N165="sníž. přenesená",J165,0) -> 0 | BI165: =IF(N165="nulová",J165,0) -> 0 | BJ165: 1 | BK165: =ROUND(I165*H165,2) -> 0 | BL165: 4 | BM165: 1781805079
D166: PP | F166: Nakládání, skládání a překládání neulehlého výkopku nebo sypaniny strojně nakládání, množství přes 100 m3, z hornin třídy těžitelnosti I, skupiny 1 až 3 | AT166: PP | AU166: 2
...

Sheet SO 05 - Oprava výpustného...
AT2: {ae1f125a-daf5-4cc1-b504-d36e8f58e68b}
AT3: 2
D4: KRYCÍ LIST SOUPISU PRACÍ | M4: v --- níže se nacházejí doplnkové a pomocné údaje k sestavám --- v | AT4: False
D6: Stavba:
E7: ='Rekapitulace stavby'!K6 -> Obnova obecního rybníka v k.ú. Žeretice
D8: Objekt:
E9: SO 05 - Oprava výpustného zařízení
D11: KSO: | I11: CC-CZ:
D12: Místo: | I12: Datum: | J12: ='Rekapitulace stavby'!AN8 -> 13. 4. 2026
D14: Zadavatel: | I14: IČ: | J14: =IF('Rekapitulace stavby'!AN10="","",'Rekapitulace stavby'!AN10)
E15: =IF('Rekapitulace stavby'!E11="","",'Rekapitulace stavby'!E11) -> Obec Žeretice | I15: DIČ: | J15: =IF('Rekapitulace stavby'!AN11="","",'Rekapitulace stavby'!AN11)
D17: Uchazeč: | I17: IČ: | J17: ='Rekapitulace stavby'!AN13 -> Vyplň údaj
E18: ='Rekapitulace stavby'!E14 -> Vyplň údaj | I18: DIČ: | J18: ='Rekapitulace stavby'!AN14 -> Vyplň údaj
D20: Projektant: | I20: IČ: | J20: =IF('Rekapitulace stavby'!AN16="","",'Rekapitulace stavby'!AN16)
E21: =IF('Rekapitulace stavby'!E17="","",'Rekapitulace stavby'!E17) -> Projektový ateliér Dlabáček s.r.o. | I21: DIČ: | J21: =IF('Rekapitulace stavby'!AN17="","",'Rekapitulace stavby'!AN17)
D23: Zpracovatel: | I23: IČ: | J23: =IF('Rekapitulace stavby'!AN19="","",'Rekapitulace stavby'!AN19)
E24: =IF('Rekapitulace stavby'!E20="","",'Rekapitulace stavby'!E20) | I24: DIČ: | J24: =IF('Rekapitulace stavby'!AN20="","",'Rekapitulace stavby'!AN20)
D26: Poznámka:
D30: Cena bez DPH | J30: =ROUND(J122, 2) -> 0
F32: Základ daně | I32: Sazba daně | J32: Výše daně
D33: DPH | E33: základní | F33: =ROUND((SUM(BE122:BE146)), 2) -> 0 | I33: 0.21 | J33: =ROUND(((SUM(BE122:BE146))*I33), 2) -> 0
E34: snížená | F34: =ROUND((SUM(BF122:BF146)), 2) -> 0 | I34: 0.12 | J34: =ROUND(((SUM(BF122:BF146))*I34), 2) -> 0
E35: zákl. přenesená | F35: =ROUND((SUM(BG122:BG146)), 2) -> 0 | I35: 0.21 | J35: =0 -> 0
E36: sníž. přenesená | F36: =ROUND((SUM(BH122:BH146)), 2) -> 0 | I36: 0.12 | J36: =0 -> 0
E37: nulová | F37: =ROUND((SUM(BI122:BI146)), 2) -> 0 | I37: 0 | J37: =0 -> 0
D39: Cena s DPH | G39: v | H39: CZK | J39: =SUM(J30:J37) -> 0
D50: Projektant | G50: Zpracovatel
D61: Datum a podpis: | F61: Razítko | G61: Datum a podpis: | J61: Razítko
D65: Objednavatel | G65: Uchazeč
D76: Datum a podpis: | F76: Razítko | G76: Datum a podpis: | J76: Razítko
C82: REKAPITULACE ČLENĚNÍ SOUPISU PRACÍ
C84: Stavba:
E85: =E7 -> Obnova obecního rybníka v k.ú. Žeretice
C86: Objekt:
E87: =E9 -> SO 05 - Oprava výpustného zařízení
C89: Místo: | F89: =F12 | I89: Datum: | J89: =IF(J12="","",J12) -> 13. 4. 2026
C91: Zadavatel: | F91: =E15 -> Obec Žeretice | I91: Projektant: | J91: =E21 -> Projektový ateliér Dlabáček s.r.o.
C92: Uchazeč: | F92: =IF(E18="","",E18) -> Vyplň údaj | I92: Zpracovatel: | J92: =E24
C94: Kód dílu - Popis | J94: Cena celkem [CZK]
C96: Náklady ze soupisu prací | J96: =J122 -> 0 | AU96: -1
D97: HSV - Práce a dodávky HSV | J97: =J123 -> 0
D98: 8 - Vedení trubní dálková a přípojná | J98: =J124 -> 0
D99: 9 - Ostatní konstrukce a práce, bourání | J99: =J129 -> 0
D100: 998 - Přesun hmot | J100: =J134 -> 0
D101: PSV - Práce a dodávky PSV | J101: =J137 -> 0
D102: 767 - Konstrukce zámečnické | J102: =J138 -> 0
C109: SOUPIS PRACÍ
C111: Stavba:
E112: =E7 -> Obnova obecního rybníka v k.ú. Žeretice
C113: Objekt:
E114: =E9 -> SO 05 - Oprava výpustného zařízení
C116: Místo: | F116: =F12 | I116: Datum: | J116: =IF(J12="","",J12) -> 13. 4. 2026
C118: Zadavatel: | F118: =E15 -> Obec Žeretice | I118: Projektant: | J118: =E21 -> Projektový ateliér Dlabáček s.r.o.
C119: Uchazeč: | F119: =IF(E18="","",E18) -> Vyplň údaj | I119: Zpracovatel: | J119: =E24
C121: PČ | D121: Typ | E121: Kód | F121: Popis | G121: MJ | H121: Množství | I121: J.cena [CZK] | J121: Cena celkem [CZK] | K121: Cenová soustava | N121: DPH | O121: J. Nh [h] | P121: Nh celkem [h] | Q121: J. hmotnost [t] | R121: Hmotnost celkem [t] | S121: J. suť [t] | T121: Suť Celkem [t]
C122: Náklady soupisu celkem | J122: =BK122 -> 0 | P122: =P123+P137 -> 0 | R122: =R123+R137 -> 1.733084 | T122: =T123+T137 -> 0.01485 | AT122: D | AU122: -1 | BK122: =BK123+BK137 -> 0
D123: D | E123: HSV | F123: Práce a dodávky HSV | J123: =BK123 -> 0 | P123: =P124+P129+P134 -> 0 | R123: =R124+R129+R134 -> 1.733084 | T123: =T124+T129+T134 -> 0 | AR123: 1 | AT123: D | AU123: 0 | AY123: ROZPOCET | BK123: =BK124+BK129+BK134 -> 0
D124: D | E124: 8 | F124: Vedení trubní dálková a přípojná | J124: =BK124 -> 0 | P124: =SUM(P125:P128) -> 0 | R124: =SUM(R125:R128) -> 0.0137 | T124: =SUM(T125:T128) -> 0 | AR124: 1 | AT124: D | AU124: 1 | AY124: ROZPOCET | BK124: =SUM(BK125:BK128) -> 0
C125: 1 | D125: K | E125: 8.1 | F125: Demontáž poškozených ocelových stupadel | G125: kus | H125: 10 | J125: =ROUND(I125*H125,2) -> 0 | N125: základní | P125: =O125*H125 -> 0 | Q125: 0 | R125: =Q125*H125 -> 0 | S125: 0 | T125: =S125*H125 -> 0 | AR125: 4 | AT125: K | AU125: 2 | AY125: ROZPOCET | BE125: =IF(N125="základní",J125,0) -> 0 | BF125: =IF(N125="snížená",J125,0) -> 0 | BG125: =IF(N125="zákl. přenesená",J125,0) -> 0 | BH125: =IF(N125="sníž. přenesená",J125,0) -> 0 | BI125: =IF(N125="nulová",J125,0) -> 0 | BJ125: 1 | BK125: =ROUND(I125*H125,2) -> 0 | BL125: 4 | BM125: 1476139271
D126: PP | F126: Demontáž poškozených ocelových stupadel | AT126: PP | AU126: 2
C127: 2 | D127: K | E127: 899501221 | F127: Stupadla do šachet ocelová s PE povlakem vidlicová pro přímé zabudování do hmoždinek | G127: kus | H127: 10 | J127: =ROUND(I127*H127,2) -> 0 | N127: základní | P127: =O127*H127 -> 0 | Q127: 0.00137 | R127: =Q127*H127 -> 0.0137 | S127: 0 | T127: =S127*H127 -> 0 | AR127: 4 | AT127: K | AU127: 2 | AY127: ROZPOCET | BE127: =IF(N127="základní",J127,0) -> 0 | BF127: =IF(N127="snížená",J127,0) -> 0 | BG127: =IF(N127="zákl. přenesená",J127,0) -> 0 | BH127: =IF(N127="sníž. přenesená",J127,0) -> 0 | BI127: =IF(N127="nulová",J127,0) -> 0 | BJ127: 1 | BK127: =ROUND(I127*H127,2) -> 0 | BL127: 4 | BM127: -4403749
D128: PP | F128: Stupadla do šachet a drobných objektů ocelová s PE povlakem vidlicová pro přímé zabudování do hmoždinek | AT128: PP | AU128: 2
D129: D | E129: 9 | F129: Ostatní konstrukce a práce, bourání | J129: =BK129 -> 0 | P129: =SUM(P130:P133) -> 0 | R129: =SUM(R130:R133) -> 1.719384 | T129: =SUM(T130:T133) -> 0 | AR129: 1 | AT129: D | AU129: 1 | AY129: ROZPOCET | BK129: =SUM(BK130:BK133) -> 0
C130: 3 | D130: K | E130: 9.1 | F130: Demontáž stávajících poškozených, shnilých dřevěných dluží | G130: m2 | H130: 37.2 | J130: =ROUND(I130*H130,2) -> 0 | N130: základní | P130: =O130*H130 -> 0 | Q130: 0 | R130: =Q130*H130 -> 0 | S130: 0 | T130: =S130*H130 -> 0 | AR130: 4 | AT130: K | AU130: 2 | AY130: ROZPOCET | BE130: =IF(N130="základní",J130,0) -> 0 | BF130: =IF(N130="snížená",J130,0) -> 0 | BG130: =IF(N130="zákl. přenesená",J130,0) -> 0 | BH130: =IF(N130="sníž. přenesená",J130,0) -> 0 | BI130: =IF(N130="nulová",J130,0) -> 0 | BJ130: 1 | BK130: =ROUND(I130*H130,2) -> 0 | BL130: 4 | BM130: 1035105107
D131: PP | F131: Demontáž stávajících poškozených, shnilých dřevěných dluží | AT131: PP | AU131: 2
C132: 4 | D132: K | E132: 934956124 | F132: Hradítka z dubového dřeva tl 50 mm | G132: m2 | H132: 37.2 | J132: =ROUND(I132*H132,2) -> 0 | N132: základní | P132: =O132*H132 -> 0 | Q132: 0.04622 | R132: =Q132*H132 -> 1.719384 | S132: 0 | T132: =S132*H132 -> 0 | AR132: 4 | AT132: K | AU132: 2 | AY132: ROZPOCET | BE132: =IF(N132="základní",J132,0) -> 0 | BF132: =IF(N132="snížená",J132,0) -> 0 | BG132: =IF(N132="zákl. přenesená",J132,0) -> 0 | BH132: =IF(N132="sníž. přenesená",J132,0) -> 0 | BI132: =IF(N132="nulová",J132,0) -> 0 | BJ132: 1 | BK132: =ROUND(I132*H132,2) -> 0 | BL132: 4 | BM132: -694337100
D133: PP | F133: Přepadová a ochranná zařízení nádrží dřevěná hradítka (dluže požeráku) š.150 mm, bez nátěru, s potřebným kováním z dubového dřeva, tl. 50 mm | AT133: PP | AU133: 2
D134: D | E134: 998 | F134: Přesun hmot | J134: =BK134 -> 0 | P134: =SUM(P135:P136) -> 0 | R134: =SUM(R135:R136) -> 0 | T134: =SUM(T135:T136) -> 0 | AR134: 1 | AT134: D | AU134: 1 | AY134: ROZPOCET | BK134: =SUM(BK135:BK136) -> 0
C135: 5 | D135: K | E135: 998322011 | F135: Přesun hmot pro hráze přehradní zděné, betonové a železobetonové | G135: t | H135: 1.733 | J135: =ROUND(I135*H135,2) -> 0 | N135: základní | P135: =O135*H135 -> 0 | Q135: 0 | R135: =Q135*H135 -> 0 | S135: 0 | T135: =S135*H135 -> 0 | AR135: 4 | AT135: K | AU135: 2 | AY135: ROZPOCET | BE135: =IF(N135="základní",J135,0) -> 0 | BF135: =IF(N135="snížená",J135,0) -> 0 | BG135: =IF(N135="zákl. přenesená",J135,0) -> 0 | BH135: =IF(N135="sníž. přenesená",J135,0) -> 0 | BI135: =IF(N135="nulová",J135,0) -> 0 | BJ135: 1 | BK135: =ROUND(I135*H135,2) -> 0 | BL135: 4 | BM135: 1372801853
D136: PP | F136: Přesun hmot pro objekty hráze přehradní zděné, betonové, železobetonové dopravní vzdálenost do 500 m | AT136: PP | AU136: 2
D137: D | E137: PSV | F137: Práce a dodávky PSV | J137: =BK137 -> 0 | P137: =P138 -> 0 | R137: =R138 -> 0 | T137: =T138 -> 0.01485 | AR137: 2 | AT137: D | AU137: 0 | AY137: ROZPOCET | BK137: =BK138 -> 0
D138: D | E138: 767 | F138: Konstrukce zámečnické | J138: =BK138 -> 0 | P138: =SUM(P139:P146) -> 0 | R138: =SUM(R139:R146) -> 0 | T138: =SUM(T139:T146) -> 0.01485 | AR138: 2 | AT138: D | AU138: 1 | AY138: ROZPOCET | BK138: =SUM(BK139:BK146) -> 0
C139: 6 | D139: K | E139: 767.1 | F139: Ocelové česle, provedení dle PD | G139: kus | H139: 1 | J139: =ROUND(I139*H139,2) -> 0 | N139: základní | P139: =O139*H139 -> 0 | Q139: 0 | R139: =Q139*H139 -> 0 | S139: 0 | T139: =S139*H139 -> 0 | AR139: 16 | AT139: K | AU139: 2 | AY139: ROZPOCET | BE139: =IF(N139="základní",J139,0) -> 0 | BF139: =IF(N139="snížená",J139,0) -> 0 | BG139: =IF(N139="zákl. přenesená",J139,0) -> 0 | BH139: =IF(N139="sníž. přenesená",J139,0) -> 0 | BI139: =IF(N139="nulová",J139,0) -> 0 | BJ139: 1 | BK139: =ROUND(I139*H139,2) -> 0 | BL139: 16 | BM139: -1451867848
D140: PP | F140: Ocelové česle, provedení dle PD | AT140: PP | AU140: 2
C141: 7 | D141: K | E141: 767996801 | F141: Demontáž atypických zámečnických konstrukcí rozebráním hm jednotlivých dílů do 50 kg | G141: kg | H141: 14.85 | J141: =ROUND(I141*H141,2) -> 0 | N141: základní | P141: =O141*H141 -> 0 | Q141: 0 | R141: =Q141*H141 -> 0 | S141: 0.001 | T141: =S141*H141 -> 0.01485 | AR141: 16 | AT141: K | AU141: 2 | AY141: ROZPOCET | BE141: =IF(N141="základní",J141,0) -> 0 | BF141: =IF(N141="snížená",J141,0) -> 0 | BG141: =IF(N141="zákl. přenesená",J141,0) -> 0 | BH141: =IF(N141="sníž. přenesená",J141,0) -> 0 | BI141: =IF(N141="nulová",J141,0) -> 0 | BJ141: 1 | BK141: =ROUND(I141*H141,2) -> 0 | BL141: 16 | BM141: -1879130418
D142: PP | F142: Demontáž ostatních zámečnických konstrukcí rozebráním o hmotnosti jednotlivých dílů do 50 kg | AT142: PP | AU142: 2
D143: VV | F143: 4,7+10,15 | H143: 14.85 | AT143: VV | AU143: 2 | AV143: 2 | AW143: True | AX143: 0 | AY143: ROZPOCET
D144: VV | F144: Součet | H144: 14.85 | AT144: VV | AU144: 2 | AV144: 4 | AW144: True | AX144: 1 | AY144: ROZPOCET
C145: 8 | D145: K | E145: 998767201 | F145: Přesun hmot procentní pro zámečnické konstrukce v objektech v do 6 m | G145: % | J145: =ROUND(I145*H145,2) -> 0 | N145: základní | P145: =O145*H145 -> 0 | Q145: 0 | R145: =Q145*H145 -> 0 | S145: 0 | T145: =S145*H145 -> 0 | AR145: 16 | AT145: K | AU145: 2 | AY145: ROZPOCET | BE145: =IF(N145="základní",J145,0) -> 0 | BF145: =IF(N145="snížená",J145,0) -> 0 | BG145: =IF(N145="zákl. přenesená",J145,0) -> 0 | BH145: =IF(N145="sníž. přenesená",J145,0) -> 0 | BI145: =IF(N145="nulová",J145,0) -> 0 | BJ145: 1 | BK145: =ROUND(I145*H145,2) -> 0 | BL145: 16 | BM145: -1375469508
D146: PP | F146: Přesun hmot pro zámečnické konstrukce stanovený procentní sazbou (%) z ceny vodorovná dopravní vzdálenost do 50 m základní v objektech výšky do 6 m | AT146: PP | AU146: 2

Sheet SO 06 - Oprava kamenného ...
AT2: {87f812a8-b374-46ac-9c5c-6c2f9062ef82}
AT3: 2
D4: KRYCÍ LIST SOUPISU PRACÍ | M4: v --- níže se nacházejí doplnkové a pomocné údaje k sestavám --- v | AT4: False
D6: Stavba:
E7: ='Rekapitulace stavby'!K6 -> Obnova obecního rybníka v k.ú. Žeretice
D8: Objekt:
E9: SO 06 - Oprava kamenného stupně
D11: KSO: | I11: CC-CZ:
D12: Místo: | I12: Datum: | J12: ='Rekapitulace stavby'!AN8 -> 13. 4. 2026
D14: Zadavatel: | I14: IČ: | J14: =IF('Rekapitulace stavby'!AN10="","",'Rekapitulace stavby'!AN10)
E15: =IF('Rekapitulace stavby'!E11="","",'Rekapitulace stavby'!E11) -> Obec Žeretice | I15: DIČ: | J15: =IF('Rekapitulace stavby'!AN11="","",'Rekapitulace stavby'!AN11)
D17: Uchazeč: | I17: IČ: | J17: ='Rekapitulace stavby'!AN13 -> Vyplň údaj
E18: ='Rekapitulace stavby'!E14 -> Vyplň údaj | I18: DIČ: | J18: ='Rekapitulace stavby'!AN14 -> Vyplň údaj
D20: Projektant: | I20: IČ: | J20: =IF('Rekapitulace stavby'!AN16="","",'Rekapitulace stavby'!AN16)
E21: =IF('Rekapitulace stavby'!E17="","",'Rekapitulace stavby'!E17) -> Projektový ateliér Dlabáček s.r.o. | I21: DIČ: | J21: =IF('Rekapitulace stavby'!AN17="","",'Rekapitulace stavby'!AN17)
D23: Zpracovatel: | I23: IČ: | J23: =IF('Rekapitulace stavby'!AN19="","",'Rekapitulace stavby'!AN19)
E24: =IF('Rekapitulace stavby'!E20="","",'Rekapitulace stavby'!E20) | I24: DIČ: | J24: =IF('Rekapitulace stavby'!AN20="","",'Rekapitulace stavby'!AN20)
D26: Poznámka:
D30: Cena bez DPH | J30: =ROUND(J124, 2) -> 0
F32: Základ daně | I32: Sazba daně | J32: Výše daně
D33: DPH | E33: základní | F33: =ROUND((SUM(BE124:BE170)), 2) -> 0 | I33: 0.21 | J33: =ROUND(((SUM(BE124:BE170))*I33), 2) -> 0
E34: snížená | F34: =ROUND((SUM(BF124:BF170)), 2) -> 0 | I34: 0.12 | J34: =ROUND(((SUM(BF124:BF170))*I34), 2) -> 0
E35: zákl. přenesená | F35: =ROUND((SUM(BG124:BG170)), 2) -> 0 | I35: 0.21 | J35: =0 -> 0
E36: sníž. přenesená | F36: =ROUND((SUM(BH124:BH170)), 2) -> 0 | I36: 0.12 | J36: =0 -> 0
E37: nulová | F37: =ROUND((SUM(BI124:BI170)), 2) -> 0 | I37: 0 | J37: =0 -> 0
D39: Cena s DPH | G39: v | H39: CZK | J39: =SUM(J30:J37) -> 0
D50: Projektant | G50: Zpracovatel
D61: Datum a podpis: | F61: Razítko | G61: Datum a podpis: | J61: Razítko
D65: Objednavatel | G65: Uchazeč
D76: Datum a podpis: | F76: Razítko | G76: Datum a podpis: | J76: Razítko
C82: REKAPITULACE ČLENĚNÍ SOUPISU PRACÍ
C84: Stavba:
E85: =E7 -> Obnova obecního rybníka v k.ú. Žeretice
C86: Objekt:
E87: =E9 -> SO 06 - Oprava kamenného stupně
C89: Místo: | F89: =F12 | I89: Datum: | J89: =IF(J12="","",J12) -> 13. 4. 2026
C91: Zadavatel: | F91: =E15 -> Obec Žeretice | I91: Projektant: | J91: =E21 -> Projektový ateliér Dlabáček s.r.o.
C92: Uchazeč: | F92: =IF(E18="","",E18) -> Vyplň údaj | I92: Zpracovatel: | J92: =E24
C94: Kód dílu - Popis | J94: Cena celkem [CZK]
C96: Náklady ze soupisu prací | J96: =J124 -> 0 | AU96: -1
D97: HSV - Práce a dodávky HSV | J97: =J125 -> 0
D98: 1 - Zemní práce | J98: =J126 -> 0
D99: 3 - Svislé a kompletní konstrukce | J99: =J133 -> 0
D100: 6 - Úpravy povrchů, podlahy a osazování výplní | J100: =J141 -> 0
D101: 9 - Ostatní konstrukce a práce, bourání | J101: =J148 -> 0
D102: 96 - Bourání konstrukcí | J102: =J149 -> 0
D103: 997 - Doprava suti a vybouraných hmot | J103: =J157 -> 0
D104: 998 - Přesun hmot | J104: =J168 -> 0
C111: SOUPIS PRACÍ
C113: Stavba:
E114: =E7 -> Obnova obecního rybníka v k.ú. Žeretice
C115: Objekt:
E116: =E9 -> SO 06 - Oprava kamenného stupně
C118: Místo: | F118: =F12 | I118: Datum: | J118: =IF(J12="","",J12) -> 13. 4. 2026
C120: Zadavatel: | F120: =E15 -> Obec Žeretice | I120: Projektant: | J120: =E21 -> Projektový ateliér Dlabáček s.r.o.
C121: Uchazeč: | F121: =IF(E18="","",E18) -> Vyplň údaj | I121: Zpracovatel: | J121: =E24
C123: PČ | D123: Typ | E123: Kód | F123: Popis | G123: MJ | H123: Množství | I123: J.cena [CZK] | J123: Cena celkem [CZK] | K123: Cenová soustava | N123: DPH | O123: J. Nh [h] | P123: Nh celkem [h] | Q123: J. hmotnost [t] | R123: Hmotnost celkem [t] | S123: J. suť [t] | T123: Suť Celkem [t]
C124: Náklady soupisu celkem | J124: =BK124 -> 0 | P124: =P125 -> 0 | R124: =R125 -> 8.3327429 | T124: =T125 -> 7.0914 | AT124: D | AU124: -1 | BK124: =BK125 -> 0
D125: D | E125: HSV | F125: Práce a dodávky HSV | J125: =BK125 -> 0 | P125: =P126+P133+P141+P148+P157+P168 -> 0 | R125: =R126+R133+R141+R148+R157+R168 -> 8.3327429 | T125: =T126+T133+T141+T148+T157+T168 -> 7.0914 | AR125: 1 | AT125: D | AU125: 0 | AY125: ROZPOCET | BK125: =BK126+BK133+BK141+BK148+BK157+BK168 -> 0
D126: D | E126: 1 | F126: Zemní práce | J126: =BK126 -> 0 | P126: =SUM(P127:P132) -> 0 | R126: =SUM(R127:R132) -> 0 | T126: =SUM(T127:T132) -> 0 | AR126: 1 | AT126: D | AU126: 1 | AY126: ROZPOCET | BK126: =SUM(BK127:BK132) -> 0
C127: 1 | D127: K | E127: 114203202 | F127: Očištění lomového kamene nebo betonových tvárnic od malty | G127: m3 | H127: 2.676 | J127: =ROUND(I127*H127,2) -> 0 | N127: základní | P127: =O127*H127 -> 0 | Q127: 0 | R127: =Q127*H127 -> 0 | S127: 0 | T127: =S127*H127 -> 0 | AR127: 4 | AT127: K | AU127: 2 | AY127: ROZPOCET | BE127: =IF(N127="základní",J127,0) -> 0 | BF127: =IF(N127="snížená",J127,0) -> 0 | BG127: =IF(N127="zákl. přenesená",J127,0) -> 0 | BH127: =IF(N127="sníž. přenesená",J127,0) -> 0 | BI127: =IF(N127="nulová",J127,0) -> 0 | BJ127: 1 | BK127: =ROUND(I127*H127,2) -> 0 | BL127: 4 | BM127: -774478326
D128: PP | F128: Očištění lomového kamene nebo betonových tvárnic získaných při rozebrání dlažeb, záhozů, rovnanin a soustřeďovacích staveb od malty | AT128: PP | AU128: 2
D129: VV | F129: Očištění vybouraného kamene, použití na zához | AT129: VV | AU129: 2 | AV129: 1 | AW129: True | AX129: 0 | AY129: ROZPOCET
D130: VV | F130: 2,676 | H130: 2.676 | AT130: VV | AU130: 2 | AV130: 2 | AW130: True | AX130: 1 | AY130: ROZPOCET
C131: 2 | D131: K | E131: 114253301 | F131: Třídění lomového kamene nebo betonových tvárnic podle druhu, velikosti nebo tvaru - strojně | G131: m3 | H131: 2.676 | J131: =ROUND(I131*H131,2) -> 0 | N131: základní | P131: =O131*H131 -> 0 | Q131: 0 | R131: =Q131*H131 -> 0 | S131: 0 | T131: =S131*H131 -> 0 | AR131: 4 | AT131: K | AU131: 2 | AY131: ROZPOCET | BE131: =IF(N131="základní",J131,0) -> 0 | BF131: =IF(N131="snížená",J131,0) -> 0 | BG131: =IF(N131="zákl. přenesená",J131,0) -> 0 | BH131: =IF(N131="sníž. přenesená",J131,0) -> 0 | BI131: =IF(N131="nulová",J131,0) -> 0 | BJ131: 1 | BK131: =ROUND(I131*H131,2) -> 0 | BL131: 4 | BM131: 974013359
D132: PP | F132: Třídění lomového kamene nebo betonových tvárnic strojně získaných při rozebrání dlažeb, záhozů, rovnanin a soustřeďovacích staveb podle druhu, velikosti nebo tvaru | AT132: PP | AU132: 2
D133: D | E133: 3 | F133: Svislé a kompletní konstrukce | J133: =BK133 -> 0 | P133: =SUM(P134:P140) -> 0 | R133: =SUM(R134:R140) -> 8.3327429 | T133: =SUM(T134:T140) -> 0 | AR133: 1 | AT133: D | AU133: 1 | AY133: ROZPOCET | BK133: =SUM(BK134:BK140) -> 0
C134: 3 | D134: K | E134: 321213345 | F134: Zdivo nadzákladové z lomového kamene vodních staveb obkladní s vyspárováním | G134: m3 | H134: 2.676 | J134: =ROUND(I134*H134,2) -> 0 | N134: základní | P134: =O134*H134 -> 0 | Q134: 3.11388 | R134: =Q134*H134 -> 8.3327429 | S134: 0 | T134: =S134*H134 -> 0 | AR134: 4 | AT134: K | AU134: 2 | AY134: ROZPOCET | BE134: =IF(N134="základní",J134,0) -> 0 | BF134: =IF(N134="snížená",J134,0) -> 0 | BG134: =IF(N134="zákl. přenesená",J134,0) -> 0 | BH134: =IF(N134="sníž. přenesená",J134,0) -> 0 | BI134: =IF(N134="nulová",J134,0) -> 0 | BJ134: 1 | BK134: =ROUND(I134*H134,2) -> 0 | BL134: 4 | BM134: -551635773
D135: PP | F135: Zdivo nadzákladové z lomového kamene vodních staveb přehrad, jezů a plavebních komor, spodní stavby vodních elektráren, odběrných věží a výpustných zařízení, opěrných zdí, šachet, šachtic a ostatních konstrukcí obkladní z lomového kamene lomařsky upraveného s vyspárováním, na cementovou maltu | AT135: PP | AU135: 2
D136: VV | F136: Práh | AT136: VV | AU136: 2 | AV136: 1 | AW136: True | AX136: 0 | AY136: ROZPOCET
D137: VV | F137: 5,9*0,4*0,6 | H137: 1.416 | AT137: VV | AU137: 2 | AV137: 2 | AW137: True | AX137: 0 | AY137: ROZPOCET
D138: VV | F138: Čelo | AT138: VV | AU138: 2 | AV138: 1 | AW138: True | AX138: 0 | AY138: ROZPOCET
D139: VV | F139: 7*0,6*0,3 | H139: 1.26 | AT139: VV | AU139: 2 | AV139: 2 | AW139: True | AX139: 0 | AY139: ROZPOCET
D140: VV | F140: Součet | H140: 2.676 | AT140: VV | AU140: 2 | AV140: 4 | AW140: True | AX140: 1 | AY140: ROZPOCET
D141: D | E141: 6 | F141: Úpravy povrchů, podlahy a osazování výplní | J141: =BK141 -> 0 | P141: =SUM(P142:P147) -> 0 | R141: =SUM(R142:R147) -> 0 | T141: =SUM(T142:T147) -> 0 | AR141: 1 | AT141: D | AU141: 1 | AY141: ROZPOCET | BK141: =SUM(BK142:BK147) -> 0
C142: 4 | D142: K | E142: 629995101 | F142: Očištění vnějších ploch tlakovou vodou | G142: m2 | H142: 28.78 | J142: =ROUND(I142*H142,2) -> 0 | N142: základní | P142: =O142*H142 -> 0 | Q142: 0 | R142: =Q142*H142 -> 0 | S142: 0 | T142: =S142*H142 -> 0 | AR142: 4 | AT142: K | AU142: 2 | AY142: ROZPOCET | BE142: =IF(N142="základní",J142,0) -> 0 | BF142: =IF(N142="snížená",J142,0) -> 0 | BG142: =IF(N142="zákl. přenesená",J142,0) -> 0 | BH142: =IF(N142="sníž. přenesená",J142,0) -> 0 | BI142: =IF(N142="nulová",J142,0) -> 0 | BJ142: 1 | BK142: =ROUND(I142*H142,2) -> 0 | BL142: 4 | BM142: -17938216
D143: PP | F143: Očištění vnějších ploch tlakovou vodou omytím tlakovou vodou | AT143: PP | AU143: 2
D144: VV | F144: Očištění stávající plochy | AT144: VV | AU144: 2 | AV144: 1 | AW144: True | AX144: 0 | AY144: ROZPOCET
D145: VV | F145: 6*(1,4+1,4+1) | H145: 22.8 | AT145: VV | AU145: 2 | AV145: 2 | AW145: True | AX145: 0 | AY145: ROZPOCET
D146: VV | F146: 2,3*(1+0,6+1) | H146: 5.98 | AT146: VV | AU146: 2 | AV146: 2 | AW146: True | AX146: 0 | AY146: ROZPOCET
D147: VV | F147: Součet | H147: 28.78 | AT147: VV | AU147: 2 | AV147: 4 | AW147: True | AX147: 1 | AY147: ROZPOCET
D148: D | E148: 9 | F148: Ostatní konstrukce a práce, bourání | J148: =BK148 -> 0 | P148: =P149 -> 0 | R148: =R149 -> 0 | T148: =T149 -> 7.0914 | AR148: 1 | AT148: D | AU148: 1 | AY148: ROZPOCET | BK148: =BK149 -> 0
D149: D | E149: 96 | F149: Bourání konstrukcí | J149: =BK149 -> 0 | P149: =SUM(P150:P156) -> 0 | R149: =SUM(R150:R156) -> 0 | T149: =SUM(T150:T156) -> 7.0914 | AR149: 1 | AT149: D | AU149: 2 | AY149: ROZPOCET | BK149: =SUM(BK150:BK156) -> 0
C150: 5 | D150: K | E150: 960211251 | F150: Bourání vodních staveb zděných z kamene nebo z cihel, z vodní hladiny | G150: m3 | H150: 2.676 | J150: =ROUND(I150*H150,2) -> 0 | N150: základní | P150: =O150*H150 -> 0 | Q150: 0 | R150: =Q150*H150 -> 0 | S150: 2.65 | T150: =S150*H150 -> 7.0914 | AR150: 4 | AT150: K | AU150: 3 | AY150: ROZPOCET | BE150: =IF(N150="základní",J150,0) -> 0 | BF150: =IF(N150="snížená",J150,0) -> 0 | BG150: =IF(N150="zákl. přenesená",J150,0) -> 0 | BH150: =IF(N150="sníž. přenesená",J150,0) -> 0 | BI150: =IF(N150="nulová",J150,0) -> 0 | BJ150: 1 | BK150: =ROUND(I150*H150,2) -> 0 | BL150: 4 | BM150: -1663786517
D151: PP | F151: Bourání konstrukcí vodních staveb z hladiny, s naložením vybouraných hmot a suti na dopravní prostředek nebo s odklizením na hromady do vzdálenosti 20 m zděných z kamene nebo z cihel | AT151: PP | AU151: 3
D152: VV | F152: Poškozený práh | AT152: VV | AU152: 3 | AV152: 1 | AW152: True | AX152: 0 | AY152: ROZPOCET
D153: VV | F153: 5,9*0,6*0,4 | H153: 1.416 | AT153: VV | AU153: 3 | AV153: 2 | AW153: True | AX153: 0 | AY153: ROZPOCET
D154: VV | F154: Čelo 30% | AT154: VV | AU154: 3 | AV154: 1 | AW154: True | AX154: 0 | AY154: ROZPOCET
D155: VV | F155: 7*0,6*0,3 | H155: 1.26 | AT155: VV | AU155: 3 | AV155: 2 | AW155: True | AX155: 0 | AY155: ROZPOCET
D156: VV | F156: Součet | H156: 2.676 | AT156: VV | AU156: 3 | AV156: 4 | AW156: True | AX156: 1 | AY156: ROZPOCET
D157: D | E157: 997 | F157: Doprava suti a vybouraných hmot | J157: =BK157 -> 0 | P157: =SUM(P158:P167) -> 0 | R157: =SUM(R158:R167) -> 0 | T157: =SUM(T158:T167) -> 0 | AR157: 1 | AT157: D | AU157: 1 | AY157: ROZPOCET | BK157: =SUM(BK158:BK167) -> 0
C158: 7 | D158: K | E158: 997321611 | F158: Nakládání nebo překládání suti a vybouraných hmot | G158: t | H158: 2.445 | J158: =ROUND(I158*H158,2) -> 0 | N158: základní | P158: =O158*H158 -> 0 | Q158: 0 | R158: =Q158*H158 -> 0 | S158: 0 | T158: =S158*H158 -> 0 | AR158: 4 | AT158: K | AU158: 2 | AY158: ROZPOCET | BE158: =IF(N158="základní",J158,0) -> 0 | BF158: =IF(N158="snížená",J158,0) -> 0 | BG158: =IF(N158="zákl. přenesená",J158,0) -> 0 | BH158: =IF(N158="sníž. přenesená",J158,0) -> 0 | BI158: =IF(N158="nulová",J158,0) -> 0 | BJ158: 1 | BK158: =ROUND(I158*H158,2) -> 0 | BL158: 4 | BM158: 1792941269
D159: PP | F159: Vodorovná doprava suti a vybouraných hmot bez naložení, s vyložením a hrubým urovnáním nakládání nebo překládání na dopravní prostředek při vodorovné dopravě suti a vybouraných hmot | AT159: PP | AU159: 2
C160: 6 | D160: K | E160: 997321511 | F160: Vodorovná doprava suti a vybouraných hmot po suchu do 1 km | G160: t | H160: 2.445 | J160: =ROUND(I160*H160,2) -> 0 | N160: základní | P160: =O160*H160 -> 0 | Q160: 0 | R160: =Q160*H160 -> 0 | S160: 0 | T160: =S160*H160 -> 0 | AR160: 4 | AT160: K | AU160: 2 | AY160: ROZPOCET | BE160: =IF(N160="základní",J160,0) -> 0 | BF160: =IF(N160="snížená",J160,0) -> 0 | BG160: =IF(N160="zákl. přenesená",J160,0) -> 0 | BH160: =IF(N160="sníž. přenesená",J160,0) -> 0 | BI160: =IF(N160="nulová",J160,0) -> 0 | BJ160: 1 | BK160: =ROUND(I160*H160,2) -> 0 | BL160: 4 | BM160: 122863671
D161: PP | F161: Vodorovná doprava suti a vybouraných hmot bez naložení, s vyložením a hrubým urovnáním po suchu, na vzdálenost do 1 km | AT161: PP | AU161: 2
C162: 8 | D162: K | E162: 997321519 | F162: Příplatek ZKD 1 km vodorovné dopravy suti a vybouraných hmot po suchu | G162: t | H162: 46.455 | J162: =ROUND(I162*H162,2) -> 0 | N162: základní | P162: =O162*H162 -> 0 | Q162: 0 | R162: =Q162*H162 -> 0 | S162: 0 | T162: =S162*H162 -> 0 | AR162: 4 | AT162: K | AU162: 2 | AY162: ROZPOCET | BE162: =IF(N162="základní",J162,0) -> 0 | BF162: =IF(N162="snížená",J162,0) -> 0 | BG162: =IF(N162="zákl. přenesená",J162,0) -> 0 | BH162: =IF(N162="sníž. přenesená",J162,0) -> 0 | BI162: =IF(N162="nulová",J162,0) -> 0 | BJ162: 1 | BK162: =ROUND(I162*H162,2) -> 0 | BL162: 4 | BM162: 421438078
D163: PP | F163: Vodorovná doprava suti a vybouraných hmot bez naložení, s vyložením a hrubým urovnáním po suchu, na vzdálenost Příplatek k cenám za každý další započatý 1 km přes 1 km | AT163: PP | AU163: 2
D164: VV | F164: 2,445*19 | H164: 46.455 | AT164: VV | AU164: 2 | AV164: 2 | AW164: True | AX164: 0 | AY164: ROZPOCET
D165: VV | F165: Součet | H165: 46.455 | AT165: VV | AU165: 2 | AV165: 4 | AW165: True | AX165: 1 | AY165: ROZPOCET
C166: 9 | D166: K | E166: 997013871 | F166: Poplatek za předání recyklačnímu zařízení stavebního odpadu směsného stavebního a demoličního kód odpadu 17 09 04 | G166: t | H166: 2.445 | J166: =ROUND(I166*H166,2) -> 0 | N166: základní | P166: =O166*H166 -> 0 | Q166: 0 | R166: =Q166*H166 -> 0 | S166: 0 | T166: =S166*H166 -> 0 | AR166: 4 | AT166: K | AU166: 2 | AY166: ROZPOCET | BE166: =IF(N166="základní",J166,0) -> 0 | BF166: =IF(N166="snížená",J166,0) -> 0 | BG166: =IF(N166="zákl. přenesená",J166,0) -> 0 | BH166: =IF(N166="sníž. přenesená",J166,0) -> 0 | BI166: =IF(N166="nulová",J166,0) -> 0 | BJ166: 1 | BK166: =ROUND(I166*H166,2) -> 0 | BL166: 4 | BM166: -944714624
...

Sheet VRN - Vedlejší rozpočtové...
AT2: {60aa0245-a777-460b-bbea-af6df86799c0}
AT3: 2
D4: KRYCÍ LIST SOUPISU PRACÍ | M4: v --- níže se nacházejí doplnkové a pomocné údaje k sestavám --- v | AT4: False
D6: Stavba:
E7: ='Rekapitulace stavby'!K6 -> Obnova obecního rybníka v k.ú. Žeretice
D8: Objekt:
E9: VRN - Vedlejší rozpočtové náklady
D11: KSO: | I11: CC-CZ:
D12: Místo: | I12: Datum: | J12: ='Rekapitulace stavby'!AN8 -> 13. 4. 2026
D14: Zadavatel: | I14: IČ: | J14: =IF('Rekapitulace stavby'!AN10="","",'Rekapitulace stavby'!AN10)
E15: =IF('Rekapitulace stavby'!E11="","",'Rekapitulace stavby'!E11) -> Obec Žeretice | I15: DIČ: | J15: =IF('Rekapitulace stavby'!AN11="","",'Rekapitulace stavby'!AN11)
D17: Uchazeč: | I17: IČ: | J17: ='Rekapitulace stavby'!AN13 -> Vyplň údaj
E18: ='Rekapitulace stavby'!E14 -> Vyplň údaj | I18: DIČ: | J18: ='Rekapitulace stavby'!AN14 -> Vyplň údaj
D20: Projektant: | I20: IČ: | J20: =IF('Rekapitulace stavby'!AN16="","",'Rekapitulace stavby'!AN16)
E21: =IF('Rekapitulace stavby'!E17="","",'Rekapitulace stavby'!E17) -> Projektový ateliér Dlabáček s.r.o. | I21: DIČ: | J21: =IF('Rekapitulace stavby'!AN17="","",'Rekapitulace stavby'!AN17)
D23: Zpracovatel: | I23: IČ: | J23: =IF('Rekapitulace stavby'!AN19="","",'Rekapitulace stavby'!AN19)
E24: =IF('Rekapitulace stavby'!E20="","",'Rekapitulace stavby'!E20) | I24: DIČ: | J24: =IF('Rekapitulace stavby'!AN20="","",'Rekapitulace stavby'!AN20)
D26: Poznámka:
D30: Cena bez DPH | J30: =ROUND(J121, 2) -> 0
F32: Základ daně | I32: Sazba daně | J32: Výše daně
D33: DPH | E33: základní | F33: =ROUND((SUM(BE121:BE144)), 2) -> 0 | I33: 0.21 | J33: =ROUND(((SUM(BE121:BE144))*I33), 2) -> 0
E34: snížená | F34: =ROUND((SUM(BF121:BF144)), 2) -> 0 | I34: 0.12 | J34: =ROUND(((SUM(BF121:BF144))*I34), 2) -> 0
E35: zákl. přenesená | F35: =ROUND((SUM(BG121:BG144)), 2) -> 0 | I35: 0.21 | J35: =0 -> 0
E36: sníž. přenesená | F36: =ROUND((SUM(BH121:BH144)), 2) -> 0 | I36: 0.12 | J36: =0 -> 0
E37: nulová | F37: =ROUND((SUM(BI121:BI144)), 2) -> 0 | I37: 0 | J37: =0 -> 0
D39: Cena s DPH | G39: v | H39: CZK | J39: =SUM(J30:J37) -> 0
D50: Projektant | G50: Zpracovatel
D61: Datum a podpis: | F61: Razítko | G61: Datum a podpis: | J61: Razítko
D65: Objednavatel | G65: Uchazeč
D76: Datum a podpis: | F76: Razítko | G76: Datum a podpis: | J76: Razítko
C82: REKAPITULACE ČLENĚNÍ SOUPISU PRACÍ
C84: Stavba:
E85: =E7 -> Obnova obecního rybníka v k.ú. Žeretice
C86: Objekt:
E87: =E9 -> VRN - Vedlejší rozpočtové náklady
C89: Místo: | F89: =F12 | I89: Datum: | J89: =IF(J12="","",J12) -> 13. 4. 2026
C91: Zadavatel: | F91: =E15 -> Obec Žeretice | I91: Projektant: | J91: =E21 -> Projektový ateliér Dlabáček s.r.o.
C92: Uchazeč: | F92: =IF(E18="","",E18) -> Vyplň údaj | I92: Zpracovatel: | J92: =E24
C94: Kód dílu - Popis | J94: Cena celkem [CZK]
C96: Náklady ze soupisu prací | J96: =J121 -> 0 | AU96: -1
D97: VRN - Vedlejší rozpočtové náklady | J97: =J122 -> 0
D98: VRN1 - Průzkumné, zeměměřičské a projektové práce | J98: =J123 -> 0
D99: VRN3 - Zařízení staveniště | J99: =J132 -> 0
D100: VRN6 - Územní vlivy | J100: =J139 -> 0
D101: VRN7 - Provozní vlivy | J101: =J142 -> 0
C108: SOUPIS PRACÍ
C110: Stavba:
E111: =E7 -> Obnova obecního rybníka v k.ú. Žeretice
C112: Objekt:
E113: =E9 -> VRN - Vedlejší rozpočtové náklady
C115: Místo: | F115: =F12 | I115: Datum: | J115: =IF(J12="","",J12) -> 13. 4. 2026
C117: Zadavatel: | F117: =E15 -> Obec Žeretice | I117: Projektant: | J117: =E21 -> Projektový ateliér Dlabáček s.r.o.
C118: Uchazeč: | F118: =IF(E18="","",E18) -> Vyplň údaj | I118: Zpracovatel: | J118: =E24
C120: PČ | D120: Typ | E120: Kód | F120: Popis | G120: MJ | H120: Množství | I120: J.cena [CZK] | J120: Cena celkem [CZK] | K120: Cenová soustava | N120: DPH | O120: J. Nh [h] | P120: Nh celkem [h] | Q120: J. hmotnost [t] | R120: Hmotnost celkem [t] | S120: J. suť [t] | T120: Suť Celkem [t]
C121: Náklady soupisu celkem | J121: =BK121 -> 0 | P121: =P122 -> 0 | R121: =R122 -> 0 | T121: =T122 -> 0 | AT121: D | AU121: -1 | BK121: =BK122 -> 0
D122: D | E122: VRN | F122: Vedlejší rozpočtové náklady | J122: =BK122 -> 0 | P122: =P123+P132+P139+P142 -> 0 | R122: =R123+R132+R139+R142 -> 0 | T122: =T123+T132+T139+T142 -> 0 | AR122: 5 | AT122: D | AU122: 0 | AY122: ROZPOCET | BK122: =BK123+BK132+BK139+BK142 -> 0
D123: D | E123: VRN1 | F123: Průzkumné, zeměměřičské a projektové práce | J123: =BK123 -> 0 | P123: =SUM(P124:P131) -> 0 | R123: =SUM(R124:R131) -> 0 | T123: =SUM(T124:T131) -> 0 | AR123: 5 | AT123: D | AU123: 1 | AY123: ROZPOCET | BK123: =SUM(BK124:BK131) -> 0
C124: 1 | D124: K | E124: 012203000 | F124: Zeměměřičské práce před výstavbou | G124: kpl | H124: 1 | J124: =ROUND(I124*H124,2) -> 0 | N124: základní | P124: =O124*H124 -> 0 | Q124: 0 | R124: =Q124*H124 -> 0 | S124: 0 | T124: =S124*H124 -> 0 | AR124: 1024 | AT124: K | AU124: 2 | AY124: ROZPOCET | BE124: =IF(N124="základní",J124,0) -> 0 | BF124: =IF(N124="snížená",J124,0) -> 0 | BG124: =IF(N124="zákl. přenesená",J124,0) -> 0 | BH124: =IF(N124="sníž. přenesená",J124,0) -> 0 | BI124: =IF(N124="nulová",J124,0) -> 0 | BJ124: 1 | BK124: =ROUND(I124*H124,2) -> 0 | BL124: 1024 | BM124: 967069649
D125: PP | F125: Zeměměřičské práce před výstavbou | AT125: PP | AU125: 2
C126: 2 | D126: K | E126: 012303000 | F126: Zeměměřičské práce při provádění stavby | G126: kpl | H126: 1 | J126: =ROUND(I126*H126,2) -> 0 | N126: základní | P126: =O126*H126 -> 0 | Q126: 0 | R126: =Q126*H126 -> 0 | S126: 0 | T126: =S126*H126 -> 0 | AR126: 1024 | AT126: K | AU126: 2 | AY126: ROZPOCET | BE126: =IF(N126="základní",J126,0) -> 0 | BF126: =IF(N126="snížená",J126,0) -> 0 | BG126: =IF(N126="zákl. přenesená",J126,0) -> 0 | BH126: =IF(N126="sníž. přenesená",J126,0) -> 0 | BI126: =IF(N126="nulová",J126,0) -> 0 | BJ126: 1 | BK126: =ROUND(I126*H126,2) -> 0 | BL126: 1024 | BM126: 1719018013
D127: PP | F127: Zeměměřičské práce při provádění stavby | AT127: PP | AU127: 2
C128: 3 | D128: K | E128: 012354000 | F128: Zaměření a výpočet kubatur stavebních (zemních) prací | G128: kpl | H128: 1 | J128: =ROUND(I128*H128,2) -> 0 | N128: základní | P128: =O128*H128 -> 0 | Q128: 0 | R128: =Q128*H128 -> 0 | S128: 0 | T128: =S128*H128 -> 0 | AR128: 1024 | AT128: K | AU128: 2 | AY128: ROZPOCET | BE128: =IF(N128="základní",J128,0) -> 0 | BF128: =IF(N128="snížená",J128,0) -> 0 | BG128: =IF(N128="zákl. přenesená",J128,0) -> 0 | BH128: =IF(N128="sníž. přenesená",J128,0) -> 0 | BI128: =IF(N128="nulová",J128,0) -> 0 | BJ128: 1 | BK128: =ROUND(I128*H128,2) -> 0 | BL128: 1024 | BM128: -148265178
D129: PP | F129: Zaměření a výpočet kubatur stavebních (zemních) prací | AT129: PP | AU129: 2
C130: 4 | D130: K | E130: 012444000 | F130: Geodetické měření skutečného provedení stavby | G130: kpl | H130: 1 | J130: =ROUND(I130*H130,2) -> 0 | N130: základní | P130: =O130*H130 -> 0 | Q130: 0 | R130: =Q130*H130 -> 0 | S130: 0 | T130: =S130*H130 -> 0 | AR130: 1024 | AT130: K | AU130: 2 | AY130: ROZPOCET | BE130: =IF(N130="základní",J130,0) -> 0 | BF130: =IF(N130="snížená",J130,0) -> 0 | BG130: =IF(N130="zákl. přenesená",J130,0) -> 0 | BH130: =IF(N130="sníž. přenesená",J130,0) -> 0 | BI130: =IF(N130="nulová",J130,0) -> 0 | BJ130: 1 | BK130: =ROUND(I130*H130,2) -> 0 | BL130: 1024 | BM130: -461311505
D131: PP | F131: Geodetické měření skutečného provedení stavby | AT131: PP | AU131: 2
D132: D | E132: VRN3 | F132: Zařízení staveniště | J132: =BK132 -> 0 | P132: =SUM(P133:P138) -> 0 | R132: =SUM(R133:R138) -> 0 | T132: =SUM(T133:T138) -> 0 | AR132: 5 | AT132: D | AU132: 1 | AY132: ROZPOCET | BK132: =SUM(BK133:BK138) -> 0
C133: 5 | D133: K | E133: 030001000 | F133: Zařízení staveniště | G133: kpl | H133: 1 | J133: =ROUND(I133*H133,2) -> 0 | N133: základní | P133: =O133*H133 -> 0 | Q133: 0 | R133: =Q133*H133 -> 0 | S133: 0 | T133: =S133*H133 -> 0 | AR133: 1024 | AT133: K | AU133: 2 | AY133: ROZPOCET | BE133: =IF(N133="základní",J133,0) -> 0 | BF133: =IF(N133="snížená",J133,0) -> 0 | BG133: =IF(N133="zákl. přenesená",J133,0) -> 0 | BH133: =IF(N133="sníž. přenesená",J133,0) -> 0 | BI133: =IF(N133="nulová",J133,0) -> 0 | BJ133: 1 | BK133: =ROUND(I133*H133,2) -> 0 | BL133: 1024 | BM133: 1167799383
D134: PP | F134: Zařízení staveniště | AT134: PP | AU134: 2
C135: 6 | D135: K | E135: 034002000 | F135: Zabezpečení staveniště | G135: kpl | H135: 1 | J135: =ROUND(I135*H135,2) -> 0 | N135: základní | P135: =O135*H135 -> 0 | Q135: 0 | R135: =Q135*H135 -> 0 | S135: 0 | T135: =S135*H135 -> 0 | AR135: 1024 | AT135: K | AU135: 2 | AY135: ROZPOCET | BE135: =IF(N135="základní",J135,0) -> 0 | BF135: =IF(N135="snížená",J135,0) -> 0 | BG135: =IF(N135="zákl. přenesená",J135,0) -> 0 | BH135: =IF(N135="sníž. přenesená",J135,0) -> 0 | BI135: =IF(N135="nulová",J135,0) -> 0 | BJ135: 1 | BK135: =ROUND(I135*H135,2) -> 0 | BL135: 1024 | BM135: -810245520
D136: PP | F136: Zabezpečení staveniště | AT136: PP | AU136: 2
C137: 7 | D137: K | E137: 034203000 | F137: Opatření na ochranu pozemků sousedních se staveništěm | G137: kpl | H137: 1 | J137: =ROUND(I137*H137,2) -> 0 | N137: základní | P137: =O137*H137 -> 0 | Q137: 0 | R137: =Q137*H137 -> 0 | S137: 0 | T137: =S137*H137 -> 0 | AR137: 1024 | AT137: K | AU137: 2 | AY137: ROZPOCET | BE137: =IF(N137="základní",J137,0) -> 0 | BF137: =IF(N137="snížená",J137,0) -> 0 | BG137: =IF(N137="zákl. přenesená",J137,0) -> 0 | BH137: =IF(N137="sníž. přenesená",J137,0) -> 0 | BI137: =IF(N137="nulová",J137,0) -> 0 | BJ137: 1 | BK137: =ROUND(I137*H137,2) -> 0 | BL137: 1024 | BM137: -1481634638
D138: PP | F138: Opatření na ochranu pozemků sousedních se staveništěm | AT138: PP | AU138: 2
D139: D | E139: VRN6 | F139: Územní vlivy | J139: =BK139 -> 0 | P139: =SUM(P140:P141) -> 0 | R139: =SUM(R140:R141) -> 0 | T139: =SUM(T140:T141) -> 0 | AR139: 5 | AT139: D | AU139: 1 | AY139: ROZPOCET | BK139: =SUM(BK140:BK141) -> 0
C140: 8 | D140: K | E140: 060001000 | F140: Územní vlivy | G140: kpl | H140: 1 | J140: =ROUND(I140*H140,2) -> 0 | N140: základní | P140: =O140*H140 -> 0 | Q140: 0 | R140: =Q140*H140 -> 0 | S140: 0 | T140: =S140*H140 -> 0 | AR140: 1024 | AT140: K | AU140: 2 | AY140: ROZPOCET | BE140: =IF(N140="základní",J140,0) -> 0 | BF140: =IF(N140="snížená",J140,0) -> 0 | BG140: =IF(N140="zákl. přenesená",J140,0) -> 0 | BH140: =IF(N140="sníž. přenesená",J140,0) -> 0 | BI140: =IF(N140="nulová",J140,0) -> 0 | BJ140: 1 | BK140: =ROUND(I140*H140,2) -> 0 | BL140: 1024 | BM140: 1173123535
D141: PP | F141: Územní vlivy | AT141: PP | AU141: 2
D142: D | E142: VRN7 | F142: Provozní vlivy | J142: =BK142 -> 0 | P142: =SUM(P143:P144) -> 0 | R142: =SUM(R143:R144) -> 0 | T142: =SUM(T143:T144) -> 0 | AR142: 5 | AT142: D | AU142: 1 | AY142: ROZPOCET | BK142: =SUM(BK143:BK144) -> 0
C143: 9 | D143: K | E143: 070001000 | F143: Provozní vlivy | G143: kpl | H143: 1 | J143: =ROUND(I143*H143,2) -> 0 | N143: základní | P143: =O143*H143 -> 0 | Q143: 0 | R143: =Q143*H143 -> 0 | S143: 0 | T143: =S143*H143 -> 0 | AR143: 1024 | AT143: K | AU143: 2 | AY143: ROZPOCET | BE143: =IF(N143="základní",J143,0) -> 0 | BF143: =IF(N143="snížená",J143,0) -> 0 | BG143: =IF(N143="zákl. přenesená",J143,0) -> 0 | BH143: =IF(N143="sníž. přenesená",J143,0) -> 0 | BI143: =IF(N143="nulová",J143,0) -> 0 | BJ143: 1 | BK143: =ROUND(I143*H143,2) -> 0 | BL143: 1024 | BM143: 1148216700
D144: PP | F144: Provozní vlivy | AT144: PP | AU144: 2
