Workbook

Sheet Rekapitulace
A1: EstiCon | B1: Firma:
B2: Rekapitulace ceny
B4: Stavba: 02102024 - SYROVICE - SOBOTOVSKÁ - Obec
B6: Celková cena bez DPH: | C6: =SUM(C10:C18) -> 0
B7: Celková cena s DPH: | C7: =SUM(E10:E18) -> 0
A9: Objekt | B9: Popis | C9: Cena bez DPH | D9: DPH | E9: Cena s DPH
A10: 00 | B10: Ostatní náklady | C10: ='00'!I3 -> 0 | D10: =SUMIFS('00'!O:O,'00'!A:A,"P") -> 0 | E10: =C10+D10 -> 0
A11: 000 | B11: Vedlejší náklady | C11: ='000'!I3 -> 0 | D11: =SUMIFS('000'!O:O,'000'!A:A,"P") -> 0 | E11: =C11+D11 -> 0
A12: SO 101.2 | B12: CHODNÍKY | C12: ='SO 101.2'!I3 -> 0 | D12: =SUMIFS('SO 101.2'!O:O,'SO 101.2'!A:A,"P") -> 0 | E12: =C12+D12 -> 0
A13: SO 101.4 | B13: PŘÍSTŘEŠEK AUTOBUSOVÉ ZASTÁVKY SOBOTOVICE-SYROVICE | C13: ='SO 101.4'!I3 -> 0 | D13: =SUMIFS('SO 101.4'!O:O,'SO 101.4'!A:A,"P") -> 0 | E13: =C13+D13 -> 0
A14: SO 101.5 | B14: PŘÍSTŘEŠEK AUTOBUSOVÉ ZASTÁVKY SYROVICE-SOBOTOVICE | C14: ='SO 101.5'!I3 -> 0 | D14: =SUMIFS('SO 101.5'!O:O,'SO 101.5'!A:A,"P") -> 0 | E14: =C14+D14 -> 0
A15: SO 301.1 | B15: DEŠŤOVÁ KANALIZACE (Podíl SUS JMK 66,2%, podíl Obec Syrovice 33,8%) | C15: ='SO 301.1'!I3 -> 0 | D15: =SUMIFS('SO 301.1'!O:O,'SO 301.1'!A:A,"P") -> 0 | E15: =C15+D15 -> 0
A16: SO 301.2 | B16: DEŠŤOVÁ KANALIZACE UV9-UV14 (Podíl SUS JMK 66,2%, podíl Obec Syrovice 33,8%) | C16: ='SO 301.2'!I3 -> 0 | D16: =SUMIFS('SO 301.2'!O:O,'SO 301.2'!A:A,"P") -> 0 | E16: =C16+D16 -> 0
A17: SO 401 | B17: VEŘEJNÉ OSVĚTLENÍ | C17: ='SO 401'!I3 -> 0 | D17: =SUMIFS('SO 401'!O:O,'SO 401'!A:A,"P") -> 0 | E17: =C17+D17 -> 0
A18: SO 901 | B18: OPĚRNÉ ZDI | C18: ='SO 901'!I3 -> 0 | D18: =SUMIFS('SO 901'!O:O,'SO 901'!A:A,"P") -> 0 | E18: =C18+D18 -> 0

Sheet 00
A1: EstiCon | E1: Firma: | P1: 3
E2: Soupis prací objektu
A3: S | B3: Stavba: | C3: 02102024 | E3: SYROVICE - SOBOTOVSKÁ - Obec | H3: 00 | I3: =SUMIFS(I8:I20,A8:A20,"SD") -> 0 | O3: 0 | P3: 2
A4: O | B4: Rozpočet: | C4: 00 | E4: Ostatní náklady | O4: 0.12 | P4: 2
A5: Typ | B5: Poř. číslo | C5: Kód položky | D5: Varianta | E5: Název Položky | F5: MJ | G5: Množství | H5: Cena | J5: Cenová soustava | O5: 0.21
H6: Jednotková | I6: Celkem
A7: 0 | B7: 1 | C7: 2 | D7: 3 | E7: 4 | F7: 5 | G7: 6 | H7: 7 | I7: 8 | J7: 9
A8: SD | C8: 0 | E8: Všeobecné konstrukce a práce | I8: =SUMIFS(I9:I20,A9:A20,"P") -> 0
A9: P | B9: 1 | C9: 029113 | E9: OSTATNÍ POŽADAVKY - GEODETICKÉ ZAMĚŘENÍ - CELKY | F9: KPL | G9: 1 | H9: 0 | I9: =ROUND(G9*H9,P4) -> 0 | O9: =I9*0.21 -> 0 | P9: 3
A10: PP
A11: TS | E11: Položka zahrnuje: - veškeré náklady spojené s objednatelem požadovanými pracemi - položka se využije pro celky 3D charakteru (objekty s vysokou mírou nepravidelnosti vzájemně navazujících částí, technologické a průmyslové celky) Položka nezahrnuje: - x
A12: P | B12: 2 | C12: 02943 | E12: OSTATNÍ POŽADAVKY - VYPRACOVÁNÍ RDS | F12: KPL | G12: 1 | H12: 0 | I12: =ROUND(G12*H12,P4) -> 0 | O12: =I12*0.21 -> 0 | P12: 3
A13: PP
A14: TS | E14: Položka zahrnuje: - veškeré náklady spojené s objednatelem požadovanými pracemi Položka nezahrnuje: - x
A15: P | B15: 3 | C15: 02944 | E15: OSTAT POŽADAVKY - DOKUMENTACE SKUTEČ PROVEDENÍ V DIGIT FORMĚ | F15: KPL | G15: 1 | H15: 0 | I15: =ROUND(G15*H15,P4) -> 0 | O15: =I15*0.21 -> 0 | P15: 3
A16: PP
A17: TS | E17: Položka zahrnuje: - kompletní zeměměřičské práce a činnosti spojené se zaměřením a vyhotovením všech dokončených dílčích částí stavby, včetně po celkovém dokončení stavby zakrytých částí. Vyhotovení geodetické dokumentace skutečného provedení, svojí podrobností, obsahem, přesností, náležitostmi, formou prezentace musí být v souladu s požadavky, vycházející s aktuálně platné legislativy. Položka nezahrnuje: - x
A18: P | B18: 4 | C18: 02945 | E18: OSTAT POŽADAVKY - GEOMETRICKÝ PLÁN | F18: HM | G18: 1 | H18: 0 | I18: =ROUND(G18*H18,P4) -> 0 | O18: =I18*0.21 -> 0 | P18: 3
A19: PP
A20: TS | E20: Položka zahrnuje: - zajištění všech dostupných podkladů pro vyhotovení geometrického plánu investorem - polní práce spojené s vyhotovením geometrického plánu - výpočetní a grafické kancelářské práce spojené s vyhotovením geometrického plánu - autorizace výsledného elaborátu geometrického plánu Autorizovaným Zeměměřičským Inženýrem (AZI) - zajištění formální a technické kontroly, včetně potvrzení geometrického plánu místně příslušným katastrálním pracovištěm

Sheet 000
A1: EstiCon | E1: Firma: | P1: 3
E2: Soupis prací objektu
A3: S | B3: Stavba: | C3: 02102024 | E3: SYROVICE - SOBOTOVSKÁ - Obec | H3: 000 | I3: =SUMIFS(I8:I29,A8:A29,"SD") -> 0 | O3: 0 | P3: 2
A4: O | B4: Rozpočet: | C4: 000 | E4: Vedlejší náklady | O4: 0.12 | P4: 2
A5: Typ | B5: Poř. číslo | C5: Kód položky | D5: Varianta | E5: Název Položky | F5: MJ | G5: Množství | H5: Cena | J5: Cenová soustava | O5: 0.21
H6: Jednotková | I6: Celkem
A7: 0 | B7: 1 | C7: 2 | D7: 3 | E7: 4 | F7: 5 | G7: 6 | H7: 7 | I7: 8 | J7: 9
A8: SD | C8: 0 | E8: Všeobecné konstrukce a práce | I8: =SUMIFS(I9:I29,A9:A29,"P") -> 0
A9: P | B9: 1 | C9: 00001 | D9: R | E9: Vytyčení veškerých inženýrských sítí v prostoru staveniště - popsáno v obchodních podmínkách a v projektové dokumentaci | F9: KPL | G9: 1 | H9: 0 | I9: =ROUND(G9*H9,P4) -> 0 | O9: =I9*0.21 -> 0 | P9: 3
A10: PP
A11: TS
A12: P | B12: 2 | C12: 00002 | D12: R | E12: Zřízení a odstranění zařízení staveniště - popsáno v obchodních podmínkách | F12: KPL | G12: 1 | H12: 0 | I12: =ROUND(G12*H12,P4) -> 0 | O12: =I12*0.21 -> 0 | P12: 3
A13: PP
A14: TS
A15: P | B15: 3 | C15: 00003 | D15: R | E15: Zajištění povolení k uzavírkám - popsáno v obchodních podmínkách, v zákoně č. 13/1997 Sb., a vyhlášce č. 104/1997 | F15: KPL | G15: 1 | H15: 0 | I15: =ROUND(G15*H15,P4) -> 0 | O15: =I15*0.21 -> 0 | P15: 3
A16: PP
A17: TS
A18: P | B18: 4 | C18: 00004 | D18: R | E18: Zajištění stanovení, umístění, údržbu, přemístění a odstranění dočasného dopravního značení - popsáno v projektové dokumentaci | F18: KPL | G18: 1 | H18: 0 | I18: =ROUND(G18*H18,P4) -> 0 | O18: =I18*0.21 -> 0 | P18: 3
A19: PP
A20: TS
A21: P | B21: 5 | C21: 00005 | D21: R | E21: Zajištění přístupů a příjezdů k sousedním nemovitostem - popsáno v obchodních podmínkách, v zákoně č. 13/1997 Sb., a vyhlášce č. 104/1997 | F21: KPL | G21: 1 | H21: 0 | I21: =ROUND(G21*H21,P4) -> 0 | O21: =I21*0.21 -> 0 | P21: 3
A22: PP
A23: TS
A24: P | B24: 6 | C24: 00006 | D24: R | E24: Zajištění provedení a výstupů veškerých zkoušek a revizí - popsáno v obchodních podmínkách, technických podmínkách a normách ČSN | F24: KPL | G24: 1 | H24: 0 | I24: =ROUND(G24*H24,P4) -> 0 | O24: =I24*0.21 -> 0 | P24: 3
A25: PP
A26: TS
A27: P | B27: 7 | C27: 00007 | D27: R | E27: Bezpečnostní opatření - popsáno v projektové dokumentaci | F27: KPL | G27: 1 | H27: 0 | I27: =ROUND(G27*H27,P4) -> 0 | O27: =I27*0.21 -> 0 | P27: 3
A28: PP
A29: TS

Sheet SO 101.2
A1: EstiCon | E1: Firma: | P1: 3
E2: Soupis prací objektu
A3: S | B3: Stavba: | C3: 02102024 | E3: SYROVICE - SOBOTOVSKÁ - Obec | H3: SO 101.2 | I3: =SUMIFS(I8:I147,A8:A147,"SD") -> 0 | O3: 0 | P3: 2
A4: O | B4: Rozpočet: | C4: SO 101.2 | E4: CHODNÍKY | O4: 0.12 | P4: 2
A5: Typ | B5: Poř. číslo | C5: Kód položky | D5: Varianta | E5: Název Položky | F5: MJ | G5: Množství | H5: Cena | J5: Cenová soustava | O5: 0.21
H6: Jednotková | I6: Celkem
A7: 0 | B7: 1 | C7: 2 | D7: 3 | E7: 4 | F7: 5 | G7: 6 | H7: 7 | I7: 8 | J7: 9
A8: SD | C8: 0 | E8: Všeobecné konstrukce a práce | I8: =SUMIFS(I9:I12,A9:A12,"P") -> 0
A9: P | B9: 37 | C9: 014102 | E9: POPLATKY ZA SKLÁDKU | F9: T | G9: 2490.63 | H9: 0 | I9: =ROUND(G9*H9,P4) -> 0 | O9: =I9*0.21 -> 0 | P9: 3
A10: PP
A11: VV | E11: (467,715+766,6+11)*2,0 = 2490,630 [A]
A12: TS | E12: Položka zahrnuje: - veškeré poplatky provozovateli skládky související s uložením odpadu na skládce. Položka nezahrnuje: - x
A13: SD | C13: 1 | E13: Zemní práce | I13: =SUMIFS(I14:I61,A14:A61,"P") -> 0
A14: P | B14: 1 | C14: 11120 | E14: ODSTRANĚNÍ KŘOVIN | F14: M2 | G14: 50 | H14: 0 | I14: =ROUND(G14*H14,P4) -> 0 | O14: =I14*0.21 -> 0 | P14: 3
A15: PP
A16: TS | E16: Položka zahrnuje: - odstranění křovin a stromů do průměru 100 mm - dopravu dřevin bez ohledu na vzdálenost - spálení na hromadách nebo štěpkování Položka nezahrnuje: - x
A17: P | B17: 2 | C17: 11201 | E17: KÁCENÍ STROMŮ D KMENE DO 0,5M S ODSTRANĚNÍM PAŘEZŮ | F17: KUS | G17: 11 | H17: 0 | I17: =ROUND(G17*H17,P4) -> 0 | O17: =I17*0.21 -> 0 | P17: 3
A18: PP
A19: TS | E19: Položka zahrnuje: - poražení stromu a osekání větví - spálení větví na hromadách nebo štěpkování - dopravu a uložení kmenů, případné další práce s nimi dle pokynů zadávací dokumentace - vytrhání nebo vykopání pařezů - veškeré zemní práce spojené s odstraněním pařezů - dopravu a uložení pařezů, případně další práce s nimi dle pokynů zadávací dokumentace - zásyp jam po pařezech Položka nezahrnuje: - x Způsob měření: - kácení stromů se měří v [ks] poražených stromů (průměr stromů se měří ve výšce 1,3m nad terénem)
A20: P | B20: 3 | C20: 11313 | E20: ODSTRANĚNÍ KRYTU ZPEVNĚNÝCH PLOCH S ASFALTOVÝM POJIVEM | F20: M3 | G20: 32.4 | H20: 0 | I20: =ROUND(G20*H20,P4) -> 0 | O20: =I20*0.21 -> 0 | P20: 3
A21: PP | E21: Včetně odvozu a likvidace v režii zhotovitele, odvozná vzdálenost v režii zhotovitele.
A22: VV | E22: (35,0+0,5*(530,0+210,0))*0,08 = 32,400 [A]
A23: TS | E23: Položka zahrnuje: - veškerou manipulaci s vybouranou sutí a s vybouranými hmotami vč. uložení na skládku.
A24: P | B24: 4 | C24: 113174 | E24: ODSTRAN KRYTU ZPEVNĚNÝCH PLOCH Z DLAŽEB KOSTEK, ODVOZ DO 5KM | F24: M3 | G24: 5.1 | H24: 0 | I24: =ROUND(G24*H24,P4) -> 0 | O24: =I24*0.21 -> 0 | P24: 3
A25: PP | E25: Včetně odvozu a likvidace v režii zhotovitele, odvozná vzdálenost v režii zhotovitele.
A26: VV | E26: (18,5+3,5+16,0+13,0)*0,1 = 5,100 [A]
A27: TS | E27: Položka zahrnuje: - veškerou manipulaci s vybouranou sutí a s vybouranými hmotami vč. uložení na skládku.
A28: P | B28: 5 | C28: 113184 | E28: ODSTRANĚNÍ KRYTU ZPEVNĚNÝCH PLOCH Z DLAŽDIC, ODVOZ DO 5KM | F28: M3 | G28: 32.76 | H28: 0 | I28: =ROUND(G28*H28,P4) -> 0 | O28: =I28*0.21 -> 0 | P28: 3
A29: PP | E29: Včetně odvozu a likvidace v režii zhotovitele, odvozná vzdálenost v režii zhotovitele.
A30: VV | E30: (16,0+5,0+265,0+150,0+55,0+55)*0,06 = 32,760 [A]
A31: TS | E31: Položka zahrnuje: - veškerou manipulaci s vybouranou sutí a s vybouranými hmotami vč. uložení na skládku.
A32: P | B32: 6 | C32: 113524 | E32: ODSTRANĚNÍ CHODNÍKOVÝCH A SILNIČNÍCH OBRUBNÍKŮ BETONOVÝCH, ODVOZ DO 5KM | F32: M | G32: 241.7 | H32: 0 | I32: =ROUND(G32*H32,P4) -> 0 | O32: =I32*0.21 -> 0 | P32: 3
A33: PP | E33: Včetně odvozu a likvidace v režii zhotovitele, odvozná vzdálenost v režii zhotovitele.
A34: VV | E34: 8,0+1,7+9,0+8,0+5,0+210,0 = 241,700 [A]
A35: TS | E35: Položka zahrnuje: - veškerou manipulaci s vybouranou sutí a s vybouranými hmotami vč. uložení na skládku.
A36: P | B36: 7 | C36: 122734 | D36: A | E36: ODKOPÁVKY A PROKOPÁVKY OBECNÉ TŘ. I, ODVOZ DO 5KM | F36: M3 | G36: 467.715 | H36: 0 | I36: =ROUND(G36*H36,P4) -> 0 | O36: =I36*0.21 -> 0 | P36: 3
A37: PP | E37: Včetně odvozu v režii zhotovitele, odvozná vzdálenost v režii zhotovitele.
A38: VV | E38: Chodník 0,2*2,0*530,0+0,2*2,5*55,0 = 239,500 [A]_x000D_ Sjezdy 0,25*2,0*142,0 = 71,000 [B]_x000D_ Parkovací stání 0,47*2,5*121,0+0,47*4,0*8,0 = 157,215 [C]_x000D_ Celkové množství = 467,715
A39: TS | E39: Položka zahrnuje: - vodorovnou a svislou dopravu, přemístění, přeložení, manipulace s výkopkem - kompletní provedení vykopávky nezapažené i zapažené - ošetření výkopiště po celou dobu práce v něm vč. klimatických opatření - ztížení vykopávek v blízkosti podzemního vedení, konstrukcí a objektů vč. jejich dočasného zajištění - ztížení pod vodou, v okolí výbušnin, ve stísněných prostorech a pod. - příplatek za lepivost - těžení po vrstvách, pásech a po jiných nutných částech (figurách) - čerpání vody vč. čerpacích jímek, potrubí a pohotovostní čerpací soupravy (viz ustanovení k pol. 1151,2) - potřebné snížení hladiny podzemní vody - těžení a rozpojování jednotlivých balvanů - vytahování a nošení výkopku - svahování a přesvah. svahů do konečného tvaru, výměna hornin v podloží a v pláni znehodnocené klimatickými vlivy - ruční vykopávky, odstranění kořenů a napadávek - pažení, vzepření a rozepření vč. přepažování (vyjma pažení záporového a štětových stěn) - úpravu, ochranu a očištění dna, základové spáry, stěn a svahů - zhutnění podloží, případně i svahů vč. svahování - zřízení stupňů v podloží a lavic na svazích, není-li pro tyto práce zřízena samostatná položka - udržování výkopiště a jeho ochrana proti vodě - odvedení nebo obvedení vody v okolí výkopiště a ve výkopišti - třídění výkopku - veškeré pomocné konstrukce umožňující provedení vykopávky (příjezdy, sjezdy, nájezdy, lešení, podpěr. konstr., přemostění, zpevněné plochy, zakrytí a pod.)
A40: P | B40: 8 | C40: 122734 | D40: B | E40: ODKOPÁVKY A PROKOPÁVKY OBECNÉ TŘ. I, ODVOZ DO 5KM | F40: M3 | G40: 766.6 | H40: 0 | I40: =ROUND(G40*H40,P4) -> 0 | O40: =I40*0.21 -> 0 | P40: 3
...

Sheet SO 101.4
A1: EstiCon | E1: Firma: | P1: 3
E2: Soupis prací objektu
A3: S | B3: Stavba: | C3: 02102024 | E3: SYROVICE - SOBOTOVSKÁ - Obec | H3: SO 101.4 | I3: =SUMIFS(I8:I92,A8:A92,"SD") -> 0 | O3: 0 | P3: 2
A4: O | B4: Rozpočet: | C4: SO 101.4 | E4: PŘÍSTŘEŠEK AUTOBUSOVÉ ZASTÁVKY SOBOTOVICE-SYROVICE | O4: 0.12 | P4: 2
A5: Typ | B5: Poř. číslo | C5: Kód položky | D5: Varianta | E5: Název Položky | F5: MJ | G5: Množství | H5: Cena | J5: Cenová soustava | O5: 0.21
H6: Jednotková | I6: Celkem
A7: 0 | B7: 1 | C7: 2 | D7: 3 | E7: 4 | F7: 5 | G7: 6 | H7: 7 | I7: 8 | J7: 9
A8: SD | C8: 0 | E8: Všeobecné konstrukce a práce | I8: =SUMIFS(I9:I12,A9:A12,"P") -> 0
A9: P | B9: 22 | C9: 014102 | E9: POPLATKY ZA SKLÁDKU | F9: T | G9: 9.5 | H9: 0 | I9: =ROUND(G9*H9,P4) -> 0 | O9: =I9*0.21 -> 0 | P9: 3
A10: PP
A11: VV | E11: (1,75+3)*2,0 = 9,500 [A]
A12: TS | E12: Položka zahrnuje: - veškeré poplatky provozovateli skládky související s uložením odpadu na skládce. Položka nezahrnuje: - x
A13: SD | C13: 1 | E13: Zemní práce | I13: =SUMIFS(I14:I27,A14:A27,"P") -> 0
A14: P | B14: 1 | C14: 122734 | D14: A | E14: ODKOPÁVKY A PROKOPÁVKY OBECNÉ TŘ. I, ODVOZ DO 5KM | F14: M3 | G14: 1.75 | H14: 0 | I14: =ROUND(G14*H14,P4) -> 0 | O14: =I14*0.21 -> 0 | P14: 3
A15: PP | E15: Včetně odvozu v režii zhotovitele, odvozná vzdálenost v režii zhotovitele.
A16: VV | E16: 3,5*2,0*0,25 = 1,750 [A]
A17: TS | E17: Položka zahrnuje: - vodorovnou a svislou dopravu, přemístění, přeložení, manipulace s výkopkem - kompletní provedení vykopávky nezapažené i zapažené - ošetření výkopiště po celou dobu práce v něm vč. klimatických opatření - ztížení vykopávek v blízkosti podzemního vedení, konstrukcí a objektů vč. jejich dočasného zajištění - ztížení pod vodou, v okolí výbušnin, ve stísněných prostorech a pod. - příplatek za lepivost - těžení po vrstvách, pásech a po jiných nutných částech (figurách) - čerpání vody vč. čerpacích jímek, potrubí a pohotovostní čerpací soupravy (viz ustanovení k pol. 1151,2) - potřebné snížení hladiny podzemní vody - těžení a rozpojování jednotlivých balvanů - vytahování a nošení výkopku - svahování a přesvah. svahů do konečného tvaru, výměna hornin v podloží a v pláni znehodnocené klimatickými vlivy - ruční vykopávky, odstranění kořenů a napadávek - pažení, vzepření a rozepření vč. přepažování (vyjma pažení záporového a štětových stěn) - úpravu, ochranu a očištění dna, základové spáry, stěn a svahů - zhutnění podloží, případně i svahů vč. svahování - zřízení stupňů v podloží a lavic na svazích, není-li pro tyto práce zřízena samostatná položka - udržování výkopiště a jeho ochrana proti vodě - odvedení nebo obvedení vody v okolí výkopiště a ve výkopišti - třídění výkopku - veškeré pomocné konstrukce umožňující provedení vykopávky (příjezdy, sjezdy, nájezdy, lešení, podpěr. konstr., přemostění, zpevněné plochy, zakrytí a pod.)
A18: P | B18: 2 | C18: 132734 | E18: HLOUBENÍ RÝH ŠÍŘ DO 2M PAŽ I NEPAŽ TŘ. I, ODVOZ DO 5KM | F18: M3 | G18: 3 | H18: 0 | I18: =ROUND(G18*H18,P4) -> 0 | O18: =I18*0.21 -> 0 | P18: 3
A19: PP | E19: Včetně odvozu v režii zhotovitele, odvozná vzdálenost v režii zhotovitele.
A20: VV | E20: 0,4*1,0*7,5 = 3,000 [A]
A21: TS | E21: Položka zahrnuje: - vodorovnou a svislou dopravu, přemístění, přeložení, manipulace s výkopkem - kompletní provedení vykopávky nezapažené i zapažené - ošetření výkopiště po celou dobu práce v něm vč. klimatických opatření - ztížení vykopávek v blízkosti podzemního vedení, konstrukcí a objektů vč. jejich dočasného zajištění - ztížení pod vodou, v okolí výbušnin, ve stísněných prostorech a pod. - příplatek za lepivost - těžení po vrstvách, pásech a po jiných nutných částech (figurách) - čerpání vody vč. čerpacích jímek, potrubí a pohotovostní čerpací soupravy (viz ustanovení k pol. 1151,2) - potřebné snížení hladiny podzemní vody - těžení a rozpojování jednotlivých balvanů - vytahování a nošení výkopku - svahování a přesvah. svahů do konečného tvaru, výměna hornin v podloží a v pláni znehodnocené klimatickými vlivy - ruční vykopávky, odstranění kořenů a napadávek - pažení, vzepření a rozepření vč. přepažování (vyjma pažení záporového a štětových stěn) - úpravu, ochranu a očištění dna, základové spáry, stěn a svahů - odvedení nebo obvedení vody v okolí výkopiště a ve výkopišti - třídění výkopku - veškeré pomocné konstrukce umožňující provedení vykopávky (příjezdy, sjezdy, nájezdy, lešení, podpěr. konstr., přemostění, zpevněné plochy, zakrytí a pod.)
A22: P | B22: 3 | C22: 17120 | E22: ULOŽENÍ SYPANINY DO NÁSYPŮ A NA SKLÁDKY BEZ ZHUTNĚNÍ | F22: M3 | G22: 4.75 | H22: 0 | I22: =ROUND(G22*H22,P4) -> 0 | O22: =I22*0.21 -> 0 | P22: 3
A23: PP
A24: TS | E24: Položka zahrnuje: - kompletní provedení zemní konstrukce do předepsaného tvaru - ošetření úložiště po celou dobu práce v něm vč. klimatických opatření - ztížení v okolí vedení, konstrukcí a objektů a jejich dočasné zajištění - ztížení provádění ve ztížených podmínkách a stísněných prostorech - ztížené ukládání sypaniny pod vodu - ukládání po vrstvách a po jiných nutných částech (figurách) vč. dosypávek - spouštění a nošení materiálu - úprava, očištění a ochrana podloží a svahů - svahování, uzavírání povrchů svahů - udržování úložiště a jeho ochrana proti vodě - odvedení nebo obvedení vody v okolí úložiště a v úložišti - veškeré pomocné konstrukce umožňující provedení zemní konstrukce (příjezdy, sjezdy, nájezdy, lešení, podpěrné konstrukce, přemostění, zpevněné plochy, zakrytí a pod.) Položka nezahrnuje: - x
A25: P | B25: 4 | C25: 18110 | E25: ÚPRAVA PLÁNĚ SE ZHUTNĚNÍM V HORNINĚ TŘ. I | F25: M2 | G25: 4.96 | H25: 0 | I25: =ROUND(G25*H25,P4) -> 0 | O25: =I25*0.21 -> 0 | P25: 3
A26: PP
A27: TS | E27: Položka zahrnuje: - úpravu pláně včetně vyrovnání výškových rozdílů. Míru zhutnění určuje projekt. Položka nezahrnuje: - x
A28: SD | C28: 2 | E28: Základy | I28: =SUMIFS(I29:I32,A29:A32,"P") -> 0
A29: P | B29: 5 | C29: 272313 | E29: ZÁKLADY Z PROSTÉHO BETONU DO C16/20 | F29: M3 | G29: 1.5 | H29: 0 | I29: =ROUND(G29*H29,P4) -> 0 | O29: =I29*0.21 -> 0 | P29: 3
A30: PP
A31: VV | E31: 0,4*0,5*7,5 = 1,500 [A]
A32: TS | E32: Položka zahrnuje: - dodání čerstvého betonu (betonové směsi) požadované kvality, jeho uložení do požadovaného tvaru při jakékoliv hustotě výztuže, konzistenci čerstvého betonu a způsobu hutnění, ošetření a ochranu betonu, - zhotovení nepropustného, mrazuvzdorného betonu a betonu požadované trvanlivosti a vlastností, užití potřebných přísad a technologií výroby betonu, - zřízení pracovních a dilatačních spar, včetně potřebných úprav, výplně, vložek, opracování, očištění a ošetření, - bednění požadovaných konstr. (i ztracené) s úpravou dle požadované kvality povrchu betonu, včetně odbedňovacích a odskružovacích prostředků, nátěrů zabraňujících soudržnosti betonu a bednění, - podpěrné konstr. (skruže) a lešení všech druhů pro bednění, vč. ochranných a bezpečnostních opatření a základů těchto konstrukcí a lešení, - vytvoření kotevních čel, kapes, nálitků a sedel, zřízení všech požadovaných otvorů, výklenků, prostupů, dutin, drážek a pod., vč. ztížení práce a úprav kolem nich, - úpravy pro osazení výztuže, doplňkových konstrukcí a vybavení, - úpravy povrchu pro položení požadované izolace, povlaků a nátěrů, případně vyspravení, - ztížení práce u kabelových a injektážních trubek a ostatních zařízení osazovaných do betonu, - konstrukce betonových kloubů, upevnění kotevních prvků a doplňkových konstrukcí, - nátěry zabraňující soudržnost betonu a bednění, - výplň, těsnění a tmelení spar a spojů, - opatření povrchů betonu izolací proti zemní vlhkosti v částech, kde přijdou do styku se zeminou nebo kamenivem, - případné zřízení spojovací vrstvy u základů, - úpravy pro osazení zařízení ochrany konstrukce proti vlivu bludných proudů, Položka nezahrnuje: - x
A33: SD | C33: 3 | E33: Svislé konstrukce | I33: =SUMIFS(I34:I40,A34:A40,"P") -> 0
A34: P | B34: 6 | C34: 32711 | E34: ZDI OPĚR, ZÁRUB, NÁBŘEŽ Z DÍLCŮ BETON | F34: M3 | G34: 0.9 | H34: 0 | I34: =ROUND(G34*H34,P4) -> 0 | O34: =I34*0.21 -> 0 | P34: 3
A35: PP | E35: Zdivo základové z bednicích tvárnic, tl. 150 mm výplň tvárnic betonem C 20/25 včetně výztuže.
A36: VV | E36: 7,5*0,8*0,15 = 0,900 [A]
A37: TS | E37: Položka zahrnuje: - dodání dílce požadovaného tvaru a vlastností, jeho skladování, doprava a osazení do definitivní polohy, včetně komplexní technologie výroby a montáže dílců, ošetření a ochrana dílců, - u dílců betonových tuhé kovové prvky a závěsná oka, - úpravy a zařízení pro uložení a transport dílce, - veškeré požadované úpravy dílců, včetně doplňkových konstrukcí a vybavení, - sestavení dílce na stavbě včetně montážních zařízení, plošin a prahů a pod., - výplň, těsnění a tmelení spár a spojů, - očištění a ošetření úložných ploch, - zednické výpomoce pro montáž dílců, - označení dílce výrobním štítkem nebo jiným způsobem, - úpravy dílce pro dodržení požadované přesnosti jeho osazení, včetně případných měření, - veškerá zařízení pro zajištění stability v každém okamžiku, - další práce dané případně specifikací k příslušnému prefabrik. dílci (úprava pohledových ploch, příp. rubových ploch, osazení měřících zařízení, zkoušení a měření dílců a pod.). Položka nezahrnuje: - x
A38: P | B38: 7 | C38: 34295 | E38: STĚNY A PŘÍČKY VÝPLŇ A ODDĚL ZE DŘEVA | F38: M3 | G38: 0.971 | H38: 0 | I38: =ROUND(G38*H38,P4) -> 0 | O38: =I38*0.21 -> 0 | P38: 3
A39: PP | E39: Montáž konstrukce stěn z řeziva hraněn. do 224 cm2 včetně dodávky řeziva, hranoly 120 x 140 mm - 27,0 m_x000D_ Montáž konstrukce stěn z fošen, hranolů do 100 cm2 - 23,8 m_x000D_ Spojovací a ochranné prostředky pro montáž stěn - 0,5 m3_x000D_ Montáž záklopu, vrchní na pero, hoblovaná prkna včetně dodávky palubek tl. 24 mm - 7 m2_x000D_ Montáž stropnic hraněných pl. do 288 cm2 včetně dodávky řeziva, hranoly 14/16 - 10 m_x000D_ Hranol sibiřský modřín, 60 x 80 mm - 0,123 m3
A40: TS | E40: Položka zahrnuje: - dílenskou dokumentaci, včetně technologického předpisu spojování - dodání dřeva v požadované kvalitě a výroba konstrukce (vč. pomůcek, přípravků a prostředků pro výrobu) bez ohledu na náročnost a její objem, dílenská montáž, montážní dokumentace, - dodání spojovacího materiálu, - zřízení montážních a dilatačních spojů, spar, včetně potřebných úprav, vložek, opracování, očištění a ošetření, - podpěr. konstr. a lešení všech druhů pro montáž konstrukcí i doplňkových, včetně požadovaných otvorů, ochranných a bezpečnostních opatření a základů pro tyto konstrukce a lešení, - jakákoliv doprava a manipulace dílců a montážních sestav, včetně dopravy konstrukce z výrobny na stavbu, - montáž konstrukce na stavbě, včetně montážních prostředků a pomůcek a zednických výpomocí, - výplň, těsnění a tmelení spar a spojů, - veškeré druhy opracování povrchů, včetně úprav pod nátěry a pod izolaci, - veškeré druhy dílenských základů a základních nátěrů a povlaků, - všechny druhy ocelového kotvení, - dílenskou přejímku a montážní prohlídku, včetně požadovaných dokladů, - zřízení kotevních otvorů nebo jam, nejsou-li částí jiné konstrukce, jejich úpravy, očištění a ošetření, - osazení kotvení nebo přímo částí konstrukce do podpůrné konstrukce nebo do zeminy, - ošetření kotevní oblasti proti vzniku trhlin, vlivu povětrnosti a pod., - osazení značek, včetně jejich zaměření. - veškeré úpravy dřeva pro zlepšení jeho užitných vlastností (impregnace, zpevňování a pod.), - veškeré druhy povrchových úprav, - zvláštní spojové prostředky, rozebíratelnost konstrukce, - osazení měřících zařízení a úprav pro ně. Položka nezahrnuje: - x
...

Sheet SO 101.5
A1: EstiCon | E1: Firma: | P1: 3
E2: Soupis prací objektu
A3: S | B3: Stavba: | C3: 02102024 | E3: SYROVICE - SOBOTOVSKÁ - Obec | H3: SO 101.5 | I3: =SUMIFS(I8:I112,A8:A112,"SD") -> 0 | O3: 0 | P3: 2
A4: O | B4: Rozpočet: | C4: SO 101.5 | E4: PŘÍSTŘEŠEK AUTOBUSOVÉ ZASTÁVKY SYROVICE-SOBOTOVICE | O4: 0.12 | P4: 2
A5: Typ | B5: Poř. číslo | C5: Kód položky | D5: Varianta | E5: Název Položky | F5: MJ | G5: Množství | H5: Cena | J5: Cenová soustava | O5: 0.21
H6: Jednotková | I6: Celkem
A7: 0 | B7: 1 | C7: 2 | D7: 3 | E7: 4 | F7: 5 | G7: 6 | H7: 7 | I7: 8 | J7: 9
A8: SD | C8: 0 | E8: Všeobecné konstrukce a práce | I8: =SUMIFS(I9:I12,A9:A12,"P") -> 0
A9: P | B9: 29 | C9: 014102 | E9: POPLATKY ZA SKLÁDKU | F9: T | G9: 17.5 | H9: 0 | I9: =ROUND(G9*H9,P4) -> 0 | O9: =I9*0.21 -> 0 | P9: 3
A10: PP
A11: VV | E11: (3,25+9,6+4-8,1)*2,0 = 17,500 [A]
A12: TS | E12: Položka zahrnuje: - veškeré poplatky provozovateli skládky související s uložením odpadu na skládce. Položka nezahrnuje: - x
A13: SD | C13: 1 | E13: Zemní práce | I13: =SUMIFS(I14:I35,A14:A35,"P") -> 0
A14: P | B14: 1 | C14: 122734 | D14: A | E14: ODKOPÁVKY A PROKOPÁVKY OBECNÉ TŘ. I, ODVOZ DO 5KM | F14: M3 | G14: 3.25 | H14: 0 | I14: =ROUND(G14*H14,P4) -> 0 | O14: =I14*0.21 -> 0 | P14: 3
A15: PP | E15: Včetně odvozu a likvidace v režii zhotovitele, odvozná vzdálenost v režii zhotovitele.
A16: VV | E16: 0,25*2,6*5,0 = 3,250 [A]
A17: TS | E17: Položka zahrnuje: - vodorovnou a svislou dopravu, přemístění, přeložení, manipulace s výkopkem - kompletní provedení vykopávky nezapažené i zapažené - ošetření výkopiště po celou dobu práce v něm vč. klimatických opatření - ztížení vykopávek v blízkosti podzemního vedení, konstrukcí a objektů vč. jejich dočasného zajištění - ztížení pod vodou, v okolí výbušnin, ve stísněných prostorech a pod. - příplatek za lepivost - těžení po vrstvách, pásech a po jiných nutných částech (figurách) - čerpání vody vč. čerpacích jímek, potrubí a pohotovostní čerpací soupravy (viz ustanovení k pol. 1151,2) - potřebné snížení hladiny podzemní vody - těžení a rozpojování jednotlivých balvanů - vytahování a nošení výkopku - svahování a přesvah. svahů do konečného tvaru, výměna hornin v podloží a v pláni znehodnocené klimatickými vlivy - ruční vykopávky, odstranění kořenů a napadávek - pažení, vzepření a rozepření vč. přepažování (vyjma pažení záporového a štětových stěn) - úpravu, ochranu a očištění dna, základové spáry, stěn a svahů - zhutnění podloží, případně i svahů vč. svahování - zřízení stupňů v podloží a lavic na svazích, není-li pro tyto práce zřízena samostatná položka - udržování výkopiště a jeho ochrana proti vodě - odvedení nebo obvedení vody v okolí výkopiště a ve výkopišti - třídění výkopku - veškeré pomocné konstrukce umožňující provedení vykopávky (příjezdy, sjezdy, nájezdy, lešení, podpěr. konstr., přemostění, zpevněné plochy, zakrytí a pod.)
A18: P | B18: 22 | C18: 131734 | E18: HLOUBENÍ JAM ZAPAŽ I NEPAŽ TŘ. I, ODVOZ DO 5KM | F18: M3 | G18: 9.6 | H18: 0 | I18: =ROUND(G18*H18,P4) -> 0 | O18: =I18*0.21 -> 0 | P18: 3
A19: PP | E19: Včetně odvozu a likvidace v režii zhotovitele, odvozná vzdálenost v režii zhotovitele.
A20: VV | E20: 1,6*6,0 = 9,600 [A]
A21: TS | E21: Položka zahrnuje: - vodorovnou a svislou dopravu, přemístění, přeložení, manipulace s výkopkem - kompletní provedení vykopávky nezapažené i zapažené - ošetření výkopiště po celou dobu práce v něm vč. klimatických opatření - ztížení vykopávek v blízkosti podzemního vedení, konstrukcí a objektů vč. jejich dočasného zajištění - ztížení pod vodou, v okolí výbušnin, ve stísněných prostorech a pod. - příplatek za lepivost - těžení po vrstvách, pásech a po jiných nutných částech (figurách) - čerpání vody vč. čerpacích jímek, potrubí a pohotovostní čerpací soupravy (viz ustanovení k pol. 1151,2) - potřebné snížení hladiny podzemní vody - těžení a rozpojování jednotlivých balvanů - vytahování a nošení výkopku - svahování a přesvah. svahů do konečného tvaru, výměna hornin v podloží a v pláni znehodnocené klimatickými vlivy - ruční vykopávky, odstranění kořenů a napadávek - pažení, vzepření a rozepření vč. přepažování (vyjma pažení záporového a štětových stěn) - úpravu, ochranu a očištění dna, základové spáry, stěn a svahů - odvedení nebo obvedení vody v okolí výkopiště a ve výkopišti - třídění výkopku - veškeré pomocné konstrukce umožňující provedení vykopávky (příjezdy, sjezdy, nájezdy, lešení, podpěr. konstr., přemostění, zpevněné plochy, zakrytí a pod.) Položka nezahrnuje: - uložení zeminy (na skládku, do násypu) ani poplatky za skládku, vykazují se v položce č.0141**
A22: P | B22: 2 | C22: 132734 | E22: HLOUBENÍ RÝH ŠÍŘ DO 2M PAŽ I NEPAŽ TŘ. I, ODVOZ DO 5KM | F22: M3 | G22: 4 | H22: 0 | I22: =ROUND(G22*H22,P4) -> 0 | O22: =I22*0.21 -> 0 | P22: 3
A23: PP | E23: Včetně odvozu a likvidace v režii zhotovitele, odvozná vzdálenost v režii zhotovitele.
A24: VV | E24: 0,6*0,5*(2*2,55+4,6)+0,5*1,0*2,18 = 4,000 [A]
A25: TS | E25: Položka zahrnuje: - vodorovnou a svislou dopravu, přemístění, přeložení, manipulace s výkopkem - kompletní provedení vykopávky nezapažené i zapažené - ošetření výkopiště po celou dobu práce v něm vč. klimatických opatření - ztížení vykopávek v blízkosti podzemního vedení, konstrukcí a objektů vč. jejich dočasného zajištění - ztížení pod vodou, v okolí výbušnin, ve stísněných prostorech a pod. - příplatek za lepivost - těžení po vrstvách, pásech a po jiných nutných částech (figurách) - čerpání vody vč. čerpacích jímek, potrubí a pohotovostní čerpací soupravy (viz ustanovení k pol. 1151,2) - potřebné snížení hladiny podzemní vody - těžení a rozpojování jednotlivých balvanů - vytahování a nošení výkopku - svahování a přesvah. svahů do konečného tvaru, výměna hornin v podloží a v pláni znehodnocené klimatickými vlivy - ruční vykopávky, odstranění kořenů a napadávek - pažení, vzepření a rozepření vč. přepažování (vyjma pažení záporového a štětových stěn) - úpravu, ochranu a očištění dna, základové spáry, stěn a svahů - odvedení nebo obvedení vody v okolí výkopiště a ve výkopišti - třídění výkopku - veškeré pomocné konstrukce umožňující provedení vykopávky (příjezdy, sjezdy, nájezdy, lešení, podpěr. konstr., přemostění, zpevněné plochy, zakrytí a pod.)
A26: P | B26: 3 | C26: 17120 | E26: ULOŽENÍ SYPANINY DO NÁSYPŮ A NA SKLÁDKY BEZ ZHUTNĚNÍ | F26: M3 | G26: 16.85 | H26: 0 | I26: =ROUND(G26*H26,P4) -> 0 | O26: =I26*0.21 -> 0 | P26: 3
A27: PP
A28: TS | E28: Položka zahrnuje: - kompletní provedení zemní konstrukce do předepsaného tvaru - ošetření úložiště po celou dobu práce v něm vč. klimatických opatření - ztížení v okolí vedení, konstrukcí a objektů a jejich dočasné zajištění - ztížení provádění ve ztížených podmínkách a stísněných prostorech - ztížené ukládání sypaniny pod vodu - ukládání po vrstvách a po jiných nutných částech (figurách) vč. dosypávek - spouštění a nošení materiálu - úprava, očištění a ochrana podloží a svahů - svahování, uzavírání povrchů svahů - udržování úložiště a jeho ochrana proti vodě - odvedení nebo obvedení vody v okolí úložiště a v úložišti - veškeré pomocné konstrukce umožňující provedení zemní konstrukce (příjezdy, sjezdy, nájezdy, lešení, podpěrné konstrukce, přemostění, zpevněné plochy, zakrytí a pod.) Položka nezahrnuje: - x
A29: P | B29: 23 | C29: 17411 | E29: ZÁSYP JAM A RÝH ZEMINOU SE ZHUTNĚNÍM | F29: M3 | G29: 8.1 | H29: 0 | I29: =ROUND(G29*H29,P4) -> 0 | O29: =I29*0.21 -> 0 | P29: 3
A30: PP
A31: VV | E31: 1,35*6,0 = 8,100 [A]
A32: TS | E32: Položka zahrnuje: - kompletní provedení zemní konstrukce vč. výběru vhodného materiálu - úprava ukládaného materiálu vlhčením, tříděním, promícháním nebo vysoušením, příp. jiné úpravy za účelem zlepšení jeho mech. vlastností - hutnění i různé míry hutnění - ošetření úložiště po celou dobu práce v něm vč. klimatických opatření - ztížení v okolí vedení, konstrukcí a objektů a jejich dočasné zajištění - ztížení provádění vč. hutnění ve ztížených podmínkách a stísněných prostorech - ztížené ukládání sypaniny pod vodu - ukládání po vrstvách a po jiných nutných částech (figurách) vč. dosypávek - spouštění a nošení materiálu - výměna částí zemní konstrukce znehodnocené klimatickými vlivy - ruční hutnění - udržování úložiště a jeho ochrana proti vodě - odvedení nebo obvedení vody v okolí úložiště a v úložišti - veškeré pomocné konstrukce umožňující provedení zemní konstrukce (příjezdy, sjezdy, nájezdy, lešení, podpěrné konstrukce, přemostění, zpevněné plochy, zakrytí a pod.) Položka nezahrnuje: - x
A33: P | B33: 4 | C33: 18110 | E33: ÚPRAVA PLÁNĚ SE ZHUTNĚNÍM V HORNINĚ TŘ. I | F33: M2 | G33: 7 | H33: 0 | I33: =ROUND(G33*H33,P4) -> 0 | O33: =I33*0.21 -> 0 | P33: 3
A34: PP
A35: TS | E35: Položka zahrnuje: - úpravu pláně včetně vyrovnání výškových rozdílů. Míru zhutnění určuje projekt. Položka nezahrnuje: - x
A36: SD | C36: 2 | E36: Základy | I36: =SUMIFS(I37:I51,A37:A51,"P") -> 0
A37: P | B37: 24 | C37: 21197 | E37: OPLÁŠTĚNÍ ODVODŇOVACÍCH ŽEBER Z GEOTEXTILIE | F37: M2 | G37: 12.61 | H37: 0 | I37: =ROUND(G37*H37,P4) -> 0 | O37: =I37*0.21 -> 0 | P37: 3
A38: PP
A39: VV | E39: 1,3*(4,6+2*2,55) = 12,610 [A]
A40: TS | E40: Položka zahrnuje: - dodávku a uložení předepsané fólie včetně potřebných přesahů - mimostaveništní a vnitrostaveništní dopravu Položka nezahrnuje: - x Způsob měření: - přesahy se nezapočítávají do výměry
...

Sheet SO 301.1
A1: EstiCon | E1: Firma: | P1: 3
E2: Soupis prací objektu
A3: S | B3: Stavba: | C3: 02102024 | E3: SYROVICE - SOBOTOVSKÁ - Obec | H3: SO 301.1 | I3: =SUMIFS(I8:I78,A8:A78,"SD") -> 0 | O3: 0 | P3: 2
A4: O | B4: Rozpočet: | C4: SO 301.1 | E4: DEŠŤOVÁ KANALIZACE (Podíl SUS JMK 66,2%, podíl Obec Syrovice 33,8%) | O4: 0.12 | P4: 2
A5: Typ | B5: Poř. číslo | C5: Kód položky | D5: Varianta | E5: Název Položky | F5: MJ | G5: Množství | H5: Cena | J5: Cenová soustava | O5: 0.21
H6: Jednotková | I6: Celkem
A7: 0 | B7: 1 | C7: 2 | D7: 3 | E7: 4 | F7: 5 | G7: 6 | H7: 7 | I7: 8 | J7: 9
A8: SD | C8: 0 | E8: Všeobecné konstrukce a práce | I8: =SUMIFS(I9:I12,A9:A12,"P") -> 0
A9: P | B9: 1 | C9: 014102 | D9: 1 | E9: POPLATKY ZA SKLÁDKU | F9: T | G9: 926.554 | H9: 0 | I9: =ROUND(G9*H9,P4) -> 0 | O9: =I9*0.21 -> 0 | P9: 3
A10: PP
A11: VV | E11: Položka č. 13173 75,125*2,0 = 150,250 [A]_x000D_ Položka č. 13273 388,152*2,0 = 776,304 [B]_x000D_ Celkové množství = 926,554
A12: TS | E12: Položka zahrnuje: - veškeré poplatky provozovateli skládky související s uložením odpadu na skládce. Položka nezahrnuje: - x
A13: SD | C13: 1 | E13: Zemní práce | I13: =SUMIFS(I14:I40,A14:A40,"P") -> 0
A14: P | B14: 2 | C14: 12573 | E14: VYKOPÁVKY ZE ZEMNÍKŮ A SKLÁDEK TŘ. I | F14: M3 | G14: 305.464 | H14: 0 | I14: =ROUND(G14*H14,P4) -> 0 | O14: =I14*0.21 -> 0 | P14: 3
A15: PP | E15: Naložení a dovoz z mezideponie pro zpětný zásyp.
A16: VV | E16: Dle množství položky 17411 305,464 = 305,464 [A]
A17: TS | E17: Položka zahrnuje: - vodorovnou a svislou dopravu, přemístění, přeložení, manipulace s výkopkem - kompletní provedení vykopávky nezapažené i zapažené - ošetření výkopiště po celou dobu práce v něm vč. klimatických opatření - ztížení vykopávek v blízkosti podzemního vedení, konstrukcí a objektů vč. jejich dočasného zajištění - ztížení pod vodou, v okolí výbušnin, ve stísněných prostorech a pod. - příplatek za lepivost - těžení po vrstvách, pásech a po jiných nutných částech (figurách) - čerpání vody vč. čerpacích jímek, potrubí a pohotovostní čerpací soupravy (viz ustanovení k pol. 1151,2) - potřebné snížení hladiny podzemní vody - těžení a rozpojování jednotlivých balvanů - vytahování a nošení výkopku - ruční vykopávky, odstranění kořenů a napadávek - pažení, vzepření a rozepření vč. přepažování (vyjma pažení záporového a štětových stěn) - úpravu, ochranu a očištění dna, základové spáry, stěn a svahů - udržování výkopiště a jeho ochrana proti vodě - odvedení nebo obvedení vody v okolí výkopiště a ve výkopišti - třídění výkopku - veškeré pomocné konstrukce umožňující provedení vykopávky (příjezdy, sjezdy, nájezdy, lešení, podpěr. konstr., přemostění, zpevněné plochy, zakrytí a pod.) Položka nezahrnuje: - práce spojené s otvírkou zemníku
A18: P | B18: 3 | C18: 12931 | E18: ČIŠTĚNÍ PŘÍKOPŮ OD NÁNOSU DO 0,25M3/M | F18: M | G18: 10 | H18: 0 | I18: =ROUND(G18*H18,P4) -> 0 | O18: =I18*0.21 -> 0 | P18: 3
A19: PP | E19: Včetně odvozu a likvidace v režii zhotovitele, odvozná vzdálenost v režii zhotovitele.
A20: TS | E20: Položka zahrnuje: - vodorovnou a svislou dopravu, přemístění, přeložení, manipulace s materiálem a uložení na skládku.
A21: P | B21: 4 | C21: 13173 | E21: HLOUBENÍ JAM ZAPAŽ I NEPAŽ TŘ. I | F21: M3 | G21: 75.125 | H21: 0 | I21: =ROUND(G21*H21,P4) -> 0 | O21: =I21*0.21 -> 0 | P21: 3
A22: PP
A23: VV | E23: Vyústní objekt dešťové kanalizace 5,5*1,5*0,5 = 4,125 [A]_x000D_ Jámy pro šachty 2,0*2,0*(2,05+2,25+2,25+2,25+2,25+2,25+2,35+2,1) = 71,000 [B]_x000D_ Celkové množství = 75,125
A24: TS | E24: Položka zahrnuje: - vodorovnou a svislou dopravu, přemístění, přeložení, manipulace s výkopkem - kompletní provedení vykopávky nezapažené i zapažené - ošetření výkopiště po celou dobu práce v něm vč. klimatických opatření - ztížení vykopávek v blízkosti podzemního vedení, konstrukcí a objektů vč. jejich dočasného zajištění - ztížení pod vodou, v okolí výbušnin, ve stísněných prostorech a pod. - příplatek za lepivost - těžení po vrstvách, pásech a po jiných nutných částech (figurách) - čerpání vody vč. čerpacích jímek, potrubí a pohotovostní čerpací soupravy (viz ustanovení k pol. 1151,2) - potřebné snížení hladiny podzemní vody - těžení a rozpojování jednotlivých balvanů - vytahování a nošení výkopku - svahování a přesvah. svahů do konečného tvaru, výměna hornin v podloží a v pláni znehodnocené klimatickými vlivy - ruční vykopávky, odstranění kořenů a napadávek - pažení, vzepření a rozepření vč. přepažování (vyjma pažení záporového a štětových stěn) - úpravu, ochranu a očištění dna, základové spáry, stěn a svahů - odvedení nebo obvedení vody v okolí výkopiště a ve výkopišti - třídění výkopku - veškeré pomocné konstrukce umožňující provedení vykopávky (příjezdy, sjezdy, nájezdy, lešení, podpěr. konstr., přemostění, zpevněné plochy, zakrytí a pod.) Položka nezahrnuje: - uložení zeminy (na skládku, do násypu) ani poplatky za skládku, vykazují se v položce č.0141**
A25: P | B25: 5 | C25: 13273 | E25: HLOUBENÍ RÝH ŠÍŘ DO 2M PAŽ I NEPAŽ TŘ. I | F25: M3 | G25: 388.152 | H25: 0 | I25: =ROUND(G25*H25,P4) -> 0 | O25: =I25*0.21 -> 0 | P25: 3
A26: PP
A27: VV | E27: 0,8*(2,25*198,0+2,1*18,9) = 388,152 [A]
A28: TS | E28: Položka zahrnuje: - vodorovnou a svislou dopravu, přemístění, přeložení, manipulace s výkopkem - kompletní provedení vykopávky nezapažené i zapažené - ošetření výkopiště po celou dobu práce v něm vč. klimatických opatření - ztížení vykopávek v blízkosti podzemního vedení, konstrukcí a objektů vč. jejich dočasného zajištění - ztížení pod vodou, v okolí výbušnin, ve stísněných prostorech a pod. - příplatek za lepivost - těžení po vrstvách, pásech a po jiných nutných částech (figurách) - čerpání vody vč. čerpacích jímek, potrubí a pohotovostní čerpací soupravy (viz ustanovení k pol. 1151,2) - potřebné snížení hladiny podzemní vody - těžení a rozpojování jednotlivých balvanů - vytahování a nošení výkopku - svahování a přesvah. svahů do konečného tvaru, výměna hornin v podloží a v pláni znehodnocené klimatickými vlivy - ruční vykopávky, odstranění kořenů a napadávek - pažení, vzepření a rozepření vč. přepažování (vyjma pažení záporového a štětových stěn) - úpravu, ochranu a očištění dna, základové spáry, stěn a svahů - odvedení nebo obvedení vody v okolí výkopiště a ve výkopišti - třídění výkopku - veškeré pomocné konstrukce umožňující provedení vykopávky (příjezdy, sjezdy, nájezdy, lešení, podpěr. konstr., přemostění, zpevněné plochy, zakrytí a pod.) Položka nezahrnuje: - uložení zeminy (na skládku, do násypu) ani poplatky za skládku, vykazují se v položce č.0141**
A29: P | B29: 6 | C29: 17120 | E29: ULOŽENÍ SYPANINY DO NÁSYPŮ A NA SKLÁDKY BEZ ZHUTNĚNÍ | F29: M3 | G29: 463.277 | H29: 0 | I29: =ROUND(G29*H29,P4) -> 0 | O29: =I29*0.21 -> 0 | P29: 3
A30: PP | E30: Uložení materiálu na skládku
A31: VV | E31: Na skládku 75,125+388,152 = 463,277 [B]_x000D_ Celkové množství = 463,277
A32: TS | E32: Položka zahrnuje: - kompletní provedení zemní konstrukce do předepsaného tvaru - ošetření úložiště po celou dobu práce v něm vč. klimatických opatření - ztížení v okolí vedení, konstrukcí a objektů a jejich dočasné zajištění - ztížení provádění ve ztížených podmínkách a stísněných prostorech - ztížené ukládání sypaniny pod vodu - ukládání po vrstvách a po jiných nutných částech (figurách) vč. dosypávek - spouštění a nošení materiálu - úprava, očištění a ochrana podloží a svahů - svahování, uzavírání povrchů svahů - udržování úložiště a jeho ochrana proti vodě - odvedení nebo obvedení vody v okolí úložiště a v úložišti - veškeré pomocné konstrukce umožňující provedení zemní konstrukce (příjezdy, sjezdy, nájezdy, lešení, podpěrné konstrukce, přemostění, zpevněné plochy, zakrytí a pod.) Položka nezahrnuje: - x
A33: P | B33: 7 | C33: 17481 | E33: ZÁSYP JAM A RÝH Z NAKUPOVANÝCH MATERIÁLŮ | F33: M3 | G33: 305.464 | H33: 0 | I33: =ROUND(G33*H33,P4) -> 0 | O33: =I33*0.21 -> 0 | P33: 3
A34: PP | E34: Štěrkopísek frakce 0/32.
A35: VV | E35: Zásyp rýh 0,8*((2,25-0,75)*198,0+(2,1-0,75)*18,9) = 258,012 [A]_x000D_ Jámy pro šachty 2,0*2,0*(2,05+2,25+2,25+2,25+2,25+2,25+2,35+2,1)-3,14*0,65*0,65*(2,05+2,25+2,25+2,25+2,25+2,25+2,35+2,1) = 47,452 [B]_x000D_ Celkové množství = 305,464
A36: TS | E36: Položka zahrnuje: - kompletní provedení zemní konstrukce včetně nákupu a dopravy materiálu dle zadávací dokumentace - úprava ukládaného materiálu vlhčením, tříděním, promícháním nebo vysoušením, příp. jiné úpravy za účelem zlepšení jeho mech. vlastností - hutnění i různé míry hutnění - ošetření úložiště po celou dobu práce v něm vč. klimatických opatření - ztížení v okolí vedení, konstrukcí a objektů a jejich dočasné zajištění - ztížení provádění vč. hutnění ve ztížených podmínkách a stísněných prostorech - ztížené ukládání sypaniny pod vodu - ukládání po vrstvách a po jiných nutných částech (figurách) vč. dosypávek - spouštění a nošení materiálu - výměna částí zemní konstrukce znehodnocené klimatickými vlivy - udržování úložiště a jeho ochrana proti vodě - odvedení nebo obvedení vody v okolí úložiště a v úložišti - veškeré pomocné konstrukce umožňující provedení zemní konstrukce (příjezdy, sjezdy, nájezdy, lešení, podpěrné konstrukce, přemostění, zpevněné plochy, zakrytí a pod.) Položka nezahrnuje: - x
A37: P | B37: 8 | C37: 17581 | E37: OBSYP POTRUBÍ A OBJEKTŮ Z NAKUPOVANÝCH MATERIÁLŮ | F37: M3 | G37: 42.812 | H37: 0 | I37: =ROUND(G37*H37,P4) -> 0 | O37: =I37*0.21 -> 0 | P37: 3
A38: PP | E38: Pískový obsyp materiálem 0/16.
A39: VV | E39: 0,8*0,6*216,88-0,3*0,3*3,14*216,88 = 42,812 [A]
A40: TS | E40: Položka zahrnuje: - kompletní provedení zemní konstrukce včetně nákupu a dopravy materiálu dle zadávací dokumentace - úprava ukládaného materiálu vlhčením, tříděním, promícháním nebo vysoušením, příp. jiné úpravy za účelem zlepšení jeho mech. vlastností - hutnění i různé míry hutnění - ošetření úložiště po celou dobu práce v něm vč. klimatických opatření - ztížení v okolí vedení, konstrukcí a objektů a jejich dočasné zajištění - ztížení provádění vč. hutnění ve ztížených podmínkách a stísněných prostorech - ztížené ukládání sypaniny pod vodu - ukládání po vrstvách a po jiných nutných částech (figurách) vč. dosypávek - spouštění a nošení materiálu - výměna částí zemní konstrukce znehodnocené klimatickými vlivy - ruční hutnění a výplň jam a prohlubní v podloží - úprava, očištění, ochrana a zhutnění podloží - svahování, hutnění a uzavírání povrchů svahů - zřízení lavic na svazích - udržování úložiště a jeho ochrana proti vodě - odvedení nebo obvedení vody v okolí úložiště a v úložišti - veškeré pomocné konstrukce umožňující provedení zemní konstrukce (příjezdy, sjezdy, nájezdy, lešení, podpěrné konstrukce, přemostění, zpevněné plochy, zakrytí a pod.) Položka nezahrnuje: - x Způsob měření: - zemina vytlačená potrubím o DN 180mm se od kubatury obsypů neodečítá
...

Sheet SO 301.2
A1: EstiCon | E1: Firma: | P1: 3
E2: Soupis prací objektu
A3: S | B3: Stavba: | C3: 02102024 | E3: SYROVICE - SOBOTOVSKÁ - Obec | H3: SO 301.2 | I3: =SUMIFS(I8:I73,A8:A73,"SD") -> 0 | O3: 0 | P3: 2
A4: O | B4: Rozpočet: | C4: SO 301.2 | E4: DEŠŤOVÁ KANALIZACE UV9-UV14 (Podíl SUS JMK 66,2%, podíl Obec Syrovice 33,8%) | O4: 0.12 | P4: 2
A5: Typ | B5: Poř. číslo | C5: Kód položky | D5: Varianta | E5: Název Položky | F5: MJ | G5: Množství | H5: Cena | J5: Cenová soustava | O5: 0.21
H6: Jednotková | I6: Celkem
A7: 0 | B7: 1 | C7: 2 | D7: 3 | E7: 4 | F7: 5 | G7: 6 | H7: 7 | I7: 8 | J7: 9
A8: SD | C8: 0 | E8: Všeobecné konstrukce a práce | I8: =SUMIFS(I9:I12,A9:A12,"P") -> 0
A9: P | B9: 1 | C9: 014102 | D9: 1 | E9: POPLATKY ZA SKLÁDKU | F9: T | G9: 144 | H9: 0 | I9: =ROUND(G9*H9,P4) -> 0 | O9: =I9*0.21 -> 0 | P9: 3
A10: PP
A11: VV | E11: Položka č. 13273 72*2,0 = 144,000 [A]
A12: TS | E12: Položka zahrnuje: - veškeré poplatky provozovateli skládky související s uložením odpadu na skládce. Položka nezahrnuje: - x
A13: SD | C13: 1 | E13: Zemní práce | I13: =SUMIFS(I14:I35,A14:A35,"P") -> 0
A14: P | B14: 2 | C14: 11313 | E14: ODSTRANĚNÍ KRYTU ZPEVNĚNÝCH PLOCH S ASFALTOVÝM POJIVEM | F14: M3 | G14: 1.92 | H14: 0 | I14: =ROUND(G14*H14,P4) -> 0 | O14: =I14*0.21 -> 0 | P14: 3
A15: PP | E15: Včetně odvozu a likvidace v režii zhotovitele, odvozná vzdálenost v režii zhotovitele.
A16: TS | E16: Položka zahrnuje: - veškerou manipulaci s vybouranou sutí a s vybouranými hmotami vč. uložení na skládku.
A17: P | B17: 4 | C17: 12931 | E17: ČIŠTĚNÍ PŘÍKOPŮ OD NÁNOSU DO 0,25M3/M | F17: M | G17: 300 | H17: 0 | I17: =ROUND(G17*H17,P4) -> 0 | O17: =I17*0.21 -> 0 | P17: 3
A18: PP | E18: Včetně odvozu a likvidace v režii zhotovitele, odvozná vzdálenost v režii zhotovitele.
A19: TS | E19: Položka zahrnuje: - vodorovnou a svislou dopravu, přemístění, přeložení, manipulace s materiálem a uložení na skládku.
A20: P | B20: 5 | C20: 13273 | E20: HLOUBENÍ RÝH ŠÍŘ DO 2M PAŽ I NEPAŽ TŘ. I | F20: M3 | G20: 72 | H20: 0 | I20: =ROUND(G20*H20,P4) -> 0 | O20: =I20*0.21 -> 0 | P20: 3
A21: PP
A22: VV | E22: 4*12,5*0,8*1,8 = 72,000 [A]
A23: TS | E23: Položka zahrnuje: - vodorovnou a svislou dopravu, přemístění, přeložení, manipulace s výkopkem - kompletní provedení vykopávky nezapažené i zapažené - ošetření výkopiště po celou dobu práce v něm vč. klimatických opatření - ztížení vykopávek v blízkosti podzemního vedení, konstrukcí a objektů vč. jejich dočasného zajištění - ztížení pod vodou, v okolí výbušnin, ve stísněných prostorech a pod. - příplatek za lepivost - těžení po vrstvách, pásech a po jiných nutných částech (figurách) - čerpání vody vč. čerpacích jímek, potrubí a pohotovostní čerpací soupravy (viz ustanovení k pol. 1151,2) - potřebné snížení hladiny podzemní vody - těžení a rozpojování jednotlivých balvanů - vytahování a nošení výkopku - svahování a přesvah. svahů do konečného tvaru, výměna hornin v podloží a v pláni znehodnocené klimatickými vlivy - ruční vykopávky, odstranění kořenů a napadávek - pažení, vzepření a rozepření vč. přepažování (vyjma pažení záporového a štětových stěn) - úpravu, ochranu a očištění dna, základové spáry, stěn a svahů - odvedení nebo obvedení vody v okolí výkopiště a ve výkopišti - třídění výkopku - veškeré pomocné konstrukce umožňující provedení vykopávky (příjezdy, sjezdy, nájezdy, lešení, podpěr. konstr., přemostění, zpevněné plochy, zakrytí a pod.) Položka nezahrnuje: - uložení zeminy (na skládku, do násypu) ani poplatky za skládku, vykazují se v položce č.0141**
A24: P | B24: 6 | C24: 17120 | E24: ULOŽENÍ SYPANINY DO NÁSYPŮ A NA SKLÁDKY BEZ ZHUTNĚNÍ | F24: M3 | G24: 72 | H24: 0 | I24: =ROUND(G24*H24,P4) -> 0 | O24: =I24*0.21 -> 0 | P24: 3
A25: PP | E25: Uložení materiálu na skládku
A26: VV | E26: Na skládku 72 = 72,000 [B]
A27: TS | E27: Položka zahrnuje: - kompletní provedení zemní konstrukce do předepsaného tvaru - ošetření úložiště po celou dobu práce v něm vč. klimatických opatření - ztížení v okolí vedení, konstrukcí a objektů a jejich dočasné zajištění - ztížení provádění ve ztížených podmínkách a stísněných prostorech - ztížené ukládání sypaniny pod vodu - ukládání po vrstvách a po jiných nutných částech (figurách) vč. dosypávek - spouštění a nošení materiálu - úprava, očištění a ochrana podloží a svahů - svahování, uzavírání povrchů svahů - udržování úložiště a jeho ochrana proti vodě - odvedení nebo obvedení vody v okolí úložiště a v úložišti - veškeré pomocné konstrukce umožňující provedení zemní konstrukce (příjezdy, sjezdy, nájezdy, lešení, podpěrné konstrukce, přemostění, zpevněné plochy, zakrytí a pod.) Položka nezahrnuje: - x
A28: P | B28: 7 | C28: 17481 | E28: ZÁSYP JAM A RÝH Z NAKUPOVANÝCH MATERIÁLŮ | F28: M3 | G28: 47.04 | H28: 0 | I28: =ROUND(G28*H28,P4) -> 0 | O28: =I28*0.21 -> 0 | P28: 3
A29: PP | E29: Štěrkopísek frakce 0/32
A30: VV | E30: Odkaz na mn. položky pořadí 13273 72 = 72,000 [A]_x000D_ Odkaz na mn. položky pořadí 17581 -19,2 = -19,200 [B]_x000D_ Odkaz na mn. položky pořadí 45157 -5,76 = -5,760 [C]_x000D_ Celkové množství = 47,040
A31: TS | E31: Položka zahrnuje: - kompletní provedení zemní konstrukce včetně nákupu a dopravy materiálu dle zadávací dokumentace - úprava ukládaného materiálu vlhčením, tříděním, promícháním nebo vysoušením, příp. jiné úpravy za účelem zlepšení jeho mech. vlastností - hutnění i různé míry hutnění - ošetření úložiště po celou dobu práce v něm vč. klimatických opatření - ztížení v okolí vedení, konstrukcí a objektů a jejich dočasné zajištění - ztížení provádění vč. hutnění ve ztížených podmínkách a stísněných prostorech - ztížené ukládání sypaniny pod vodu - ukládání po vrstvách a po jiných nutných částech (figurách) vč. dosypávek - spouštění a nošení materiálu - výměna částí zemní konstrukce znehodnocené klimatickými vlivy - udržování úložiště a jeho ochrana proti vodě - odvedení nebo obvedení vody v okolí úložiště a v úložišti - veškeré pomocné konstrukce umožňující provedení zemní konstrukce (příjezdy, sjezdy, nájezdy, lešení, podpěrné konstrukce, přemostění, zpevněné plochy, zakrytí a pod.) Položka nezahrnuje: - x
A32: P | B32: 8 | C32: 17581 | E32: OBSYP POTRUBÍ A OBJEKTŮ Z NAKUPOVANÝCH MATERIÁLŮ | F32: M3 | G32: 19.2 | H32: 0 | I32: =ROUND(G32*H32,P4) -> 0 | O32: =I32*0.21 -> 0 | P32: 3
A33: PP | E33: Pískový obsyp materiálem 0/16.
A34: VV | E34: 0,8*0,5*12,0*4 = 19,200 [A]
A35: TS | E35: Položka zahrnuje: - kompletní provedení zemní konstrukce včetně nákupu a dopravy materiálu dle zadávací dokumentace - úprava ukládaného materiálu vlhčením, tříděním, promícháním nebo vysoušením, příp. jiné úpravy za účelem zlepšení jeho mech. vlastností - hutnění i různé míry hutnění - ošetření úložiště po celou dobu práce v něm vč. klimatických opatření - ztížení v okolí vedení, konstrukcí a objektů a jejich dočasné zajištění - ztížení provádění vč. hutnění ve ztížených podmínkách a stísněných prostorech - ztížené ukládání sypaniny pod vodu - ukládání po vrstvách a po jiných nutných částech (figurách) vč. dosypávek - spouštění a nošení materiálu - výměna částí zemní konstrukce znehodnocené klimatickými vlivy - ruční hutnění a výplň jam a prohlubní v podloží - úprava, očištění, ochrana a zhutnění podloží - svahování, hutnění a uzavírání povrchů svahů - zřízení lavic na svazích - udržování úložiště a jeho ochrana proti vodě - odvedení nebo obvedení vody v okolí úložiště a v úložišti - veškeré pomocné konstrukce umožňující provedení zemní konstrukce (příjezdy, sjezdy, nájezdy, lešení, podpěrné konstrukce, přemostění, zpevněné plochy, zakrytí a pod.) Položka nezahrnuje: - x Způsob měření: - zemina vytlačená potrubím o DN 180mm se od kubatury obsypů neodečítá
A36: SD | C36: 4 | E36: Vodorovné konstrukce | I36: =SUMIFS(I37:I56,A37:A56,"P") -> 0
A37: P | B37: 9 | C37: 451311 | E37: PODKL A VÝPLŇ VRSTVY Z PROST BET DO C8/10 | F37: M3 | G37: 0.2 | H37: 0 | I37: =ROUND(G37*H37,P4) -> 0 | O37: =I37*0.21 -> 0 | P37: 3
A38: PP
A39: VV | E39: 16*0,5*0,5*0,05 = 0,200 [A]
A40: TS | E40: Položka zahrnuje: - dodání čerstvého betonu (betonové směsi) požadované kvality, jeho uložení do požadovaného tvaru při jakékoliv hustotě výztuže, konzistenci čerstvého betonu a způsobu hutnění, ošetření a ochranu betonu, - zhotovení nepropustného, mrazuvzdorného betonu a betonu požadované trvanlivosti a vlastností, užití potřebných přísad a technologií výroby betonu, - zřízení pracovních a dilatačních spar, včetně potřebných úprav, výplně, vložek, opracování, očištění a ošetření, - bednění požadovaných konstr. (i ztracené) s úpravou dle požadované kvality povrchu betonu, včetně odbedňovacích a odskružovacích prostředků, nátěrů zabraňujících soudržnosti betonu a bednění, - podpěrné konstr. (skruže) a lešení všech druhů pro bednění, vč. ochranných a bezpečnostních opatření a základů těchto konstrukcí a lešení, - vytvoření kotevních čel, kapes, nálitků a sedel, zřízení všech požadovaných otvorů, výklenků, prostupů, dutin, drážek a pod., vč. ztížení práce a úprav kolem nich, - úpravy pro osazení výztuže, doplňkových konstrukcí a vybavení, - úpravy povrchu pro položení požadované izolace, povlaků a nátěrů, případně vyspravení, - ztížení práce u kabelových a injektážních trubek a ostatních zařízení osazovaných do betonu, - konstrukce betonových kloubů, upevnění kotevních prvků a doplňkových konstrukcí, - nátěry zabraňující soudržnost betonu a bednění, - výplň, těsnění a tmelení spar a spojů, - opatření povrchů betonu izolací proti zemní vlhkosti v částech, kde přijdou do styku se zeminou nebo kamenivem, - případné zřízení spojovací vrstvy u základů, - úpravy pro osazení zařízení ochrany konstrukce proti vlivu bludných proudů, Položka nezahrnuje: - x
...

Sheet SO 401
A1: EstiCon | E1: Firma: | P1: 3
E2: Soupis prací objektu
A3: S | B3: Stavba: | C3: 02102024 | E3: SYROVICE - SOBOTOVSKÁ - Obec | H3: SO 401 | I3: =SUMIFS(I8:I182,A8:A182,"SD") -> 0 | O3: 0 | P3: 2
A4: O | B4: Rozpočet: | C4: SO 401 | E4: VEŘEJNÉ OSVĚTLENÍ | O4: 0.12 | P4: 2
A5: Typ | B5: Poř. číslo | C5: Kód položky | D5: Varianta | E5: Název Položky | F5: MJ | G5: Množství | H5: Cena | J5: Cenová soustava | O5: 0.21
H6: Jednotková | I6: Celkem
A7: 0 | B7: 1 | C7: 2 | D7: 3 | E7: 4 | F7: 5 | G7: 6 | H7: 7 | I7: 8 | J7: 9
A8: SD | C8: 1 | E8: Zemní práce | I8: =SUMIFS(I9:I11,A9:A11,"P") -> 0
A9: P | B9: 1 | C9: 141721101R00 | E9: Řízené protlačení a vtažení PE d 110 mm, hor.1 - 4 | F9: m | G9: 14 | H9: 0 | I9: =ROUND(G9*H9,P4) -> 0 | O9: =I9*0.21 -> 0 | P9: 3
A10: PP
A11: TS
A12: SD | C12: HZS | E12: HODINOVÁ ZÚČTOVACÍ SAZBA | I12: =SUMIFS(I13:I24,A13:A24,"P") -> 0
A13: P | B13: 2 | C13: 1 | E13: Koordinace prací | F13: hod | G13: 15 | H13: 0 | I13: =ROUND(G13*H13,P4) -> 0 | O13: =I13*0.21 -> 0 | P13: 3
A14: PP
A15: TS
A16: P | B16: 3 | C16: 2 | E16: Montážní plošina | F16: hod | G16: 15 | H16: 0 | I16: =ROUND(G16*H16,P4) -> 0 | O16: =I16*0.21 -> 0 | P16: 3
A17: PP
A18: TS
A19: P | B19: 4 | C19: 3 | E19: Neměřitelné práce | F19: hod | G19: 10 | H19: 0 | I19: =ROUND(G19*H19,P4) -> 0 | O19: =I19*0.21 -> 0 | P19: 3
A20: PP
A21: TS
A22: P | B22: 5 | C22: 4 | E22: Zaregulování a nastavení svítidel - sklon, směřování, požadovaný světlený tok | F22: hod | G22: 8 | H22: 0 | I22: =ROUND(G22*H22,P4) -> 0 | O22: =I22*0.21 -> 0 | P22: 3
A23: PP
A24: TS
A25: SD | C25: M11 | E25: Materiály | I25: =SUMIFS(I26:I79,A26:A79,"P") -> 0
A26: P | B26: 7 | C26: 1000535 | E26: Napojení na stávající svítidlo - materiál | F26: kpl | G26: 1 | H26: 0 | I26: =ROUND(G26*H26,P4) -> 0 | O26: =I26*0.21 -> 0 | P26: 3
A27: PP
A28: TS
A29: P | B29: 6 | C29: 1008379 | E29: Led svítidlo pouličním led svítidlem 18W teplotu chromatičnosti 2700K | F29: ks | G29: 14 | H29: 0 | I29: =ROUND(G29*H29,P4) -> 0 | O29: =I29*0.21 -> 0 | P29: 3
A30: PP
A31: TS
A32: P | B32: 8 | C32: 14312722R | E32: Trubka podélně svařovaná hladká S235 43x2,0 mm | F32: m | G32: 6 | H32: 0 | I32: =ROUND(G32*H32,P4) -> 0 | O32: =I32*0.21 -> 0 | P32: 3
A33: PP
A34: VV | E34: 3,0*2 = 6,000 [A]
A35: TS
A36: P | B36: 9 | C36: 15615235R | E36: Drát tažený pozinkovaný 11343 D 10,00 mm | F36: kg | G36: 130.2 | H36: 0 | I36: =ROUND(G36*H36,P4) -> 0 | O36: =I36*0.21 -> 0 | P36: 3
A37: PP
A38: VV | E38: 200,0*0,62*1,05 = 130,200 [A]
A39: TS
A40: P | B40: 10 | C40: 15615299R | E40: Drát tažený pozinkovaný 11343 D 10,00 mm PVC izolace | F40: kg | G40: 10.217 | H40: 0 | I40: =ROUND(G40*H40,P4) -> 0 | O40: =I40*0.21 -> 0 | P40: 3
...

Sheet SO 901
A1: EstiCon | E1: Firma: | P1: 3
E2: Soupis prací objektu
A3: S | B3: Stavba: | C3: 02102024 | E3: SYROVICE - SOBOTOVSKÁ - Obec | H3: SO 901 | I3: =SUMIFS(I8:I52,A8:A52,"SD") -> 0 | O3: 0 | P3: 2
A4: O | B4: Rozpočet: | C4: SO 901 | E4: OPĚRNÉ ZDI | O4: 0.12 | P4: 2
A5: Typ | B5: Poř. číslo | C5: Kód položky | D5: Varianta | E5: Název Položky | F5: MJ | G5: Množství | H5: Cena | J5: Cenová soustava | O5: 0.21
H6: Jednotková | I6: Celkem
A7: 0 | B7: 1 | C7: 2 | D7: 3 | E7: 4 | F7: 5 | G7: 6 | H7: 7 | I7: 8 | J7: 9
A8: SD | C8: 0 | E8: Všeobecné konstrukce a práce | I8: =SUMIFS(I9:I12,A9:A12,"P") -> 0
A9: P | B9: 32 | C9: 014102 | E9: POPLATKY ZA SKLÁDKU | F9: T | G9: 40.2 | H9: 0 | I9: =ROUND(G9*H9,P4) -> 0 | O9: =I9*0.21 -> 0 | P9: 3
A10: PP
A11: VV | E11: (14,3+14,5-8,7)*2,0 = 40,200 [A]
A12: TS | E12: Položka zahrnuje: - veškeré poplatky provozovateli skládky související s uložením odpadu na skládce. Položka nezahrnuje: - x
A13: SD | C13: 1 | E13: Zemní práce | I13: =SUMIFS(I14:I29,A14:A29,"P") -> 0
A14: P | B14: 1 | C14: 122734 | D14: A | E14: ODKOPÁVKY A PROKOPÁVKY OBECNÉ TŘ. I, ODVOZ DO 5KM | F14: M3 | G14: 14.3 | H14: 0 | I14: =ROUND(G14*H14,P4) -> 0 | O14: =I14*0.21 -> 0 | P14: 3
A15: PP | E15: Včetně odvozu a likvidace v režii zhotovitele, odvozná vzdálenost v režii zhotovitele.
A16: VV | E16: OP1 0,7*9,0 = 6,300 [A]_x000D_ OP2 0,4*20,0 = 8,000 [B]_x000D_ Celkové množství = 14,300
A17: TS | E17: Položka zahrnuje: - vodorovnou a svislou dopravu, přemístění, přeložení, manipulace s výkopkem - kompletní provedení vykopávky nezapažené i zapažené - ošetření výkopiště po celou dobu práce v něm vč. klimatických opatření - ztížení vykopávek v blízkosti podzemního vedení, konstrukcí a objektů vč. jejich dočasného zajištění - ztížení pod vodou, v okolí výbušnin, ve stísněných prostorech a pod. - příplatek za lepivost - těžení po vrstvách, pásech a po jiných nutných částech (figurách) - čerpání vody vč. čerpacích jímek, potrubí a pohotovostní čerpací soupravy (viz ustanovení k pol. 1151,2) - potřebné snížení hladiny podzemní vody - těžení a rozpojování jednotlivých balvanů - vytahování a nošení výkopku - svahování a přesvah. svahů do konečného tvaru, výměna hornin v podloží a v pláni znehodnocené klimatickými vlivy - ruční vykopávky, odstranění kořenů a napadávek - pažení, vzepření a rozepření vč. přepažování (vyjma pažení záporového a štětových stěn) - úpravu, ochranu a očištění dna, základové spáry, stěn a svahů - zhutnění podloží, případně i svahů vč. svahování - zřízení stupňů v podloží a lavic na svazích, není-li pro tyto práce zřízena samostatná položka - udržování výkopiště a jeho ochrana proti vodě - odvedení nebo obvedení vody v okolí výkopiště a ve výkopišti - třídění výkopku - veškeré pomocné konstrukce umožňující provedení vykopávky (příjezdy, sjezdy, nájezdy, lešení, podpěr. konstr., přemostění, zpevněné plochy, zakrytí a pod.)
A18: P | B18: 2 | C18: 132734 | E18: HLOUBENÍ RÝH ŠÍŘ DO 2M PAŽ I NEPAŽ TŘ. I, ODVOZ DO 5KM | F18: M3 | G18: 14.5 | H18: 0 | I18: =ROUND(G18*H18,P4) -> 0 | O18: =I18*0.21 -> 0 | P18: 3
