Workbook

Sheet Rekapitulace
A1: EstiCon | B1: Firma:
B2: Rekapitulace ceny
B4: Stavba: 02102024 - SYROVICE - SOBOTOVSKÁ - Obec
B6: Celková cena bez DPH: | C6: =SUM(C10:C18) -> 0
B7: Celková cena s DPH: | C7: =SUM(E10:E18) -> 0
A9: Objekt | B9: Popis | C9: Cena bez DPH | D9: DPH | E9: Cena s DPH
A10: 00 | B10: Ostatní náklady | C10: ='00'!I3 -> 0 | D10: =SUMIFS('00'!O:O,'00'!A:A,"P") -> 0 | E10: =C10+D10 -> 0
A11: 000 | B11: Vedlejší náklady | C11: ='000'!I3 -> 0 | D11: =SUMIFS('000'!O:O,'000'!A:A,"P") -> 0 | E11: =C11+D11 -> 0
A12: SO 101.2 | B12: CHODNÍKY | C12: ='SO 101.2'!I3 -> 0 | D12: =SUMIFS('SO 101.2'!O:O,'SO 101.2'!A:A,"P") -> 0 | E12: =C12+D12 -> 0
A13: SO 101.4 | B13: PŘÍSTŘEŠEK AUTOBUSOVÉ ZASTÁVKY SOBOTOVICE-SYROVICE | C13: ='SO 101.4'!I3 -> 0 | D13: =SUMIFS('SO 101.4'!O:O,'SO 101.4'!A:A,"P") -> 0 | E13: =C13+D13 -> 0
A14: SO 101.5 | B14: PŘÍSTŘEŠEK AUTOBUSOVÉ ZASTÁVKY SYROVICE-SOBOTOVICE | C14: ='SO 101.5'!I3 -> 0 | D14: =SUMIFS('SO 101.5'!O:O,'SO 101.5'!A:A,"P") -> 0 | E14: =C14+D14 -> 0
A15: SO 301.1 | B15: DEŠŤOVÁ KANALIZACE (Podíl SUS JMK 66,2%, podíl Obec Syrovice 33,8%) | C15: ='SO 301.1'!I3 -> 0 | D15: =SUMIFS('SO 301.1'!O:O,'SO 301.1'!A:A,"P") -> 0 | E15: =C15+D15 -> 0
A16: SO 301.2 | B16: DEŠŤOVÁ KANALIZACE UV9-UV14 (Podíl SUS JMK 66,2%, podíl Obec Syrovice 33,8%) | C16: ='SO 301.2'!I3 -> 0 | D16: =SUMIFS('SO 301.2'!O:O,'SO 301.2'!A:A,"P") -> 0 | E16: =C16+D16 -> 0
A17: SO 401 | B17: VEŘEJNÉ OSVĚTLENÍ | C17: ='SO 401'!I3 -> 0 | D17: =SUMIFS('SO 401'!O:O,'SO 401'!A:A,"P") -> 0 | E17: =C17+D17 -> 0
A18: SO 901 | B18: OPĚRNÉ ZDI | C18: ='SO 901'!I3 -> 0 | D18: =SUMIFS('SO 901'!O:O,'SO 901'!A:A,"P") -> 0 | E18: =C18+D18 -> 0

Sheet 00
A1: EstiCon | E1: Firma: | P1: 3
E2: Soupis prací objektu
A3: S | B3: Stavba: | C3: 02102024 | E3: SYROVICE - SOBOTOVSKÁ - Obec | H3: 00 | I3: =SUMIFS(I8:I20,A8:A20,"SD") -> 0 | O3: 0 | P3: 2
A4: O | B4: Rozpočet: | C4: 00 | E4: Ostatní náklady | O4: 0.12 | P4: 2
A5: Typ | B5: Poř. číslo | C5: Kód položky | D5: Varianta | E5: Název Položky | F5: MJ | G5: Množství | H5: Cena | J5: Cenová soustava | O5: 0.21
H6: Jednotková | I6: Celkem
A7: 0 | B7: 1 | C7: 2 | D7: 3 | E7: 4 | F7: 5 | G7: 6 | H7: 7 | I7: 8 | J7: 9
A8: SD | C8: 0 | E8: Všeobecné konstrukce a práce | I8: =SUMIFS(I9:I20,A9:A20,"P") -> 0
A9: P | B9: 1 | C9: 029113 | E9: OSTATNÍ POŽADAVKY - GEODETICKÉ ZAMĚŘENÍ - CELKY | F9: KPL | G9: 1 | H9: 0 | I9: =ROUND(G9*H9,P4) -> 0 | O9: =I9*0.21 -> 0 | P9: 3
A10: PP
A11: TS | E11: Položka zahrnuje: - veškeré náklady spojené s objednatelem požadovanými pracemi - položka se využije pro celky 3D charakteru (objekty s vysokou mírou nepravidelnosti vzájemně navazujících částí, technologické a průmyslové celky) Položka nezahrnuje: - x
A12: P | B12: 2 | C12: 02943 | E12: OSTATNÍ POŽADAVKY - VYPRACOVÁNÍ RDS | F12: KPL | G12: 1 | H12: 0 | I12: =ROUND(G12*H12,P4) -> 0 | O12: =I12*0.21 -> 0 | P12: 3
A13: PP
A14: TS | E14: Položka zahrnuje: - veškeré náklady spojené s objednatelem požadovanými pracemi Položka nezahrnuje: - x
A15: P | B15: 3 | C15: 02944 | E15: OSTAT POŽADAVKY - DOKUMENTACE SKUTEČ PROVEDENÍ V DIGIT FORMĚ | F15: KPL | G15: 1 | H15: 0 | I15: =ROUND(G15*H15,P4) -> 0 | O15: =I15*0.21 -> 0 | P15: 3
A16: PP
A17: TS | E17: Položka zahrnuje: - kompletní zeměměřičské práce a činnosti spojené se zaměřením a vyhotovením všech dokončených dílčích částí stavby, včetně po celkovém dokončení stavby zakrytých částí. Vyhotovení geodetické dokumentace skutečného provedení, svojí podrobností, obsahem, přesností, náležitostmi, formou prezentace musí být v souladu s požadavky, vycházející s aktuálně platné legislativy. Položka nezahrnuje: - x
A18: P | B18: 4 | C18: 02945 | E18: OSTAT POŽADAVKY - GEOMETRICKÝ PLÁN | F18: HM | G18: 1 | H18: 0 | I18: =ROUND(G18*H18,P4) -> 0 | O18: =I18*0.21 -> 0 | P18: 3
A19: PP
A20: TS | E20: Položka zahrnuje: - zajištění všech dostupných podkladů pro vyhotovení geometrického plánu investorem - polní práce spojené s vyhotovením geometrického plánu - výpočetní a grafické kancelářské práce spojené s vyhotovením geometrického plánu - autorizace výsledného elaborátu geometrického plánu Autorizovaným Zeměměřičským Inženýrem (AZI) - zajištění formální a technické kontroly, včetně potvrzení geometrického plánu místně příslušným katastrálním pracovištěm

Sheet 000
A1: EstiCon | E1: Firma: | P1: 3
E2: Soupis prací objektu
A3: S | B3: Stavba: | C3: 02102024 | E3: SYROVICE - SOBOTOVSKÁ - Obec | H3: 000 | I3: =SUMIFS(I8:I29,A8:A29,"SD") -> 0 | O3: 0 | P3: 2
A4: O | B4: Rozpočet: | C4: 000 | E4: Vedlejší náklady | O4: 0.12 | P4: 2
A5: Typ | B5: Poř. číslo | C5: Kód položky | D5: Varianta | E5: Název Položky | F5: MJ | G5: Množství | H5: Cena | J5: Cenová soustava | O5: 0.21
H6: Jednotková | I6: Celkem
A7: 0 | B7: 1 | C7: 2 | D7: 3 | E7: 4 | F7: 5 | G7: 6 | H7: 7 | I7: 8 | J7: 9
A8: SD | C8: 0 | E8: Všeobecné konstrukce a práce | I8: =SUMIFS(I9:I29,A9:A29,"P") -> 0
A9: P | B9: 1 | C9: 00001 | D9: R | E9: Vytyčení veškerých inženýrských sítí v prostoru staveniště - popsáno v obchodních podmínkách a v projektové dokumentaci | F9: KPL | G9: 1 | H9: 0 | I9: =ROUND(G9*H9,P4) -> 0 | O9: =I9*0.21 -> 0 | P9: 3
A10: PP
A11: TS
A12: P | B12: 2 | C12: 00002 | D12: R | E12: Zřízení a odstranění zařízení staveniště - popsáno v obchodních podmínkách | F12: KPL | G12: 1 | H12: 0 | I12: =ROUND(G12*H12,P4) -> 0 | O12: =I12*0.21 -> 0 | P12: 3
A13: PP
A14: TS
A15: P | B15: 3 | C15: 00003 | D15: R | E15: Zajištění povolení k uzavírkám - popsáno v obchodních podmínkách, v zákoně č. 13/1997 Sb., a vyhlášce č. 104/1997 | F15: KPL | G15: 1 | H15: 0 | I15: =ROUND(G15*H15,P4) -> 0 | O15: =I15*0.21 -> 0 | P15: 3
A16: PP
A17: TS
A18: P | B18: 4 | C18: 00004 | D18: R | E18: Zajištění stanovení, umístění, údržbu, přemístění a odstranění dočasného dopravního značení - popsáno v projektové dokumentaci | F18: KPL | G18: 1 | H18: 0 | I18: =ROUND(G18*H18,P4) -> 0 | O18: =I18*0.21 -> 0 | P18: 3
A19: PP
A20: TS
A21: P | B21: 5 | C21: 00005 | D21: R | E21: Zajištění přístupů a příjezdů k sousedním nemovitostem - popsáno v obchodních podmínkách, v zákoně č. 13/1997 Sb., a vyhlášce č. 104/1997 | F21: KPL | G21: 1 | H21: 0 | I21: =ROUND(G21*H21,P4) -> 0 | O21: =I21*0.21 -> 0 | P21: 3
A22: PP
A23: TS
A24: P | B24: 6 | C24: 00006 | D24: R | E24: Zajištění provedení a výstupů veškerých zkoušek a revizí - popsáno v obchodních podmínkách, technických podmínkách a normách ČSN | F24: KPL | G24: 1 | H24: 0 | I24: =ROUND(G24*H24,P4) -> 0 | O24: =I24*0.21 -> 0 | P24: 3
A25: PP
A26: TS
A27: P | B27: 7 | C27: 00007 | D27: R | E27: Bezpečnostní opatření - popsáno v projektové dokumentaci | F27: KPL | G27: 1 | H27: 0 | I27: =ROUND(G27*H27,P4) -> 0 | O27: =I27*0.21 -> 0 | P27: 3
A28: PP
A29: TS

Sheet SO 101.2
A1: EstiCon | E1: Firma: | P1: 3
E2: Soupis prací objektu
A3: S | B3: Stavba: | C3: 02102024 | E3: SYROVICE - SOBOTOVSKÁ - Obec | H3: SO 101.2 | I3: =SUMIFS(I8:I147,A8:A147,"SD") -> 0 | O3: 0 | P3: 2
A4: O | B4: Rozpočet: | C4: SO 101.2 | E4: CHODNÍKY | O4: 0.12 | P4: 2
A5: Typ | B5: Poř. číslo | C5: Kód položky | D5: Varianta | E5: Název Položky | F5: MJ | G5: Množství | H5: Cena | J5: Cenová soustava | O5: 0.21
H6: Jednotková | I6: Celkem
A7: 0 | B7: 1 | C7: 2 | D7: 3 | E7: 4 | F7: 5 | G7: 6 | H7: 7 | I7: 8 | J7: 9
A8: SD | C8: 0 | E8: Všeobecné konstrukce a práce | I8: =SUMIFS(I9:I12,A9:A12,"P") -> 0
A9: P | B9: 37 | C9: 014102 | E9: POPLATKY ZA SKLÁDKU | F9: T | G9: 2490.63 | H9: 0 | I9: =ROUND(G9*H9,P4) -> 0 | O9: =I9*0.21 -> 0 | P9: 3
A10: PP
A11: VV | E11: (467,715+766,6+11)*2,0 = 2490,630 [A]
A12: TS | E12: Položka zahrnuje: - veškeré poplatky provozovateli skládky související s uložením odpadu na skládce. Položka nezahrnuje: - x
A13: SD | C13: 1 | E13: Zemní práce | I13: =SUMIFS(I14:I61,A14:A61,"P") -> 0
A14: P | B14: 1 | C14: 11120 | E14: ODSTRANĚNÍ KŘOVIN | F14: M2 | G14: 50 | H14: 0 | I14: =ROUND(G14*H14,P4) -> 0 | O14: =I14*0.21 -> 0 | P14: 3
A15: PP
A16: TS | E16: Položka zahrnuje: - odstranění křovin a stromů do průměru 100 mm - dopravu dřevin bez ohledu na vzdálenost - spálení na hromadách nebo štěpkování Položka nezahrnuje: - x
A17: P | B17: 2 | C17: 11201 | E17: KÁCENÍ STROMŮ D KMENE DO 0,5M S ODSTRANĚNÍM PAŘEZŮ | F17: KUS | G17: 11 | H17: 0 | I17: =ROUND(G17*H17,P4) -> 0 | O17: =I17*0.21 -> 0 | P17: 3
A18: PP
A19: TS | E19: Položka zahrnuje: - poražení stromu a osekání větví - spálení větví na hromadách nebo štěpkování - dopravu a uložení kmenů, případné další práce s nimi dle pokynů zadávací dokumentace - vytrhání nebo vykopání pařezů - veškeré zemní práce spojené s odstraněním pařezů - dopravu a uložení pařezů, případně další práce s nimi dle pokynů zadávací dokumentace - zásyp jam po pařezech Položka nezahrnuje: - x Způsob měření: - kácení stromů se měří v [ks] poražených stromů (průměr stromů se měří ve výšce 1,3m nad terénem)
A20: P | B20: 3 | C20: 11313 | E20: ODSTRANĚNÍ KRYTU ZPEVNĚNÝCH PLOCH S ASFALTOVÝM POJIVEM | F20: M3 | G20: 32.4 | H20: 0 | I20: =ROUND(G20*H20,P4) -> 0 | O20: =I20*0.21 -> 0 | P20: 3
A21: PP | E21: Včetně odvozu a likvidace v režii zhotovitele, odvozná vzdálenost v režii zhotovitele.
A22: VV | E22: (35,0+0,5*(530,0+210,0))*0,08 = 32,400 [A]
A23: TS | E23: Položka zahrnuje: - veškerou manipulaci s vybouranou sutí a s vybouranými hmotami vč. uložení na skládku.
A24: P | B24: 4 | C24: 113174 | E24: ODSTRAN KRYTU ZPEVNĚNÝCH PLOCH Z DLAŽEB KOSTEK, ODVOZ DO 5KM | F24: M3 | G24: 5.1 | H24: 0 | I24: =ROUND(G24*H24,P4) -> 0 | O24: =I24*0.21 -> 0 | P24: 3
A25: PP | E25: Včetně odvozu a likvidace v režii zhotovitele, odvozná vzdálenost v režii zhotovitele.
A26: VV | E26: (18,5+3,5+16,0+13,0)*0,1 = 5,100 [A]
A27: TS | E27: Položka zahrnuje: - veškerou manipulaci s vybouranou sutí a s vybouranými hmotami vč. uložení na skládku.
A28: P | B28: 5 | C28: 113184 | E28: ODSTRANĚNÍ KRYTU ZPEVNĚNÝCH PLOCH Z DLAŽDIC, ODVOZ DO 5KM | F28: M3 | G28: 32.76 | H28: 0 | I28: =ROUND(G28*H28,P4) -> 0 | O28: =I28*0.21 -> 0 | P28: 3
A29: PP | E29: Včetně odvozu a likvidace v režii zhotovitele, odvozná vzdálenost v režii zhotovitele.
A30: VV | E30: (16,0+5,0+265,0+150,0+55,0+55)*0,06 = 32,760 [A]
A31: TS | E31: Položka zahrnuje: - veškerou manipulaci s vybouranou sutí a s vybouranými hmotami vč. uložení na skládku.
A32: P | B32: 6 | C32: 113524 | E32: ODSTRANĚNÍ CHODNÍKOVÝCH A SILNIČNÍCH OBRUBNÍKŮ BETONOVÝCH, ODVOZ DO 5KM | F32: M | G32: 241.7 | H32: 0 | I32: =ROUND(G32*H32,P4) -> 0 | O32: =I32*0.21 -> 0 | P32: 3
A33: PP | E33: Včetně odvozu a likvidace v režii zhotovitele, odvozná vzdálenost v režii zhotovitele.
A34: VV | E34: 8,0+1,7+9,0+8,0+5,0+210,0 = 241,700 [A]
A35: TS | E35: Položka zahrnuje: - veškerou manipulaci s vybouranou sutí a s vybouranými hmotami vč. uložení na skládku.
A36: P | B36: 7 | C36: 122734 | D36: A | E36: ODKOPÁVKY A PROKOPÁVKY OBECNÉ TŘ. I, ODVOZ DO 5KM | F36: M3 | G36: 467.715 | H36: 0 | I36: =ROUND(G36*H36,P4) -> 0 | O36: =I36*0.21 -> 0 | P36: 3
A37: PP | E37: Včetně odvozu v režii zhotovitele, odvozná vzdálenost v režii zhotovitele.
A38: VV | E38: Chodník 0,2*2,0*530,0+0,2*2,5*55,0 = 239,500 [A]_x000D_ Sjezdy 0,25*2,0*142,0 = 71,000 [B]_x000D_ Parkovací stání 0,47*2,5*121,0+0,47*4,0*8,0 = 157,215 [C]_x000D_ Celkové množství = 467,715
A39: TS | E39: Položka zahrnuje: - vodorovnou a svislou dopravu, přemístění, přeložení, manipulace s výkopkem - kompletní provedení vykopávky nezapažené i zapažené - ošetření výkopiště po celou dobu práce v něm vč. klimatických opatření - ztížení vykopávek v blízkosti podzemního vedení, konstrukcí a objektů vč. jejich dočasného zajištění - ztížení pod vodou, v okolí výbušnin, ve stísněných prostorech a pod. - příplatek za lepivost - těžení po vrstvách, pásech a po jiných nutných částech (figurách) - čerpání vody vč. čerpacích jímek, potrubí a pohotovostní čerpací soupravy (viz ustanovení k pol. 1151,2) - potřebné snížení hladiny podzemní vody - těžení a rozpojování jednotlivých balvanů - vytahování a nošení výkopku - svahování a přesvah. svahů do konečného tvaru, výměna hornin v podloží a v pláni znehodnocené klimatickými vlivy - ruční vykopávky, odstranění kořenů a napadávek - pažení, vzepření a rozepření vč. přepažování (vyjma pažení záporového a štětových stěn) - úpravu, ochranu a očištění dna, základové spáry, stěn a svahů - zhutnění podloží, případně i svahů vč. svahování - zřízení stupňů v podloží a lavic na svazích, není-li pro tyto práce zřízena samostatná položka - udržování výkopiště a jeho ochrana proti vodě - odvedení nebo obvedení vody v okolí výkopiště a ve výkopišti - třídění výkopku - veškeré pomocné konstrukce umožňující provedení vykopávky (příjezdy, sjezdy, nájezdy, lešení, podpěr. konstr., přemostění, zpevněné plochy, zakrytí a pod.)
A40: P | B40: 8 | C40: 122734 | D40: B | E40: ODKOPÁVKY A PROKOPÁVKY OBECNÉ TŘ. I, ODVOZ DO 5KM | F40: M3 | G40: 766.6 | H40: 0 | I40: =ROUND(G40*H40,P4) -> 0 | O40: =I40*0.21 -> 0 | P40: 3
A41: PP | E41: V případě sanace podloží. Včetně odvozu v režii zhotovitele, odvozná vzdálenost v režii zhotovitele.
A42: VV | E42: Chodník 0,4*2,0*530,0+0,4*2,5*55,0 = 479,000 [A]_x000D_ Sjezdy 0,4*2,0*142,0 = 113,600 [B]_x000D_ Autobusové zastávky 0,4*100,50 = 40,200 [C]_x000D_ Parkovací stání 0,4*2,5*121,0+0,4*4,0*8,0 = 133,800 [D]_x000D_ Celkové množství = 766,600
A43: TS | E43: Položka zahrnuje: - vodorovnou a svislou dopravu, přemístění, přeložení, manipulace s výkopkem - kompletní provedení vykopávky nezapažené i zapažené - ošetření výkopiště po celou dobu práce v něm vč. klimatických opatření - ztížení vykopávek v blízkosti podzemního vedení, konstrukcí a objektů vč. jejich dočasného zajištění - ztížení pod vodou, v okolí výbušnin, ve stísněných prostorech a pod. - příplatek za lepivost - těžení po vrstvách, pásech a po jiných nutných částech (figurách) - čerpání vody vč. čerpacích jímek, potrubí a pohotovostní čerpací soupravy (viz ustanovení k pol. 1151,2) - potřebné snížení hladiny podzemní vody - těžení a rozpojování jednotlivých balvanů - vytahování a nošení výkopku - svahování a přesvah. svahů do konečného tvaru, výměna hornin v podloží a v pláni znehodnocené klimatickými vlivy - ruční vykopávky, odstranění kořenů a napadávek - pažení, vzepření a rozepření vč. přepažování (vyjma pažení záporového a štětových stěn) - úpravu, ochranu a očištění dna, základové spáry, stěn a svahů - zhutnění podloží, případně i svahů vč. svahování - zřízení stupňů v podloží a lavic na svazích, není-li pro tyto práce zřízena samostatná položka - udržování výkopiště a jeho ochrana proti vodě - odvedení nebo obvedení vody v okolí výkopiště a ve výkopišti - třídění výkopku - veškeré pomocné konstrukce umožňující provedení vykopávky (příjezdy, sjezdy, nájezdy, lešení, podpěr. konstr., přemostění, zpevněné plochy, zakrytí a pod.)
A44: P | B44: 9 | C44: 132734 | E44: HLOUBENÍ RÝH ŠÍŘ DO 2M PAŽ I NEPAŽ TŘ. I, ODVOZ DO 5KM | F44: M3 | G44: 11 | H44: 0 | I44: =ROUND(G44*H44,P4) -> 0 | O44: =I44*0.21 -> 0 | P44: 3
A45: PP | E45: Včetně odvozu v režii zhotovitele, odvozná vzdálenost v režii zhotovitele.
A46: VV | E46: Drenáž 0,5*0,4*55,0 = 11,000 [A]
A47: TS | E47: Položka zahrnuje: - vodorovnou a svislou dopravu, přemístění, přeložení, manipulace s výkopkem - kompletní provedení vykopávky nezapažené i zapažené - ošetření výkopiště po celou dobu práce v něm vč. klimatických opatření - ztížení vykopávek v blízkosti podzemního vedení, konstrukcí a objektů vč. jejich dočasného zajištění - ztížení pod vodou, v okolí výbušnin, ve stísněných prostorech a pod. - příplatek za lepivost - těžení po vrstvách, pásech a po jiných nutných částech (figurách) - čerpání vody vč. čerpacích jímek, potrubí a pohotovostní čerpací soupravy (viz ustanovení k pol. 1151,2) - potřebné snížení hladiny podzemní vody - těžení a rozpojování jednotlivých balvanů - vytahování a nošení výkopku - svahování a přesvah. svahů do konečného tvaru, výměna hornin v podloží a v pláni znehodnocené klimatickými vlivy - ruční vykopávky, odstranění kořenů a napadávek - pažení, vzepření a rozepření vč. přepažování (vyjma pažení záporového a štětových stěn) - úpravu, ochranu a očištění dna, základové spáry, stěn a svahů - odvedení nebo obvedení vody v okolí výkopiště a ve výkopišti - třídění výkopku - veškeré pomocné konstrukce umožňující provedení vykopávky (příjezdy, sjezdy, nájezdy, lešení, podpěr. konstr., přemostění, zpevněné plochy, zakrytí a pod.)
A48: P | B48: 10 | C48: 17120 | E48: ULOŽENÍ SYPANINY DO NÁSYPŮ A NA SKLÁDKY BEZ ZHUTNĚNÍ | F48: M3 | G48: 1245.315 | H48: 0 | I48: =ROUND(G48*H48,P4) -> 0 | O48: =I48*0.21 -> 0 | P48: 3
A49: PP
A50: TS | E50: Položka zahrnuje: - kompletní provedení zemní konstrukce do předepsaného tvaru - ošetření úložiště po celou dobu práce v něm vč. klimatických opatření - ztížení v okolí vedení, konstrukcí a objektů a jejich dočasné zajištění - ztížení provádění ve ztížených podmínkách a stísněných prostorech - ztížené ukládání sypaniny pod vodu - ukládání po vrstvách a po jiných nutných částech (figurách) vč. dosypávek - spouštění a nošení materiálu - úprava, očištění a ochrana podloží a svahů - svahování, uzavírání povrchů svahů - udržování úložiště a jeho ochrana proti vodě - odvedení nebo obvedení vody v okolí úložiště a v úložišti - veškeré pomocné konstrukce umožňující provedení zemní konstrukce (příjezdy, sjezdy, nájezdy, lešení, podpěrné konstrukce, přemostění, zpevněné plochy, zakrytí a pod.) Položka nezahrnuje: - x
A51: P | B51: 11 | C51: 18110 | E51: ÚPRAVA PLÁNĚ SE ZHUTNĚNÍM V HORNINĚ TŘ. I | F51: M2 | G51: 1536 | H51: 0 | I51: =ROUND(G51*H51,P4) -> 0 | O51: =I51*0.21 -> 0 | P51: 3
A52: PP
A53: TS | E53: Položka zahrnuje: - úpravu pláně včetně vyrovnání výškových rozdílů. Míru zhutnění určuje projekt. Položka nezahrnuje: - x
A54: P | B54: 12 | C54: 18231A | E54: ROZPROSTŘENÍ NAKUPOVANÉ ORNICE V ROVINĚ V TL. DO 0,10 M | F54: M2 | G54: 225 | H54: 0 | I54: =ROUND(G54*H54,P4) -> 0 | O54: =I54*0.21 -> 0 | P54: 3
A55: PP
A56: VV | E56: 0,5*(250,0+200,0) = 225,000 [A]
A57: TS | E57: Položka zahrnuje: - nákup a dopravu ornice - rozprostření ornice v předepsané tloušťce ve svahu přes 1:5 Položka nezahrnuje: - x
A58: P | B58: 13 | C58: 18241 | E58: ZALOŽENÍ TRÁVNÍKU RUČNÍM VÝSEVEM | F58: M2 | G58: 225 | H58: 0 | I58: =ROUND(G58*H58,P4) -> 0 | O58: =I58*0.21 -> 0 | P58: 3
A59: PP
A60: VV | E60: 0,5*(250,0+200,0) = 225,000 [A]
A61: TS | E61: Položka zahrnuje: - dodání předepsané travní směsi, její výsev na ornici, zalévání, první pokosení, to vše bez ohledu na sklon terénu Položka nezahrnuje: - x
A62: SD | C62: 2 | E62: Základy | I62: =SUMIFS(I63:I80,A63:A80,"P") -> 0
A63: P | B63: 14 | C63: 21197 | E63: OPLÁŠTĚNÍ ODVODŇOVACÍCH ŽEBER Z GEOTEXTILIE | F63: M2 | G63: 132 | H63: 0 | I63: =ROUND(G63*H63,P4) -> 0 | O63: =I63*0.21 -> 0 | P63: 3
A64: PP
A65: VV | E65: 55,0*0,6*4 = 132,000 [A]
A66: TS | E66: Položka zahrnuje: - dodávku a uložení předepsané fólie včetně potřebných přesahů - mimostaveništní a vnitrostaveništní dopravu Položka nezahrnuje: - x Způsob měření: - přesahy se nezapočítávají do výměry
A67: P | B67: 15 | C67: 21263 | E67: TRATIVODY KOMPLET Z TRUB Z PLAST HM DN DO 150MM | F67: M | G67: 55 | H67: 0 | I67: =ROUND(G67*H67,P4) -> 0 | O67: =I67*0.21 -> 0 | P67: 3
A68: PP
A69: TS | E69: Položka zahrnuje: - platí pro kompletní konstrukce trativodů: - výkop rýhy předepsaného tvaru v dané třídě těžitelnosti, výplň, zásyp trativodu včetně dopravy, uložení přebytečného materiálu, dodávky předepsaného materiálu pro výplň a zásyp - zřízení spojovací vrstvy - zřízení podkladu a lože trativodu z předepsaného materiálu - dodávka a uložení trativodu předepsaného materiálu a profilu - obsyp trativodu předepsaným materiálem - ukončení trativodu zaústěním do potrubí nebo vodoteče, případně vybudování ukončujícího objektu (kapličky) dle VL - veškerý materiál, výrobky a polotovary, včetně mimostaveništní a vnitrostaveništní dopravy Položka nezahrnuje: - opláštění z geotextilie, fólie
A70: P | B70: 16 | C70: 21452 | E70: SANAČNÍ VRSTVY Z KAMENIVA DRCENÉHO | F70: M3 | G70: 614.4 | H70: 0 | I70: =ROUND(G70*H70,P4) -> 0 | O70: =I70*0.21 -> 0 | P70: 3
A71: PP | E71: Sanace podloží štěrkodrtí 0/63.
A72: VV | E72: Chodník 2,0*390,0+2,5*55,0 = 917,500 [A]_x000D_ Sjezdy 2,0*142,0 = 284,000 [B]_x000D_ Parkovací stání 2,5*121,0+4,0*8,0 = 334,500 [C]_x000D_ Mezisoučet = 1536,000 [D]_x000D_ Sanace tl. 40 cm 1536*0,4 = 614,400 [E]
A73: TS | E73: Položka zahrnuje: - dodávku předepsaného kameniva - mimostaveništní a vnitrostaveništní dopravu a jeho uložení - není-li v zadávací dokumentaci uvedeno jinak, jedná se o nakupovaný materiál Položka nezahrnuje: - x
A74: P | B74: 17 | C74: 21461E | E74: SEPARAČNÍ GEOTEXTILIE DO 500G/M2 | F74: M2 | G74: 1636.5 | H74: 0 | I74: =ROUND(G74*H74,P4) -> 0 | O74: =I74*0.21 -> 0 | P74: 3
A75: PP
A76: VV | E76: Chodník 2,0*390,0+2,5*55,0 = 917,500 [A]_x000D_ Sjezdy 2,0*142,0 = 284,000 [B]_x000D_ autobusové zastávky 100,5 = 100,500 [C]_x000D_ 2,5*121,0+4,0*8,0 = 334,500 [D]_x000D_ Celkové množství = 1636,500
A77: TS | E77: Položka zahrnuje: - dodávku předepsané geotextilie - úpravu, očištění a ochranu podkladu - přichycení k podkladu, případně zatížení - úpravy spojů a zajištění okrajů - úpravy pro odvodnění - nutné přesahy (nezapočítávají se do výměry) - mimostaveništní a vnitrostaveništní dopravu Položka nezahrnuje: - x
A78: P | B78: 18 | C78: 28999 | E78: OPLÁŠTĚNÍ (ZPEVNĚNÍ) Z FÓLIE | F78: M2 | G78: 15 | H78: 0 | I78: =ROUND(G78*H78,P4) -> 0 | O78: =I78*0.21 -> 0 | P78: 3
A79: PP | E79: Fólie nopová, výška nopů 8 mm
A80: TS | E80: Položka zahrnuje: - dodávku předepsané fólie - úpravu, očištění a ochranu podkladu - přichycení k podkladu, případně zatížení - úpravy spojů a zajištění okrajů - úpravy pro odvodnění - nutné přesahy - mimostaveništní a vnitrostaveništní dopravu Položka nezahrnuje: - x Způsob měření: - přesahy se nezapočítávají do výměry
A81: SD | C81: 5 | E81: Komunikace | I81: =SUMIFS(I82:I117,A82:A117,"P") -> 0
A82: P | B82: 20 | C82: 56333 | D82: A | E82: VOZOVKOVÉ VRSTVY ZE ŠTĚRKODRTI TL. DO 150MM | F82: M2 | G82: 732.9 | H82: 0 | I82: =ROUND(G82*H82,P4) -> 0 | O82: =I82*0.21 -> 0 | P82: 3
A83: PP | E83: štěrkodrť frakce 0-32 mm
A84: VV | E84: Chodník 1,5*(528,0-145,0)+2,0*55,0+2,0*24,2 = 732,900 [A]
A85: TS | E85: Položka zahrnuje: - dodání kameniva předepsané kvality a zrnitosti - rozprostření a zhutnění vrstvy v předepsané tloušťce - zřízení vrstvy bez rozlišení šířky, pokládání vrstvy po etapách Položka nezahrnuje: - postřiky, nátěry
A86: P | B86: 19 | C86: 56333 | D86: B | E86: VOZOVKOVÉ VRSTVY ZE ŠTĚRKODRTI TL. DO 150MM | F86: M2 | G86: 537.5 | H86: 0 | I86: =ROUND(G86*H86,P4) -> 0 | O86: =I86*0.21 -> 0 | P86: 3
A87: PP | E87: štěrkodrť frakce 0-63 mm
A88: VV | E88: Parkovací plochy 2,5*128,0 = 320,000 [A]_x000D_ Sjezdy 1,5*145,0 = 217,500 [B]_x000D_ Celkové množství = 537,500
A89: TS | E89: Položka zahrnuje: - dodání kameniva předepsané kvality a zrnitosti - rozprostření a zhutnění vrstvy v předepsané tloušťce - zřízení vrstvy bez rozlišení šířky, pokládání vrstvy po etapách Položka nezahrnuje: - postřiky, nátěry
A90: P | B90: 21 | C90: 56334 | E90: VOZOVKOVÉ VRSTVY ZE ŠTĚRKODRTI TL. DO 200MM | F90: M2 | G90: 537.5 | H90: 0 | I90: =ROUND(G90*H90,P4) -> 0 | O90: =I90*0.21 -> 0 | P90: 3
A91: PP | E91: štěrkodrť frakce 0-32 mm
A92: VV | E92: Parkovací plochy 2,5*128,0 = 320,000 [A]_x000D_ Sjezdy 1,5*145,0 = 217,500 [B]_x000D_ Celkové množství = 537,500
A93: TS | E93: Položka zahrnuje: - dodání kameniva předepsané kvality a zrnitosti - rozprostření a zhutnění vrstvy v předepsané tloušťce - zřízení vrstvy bez rozlišení šířky, pokládání vrstvy po etapách Položka nezahrnuje: - postřiky, nátěry
A94: P | B94: 22 | C94: 56335 | E94: VOZOVKOVÉ VRSTVY ZE ŠTĚRKODRTI TL. DO 250MM | F94: M2 | G94: 217.5 | H94: 0 | I94: =ROUND(G94*H94,P4) -> 0 | O94: =I94*0.21 -> 0 | P94: 3
A95: PP | E95: štěrkodrť frakce 0-63 mm
A96: VV | E96: 1,5*145,0 = 217,500 [A]
A97: TS | E97: Položka zahrnuje: - dodání kameniva předepsané kvality a zrnitosti - rozprostření a zhutnění vrstvy v předepsané tloušťce - zřízení vrstvy bez rozlišení šířky, pokládání vrstvy po etapách Položka nezahrnuje: - postřiky, nátěry
A98: P | B98: 23 | C98: 582611 | E98: KRYTY Z BETON DLAŽDIC SE ZÁMKEM ŠEDÝCH TL 60MM DO LOŽE Z KAM | F98: M2 | G98: 732.9 | H98: 0 | I98: =ROUND(G98*H98,P4) -> 0 | O98: =I98*0.21 -> 0 | P98: 3
A99: PP | E99: Dlažba zámková H-PROFIL 20x16,5x6 cm přírodní
A100: VV | E100: Chodník 1,5*(528,0-145,0)+2,0*55,0+2,0*24,2 = 732,900 [A]
...

Sheet SO 101.4
A1: EstiCon | E1: Firma: | P1: 3
E2: Soupis prací objektu
A3: S | B3: Stavba: | C3: 02102024 | E3: SYROVICE - SOBOTOVSKÁ - Obec | H3: SO 101.4 | I3: =SUMIFS(I8:I92,A8:A92,"SD") -> 0 | O3: 0 | P3: 2
A4: O | B4: Rozpočet: | C4: SO 101.4 | E4: PŘÍSTŘEŠEK AUTOBUSOVÉ ZASTÁVKY SOBOTOVICE-SYROVICE | O4: 0.12 | P4: 2
A5: Typ | B5: Poř. číslo | C5: Kód položky | D5: Varianta | E5: Název Položky | F5: MJ | G5: Množství | H5: Cena | J5: Cenová soustava | O5: 0.21
H6: Jednotková | I6: Celkem
A7: 0 | B7: 1 | C7: 2 | D7: 3 | E7: 4 | F7: 5 | G7: 6 | H7: 7 | I7: 8 | J7: 9
A8: SD | C8: 0 | E8: Všeobecné konstrukce a práce | I8: =SUMIFS(I9:I12,A9:A12,"P") -> 0
A9: P | B9: 22 | C9: 014102 | E9: POPLATKY ZA SKLÁDKU | F9: T | G9: 9.5 | H9: 0 | I9: =ROUND(G9*H9,P4) -> 0 | O9: =I9*0.21 -> 0 | P9: 3
A10: PP
A11: VV | E11: (1,75+3)*2,0 = 9,500 [A]
A12: TS | E12: Položka zahrnuje: - veškeré poplatky provozovateli skládky související s uložením odpadu na skládce. Položka nezahrnuje: - x
A13: SD | C13: 1 | E13: Zemní práce | I13: =SUMIFS(I14:I27,A14:A27,"P") -> 0
A14: P | B14: 1 | C14: 122734 | D14: A | E14: ODKOPÁVKY A PROKOPÁVKY OBECNÉ TŘ. I, ODVOZ DO 5KM | F14: M3 | G14: 1.75 | H14: 0 | I14: =ROUND(G14*H14,P4) -> 0 | O14: =I14*0.21 -> 0 | P14: 3
A15: PP | E15: Včetně odvozu v režii zhotovitele, odvozná vzdálenost v režii zhotovitele.
A16: VV | E16: 3,5*2,0*0,25 = 1,750 [A]
A17: TS | E17: Položka zahrnuje: - vodorovnou a svislou dopravu, přemístění, přeložení, manipulace s výkopkem - kompletní provedení vykopávky nezapažené i zapažené - ošetření výkopiště po celou dobu práce v něm vč. klimatických opatření - ztížení vykopávek v blízkosti podzemního vedení, konstrukcí a objektů vč. jejich dočasného zajištění - ztížení pod vodou, v okolí výbušnin, ve stísněných prostorech a pod. - příplatek za lepivost - těžení po vrstvách, pásech a po jiných nutných částech (figurách) - čerpání vody vč. čerpacích jímek, potrubí a pohotovostní čerpací soupravy (viz ustanovení k pol. 1151,2) - potřebné snížení hladiny podzemní vody - těžení a rozpojování jednotlivých balvanů - vytahování a nošení výkopku - svahování a přesvah. svahů do konečného tvaru, výměna hornin v podloží a v pláni znehodnocené klimatickými vlivy - ruční vykopávky, odstranění kořenů a napadávek - pažení, vzepření a rozepření vč. přepažování (vyjma pažení záporového a štětových stěn) - úpravu, ochranu a očištění dna, základové spáry, stěn a svahů - zhutnění podloží, případně i svahů vč. svahování - zřízení stupňů v podloží a lavic na svazích, není-li pro tyto práce zřízena samostatná položka - udržování výkopiště a jeho ochrana proti vodě - odvedení nebo obvedení vody v okolí výkopiště a ve výkopišti - třídění výkopku - veškeré pomocné konstrukce umožňující provedení vykopávky (příjezdy, sjezdy, nájezdy, lešení, podpěr. konstr., přemostění, zpevněné plochy, zakrytí a pod.)
A18: P | B18: 2 | C18: 132734 | E18: HLOUBENÍ RÝH ŠÍŘ DO 2M PAŽ I NEPAŽ TŘ. I, ODVOZ DO 5KM | F18: M3 | G18: 3 | H18: 0 | I18: =ROUND(G18*H18,P4) -> 0 | O18: =I18*0.21 -> 0 | P18: 3
A19: PP | E19: Včetně odvozu v režii zhotovitele, odvozná vzdálenost v režii zhotovitele.
A20: VV | E20: 0,4*1,0*7,5 = 3,000 [A]
A21: TS | E21: Položka zahrnuje: - vodorovnou a svislou dopravu, přemístění, přeložení, manipulace s výkopkem - kompletní provedení vykopávky nezapažené i zapažené - ošetření výkopiště po celou dobu práce v něm vč. klimatických opatření - ztížení vykopávek v blízkosti podzemního vedení, konstrukcí a objektů vč. jejich dočasného zajištění - ztížení pod vodou, v okolí výbušnin, ve stísněných prostorech a pod. - příplatek za lepivost - těžení po vrstvách, pásech a po jiných nutných částech (figurách) - čerpání vody vč. čerpacích jímek, potrubí a pohotovostní čerpací soupravy (viz ustanovení k pol. 1151,2) - potřebné snížení hladiny podzemní vody - těžení a rozpojování jednotlivých balvanů - vytahování a nošení výkopku - svahování a přesvah. svahů do konečného tvaru, výměna hornin v podloží a v pláni znehodnocené klimatickými vlivy - ruční vykopávky, odstranění kořenů a napadávek - pažení, vzepření a rozepření vč. přepažování (vyjma pažení záporového a štětových stěn) - úpravu, ochranu a očištění dna, základové spáry, stěn a svahů - odvedení nebo obvedení vody v okolí výkopiště a ve výkopišti - třídění výkopku - veškeré pomocné konstrukce umožňující provedení vykopávky (příjezdy, sjezdy, nájezdy, lešení, podpěr. konstr., přemostění, zpevněné plochy, zakrytí a pod.)
A22: P | B22: 3 | C22: 17120 | E22: ULOŽENÍ SYPANINY DO NÁSYPŮ A NA SKLÁDKY BEZ ZHUTNĚNÍ | F22: M3 | G22: 4.75 | H22: 0 | I22: =ROUND(G22*H22,P4) -> 0 | O22: =I22*0.21 -> 0 | P22: 3
A23: PP
A24: TS | E24: Položka zahrnuje: - kompletní provedení zemní konstrukce do předepsaného tvaru - ošetření úložiště po celou dobu práce v něm vč. klimatických opatření - ztížení v okolí vedení, konstrukcí a objektů a jejich dočasné zajištění - ztížení provádění ve ztížených podmínkách a stísněných prostorech - ztížené ukládání sypaniny pod vodu - ukládání po vrstvách a po jiných nutných částech (figurách) vč. dosypávek - spouštění a nošení materiálu - úprava, očištění a ochrana podloží a svahů - svahování, uzavírání povrchů svahů - udržování úložiště a jeho ochrana proti vodě - odvedení nebo obvedení vody v okolí úložiště a v úložišti - veškeré pomocné konstrukce umožňující provedení zemní konstrukce (příjezdy, sjezdy, nájezdy, lešení, podpěrné konstrukce, přemostění, zpevněné plochy, zakrytí a pod.) Položka nezahrnuje: - x
A25: P | B25: 4 | C25: 18110 | E25: ÚPRAVA PLÁNĚ SE ZHUTNĚNÍM V HORNINĚ TŘ. I | F25: M2 | G25: 4.96 | H25: 0 | I25: =ROUND(G25*H25,P4) -> 0 | O25: =I25*0.21 -> 0 | P25: 3
A26: PP
A27: TS | E27: Položka zahrnuje: - úpravu pláně včetně vyrovnání výškových rozdílů. Míru zhutnění určuje projekt. Položka nezahrnuje: - x
A28: SD | C28: 2 | E28: Základy | I28: =SUMIFS(I29:I32,A29:A32,"P") -> 0
A29: P | B29: 5 | C29: 272313 | E29: ZÁKLADY Z PROSTÉHO BETONU DO C16/20 | F29: M3 | G29: 1.5 | H29: 0 | I29: =ROUND(G29*H29,P4) -> 0 | O29: =I29*0.21 -> 0 | P29: 3
A30: PP
A31: VV | E31: 0,4*0,5*7,5 = 1,500 [A]
A32: TS | E32: Položka zahrnuje: - dodání čerstvého betonu (betonové směsi) požadované kvality, jeho uložení do požadovaného tvaru při jakékoliv hustotě výztuže, konzistenci čerstvého betonu a způsobu hutnění, ošetření a ochranu betonu, - zhotovení nepropustného, mrazuvzdorného betonu a betonu požadované trvanlivosti a vlastností, užití potřebných přísad a technologií výroby betonu, - zřízení pracovních a dilatačních spar, včetně potřebných úprav, výplně, vložek, opracování, očištění a ošetření, - bednění požadovaných konstr. (i ztracené) s úpravou dle požadované kvality povrchu betonu, včetně odbedňovacích a odskružovacích prostředků, nátěrů zabraňujících soudržnosti betonu a bednění, - podpěrné konstr. (skruže) a lešení všech druhů pro bednění, vč. ochranných a bezpečnostních opatření a základů těchto konstrukcí a lešení, - vytvoření kotevních čel, kapes, nálitků a sedel, zřízení všech požadovaných otvorů, výklenků, prostupů, dutin, drážek a pod., vč. ztížení práce a úprav kolem nich, - úpravy pro osazení výztuže, doplňkových konstrukcí a vybavení, - úpravy povrchu pro položení požadované izolace, povlaků a nátěrů, případně vyspravení, - ztížení práce u kabelových a injektážních trubek a ostatních zařízení osazovaných do betonu, - konstrukce betonových kloubů, upevnění kotevních prvků a doplňkových konstrukcí, - nátěry zabraňující soudržnost betonu a bednění, - výplň, těsnění a tmelení spar a spojů, - opatření povrchů betonu izolací proti zemní vlhkosti v částech, kde přijdou do styku se zeminou nebo kamenivem, - případné zřízení spojovací vrstvy u základů, - úpravy pro osazení zařízení ochrany konstrukce proti vlivu bludných proudů, Položka nezahrnuje: - x
A33: SD | C33: 3 | E33: Svislé konstrukce | I33: =SUMIFS(I34:I40,A34:A40,"P") -> 0
A34: P | B34: 6 | C34: 32711 | E34: ZDI OPĚR, ZÁRUB, NÁBŘEŽ Z DÍLCŮ BETON | F34: M3 | G34: 0.9 | H34: 0 | I34: =ROUND(G34*H34,P4) -> 0 | O34: =I34*0.21 -> 0 | P34: 3
A35: PP | E35: Zdivo základové z bednicích tvárnic, tl. 150 mm výplň tvárnic betonem C 20/25 včetně výztuže.
A36: VV | E36: 7,5*0,8*0,15 = 0,900 [A]
A37: TS | E37: Položka zahrnuje: - dodání dílce požadovaného tvaru a vlastností, jeho skladování, doprava a osazení do definitivní polohy, včetně komplexní technologie výroby a montáže dílců, ošetření a ochrana dílců, - u dílců betonových tuhé kovové prvky a závěsná oka, - úpravy a zařízení pro uložení a transport dílce, - veškeré požadované úpravy dílců, včetně doplňkových konstrukcí a vybavení, - sestavení dílce na stavbě včetně montážních zařízení, plošin a prahů a pod., - výplň, těsnění a tmelení spár a spojů, - očištění a ošetření úložných ploch, - zednické výpomoce pro montáž dílců, - označení dílce výrobním štítkem nebo jiným způsobem, - úpravy dílce pro dodržení požadované přesnosti jeho osazení, včetně případných měření, - veškerá zařízení pro zajištění stability v každém okamžiku, - další práce dané případně specifikací k příslušnému prefabrik. dílci (úprava pohledových ploch, příp. rubových ploch, osazení měřících zařízení, zkoušení a měření dílců a pod.). Položka nezahrnuje: - x
A38: P | B38: 7 | C38: 34295 | E38: STĚNY A PŘÍČKY VÝPLŇ A ODDĚL ZE DŘEVA | F38: M3 | G38: 0.971 | H38: 0 | I38: =ROUND(G38*H38,P4) -> 0 | O38: =I38*0.21 -> 0 | P38: 3
A39: PP | E39: Montáž konstrukce stěn z řeziva hraněn. do 224 cm2 včetně dodávky řeziva, hranoly 120 x 140 mm - 27,0 m_x000D_ Montáž konstrukce stěn z fošen, hranolů do 100 cm2 - 23,8 m_x000D_ Spojovací a ochranné prostředky pro montáž stěn - 0,5 m3_x000D_ Montáž záklopu, vrchní na pero, hoblovaná prkna včetně dodávky palubek tl. 24 mm - 7 m2_x000D_ Montáž stropnic hraněných pl. do 288 cm2 včetně dodávky řeziva, hranoly 14/16 - 10 m_x000D_ Hranol sibiřský modřín, 60 x 80 mm - 0,123 m3
A40: TS | E40: Položka zahrnuje: - dílenskou dokumentaci, včetně technologického předpisu spojování - dodání dřeva v požadované kvalitě a výroba konstrukce (vč. pomůcek, přípravků a prostředků pro výrobu) bez ohledu na náročnost a její objem, dílenská montáž, montážní dokumentace, - dodání spojovacího materiálu, - zřízení montážních a dilatačních spojů, spar, včetně potřebných úprav, vložek, opracování, očištění a ošetření, - podpěr. konstr. a lešení všech druhů pro montáž konstrukcí i doplňkových, včetně požadovaných otvorů, ochranných a bezpečnostních opatření a základů pro tyto konstrukce a lešení, - jakákoliv doprava a manipulace dílců a montážních sestav, včetně dopravy konstrukce z výrobny na stavbu, - montáž konstrukce na stavbě, včetně montážních prostředků a pomůcek a zednických výpomocí, - výplň, těsnění a tmelení spar a spojů, - veškeré druhy opracování povrchů, včetně úprav pod nátěry a pod izolaci, - veškeré druhy dílenských základů a základních nátěrů a povlaků, - všechny druhy ocelového kotvení, - dílenskou přejímku a montážní prohlídku, včetně požadovaných dokladů, - zřízení kotevních otvorů nebo jam, nejsou-li částí jiné konstrukce, jejich úpravy, očištění a ošetření, - osazení kotvení nebo přímo částí konstrukce do podpůrné konstrukce nebo do zeminy, - ošetření kotevní oblasti proti vzniku trhlin, vlivu povětrnosti a pod., - osazení značek, včetně jejich zaměření. - veškeré úpravy dřeva pro zlepšení jeho užitných vlastností (impregnace, zpevňování a pod.), - veškeré druhy povrchových úprav, - zvláštní spojové prostředky, rozebíratelnost konstrukce, - osazení měřících zařízení a úprav pro ně. Položka nezahrnuje: - x
A41: SD | C41: 5 | E41: Komunikace | I41: =SUMIFS(I42:I49,A42:A49,"P") -> 0
A42: P | B42: 8 | C42: 56333 | D42: A | E42: VOZOVKOVÉ VRSTVY ZE ŠTĚRKODRTI TL. DO 150MM | F42: M2 | G42: 4.96 | H42: 0 | I42: =ROUND(G42*H42,P4) -> 0 | O42: =I42*0.21 -> 0 | P42: 3
A43: PP | E43: štěrkodrť frakce 0-32 mm
A44: VV | E44: 3,1*1,6 = 4,960 [A]
A45: TS | E45: Položka zahrnuje: - dodání kameniva předepsané kvality a zrnitosti - rozprostření a zhutnění vrstvy v předepsané tloušťce - zřízení vrstvy bez rozlišení šířky, pokládání vrstvy po etapách Položka nezahrnuje: - postřiky, nátěry
A46: P | B46: 9 | C46: 582611 | E46: KRYTY Z BETON DLAŽDIC SE ZÁMKEM ŠEDÝCH TL 60MM DO LOŽE Z KAM | F46: M2 | G46: 4.96 | H46: 0 | I46: =ROUND(G46*H46,P4) -> 0 | O46: =I46*0.21 -> 0 | P46: 3
A47: PP | E47: Dlažba zámková H-PROFIL 20x16,5x6 cm přírodní
A48: VV | E48: 3,1*1,6 = 4,960 [A]
A49: TS | E49: Položka zahrnuje: - dodání dlažebního materiálu v požadované kvalitě, dodání materiálu pro předepsané lože v tloušťce předepsané dokumentací a pro předepsanou výplň spar - očištění podkladu - uložení dlažby dle předepsaného technologického předpisu včetně předepsané podkladní vrstvy a předepsané výplně spar - zřízení vrstvy bez rozlišení šířky, pokládání vrstvy po etapách - úpravu napojení, ukončení podél obrubníků, dilatačních zařízení, odvodňovacích proužků, odvodňovačů, vpustí, šachet a pod., nestanoví-li zadávací dokumentace jinak Položka nezahrnuje: - postřiky, nátěry - těsnění podél obrubníků, dilatačních zařízení, odvodňovacích proužků, odvodňovačů, vpustí, šachet a pod.
A50: SD | C50: 6 | E50: Úpravy povrchů, podlahy, výplně otvorů | I50: =SUMIFS(I51:I57,A51:A57,"P") -> 0
A51: P | B51: 10 | C51: 62001 | E51: 3D nápis autobusové zastávky, D+M | F51: kus | G51: 1 | H51: 0 | I51: =ROUND(G51*H51,P4) -> 0 | O51: =I51*0.21 -> 0 | P51: 3
A52: PP
A53: TS
A54: P | B54: 11 | C54: 641111 | E54: OKNA KOMPLETNÍ S DŘEV RÁMEM JEDNODUCHÁ JEDNOKŘÍDLÁ | F54: M2 | G54: 2.4 | H54: 0 | I54: =ROUND(G54*H54,P4) -> 0 | O54: =I54*0.21 -> 0 | P54: 3
A55: PP | E55: Okno dřevěné pevné, 4vrstvý hranol, 88 mm
A56: VV | E56: 1,6*1,5 = 2,400 [A]
A57: TS | E57: Položka zahrnuje: - dodávka oken dle specifikace objednatele - montáž nových oken do připravených otvorů (tj. zakotvení do ostění a zapěnění spáry PUR pěnou) - seřízení výrobků k jejich plné funkčnosti - případné zapravení venkovního i vnitřního ostění - zajištění prováděných prací tak, aby nebyly znečištěny a poškozeny vnitřní prostory - případná výmalba vnitřních ostění oken - pokud se jedná o finální stavební práci, zahrnuje i zajištění úklidu vnitřních i vnějších prostor Položka nezahrnuje: - x
A58: SD | C58: 7 | E58: Přidružená stavební výroba | I58: =SUMIFS(I59:I80,A59:A80,"P") -> 0
A59: P | B59: 12 | C59: 72124 | E59: LAPAČE STŘEŠNÍCH SPLAVENIN | F59: KUS | G59: 1 | H59: 0 | I59: =ROUND(G59*H59,P4) -> 0 | O59: =I59*0.21 -> 0 | P59: 3
A60: PP | E60: Lapač střešních splavenin PP HL600, kloub zápachová klapka, koš na listí, DN 100 mm
A61: TS | E61: Položka zahrnuje: - výrobní dokumentaci (včetně technologického předpisu) - dodání veškerého instalačního a pomocného materiálu (trouby, trubky, armatury, tvarové kusy, spojovací a těsnící materiál a pod.), podpěrných, závěsných, upevňovacích prvků, včetně potřebných úprav - zednické výpomoci, jako je vysekávání kapes a rýh, jejich vyplnění a začištění - úprava podkladu a osazení podpěr, osazení a očištění podkladu a podpěr - zřízení plně funkční instalace, kompletní soustavy, podle příslušného technologického předpisu - zřízení instalace i jednotlivých částí po etapách, včetně pracovních spar a spojů - úprava a příprava prostupů, okolí podpěr, zaústění a napojení a upevnění odpadních výustek - úprava, očištění a ošetření prostoru kolem instalace Položka nezahrnuje: - x
A62: P | B62: 13 | C62: 76421 | E62: OPLECHOVÁNÍ A LEMOVÁNÍ KONSTRUKCÍ Z POZINKOVANÉHO PLECHU | F62: M2 | G62: 3.198 | H62: 0 | I62: =ROUND(G62*H62,P4) -> 0 | O62: =I62*0.21 -> 0 | P62: 3
A63: PP | E63: Okapnice z lakovaného Pz plechu, rš 200 mm - 3,5 m_x000D_ Závětrná lišta z lakovaného Pz plechu, rš 333 mm - 7,5 m
A64: TS | E64: Položka zahrnuje: - zejména kompletní konstrukci včetně úprav plechů (i povrchové úpravy a pod.) - spojovací a ochranné prostředky, podkladovou lepenku, upevňovací prvky, lemování, spárování, úpravy u okapů, prostupů, výčnělků, rohů, spojů, dilatací a pod. - není-li zahrnut v samostatných položkách (SD 78), i nátěr konstrukcí, včetně úprav povrchu před nátěrem - veškerý materiál, výrobky a polotovary - mimostaveništní a vnitrostaveništní dopravy (rovněž přesuny), včetně naložení a složení,případně s uložením Položka nezahrnuje: - x
A65: P | B65: 14 | C65: 764412 | E65: ŽLABY Z POZINK PLECHU RŠ DO 330MM | F65: M | G65: 3.5 | H65: 0 | I65: =ROUND(G65*H65,P4) -> 0 | O65: =I65*0.21 -> 0 | P65: 3
A66: PP
A67: TS | E67: Položka zahrnuje: - zejména kompletní konstrukci včetně úprav plechů (i povrchové úpravy a pod.) - spojovací a ochranné prostředky, podkladovou lepenku, upevňovací prvky, lemování, spárování, úpravy u okapů, prostupů, výčnělků, rohů, spojů, dilatací a pod. - není-li zahrnut v samostatných položkách (SD 78), i nátěr konstrukcí, včetně úprav povrchu před nátěrem - veškerý materiál, výrobky a polotovary - mimostaveništní a vnitrostaveništní dopravy (rovněž přesuny), včetně naložení a složení,případně s uložením. - háky, zděře, čela, manžety, odbočky, kolena, rohy, hrdla, odskoky, výpusti, přechodové kusy a pod Položka nezahrnuje: - x
A68: P | B68: 15 | C68: 764512 | E68: ODPAD TROUBY KRUH (ČTVERC) Z POZINK PLECHU DN DO 100MM | F68: M | G68: 2.6 | H68: 0 | I68: =ROUND(G68*H68,P4) -> 0 | O68: =I68*0.21 -> 0 | P68: 3
A69: PP
A70: TS | E70: Položka zahrnuje: - zejména kompletní konstrukci včetně úprav plechů (i povrchové úpravy a pod.) - spojovací a ochranné prostředky, podkladovou lepenku, upevňovací prvky, lemování, spárování, úpravy u okapů, prostupů, výčnělků, rohů, spojů, dilatací a pod. - není-li zahrnut v samostatných položkách (SD 78), i nátěr konstrukcí, včetně úprav povrchu před nátěrem - veškerý materiál, výrobky a polotovary - mimostaveništní a vnitrostaveništní dopravy (rovněž přesuny), včetně naložení a složení,případně s uložením. - háky, zděře, čela, manžety, odbočky, kolena, rohy, hrdla, odskoky, výpusti, přechodové kusy a pod Položka nezahrnuje: - x
A71: P | B71: 16 | C71: 766001 | E71: Dřevěná lavice 1,75x1,60 m, fošny sibiřký modřín, vč. spoj. prostředků, D+M | F71: kus | G71: 1 | H71: 0 | I71: =ROUND(G71*H71,P4) -> 0 | O71: =I71*0.21 -> 0 | P71: 3
A72: PP
A73: TS
A74: P | B74: 17 | C74: 766411 | E74: KONSTR TRUHLÁŘ - OBLOŽENÍ STĚN PALUBKAMI Z MĚK DŘEVA | F74: M2 | G74: 30.76 | H74: 0 | I74: =ROUND(G74*H74,P4) -> 0 | O74: =I74*0.21 -> 0 | P74: 3
A75: PP | E75: Palubka obkladová MD jakost A/B, tl. 19 mm, šířka 121 mm včetně nátěru olejového dvojnásobného_x000D_ Podkladový rošt - Hranolek Modřín sibiřský 45 x 70 mm
A76: VV | E76: (2,18*3,5*2+2*2,18*2,0-1,6*1,5-3,1*2,0)*2 = 30,760 [A]
A77: TS | E77: Položka zahrnuje: - dodávku a montáž obložení dle projektové dokumentace (soklu, podkladového roštu, nosných prvků) - mimostaveništní a vnitrostaveništní dopravu - povrchové úpravy předepsané projektem Položka nezahrnuje: - x
A78: P | B78: 18 | C78: 76799 | E78: OSTATNÍ KOVOVÉ DOPLŇK KONSTRUKCE | F78: T | G78: 0.085 | H78: 0 | I78: =ROUND(G78*H78,P4) -> 0 | O78: =I78*0.21 -> 0 | P78: 3
A79: PP | E79: kovová podnož pod dřev. lamely - pásoviny, jekl sloupek : 85,0 kg_x000D_ Včetně pozinkování.
A80: TS | E80: Položka zahrnuje: - vlastní zámečnické výrobky - rámy, rošty, lišty, kování, podpěrné, závěsné, upevňovací prvky, spojovací a těsnící materiál, pomocný materiál - kompletní povrchovou úpravu - u doplňkových stavebních konstrukcí je zahrnuto drobné zasklení nebo jiná předepsaná výplň Položka nezahrnuje: - x
A81: SD | C81: 8 | E81: Potrubí | I81: =SUMIFS(I82:I84,A82:A84,"P") -> 0
A82: P | B82: 19 | C82: 87133 | E82: POTRUBÍ Z TRUB PLASTOVÝCH TLAKOVÝCH HRDLOVÝCH DN DO 150MM | F82: M | G82: 10 | H82: 0 | I82: =ROUND(G82*H82,P4) -> 0 | O82: =I82*0.21 -> 0 | P82: 3
A83: PP | E83: Kanalizace z trub PVC hrdlových D 110 mm
A84: TS | E84: Položka zahrnuje: - výrobní dokumentaci (včetně technologického předpisu) - dodání veškerého trubního a pomocného materiálu (trouby, trubky, tvarovky, spojovací a těsnící materiál a pod.), podpěrných, závěsných a upevňovacích prvků, včetně potřebných úprav - úprava a příprava podkladu a podpěr, očištění a ošetření podkladu a podpěr - zřízení plně funkčního potrubí, kompletní soustavy, podle příslušného technologického předpisu (bez ohledu na sklon) - zřízení potrubí i jednotlivých částí po etapách, včetně pracovních spar a spojů, pracovního zaslepení konců a pod. - úprava prostupů, průchodů šachtami a komorami, okolí podpěr a vyústění, zaústění, napojení, vyvedení a upevnění odpad. výustí - ochrana potrubí nátěrem (vč. úpravy povrchu), případně izolací, nejsou-li tyto práce předmětem jiné položky - úprava, očištění a ošetření prostoru kolem potrubí - položky platí pro práce prováděné v prostoru zapaženém i nezapaženém a i v kolektorech, chráničkách - položky zahrnují i práce spojené s nutnými obtoky, převáděním a čerpáním vody Položka nezahrnuje: - tlakové zkoušky ani proplach a dezinfekci
A85: SD | C85: 9 | E85: Ostatní konstrukce a práce | I85: =SUMIFS(I86:I92,A86:A92,"P") -> 0
A86: P | B86: 20 | C86: 91001 | E86: Zelená střecha extenzivní, rozchodníkový koberec | F86: m2 | G86: 7 | H86: 0 | I86: =ROUND(G86*H86,P4) -> 0 | O86: =I86*0.21 -> 0 | P86: 3
A87: PP
A88: VV | E88: 3,5*2,0 = 7,000 [A]
A89: TS
A90: P | B90: 21 | C90: 91002 | E90: Koš odpadkový nástěnný 30 l | F90: kus | G90: 1 | H90: 0 | I90: =ROUND(G90*H90,P4) -> 0 | O90: =I90*0.21 -> 0 | P90: 3
A91: PP
A92: TS

Sheet SO 101.5
A1: EstiCon | E1: Firma: | P1: 3
E2: Soupis prací objektu
A3: S | B3: Stavba: | C3: 02102024 | E3: SYROVICE - SOBOTOVSKÁ - Obec | H3: SO 101.5 | I3: =SUMIFS(I8:I112,A8:A112,"SD") -> 0 | O3: 0 | P3: 2
A4: O | B4: Rozpočet: | C4: SO 101.5 | E4: PŘÍSTŘEŠEK AUTOBUSOVÉ ZASTÁVKY SYROVICE-SOBOTOVICE | O4: 0.12 | P4: 2
A5: Typ | B5: Poř. číslo | C5: Kód položky | D5: Varianta | E5: Název Položky | F5: MJ | G5: Množství | H5: Cena | J5: Cenová soustava | O5: 0.21
H6: Jednotková | I6: Celkem
A7: 0 | B7: 1 | C7: 2 | D7: 3 | E7: 4 | F7: 5 | G7: 6 | H7: 7 | I7: 8 | J7: 9
A8: SD | C8: 0 | E8: Všeobecné konstrukce a práce | I8: =SUMIFS(I9:I12,A9:A12,"P") -> 0
A9: P | B9: 29 | C9: 014102 | E9: POPLATKY ZA SKLÁDKU | F9: T | G9: 17.5 | H9: 0 | I9: =ROUND(G9*H9,P4) -> 0 | O9: =I9*0.21 -> 0 | P9: 3
A10: PP
A11: VV | E11: (3,25+9,6+4-8,1)*2,0 = 17,500 [A]
A12: TS | E12: Položka zahrnuje: - veškeré poplatky provozovateli skládky související s uložením odpadu na skládce. Položka nezahrnuje: - x
A13: SD | C13: 1 | E13: Zemní práce | I13: =SUMIFS(I14:I35,A14:A35,"P") -> 0
A14: P | B14: 1 | C14: 122734 | D14: A | E14: ODKOPÁVKY A PROKOPÁVKY OBECNÉ TŘ. I, ODVOZ DO 5KM | F14: M3 | G14: 3.25 | H14: 0 | I14: =ROUND(G14*H14,P4) -> 0 | O14: =I14*0.21 -> 0 | P14: 3
A15: PP | E15: Včetně odvozu a likvidace v režii zhotovitele, odvozná vzdálenost v režii zhotovitele.
A16: VV | E16: 0,25*2,6*5,0 = 3,250 [A]
A17: TS | E17: Položka zahrnuje: - vodorovnou a svislou dopravu, přemístění, přeložení, manipulace s výkopkem - kompletní provedení vykopávky nezapažené i zapažené - ošetření výkopiště po celou dobu práce v něm vč. klimatických opatření - ztížení vykopávek v blízkosti podzemního vedení, konstrukcí a objektů vč. jejich dočasného zajištění - ztížení pod vodou, v okolí výbušnin, ve stísněných prostorech a pod. - příplatek za lepivost - těžení po vrstvách, pásech a po jiných nutných částech (figurách) - čerpání vody vč. čerpacích jímek, potrubí a pohotovostní čerpací soupravy (viz ustanovení k pol. 1151,2) - potřebné snížení hladiny podzemní vody - těžení a rozpojování jednotlivých balvanů - vytahování a nošení výkopku - svahování a přesvah. svahů do konečného tvaru, výměna hornin v podloží a v pláni znehodnocené klimatickými vlivy - ruční vykopávky, odstranění kořenů a napadávek - pažení, vzepření a rozepření vč. přepažování (vyjma pažení záporového a štětových stěn) - úpravu, ochranu a očištění dna, základové spáry, stěn a svahů - zhutnění podloží, případně i svahů vč. svahování - zřízení stupňů v podloží a lavic na svazích, není-li pro tyto práce zřízena samostatná položka - udržování výkopiště a jeho ochrana proti vodě - odvedení nebo obvedení vody v okolí výkopiště a ve výkopišti - třídění výkopku - veškeré pomocné konstrukce umožňující provedení vykopávky (příjezdy, sjezdy, nájezdy, lešení, podpěr. konstr., přemostění, zpevněné plochy, zakrytí a pod.)
A18: P | B18: 22 | C18: 131734 | E18: HLOUBENÍ JAM ZAPAŽ I NEPAŽ TŘ. I, ODVOZ DO 5KM | F18: M3 | G18: 9.6 | H18: 0 | I18: =ROUND(G18*H18,P4) -> 0 | O18: =I18*0.21 -> 0 | P18: 3
A19: PP | E19: Včetně odvozu a likvidace v režii zhotovitele, odvozná vzdálenost v režii zhotovitele.
A20: VV | E20: 1,6*6,0 = 9,600 [A]
A21: TS | E21: Položka zahrnuje: - vodorovnou a svislou dopravu, přemístění, přeložení, manipulace s výkopkem - kompletní provedení vykopávky nezapažené i zapažené - ošetření výkopiště po celou dobu práce v něm vč. klimatických opatření - ztížení vykopávek v blízkosti podzemního vedení, konstrukcí a objektů vč. jejich dočasného zajištění - ztížení pod vodou, v okolí výbušnin, ve stísněných prostorech a pod. - příplatek za lepivost - těžení po vrstvách, pásech a po jiných nutných částech (figurách) - čerpání vody vč. čerpacích jímek, potrubí a pohotovostní čerpací soupravy (viz ustanovení k pol. 1151,2) - potřebné snížení hladiny podzemní vody - těžení a rozpojování jednotlivých balvanů - vytahování a nošení výkopku - svahování a přesvah. svahů do konečného tvaru, výměna hornin v podloží a v pláni znehodnocené klimatickými vlivy - ruční vykopávky, odstranění kořenů a napadávek - pažení, vzepření a rozepření vč. přepažování (vyjma pažení záporového a štětových stěn) - úpravu, ochranu a očištění dna, základové spáry, stěn a svahů - odvedení nebo obvedení vody v okolí výkopiště a ve výkopišti - třídění výkopku - veškeré pomocné konstrukce umožňující provedení vykopávky (příjezdy, sjezdy, nájezdy, lešení, podpěr. konstr., přemostění, zpevněné plochy, zakrytí a pod.) Položka nezahrnuje: - uložení zeminy (na skládku, do násypu) ani poplatky za skládku, vykazují se v položce č.0141**
A22: P | B22: 2 | C22: 132734 | E22: HLOUBENÍ RÝH ŠÍŘ DO 2M PAŽ I NEPAŽ TŘ. I, ODVOZ DO 5KM | F22: M3 | G22: 4 | H22: 0 | I22: =ROUND(G22*H22,P4) -> 0 | O22: =I22*0.21 -> 0 | P22: 3
A23: PP | E23: Včetně odvozu a likvidace v režii zhotovitele, odvozná vzdálenost v režii zhotovitele.
A24: VV | E24: 0,6*0,5*(2*2,55+4,6)+0,5*1,0*2,18 = 4,000 [A]
A25: TS | E25: Položka zahrnuje: - vodorovnou a svislou dopravu, přemístění, přeložení, manipulace s výkopkem - kompletní provedení vykopávky nezapažené i zapažené - ošetření výkopiště po celou dobu práce v něm vč. klimatických opatření - ztížení vykopávek v blízkosti podzemního vedení, konstrukcí a objektů vč. jejich dočasného zajištění - ztížení pod vodou, v okolí výbušnin, ve stísněných prostorech a pod. - příplatek za lepivost - těžení po vrstvách, pásech a po jiných nutných částech (figurách) - čerpání vody vč. čerpacích jímek, potrubí a pohotovostní čerpací soupravy (viz ustanovení k pol. 1151,2) - potřebné snížení hladiny podzemní vody - těžení a rozpojování jednotlivých balvanů - vytahování a nošení výkopku - svahování a přesvah. svahů do konečného tvaru, výměna hornin v podloží a v pláni znehodnocené klimatickými vlivy - ruční vykopávky, odstranění kořenů a napadávek - pažení, vzepření a rozepření vč. přepažování (vyjma pažení záporového a štětových stěn) - úpravu, ochranu a očištění dna, základové spáry, stěn a svahů - odvedení nebo obvedení vody v okolí výkopiště a ve výkopišti - třídění výkopku - veškeré pomocné konstrukce umožňující provedení vykopávky (příjezdy, sjezdy, nájezdy, lešení, podpěr. konstr., přemostění, zpevněné plochy, zakrytí a pod.)
A26: P | B26: 3 | C26: 17120 | E26: ULOŽENÍ SYPANINY DO NÁSYPŮ A NA SKLÁDKY BEZ ZHUTNĚNÍ | F26: M3 | G26: 16.85 | H26: 0 | I26: =ROUND(G26*H26,P4) -> 0 | O26: =I26*0.21 -> 0 | P26: 3
A27: PP
A28: TS | E28: Položka zahrnuje: - kompletní provedení zemní konstrukce do předepsaného tvaru - ošetření úložiště po celou dobu práce v něm vč. klimatických opatření - ztížení v okolí vedení, konstrukcí a objektů a jejich dočasné zajištění - ztížení provádění ve ztížených podmínkách a stísněných prostorech - ztížené ukládání sypaniny pod vodu - ukládání po vrstvách a po jiných nutných částech (figurách) vč. dosypávek - spouštění a nošení materiálu - úprava, očištění a ochrana podloží a svahů - svahování, uzavírání povrchů svahů - udržování úložiště a jeho ochrana proti vodě - odvedení nebo obvedení vody v okolí úložiště a v úložišti - veškeré pomocné konstrukce umožňující provedení zemní konstrukce (příjezdy, sjezdy, nájezdy, lešení, podpěrné konstrukce, přemostění, zpevněné plochy, zakrytí a pod.) Položka nezahrnuje: - x
A29: P | B29: 23 | C29: 17411 | E29: ZÁSYP JAM A RÝH ZEMINOU SE ZHUTNĚNÍM | F29: M3 | G29: 8.1 | H29: 0 | I29: =ROUND(G29*H29,P4) -> 0 | O29: =I29*0.21 -> 0 | P29: 3
A30: PP
A31: VV | E31: 1,35*6,0 = 8,100 [A]
A32: TS | E32: Položka zahrnuje: - kompletní provedení zemní konstrukce vč. výběru vhodného materiálu - úprava ukládaného materiálu vlhčením, tříděním, promícháním nebo vysoušením, příp. jiné úpravy za účelem zlepšení jeho mech. vlastností - hutnění i různé míry hutnění - ošetření úložiště po celou dobu práce v něm vč. klimatických opatření - ztížení v okolí vedení, konstrukcí a objektů a jejich dočasné zajištění - ztížení provádění vč. hutnění ve ztížených podmínkách a stísněných prostorech - ztížené ukládání sypaniny pod vodu - ukládání po vrstvách a po jiných nutných částech (figurách) vč. dosypávek - spouštění a nošení materiálu - výměna částí zemní konstrukce znehodnocené klimatickými vlivy - ruční hutnění - udržování úložiště a jeho ochrana proti vodě - odvedení nebo obvedení vody v okolí úložiště a v úložišti - veškeré pomocné konstrukce umožňující provedení zemní konstrukce (příjezdy, sjezdy, nájezdy, lešení, podpěrné konstrukce, přemostění, zpevněné plochy, zakrytí a pod.) Položka nezahrnuje: - x
A33: P | B33: 4 | C33: 18110 | E33: ÚPRAVA PLÁNĚ SE ZHUTNĚNÍM V HORNINĚ TŘ. I | F33: M2 | G33: 7 | H33: 0 | I33: =ROUND(G33*H33,P4) -> 0 | O33: =I33*0.21 -> 0 | P33: 3
A34: PP
A35: TS | E35: Položka zahrnuje: - úpravu pláně včetně vyrovnání výškových rozdílů. Míru zhutnění určuje projekt. Položka nezahrnuje: - x
A36: SD | C36: 2 | E36: Základy | I36: =SUMIFS(I37:I51,A37:A51,"P") -> 0
A37: P | B37: 24 | C37: 21197 | E37: OPLÁŠTĚNÍ ODVODŇOVACÍCH ŽEBER Z GEOTEXTILIE | F37: M2 | G37: 12.61 | H37: 0 | I37: =ROUND(G37*H37,P4) -> 0 | O37: =I37*0.21 -> 0 | P37: 3
A38: PP
A39: VV | E39: 1,3*(4,6+2*2,55) = 12,610 [A]
A40: TS | E40: Položka zahrnuje: - dodávku a uložení předepsané fólie včetně potřebných přesahů - mimostaveništní a vnitrostaveništní dopravu Položka nezahrnuje: - x Způsob měření: - přesahy se nezapočítávají do výměry
A41: P | B41: 25 | C41: 21262 | E41: TRATIVODY KOMPLET Z TRUB Z PLAST HMOT DN DO 100MM | F41: M | G41: 9.7 | H41: 0 | I41: =ROUND(G41*H41,P4) -> 0 | O41: =I41*0.21 -> 0 | P41: 3
A42: PP
A43: VV | E43: 4,6+2*2,55 = 9,700 [A]
A44: TS | E44: Položka zahrnuje: - platí pro kompletní konstrukce trativodů: - výkop rýhy předepsaného tvaru v dané třídě těžitelnosti, výplň, zásyp trativodu včetně dopravy, uložení přebytečného materiálu, dodávky předepsaného materiálu pro výplň a zásyp - zřízení spojovací vrstvy - zřízení podkladu a lože trativodu z předepsaného materiálu - dodávka a uložení trativodu předepsaného materiálu a profilu - obsyp trativodu předepsaným materiálem - ukončení trativodu zaústěním do potrubí nebo vodoteče, případně vybudování ukončujícího objektu (kapličky) dle VL - veškerý materiál, výrobky a polotovary, včetně mimostaveništní a vnitrostaveništní dopravy Položka nezahrnuje: - opláštění z geotextilie, fólie
A45: P | B45: 5 | C45: 272313 | E45: ZÁKLADY Z PROSTÉHO BETONU DO C16/20 | F45: M3 | G45: 3.52 | H45: 0 | I45: =ROUND(G45*H45,P4) -> 0 | O45: =I45*0.21 -> 0 | P45: 3
A46: PP
A47: VV | E47: 0,6*0,5*(4,6+1,75*2)+0,5*1,0*2,18 = 3,520 [A]
A48: TS | E48: Položka zahrnuje: - dodání čerstvého betonu (betonové směsi) požadované kvality, jeho uložení do požadovaného tvaru při jakékoliv hustotě výztuže, konzistenci čerstvého betonu a způsobu hutnění, ošetření a ochranu betonu, - zhotovení nepropustného, mrazuvzdorného betonu a betonu požadované trvanlivosti a vlastností, užití potřebných přísad a technologií výroby betonu, - zřízení pracovních a dilatačních spar, včetně potřebných úprav, výplně, vložek, opracování, očištění a ošetření, - bednění požadovaných konstr. (i ztracené) s úpravou dle požadované kvality povrchu betonu, včetně odbedňovacích a odskružovacích prostředků, nátěrů zabraňujících soudržnosti betonu a bednění, - podpěrné konstr. (skruže) a lešení všech druhů pro bednění, vč. ochranných a bezpečnostních opatření a základů těchto konstrukcí a lešení, - vytvoření kotevních čel, kapes, nálitků a sedel, zřízení všech požadovaných otvorů, výklenků, prostupů, dutin, drážek a pod., vč. ztížení práce a úprav kolem nich, - úpravy pro osazení výztuže, doplňkových konstrukcí a vybavení, - úpravy povrchu pro položení požadované izolace, povlaků a nátěrů, případně vyspravení, - ztížení práce u kabelových a injektážních trubek a ostatních zařízení osazovaných do betonu, - konstrukce betonových kloubů, upevnění kotevních prvků a doplňkových konstrukcí, - nátěry zabraňující soudržnost betonu a bednění, - výplň, těsnění a tmelení spar a spojů, - opatření povrchů betonu izolací proti zemní vlhkosti v částech, kde přijdou do styku se zeminou nebo kamenivem, - případné zřízení spojovací vrstvy u základů, - úpravy pro osazení zařízení ochrany konstrukce proti vlivu bludných proudů, Položka nezahrnuje: - x
A49: P | B49: 27 | C49: 28999 | E49: OPLÁŠTĚNÍ (ZPEVNĚNÍ) Z FÓLIE | F49: M2 | G49: 14.55 | H49: 0 | I49: =ROUND(G49*H49,P4) -> 0 | O49: =I49*0.21 -> 0 | P49: 3
A50: PP | E50: Montáž nopové fólie svisle včetně dodávky fólie DEKDREN T20
A51: TS | E51: Položka zahrnuje: - dodávku předepsané fólie - úpravu, očištění a ochranu podkladu - přichycení k podkladu, případně zatížení - úpravy spojů a zajištění okrajů - úpravy pro odvodnění - nutné přesahy - mimostaveništní a vnitrostaveništní dopravu Položka nezahrnuje: - x Způsob měření: - přesahy se nezapočítávají do výměry
A52: SD | C52: 3 | E52: Svislé konstrukce | I52: =SUMIFS(I53:I62,A53:A62,"P") -> 0
A53: P | B53: 26 | C53: 320001 | E53: Stříška plotu ze zákrytových desek, šířky 400 mm | F53: m | G53: 2.18 | H53: 0 | I53: =ROUND(G53*H53,P4) -> 0 | O53: =I53*0.21 -> 0 | P53: 3
A54: PP
A55: TS
A56: P | B56: 6 | C56: 32711 | E56: ZDI OPĚR, ZÁRUB, NÁBŘEŽ Z DÍLCŮ BETON | F56: M3 | G56: 7.174 | H56: 0 | I56: =ROUND(G56*H56,P4) -> 0 | O56: =I56*0.21 -> 0 | P56: 3
A57: PP | E57: Zdivo základové z bednicích tvárnic, tl. 300 mm výplň tvárnic betonem C 20/25 včetně výztuže.
A58: VV | E58: Zdivo základové z bednicích tvárnic, tl. 300 mm výplň tvárnic betonem C 20/25 0,5*(4,6+1,75*2)*0,3 = 1,215 [A]_x000D_ Zdivo plotové z tvárnic, betonová zálivka, tl. 300 mm 0,75*2,18*0,3 = 0,491 [C]_x000D_ Stěna z tvárnic ztraceného bednění Best, tl. 300 mm zalití tvárnic betonem C 20/25 2,25*(4,6+1,75*2)*0,3 = 5,468 [B]_x000D_ Celkové množství = 7,174
A59: TS | E59: Položka zahrnuje: - dodání dílce požadovaného tvaru a vlastností, jeho skladování, doprava a osazení do definitivní polohy, včetně komplexní technologie výroby a montáže dílců, ošetření a ochrana dílců, - u dílců betonových tuhé kovové prvky a závěsná oka, - úpravy a zařízení pro uložení a transport dílce, - veškeré požadované úpravy dílců, včetně doplňkových konstrukcí a vybavení, - sestavení dílce na stavbě včetně montážních zařízení, plošin a prahů a pod., - výplň, těsnění a tmelení spár a spojů, - očištění a ošetření úložných ploch, - zednické výpomoce pro montáž dílců, - označení dílce výrobním štítkem nebo jiným způsobem, - úpravy dílce pro dodržení požadované přesnosti jeho osazení, včetně případných měření, - veškerá zařízení pro zajištění stability v každém okamžiku, - další práce dané případně specifikací k příslušnému prefabrik. dílci (úprava pohledových ploch, příp. rubových ploch, osazení měřících zařízení, zkoušení a měření dílců a pod.). Položka nezahrnuje: - x
A60: P | B60: 7 | C60: 34295 | E60: STĚNY A PŘÍČKY VÝPLŇ A ODDĚL ZE DŘEVA | F60: M3 | G60: 1.134 | H60: 0 | I60: =ROUND(G60*H60,P4) -> 0 | O60: =I60*0.21 -> 0 | P60: 3
A61: PP | E61: Montáž konstrukce stěn z řeziva hraněn. do 224 cm2 včetně dodávky řeziva, hranoly 120 x 140 mm - 10,0 m Montáž konstrukce stěn z fošen, hranolů do 100 cm2 - 32,3 m Spojovací a ochranné prostředky pro montáž stěn - 0,5 m3 Montáž záklopu, vrchní na pero, hoblovaná prkna včetně dodávky palubek tl. 24 mm - 11,73 m2 Montáž stropnic hraněných pl. do 288 cm2 včetně dodávky řeziva, hranoly 14/16 - 23,3 m Hranol sibiřský modřín, 60 x 80 mm - 0,163 m3
A62: TS | E62: Položka zahrnuje: - dílenskou dokumentaci, včetně technologického předpisu spojování - dodání dřeva v požadované kvalitě a výroba konstrukce (vč. pomůcek, přípravků a prostředků pro výrobu) bez ohledu na náročnost a její objem, dílenská montáž, montážní dokumentace, - dodání spojovacího materiálu, - zřízení montážních a dilatačních spojů, spar, včetně potřebných úprav, vložek, opracování, očištění a ošetření, - podpěr. konstr. a lešení všech druhů pro montáž konstrukcí i doplňkových, včetně požadovaných otvorů, ochranných a bezpečnostních opatření a základů pro tyto konstrukce a lešení, - jakákoliv doprava a manipulace dílců a montážních sestav, včetně dopravy konstrukce z výrobny na stavbu, - montáž konstrukce na stavbě, včetně montážních prostředků a pomůcek a zednických výpomocí, - výplň, těsnění a tmelení spar a spojů, - veškeré druhy opracování povrchů, včetně úprav pod nátěry a pod izolaci, - veškeré druhy dílenských základů a základních nátěrů a povlaků, - všechny druhy ocelového kotvení, - dílenskou přejímku a montážní prohlídku, včetně požadovaných dokladů, - zřízení kotevních otvorů nebo jam, nejsou-li částí jiné konstrukce, jejich úpravy, očištění a ošetření, - osazení kotvení nebo přímo částí konstrukce do podpůrné konstrukce nebo do zeminy, - ošetření kotevní oblasti proti vzniku trhlin, vlivu povětrnosti a pod., - osazení značek, včetně jejich zaměření. - veškeré úpravy dřeva pro zlepšení jeho užitných vlastností (impregnace, zpevňování a pod.), - veškeré druhy povrchových úprav, - zvláštní spojové prostředky, rozebíratelnost konstrukce, - osazení měřících zařízení a úprav pro ně. Položka nezahrnuje: - x
A63: SD | C63: 5 | E63: Komunikace | I63: =SUMIFS(I64:I71,A64:A71,"P") -> 0
A64: P | B64: 8 | C64: 56333 | D64: A | E64: VOZOVKOVÉ VRSTVY ZE ŠTĚRKODRTI TL. DO 150MM | F64: M2 | G64: 7 | H64: 0 | I64: =ROUND(G64*H64,P4) -> 0 | O64: =I64*0.21 -> 0 | P64: 3
A65: PP | E65: štěrkodrť frakce 0-32 mm
A66: VV | E66: 4,0*1,75 = 7,000 [A]
A67: TS | E67: Položka zahrnuje: - dodání kameniva předepsané kvality a zrnitosti - rozprostření a zhutnění vrstvy v předepsané tloušťce - zřízení vrstvy bez rozlišení šířky, pokládání vrstvy po etapách Položka nezahrnuje: - postřiky, nátěry
A68: P | B68: 9 | C68: 582611 | E68: KRYTY Z BETON DLAŽDIC SE ZÁMKEM ŠEDÝCH TL 60MM DO LOŽE Z KAM | F68: M2 | G68: 7 | H68: 0 | I68: =ROUND(G68*H68,P4) -> 0 | O68: =I68*0.21 -> 0 | P68: 3
A69: PP | E69: Dlažba zámková H-PROFIL 20x16,5x6 cm přírodní
A70: VV | E70: 4,0*1,75 = 7,000 [A]
A71: TS | E71: Položka zahrnuje: - dodání dlažebního materiálu v požadované kvalitě, dodání materiálu pro předepsané lože v tloušťce předepsané dokumentací a pro předepsanou výplň spar - očištění podkladu - uložení dlažby dle předepsaného technologického předpisu včetně předepsané podkladní vrstvy a předepsané výplně spar - zřízení vrstvy bez rozlišení šířky, pokládání vrstvy po etapách - úpravu napojení, ukončení podél obrubníků, dilatačních zařízení, odvodňovacích proužků, odvodňovačů, vpustí, šachet a pod., nestanoví-li zadávací dokumentace jinak Položka nezahrnuje: - postřiky, nátěry - těsnění podél obrubníků, dilatačních zařízení, odvodňovacích proužků, odvodňovačů, vpustí, šachet a pod.
A72: SD | C72: 6 | E72: Úpravy povrchů, podlahy, výplně otvorů | I72: =SUMIFS(I73:I75,A73:A75,"P") -> 0
A73: P | B73: 10 | C73: 62001 | E73: 3D nápis autobusové zastávky, D+M | F73: kus | G73: 1 | H73: 0 | I73: =ROUND(G73*H73,P4) -> 0 | O73: =I73*0.21 -> 0 | P73: 3
A74: PP
A75: TS
A76: SD | C76: 7 | E76: Přidružená stavební výroba | I76: =SUMIFS(I77:I97,A77:A97,"P") -> 0
A77: P | B77: 12 | C77: 72124 | E77: LAPAČE STŘEŠNÍCH SPLAVENIN | F77: KUS | G77: 1 | H77: 0 | I77: =ROUND(G77*H77,P4) -> 0 | O77: =I77*0.21 -> 0 | P77: 3
A78: PP | E78: Lapač střešních splavenin PP HL600, kloub zápachová klapka, koš na listí, DN 100 mm
A79: TS | E79: Položka zahrnuje: - výrobní dokumentaci (včetně technologického předpisu) - dodání veškerého instalačního a pomocného materiálu (trouby, trubky, armatury, tvarové kusy, spojovací a těsnící materiál a pod.), podpěrných, závěsných, upevňovacích prvků, včetně potřebných úprav - zednické výpomoci, jako je vysekávání kapes a rýh, jejich vyplnění a začištění - úprava podkladu a osazení podpěr, osazení a očištění podkladu a podpěr - zřízení plně funkční instalace, kompletní soustavy, podle příslušného technologického předpisu - zřízení instalace i jednotlivých částí po etapách, včetně pracovních spar a spojů - úprava a příprava prostupů, okolí podpěr, zaústění a napojení a upevnění odpadních výustek - úprava, očištění a ošetření prostoru kolem instalace Položka nezahrnuje: - x
A80: P | B80: 13 | C80: 76421 | E80: OPLECHOVÁNÍ A LEMOVÁNÍ KONSTRUKCÍ Z POZINKOVANÉHO PLECHU | F80: M2 | G80: 4.15 | H80: 0 | I80: =ROUND(G80*H80,P4) -> 0 | O80: =I80*0.21 -> 0 | P80: 3
A81: PP | E81: Okapnice z lakovaného Pz plechu, rš 200 mm - 4,6 m Závětrná lišta z lakovaného Pz plechu, rš 333 mm - 9,7 m
A82: TS | E82: Položka zahrnuje: - zejména kompletní konstrukci včetně úprav plechů (i povrchové úpravy a pod.) - spojovací a ochranné prostředky, podkladovou lepenku, upevňovací prvky, lemování, spárování, úpravy u okapů, prostupů, výčnělků, rohů, spojů, dilatací a pod. - není-li zahrnut v samostatných položkách (SD 78), i nátěr konstrukcí, včetně úprav povrchu před nátěrem - veškerý materiál, výrobky a polotovary - mimostaveništní a vnitrostaveništní dopravy (rovněž přesuny), včetně naložení a složení,případně s uložením Položka nezahrnuje: - x
A83: P | B83: 14 | C83: 764412 | E83: ŽLABY Z POZINK PLECHU RŠ DO 330MM | F83: M | G83: 4.6 | H83: 0 | I83: =ROUND(G83*H83,P4) -> 0 | O83: =I83*0.21 -> 0 | P83: 3
A84: PP
A85: TS | E85: Položka zahrnuje: - zejména kompletní konstrukci včetně úprav plechů (i povrchové úpravy a pod.) - spojovací a ochranné prostředky, podkladovou lepenku, upevňovací prvky, lemování, spárování, úpravy u okapů, prostupů, výčnělků, rohů, spojů, dilatací a pod. - není-li zahrnut v samostatných položkách (SD 78), i nátěr konstrukcí, včetně úprav povrchu před nátěrem - veškerý materiál, výrobky a polotovary - mimostaveništní a vnitrostaveništní dopravy (rovněž přesuny), včetně naložení a složení,případně s uložením. - háky, zděře, čela, manžety, odbočky, kolena, rohy, hrdla, odskoky, výpusti, přechodové kusy a pod Položka nezahrnuje: - x
A86: P | B86: 15 | C86: 764512 | E86: ODPAD TROUBY KRUH (ČTVERC) Z POZINK PLECHU DN DO 100MM | F86: M | G86: 1.5 | H86: 0 | I86: =ROUND(G86*H86,P4) -> 0 | O86: =I86*0.21 -> 0 | P86: 3
A87: PP
A88: TS | E88: Položka zahrnuje: - zejména kompletní konstrukci včetně úprav plechů (i povrchové úpravy a pod.) - spojovací a ochranné prostředky, podkladovou lepenku, upevňovací prvky, lemování, spárování, úpravy u okapů, prostupů, výčnělků, rohů, spojů, dilatací a pod. - není-li zahrnut v samostatných položkách (SD 78), i nátěr konstrukcí, včetně úprav povrchu před nátěrem - veškerý materiál, výrobky a polotovary - mimostaveništní a vnitrostaveništní dopravy (rovněž přesuny), včetně naložení a složení,případně s uložením. - háky, zděře, čela, manžety, odbočky, kolena, rohy, hrdla, odskoky, výpusti, přechodové kusy a pod Položka nezahrnuje: - x
A89: P | B89: 16 | C89: 766001 | E89: Dřevěná lavice 1,75x1,60 m, fošny sibiřký modřín, vč. spoj. prostředků, D+M | F89: kus | G89: 1 | H89: 0 | I89: =ROUND(G89*H89,P4) -> 0 | O89: =I89*0.21 -> 0 | P89: 3
A90: PP
A91: TS
A92: P | B92: 17 | C92: 766411 | E92: KONSTR TRUHLÁŘ - OBLOŽENÍ STĚN PALUBKAMI Z MĚK DŘEVA | F92: M2 | G92: 7 | H92: 0 | I92: =ROUND(G92*H92,P4) -> 0 | O92: =I92*0.21 -> 0 | P92: 3
A93: PP | E93: Palubka obkladová MD jakost A/B, tl. 19 mm, šířka 121 mm včetně nátěru olejového dvojnásobného Podkladový rošt - Hranolek Modřín sibiřský 45 x 70 mm
A94: TS | E94: Položka zahrnuje: - dodávku a montáž obložení dle projektové dokumentace (soklu, podkladového roštu, nosných prvků) - mimostaveništní a vnitrostaveništní dopravu - povrchové úpravy předepsané projektem Položka nezahrnuje: - x
A95: P | B95: 18 | C95: 76799 | E95: OSTATNÍ KOVOVÉ DOPLŇK KONSTRUKCE | F95: T | G95: 0.09 | H95: 0 | I95: =ROUND(G95*H95,P4) -> 0 | O95: =I95*0.21 -> 0 | P95: 3
A96: PP | E96: kovová podnož pod dřev. lamely - pásoviny, jekl sloupek : 90,0 kg Včetně pozinkování.
A97: TS | E97: Položka zahrnuje: - vlastní zámečnické výrobky - rámy, rošty, lišty, kování, podpěrné, závěsné, upevňovací prvky, spojovací a těsnící materiál, pomocný materiál - kompletní povrchovou úpravu - u doplňkových stavebních konstrukcí je zahrnuto drobné zasklení nebo jiná předepsaná výplň Položka nezahrnuje: - x
A98: SD | C98: 8 | E98: Potrubí | I98: =SUMIFS(I99:I101,A99:A101,"P") -> 0
A99: P | B99: 19 | C99: 87133 | E99: POTRUBÍ Z TRUB PLASTOVÝCH TLAKOVÝCH HRDLOVÝCH DN DO 150MM | F99: M | G99: 10 | H99: 0 | I99: =ROUND(G99*H99,P4) -> 0 | O99: =I99*0.21 -> 0 | P99: 3
A100: PP | E100: Kanalizace z trub PVC hrdlových D 110 mm
...

Sheet SO 301.1
A1: EstiCon | E1: Firma: | P1: 3
E2: Soupis prací objektu
A3: S | B3: Stavba: | C3: 02102024 | E3: SYROVICE - SOBOTOVSKÁ - Obec | H3: SO 301.1 | I3: =SUMIFS(I8:I78,A8:A78,"SD") -> 0 | O3: 0 | P3: 2
A4: O | B4: Rozpočet: | C4: SO 301.1 | E4: DEŠŤOVÁ KANALIZACE (Podíl SUS JMK 66,2%, podíl Obec Syrovice 33,8%) | O4: 0.12 | P4: 2
A5: Typ | B5: Poř. číslo | C5: Kód položky | D5: Varianta | E5: Název Položky | F5: MJ | G5: Množství | H5: Cena | J5: Cenová soustava | O5: 0.21
H6: Jednotková | I6: Celkem
A7: 0 | B7: 1 | C7: 2 | D7: 3 | E7: 4 | F7: 5 | G7: 6 | H7: 7 | I7: 8 | J7: 9
A8: SD | C8: 0 | E8: Všeobecné konstrukce a práce | I8: =SUMIFS(I9:I12,A9:A12,"P") -> 0
A9: P | B9: 1 | C9: 014102 | D9: 1 | E9: POPLATKY ZA SKLÁDKU | F9: T | G9: 926.554 | H9: 0 | I9: =ROUND(G9*H9,P4) -> 0 | O9: =I9*0.21 -> 0 | P9: 3
A10: PP
A11: VV | E11: Položka č. 13173 75,125*2,0 = 150,250 [A]_x000D_ Položka č. 13273 388,152*2,0 = 776,304 [B]_x000D_ Celkové množství = 926,554
A12: TS | E12: Položka zahrnuje: - veškeré poplatky provozovateli skládky související s uložením odpadu na skládce. Položka nezahrnuje: - x
A13: SD | C13: 1 | E13: Zemní práce | I13: =SUMIFS(I14:I40,A14:A40,"P") -> 0
A14: P | B14: 2 | C14: 12573 | E14: VYKOPÁVKY ZE ZEMNÍKŮ A SKLÁDEK TŘ. I | F14: M3 | G14: 305.464 | H14: 0 | I14: =ROUND(G14*H14,P4) -> 0 | O14: =I14*0.21 -> 0 | P14: 3
A15: PP | E15: Naložení a dovoz z mezideponie pro zpětný zásyp.
A16: VV | E16: Dle množství položky 17411 305,464 = 305,464 [A]
A17: TS | E17: Položka zahrnuje: - vodorovnou a svislou dopravu, přemístění, přeložení, manipulace s výkopkem - kompletní provedení vykopávky nezapažené i zapažené - ošetření výkopiště po celou dobu práce v něm vč. klimatických opatření - ztížení vykopávek v blízkosti podzemního vedení, konstrukcí a objektů vč. jejich dočasného zajištění - ztížení pod vodou, v okolí výbušnin, ve stísněných prostorech a pod. - příplatek za lepivost - těžení po vrstvách, pásech a po jiných nutných částech (figurách) - čerpání vody vč. čerpacích jímek, potrubí a pohotovostní čerpací soupravy (viz ustanovení k pol. 1151,2) - potřebné snížení hladiny podzemní vody - těžení a rozpojování jednotlivých balvanů - vytahování a nošení výkopku - ruční vykopávky, odstranění kořenů a napadávek - pažení, vzepření a rozepření vč. přepažování (vyjma pažení záporového a štětových stěn) - úpravu, ochranu a očištění dna, základové spáry, stěn a svahů - udržování výkopiště a jeho ochrana proti vodě - odvedení nebo obvedení vody v okolí výkopiště a ve výkopišti - třídění výkopku - veškeré pomocné konstrukce umožňující provedení vykopávky (příjezdy, sjezdy, nájezdy, lešení, podpěr. konstr., přemostění, zpevněné plochy, zakrytí a pod.) Položka nezahrnuje: - práce spojené s otvírkou zemníku
A18: P | B18: 3 | C18: 12931 | E18: ČIŠTĚNÍ PŘÍKOPŮ OD NÁNOSU DO 0,25M3/M | F18: M | G18: 10 | H18: 0 | I18: =ROUND(G18*H18,P4) -> 0 | O18: =I18*0.21 -> 0 | P18: 3
A19: PP | E19: Včetně odvozu a likvidace v režii zhotovitele, odvozná vzdálenost v režii zhotovitele.
A20: TS | E20: Položka zahrnuje: - vodorovnou a svislou dopravu, přemístění, přeložení, manipulace s materiálem a uložení na skládku.
A21: P | B21: 4 | C21: 13173 | E21: HLOUBENÍ JAM ZAPAŽ I NEPAŽ TŘ. I | F21: M3 | G21: 75.125 | H21: 0 | I21: =ROUND(G21*H21,P4) -> 0 | O21: =I21*0.21 -> 0 | P21: 3
A22: PP
A23: VV | E23: Vyústní objekt dešťové kanalizace 5,5*1,5*0,5 = 4,125 [A]_x000D_ Jámy pro šachty 2,0*2,0*(2,05+2,25+2,25+2,25+2,25+2,25+2,35+2,1) = 71,000 [B]_x000D_ Celkové množství = 75,125
A24: TS | E24: Položka zahrnuje: - vodorovnou a svislou dopravu, přemístění, přeložení, manipulace s výkopkem - kompletní provedení vykopávky nezapažené i zapažené - ošetření výkopiště po celou dobu práce v něm vč. klimatických opatření - ztížení vykopávek v blízkosti podzemního vedení, konstrukcí a objektů vč. jejich dočasného zajištění - ztížení pod vodou, v okolí výbušnin, ve stísněných prostorech a pod. - příplatek za lepivost - těžení po vrstvách, pásech a po jiných nutných částech (figurách) - čerpání vody vč. čerpacích jímek, potrubí a pohotovostní čerpací soupravy (viz ustanovení k pol. 1151,2) - potřebné snížení hladiny podzemní vody - těžení a rozpojování jednotlivých balvanů - vytahování a nošení výkopku - svahování a přesvah. svahů do konečného tvaru, výměna hornin v podloží a v pláni znehodnocené klimatickými vlivy - ruční vykopávky, odstranění kořenů a napadávek - pažení, vzepření a rozepření vč. přepažování (vyjma pažení záporového a štětových stěn) - úpravu, ochranu a očištění dna, základové spáry, stěn a svahů - odvedení nebo obvedení vody v okolí výkopiště a ve výkopišti - třídění výkopku - veškeré pomocné konstrukce umožňující provedení vykopávky (příjezdy, sjezdy, nájezdy, lešení, podpěr. konstr., přemostění, zpevněné plochy, zakrytí a pod.) Položka nezahrnuje: - uložení zeminy (na skládku, do násypu) ani poplatky za skládku, vykazují se v položce č.0141**
A25: P | B25: 5 | C25: 13273 | E25: HLOUBENÍ RÝH ŠÍŘ DO 2M PAŽ I NEPAŽ TŘ. I | F25: M3 | G25: 388.152 | H25: 0 | I25: =ROUND(G25*H25,P4) -> 0 | O25: =I25*0.21 -> 0 | P25: 3
A26: PP
A27: VV | E27: 0,8*(2,25*198,0+2,1*18,9) = 388,152 [A]
A28: TS | E28: Položka zahrnuje: - vodorovnou a svislou dopravu, přemístění, přeložení, manipulace s výkopkem - kompletní provedení vykopávky nezapažené i zapažené - ošetření výkopiště po celou dobu práce v něm vč. klimatických opatření - ztížení vykopávek v blízkosti podzemního vedení, konstrukcí a objektů vč. jejich dočasného zajištění - ztížení pod vodou, v okolí výbušnin, ve stísněných prostorech a pod. - příplatek za lepivost - těžení po vrstvách, pásech a po jiných nutných částech (figurách) - čerpání vody vč. čerpacích jímek, potrubí a pohotovostní čerpací soupravy (viz ustanovení k pol. 1151,2) - potřebné snížení hladiny podzemní vody - těžení a rozpojování jednotlivých balvanů - vytahování a nošení výkopku - svahování a přesvah. svahů do konečného tvaru, výměna hornin v podloží a v pláni znehodnocené klimatickými vlivy - ruční vykopávky, odstranění kořenů a napadávek - pažení, vzepření a rozepření vč. přepažování (vyjma pažení záporového a štětových stěn) - úpravu, ochranu a očištění dna, základové spáry, stěn a svahů - odvedení nebo obvedení vody v okolí výkopiště a ve výkopišti - třídění výkopku - veškeré pomocné konstrukce umožňující provedení vykopávky (příjezdy, sjezdy, nájezdy, lešení, podpěr. konstr., přemostění, zpevněné plochy, zakrytí a pod.) Položka nezahrnuje: - uložení zeminy (na skládku, do násypu) ani poplatky za skládku, vykazují se v položce č.0141**
A29: P | B29: 6 | C29: 17120 | E29: ULOŽENÍ SYPANINY DO NÁSYPŮ A NA SKLÁDKY BEZ ZHUTNĚNÍ | F29: M3 | G29: 463.277 | H29: 0 | I29: =ROUND(G29*H29,P4) -> 0 | O29: =I29*0.21 -> 0 | P29: 3
A30: PP | E30: Uložení materiálu na skládku
A31: VV | E31: Na skládku 75,125+388,152 = 463,277 [B]_x000D_ Celkové množství = 463,277
A32: TS | E32: Položka zahrnuje: - kompletní provedení zemní konstrukce do předepsaného tvaru - ošetření úložiště po celou dobu práce v něm vč. klimatických opatření - ztížení v okolí vedení, konstrukcí a objektů a jejich dočasné zajištění - ztížení provádění ve ztížených podmínkách a stísněných prostorech - ztížené ukládání sypaniny pod vodu - ukládání po vrstvách a po jiných nutných částech (figurách) vč. dosypávek - spouštění a nošení materiálu - úprava, očištění a ochrana podloží a svahů - svahování, uzavírání povrchů svahů - udržování úložiště a jeho ochrana proti vodě - odvedení nebo obvedení vody v okolí úložiště a v úložišti - veškeré pomocné konstrukce umožňující provedení zemní konstrukce (příjezdy, sjezdy, nájezdy, lešení, podpěrné konstrukce, přemostění, zpevněné plochy, zakrytí a pod.) Položka nezahrnuje: - x
A33: P | B33: 7 | C33: 17481 | E33: ZÁSYP JAM A RÝH Z NAKUPOVANÝCH MATERIÁLŮ | F33: M3 | G33: 305.464 | H33: 0 | I33: =ROUND(G33*H33,P4) -> 0 | O33: =I33*0.21 -> 0 | P33: 3
A34: PP | E34: Štěrkopísek frakce 0/32.
A35: VV | E35: Zásyp rýh 0,8*((2,25-0,75)*198,0+(2,1-0,75)*18,9) = 258,012 [A]_x000D_ Jámy pro šachty 2,0*2,0*(2,05+2,25+2,25+2,25+2,25+2,25+2,35+2,1)-3,14*0,65*0,65*(2,05+2,25+2,25+2,25+2,25+2,25+2,35+2,1) = 47,452 [B]_x000D_ Celkové množství = 305,464
A36: TS | E36: Položka zahrnuje: - kompletní provedení zemní konstrukce včetně nákupu a dopravy materiálu dle zadávací dokumentace - úprava ukládaného materiálu vlhčením, tříděním, promícháním nebo vysoušením, příp. jiné úpravy za účelem zlepšení jeho mech. vlastností - hutnění i různé míry hutnění - ošetření úložiště po celou dobu práce v něm vč. klimatických opatření - ztížení v okolí vedení, konstrukcí a objektů a jejich dočasné zajištění - ztížení provádění vč. hutnění ve ztížených podmínkách a stísněných prostorech - ztížené ukládání sypaniny pod vodu - ukládání po vrstvách a po jiných nutných částech (figurách) vč. dosypávek - spouštění a nošení materiálu - výměna částí zemní konstrukce znehodnocené klimatickými vlivy - udržování úložiště a jeho ochrana proti vodě - odvedení nebo obvedení vody v okolí úložiště a v úložišti - veškeré pomocné konstrukce umožňující provedení zemní konstrukce (příjezdy, sjezdy, nájezdy, lešení, podpěrné konstrukce, přemostění, zpevněné plochy, zakrytí a pod.) Položka nezahrnuje: - x
A37: P | B37: 8 | C37: 17581 | E37: OBSYP POTRUBÍ A OBJEKTŮ Z NAKUPOVANÝCH MATERIÁLŮ | F37: M3 | G37: 42.812 | H37: 0 | I37: =ROUND(G37*H37,P4) -> 0 | O37: =I37*0.21 -> 0 | P37: 3
A38: PP | E38: Pískový obsyp materiálem 0/16.
A39: VV | E39: 0,8*0,6*216,88-0,3*0,3*3,14*216,88 = 42,812 [A]
A40: TS | E40: Položka zahrnuje: - kompletní provedení zemní konstrukce včetně nákupu a dopravy materiálu dle zadávací dokumentace - úprava ukládaného materiálu vlhčením, tříděním, promícháním nebo vysoušením, příp. jiné úpravy za účelem zlepšení jeho mech. vlastností - hutnění i různé míry hutnění - ošetření úložiště po celou dobu práce v něm vč. klimatických opatření - ztížení v okolí vedení, konstrukcí a objektů a jejich dočasné zajištění - ztížení provádění vč. hutnění ve ztížených podmínkách a stísněných prostorech - ztížené ukládání sypaniny pod vodu - ukládání po vrstvách a po jiných nutných částech (figurách) vč. dosypávek - spouštění a nošení materiálu - výměna částí zemní konstrukce znehodnocené klimatickými vlivy - ruční hutnění a výplň jam a prohlubní v podloží - úprava, očištění, ochrana a zhutnění podloží - svahování, hutnění a uzavírání povrchů svahů - zřízení lavic na svazích - udržování úložiště a jeho ochrana proti vodě - odvedení nebo obvedení vody v okolí úložiště a v úložišti - veškeré pomocné konstrukce umožňující provedení zemní konstrukce (příjezdy, sjezdy, nájezdy, lešení, podpěrné konstrukce, přemostění, zpevněné plochy, zakrytí a pod.) Položka nezahrnuje: - x Způsob měření: - zemina vytlačená potrubím o DN 180mm se od kubatury obsypů neodečítá
A41: SD | C41: 4 | E41: Vodorovné konstrukce | I41: =SUMIFS(I42:I60,A42:A60,"P") -> 0
A42: P | B42: 9 | C42: 451313 | E42: PODKLADNÍ A VÝPLŇOVÉ VRSTVY Z PROSTÉHO BETONU C16/20 | F42: M3 | G42: 0.9 | H42: 0 | I42: =ROUND(G42*H42,P4) -> 0 | O42: =I42*0.21 -> 0 | P42: 3
A43: PP
A44: TS | E44: Položka zahrnuje: - dodání čerstvého betonu (betonové směsi) požadované kvality, jeho uložení do požadovaného tvaru při jakékoliv hustotě výztuže, konzistenci čerstvého betonu a způsobu hutnění, ošetření a ochranu betonu, - zhotovení nepropustného, mrazuvzdorného betonu a betonu požadované trvanlivosti a vlastností, užití potřebných přísad a technologií výroby betonu, - zřízení pracovních a dilatačních spar, včetně potřebných úprav, výplně, vložek, opracování, očištění a ošetření, - bednění požadovaných konstr. (i ztracené) s úpravou dle požadované kvality povrchu betonu, včetně odbedňovacích a odskružovacích prostředků, nátěrů zabraňujících soudržnosti betonu a bednění, - podpěrné konstr. (skruže) a lešení všech druhů pro bednění, vč. ochranných a bezpečnostních opatření a základů těchto konstrukcí a lešení, - vytvoření kotevních čel, kapes, nálitků a sedel, zřízení všech požadovaných otvorů, výklenků, prostupů, dutin, drážek a pod., vč. ztížení práce a úprav kolem nich, - úpravy pro osazení výztuže, doplňkových konstrukcí a vybavení, - úpravy povrchu pro položení požadované izolace, povlaků a nátěrů, případně vyspravení, - ztížení práce u kabelových a injektážních trubek a ostatních zařízení osazovaných do betonu, - konstrukce betonových kloubů, upevnění kotevních prvků a doplňkových konstrukcí, - nátěry zabraňující soudržnost betonu a bednění, - výplň, těsnění a tmelení spar a spojů, - opatření povrchů betonu izolací proti zemní vlhkosti v částech, kde přijdou do styku se zeminou nebo kamenivem, - případné zřízení spojovací vrstvy u základů, - úpravy pro osazení zařízení ochrany konstrukce proti vlivu bludných proudů, Položka nezahrnuje: - x
A45: P | B45: 10 | C45: 45157 | E45: PODKLADNÍ A VÝPLŇOVÉ VRSTVY Z KAMENIVA TĚŽENÉHO | F45: M3 | G45: 26.026 | H45: 0 | I45: =ROUND(G45*H45,P4) -> 0 | O45: =I45*0.21 -> 0 | P45: 3
A46: PP | E46: Pískové lože 0/4
A47: VV | E47: 0,8*0,15*216,88 = 26,026 [A]
A48: TS | E48: Položka zahrnuje: - dodávku předepsaného kameniva - mimostaveništní a vnitrostaveništní dopravu a jeho uložení - není-li v zadávací dokumentaci uvedeno jinak, jedná se o nakupovaný materiál Položka nezahrnuje: - x
A49: P | B49: 11 | C49: 46451 | E49: POHOZ DNA A SVAHŮ Z LOMOVÉHO KAMENE | F49: M3 | G49: 1.2 | H49: 0 | I49: =ROUND(G49*H49,P4) -> 0 | O49: =I49*0.21 -> 0 | P49: 3
A50: PP
A51: VV | E51: Vyústní objekt 4*1,5*0,2 = 1,200 [A]
A52: TS | E52: Položka zahrnuje: - dodávku předepsaného kamene - mimostaveništní a vnitrostaveništní dopravu a jeho uložení - není-li v zadávací dokumentaci uvedeno jinak, jedná se o nakupovaný materiál Položka nezahrnuje: - x
A53: P | B53: 12 | C53: 465512 | E53: DLAŽBY Z LOMOVÉHO KAMENE NA MC | F53: M3 | G53: 0.3 | H53: 0 | I53: =ROUND(G53*H53,P4) -> 0 | O53: =I53*0.21 -> 0 | P53: 3
A54: PP | E54: Dlažba z lomového kamene,lože z MC do 5 cm tloušťky 200 mm, tř. 1, včetně dodávky kamene
A55: VV | E55: Vyústní objekt 1,5*0,2 = 0,300 [A]
A56: TS | E56: Položka zahrnuje: - nutné zemní práce (svahování, úpravu pláně a pod.) - zřízení spojovací vrstvy - zřízení lože dlažby z cementové malty předepsané kvality a předepsané tloušťky - dodávku a položení dlažby z lomového kamene do předepsaného tvaru - spárování, těsnění, tmelení a vyplnění spar MC případně s vyklínováním - úprava povrchu pro odvedení srážkové vody Položka nezahrnuje: - podklad pod dlažbu, vykazuje se samostatně položkami SD 45
A57: P | B57: 13 | C57: 467313 | E57: STUPNĚ A PRAHY VODNÍCH KORYT Z PROSTÉHO BETONU C16/20 | F57: M3 | G57: 0.72 | H57: 0 | I57: =ROUND(G57*H57,P4) -> 0 | O57: =I57*0.21 -> 0 | P57: 3
A58: PP
A59: VV | E59: Vyústní objekt 0,2*0,3*(4,5*2+1,5*2) = 0,720 [A]
A60: TS | E60: Položka zahrnuje: - nutné zemní práce (hloubení rýh apod.) - dodání čerstvého betonu (betonové směsi) požadované kvality, jeho uložení do požadovaného tvaru při jakékoliv konzistenci čerstvého betonu a způsobu hutnění, ošetření a ochranu betonu, - zhotovení nepropustného, mrazuvzdorného betonu a betonu požadované trvanlivosti a vlastností, - užití potřebných přísad a technologií výroby betonu, - zřízení pracovních a dilatačních spar, včetně potřebných úprav, výplně, vložek, opracování, očištění a ošetření, - bednění požadovaných konstr. (i ztracené) s úpravou dle požadované kvality povrchu betonu, včetně odbedňovacích a odskružovacích prostředků, - podpěrné konstr. (skruže) a lešení všech druhů pro bednění, uložení čerstvého betonu, výztuže a doplňkových konstr., vč. požadovaných otvorů, ochranných a bezpečnostních opatření a základů těchto konstrukcí a lešení, - vytvoření kotevních čel, kapes, nálitků, a sedel, - zřízení všech požadovaných otvorů, kapes, výklenků, prostupů, dutin, drážek a pod., vč. ztížení práce a úprav kolem nich, - úpravy pro osazení doplňkových konstrukcí a vybavení, - úpravy povrchu pro položení požadované izolace, povlaků a nátěrů, případně vyspravení, - konstrukce betonových kloubů, upevnění kotevních prvků a doplňkových konstrukcí, - nátěry zabraňující soudržnost betonu a bednění, - výplň, těsnění a tmelení spar a spojů, - opatření povrchů betonu izolací proti zemní vlhkosti v částech, kde přijdou do styku se zeminou nebo kamenivem, - případné zřízení spojovací vrstvy u základů Položka nezahrnuje: - x
A61: SD | C61: 8 | E61: Potrubí | I61: =SUMIFS(I62:I78,A62:A78,"P") -> 0
A62: P | B62: 14 | C62: 87433 | E62: POTRUBÍ Z TRUB PLASTOVÝCH ODPADNÍCH DN DO 150MM | F62: M | G62: 37 | H62: 0 | I62: =ROUND(G62*H62,P4) -> 0 | O62: =I62*0.21 -> 0 | P62: 3
A63: PP | E63: Trubka kanalizační PP SN 10 DN 150
A64: VV | E64: Přípojky 5,0*7+2,0 = 37,000 [A]
A65: TS | E65: Položka zahrnuje: - výrobní dokumentaci (včetně technologického předpisu) - dodání veškerého trubního a pomocného materiálu (trouby, trubky, tvarovky, spojovací a těsnící materiál a pod.), podpěrných, závěsných a upevňovacích prvků, včetně potřebných úprav - úprava a příprava podkladu a podpěr, očištění a ošetření podkladu a podpěr - zřízení plně funkčního potrubí, kompletní soustavy, podle příslušného technologického předpisu (bez ohledu na sklon) - zřízení potrubí i jednotlivých částí po etapách, včetně pracovních spar a spojů, pracovního zaslepení konců a pod. - úprava prostupů, průchodů šachtami a komorami, okolí podpěr a vyústění, zaústění, napojení, vyvedení a upevnění odpad. výustí - ochrana potrubí nátěrem (vč. úpravy povrchu), případně izolací, nejsou-li tyto práce předmětem jiné položky - úprava, očištění a ošetření prostoru kolem potrubí - položky platí pro práce prováděné v prostoru zapaženém i nezapaženém a i v kolektorech, chráničkách - položky zahrnují i práce spojené s nutnými obtoky, převáděním a čerpáním vody Položka nezahrnuje: - tlakové zkoušky ani proplach a dezinfekci
A66: P | B66: 15 | C66: 87445 | E66: POTRUBÍ Z TRUB PLASTOVÝCH ODPADNÍCH DN DO 300MM | F66: M | G66: 217 | H66: 0 | I66: =ROUND(G66*H66,P4) -> 0 | O66: =I66*0.21 -> 0 | P66: 3
A67: PP | E67: Trubka kanalizační PP SN 10 DN 300
A68: VV | E68: 217 = 217,000 [A]
A69: TS | E69: Položka zahrnuje: - výrobní dokumentaci (včetně technologického předpisu) - dodání veškerého trubního a pomocného materiálu (trouby, trubky, tvarovky, spojovací a těsnící materiál a pod.), podpěrných, závěsných a upevňovacích prvků, včetně potřebných úprav - úprava a příprava podkladu a podpěr, očištění a ošetření podkladu a podpěr - zřízení plně funkčního potrubí, kompletní soustavy, podle příslušného technologického předpisu (bez ohledu na sklon) - zřízení potrubí i jednotlivých částí po etapách, včetně pracovních spar a spojů, pracovního zaslepení konců a pod. - úprava prostupů, průchodů šachtami a komorami, okolí podpěr a vyústění, zaústění, napojení, vyvedení a upevnění odpad. výustí - ochrana potrubí nátěrem (vč. úpravy povrchu), případně izolací, nejsou-li tyto práce předmětem jiné položky - úprava, očištění a ošetření prostoru kolem potrubí - položky platí pro práce prováděné v prostoru zapaženém i nezapaženém a i v kolektorech, chráničkách - položky zahrnují i práce spojené s nutnými obtoky, převáděním a čerpáním vody Položka nezahrnuje: - tlakové zkoušky ani proplach a dezinfekci
A70: P | B70: 16 | C70: 894145 | E70: ŠACHTY KANALIZAČNÍ Z BETON DÍLCŮ NA POTRUBÍ DN DO 300MM | F70: KUS | G70: 8 | H70: 0 | I70: =ROUND(G70*H70,P4) -> 0 | O70: =I70*0.21 -> 0 | P70: 3
A71: PP | E71: dno C25/30, potrubí DN 300 včetně dílců TBS-Q 100/50 PS a TBR-Q 100-63/58 KPS
A72: TS | E72: Položka zahrnuje: - poklopy s rámem, mříže s rámem, stupadla, žebříky, stropy z bet. dílců a pod. - předepsané betonové skruže, prefabrikované nebo monolitické betonové dno - dodání dílce požadovaného tvaru a vlastností, jeho skladování, doprava a osazení do definitivní polohy, včetně komplexní technologie výroby a montáže dílců, ošetření a ochrana dílců, - u dílců železobetonových a předpjatých veškerá výztuž, případně i tuhé kovové prvky a závěsná oka, - úpravy a zařízení pro uložení a transport dílce, - veškeré požadované úpravy dílců, včetně doplňkových konstrukcí a vybavení, - sestavení dílce na stavbě včetně montážních zařízení, plošin a prahů a pod., - výplň, těsnění a tmelení spár a spojů, - očištění a ošetření úložných ploch, - zednické výpomoce pro montáž dílců, - označení dílce výrobním štítkem nebo jiným způsobem, - úpravy dílce pro dodržení požadované přesnosti jeho osazení, včetně případných měření, - veškerá zařízení pro zajištění stability v každém okamžiku - předepsané podkladní konstrukce Položka nezahrnuje: - x
A73: P | B73: 17 | C73: 89712 | E73: VPUSŤ KANALIZAČNÍ ULIČNÍ KOMPLETNÍ Z BETONOVÝCH DÍLCŮ | F73: KUS | G73: 8 | H73: 0 | I73: =ROUND(G73*H73,P4) -> 0 | O73: =I73*0.21 -> 0 | P73: 3
A74: PP
A75: TS | E75: Položka zahrnuje: - dodávku a osazení předepsaných dílů včetně mříže - výplň, těsnění a tmelení spar a spojů, - opatření povrchů betonu izolací proti zemní vlhkosti v částech, kde přijdou do styku se zeminou nebo kamenivem, - předepsané podkladní konstrukce Položka nezahrnuje: - x
A76: P | B76: 19 | C76: 899652 | E76: ZKOUŠKA VODOTĚSNOSTI POTRUBÍ DN DO 300MM | F76: M | G76: 217 | H76: 0 | I76: =ROUND(G76*H76,P4) -> 0 | O76: =I76*0.21 -> 0 | P76: 3
A77: PP
A78: TS | E78: Položka zahrnuje: - přísun, montáž, demontáž, odsun zkoušecího čerpadla - napuštění tlakovou vodou, dodání vody pro tlakovou zkoušku - montáž a demontáž dílců pro zabezpečení konce zkoušeného úseku potrubí - montáž a demontáž koncových tvarovek - montáž zaslepovací příruby, zaslepení odboček pro armatury a pro odbočující řady Položka nezahrnuje: - x

Sheet SO 301.2
A1: EstiCon | E1: Firma: | P1: 3
E2: Soupis prací objektu
A3: S | B3: Stavba: | C3: 02102024 | E3: SYROVICE - SOBOTOVSKÁ - Obec | H3: SO 301.2 | I3: =SUMIFS(I8:I73,A8:A73,"SD") -> 0 | O3: 0 | P3: 2
A4: O | B4: Rozpočet: | C4: SO 301.2 | E4: DEŠŤOVÁ KANALIZACE UV9-UV14 (Podíl SUS JMK 66,2%, podíl Obec Syrovice 33,8%) | O4: 0.12 | P4: 2
A5: Typ | B5: Poř. číslo | C5: Kód položky | D5: Varianta | E5: Název Položky | F5: MJ | G5: Množství | H5: Cena | J5: Cenová soustava | O5: 0.21
H6: Jednotková | I6: Celkem
A7: 0 | B7: 1 | C7: 2 | D7: 3 | E7: 4 | F7: 5 | G7: 6 | H7: 7 | I7: 8 | J7: 9
A8: SD | C8: 0 | E8: Všeobecné konstrukce a práce | I8: =SUMIFS(I9:I12,A9:A12,"P") -> 0
A9: P | B9: 1 | C9: 014102 | D9: 1 | E9: POPLATKY ZA SKLÁDKU | F9: T | G9: 144 | H9: 0 | I9: =ROUND(G9*H9,P4) -> 0 | O9: =I9*0.21 -> 0 | P9: 3
A10: PP
A11: VV | E11: Položka č. 13273 72*2,0 = 144,000 [A]
A12: TS | E12: Položka zahrnuje: - veškeré poplatky provozovateli skládky související s uložením odpadu na skládce. Položka nezahrnuje: - x
A13: SD | C13: 1 | E13: Zemní práce | I13: =SUMIFS(I14:I35,A14:A35,"P") -> 0
A14: P | B14: 2 | C14: 11313 | E14: ODSTRANĚNÍ KRYTU ZPEVNĚNÝCH PLOCH S ASFALTOVÝM POJIVEM | F14: M3 | G14: 1.92 | H14: 0 | I14: =ROUND(G14*H14,P4) -> 0 | O14: =I14*0.21 -> 0 | P14: 3
A15: PP | E15: Včetně odvozu a likvidace v režii zhotovitele, odvozná vzdálenost v režii zhotovitele.
A16: TS | E16: Položka zahrnuje: - veškerou manipulaci s vybouranou sutí a s vybouranými hmotami vč. uložení na skládku.
A17: P | B17: 4 | C17: 12931 | E17: ČIŠTĚNÍ PŘÍKOPŮ OD NÁNOSU DO 0,25M3/M | F17: M | G17: 300 | H17: 0 | I17: =ROUND(G17*H17,P4) -> 0 | O17: =I17*0.21 -> 0 | P17: 3
A18: PP | E18: Včetně odvozu a likvidace v režii zhotovitele, odvozná vzdálenost v režii zhotovitele.
A19: TS | E19: Položka zahrnuje: - vodorovnou a svislou dopravu, přemístění, přeložení, manipulace s materiálem a uložení na skládku.
A20: P | B20: 5 | C20: 13273 | E20: HLOUBENÍ RÝH ŠÍŘ DO 2M PAŽ I NEPAŽ TŘ. I | F20: M3 | G20: 72 | H20: 0 | I20: =ROUND(G20*H20,P4) -> 0 | O20: =I20*0.21 -> 0 | P20: 3
A21: PP
A22: VV | E22: 4*12,5*0,8*1,8 = 72,000 [A]
A23: TS | E23: Položka zahrnuje: - vodorovnou a svislou dopravu, přemístění, přeložení, manipulace s výkopkem - kompletní provedení vykopávky nezapažené i zapažené - ošetření výkopiště po celou dobu práce v něm vč. klimatických opatření - ztížení vykopávek v blízkosti podzemního vedení, konstrukcí a objektů vč. jejich dočasného zajištění - ztížení pod vodou, v okolí výbušnin, ve stísněných prostorech a pod. - příplatek za lepivost - těžení po vrstvách, pásech a po jiných nutných částech (figurách) - čerpání vody vč. čerpacích jímek, potrubí a pohotovostní čerpací soupravy (viz ustanovení k pol. 1151,2) - potřebné snížení hladiny podzemní vody - těžení a rozpojování jednotlivých balvanů - vytahování a nošení výkopku - svahování a přesvah. svahů do konečného tvaru, výměna hornin v podloží a v pláni znehodnocené klimatickými vlivy - ruční vykopávky, odstranění kořenů a napadávek - pažení, vzepření a rozepření vč. přepažování (vyjma pažení záporového a štětových stěn) - úpravu, ochranu a očištění dna, základové spáry, stěn a svahů - odvedení nebo obvedení vody v okolí výkopiště a ve výkopišti - třídění výkopku - veškeré pomocné konstrukce umožňující provedení vykopávky (příjezdy, sjezdy, nájezdy, lešení, podpěr. konstr., přemostění, zpevněné plochy, zakrytí a pod.) Položka nezahrnuje: - uložení zeminy (na skládku, do násypu) ani poplatky za skládku, vykazují se v položce č.0141**
A24: P | B24: 6 | C24: 17120 | E24: ULOŽENÍ SYPANINY DO NÁSYPŮ A NA SKLÁDKY BEZ ZHUTNĚNÍ | F24: M3 | G24: 72 | H24: 0 | I24: =ROUND(G24*H24,P4) -> 0 | O24: =I24*0.21 -> 0 | P24: 3
A25: PP | E25: Uložení materiálu na skládku
A26: VV | E26: Na skládku 72 = 72,000 [B]
A27: TS | E27: Položka zahrnuje: - kompletní provedení zemní konstrukce do předepsaného tvaru - ošetření úložiště po celou dobu práce v něm vč. klimatických opatření - ztížení v okolí vedení, konstrukcí a objektů a jejich dočasné zajištění - ztížení provádění ve ztížených podmínkách a stísněných prostorech - ztížené ukládání sypaniny pod vodu - ukládání po vrstvách a po jiných nutných částech (figurách) vč. dosypávek - spouštění a nošení materiálu - úprava, očištění a ochrana podloží a svahů - svahování, uzavírání povrchů svahů - udržování úložiště a jeho ochrana proti vodě - odvedení nebo obvedení vody v okolí úložiště a v úložišti - veškeré pomocné konstrukce umožňující provedení zemní konstrukce (příjezdy, sjezdy, nájezdy, lešení, podpěrné konstrukce, přemostění, zpevněné plochy, zakrytí a pod.) Položka nezahrnuje: - x
A28: P | B28: 7 | C28: 17481 | E28: ZÁSYP JAM A RÝH Z NAKUPOVANÝCH MATERIÁLŮ | F28: M3 | G28: 47.04 | H28: 0 | I28: =ROUND(G28*H28,P4) -> 0 | O28: =I28*0.21 -> 0 | P28: 3
A29: PP | E29: Štěrkopísek frakce 0/32
A30: VV | E30: Odkaz na mn. položky pořadí 13273 72 = 72,000 [A]_x000D_ Odkaz na mn. položky pořadí 17581 -19,2 = -19,200 [B]_x000D_ Odkaz na mn. položky pořadí 45157 -5,76 = -5,760 [C]_x000D_ Celkové množství = 47,040
A31: TS | E31: Položka zahrnuje: - kompletní provedení zemní konstrukce včetně nákupu a dopravy materiálu dle zadávací dokumentace - úprava ukládaného materiálu vlhčením, tříděním, promícháním nebo vysoušením, příp. jiné úpravy za účelem zlepšení jeho mech. vlastností - hutnění i různé míry hutnění - ošetření úložiště po celou dobu práce v něm vč. klimatických opatření - ztížení v okolí vedení, konstrukcí a objektů a jejich dočasné zajištění - ztížení provádění vč. hutnění ve ztížených podmínkách a stísněných prostorech - ztížené ukládání sypaniny pod vodu - ukládání po vrstvách a po jiných nutných částech (figurách) vč. dosypávek - spouštění a nošení materiálu - výměna částí zemní konstrukce znehodnocené klimatickými vlivy - udržování úložiště a jeho ochrana proti vodě - odvedení nebo obvedení vody v okolí úložiště a v úložišti - veškeré pomocné konstrukce umožňující provedení zemní konstrukce (příjezdy, sjezdy, nájezdy, lešení, podpěrné konstrukce, přemostění, zpevněné plochy, zakrytí a pod.) Položka nezahrnuje: - x
A32: P | B32: 8 | C32: 17581 | E32: OBSYP POTRUBÍ A OBJEKTŮ Z NAKUPOVANÝCH MATERIÁLŮ | F32: M3 | G32: 19.2 | H32: 0 | I32: =ROUND(G32*H32,P4) -> 0 | O32: =I32*0.21 -> 0 | P32: 3
A33: PP | E33: Pískový obsyp materiálem 0/16.
A34: VV | E34: 0,8*0,5*12,0*4 = 19,200 [A]
A35: TS | E35: Položka zahrnuje: - kompletní provedení zemní konstrukce včetně nákupu a dopravy materiálu dle zadávací dokumentace - úprava ukládaného materiálu vlhčením, tříděním, promícháním nebo vysoušením, příp. jiné úpravy za účelem zlepšení jeho mech. vlastností - hutnění i různé míry hutnění - ošetření úložiště po celou dobu práce v něm vč. klimatických opatření - ztížení v okolí vedení, konstrukcí a objektů a jejich dočasné zajištění - ztížení provádění vč. hutnění ve ztížených podmínkách a stísněných prostorech - ztížené ukládání sypaniny pod vodu - ukládání po vrstvách a po jiných nutných částech (figurách) vč. dosypávek - spouštění a nošení materiálu - výměna částí zemní konstrukce znehodnocené klimatickými vlivy - ruční hutnění a výplň jam a prohlubní v podloží - úprava, očištění, ochrana a zhutnění podloží - svahování, hutnění a uzavírání povrchů svahů - zřízení lavic na svazích - udržování úložiště a jeho ochrana proti vodě - odvedení nebo obvedení vody v okolí úložiště a v úložišti - veškeré pomocné konstrukce umožňující provedení zemní konstrukce (příjezdy, sjezdy, nájezdy, lešení, podpěrné konstrukce, přemostění, zpevněné plochy, zakrytí a pod.) Položka nezahrnuje: - x Způsob měření: - zemina vytlačená potrubím o DN 180mm se od kubatury obsypů neodečítá
A36: SD | C36: 4 | E36: Vodorovné konstrukce | I36: =SUMIFS(I37:I56,A37:A56,"P") -> 0
A37: P | B37: 9 | C37: 451311 | E37: PODKL A VÝPLŇ VRSTVY Z PROST BET DO C8/10 | F37: M3 | G37: 0.2 | H37: 0 | I37: =ROUND(G37*H37,P4) -> 0 | O37: =I37*0.21 -> 0 | P37: 3
A38: PP
A39: VV | E39: 16*0,5*0,5*0,05 = 0,200 [A]
A40: TS | E40: Položka zahrnuje: - dodání čerstvého betonu (betonové směsi) požadované kvality, jeho uložení do požadovaného tvaru při jakékoliv hustotě výztuže, konzistenci čerstvého betonu a způsobu hutnění, ošetření a ochranu betonu, - zhotovení nepropustného, mrazuvzdorného betonu a betonu požadované trvanlivosti a vlastností, užití potřebných přísad a technologií výroby betonu, - zřízení pracovních a dilatačních spar, včetně potřebných úprav, výplně, vložek, opracování, očištění a ošetření, - bednění požadovaných konstr. (i ztracené) s úpravou dle požadované kvality povrchu betonu, včetně odbedňovacích a odskružovacích prostředků, nátěrů zabraňujících soudržnosti betonu a bednění, - podpěrné konstr. (skruže) a lešení všech druhů pro bednění, vč. ochranných a bezpečnostních opatření a základů těchto konstrukcí a lešení, - vytvoření kotevních čel, kapes, nálitků a sedel, zřízení všech požadovaných otvorů, výklenků, prostupů, dutin, drážek a pod., vč. ztížení práce a úprav kolem nich, - úpravy pro osazení výztuže, doplňkových konstrukcí a vybavení, - úpravy povrchu pro položení požadované izolace, povlaků a nátěrů, případně vyspravení, - ztížení práce u kabelových a injektážních trubek a ostatních zařízení osazovaných do betonu, - konstrukce betonových kloubů, upevnění kotevních prvků a doplňkových konstrukcí, - nátěry zabraňující soudržnost betonu a bednění, - výplň, těsnění a tmelení spar a spojů, - opatření povrchů betonu izolací proti zemní vlhkosti v částech, kde přijdou do styku se zeminou nebo kamenivem, - případné zřízení spojovací vrstvy u základů, - úpravy pro osazení zařízení ochrany konstrukce proti vlivu bludných proudů, Položka nezahrnuje: - x
A41: P | B41: 10 | C41: 45157 | E41: PODKLADNÍ A VÝPLŇOVÉ VRSTVY Z KAMENIVA TĚŽENÉHO | F41: M3 | G41: 5.76 | H41: 0 | I41: =ROUND(G41*H41,P4) -> 0 | O41: =I41*0.21 -> 0 | P41: 3
A42: PP | E42: Kamenivo těžené 0/4
A43: VV | E43: UV9-UV10 4*12,0*0,8*0,15 = 5,760 [A]
A44: TS | E44: Položka zahrnuje: - dodávku předepsaného kameniva - mimostaveništní a vnitrostaveništní dopravu a jeho uložení - není-li v zadávací dokumentaci uvedeno jinak, jedná se o nakupovaný materiál Položka nezahrnuje: - x
A45: P | B45: 11 | C45: 46451 | E45: POHOZ DNA A SVAHŮ Z LOMOVÉHO KAMENE | F45: M3 | G45: 4.2 | H45: 0 | I45: =ROUND(G45*H45,P4) -> 0 | O45: =I45*0.21 -> 0 | P45: 3
A46: PP
A47: VV | E47: boky výústního objektu dešťové kanalizace 4*3,5*1,5*0,2 = 4,200 [A]
A48: TS | E48: Položka zahrnuje: - dodávku předepsaného kamene - mimostaveništní a vnitrostaveništní dopravu a jeho uložení - není-li v zadávací dokumentaci uvedeno jinak, jedná se o nakupovaný materiál Položka nezahrnuje: - x
A49: P | B49: 12 | C49: 465512 | E49: DLAŽBY Z LOMOVÉHO KAMENE NA MC | F49: M3 | G49: 1.8 | H49: 0 | I49: =ROUND(G49*H49,P4) -> 0 | O49: =I49*0.21 -> 0 | P49: 3
A50: PP | E50: Dlažba z lomového kamene,lože z MC do 5 cm tloušťky 200 mm, tř. 1, včetně dodávky kamene
A51: VV | E51: dno výústního objektu dešťové kanalizace 4*1,5*1,5*0,2 = 1,800 [A]
A52: TS | E52: Položka zahrnuje: - nutné zemní práce (svahování, úpravu pláně a pod.) - zřízení spojovací vrstvy - zřízení lože dlažby z cementové malty předepsané kvality a předepsané tloušťky - dodávku a položení dlažby z lomového kamene do předepsaného tvaru - spárování, těsnění, tmelení a vyplnění spar MC případně s vyklínováním - úprava povrchu pro odvedení srážkové vody Položka nezahrnuje: - podklad pod dlažbu, vykazuje se samostatně položkami SD 45
A53: P | B53: 13 | C53: 467313 | E53: STUPNĚ A PRAHY VODNÍCH KORYT Z PROSTÉHO BETONU C16/20 | F53: M3 | G53: 3.64 | H53: 0 | I53: =ROUND(G53*H53,P4) -> 0 | O53: =I53*0.21 -> 0 | P53: 3
A54: PP | E54: Včetně zřízení kapes pro osazení kotevních háků pro upevnění kolejnic.
A55: VV | E55: výustní objekt - betonový lem 0,2*0,35*(5,0*2+1,5*2)*4 = 3,640 [A]
A56: TS | E56: Položka zahrnuje: - nutné zemní práce (hloubení rýh apod.) - dodání čerstvého betonu (betonové směsi) požadované kvality, jeho uložení do požadovaného tvaru při jakékoliv konzistenci čerstvého betonu a způsobu hutnění, ošetření a ochranu betonu, - zhotovení nepropustného, mrazuvzdorného betonu a betonu požadované trvanlivosti a vlastností, - užití potřebných přísad a technologií výroby betonu, - zřízení pracovních a dilatačních spar, včetně potřebných úprav, výplně, vložek, opracování, očištění a ošetření, - bednění požadovaných konstr. (i ztracené) s úpravou dle požadované kvality povrchu betonu, včetně odbedňovacích a odskružovacích prostředků, - podpěrné konstr. (skruže) a lešení všech druhů pro bednění, uložení čerstvého betonu, výztuže a doplňkových konstr., vč. požadovaných otvorů, ochranných a bezpečnostních opatření a základů těchto konstrukcí a lešení, - vytvoření kotevních čel, kapes, nálitků, a sedel, - zřízení všech požadovaných otvorů, kapes, výklenků, prostupů, dutin, drážek a pod., vč. ztížení práce a úprav kolem nich, - úpravy pro osazení doplňkových konstrukcí a vybavení, - úpravy povrchu pro položení požadované izolace, povlaků a nátěrů, případně vyspravení, - konstrukce betonových kloubů, upevnění kotevních prvků a doplňkových konstrukcí, - nátěry zabraňující soudržnost betonu a bednění, - výplň, těsnění a tmelení spar a spojů, - opatření povrchů betonu izolací proti zemní vlhkosti v částech, kde přijdou do styku se zeminou nebo kamenivem, - případné zřízení spojovací vrstvy u základů Položka nezahrnuje: - x
A57: SD | C57: 8 | E57: Potrubí | I57: =SUMIFS(I58:I68,A58:A68,"P") -> 0
A58: P | B58: 17 | C58: 87433 | E58: POTRUBÍ Z TRUB PLASTOVÝCH ODPADNÍCH DN DO 150MM | F58: M | G58: 40 | H58: 0 | I58: =ROUND(G58*H58,P4) -> 0 | O58: =I58*0.21 -> 0 | P58: 3
A59: PP | E59: Trubka kanalizační PP SN 10 DN 150
A60: VV | E60: UV 10, 12, 13 a 14 2*8+2*12 = 40,000 [A]
A61: TS | E61: Položka zahrnuje: - výrobní dokumentaci (včetně technologického předpisu) - dodání veškerého trubního a pomocného materiálu (trouby, trubky, tvarovky, spojovací a těsnící materiál a pod.), podpěrných, závěsných a upevňovacích prvků, včetně potřebných úprav - úprava a příprava podkladu a podpěr, očištění a ošetření podkladu a podpěr - zřízení plně funkčního potrubí, kompletní soustavy, podle příslušného technologického předpisu (bez ohledu na sklon) - zřízení potrubí i jednotlivých částí po etapách, včetně pracovních spar a spojů, pracovního zaslepení konců a pod. - úprava prostupů, průchodů šachtami a komorami, okolí podpěr a vyústění, zaústění, napojení, vyvedení a upevnění odpad. výustí - ochrana potrubí nátěrem (vč. úpravy povrchu), případně izolací, nejsou-li tyto práce předmětem jiné položky - úprava, očištění a ošetření prostoru kolem potrubí - položky platí pro práce prováděné v prostoru zapaženém i nezapaženém a i v kolektorech, chráničkách - položky zahrnují i práce spojené s nutnými obtoky, převáděním a čerpáním vody Položka nezahrnuje: - tlakové zkoušky ani proplach a dezinfekci
A62: P | B62: 14 | C62: 87434 | E62: POTRUBÍ Z TRUB PLASTOVÝCH ODPADNÍCH DN DO 200MM | F62: M | G62: 12 | H62: 0 | I62: =ROUND(G62*H62,P4) -> 0 | O62: =I62*0.21 -> 0 | P62: 3
A63: PP | E63: Trubka kanalizační PP SN 10 DN 200
A64: VV | E64: UV 9 a 11 6,0*2 = 12,000 [A]
A65: TS | E65: Položka zahrnuje: - výrobní dokumentaci (včetně technologického předpisu) - dodání veškerého trubního a pomocného materiálu (trouby, trubky, tvarovky, spojovací a těsnící materiál a pod.), podpěrných, závěsných a upevňovacích prvků, včetně potřebných úprav - úprava a příprava podkladu a podpěr, očištění a ošetření podkladu a podpěr - zřízení plně funkčního potrubí, kompletní soustavy, podle příslušného technologického předpisu (bez ohledu na sklon) - zřízení potrubí i jednotlivých částí po etapách, včetně pracovních spar a spojů, pracovního zaslepení konců a pod. - úprava prostupů, průchodů šachtami a komorami, okolí podpěr a vyústění, zaústění, napojení, vyvedení a upevnění odpad. výustí - ochrana potrubí nátěrem (vč. úpravy povrchu), případně izolací, nejsou-li tyto práce předmětem jiné položky - úprava, očištění a ošetření prostoru kolem potrubí - položky platí pro práce prováděné v prostoru zapaženém i nezapaženém a i v kolektorech, chráničkách - položky zahrnují i práce spojené s nutnými obtoky, převáděním a čerpáním vody Položka nezahrnuje: - tlakové zkoušky ani proplach a dezinfekci
A66: P | B66: 15 | C66: 89712 | E66: VPUSŤ KANALIZAČNÍ ULIČNÍ KOMPLETNÍ Z BETONOVÝCH DÍLCŮ | F66: KUS | G66: 6 | H66: 0 | I66: =ROUND(G66*H66,P4) -> 0 | O66: =I66*0.21 -> 0 | P66: 3
A67: PP
A68: TS | E68: Položka zahrnuje: - dodávku a osazení předepsaných dílů včetně mříže - výplň, těsnění a tmelení spar a spojů, - opatření povrchů betonu izolací proti zemní vlhkosti v částech, kde přijdou do styku se zeminou nebo kamenivem, - předepsané podkladní konstrukce Položka nezahrnuje: - x
A69: SD | C69: 9 | E69: Ostatní konstrukce a práce | I69: =SUMIFS(I70:I73,A70:A73,"P") -> 0
A70: P | B70: 16 | C70: 919112 | E70: ŘEZÁNÍ ASFALTOVÉHO KRYTU VOZOVEK TL DO 100MM | F70: M | G70: 48 | H70: 0 | I70: =ROUND(G70*H70,P4) -> 0 | O70: =I70*0.21 -> 0 | P70: 3
A71: PP | E71: Kolem stávajících obrub.
A72: VV | E72: 2*6,0*4 = 48,000 [A]
A73: TS | E73: Položka zahrnuje: - řezání vozovkové vrstvy v předepsané tloušťce - spotřeba vody Položka nezahrnuje: - x

Sheet SO 401
A1: EstiCon | E1: Firma: | P1: 3
E2: Soupis prací objektu
A3: S | B3: Stavba: | C3: 02102024 | E3: SYROVICE - SOBOTOVSKÁ - Obec | H3: SO 401 | I3: =SUMIFS(I8:I182,A8:A182,"SD") -> 0 | O3: 0 | P3: 2
A4: O | B4: Rozpočet: | C4: SO 401 | E4: VEŘEJNÉ OSVĚTLENÍ | O4: 0.12 | P4: 2
A5: Typ | B5: Poř. číslo | C5: Kód položky | D5: Varianta | E5: Název Položky | F5: MJ | G5: Množství | H5: Cena | J5: Cenová soustava | O5: 0.21
H6: Jednotková | I6: Celkem
A7: 0 | B7: 1 | C7: 2 | D7: 3 | E7: 4 | F7: 5 | G7: 6 | H7: 7 | I7: 8 | J7: 9
A8: SD | C8: 1 | E8: Zemní práce | I8: =SUMIFS(I9:I11,A9:A11,"P") -> 0
A9: P | B9: 1 | C9: 141721101R00 | E9: Řízené protlačení a vtažení PE d 110 mm, hor.1 - 4 | F9: m | G9: 14 | H9: 0 | I9: =ROUND(G9*H9,P4) -> 0 | O9: =I9*0.21 -> 0 | P9: 3
A10: PP
A11: TS
A12: SD | C12: HZS | E12: HODINOVÁ ZÚČTOVACÍ SAZBA | I12: =SUMIFS(I13:I24,A13:A24,"P") -> 0
A13: P | B13: 2 | C13: 1 | E13: Koordinace prací | F13: hod | G13: 15 | H13: 0 | I13: =ROUND(G13*H13,P4) -> 0 | O13: =I13*0.21 -> 0 | P13: 3
A14: PP
A15: TS
A16: P | B16: 3 | C16: 2 | E16: Montážní plošina | F16: hod | G16: 15 | H16: 0 | I16: =ROUND(G16*H16,P4) -> 0 | O16: =I16*0.21 -> 0 | P16: 3
A17: PP
A18: TS
A19: P | B19: 4 | C19: 3 | E19: Neměřitelné práce | F19: hod | G19: 10 | H19: 0 | I19: =ROUND(G19*H19,P4) -> 0 | O19: =I19*0.21 -> 0 | P19: 3
A20: PP
A21: TS
A22: P | B22: 5 | C22: 4 | E22: Zaregulování a nastavení svítidel - sklon, směřování, požadovaný světlený tok | F22: hod | G22: 8 | H22: 0 | I22: =ROUND(G22*H22,P4) -> 0 | O22: =I22*0.21 -> 0 | P22: 3
A23: PP
A24: TS
A25: SD | C25: M11 | E25: Materiály | I25: =SUMIFS(I26:I79,A26:A79,"P") -> 0
A26: P | B26: 7 | C26: 1000535 | E26: Napojení na stávající svítidlo - materiál | F26: kpl | G26: 1 | H26: 0 | I26: =ROUND(G26*H26,P4) -> 0 | O26: =I26*0.21 -> 0 | P26: 3
A27: PP
A28: TS
A29: P | B29: 6 | C29: 1008379 | E29: Led svítidlo pouličním led svítidlem 18W teplotu chromatičnosti 2700K | F29: ks | G29: 14 | H29: 0 | I29: =ROUND(G29*H29,P4) -> 0 | O29: =I29*0.21 -> 0 | P29: 3
A30: PP
A31: TS
A32: P | B32: 8 | C32: 14312722R | E32: Trubka podélně svařovaná hladká S235 43x2,0 mm | F32: m | G32: 6 | H32: 0 | I32: =ROUND(G32*H32,P4) -> 0 | O32: =I32*0.21 -> 0 | P32: 3
A33: PP
A34: VV | E34: 3,0*2 = 6,000 [A]
A35: TS
A36: P | B36: 9 | C36: 15615235R | E36: Drát tažený pozinkovaný 11343 D 10,00 mm | F36: kg | G36: 130.2 | H36: 0 | I36: =ROUND(G36*H36,P4) -> 0 | O36: =I36*0.21 -> 0 | P36: 3
A37: PP
A38: VV | E38: 200,0*0,62*1,05 = 130,200 [A]
A39: TS
A40: P | B40: 10 | C40: 15615299R | E40: Drát tažený pozinkovaný 11343 D 10,00 mm PVC izolace | F40: kg | G40: 10.217 | H40: 0 | I40: =ROUND(G40*H40,P4) -> 0 | O40: =I40*0.21 -> 0 | P40: 3
A41: PP
A42: VV | E42: 14*1,0*0,695*1,05 = 10,217 [A]
A43: TS
A44: P | B44: 11 | C44: 31672999.AR | E44: Stožár KL 5-133/60 ŽZ | F44: kus | G44: 14 | H44: 0 | I44: =ROUND(G44*H44,P4) -> 0 | O44: =I44*0.21 -> 0 | P44: 3
A45: PP
A46: TS
A47: P | B47: 12 | C47: 31677999R | E47: Výložník SK 3- 300 žárový zinek | F47: kus | G47: 14 | H47: 0 | I47: =ROUND(G47*H47,P4) -> 0 | O47: =I47*0.21 -> 0 | P47: 3
A48: PP
A49: TS
A50: P | B50: 13 | C50: 31678615.AR | E50: Svorkovnice stožárová | F50: kus | G50: 14 | H50: 0 | I50: =ROUND(G50*H50,P4) -> 0 | O50: =I50*0.21 -> 0 | P50: 3
A51: PP
A52: TS
A53: P | B53: 14 | C53: 34111030R | E53: Kabel silový s Cu jádrem 750 V CYKY 3 x 1,5 mm2 | F53: m | G53: 88.2 | H53: 0 | I53: =ROUND(G53*H53,P4) -> 0 | O53: =I53*0.21 -> 0 | P53: 3
A54: PP
A55: TS
A56: P | B56: 15 | C56: 34111080R | E56: Kabel silový s Cu jádrem 750 V CYKY 4 x16 mm2 | F56: m | G56: 238.35 | H56: 0 | I56: =ROUND(G56*H56,P4) -> 0 | O56: =I56*0.21 -> 0 | P56: 3
A57: PP
A58: TS
A59: P | B59: 16 | C59: 3457114702R | E59: Trubka kabelová chránička KOPOFLEX KF 09063 | F59: m | G59: 238.35 | H59: 0 | I59: =ROUND(G59*H59,P4) -> 0 | O59: =I59*0.21 -> 0 | P59: 3
A60: PP
A61: TS
A62: P | B62: 17 | C62: 3457114705R | E62: Trubka kabelová chránička KOPOFLEX KF 09110 | F62: m | G62: 64.575 | H62: 0 | I62: =ROUND(G62*H62,P4) -> 0 | O62: =I62*0.21 -> 0 | P62: 3
A63: PP
A64: TS
A65: P | B65: 18 | C65: 35441996R | E65: Svorka SR 3a | F65: kus | G65: 14 | H65: 0 | I65: =ROUND(G65*H65,P4) -> 0 | O65: =I65*0.21 -> 0 | P65: 3
A66: PP
A67: TS
A68: P | B68: 19 | C68: 35444105R | E68: Svorka připojovací N SP N | F68: kus | G68: 14 | H68: 0 | I68: =ROUND(G68*H68,P4) -> 0 | O68: =I68*0.21 -> 0 | P68: 3
A69: PP
A70: TS
A71: P | B71: 20 | C71: 35711717R | E71: Skříň přípojková plastová SP 100 na sloup NSP1P | F71: kus | G71: 2 | H71: 0 | I71: =ROUND(G71*H71,P4) -> 0 | O71: =I71*0.21 -> 0 | P71: 3
A72: PP
A73: TS
A74: P | B74: 21 | C74: R11001 | E74: Recyklační poplatky svítidla | F74: ks | G74: 14 | H74: 0 | I74: =ROUND(G74*H74,P4) -> 0 | O74: =I74*0.21 -> 0 | P74: 3
A75: PP
A76: TS
A77: P | B77: 22 | C77: R11002 | E77: Podružný materiál | F77: soubor | G77: 1 | H77: 0 | I77: =ROUND(G77*H77,P4) -> 0 | O77: =I77*0.21 -> 0 | P77: 3
A78: PP
A79: TS
A80: SD | C80: M21 | E80: Elektromontáže | I80: =SUMIFS(I81:I136,A81:A136,"P") -> 0
A81: P | B81: 39 | C81: 210003 | E81: Napojení na stávající svítidlo | F81: kpl | G81: 1 | H81: 0 | I81: =ROUND(G81*H81,P4) -> 0 | O81: =I81*0.21 -> 0 | P81: 3
A82: PP
A83: TS
A84: P | B84: 24 | C84: 210010065R00 | E84: Trubka ocelová závitová uložená pevně, 36 mm | F84: m | G84: 6 | H84: 0 | I84: =ROUND(G84*H84,P4) -> 0 | O84: =I84*0.21 -> 0 | P84: 3
A85: PP
A86: VV | E86: 3,0*2 = 6,000 [A]
A87: TS
A88: P | B88: 25 | C88: 210010124R00 | E88: Trubka ochranná z PE, uložená volně, DN do 80 mm | F88: m | G88: 227 | H88: 0 | I88: =ROUND(G88*H88,P4) -> 0 | O88: =I88*0.21 -> 0 | P88: 3
A89: PP
A90: VV | E90: 200,0+13*2*1,0+1,0 = 227,000 [A]
A91: TS
A92: P | B92: 26 | C92: 210010125R00 | E92: Trubka ochranná z PE, uložená volně, DN do 100 mm | F92: m | G92: 61.5 | H92: 0 | I92: =ROUND(G92*H92,P4) -> 0 | O92: =I92*0.21 -> 0 | P92: 3
A93: PP
A94: VV | E94: 14,0+24,0+7,0*2+9,5 = 61,500 [A]
A95: TS
A96: P | B96: 27 | C96: 210100252R00 | E96: Ukončení celoplast. kabelů zákl./pás.do 4x25 mm2 | F96: kus | G96: 27 | H96: 0 | I96: =ROUND(G96*H96,P4) -> 0 | O96: =I96*0.21 -> 0 | P96: 3
A97: PP
A98: VV | E98: 13*2+1 = 27,000 [A]
A99: TS
A100: P | B100: 28 | C100: 210100258R00 | E100: Ukončení celoplast. kabelů zákl./pás.do 5x4 mm2 | F100: kus | G100: 14 | H100: 0 | I100: =ROUND(G100*H100,P4) -> 0 | O100: =I100*0.21 -> 0 | P100: 3
...

Sheet SO 901
A1: EstiCon | E1: Firma: | P1: 3
E2: Soupis prací objektu
A3: S | B3: Stavba: | C3: 02102024 | E3: SYROVICE - SOBOTOVSKÁ - Obec | H3: SO 901 | I3: =SUMIFS(I8:I52,A8:A52,"SD") -> 0 | O3: 0 | P3: 2
A4: O | B4: Rozpočet: | C4: SO 901 | E4: OPĚRNÉ ZDI | O4: 0.12 | P4: 2
A5: Typ | B5: Poř. číslo | C5: Kód položky | D5: Varianta | E5: Název Položky | F5: MJ | G5: Množství | H5: Cena | J5: Cenová soustava | O5: 0.21
H6: Jednotková | I6: Celkem
A7: 0 | B7: 1 | C7: 2 | D7: 3 | E7: 4 | F7: 5 | G7: 6 | H7: 7 | I7: 8 | J7: 9
A8: SD | C8: 0 | E8: Všeobecné konstrukce a práce | I8: =SUMIFS(I9:I12,A9:A12,"P") -> 0
A9: P | B9: 32 | C9: 014102 | E9: POPLATKY ZA SKLÁDKU | F9: T | G9: 40.2 | H9: 0 | I9: =ROUND(G9*H9,P4) -> 0 | O9: =I9*0.21 -> 0 | P9: 3
A10: PP
A11: VV | E11: (14,3+14,5-8,7)*2,0 = 40,200 [A]
A12: TS | E12: Položka zahrnuje: - veškeré poplatky provozovateli skládky související s uložením odpadu na skládce. Položka nezahrnuje: - x
A13: SD | C13: 1 | E13: Zemní práce | I13: =SUMIFS(I14:I29,A14:A29,"P") -> 0
A14: P | B14: 1 | C14: 122734 | D14: A | E14: ODKOPÁVKY A PROKOPÁVKY OBECNÉ TŘ. I, ODVOZ DO 5KM | F14: M3 | G14: 14.3 | H14: 0 | I14: =ROUND(G14*H14,P4) -> 0 | O14: =I14*0.21 -> 0 | P14: 3
A15: PP | E15: Včetně odvozu a likvidace v režii zhotovitele, odvozná vzdálenost v režii zhotovitele.
A16: VV | E16: OP1 0,7*9,0 = 6,300 [A]_x000D_ OP2 0,4*20,0 = 8,000 [B]_x000D_ Celkové množství = 14,300
A17: TS | E17: Položka zahrnuje: - vodorovnou a svislou dopravu, přemístění, přeložení, manipulace s výkopkem - kompletní provedení vykopávky nezapažené i zapažené - ošetření výkopiště po celou dobu práce v něm vč. klimatických opatření - ztížení vykopávek v blízkosti podzemního vedení, konstrukcí a objektů vč. jejich dočasného zajištění - ztížení pod vodou, v okolí výbušnin, ve stísněných prostorech a pod. - příplatek za lepivost - těžení po vrstvách, pásech a po jiných nutných částech (figurách) - čerpání vody vč. čerpacích jímek, potrubí a pohotovostní čerpací soupravy (viz ustanovení k pol. 1151,2) - potřebné snížení hladiny podzemní vody - těžení a rozpojování jednotlivých balvanů - vytahování a nošení výkopku - svahování a přesvah. svahů do konečného tvaru, výměna hornin v podloží a v pláni znehodnocené klimatickými vlivy - ruční vykopávky, odstranění kořenů a napadávek - pažení, vzepření a rozepření vč. přepažování (vyjma pažení záporového a štětových stěn) - úpravu, ochranu a očištění dna, základové spáry, stěn a svahů - zhutnění podloží, případně i svahů vč. svahování - zřízení stupňů v podloží a lavic na svazích, není-li pro tyto práce zřízena samostatná položka - udržování výkopiště a jeho ochrana proti vodě - odvedení nebo obvedení vody v okolí výkopiště a ve výkopišti - třídění výkopku - veškeré pomocné konstrukce umožňující provedení vykopávky (příjezdy, sjezdy, nájezdy, lešení, podpěr. konstr., přemostění, zpevněné plochy, zakrytí a pod.)
A18: P | B18: 2 | C18: 132734 | E18: HLOUBENÍ RÝH ŠÍŘ DO 2M PAŽ I NEPAŽ TŘ. I, ODVOZ DO 5KM | F18: M3 | G18: 14.5 | H18: 0 | I18: =ROUND(G18*H18,P4) -> 0 | O18: =I18*0.21 -> 0 | P18: 3
A19: PP | E19: Včetně odvozu a likvidace v režii zhotovitele, odvozná vzdálenost v režii zhotovitele.
A20: VV | E20: OP1 1,0*0,5*9,0 = 4,500 [A]_x000D_ OP2 1,0*0,5*20,0 = 10,000 [B]_x000D_ Celkové množství = 14,500
A21: TS | E21: Položka zahrnuje: - vodorovnou a svislou dopravu, přemístění, přeložení, manipulace s výkopkem - kompletní provedení vykopávky nezapažené i zapažené - ošetření výkopiště po celou dobu práce v něm vč. klimatických opatření - ztížení vykopávek v blízkosti podzemního vedení, konstrukcí a objektů vč. jejich dočasného zajištění - ztížení pod vodou, v okolí výbušnin, ve stísněných prostorech a pod. - příplatek za lepivost - těžení po vrstvách, pásech a po jiných nutných částech (figurách) - čerpání vody vč. čerpacích jímek, potrubí a pohotovostní čerpací soupravy (viz ustanovení k pol. 1151,2) - potřebné snížení hladiny podzemní vody - těžení a rozpojování jednotlivých balvanů - vytahování a nošení výkopku - svahování a přesvah. svahů do konečného tvaru, výměna hornin v podloží a v pláni znehodnocené klimatickými vlivy - ruční vykopávky, odstranění kořenů a napadávek - pažení, vzepření a rozepření vč. přepažování (vyjma pažení záporového a štětových stěn) - úpravu, ochranu a očištění dna, základové spáry, stěn a svahů - odvedení nebo obvedení vody v okolí výkopiště a ve výkopišti - třídění výkopku - veškeré pomocné konstrukce umožňující provedení vykopávky (příjezdy, sjezdy, nájezdy, lešení, podpěr. konstr., přemostění, zpevněné plochy, zakrytí a pod.)
A22: P | B22: 3 | C22: 17120 | E22: ULOŽENÍ SYPANINY DO NÁSYPŮ A NA SKLÁDKY BEZ ZHUTNĚNÍ | F22: M3 | G22: 28.8 | H22: 0 | I22: =ROUND(G22*H22,P4) -> 0 | O22: =I22*0.21 -> 0 | P22: 3
A23: PP
A24: VV | E24: 28,8 = 28,800 [A]
A25: TS | E25: Položka zahrnuje: - kompletní provedení zemní konstrukce do předepsaného tvaru - ošetření úložiště po celou dobu práce v něm vč. klimatických opatření - ztížení v okolí vedení, konstrukcí a objektů a jejich dočasné zajištění - ztížení provádění ve ztížených podmínkách a stísněných prostorech - ztížené ukládání sypaniny pod vodu - ukládání po vrstvách a po jiných nutných částech (figurách) vč. dosypávek - spouštění a nošení materiálu - úprava, očištění a ochrana podloží a svahů - svahování, uzavírání povrchů svahů - udržování úložiště a jeho ochrana proti vodě - odvedení nebo obvedení vody v okolí úložiště a v úložišti - veškeré pomocné konstrukce umožňující provedení zemní konstrukce (příjezdy, sjezdy, nájezdy, lešení, podpěrné konstrukce, přemostění, zpevněné plochy, zakrytí a pod.) Položka nezahrnuje: - x
A26: P | B26: 23 | C26: 17411 | E26: ZÁSYP JAM A RÝH ZEMINOU SE ZHUTNĚNÍM | F26: M3 | G26: 8.7 | H26: 0 | I26: =ROUND(G26*H26,P4) -> 0 | O26: =I26*0.21 -> 0 | P26: 3
A27: PP
A28: VV | E28: OP1 9,0*0,3 = 2,700 [A]_x000D_ OP2 20,0*0,3 = 6,000 [B]_x000D_ Celkové množství = 8,700
A29: TS | E29: Položka zahrnuje: - kompletní provedení zemní konstrukce vč. výběru vhodného materiálu - úprava ukládaného materiálu vlhčením, tříděním, promícháním nebo vysoušením, příp. jiné úpravy za účelem zlepšení jeho mech. vlastností - hutnění i různé míry hutnění - ošetření úložiště po celou dobu práce v něm vč. klimatických opatření - ztížení v okolí vedení, konstrukcí a objektů a jejich dočasné zajištění - ztížení provádění vč. hutnění ve ztížených podmínkách a stísněných prostorech - ztížené ukládání sypaniny pod vodu - ukládání po vrstvách a po jiných nutných částech (figurách) vč. dosypávek - spouštění a nošení materiálu - výměna částí zemní konstrukce znehodnocené klimatickými vlivy - ruční hutnění - udržování úložiště a jeho ochrana proti vodě - odvedení nebo obvedení vody v okolí úložiště a v úložišti - veškeré pomocné konstrukce umožňující provedení zemní konstrukce (příjezdy, sjezdy, nájezdy, lešení, podpěrné konstrukce, přemostění, zpevněné plochy, zakrytí a pod.) Položka nezahrnuje: - x
A30: SD | C30: 2 | E30: Základy | I30: =SUMIFS(I31:I42,A31:A42,"P") -> 0
A31: P | B31: 25 | C31: 21262 | E31: TRATIVODY KOMPLET Z TRUB Z PLAST HMOT DN DO 100MM | F31: M | G31: 40 | H31: 0 | I31: =ROUND(G31*H31,P4) -> 0 | O31: =I31*0.21 -> 0 | P31: 3
A32: PP
A33: VV | E33: OP1 15 = 15,000 [A]_x000D_ OP2 25 = 25,000 [B]_x000D_ Celkové množství = 40,000
A34: TS | E34: Položka zahrnuje: - platí pro kompletní konstrukce trativodů: - výkop rýhy předepsaného tvaru v dané třídě těžitelnosti, výplň, zásyp trativodu včetně dopravy, uložení přebytečného materiálu, dodávky předepsaného materiálu pro výplň a zásyp - zřízení spojovací vrstvy - zřízení podkladu a lože trativodu z předepsaného materiálu - dodávka a uložení trativodu předepsaného materiálu a profilu - obsyp trativodu předepsaným materiálem - ukončení trativodu zaústěním do potrubí nebo vodoteče, případně vybudování ukončujícího objektu (kapličky) dle VL - veškerý materiál, výrobky a polotovary, včetně mimostaveništní a vnitrostaveništní dopravy Položka nezahrnuje: - opláštění z geotextilie, fólie
A35: P | B35: 29 | C35: 21461C | E35: SEPARAČNÍ GEOTEXTILIE DO 300G/M2 | F35: M2 | G35: 64.5 | H35: 0 | I35: =ROUND(G35*H35,P4) -> 0 | O35: =I35*0.21 -> 0 | P35: 3
A36: PP
A37: VV | E37: OP1 2,5*9,0 = 22,500 [A]_x000D_ OP2 2,1*20,0 = 42,000 [B]_x000D_ Celkové množství = 64,500
A38: TS | E38: Položka zahrnuje: - dodávku předepsané geotextilie - úpravu, očištění a ochranu podkladu - přichycení k podkladu, případně zatížení - úpravy spojů a zajištění okrajů - úpravy pro odvodnění - nutné přesahy (nezapočítávají se do výměry) - mimostaveništní a vnitrostaveništní dopravu Položka nezahrnuje: - x
A39: P | B39: 30 | C39: 27152 | E39: POLŠTÁŘE POD ZÁKLADY Z KAMENIVA DRCENÉHO | F39: M3 | G39: 14.5 | H39: 0 | I39: =ROUND(G39*H39,P4) -> 0 | O39: =I39*0.21 -> 0 | P39: 3
A40: PP | E40: Polštář základu z kameniva hr. drceného 0-63 mm
A41: VV | E41: OP1 1,0*0,5*9,0 = 4,500 [A]_x000D_ OP2 1,0*0,5*20,0 = 10,000 [B]_x000D_ Celkové množství = 14,500
A42: TS | E42: Položka zahrnuje: - dodávku a uložení předepsaného kameniva - mimostaveništní a vnitrostaveništní dopravu - není-li v zadávací dokumentaci uvedeno jinak, jedná se o nakupovaný materiál Položka nezahrnuje: - x
A43: SD | C43: 3 | E43: Svislé konstrukce | I43: =SUMIFS(I44:I47,A44:A47,"P") -> 0
A44: P | B44: 6 | C44: 32711 | E44: ZDI OPĚR, ZÁRUB, NÁBŘEŽ Z DÍLCŮ BETON | F44: M3 | G44: 20.625 | H44: 0 | I44: =ROUND(G44*H44,P4) -> 0 | O44: =I44*0.21 -> 0 | P44: 3
A45: PP | E45: Tvárnice svahová 600 x 400 x 250 mm přírodní - 51,5625 m2
A46: VV | E46: OP1 1,25*9,25*0,4 = 4,625 [A]_x000D_ OP2 2,0*20,0*0,4 = 16,000 [B]_x000D_ Celkové množství = 20,625
A47: TS | E47: Položka zahrnuje: - dodání dílce požadovaného tvaru a vlastností, jeho skladování, doprava a osazení do definitivní polohy, včetně komplexní technologie výroby a montáže dílců, ošetření a ochrana dílců, - u dílců betonových tuhé kovové prvky a závěsná oka, - úpravy a zařízení pro uložení a transport dílce, - veškeré požadované úpravy dílců, včetně doplňkových konstrukcí a vybavení, - sestavení dílce na stavbě včetně montážních zařízení, plošin a prahů a pod., - výplň, těsnění a tmelení spár a spojů, - očištění a ošetření úložných ploch, - zednické výpomoce pro montáž dílců, - označení dílce výrobním štítkem nebo jiným způsobem, - úpravy dílce pro dodržení požadované přesnosti jeho osazení, včetně případných měření, - veškerá zařízení pro zajištění stability v každém okamžiku, - další práce dané případně specifikací k příslušnému prefabrik. dílci (úprava pohledových ploch, příp. rubových ploch, osazení měřících zařízení, zkoušení a měření dílců a pod.). Položka nezahrnuje: - x
A48: SD | C48: 4 | E48: Vodorovné konstrukce | I48: =SUMIFS(I49:I52,A49:A52,"P") -> 0
A49: P | B49: 31 | C49: 45852 | E49: VÝPLŇ ZA OPĚRAMI A ZDMI Z KAMENIVA DRCENÉHO | F49: M3 | G49: 21.6 | H49: 0 | I49: =ROUND(G49*H49,P4) -> 0 | O49: =I49*0.21 -> 0 | P49: 3
A50: PP
A51: VV | E51: OP1 80*0,6*0,4*0,25 = 4,800 [A]_x000D_ OP2 280*0,6*0,4*0,25 = 16,800 [B]_x000D_ Celkové množství = 21,600
A52: TS | E52: Položka zahrnuje: - dodávku předepsaného kameniva - mimostaveništní a vnitrostaveništní dopravu a jeho uložení - není-li v zadávací dokumentaci uvedeno jinak, jedná se o nakupovaný materiál Položka nezahrnuje: - x
