Workbook

Sheet Rekapitulace stavby
A1: Export Komplet | BA1: 2.0 | BT1: False | BU1: False | BV1: {e1eb5722-025e-46c9-a1b8-27337033c236}
AR2: >> skryté sloupce << | BS2: 0,01 | BT2: 21
BS3: 0,01 | BT3: 12
D4: REKAPITULACE STAVBY | AS4: v --- níže se nacházejí doplnkové a pomocné údaje k sestavám --- v | BE4: Návod na vyplnění | BS4: 0,001
D5: Kód: | K5: 313 | BE5: Měnit lze pouze buňky se žlutým podbarvením!_x000D_ _x000D_ 1) na prvním listu Rekapitulace stavby vyplňte v sestavě_x000D_ _x000D_ a) Souhrnný list_x000D_ - údaje o Uchazeči_x000D_ (přenesou se do ostatních sestav i v jiných listech)_x000D_ _x000D_ b) Rekapitulace objektů_x000D_ - potřebné Ostatní náklady_x000D_ _x000D_ 2) na vybraných listech vyplňte v sestavě_x000D_ _x000D_ a) Krycí list_x000D_ - údaje o Uchazeči, pokud se liší od údajů o Uchazeči na Souhrnném listu_x000D_ (údaje se přenesou do ostatních sestav v daném listu)_x000D_ _x000D_ b) Rekapitulace rozpočtu_x000D_ - potřebné Ostatní náklady_x000D_ _x000D_ c) Celkové náklady za stavbu_x000D_ - ceny u položek_x000D_ - množství, pokud má žluté podbarvení_x000D_ - a v případě potřeby poznámku (ta je ve skrytém sloupci) | BS5: 0,01
D6: Stavba: | K6: Vyztužení stropní konstrukce ČOV Špindlerův Mlýn | BS6: 0,01
D7: KSO: | AK7: CC-CZ: | BS7: 0,01
D8: Místo: | AK8: Datum: | AN8: 28. 5. 2026 | BS8: 0,01
BS9: 0,01
D10: Zadavatel: | AK10: IČ: | BS10: 0,01
AK11: DIČ: | BS11: 0,01
BS12: 0,01
D13: Uchazeč: | AK13: IČ: | AN13: Vyplň údaj | BS13: 0,01
E14: Vyplň údaj | AK14: DIČ: | AN14: Vyplň údaj | BS14: 0,01
BS15: False
D16: Projektant: | AK16: IČ: | BS16: False
AK17: DIČ: | BS17: True
BS18: 0,01
D19: Zpracovatel: | AK19: IČ: | BS19: 0,01
AK20: DIČ: | BS20: True
D22: Poznámka:
E23: Poznámka ke stavebnímu rozpočtu:_x000D_ _x000D_ Souhrnné ocenění díla v tomto stavebním rozpočtu je provedeno na základě dostupné projektové dokumentace. Je zodpovědností dodavatele, aby se před odevzdáním nabídkové ceny důkladně seznámil s veškerými podklady a případné nejasnosti nebo nesrovnalosti bezodkladně konzultoval s objednatelem či projektantem._x000D_ _x000D_ Veškeré práce a materiály potřebné pro kompletní a dokonalé provedení díla musí být započteny v ceně jednotlivých položek rozpočtu, a to i v případě, že nejsou explicitně vypsány ve výkazu výměr. Dodavatel má za povinnost se obeznámit s aktuálním stavem stavby, okolí a specifiky realizace a příslušně tyto informace zahrnout do kalkulace ceny._x000D_ _x000D_ Všechny výrobky a zařízení uvedené v dokumentaci jsou považovány za referenční a slouží pro určení standardů. Tyto mohou být na základě odsouhlasení s investorem a projektantem nahrazeny za technicky a kvalitativně ekvivalentní produkty._x000D_ _x000D_ Výkaz výměr a specifikace materiálů jsou orientační a v teoretické výměře. Skutečné množství a spotřeba materiálu, včetně prořezu a ztrát, budou reflektovány v jednotkových cenách dodavatelem. Výkaz tedy nenahrazuje projektovou dokumentaci a neslouží pro objednání prvků a zařízení. Počty a rozměry je vždy nutné ověřit na stavbě._x000D_ _x000D_ Veškeré ceny musí odpovídat rozsahu práce a materiálů, jak jsou uvedeny v projektové dokumentaci, přičemž případné odchylky od této dokumentace jsou zaznamenány v rozpočtu a komunikovány s objednatelem._x000D_ _x000D_ Za účelem dosažení co nejpřesnějšího ocenění je použita Cenová soustava ÚRS. Všechny položky a technické podmínky neobsažené v tomto rozpočtu, ale uvedené v ÚRS, jsou dostupné na webových stránkách www.cs-urs.cz._x000D_ _x000D_ Je důležité, aby konečný výběr a specifikace viditelných prvků a zařízení byl schválen investorem a architektem před jejich objednáním, a v případě potřeby budou poskytnuty vzorky._x000D_ _x000D_ Dodavatel potvrzuje, že jeho nabídková cena zahrnuje všechny nutné práce, materiály a služby pro kompletní a funkční dodání díla v souladu s legislativními požadavky a očekáváním investora, a že se smluvní cena nebude po odevzdání nabídky zvyšovat na základě dodatečných požadavků nebo nesrovnalostí, které byly či měly být zhotovitelem identifikovány při přípravě nabídky._x000D_
D26: Cena bez DPH | AK26: =ROUND(AG94,2) -> 0
L28: Sazba daně | W28: Základ daně | AK28: Výše daně
D29: DPH | F29: základní | L29: 0.21 | W29: =ROUND(AZ94, 2) -> 0 | AK29: =ROUND(AV94, 2) -> 0
F30: snížená | L30: 0.12 | W30: =ROUND(BA94, 2) -> 0 | AK30: =ROUND(AW94, 2) -> 0
F31: zákl. přenesená | L31: 0.21 | W31: =ROUND(BB94, 2) -> 0 | AK31: 0
F32: sníž. přenesená | L32: 0.12 | W32: =ROUND(BC94, 2) -> 0 | AK32: 0
F33: nulová | L33: 0 | W33: =ROUND(BD94, 2) -> 0 | AK33: 0
D35: Cena s DPH | T35: v | X35: CZK | AK35: =SUM(AK26:AK33) -> 0
D49: Projektant | AH49: Zpracovatel
D60: Datum a podpis: | V60: Razítko | AH60: Datum a podpis: | AM60: Razítko
D64: Objednavatel | AH64: Uchazeč
D75: Datum a podpis: | V75: Razítko | AH75: Datum a podpis: | AM75: Razítko
C82: REKAPITULACE OBJEKTŮ STAVBY A SOUPISŮ PRACÍ
C84: Kód: | L84: =K5 -> 313
C85: Stavba: | L85: =K6 -> Vyztužení stropní konstrukce ČOV Špindlerův Mlýn
C87: Místo: | L87: =IF(K8="","",K8) | AI87: Datum: | AM87: =IF(AN8= "","",AN8) -> 28. 5. 2026
C89: Zadavatel: | L89: =IF(E11= "","",E11) | AI89: Projektant: | AM89: =IF(E17="","",E17) | AS89: Informatívní údaje z listů zakázek
C90: Uchazeč: | L90: =IF(E14= "Vyplň údaj","",E14) | AI90: Zpracovatel: | AM90: =IF(E20="","",E20)
C92: Kód | I92: Popis | AG92: Cena bez DPH [CZK] | AN92: Cena s DPH [CZK] | AQ92: Typ | AS92: z toho Ostat._x000D_ náklady [CZK] | AT92: DPH [CZK] | AU92: Normohodiny [h] | AV92: DPH základní [CZK] | AW92: DPH snížená [CZK] | AX92: DPH základní přenesená_x000D_ [CZK] | AY92: DPH snížená přenesená_x000D_ [CZK] | AZ92: Základna_x000D_ DPH základní | BA92: Základna_x000D_ DPH snížená | BB92: Základna_x000D_ DPH zákl. přenesená | BC92: Základna_x000D_ DPH sníž. přenesená | BD92: Základna_x000D_ DPH nulová
C94: Náklady z rozpočtů | AG94: =ROUND(AG95,2) -> 0 | AN94: =SUM(AG94,AT94) -> 0 | AS94: =ROUND(AS95,2) -> 0 | AT94: =ROUND(SUM(AV94:AW94),2) -> 0 | AU94: =ROUND(AU95,5) -> 0 | AV94: =ROUND(AZ94*L29,2) -> 0 | AW94: =ROUND(BA94*L30,2) -> 0 | AX94: =ROUND(BB94*L29,2) -> 0 | AY94: =ROUND(BC94*L30,2) -> 0 | AZ94: =ROUND(AZ95,2) -> 0 | BA94: =ROUND(BA95,2) -> 0 | BB94: =ROUND(BB95,2) -> 0 | BC94: =ROUND(BC95,2) -> 0 | BD94: =ROUND(BD95,2) -> 0 | BS94: D | BT94: 0 | BV94: IMPORT | BW94: {e1eb5722-025e-46c9-a1b8-27337033c236} | BX94: {00000000-0000-0000-0000-000000000000}
A95: / | D95: 313 | J95: Vyztužení stropní konstrukce ČOV Špindlerův Mlýn | AG95: ='313 - Vyztužení stropní k...'!J28 -> 0 | AN95: =SUM(AG95,AT95) -> 0 | AQ95: STA | AS95: 0 | AT95: =ROUND(SUM(AV95:AW95),2) -> 0 | AU95: ='313 - Vyztužení stropní k...'!P121 -> 0 | AV95: ='313 - Vyztužení stropní k...'!J31 -> 0 | AW95: ='313 - Vyztužení stropní k...'!J32 -> 0 | AX95: ='313 - Vyztužení stropní k...'!J33 -> 0 | AY95: ='313 - Vyztužení stropní k...'!J34 -> 0 | AZ95: ='313 - Vyztužení stropní k...'!F31 -> 0 | BA95: ='313 - Vyztužení stropní k...'!F32 -> 0 | BB95: ='313 - Vyztužení stropní k...'!F33 -> 0 | BC95: ='313 - Vyztužení stropní k...'!F34 -> 0 | BD95: ='313 - Vyztužení stropní k...'!F35 -> 0 | BT95: 1 | BU95: ###NOINSERT### | BV95: IMPORT | BW95: {e1eb5722-025e-46c9-a1b8-27337033c236} | BX95: {00000000-0000-0000-0000-000000000000}

Sheet 313 - Vyztužení stropní k...
L2: >> skryté sloupce << | AT2: {e1eb5722-025e-46c9-a1b8-27337033c236}
AT3: 2
D4: KRYCÍ LIST SOUPISU PRACÍ | M4: v --- níže se nacházejí doplnkové a pomocné údaje k sestavám --- v | AT4: False
D6: Stavba:
E7: Vyztužení stropní konstrukce ČOV Špindlerův Mlýn
D9: KSO: | I9: CC-CZ:
D10: Místo: | I10: Datum: | J10: ='Rekapitulace stavby'!AN8 -> 28. 5. 2026
D12: Zadavatel: | I12: IČ: | J12: =IF('Rekapitulace stavby'!AN10="","",'Rekapitulace stavby'!AN10)
E13: =IF('Rekapitulace stavby'!E11="","",'Rekapitulace stavby'!E11) | I13: DIČ: | J13: =IF('Rekapitulace stavby'!AN11="","",'Rekapitulace stavby'!AN11)
D15: Uchazeč: | I15: IČ: | J15: ='Rekapitulace stavby'!AN13 -> Vyplň údaj
E16: ='Rekapitulace stavby'!E14 -> Vyplň údaj | I16: DIČ: | J16: ='Rekapitulace stavby'!AN14 -> Vyplň údaj
D18: Projektant: | I18: IČ: | J18: =IF('Rekapitulace stavby'!AN16="","",'Rekapitulace stavby'!AN16)
E19: =IF('Rekapitulace stavby'!E17="","",'Rekapitulace stavby'!E17) | I19: DIČ: | J19: =IF('Rekapitulace stavby'!AN17="","",'Rekapitulace stavby'!AN17)
D21: Zpracovatel: | I21: IČ: | J21: =IF('Rekapitulace stavby'!AN19="","",'Rekapitulace stavby'!AN19)
E22: =IF('Rekapitulace stavby'!E20="","",'Rekapitulace stavby'!E20) | I22: DIČ: | J22: =IF('Rekapitulace stavby'!AN20="","",'Rekapitulace stavby'!AN20)
D24: Poznámka:
E25: Poznámka ke stavebnímu rozpočtu: Souhrnné ocenění díla v tomto stavebním rozpočtu je provedeno na základě dostupné projektové dokumentace. Je zodpovědností dodavatele, aby se před odevzdáním nabídkové ceny důkladně seznámil s veškerými podklady a případné nejasnosti nebo nesrovnalosti bezodkladně konzultoval s objednatelem či projektantem. Veškeré práce a materiály potřebné pro kompletní a dokonalé provedení díla musí být započteny v ceně jednotlivých položek rozpočtu, a to i v případě, že nejsou explicitně vypsány ve výkazu výměr. Dodavatel má za povinnost se obeznámit s aktuálním stavem stavby, okolí a specifiky realizace a příslušně tyto informace zahrnout do kalkulace ceny. Všechny výrobky a zařízení uvedené v dokumentaci jsou považovány za referenční a slouží pro určení standardů. Tyto mohou být na základě odsouhlasení s investorem a projektantem nahrazeny za technicky a kvalitativně ekvivalentní produkty. Výkaz výměr a specifikace materiálů jsou orientační a v teoretické výměře. Skutečné množství a spotřeba materiálu, včetně prořezu a ztrát, budou reflektovány v jednotkových cenách dodavatelem. Výkaz tedy nenahrazuje projektovou dokumentaci a neslouží pro objednání prvků a zařízení. Počty a rozměry je vždy nutné ověřit na stavbě. Veškeré ceny musí odpovídat rozsahu práce a materiálů, jak jsou uvedeny v projektové dokumentaci, přičemž případné odchylky od této dokumentace jsou zaznamenány v rozpočtu a komunikovány s objednatelem. Za účelem dosažení co nejpřesnějšího ocenění je použita Cenová soustava ÚRS. Všechny položky a technické podmínky neobsažené v tomto rozpočtu, ale uvedené v ÚRS, jsou dostupné na webových stránkách www.cs-urs.cz. Je důležité, aby konečný výběr a specifikace viditelných prvků a zařízení byl schválen investorem a architektem před jejich objednáním, a v případě potřeby budou poskytnuty vzorky. Dodavatel potvrzuje, že jeho nabídková cena zahrnuje všechny nutné práce, materiály a služby pro kompletní a funkční dodání díla v souladu s legislativními požadavky a očekáváním investora, a že se smluvní cena nebude po odevzdání nabídky zvyšovat na základě dodatečných požadavků nebo nesrovnalostí, které byly či měly být zhotovitelem identifikovány při přípravě nabídky.
D28: Cena bez DPH | J28: =ROUND(J121, 2) -> 0
F30: Základ daně | I30: Sazba daně | J30: Výše daně
D31: DPH | E31: základní | F31: =ROUND((SUM(BE121:BE219)), 2) -> 0 | I31: 0.21 | J31: =ROUND(((SUM(BE121:BE219))*I31), 2) -> 0
E32: snížená | F32: =ROUND((SUM(BF121:BF219)), 2) -> 0 | I32: 0.12 | J32: =ROUND(((SUM(BF121:BF219))*I32), 2) -> 0
E33: zákl. přenesená | F33: =ROUND((SUM(BG121:BG219)), 2) -> 0 | I33: 0.21 | J33: =0 -> 0
E34: sníž. přenesená | F34: =ROUND((SUM(BH121:BH219)), 2) -> 0 | I34: 0.12 | J34: =0 -> 0
E35: nulová | F35: =ROUND((SUM(BI121:BI219)), 2) -> 0 | I35: 0 | J35: =0 -> 0
D37: Cena s DPH | G37: v | H37: CZK | J37: =SUM(J28:J35) -> 0
D50: Projektant | G50: Zpracovatel
D61: Datum a podpis: | F61: Razítko | G61: Datum a podpis: | J61: Razítko
D65: Objednavatel | G65: Uchazeč
D76: Datum a podpis: | F76: Razítko | G76: Datum a podpis: | J76: Razítko
C82: REKAPITULACE ČLENĚNÍ SOUPISU PRACÍ
C84: Stavba:
E85: =E7 -> Vyztužení stropní konstrukce ČOV Špindlerův Mlýn
C87: Místo: | F87: =F10 | I87: Datum: | J87: =IF(J10="","",J10) -> 28. 5. 2026
C89: Zadavatel: | F89: =E13 | I89: Projektant: | J89: =E19
C90: Uchazeč: | F90: =IF(E16="","",E16) -> Vyplň údaj | I90: Zpracovatel: | J90: =E22
C92: Kód dílu - Popis | J92: Cena celkem [CZK]
C94: Náklady ze soupisu prací | J94: =J121 -> 0 | AU94: -1
D95: HSV - Práce a dodávky HSV | J95: =J122 -> 0
D96: 4 - Vodorovné konstrukce | J96: =J123 -> 0
D97: 6 - Úpravy povrchů, podlahy a osazování výplní | J97: =J145 -> 0
D98: 9 - Ostatní konstrukce a práce, bourání | J98: =J153 -> 0
D99: 997 - Přesun sutě | J99: =J191 -> 0
D100: VRN - Vedlejší rozpočtové náklady | J100: =J204 -> 0
D101: VRN1 - Průzkumné, zeměměřičské a projektové práce | J101: =J205 -> 0
D102: VRN3 - Zařízení staveniště | J102: =J210 -> 0
D103: VRN9 - Ostatní náklady | J103: =J217 -> 0
C110: SOUPIS PRACÍ
C112: Stavba:
E113: =E7 -> Vyztužení stropní konstrukce ČOV Špindlerův Mlýn
C115: Místo: | F115: =F10 | I115: Datum: | J115: =IF(J10="","",J10) -> 28. 5. 2026
C117: Zadavatel: | F117: =E13 | I117: Projektant: | J117: =E19
C118: Uchazeč: | F118: =IF(E16="","",E16) -> Vyplň údaj | I118: Zpracovatel: | J118: =E22
C120: PČ | D120: Typ | E120: Kód | F120: Popis | G120: MJ | H120: Množství | I120: J.cena [CZK] | J120: Cena celkem [CZK] | K120: Cenová soustava | N120: DPH | O120: J. Nh [h] | P120: Nh celkem [h] | Q120: J. hmotnost [t] | R120: Hmotnost celkem [t] | S120: J. suť [t] | T120: Suť Celkem [t]
C121: Náklady soupisu celkem | J121: =BK121 -> 0 | P121: =P122+P204 -> 0 | R121: =R122+R204 -> 49.562168 | T121: =T122+T204 -> 2.5344 | AT121: D | AU121: -1 | BK121: =BK122+BK204 -> 0
D122: D | E122: HSV | F122: Práce a dodávky HSV | J122: =BK122 -> 0 | P122: =P123+P145+P153+P191 -> 0 | R122: =R123+R145+R153+R191 -> 49.562168 | T122: =T123+T145+T153+T191 -> 2.5344 | AR122: 1 | AT122: D | AU122: 0 | AY122: ROZPOCET | BK122: =BK123+BK145+BK153+BK191 -> 0
D123: D | E123: 4 | F123: Vodorovné konstrukce | J123: =BK123 -> 0 | P123: =SUM(P124:P144) -> 0 | R123: =SUM(R124:R144) -> 25.200548 | T123: =SUM(T124:T144) -> 0 | AR123: 1 | AT123: D | AU123: 1 | AY123: ROZPOCET | BK123: =SUM(BK124:BK144) -> 0
C124: 1 | D124: K | E124: 413000000R.01 | F124: D+M podlití a vyplnění spáry mezi ocelovým profilem U240 a stávající betonovou konstrukcí rozpínavou / nesmršťovací zálivkovou maltou | G124: m | H124: 240 | J124: =ROUND(I124*H124,2) -> 0 | N124: základní | P124: =O124*H124 -> 0 | Q124: 0.06789 | R124: =Q124*H124 -> 16.2936 | S124: 0 | T124: =S124*H124 -> 0 | AR124: 4 | AT124: K | AU124: 2 | AY124: ROZPOCET | BE124: =IF(N124="základní",J124,0) -> 0 | BF124: =IF(N124="snížená",J124,0) -> 0 | BG124: =IF(N124="zákl. přenesená",J124,0) -> 0 | BH124: =IF(N124="sníž. přenesená",J124,0) -> 0 | BI124: =IF(N124="nulová",J124,0) -> 0 | BJ124: 1 | BK124: =ROUND(I124*H124,2) -> 0 | BL124: 4 | BM124: -1908722381
D125: P | F125: Poznámka k položce:_x000D_ D+M rozpínavá nesmršťovací cementová zálivková malta pro podlití a vyplnění spáry mezi ocelovými profily U240 a stávající betonovou konstrukcí, včetně očištění a přípravy podkladu, odstranění nesoudržných částí, vyfoukání/vysátí prachu, navlhčení podkladu dle technologického předpisu výrobce, případného jednoduchého bednění proti vytékání, namíchání, aplikace, hutnění/propracování, doplnění dutin, ošetření po provedení a očištění okolních konstrukcí – podrobně viz statický detail a PD | AT125: P | AU125: 2
D126: VV | F126: 120*2 | H126: 240 | AT126: VV | AU126: 2 | AV126: 2 | AW126: True | AX126: 0 | AY126: ROZPOCET
D127: VV | F127: Součet | H127: 240 | AT127: VV | AU127: 2 | AV127: 4 | AW127: True | AX127: 1 | AY127: ROZPOCET
C128: 2 | D128: K | E128: 413941125 | F128: Osazování ocelových válcovaných nosníků stropů I, IE, U, UE nebo L výšky přes 220 mm | G128: t | H128: 7.968 | J128: =ROUND(I128*H128,2) -> 0 | N128: základní | P128: =O128*H128 -> 0 | Q128: 0.06789 | R128: =Q128*H128 -> 0.54094752 | S128: 0 | T128: =S128*H128 -> 0 | AR128: 4 | AT128: K | AU128: 2 | AY128: ROZPOCET | BE128: =IF(N128="základní",J128,0) -> 0 | BF128: =IF(N128="snížená",J128,0) -> 0 | BG128: =IF(N128="zákl. přenesená",J128,0) -> 0 | BH128: =IF(N128="sníž. přenesená",J128,0) -> 0 | BI128: =IF(N128="nulová",J128,0) -> 0 | BJ128: 1 | BK128: =ROUND(I128*H128,2) -> 0 | BL128: 4 | BM128: 513610873
D129: Online PSC | F129: https://podminky.urs.cz/item/CS_URS_2026_01/413941125 | AT129: Online PSC | AU129: 2
D130: VV | F130: Válcovaný profil U 240 | AT130: VV | AU130: 2 | AV130: 1 | AW130: True | AX130: 0 | AY130: ROZPOCET
D131: VV | F131: - 33,2kg/m | AT131: VV | AU131: 2 | AV131: 1 | AW131: True | AX131: 0 | AY131: ROZPOCET
D132: VV | F132: - délka 1 kusu = 120m | AT132: VV | AU132: 2 | AV132: 1 | AW132: True | AX132: 0 | AY132: ROZPOCET
D133: VV | F133: - celkem 2 kusy | AT133: VV | AU133: 2 | AV133: 1 | AW133: True | AX133: 0 | AY133: ROZPOCET
D134: VV | F134: 2*120*33,2/1000 | H134: 7.968 | AT134: VV | AU134: 2 | AV134: 2 | AW134: True | AX134: 0 | AY134: ROZPOCET
D135: VV | F135: Součet | H135: 7.968 | AT135: VV | AU135: 2 | AV135: 4 | AW135: True | AX135: 1 | AY135: ROZPOCET
C136: 3 | D136: M | E136: 13010830 | F136: ocel profilová jakost S235JR (11 375) průřez U (UPN) 240 | G136: t | H136: 8.366 | J136: =ROUND(I136*H136,2) -> 0 | N136: základní | P136: =O136*H136 -> 0 | Q136: 1 | R136: =Q136*H136 -> 8.366 | S136: 0 | T136: =S136*H136 -> 0 | AR136: 8 | AT136: M | AU136: 2 | AY136: ROZPOCET | BE136: =IF(N136="základní",J136,0) -> 0 | BF136: =IF(N136="snížená",J136,0) -> 0 | BG136: =IF(N136="zákl. přenesená",J136,0) -> 0 | BH136: =IF(N136="sníž. přenesená",J136,0) -> 0 | BI136: =IF(N136="nulová",J136,0) -> 0 | BJ136: 1 | BK136: =ROUND(I136*H136,2) -> 0 | BL136: 4 | BM136: 2066608050
D137: VV | F137: Válcovaný profil U 240 | AT137: VV | AU137: 2 | AV137: 1 | AW137: True | AX137: 0 | AY137: ROZPOCET
D138: VV | F138: - 33,2kg/m | AT138: VV | AU138: 2 | AV138: 1 | AW138: True | AX138: 0 | AY138: ROZPOCET
D139: VV | F139: - délka 1 kusu = 120m | AT139: VV | AU139: 2 | AV139: 1 | AW139: True | AX139: 0 | AY139: ROZPOCET
D140: VV | F140: - celkem 2 kusy | AT140: VV | AU140: 2 | AV140: 1 | AW140: True | AX140: 0 | AY140: ROZPOCET
D141: VV | F141: - ztratné/prořez 5% | AT141: VV | AU141: 2 | AV141: 1 | AW141: True | AX141: 0 | AY141: ROZPOCET
D142: VV | F142: 2*120*33,2/1000 | H142: 7.968 | AT142: VV | AU142: 2 | AV142: 2 | AW142: True | AX142: 0 | AY142: ROZPOCET
D143: VV | F143: Součet | H143: 7.968 | AT143: VV | AU143: 2 | AV143: 4 | AW143: True | AX143: 1 | AY143: ROZPOCET
D144: VV | F144: 7,968*1,05 'Přepočtené koeficientem množství | H144: 8.366 | AT144: VV | AU144: 2 | AV144: 2 | AW144: False | AX144: 1 | AY144: ROZPOCET
D145: D | E145: 6 | F145: Úpravy povrchů, podlahy a osazování výplní | J145: =BK145 -> 0 | P145: =SUM(P146:P152) -> 0 | R145: =SUM(R146:R152) -> 24.27486 | T145: =SUM(T146:T152) -> 0 | AR145: 1 | AT145: D | AU145: 1 | AY145: ROZPOCET | BK145: =SUM(BK146:BK152) -> 0
C146: 4 | D146: K | E146: 628613231R.01 | F146: Protikorozní ochrana OK mostu I. tř.- základní a podkladní epoxidový, vrchní PU nátěr s metalizací a očištěním | G146: m2 | H146: 186 | J146: =ROUND(I146*H146,2) -> 0 | N146: základní | P146: =O146*H146 -> 0 | Q146: 0.13051 | R146: =Q146*H146 -> 24.27486 | S146: 0 | T146: =S146*H146 -> 0 | AR146: 4 | AT146: K | AU146: 2 | AY146: ROZPOCET | BE146: =IF(N146="základní",J146,0) -> 0 | BF146: =IF(N146="snížená",J146,0) -> 0 | BG146: =IF(N146="zákl. přenesená",J146,0) -> 0 | BH146: =IF(N146="sníž. přenesená",J146,0) -> 0 | BI146: =IF(N146="nulová",J146,0) -> 0 | BJ146: 1 | BK146: =ROUND(I146*H146,2) -> 0 | BL146: 4 | BM146: 584970978
D147: P | F147: Poznámka k položce:_x000D_ Ochranný systém Typ I + S, metalizace + I speciál dle TKP 19B, včetně přípravy povrchu, metalizace, nátěrových vrstev, kontrolních měření a oprav po montáži. | AT147: P | AU147: 2
D148: VV | F148: Ochranný systém: | AT148: VV | AU148: 2 | AV148: 1 | AW148: True | AX148: 0 | AY148: ROZPOCET
D149: VV | F149: TYP I a s metalizací | AT149: VV | AU149: 2 | AV149: 1 | AW149: True | AX149: 0 | AY149: ROZPOCET
D150: VV | F150: - plocha povrchu 0,775 m2/m | AT150: VV | AU150: 2 | AV150: 1 | AW150: True | AX150: 0 | AY150: ROZPOCET
D151: VV | F151: 120*2*0,775 | H151: 186 | AT151: VV | AU151: 2 | AV151: 2 | AW151: True | AX151: 0 | AY151: ROZPOCET
D152: VV | F152: Součet | H152: 186 | AT152: VV | AU152: 2 | AV152: 4 | AW152: True | AX152: 1 | AY152: ROZPOCET
D153: D | E153: 9 | F153: Ostatní konstrukce a práce, bourání | J153: =BK153 -> 0 | P153: =SUM(P154:P190) -> 0 | R153: =SUM(R154:R190) -> 0.08676 | T153: =SUM(T154:T190) -> 2.5344 | AR153: 1 | AT153: D | AU153: 1 | AY153: ROZPOCET | BK153: =SUM(BK154:BK190) -> 0
C154: 5 | D154: K | E154: 949101112 | F154: Lešení pomocné pro objekty pozemních staveb s lešeňovou podlahou v přes 1,9 do 3,5 m zatížení do 150 kg/m2 | G154: m2 | H154: 240 | J154: =ROUND(I154*H154,2) -> 0 | N154: základní | P154: =O154*H154 -> 0 | Q154: 0 | R154: =Q154*H154 -> 0 | S154: 0 | T154: =S154*H154 -> 0 | AR154: 4 | AT154: K | AU154: 2 | AY154: ROZPOCET | BE154: =IF(N154="základní",J154,0) -> 0 | BF154: =IF(N154="snížená",J154,0) -> 0 | BG154: =IF(N154="zákl. přenesená",J154,0) -> 0 | BH154: =IF(N154="sníž. přenesená",J154,0) -> 0 | BI154: =IF(N154="nulová",J154,0) -> 0 | BJ154: 1 | BK154: =ROUND(I154*H154,2) -> 0 | BL154: 4 | BM154: -2005633691
D155: Online PSC | F155: https://podminky.urs.cz/item/CS_URS_2026_01/949101112 | AT155: Online PSC | AU155: 2
D156: VV | F156: 120*2 | H156: 240 | AT156: VV | AU156: 2 | AV156: 2 | AW156: True | AX156: 0 | AY156: ROZPOCET
D157: VV | F157: Součet | H157: 240 | AT157: VV | AU157: 2 | AV157: 4 | AW157: True | AX157: 1 | AY157: ROZPOCET
C158: 6 | D158: K | E158: 953961116 | F158: Kotva chemickým tmelem M 24 hl 210 mm do betonu, ŽB nebo kamene s vyvrtáním otvoru | G158: kus | H158: 482 | J158: =ROUND(I158*H158,2) -> 0 | N158: základní | P158: =O158*H158 -> 0 | Q158: 0.00011 | R158: =Q158*H158 -> 0.05302 | S158: 0 | T158: =S158*H158 -> 0 | AR158: 4 | AT158: K | AU158: 2 | AY158: ROZPOCET | BE158: =IF(N158="základní",J158,0) -> 0 | BF158: =IF(N158="snížená",J158,0) -> 0 | BG158: =IF(N158="zákl. přenesená",J158,0) -> 0 | BH158: =IF(N158="sníž. přenesená",J158,0) -> 0 | BI158: =IF(N158="nulová",J158,0) -> 0 | BJ158: 1 | BK158: =ROUND(I158*H158,2) -> 0 | BL158: 4 | BM158: -479906581
D159: Online PSC | F159: https://podminky.urs.cz/item/CS_URS_2026_01/953961116 | AT159: Online PSC | AU159: 2
D160: VV | F160: M24 na chemii po 500mm | AT160: VV | AU160: 2 | AV160: 1 | AW160: True | AX160: 0 | AY160: ROZPOCET
D161: VV | F161: 120/0,5+1 | H161: 241 | AT161: VV | AU161: 2 | AV161: 2 | AW161: True | AX161: 0 | AY161: ROZPOCET
D162: VV | F162: 120/0,5+1 | H162: 241 | AT162: VV | AU162: 2 | AV162: 2 | AW162: True | AX162: 0 | AY162: ROZPOCET
D163: VV | F163: Součet | H163: 482 | AT163: VV | AU163: 2 | AV163: 4 | AW163: True | AX163: 1 | AY163: ROZPOCET
C164: 7 | D164: K | E164: 975121121 | F164: Zřízení jednořadého podchycení konstrukcí systémovými samostatnými stojkami v do 4 m zatížení přes 750 do 1000 kg/m | G164: m | H164: 240 | J164: =ROUND(I164*H164,2) -> 0 | N164: základní | P164: =O164*H164 -> 0 | Q164: 0 | R164: =Q164*H164 -> 0 | S164: 0 | T164: =S164*H164 -> 0 | AR164: 4 | AT164: K | AU164: 2 | AY164: ROZPOCET | BE164: =IF(N164="základní",J164,0) -> 0 | BF164: =IF(N164="snížená",J164,0) -> 0 | BG164: =IF(N164="zákl. přenesená",J164,0) -> 0 | BH164: =IF(N164="sníž. přenesená",J164,0) -> 0 | BI164: =IF(N164="nulová",J164,0) -> 0 | BJ164: 1 | BK164: =ROUND(I164*H164,2) -> 0 | BL164: 4 | BM164: -1634394501
D165: Online PSC | F165: https://podminky.urs.cz/item/CS_URS_2026_01/975121121 | AT165: Online PSC | AU165: 2
D166: VV | F166: Dočasné podepření / odlehčení stropu a průvlaku | AT166: VV | AU166: 2 | AV166: 1 | AW166: True | AX166: 0 | AY166: ROZPOCET
D167: VV | F167: 120*2 | H167: 240 | AT167: VV | AU167: 2 | AV167: 2 | AW167: True | AX167: 0 | AY167: ROZPOCET
...
