Workbook

Sheet Rekapitulace stavby
A1: Export Komplet | BA1: 2.0 | BT1: False | BU1: False | BV1: {e1eb5722-025e-46c9-a1b8-27337033c236}
AR2: >> skryté sloupce << | BS2: 0,01 | BT2: 21
BS3: 0,01 | BT3: 12
D4: REKAPITULACE STAVBY | AS4: v --- níže se nacházejí doplnkové a pomocné údaje k sestavám --- v | BE4: Návod na vyplnění | BS4: 0,001
D5: Kód: | K5: 313 | BE5: Měnit lze pouze buňky se žlutým podbarvením!_x000D_ _x000D_ 1) na prvním listu Rekapitulace stavby vyplňte v sestavě_x000D_ _x000D_ a) Souhrnný list_x000D_ - údaje o Uchazeči_x000D_ (přenesou se do ostatních sestav i v jiných listech)_x000D_ _x000D_ b) Rekapitulace objektů_x000D_ - potřebné Ostatní náklady_x000D_ _x000D_ 2) na vybraných listech vyplňte v sestavě_x000D_ _x000D_ a) Krycí list_x000D_ - údaje o Uchazeči, pokud se liší od údajů o Uchazeči na Souhrnném listu_x000D_ (údaje se přenesou do ostatních sestav v daném listu)_x000D_ _x000D_ b) Rekapitulace rozpočtu_x000D_ - potřebné Ostatní náklady_x000D_ _x000D_ c) Celkové náklady za stavbu_x000D_ - ceny u položek_x000D_ - množství, pokud má žluté podbarvení_x000D_ - a v případě potřeby poznámku (ta je ve skrytém sloupci) | BS5: 0,01
D6: Stavba: | K6: Vyztužení stropní konstrukce ČOV Špindlerův Mlýn | BS6: 0,01
D7: KSO: | AK7: CC-CZ: | BS7: 0,01
D8: Místo: | AK8: Datum: | AN8: 28. 5. 2026 | BS8: 0,01
BS9: 0,01
D10: Zadavatel: | AK10: IČ: | BS10: 0,01
AK11: DIČ: | BS11: 0,01
BS12: 0,01
D13: Uchazeč: | AK13: IČ: | AN13: Vyplň údaj | BS13: 0,01
E14: Vyplň údaj | AK14: DIČ: | AN14: Vyplň údaj | BS14: 0,01
BS15: False
D16: Projektant: | AK16: IČ: | BS16: False
AK17: DIČ: | BS17: True
BS18: 0,01
D19: Zpracovatel: | AK19: IČ: | BS19: 0,01
AK20: DIČ: | BS20: True
D22: Poznámka:
E23: Poznámka ke stavebnímu rozpočtu:_x000D_ _x000D_ Souhrnné ocenění díla v tomto stavebním rozpočtu je provedeno na základě dostupné projektové dokumentace. Je zodpovědností dodavatele, aby se před odevzdáním nabídkové ceny důkladně seznámil s veškerými podklady a případné nejasnosti nebo nesrovnalosti bezodkladně konzultoval s objednatelem či projektantem._x000D_ _x000D_ Veškeré práce a materiály potřebné pro kompletní a dokonalé provedení díla musí být započteny v ceně jednotlivých položek rozpočtu, a to i v případě, že nejsou explicitně vypsány ve výkazu výměr. Dodavatel má za povinnost se obeznámit s aktuálním stavem stavby, okolí a specifiky realizace a příslušně tyto informace zahrnout do kalkulace ceny._x000D_ _x000D_ Všechny výrobky a zařízení uvedené v dokumentaci jsou považovány za referenční a slouží pro určení standardů. Tyto mohou být na základě odsouhlasení s investorem a projektantem nahrazeny za technicky a kvalitativně ekvivalentní produkty._x000D_ _x000D_ Výkaz výměr a specifikace materiálů jsou orientační a v teoretické výměře. Skutečné množství a spotřeba materiálu, včetně prořezu a ztrát, budou reflektovány v jednotkových cenách dodavatelem. Výkaz tedy nenahrazuje projektovou dokumentaci a neslouží pro objednání prvků a zařízení. Počty a rozměry je vždy nutné ověřit na stavbě._x000D_ _x000D_ Veškeré ceny musí odpovídat rozsahu práce a materiálů, jak jsou uvedeny v projektové dokumentaci, přičemž případné odchylky od této dokumentace jsou zaznamenány v rozpočtu a komunikovány s objednatelem._x000D_ _x000D_ Za účelem dosažení co nejpřesnějšího ocenění je použita Cenová soustava ÚRS. Všechny položky a technické podmínky neobsažené v tomto rozpočtu, ale uvedené v ÚRS, jsou dostupné na webových stránkách www.cs-urs.cz._x000D_ _x000D_ Je důležité, aby konečný výběr a specifikace viditelných prvků a zařízení byl schválen investorem a architektem před jejich objednáním, a v případě potřeby budou poskytnuty vzorky._x000D_ _x000D_ Dodavatel potvrzuje, že jeho nabídková cena zahrnuje všechny nutné práce, materiály a služby pro kompletní a funkční dodání díla v souladu s legislativními požadavky a očekáváním investora, a že se smluvní cena nebude po odevzdání nabídky zvyšovat na základě dodatečných požadavků nebo nesrovnalostí, které byly či měly být zhotovitelem identifikovány při přípravě nabídky._x000D_
D26: Cena bez DPH | AK26: =ROUND(AG94,2) -> 0
L28: Sazba daně | W28: Základ daně | AK28: Výše daně
D29: DPH | F29: základní | L29: 0.21 | W29: =ROUND(AZ94, 2) -> 0 | AK29: =ROUND(AV94, 2) -> 0
F30: snížená | L30: 0.12 | W30: =ROUND(BA94, 2) -> 0 | AK30: =ROUND(AW94, 2) -> 0
F31: zákl. přenesená | L31: 0.21 | W31: =ROUND(BB94, 2) -> 0 | AK31: 0
F32: sníž. přenesená | L32: 0.12 | W32: =ROUND(BC94, 2) -> 0 | AK32: 0
F33: nulová | L33: 0 | W33: =ROUND(BD94, 2) -> 0 | AK33: 0
D35: Cena s DPH | T35: v | X35: CZK | AK35: =SUM(AK26:AK33) -> 0
D49: Projektant | AH49: Zpracovatel
D60: Datum a podpis: | V60: Razítko | AH60: Datum a podpis: | AM60: Razítko
D64: Objednavatel | AH64: Uchazeč
D75: Datum a podpis: | V75: Razítko | AH75: Datum a podpis: | AM75: Razítko
C82: REKAPITULACE OBJEKTŮ STAVBY A SOUPISŮ PRACÍ
C84: Kód: | L84: =K5 -> 313
C85: Stavba: | L85: =K6 -> Vyztužení stropní konstrukce ČOV Špindlerův Mlýn
C87: Místo: | L87: =IF(K8="","",K8) | AI87: Datum: | AM87: =IF(AN8= "","",AN8) -> 28. 5. 2026
C89: Zadavatel: | L89: =IF(E11= "","",E11) | AI89: Projektant: | AM89: =IF(E17="","",E17) | AS89: Informatívní údaje z listů zakázek
C90: Uchazeč: | L90: =IF(E14= "Vyplň údaj","",E14) | AI90: Zpracovatel: | AM90: =IF(E20="","",E20)
...

Sheet 313 - Vyztužení stropní k...
L2: >> skryté sloupce << | AT2: {e1eb5722-025e-46c9-a1b8-27337033c236}
AT3: 2
D4: KRYCÍ LIST SOUPISU PRACÍ | M4: v --- níže se nacházejí doplnkové a pomocné údaje k sestavám --- v | AT4: False
D6: Stavba:
E7: Vyztužení stropní konstrukce ČOV Špindlerův Mlýn
D9: KSO: | I9: CC-CZ:
D10: Místo: | I10: Datum: | J10: ='Rekapitulace stavby'!AN8 -> 28. 5. 2026
D12: Zadavatel: | I12: IČ: | J12: =IF('Rekapitulace stavby'!AN10="","",'Rekapitulace stavby'!AN10)
E13: =IF('Rekapitulace stavby'!E11="","",'Rekapitulace stavby'!E11) | I13: DIČ: | J13: =IF('Rekapitulace stavby'!AN11="","",'Rekapitulace stavby'!AN11)
D15: Uchazeč: | I15: IČ: | J15: ='Rekapitulace stavby'!AN13 -> Vyplň údaj
E16: ='Rekapitulace stavby'!E14 -> Vyplň údaj | I16: DIČ: | J16: ='Rekapitulace stavby'!AN14 -> Vyplň údaj
D18: Projektant: | I18: IČ: | J18: =IF('Rekapitulace stavby'!AN16="","",'Rekapitulace stavby'!AN16)
E19: =IF('Rekapitulace stavby'!E17="","",'Rekapitulace stavby'!E17) | I19: DIČ: | J19: =IF('Rekapitulace stavby'!AN17="","",'Rekapitulace stavby'!AN17)
D21: Zpracovatel: | I21: IČ: | J21: =IF('Rekapitulace stavby'!AN19="","",'Rekapitulace stavby'!AN19)
E22: =IF('Rekapitulace stavby'!E20="","",'Rekapitulace stavby'!E20) | I22: DIČ: | J22: =IF('Rekapitulace stavby'!AN20="","",'Rekapitulace stavby'!AN20)
D24: Poznámka:
E25: Poznámka ke stavebnímu rozpočtu: Souhrnné ocenění díla v tomto stavebním rozpočtu je provedeno na základě dostupné projektové dokumentace. Je zodpovědností dodavatele, aby se před odevzdáním nabídkové ceny důkladně seznámil s veškerými podklady a případné nejasnosti nebo nesrovnalosti bezodkladně konzultoval s objednatelem či projektantem. Veškeré práce a materiály potřebné pro kompletní a dokonalé provedení díla musí být započteny v ceně jednotlivých položek rozpočtu, a to i v případě, že nejsou explicitně vypsány ve výkazu výměr. Dodavatel má za povinnost se obeznámit s aktuálním stavem stavby, okolí a specifiky realizace a příslušně tyto informace zahrnout do kalkulace ceny. Všechny výrobky a zařízení uvedené v dokumentaci jsou považovány za referenční a slouží pro určení standardů. Tyto mohou být na základě odsouhlasení s investorem a projektantem nahrazeny za technicky a kvalitativně ekvivalentní produkty. Výkaz výměr a specifikace materiálů jsou orientační a v teoretické výměře. Skutečné množství a spotřeba materiálu, včetně prořezu a ztrát, budou reflektovány v jednotkových cenách dodavatelem. Výkaz tedy nenahrazuje projektovou dokumentaci a neslouží pro objednání prvků a zařízení. Počty a rozměry je vždy nutné ověřit na stavbě. Veškeré ceny musí odpovídat rozsahu práce a materiálů, jak jsou uvedeny v projektové dokumentaci, přičemž případné odchylky od této dokumentace jsou zaznamenány v rozpočtu a komunikovány s objednatelem. Za účelem dosažení co nejpřesnějšího ocenění je použita Cenová soustava ÚRS. Všechny položky a technické podmínky neobsažené v tomto rozpočtu, ale uvedené v ÚRS, jsou dostupné na webových stránkách www.cs-urs.cz. Je důležité, aby konečný výběr a specifikace viditelných prvků a zařízení byl schválen investorem a architektem před jejich objednáním, a v případě potřeby budou poskytnuty vzorky. Dodavatel potvrzuje, že jeho nabídková cena zahrnuje všechny nutné práce, materiály a služby pro kompletní a funkční dodání díla v souladu s legislativními požadavky a očekáváním investora, a že se smluvní cena nebude po odevzdání nabídky zvyšovat na základě dodatečných požadavků nebo nesrovnalostí, které byly či měly být zhotovitelem identifikovány při přípravě nabídky.
D28: Cena bez DPH | J28: =ROUND(J121, 2) -> 0
F30: Základ daně | I30: Sazba daně | J30: Výše daně
D31: DPH | E31: základní | F31: =ROUND((SUM(BE121:BE219)), 2) -> 0 | I31: 0.21 | J31: =ROUND(((SUM(BE121:BE219))*I31), 2) -> 0
E32: snížená | F32: =ROUND((SUM(BF121:BF219)), 2) -> 0 | I32: 0.12 | J32: =ROUND(((SUM(BF121:BF219))*I32), 2) -> 0
E33: zákl. přenesená | F33: =ROUND((SUM(BG121:BG219)), 2) -> 0 | I33: 0.21 | J33: =0 -> 0
E34: sníž. přenesená | F34: =ROUND((SUM(BH121:BH219)), 2) -> 0 | I34: 0.12 | J34: =0 -> 0
E35: nulová | F35: =ROUND((SUM(BI121:BI219)), 2) -> 0 | I35: 0 | J35: =0 -> 0
D37: Cena s DPH | G37: v | H37: CZK | J37: =SUM(J28:J35) -> 0
D50: Projektant | G50: Zpracovatel
D61: Datum a podpis: | F61: Razítko | G61: Datum a podpis: | J61: Razítko
D65: Objednavatel | G65: Uchazeč
D76: Datum a podpis: | F76: Razítko | G76: Datum a podpis: | J76: Razítko
C82: REKAPITULACE ČLENĚNÍ SOUPISU PRACÍ
C84: Stavba:
E85: =E7 -> Vyztužení stropní konstrukce ČOV Špindlerův Mlýn
C87: Místo: | F87: =F10 | I87: Datum: | J87: =IF(J10="","",J10) -> 28. 5. 2026
C89: Zadavatel: | F89: =E13 | I89: Projektant: | J89: =E19
C90: Uchazeč: | F90: =IF(E16="","",E16) -> Vyplň údaj | I90: Zpracovatel: | J90: =E22
C92: Kód dílu - Popis | J92: Cena celkem [CZK]
C94: Náklady ze soupisu prací | J94: =J121 -> 0 | AU94: -1
D95: HSV - Práce a dodávky HSV | J95: =J122 -> 0
D96: 4 - Vodorovné konstrukce | J96: =J123 -> 0
D97: 6 - Úpravy povrchů, podlahy a osazování výplní | J97: =J145 -> 0
...
