Workbook

Sheet Rekapitulace stavby
A1: Export Komplet | BA1: 2.0 | BT1: False | BU1: False | BV1: {d90fdd0e-a475-4b8a-93a8-1189295d3355}
AR2: >> skryté sloupce << | BS2: 0,01 | BT2: 21
BS3: 0,01 | BT3: 12
D4: REKAPITULACE STAVBY | AS4: v --- níže se nacházejí doplnkové a pomocné údaje k sestavám --- v | BE4: Návod na vyplnění | BS4: 0,001
D5: Kód: | K5: 18/2026 | BE5: Měnit lze pouze buňky se žlutým podbarvením!_x000D_ _x000D_ 1) na prvním listu Rekapitulace stavby vyplňte v sestavě_x000D_ _x000D_ a) Souhrnný list_x000D_ - údaje o Uchazeči_x000D_ (přenesou se do ostatních sestav i v jiných listech)_x000D_ _x000D_ b) Rekapitulace objektů_x000D_ - potřebné Ostatní náklady_x000D_ _x000D_ 2) na vybraných listech vyplňte v sestavě_x000D_ _x000D_ a) Krycí list_x000D_ - údaje o Uchazeči, pokud se liší od údajů o Uchazeči na Souhrnném listu_x000D_ (údaje se přenesou do ostatních sestav v daném listu)_x000D_ _x000D_ b) Rekapitulace rozpočtu_x000D_ - potřebné Ostatní náklady_x000D_ _x000D_ c) Celkové náklady za stavbu_x000D_ - ceny u položek_x000D_ - množství, pokud má žluté podbarvení_x000D_ - a v případě potřeby poznámku (ta je ve skrytém sloupci) | BS5: 0,01
D6: Stavba: | K6: Dolní a Horní Chobolice - vodovodní přípojky | BS6: 0,01
D7: KSO: | AK7: CC-CZ: | BS7: 0,01
D8: Místo: | K8: Chobolice | AK8: Datum: | AN8: - | BS8: 0,01
BS9: 0,01
D10: Zadavatel: | AK10: IČ: | BS10: 0,01
E11: Obec Liběšice | AK11: DIČ: | BS11: 0,01
BS12: 0,01
D13: Uchazeč: | AK13: IČ: | AN13: Vyplň údaj | BS13: 0,01
E14: Vyplň údaj | AK14: DIČ: | AN14: Vyplň údaj | BS14: 0,01
BS15: False
D16: Projektant: | AK16: IČ: | BS16: False
E17: SVIS TCE spol. s.r.o. | AK17: DIČ: | BS17: True
BS18: 0,01
D19: Zpracovatel: | AK19: IČ: | BS19: 0,01
AK20: DIČ: | BS20: True
D22: Poznámka:
E23: Soupis prací je sestaven s využitím Cenové soustavy ÚRS. Položky, které pochází z této cenové soustavy, jsou ve sloupci 'Cenová soustava' označeny popisem 'CS ÚRS' a úrovní příslušného kalendářního pololetí. Veškeré další informace vymezující popis a podmínky použití těchto položek z Cenové soustavy, které nejsou uvedeny přímo v soupisu prací, jsou neomezeně dálkově k dispozici na webu podminky.urs.cz.
D26: Cena bez DPH | AK26: =ROUND(AG94,2) -> 0
L28: Sazba daně | W28: Základ daně | AK28: Výše daně
D29: DPH | F29: základní | L29: 0.21 | W29: =ROUND(AZ94, 2) -> 0 | AK29: =ROUND(AV94, 2) -> 0
F30: snížená | L30: 0.12 | W30: =ROUND(BA94, 2) -> 0 | AK30: =ROUND(AW94, 2) -> 0
F31: zákl. přenesená | L31: 0.21 | W31: =ROUND(BB94, 2) -> 0 | AK31: 0
F32: sníž. přenesená | L32: 0.12 | W32: =ROUND(BC94, 2) -> 0 | AK32: 0
F33: nulová | L33: 0 | W33: =ROUND(BD94, 2) -> 0 | AK33: 0
D35: Cena s DPH | T35: v | X35: CZK | AK35: =SUM(AK26:AK33) -> 0
D49: Projektant | AH49: Zpracovatel
D60: Datum a podpis: | V60: Razítko | AH60: Datum a podpis: | AM60: Razítko
D64: Objednavatel | AH64: Uchazeč
D75: Datum a podpis: | V75: Razítko | AH75: Datum a podpis: | AM75: Razítko
C82: REKAPITULACE OBJEKTŮ STAVBY A SOUPISŮ PRACÍ
C84: Kód: | L84: =K5 -> 18/2026
C85: Stavba: | L85: =K6 -> Dolní a Horní Chobolice - vodovodní přípojky
C87: Místo: | L87: =IF(K8="","",K8) -> Chobolice | AI87: Datum: | AM87: =IF(AN8= "","",AN8) -> -
C89: Zadavatel: | L89: =IF(E11= "","",E11) -> Obec Liběšice | AI89: Projektant: | AM89: =IF(E17="","",E17) -> SVIS TCE spol. s.r.o. | AS89: Informatívní údaje z listů zakázek
C90: Uchazeč: | L90: =IF(E14= "Vyplň údaj","",E14) | AI90: Zpracovatel: | AM90: =IF(E20="","",E20)
C92: Kód | I92: Popis | AG92: Cena bez DPH [CZK] | AN92: Cena s DPH [CZK] | AQ92: Typ | AS92: z toho Ostat._x000D_ náklady [CZK] | AT92: DPH [CZK] | AU92: Normohodiny [h] | AV92: DPH základní [CZK] | AW92: DPH snížená [CZK] | AX92: DPH základní přenesená_x000D_ [CZK] | AY92: DPH snížená přenesená_x000D_ [CZK] | AZ92: Základna_x000D_ DPH základní | BA92: Základna_x000D_ DPH snížená | BB92: Základna_x000D_ DPH zákl. přenesená | BC92: Základna_x000D_ DPH sníž. přenesená | BD92: Základna_x000D_ DPH nulová
C94: Náklady z rozpočtů | AG94: =ROUND(SUM(AG95:AG99),2) -> 0 | AN94: =SUM(AG94,AT94) -> 0 | AS94: =ROUND(SUM(AS95:AS99),2) -> 0 | AT94: =ROUND(SUM(AV94:AW94),2) -> 0 | AU94: =ROUND(SUM(AU95:AU99),5) -> 0 | AV94: =ROUND(AZ94*L29,2) -> 0 | AW94: =ROUND(BA94*L30,2) -> 0 | AX94: =ROUND(BB94*L29,2) -> 0 | AY94: =ROUND(BC94*L30,2) -> 0 | AZ94: =ROUND(SUM(AZ95:AZ99),2) -> 0 | BA94: =ROUND(SUM(BA95:BA99),2) -> 0 | BB94: =ROUND(SUM(BB95:BB99),2) -> 0 | BC94: =ROUND(SUM(BC95:BC99),2) -> 0 | BD94: =ROUND(SUM(BD95:BD99),2) -> 0 | BS94: D | BT94: 0 | BU94: ###NOIMPORT### | BV94: IMPORT | BW94: {d90fdd0e-a475-4b8a-93a8-1189295d3355} | BX94: {00000000-0000-0000-0000-000000000000}
A95: / | D95: 01 | J95: Horní Chobolice - vodovodní přípojky | AG95: ='01 - Horní Chobolice - vo...'!J30 -> 0 | AN95: =SUM(AG95,AT95) -> 0 | AQ95: ING | AS95: 0 | AT95: =ROUND(SUM(AV95:AW95),2) -> 0 | AU95: ='01 - Horní Chobolice - vo...'!P126 -> 0 | AV95: ='01 - Horní Chobolice - vo...'!J33 -> 0 | AW95: ='01 - Horní Chobolice - vo...'!J34 -> 0 | AX95: ='01 - Horní Chobolice - vo...'!J35 -> 0 | AY95: ='01 - Horní Chobolice - vo...'!J36 -> 0 | AZ95: ='01 - Horní Chobolice - vo...'!F33 -> 0 | BA95: ='01 - Horní Chobolice - vo...'!F34 -> 0 | BB95: ='01 - Horní Chobolice - vo...'!F35 -> 0 | BC95: ='01 - Horní Chobolice - vo...'!F36 -> 0 | BD95: ='01 - Horní Chobolice - vo...'!F37 -> 0 | BT95: 1 | BV95: IMPORT | BW95: {fe2aa70a-57f3-4530-afec-eb4022400dd1} | BX95: {d90fdd0e-a475-4b8a-93a8-1189295d3355} | CL95: 827 1 | CM95: 2
A96: / | D96: 02 | J96: Dolní Chobolice - vodovodní přípojky | AG96: ='02 - Dolní Chobolice - vo...'!J30 -> 0 | AN96: =SUM(AG96,AT96) -> 0 | AQ96: ING | AS96: 0 | AT96: =ROUND(SUM(AV96:AW96),2) -> 0 | AU96: ='02 - Dolní Chobolice - vo...'!P125 -> 0 | AV96: ='02 - Dolní Chobolice - vo...'!J33 -> 0 | AW96: ='02 - Dolní Chobolice - vo...'!J34 -> 0 | AX96: ='02 - Dolní Chobolice - vo...'!J35 -> 0 | AY96: ='02 - Dolní Chobolice - vo...'!J36 -> 0 | AZ96: ='02 - Dolní Chobolice - vo...'!F33 -> 0 | BA96: ='02 - Dolní Chobolice - vo...'!F34 -> 0 | BB96: ='02 - Dolní Chobolice - vo...'!F35 -> 0 | BC96: ='02 - Dolní Chobolice - vo...'!F36 -> 0 | BD96: ='02 - Dolní Chobolice - vo...'!F37 -> 0 | BT96: 1 | BV96: IMPORT | BW96: {5f52651f-4c24-483d-9229-79ac32884ed6} | BX96: {d90fdd0e-a475-4b8a-93a8-1189295d3355} | CL96: 827 1 | CM96: 2
A97: / | D97: 03 | J97: Komunikace | AG97: ='03 - Komunikace '!J30 -> 0 | AN97: =SUM(AG97,AT97) -> 0 | AQ97: ING | AS97: 0 | AT97: =ROUND(SUM(AV97:AW97),2) -> 0 | AU97: ='03 - Komunikace '!P123 -> 0 | AV97: ='03 - Komunikace '!J33 -> 0 | AW97: ='03 - Komunikace '!J34 -> 0 | AX97: ='03 - Komunikace '!J35 -> 0 | AY97: ='03 - Komunikace '!J36 -> 0 | AZ97: ='03 - Komunikace '!F33 -> 0 | BA97: ='03 - Komunikace '!F34 -> 0 | BB97: ='03 - Komunikace '!F35 -> 0 | BC97: ='03 - Komunikace '!F36 -> 0 | BD97: ='03 - Komunikace '!F37 -> 0 | BT97: 1 | BV97: IMPORT | BW97: {a37c10aa-6f49-4579-b762-f83d51371840} | BX97: {d90fdd0e-a475-4b8a-93a8-1189295d3355} | CL97: 827 | CM97: 2
A98: / | D98: 04 | J98: VRN | AG98: ='04 - VRN'!J30 -> 0 | AN98: =SUM(AG98,AT98) -> 0 | AQ98: VON | AS98: 0 | AT98: =ROUND(SUM(AV98:AW98),2) -> 0 | AU98: ='04 - VRN'!P118 -> 0 | AV98: ='04 - VRN'!J33 -> 0 | AW98: ='04 - VRN'!J34 -> 0 | AX98: ='04 - VRN'!J35 -> 0 | AY98: ='04 - VRN'!J36 -> 0 | AZ98: ='04 - VRN'!F33 -> 0 | BA98: ='04 - VRN'!F34 -> 0 | BB98: ='04 - VRN'!F35 -> 0 | BC98: ='04 - VRN'!F36 -> 0 | BD98: ='04 - VRN'!F37 -> 0 | BT98: 1 | BV98: IMPORT | BW98: {222898cb-c602-47aa-9d8a-b70398d621c6} | BX98: {d90fdd0e-a475-4b8a-93a8-1189295d3355} | CM98: 2
A99: / | D99: 05 | J99: Ostatní rozpočtové náklady | AG99: ='05 - Ostatní rozpočtové n...'!J30 -> 0 | AN99: =SUM(AG99,AT99) -> 0 | AQ99: OST | AS99: 0 | AT99: =ROUND(SUM(AV99:AW99),2) -> 0 | AU99: ='05 - Ostatní rozpočtové n...'!P117 -> 0 | AV99: ='05 - Ostatní rozpočtové n...'!J33 -> 0 | AW99: ='05 - Ostatní rozpočtové n...'!J34 -> 0 | AX99: ='05 - Ostatní rozpočtové n...'!J35 -> 0 | AY99: ='05 - Ostatní rozpočtové n...'!J36 -> 0 | AZ99: ='05 - Ostatní rozpočtové n...'!F33 -> 0 | BA99: ='05 - Ostatní rozpočtové n...'!F34 -> 0 | BB99: ='05 - Ostatní rozpočtové n...'!F35 -> 0 | BC99: ='05 - Ostatní rozpočtové n...'!F36 -> 0 | BD99: ='05 - Ostatní rozpočtové n...'!F37 -> 0 | BT99: 1 | BV99: IMPORT | BW99: {82ad865b-0f97-41ef-8931-907bf6a9b93b} | BX99: {d90fdd0e-a475-4b8a-93a8-1189295d3355} | CM99: 2

Sheet 01 - Horní Chobolice - vo...
L2: >> skryté sloupce << | AT2: {fe2aa70a-57f3-4530-afec-eb4022400dd1} | AZ2: jámy | BA2: jámy protlaku | BB2: m3 | BC2: 505,538 | BD2: 2
AT3: 2 | AZ3: lože | BA3: lože | BB3: m3 | BC3: 39,825 | BD3: 2
D4: KRYCÍ LIST SOUPISU PRACÍ | M4: v --- níže se nacházejí doplnkové a pomocné údaje k sestavám --- v | AT4: False | AZ4: nový_zásyp | BA4: nový zásyp | BB4: m3 | BC4: 63,084 | BD4: 2
AZ5: obsyp | BA5: obsyp | BB5: m3 | BC5: 88,146 | BD5: 2
D6: Stavba: | AZ6: pažení | BA6: pažení | BB6: m2 | BC6: 929,25 | BD6: 2
E7: ='Rekapitulace stavby'!K6 -> Dolní a Horní Chobolice - vodovodní přípojky | AZ7: pažení_jam | BA7: požení jámy | BB7: m2 | BC7: 899,64 | BD7: 2
D8: Objekt: | AZ8: přejezdy | BA8: přejezdové plechy | BB8: m2 | BC8: 22,5 | BD8: 2
E9: 01 - Horní Chobolice - vodovodní přípojky | AZ9: rozepření | BA9: rozepžení jámy | BB9: m3 | BC9: 573,3 | BD9: 2
AZ10: rýha | BA10: rýha | BC10: 359,175 | BD10: 2
D11: KSO: | F11: 827 1 | I11: CC-CZ: | AZ11: skládka_tr_3 | BA11: skládka tř. 3 | BB11: m3 | BC11: 139,464 | BD11: 2
D12: Místo: | F12: Chobolice | I12: Datum: | J12: ='Rekapitulace stavby'!AN8 -> - | AZ12: skládka_tr_4_5 | BA12: skládka tř. 4-5 | BB12: m3 | BC12: 139,464 | BD12: 2
AZ13: sonda | BA13: sonda | BB13: m3 | BC13: 38,75 | BD13: 2
D14: Zadavatel: | I14: IČ: | AZ14: zábrana | BA14: zábrana | BB14: m2 | BC14: 872 | BD14: 2
E15: Obec Liběšice | I15: DIČ: | AZ15: zásyp | BA15: zásyp | BB15: m3 | BC15: 630,844 | BD15: 2
AZ16: zpětný_zásyp | BA16: zpětný zásyp | BB16: m3 | BC16: 624,536 | BD16: 2
D17: Uchazeč: | I17: IČ: | J17: ='Rekapitulace stavby'!AN13 -> Vyplň údaj | AZ17: žebřík | BA17: žebřík | BB17: m | BC17: 119,7 | BD17: 2
E18: ='Rekapitulace stavby'!E14 -> Vyplň údaj | I18: DIČ: | J18: ='Rekapitulace stavby'!AN14 -> Vyplň údaj
D20: Projektant: | I20: IČ:
E21: SVIS TCE spol. s.r.o. | I21: DIČ:
D23: Zpracovatel: | I23: IČ: | J23: =IF('Rekapitulace stavby'!AN19="","",'Rekapitulace stavby'!AN19)
E24: =IF('Rekapitulace stavby'!E20="","",'Rekapitulace stavby'!E20) | I24: DIČ: | J24: =IF('Rekapitulace stavby'!AN20="","",'Rekapitulace stavby'!AN20)
D26: Poznámka:
E27: Soupis prací je sestaven s využitím Cenové soustavy ÚRS. Položky, které pochází z této cenové soustavy, jsou ve sloupci 'Cenová soustava' označeny popisem 'CS ÚRS' a úrovní příslušného kalendářního pololetí. Veškeré další informace vymezující popis a podmínky použití těchto položek z Cenové soustavy, které nejsou uvedeny přímo v soupisu prací, jsou neomezeně dálkově k dispozici na webu podminky.urs.cz.
D30: Cena bez DPH | J30: =ROUND(J126, 2) -> 0
F32: Základ daně | I32: Sazba daně | J32: Výše daně
D33: DPH | E33: základní | F33: =ROUND((SUM(BE126:BE928)), 2) -> 0 | I33: 0.21 | J33: =ROUND(((SUM(BE126:BE928))*I33), 2) -> 0
E34: snížená | F34: =ROUND((SUM(BF126:BF928)), 2) -> 0 | I34: 0.12 | J34: =ROUND(((SUM(BF126:BF928))*I34), 2) -> 0
E35: zákl. přenesená | F35: =ROUND((SUM(BG126:BG928)), 2) -> 0 | I35: 0.21 | J35: =0 -> 0
E36: sníž. přenesená | F36: =ROUND((SUM(BH126:BH928)), 2) -> 0 | I36: 0.12 | J36: =0 -> 0
E37: nulová | F37: =ROUND((SUM(BI126:BI928)), 2) -> 0 | I37: 0 | J37: =0 -> 0
D39: Cena s DPH | G39: v | H39: CZK | J39: =SUM(J30:J37) -> 0
D50: Projektant | G50: Zpracovatel
D61: Datum a podpis: | F61: Razítko | G61: Datum a podpis: | J61: Razítko
D65: Objednavatel | G65: Uchazeč
D76: Datum a podpis: | F76: Razítko | G76: Datum a podpis: | J76: Razítko
C82: REKAPITULACE ČLENĚNÍ SOUPISU PRACÍ
C84: Stavba:
E85: =E7 -> Dolní a Horní Chobolice - vodovodní přípojky
C86: Objekt:
E87: =E9 -> 01 - Horní Chobolice - vodovodní přípojky
C89: Místo: | F89: =F12 -> Chobolice | I89: Datum: | J89: =IF(J12="","",J12) -> -
C91: Zadavatel: | F91: =E15 -> Obec Liběšice | I91: Projektant: | J91: =E21 -> SVIS TCE spol. s.r.o.
C92: Uchazeč: | F92: =IF(E18="","",E18) -> Vyplň údaj | I92: Zpracovatel: | J92: =E24
C94: Kód dílu - Popis | J94: Cena celkem [CZK]
C96: Náklady ze soupisu prací | J96: =J126 -> 0 | AU96: -1
D97: HSV - Práce a dodávky HSV | J97: =J127 -> 0
D98: 1 - Zemní práce | J98: =J128 -> 0
D99: 3 - Svislé a kompletní konstrukce | J99: =J626 -> 0
D100: 4 - Vodorovné konstrukce | J100: =J669 -> 0
D101: 6 - Úpravy povrchů, podlahy a osazování výplní | J101: =J781 -> 0
D102: 8 - Trubní vedení | J102: =J787 -> 0
D103: 9 - Ostatní konstrukce a práce-bourání | J103: =J914 -> 0
D104: 998 - Přesun hmot | J104: =J919 -> 0
D105: PSV - Práce a dodávky PSV | J105: =J921 -> 0
D106: 722 - Zdravotechnika - vnitřní vodovod | J106: =J922 -> 0
C113: SOUPIS PRACÍ
C115: Stavba:
E116: =E7 -> Dolní a Horní Chobolice - vodovodní přípojky
C117: Objekt:
E118: =E9 -> 01 - Horní Chobolice - vodovodní přípojky
C120: Místo: | F120: =F12 -> Chobolice | I120: Datum: | J120: =IF(J12="","",J12) -> -
C122: Zadavatel: | F122: =E15 -> Obec Liběšice | I122: Projektant: | J122: =E21 -> SVIS TCE spol. s.r.o.
C123: Uchazeč: | F123: =IF(E18="","",E18) -> Vyplň údaj | I123: Zpracovatel: | J123: =E24
C125: PČ | D125: Typ | E125: Kód | F125: Popis | G125: MJ | H125: Množství | I125: J.cena [CZK] | J125: Cena celkem [CZK] | K125: Cenová soustava | N125: DPH | O125: J. Nh [h] | P125: Nh celkem [h] | Q125: J. hmotnost [t] | R125: Hmotnost celkem [t] | S125: J. suť [t] | T125: Suť Celkem [t]
C126: Náklady soupisu celkem | J126: =BK126 -> 0 | P126: =P127+P921 -> 0 | R126: =R127+R921 -> 134.58264 | T126: =T127+T921 -> 0 | AT126: D | AU126: -1 | BK126: =BK127+BK921 -> 0
D127: D | E127: HSV | F127: Práce a dodávky HSV | J127: =BK127 -> 0 | P127: =P128+P626+P669+P781+P787+P914+P919 -> 0 | R127: =R128+R626+R669+R781+R787+R914+R919 -> 134.49864 | T127: =T128+T626+T669+T781+T787+T914+T919 -> 0 | AR127: 1 | AT127: D | AU127: 0 | AY127: ROZPOCET | BK127: =BK128+BK626+BK669+BK781+BK787+BK914+BK919 -> 0
D128: D | E128: 1 | F128: Zemní práce | J128: =BK128 -> 0 | P128: =SUM(P129:P625) -> 0 | R128: =SUM(R129:R625) -> 2.911235 | T128: =SUM(T129:T625) -> 0 | AR128: 1 | AT128: D | AU128: 1 | AY128: ROZPOCET | BK128: =SUM(BK129:BK625) -> 0
C129: 1 | D129: K | E129: 115101201 | F129: Čerpání vody na dopravní výšku do 10 m průměrný přítok do 500 l/min | G129: hod | H129: 42 | J129: =ROUND(I129*H129,2) -> 0 | N129: základní | P129: =O129*H129 -> 0 | Q129: 3e-05 | R129: =Q129*H129 -> 0.00126 | S129: 0 | T129: =S129*H129 -> 0 | AR129: 4 | AT129: K | AU129: 2 | AY129: ROZPOCET | BE129: =IF(N129="základní",J129,0) -> 0 | BF129: =IF(N129="snížená",J129,0) -> 0 | BG129: =IF(N129="zákl. přenesená",J129,0) -> 0 | BH129: =IF(N129="sníž. přenesená",J129,0) -> 0 | BI129: =IF(N129="nulová",J129,0) -> 0 | BJ129: 1 | BK129: =ROUND(I129*H129,2) -> 0 | BL129: 4 | BM129: 697967438
D130: VV | F130: (bude upřesněno dle skutečnosti s měřením motohodin)hod za týden x týdny | AT130: VV | AU130: 2 | AV130: 1 | AW130: True | AX130: 0 | AY130: ROZPOCET
D131: VV | F131: 1,00*42 | H131: 42 | AT131: VV | AU131: 2 | AV131: 2 | AW131: True | AX131: 0 | AY131: ROZPOCET
D132: VV | F132: Součet | H132: 42 | AT132: VV | AU132: 2 | AV132: 4 | AW132: True | AX132: 1 | AY132: ROZPOCET
C133: 2 | D133: K | E133: 115101301 | F133: Pohotovost čerpací soupravy pro dopravní výšku do 10 m přítok do 500 l/min | G133: den | H133: 42 | J133: =ROUND(I133*H133,2) -> 0 | N133: základní | P133: =O133*H133 -> 0 | Q133: 0 | R133: =Q133*H133 -> 0 | S133: 0 | T133: =S133*H133 -> 0 | AR133: 4 | AT133: K | AU133: 2 | AY133: ROZPOCET | BE133: =IF(N133="základní",J133,0) -> 0 | BF133: =IF(N133="snížená",J133,0) -> 0 | BG133: =IF(N133="zákl. přenesená",J133,0) -> 0 | BH133: =IF(N133="sníž. přenesená",J133,0) -> 0 | BI133: =IF(N133="nulová",J133,0) -> 0 | BJ133: 1 | BK133: =ROUND(I133*H133,2) -> 0 | BL133: 4 | BM133: -794694935
D134: VV | F134: (bude upřesněno dle skutečnosti s měřením motohodin) | AT134: VV | AU134: 2 | AV134: 1 | AW134: True | AX134: 0 | AY134: ROZPOCET
D135: VV | F135: 42 | H135: 42 | AT135: VV | AU135: 2 | AV135: 2 | AW135: True | AX135: 0 | AY135: ROZPOCET
D136: VV | F136: Součet | H136: 42 | AT136: VV | AU136: 2 | AV136: 4 | AW136: True | AX136: 1 | AY136: ROZPOCET
C137: 3 | D137: K | E137: 119001421 | F137: Dočasné zajištění kabelů a kabelových tratí ze 3 volně ložených kabelů | G137: m | H137: 20 | J137: =ROUND(I137*H137,2) -> 0 | N137: základní | P137: =O137*H137 -> 0 | Q137: 0.0369 | R137: =Q137*H137 -> 0.738 | S137: 0 | T137: =S137*H137 -> 0 | AR137: 4 | AT137: K | AU137: 2 | AY137: ROZPOCET | BE137: =IF(N137="základní",J137,0) -> 0 | BF137: =IF(N137="snížená",J137,0) -> 0 | BG137: =IF(N137="zákl. přenesená",J137,0) -> 0 | BH137: =IF(N137="sníž. přenesená",J137,0) -> 0 | BI137: =IF(N137="nulová",J137,0) -> 0 | BJ137: 1 | BK137: =ROUND(I137*H137,2) -> 0 | BL137: 4 | BM137: -1384334408
D138: VV | F138: křížení sítí | AT138: VV | AU138: 2 | AV138: 1 | AW138: True | AX138: 0 | AY138: ROZPOCET
D139: VV | F139: 1,00*20 | H139: 20 | AT139: VV | AU139: 2 | AV139: 2 | AW139: True | AX139: 0 | AY139: ROZPOCET
D140: VV | F140: Součet | H140: 20 | AT140: VV | AU140: 2 | AV140: 4 | AW140: True | AX140: 1 | AY140: ROZPOCET
C141: 4 | D141: K | E141: 119002411 | F141: Pojezdový ocelový plech pro zabezpečení výkopu zřízení | G141: m2 | H141: 22.5 | J141: =ROUND(I141*H141,2) -> 0 | N141: základní | P141: =O141*H141 -> 0 | Q141: 0.00064 | R141: =Q141*H141 -> 0.0144 | S141: 0 | T141: =S141*H141 -> 0 | AR141: 4 | AT141: K | AU141: 2 | AY141: ROZPOCET | BE141: =IF(N141="základní",J141,0) -> 0 | BF141: =IF(N141="snížená",J141,0) -> 0 | BG141: =IF(N141="zákl. přenesená",J141,0) -> 0 | BH141: =IF(N141="sníž. přenesená",J141,0) -> 0 | BI141: =IF(N141="nulová",J141,0) -> 0 | BJ141: 1 | BK141: =ROUND(I141*H141,2) -> 0 | BL141: 4 | BM141: -1124148090
D142: VV | F142: 3,00*2,50*3 | H142: 22.5 | AT142: VV | AU142: 2 | AV142: 2 | AW142: True | AX142: 0 | AY142: ROZPOCET
D143: VV | E143: přejezdy | F143: Součet | H143: 22.5 | AT143: VV | AU143: 2 | AV143: 4 | AW143: True | AX143: 1 | AY143: ROZPOCET
C144: 5 | D144: K | E144: 119002412 | F144: Pojezdový ocelový plech pro zabezpečení výkopu odstranění | G144: m2 | H144: 22.5 | J144: =ROUND(I144*H144,2) -> 0 | N144: základní | P144: =O144*H144 -> 0 | Q144: 0 | R144: =Q144*H144 -> 0 | S144: 0 | T144: =S144*H144 -> 0 | AR144: 4 | AT144: K | AU144: 2 | AY144: ROZPOCET | BE144: =IF(N144="základní",J144,0) -> 0 | BF144: =IF(N144="snížená",J144,0) -> 0 | BG144: =IF(N144="zákl. přenesená",J144,0) -> 0 | BH144: =IF(N144="sníž. přenesená",J144,0) -> 0 | BI144: =IF(N144="nulová",J144,0) -> 0 | BJ144: 1 | BK144: =ROUND(I144*H144,2) -> 0 | BL144: 4 | BM144: 647761350
D145: VV | F145: přejezdy | H145: 22.5 | AT145: VV | AU145: 2 | AV145: 2 | AW145: True | AX145: 0 | AY145: ROZPOCET
D146: VV | F146: Součet | H146: 22.5 | AT146: VV | AU146: 2 | AV146: 4 | AW146: True | AX146: 1 | AY146: ROZPOCET
C147: 6 | D147: K | E147: 119003227 | F147: Mobilní plotová zábrana vyplněná dráty výšky přes 1,5 do 2,2 m pro zabezpečení výkopu zřízení | G147: m | H147: 872 | J147: =ROUND(I147*H147,2) -> 0 | N147: základní | P147: =O147*H147 -> 0 | Q147: 0.00049 | R147: =Q147*H147 -> 0.42728 | S147: 0 | T147: =S147*H147 -> 0 | AR147: 4 | AT147: K | AU147: 2 | AY147: ROZPOCET | BE147: =IF(N147="základní",J147,0) -> 0 | BF147: =IF(N147="snížená",J147,0) -> 0 | BG147: =IF(N147="zákl. přenesená",J147,0) -> 0 | BH147: =IF(N147="sníž. přenesená",J147,0) -> 0 | BI147: =IF(N147="nulová",J147,0) -> 0 | BJ147: 1 | BK147: =ROUND(I147*H147,2) -> 0 | BL147: 4 | BM147: -98440890
D148: VV | F148: 310,00*2+3,00*2*42 | H148: 872 | AT148: VV | AU148: 2 | AV148: 2 | AW148: True | AX148: 0 | AY148: ROZPOCET
D149: VV | E149: zábrana | F149: Součet | H149: 872 | AT149: VV | AU149: 2 | AV149: 4 | AW149: True | AX149: 1 | AY149: ROZPOCET
C150: 7 | D150: K | E150: 119003228 | F150: Mobilní plotová zábrana vyplněná dráty výšky přes 1,5 do 2,2 m pro zabezpečení výkopu odstranění | G150: m | H150: 872 | J150: =ROUND(I150*H150,2) -> 0 | N150: základní | P150: =O150*H150 -> 0 | Q150: 0 | R150: =Q150*H150 -> 0 | S150: 0 | T150: =S150*H150 -> 0 | AR150: 4 | AT150: K | AU150: 2 | AY150: ROZPOCET | BE150: =IF(N150="základní",J150,0) -> 0 | BF150: =IF(N150="snížená",J150,0) -> 0 | BG150: =IF(N150="zákl. přenesená",J150,0) -> 0 | BH150: =IF(N150="sníž. přenesená",J150,0) -> 0 | BI150: =IF(N150="nulová",J150,0) -> 0 | BJ150: 1 | BK150: =ROUND(I150*H150,2) -> 0 | BL150: 4 | BM150: 1854889880
D151: VV | F151: zábrana | H151: 872 | AT151: VV | AU151: 2 | AV151: 2 | AW151: True | AX151: 0 | AY151: ROZPOCET
D152: VV | F152: Součet | H152: 872 | AT152: VV | AU152: 2 | AV152: 4 | AW152: True | AX152: 1 | AY152: ROZPOCET
C153: 8 | D153: K | E153: 119004111 | F153: Bezpečný vstup nebo výstup z výkopu pomocí žebříku zřízení | G153: m | H153: 119.7 | J153: =ROUND(I153*H153,2) -> 0 | N153: základní | P153: =O153*H153 -> 0 | Q153: 0.00047 | R153: =Q153*H153 -> 0.056259 | S153: 0 | T153: =S153*H153 -> 0 | AR153: 4 | AT153: K | AU153: 2 | AY153: ROZPOCET | BE153: =IF(N153="základní",J153,0) -> 0 | BF153: =IF(N153="snížená",J153,0) -> 0 | BG153: =IF(N153="zákl. přenesená",J153,0) -> 0 | BH153: =IF(N153="sníž. přenesená",J153,0) -> 0 | BI153: =IF(N153="nulová",J153,0) -> 0 | BJ153: 1 | BK153: =ROUND(I153*H153,2) -> 0 | BL153: 4 | BM153: -1457714259
D154: VV | F154: (1,75+1,10)*42 | H154: 119.7 | AT154: VV | AU154: 2 | AV154: 2 | AW154: True | AX154: 0 | AY154: ROZPOCET
D155: VV | E155: žebřík | F155: Součet | H155: 119.7 | AT155: VV | AU155: 2 | AV155: 4 | AW155: True | AX155: 1 | AY155: ROZPOCET
C156: 9 | D156: K | E156: 119004112 | F156: Bezpečný vstup nebo výstup z výkopu pomocí žebříku odstranění | G156: m | H156: 119.7 | J156: =ROUND(I156*H156,2) -> 0 | N156: základní | P156: =O156*H156 -> 0 | Q156: 0 | R156: =Q156*H156 -> 0 | S156: 0 | T156: =S156*H156 -> 0 | AR156: 4 | AT156: K | AU156: 2 | AY156: ROZPOCET | BE156: =IF(N156="základní",J156,0) -> 0 | BF156: =IF(N156="snížená",J156,0) -> 0 | BG156: =IF(N156="zákl. přenesená",J156,0) -> 0 | BH156: =IF(N156="sníž. přenesená",J156,0) -> 0 | BI156: =IF(N156="nulová",J156,0) -> 0 | BJ156: 1 | BK156: =ROUND(I156*H156,2) -> 0 | BL156: 4 | BM156: -1208297241
D157: VV | F157: žebřík | H157: 119.7 | AT157: VV | AU157: 2 | AV157: 2 | AW157: True | AX157: 0 | AY157: ROZPOCET
D158: VV | F158: Součet | H158: 119.7 | AT158: VV | AU158: 2 | AV158: 4 | AW158: True | AX158: 1 | AY158: ROZPOCET
C159: 10 | D159: K | E159: 129001101 | F159: Příplatek za ztížení odkopávky nebo prokopávky v blízkosti inženýrských sítí | G159: m3 | H159: 90.346 | J159: =ROUND(I159*H159,2) -> 0 | N159: základní | P159: =O159*H159 -> 0 | Q159: 0 | R159: =Q159*H159 -> 0 | S159: 0 | T159: =S159*H159 -> 0 | AR159: 4 | AT159: K | AU159: 2 | AY159: ROZPOCET | BE159: =IF(N159="základní",J159,0) -> 0 | BF159: =IF(N159="snížená",J159,0) -> 0 | BG159: =IF(N159="zákl. přenesená",J159,0) -> 0 | BH159: =IF(N159="sníž. přenesená",J159,0) -> 0 | BI159: =IF(N159="nulová",J159,0) -> 0 | BJ159: 1 | BK159: =ROUND(I159*H159,2) -> 0 | BL159: 4 | BM159: 1487419789
D160: VV | F160: (rýha+jámy+sonda)*0,10 | H160: 90.346 | AT160: VV | AU160: 2 | AV160: 2 | AW160: True | AX160: 0 | AY160: ROZPOCET
D161: VV | F161: Součet | H161: 90.346 | AT161: VV | AU161: 2 | AV161: 4 | AW161: True | AX161: 1 | AY161: ROZPOCET
...

Sheet 02 - Dolní Chobolice - vo...
L2: >> skryté sloupce << | AT2: {5f52651f-4c24-483d-9229-79ac32884ed6} | AZ2: jámy | BA2: jámy protlaku | BB2: m3 | BC2: 320,288 | BD2: 2
AT3: 2 | AZ3: lože | BA3: lože | BB3: m3 | BC3: 23,4 | BD3: 2
D4: KRYCÍ LIST SOUPISU PRACÍ | M4: v --- níže se nacházejí doplnkové a pomocné údaje k sestavám --- v | AT4: False | AZ4: nový_zásyp | BA4: nový zásyp | BB4: m3 | BC4: 38,654 | BD4: 2
AZ5: obsyp | BA5: obsyp | BB5: m3 | BC5: 53,232 | BD5: 2
D6: Stavba: | AZ6: pažení | BA6: pažení | BB6: m2 | BC6: 546 | BD6: 2
E7: ='Rekapitulace stavby'!K6 -> Dolní a Horní Chobolice - vodovodní přípojky | AZ7: pažení_jam | BA7: požení jámy | BB7: m2 | BC7: 578,34 | BD7: 2
D8: Objekt: | AZ8: přejezdy | BA8: přejezdové plechy | BB8: m2 | BC8: 7,5 | BD8: 2
E9: 02 - Dolní Chobolice - vodovodní přípojky | AZ9: rozepření | BA9: rozepžení jámy | BB9: m3 | BC9: 368,55 | BD9: 2
AZ10: rýha | BA10: rýha | BC10: 192,125 | BD10: 2
D11: KSO: | F11: 827 1 | I11: CC-CZ: | AZ11: skládka_tr_3 | BA11: skládka tř. 3 | BB11: m3 | BC11: 85,021 | BD11: 2
D12: Místo: | F12: Chobolice | I12: Datum: | J12: ='Rekapitulace stavby'!AN8 -> - | AZ12: skládka_tr_4_5 | BA12: skládka tř. 4-5 | BB12: m3 | BC12: 85,021 | BD12: 2
AZ13: sonda | BA13: sonda | BB13: m3 | BC13: 40,3 | BD13: 2
D14: Zadavatel: | I14: IČ: | AZ14: zábrana | BA14: zábrana | BB14: m2 | BC14: 528 | BD14: 2
E15: Obec Liběšice | I15: DIČ: | AZ15: zásyp | BA15: zásyp | BB15: m3 | BC15: 386,537 | BD15: 2
AZ16: zpětný_zásyp | BA16: zpětný zásyp | BB16: m3 | BC16: 382,672 | BD16: 2
D17: Uchazeč: | I17: IČ: | J17: ='Rekapitulace stavby'!AN13 -> Vyplň údaj | AZ17: žebřík | BA17: žebřík | BB17: m | BC17: 76,95 | BD17: 2
E18: ='Rekapitulace stavby'!E14 -> Vyplň údaj | I18: DIČ: | J18: ='Rekapitulace stavby'!AN14 -> Vyplň údaj
D20: Projektant: | I20: IČ:
E21: SVIS TCE spol. s.r.o. | I21: DIČ:
D23: Zpracovatel: | I23: IČ: | J23: =IF('Rekapitulace stavby'!AN19="","",'Rekapitulace stavby'!AN19)
E24: =IF('Rekapitulace stavby'!E20="","",'Rekapitulace stavby'!E20) | I24: DIČ: | J24: =IF('Rekapitulace stavby'!AN20="","",'Rekapitulace stavby'!AN20)
D26: Poznámka:
E27: Soupis prací je sestaven s využitím Cenové soustavy ÚRS. Položky, které pochází z této cenové soustavy, jsou ve sloupci 'Cenová soustava' označeny popisem 'CS ÚRS' a úrovní příslušného kalendářního pololetí. Veškeré další informace vymezující popis a podmínky použití těchto položek z Cenové soustavy, které nejsou uvedeny přímo v soupisu prací, jsou neomezeně dálkově k dispozici na webu podminky.urs.cz.
D30: Cena bez DPH | J30: =ROUND(J125, 2) -> 0
F32: Základ daně | I32: Sazba daně | J32: Výše daně
D33: DPH | E33: základní | F33: =ROUND((SUM(BE125:BE751)), 2) -> 0 | I33: 0.21 | J33: =ROUND(((SUM(BE125:BE751))*I33), 2) -> 0
E34: snížená | F34: =ROUND((SUM(BF125:BF751)), 2) -> 0 | I34: 0.12 | J34: =ROUND(((SUM(BF125:BF751))*I34), 2) -> 0
E35: zákl. přenesená | F35: =ROUND((SUM(BG125:BG751)), 2) -> 0 | I35: 0.21 | J35: =0 -> 0
E36: sníž. přenesená | F36: =ROUND((SUM(BH125:BH751)), 2) -> 0 | I36: 0.12 | J36: =0 -> 0
E37: nulová | F37: =ROUND((SUM(BI125:BI751)), 2) -> 0 | I37: 0 | J37: =0 -> 0
D39: Cena s DPH | G39: v | H39: CZK | J39: =SUM(J30:J37) -> 0
D50: Projektant | G50: Zpracovatel
D61: Datum a podpis: | F61: Razítko | G61: Datum a podpis: | J61: Razítko
D65: Objednavatel | G65: Uchazeč
D76: Datum a podpis: | F76: Razítko | G76: Datum a podpis: | J76: Razítko
C82: REKAPITULACE ČLENĚNÍ SOUPISU PRACÍ
C84: Stavba:
E85: =E7 -> Dolní a Horní Chobolice - vodovodní přípojky
C86: Objekt:
E87: =E9 -> 02 - Dolní Chobolice - vodovodní přípojky
C89: Místo: | F89: =F12 -> Chobolice | I89: Datum: | J89: =IF(J12="","",J12) -> -
C91: Zadavatel: | F91: =E15 -> Obec Liběšice | I91: Projektant: | J91: =E21 -> SVIS TCE spol. s.r.o.
C92: Uchazeč: | F92: =IF(E18="","",E18) -> Vyplň údaj | I92: Zpracovatel: | J92: =E24
C94: Kód dílu - Popis | J94: Cena celkem [CZK]
C96: Náklady ze soupisu prací | J96: =J125 -> 0 | AU96: -1
D97: HSV - Práce a dodávky HSV | J97: =J126 -> 0
D98: 1 - Zemní práce | J98: =J127 -> 0
D99: 3 - Svislé a kompletní konstrukce | J99: =J503 -> 0
D100: 4 - Vodorovné konstrukce | J100: =J532 -> 0
D101: 6 - Úpravy povrchů, podlahy a osazování výplní | J101: =J614 -> 0
D102: 8 - Trubní vedení | J102: =J620 -> 0
D103: 998 - Přesun hmot | J103: =J742 -> 0
D104: PSV - Práce a dodávky PSV | J104: =J744 -> 0
D105: 722 - Zdravotechnika - vnitřní vodovod | J105: =J745 -> 0
C112: SOUPIS PRACÍ
C114: Stavba:
E115: =E7 -> Dolní a Horní Chobolice - vodovodní přípojky
C116: Objekt:
E117: =E9 -> 02 - Dolní Chobolice - vodovodní přípojky
C119: Místo: | F119: =F12 -> Chobolice | I119: Datum: | J119: =IF(J12="","",J12) -> -
C121: Zadavatel: | F121: =E15 -> Obec Liběšice | I121: Projektant: | J121: =E21 -> SVIS TCE spol. s.r.o.
C122: Uchazeč: | F122: =IF(E18="","",E18) -> Vyplň údaj | I122: Zpracovatel: | J122: =E24
C124: PČ | D124: Typ | E124: Kód | F124: Popis | G124: MJ | H124: Množství | I124: J.cena [CZK] | J124: Cena celkem [CZK] | K124: Cenová soustava | N124: DPH | O124: J. Nh [h] | P124: Nh celkem [h] | Q124: J. hmotnost [t] | R124: Hmotnost celkem [t] | S124: J. suť [t] | T124: Suť Celkem [t]
C125: Náklady soupisu celkem | J125: =BK125 -> 0 | P125: =P126+P744 -> 0 | R125: =R126+R744 -> 86.191426 | T125: =T126+T744 -> 0 | AT125: D | AU125: -1 | BK125: =BK126+BK744 -> 0
D126: D | E126: HSV | F126: Práce a dodávky HSV | J126: =BK126 -> 0 | P126: =P127+P503+P532+P614+P620+P742 -> 0 | R126: =R127+R503+R532+R614+R620+R742 -> 86.137426 | T126: =T127+T503+T532+T614+T620+T742 -> 0 | AR126: 1 | AT126: D | AU126: 0 | AY126: ROZPOCET | BK126: =BK127+BK503+BK532+BK614+BK620+BK742 -> 0
D127: D | E127: 1 | F127: Zemní práce | J127: =BK127 -> 0 | P127: =SUM(P128:P502) -> 0 | R127: =SUM(R128:R502) -> 1.7025075 | T127: =SUM(T128:T502) -> 0 | AR127: 1 | AT127: D | AU127: 1 | AY127: ROZPOCET | BK127: =SUM(BK128:BK502) -> 0
C128: 1 | D128: K | E128: 115101201 | F128: Čerpání vody na dopravní výšku do 10 m průměrný přítok do 500 l/min | G128: hod | H128: 27 | J128: =ROUND(I128*H128,2) -> 0 | N128: základní | P128: =O128*H128 -> 0 | Q128: 3e-05 | R128: =Q128*H128 -> 0.00081 | S128: 0 | T128: =S128*H128 -> 0 | AR128: 4 | AT128: K | AU128: 2 | AY128: ROZPOCET | BE128: =IF(N128="základní",J128,0) -> 0 | BF128: =IF(N128="snížená",J128,0) -> 0 | BG128: =IF(N128="zákl. přenesená",J128,0) -> 0 | BH128: =IF(N128="sníž. přenesená",J128,0) -> 0 | BI128: =IF(N128="nulová",J128,0) -> 0 | BJ128: 1 | BK128: =ROUND(I128*H128,2) -> 0 | BL128: 4 | BM128: 697967438
D129: VV | F129: (bude upřesněno dle skutečnosti s měřením motohodin)hod za týden x týdny | AT129: VV | AU129: 2 | AV129: 1 | AW129: True | AX129: 0 | AY129: ROZPOCET
D130: VV | F130: 1,00*27 | H130: 27 | AT130: VV | AU130: 2 | AV130: 2 | AW130: True | AX130: 0 | AY130: ROZPOCET
D131: VV | F131: Součet | H131: 27 | AT131: VV | AU131: 2 | AV131: 4 | AW131: True | AX131: 1 | AY131: ROZPOCET
C132: 2 | D132: K | E132: 115101301 | F132: Pohotovost čerpací soupravy pro dopravní výšku do 10 m přítok do 500 l/min | G132: den | H132: 27 | J132: =ROUND(I132*H132,2) -> 0 | N132: základní | P132: =O132*H132 -> 0 | Q132: 0 | R132: =Q132*H132 -> 0 | S132: 0 | T132: =S132*H132 -> 0 | AR132: 4 | AT132: K | AU132: 2 | AY132: ROZPOCET | BE132: =IF(N132="základní",J132,0) -> 0 | BF132: =IF(N132="snížená",J132,0) -> 0 | BG132: =IF(N132="zákl. přenesená",J132,0) -> 0 | BH132: =IF(N132="sníž. přenesená",J132,0) -> 0 | BI132: =IF(N132="nulová",J132,0) -> 0 | BJ132: 1 | BK132: =ROUND(I132*H132,2) -> 0 | BL132: 4 | BM132: -794694935
D133: VV | F133: (bude upřesněno dle skutečnosti s měřením motohodin) | AT133: VV | AU133: 2 | AV133: 1 | AW133: True | AX133: 0 | AY133: ROZPOCET
D134: VV | F134: 27 | H134: 27 | AT134: VV | AU134: 2 | AV134: 2 | AW134: True | AX134: 0 | AY134: ROZPOCET
D135: VV | F135: Součet | H135: 27 | AT135: VV | AU135: 2 | AV135: 4 | AW135: True | AX135: 1 | AY135: ROZPOCET
C136: 3 | D136: K | E136: 119001421 | F136: Dočasné zajištění kabelů a kabelových tratí ze 3 volně ložených kabelů | G136: m | H136: 10 | J136: =ROUND(I136*H136,2) -> 0 | N136: základní | P136: =O136*H136 -> 0 | Q136: 0.0369 | R136: =Q136*H136 -> 0.369 | S136: 0 | T136: =S136*H136 -> 0 | AR136: 4 | AT136: K | AU136: 2 | AY136: ROZPOCET | BE136: =IF(N136="základní",J136,0) -> 0 | BF136: =IF(N136="snížená",J136,0) -> 0 | BG136: =IF(N136="zákl. přenesená",J136,0) -> 0 | BH136: =IF(N136="sníž. přenesená",J136,0) -> 0 | BI136: =IF(N136="nulová",J136,0) -> 0 | BJ136: 1 | BK136: =ROUND(I136*H136,2) -> 0 | BL136: 4 | BM136: -1384334408
D137: VV | F137: křížení sítí | AT137: VV | AU137: 2 | AV137: 1 | AW137: True | AX137: 0 | AY137: ROZPOCET
D138: VV | F138: 1,00*10 | H138: 10 | AT138: VV | AU138: 2 | AV138: 2 | AW138: True | AX138: 0 | AY138: ROZPOCET
D139: VV | F139: Součet | H139: 10 | AT139: VV | AU139: 2 | AV139: 4 | AW139: True | AX139: 1 | AY139: ROZPOCET
C140: 4 | D140: K | E140: 119002411 | F140: Pojezdový ocelový plech pro zabezpečení výkopu zřízení | G140: m2 | H140: 7.5 | J140: =ROUND(I140*H140,2) -> 0 | N140: základní | P140: =O140*H140 -> 0 | Q140: 0.00064 | R140: =Q140*H140 -> 0.0048 | S140: 0 | T140: =S140*H140 -> 0 | AR140: 4 | AT140: K | AU140: 2 | AY140: ROZPOCET | BE140: =IF(N140="základní",J140,0) -> 0 | BF140: =IF(N140="snížená",J140,0) -> 0 | BG140: =IF(N140="zákl. přenesená",J140,0) -> 0 | BH140: =IF(N140="sníž. přenesená",J140,0) -> 0 | BI140: =IF(N140="nulová",J140,0) -> 0 | BJ140: 1 | BK140: =ROUND(I140*H140,2) -> 0 | BL140: 4 | BM140: -1124148090
D141: VV | F141: 3,00*2,50 | H141: 7.5 | AT141: VV | AU141: 2 | AV141: 2 | AW141: True | AX141: 0 | AY141: ROZPOCET
D142: VV | E142: přejezdy | F142: Součet | H142: 7.5 | AT142: VV | AU142: 2 | AV142: 4 | AW142: True | AX142: 1 | AY142: ROZPOCET
C143: 5 | D143: K | E143: 119002412 | F143: Pojezdový ocelový plech pro zabezpečení výkopu odstranění | G143: m2 | H143: 7.5 | J143: =ROUND(I143*H143,2) -> 0 | N143: základní | P143: =O143*H143 -> 0 | Q143: 0 | R143: =Q143*H143 -> 0 | S143: 0 | T143: =S143*H143 -> 0 | AR143: 4 | AT143: K | AU143: 2 | AY143: ROZPOCET | BE143: =IF(N143="základní",J143,0) -> 0 | BF143: =IF(N143="snížená",J143,0) -> 0 | BG143: =IF(N143="zákl. přenesená",J143,0) -> 0 | BH143: =IF(N143="sníž. přenesená",J143,0) -> 0 | BI143: =IF(N143="nulová",J143,0) -> 0 | BJ143: 1 | BK143: =ROUND(I143*H143,2) -> 0 | BL143: 4 | BM143: 647761350
D144: VV | F144: přejezdy | H144: 7.5 | AT144: VV | AU144: 2 | AV144: 2 | AW144: True | AX144: 0 | AY144: ROZPOCET
D145: VV | F145: Součet | H145: 7.5 | AT145: VV | AU145: 2 | AV145: 4 | AW145: True | AX145: 1 | AY145: ROZPOCET
C146: 6 | D146: K | E146: 119003227 | F146: Mobilní plotová zábrana vyplněná dráty výšky přes 1,5 do 2,2 m pro zabezpečení výkopu zřízení | G146: m | H146: 528 | J146: =ROUND(I146*H146,2) -> 0 | N146: základní | P146: =O146*H146 -> 0 | Q146: 0.00049 | R146: =Q146*H146 -> 0.25872 | S146: 0 | T146: =S146*H146 -> 0 | AR146: 4 | AT146: K | AU146: 2 | AY146: ROZPOCET | BE146: =IF(N146="základní",J146,0) -> 0 | BF146: =IF(N146="snížená",J146,0) -> 0 | BG146: =IF(N146="zákl. přenesená",J146,0) -> 0 | BH146: =IF(N146="sníž. přenesená",J146,0) -> 0 | BI146: =IF(N146="nulová",J146,0) -> 0 | BJ146: 1 | BK146: =ROUND(I146*H146,2) -> 0 | BL146: 4 | BM146: -98440890
D147: VV | F147: 183,00*2+3,00*2*27 | H147: 528 | AT147: VV | AU147: 2 | AV147: 2 | AW147: True | AX147: 0 | AY147: ROZPOCET
D148: VV | E148: zábrana | F148: Součet | H148: 528 | AT148: VV | AU148: 2 | AV148: 4 | AW148: True | AX148: 1 | AY148: ROZPOCET
C149: 7 | D149: K | E149: 119003228 | F149: Mobilní plotová zábrana vyplněná dráty výšky přes 1,5 do 2,2 m pro zabezpečení výkopu odstranění | G149: m | H149: 528 | J149: =ROUND(I149*H149,2) -> 0 | N149: základní | P149: =O149*H149 -> 0 | Q149: 0 | R149: =Q149*H149 -> 0 | S149: 0 | T149: =S149*H149 -> 0 | AR149: 4 | AT149: K | AU149: 2 | AY149: ROZPOCET | BE149: =IF(N149="základní",J149,0) -> 0 | BF149: =IF(N149="snížená",J149,0) -> 0 | BG149: =IF(N149="zákl. přenesená",J149,0) -> 0 | BH149: =IF(N149="sníž. přenesená",J149,0) -> 0 | BI149: =IF(N149="nulová",J149,0) -> 0 | BJ149: 1 | BK149: =ROUND(I149*H149,2) -> 0 | BL149: 4 | BM149: 1854889880
D150: VV | F150: zábrana | H150: 528 | AT150: VV | AU150: 2 | AV150: 2 | AW150: True | AX150: 0 | AY150: ROZPOCET
D151: VV | F151: Součet | H151: 528 | AT151: VV | AU151: 2 | AV151: 4 | AW151: True | AX151: 1 | AY151: ROZPOCET
C152: 8 | D152: K | E152: 119004111 | F152: Bezpečný vstup nebo výstup z výkopu pomocí žebříku zřízení | G152: m | H152: 76.95 | J152: =ROUND(I152*H152,2) -> 0 | N152: základní | P152: =O152*H152 -> 0 | Q152: 0.00047 | R152: =Q152*H152 -> 0.0361665 | S152: 0 | T152: =S152*H152 -> 0 | AR152: 4 | AT152: K | AU152: 2 | AY152: ROZPOCET | BE152: =IF(N152="základní",J152,0) -> 0 | BF152: =IF(N152="snížená",J152,0) -> 0 | BG152: =IF(N152="zákl. přenesená",J152,0) -> 0 | BH152: =IF(N152="sníž. přenesená",J152,0) -> 0 | BI152: =IF(N152="nulová",J152,0) -> 0 | BJ152: 1 | BK152: =ROUND(I152*H152,2) -> 0 | BL152: 4 | BM152: -1457714259
D153: VV | F153: (1,75+1,10)*27 | H153: 76.95 | AT153: VV | AU153: 2 | AV153: 2 | AW153: True | AX153: 0 | AY153: ROZPOCET
D154: VV | E154: žebřík | F154: Součet | H154: 76.95 | AT154: VV | AU154: 2 | AV154: 4 | AW154: True | AX154: 1 | AY154: ROZPOCET
C155: 9 | D155: K | E155: 119004112 | F155: Bezpečný vstup nebo výstup z výkopu pomocí žebříku odstranění | G155: m | H155: 76.95 | J155: =ROUND(I155*H155,2) -> 0 | N155: základní | P155: =O155*H155 -> 0 | Q155: 0 | R155: =Q155*H155 -> 0 | S155: 0 | T155: =S155*H155 -> 0 | AR155: 4 | AT155: K | AU155: 2 | AY155: ROZPOCET | BE155: =IF(N155="základní",J155,0) -> 0 | BF155: =IF(N155="snížená",J155,0) -> 0 | BG155: =IF(N155="zákl. přenesená",J155,0) -> 0 | BH155: =IF(N155="sníž. přenesená",J155,0) -> 0 | BI155: =IF(N155="nulová",J155,0) -> 0 | BJ155: 1 | BK155: =ROUND(I155*H155,2) -> 0 | BL155: 4 | BM155: -1208297241
D156: VV | F156: žebřík | H156: 76.95 | AT156: VV | AU156: 2 | AV156: 2 | AW156: True | AX156: 0 | AY156: ROZPOCET
D157: VV | F157: Součet | H157: 76.95 | AT157: VV | AU157: 2 | AV157: 4 | AW157: True | AX157: 1 | AY157: ROZPOCET
C158: 10 | D158: K | E158: 129001101 | F158: Příplatek za ztížení odkopávky nebo prokopávky v blízkosti inženýrských sítí | G158: m3 | H158: 55.271 | J158: =ROUND(I158*H158,2) -> 0 | N158: základní | P158: =O158*H158 -> 0 | Q158: 0 | R158: =Q158*H158 -> 0 | S158: 0 | T158: =S158*H158 -> 0 | AR158: 4 | AT158: K | AU158: 2 | AY158: ROZPOCET | BE158: =IF(N158="základní",J158,0) -> 0 | BF158: =IF(N158="snížená",J158,0) -> 0 | BG158: =IF(N158="zákl. přenesená",J158,0) -> 0 | BH158: =IF(N158="sníž. přenesená",J158,0) -> 0 | BI158: =IF(N158="nulová",J158,0) -> 0 | BJ158: 1 | BK158: =ROUND(I158*H158,2) -> 0 | BL158: 4 | BM158: 1487419789
D159: VV | F159: (rýha+jámy+sonda)*0,10 | H159: 55.271 | AT159: VV | AU159: 2 | AV159: 2 | AW159: True | AX159: 0 | AY159: ROZPOCET
D160: VV | F160: Součet | H160: 55.271 | AT160: VV | AU160: 2 | AV160: 4 | AW160: True | AX160: 1 | AY160: ROZPOCET
C161: 11 | D161: K | E161: 131213131 | F161: Hloubení jam do 10 m3 v soudržných horninách třídy těžitelnosti I skupiny 3 při překopech inženýrských sítí ručně | G161: m3 | H161: 20.15 | J161: =ROUND(I161*H161,2) -> 0 | N161: základní | P161: =O161*H161 -> 0 | Q161: 0 | R161: =Q161*H161 -> 0 | S161: 0 | T161: =S161*H161 -> 0 | AR161: 4 | AT161: K | AU161: 2 | AY161: ROZPOCET | BE161: =IF(N161="základní",J161,0) -> 0 | BF161: =IF(N161="snížená",J161,0) -> 0 | BG161: =IF(N161="zákl. přenesená",J161,0) -> 0 | BH161: =IF(N161="sníž. přenesená",J161,0) -> 0 | BI161: =IF(N161="nulová",J161,0) -> 0 | BJ161: 1 | BK161: =ROUND(I161*H161,2) -> 0 | BL161: 4 | BM161: -360505509
...

Sheet 03 - Komunikace 
L2: >> skryté sloupce << | AT2: {a37c10aa-6f49-4579-b762-f83d51371840}
AT3: 2
D4: KRYCÍ LIST SOUPISU PRACÍ | M4: v --- níže se nacházejí doplnkové a pomocné údaje k sestavám --- v | AT4: False
D6: Stavba:
E7: ='Rekapitulace stavby'!K6 -> Dolní a Horní Chobolice - vodovodní přípojky
D8: Objekt:
E9: 03 - Komunikace
D11: KSO: | F11: 827 | I11: CC-CZ:
D12: Místo: | F12: Chobolice | I12: Datum: | J12: ='Rekapitulace stavby'!AN8 -> -
D14: Zadavatel: | I14: IČ:
E15: Obec Liběšice | I15: DIČ:
D17: Uchazeč: | I17: IČ: | J17: ='Rekapitulace stavby'!AN13 -> Vyplň údaj
E18: ='Rekapitulace stavby'!E14 -> Vyplň údaj | I18: DIČ: | J18: ='Rekapitulace stavby'!AN14 -> Vyplň údaj
D20: Projektant: | I20: IČ:
E21: SVIS TCE spol. s.r.o. | I21: DIČ:
D23: Zpracovatel: | I23: IČ: | J23: =IF('Rekapitulace stavby'!AN19="","",'Rekapitulace stavby'!AN19)
E24: =IF('Rekapitulace stavby'!E20="","",'Rekapitulace stavby'!E20) | I24: DIČ: | J24: =IF('Rekapitulace stavby'!AN20="","",'Rekapitulace stavby'!AN20)
D26: Poznámka:
E27: Soupis prací je sestaven s využitím Cenové soustavy ÚRS. Položky, které pochází z této cenové soustavy, jsou ve sloupci 'Cenová soustava' označeny popisem 'CS ÚRS' a úrovní příslušného kalendářního pololetí. Veškeré další informace vymezující popis a podmínky použití těchto položek z Cenové soustavy, které nejsou uvedeny přímo v soupisu prací, jsou neomezeně dálkově k dispozici na webu podminky.urs.cz.
D30: Cena bez DPH | J30: =ROUND(J123, 2) -> 0
F32: Základ daně | I32: Sazba daně | J32: Výše daně
D33: DPH | E33: základní | F33: =ROUND((SUM(BE123:BE412)), 2) -> 0 | I33: 0.21 | J33: =ROUND(((SUM(BE123:BE412))*I33), 2) -> 0
E34: snížená | F34: =ROUND((SUM(BF123:BF412)), 2) -> 0 | I34: 0.12 | J34: =ROUND(((SUM(BF123:BF412))*I34), 2) -> 0
E35: zákl. přenesená | F35: =ROUND((SUM(BG123:BG412)), 2) -> 0 | I35: 0.21 | J35: =0 -> 0
E36: sníž. přenesená | F36: =ROUND((SUM(BH123:BH412)), 2) -> 0 | I36: 0.12 | J36: =0 -> 0
E37: nulová | F37: =ROUND((SUM(BI123:BI412)), 2) -> 0 | I37: 0 | J37: =0 -> 0
D39: Cena s DPH | G39: v | H39: CZK | J39: =SUM(J30:J37) -> 0
D50: Projektant | G50: Zpracovatel
D61: Datum a podpis: | F61: Razítko | G61: Datum a podpis: | J61: Razítko
D65: Objednavatel | G65: Uchazeč
D76: Datum a podpis: | F76: Razítko | G76: Datum a podpis: | J76: Razítko
C82: REKAPITULACE ČLENĚNÍ SOUPISU PRACÍ
C84: Stavba:
E85: =E7 -> Dolní a Horní Chobolice - vodovodní přípojky
C86: Objekt:
E87: =E9 -> 03 - Komunikace
C89: Místo: | F89: =F12 -> Chobolice | I89: Datum: | J89: =IF(J12="","",J12) -> -
C91: Zadavatel: | F91: =E15 -> Obec Liběšice | I91: Projektant: | J91: =E21 -> SVIS TCE spol. s.r.o.
C92: Uchazeč: | F92: =IF(E18="","",E18) -> Vyplň údaj | I92: Zpracovatel: | J92: =E24
C94: Kód dílu - Popis | J94: Cena celkem [CZK]
C96: Náklady ze soupisu prací | J96: =J123 -> 0 | AU96: -1
D97: HSV - Práce a dodávky HSV | J97: =J124 -> 0
D98: 1 - Zemní práce | J98: =J125 -> 0
D99: 2 - Zakládání | J99: =J209 -> 0
D100: 5 - Komunikace pozemní | J100: =J216 -> 0
D101: 9 - Ostatní konstrukce a práce-bourání | J101: =J327 -> 0
D102: 997 - Přesun sutě | J102: =J355 -> 0
D103: 998 - Přesun hmot | J103: =J411 -> 0
C110: SOUPIS PRACÍ
C112: Stavba:
E113: =E7 -> Dolní a Horní Chobolice - vodovodní přípojky
C114: Objekt:
E115: =E9 -> 03 - Komunikace
C117: Místo: | F117: =F12 -> Chobolice | I117: Datum: | J117: =IF(J12="","",J12) -> -
C119: Zadavatel: | F119: =E15 -> Obec Liběšice | I119: Projektant: | J119: =E21 -> SVIS TCE spol. s.r.o.
C120: Uchazeč: | F120: =IF(E18="","",E18) -> Vyplň údaj | I120: Zpracovatel: | J120: =E24
C122: PČ | D122: Typ | E122: Kód | F122: Popis | G122: MJ | H122: Množství | I122: J.cena [CZK] | J122: Cena celkem [CZK] | K122: Cenová soustava | N122: DPH | O122: J. Nh [h] | P122: Nh celkem [h] | Q122: J. hmotnost [t] | R122: Hmotnost celkem [t] | S122: J. suť [t] | T122: Suť Celkem [t]
C123: Náklady soupisu celkem | J123: =BK123 -> 0 | P123: =P124 -> 0 | R123: =R124 -> 8.9873042 | T123: =T124 -> 286.9949 | AT123: D | AU123: -1 | BK123: =BK124 -> 0
D124: D | E124: HSV | F124: Práce a dodávky HSV | J124: =BK124 -> 0 | P124: =P125+P209+P216+P327+P355+P411 -> 0 | R124: =R125+R209+R216+R327+R355+R411 -> 8.9873042 | T124: =T125+T209+T216+T327+T355+T411 -> 286.9949 | AR124: 1 | AT124: D | AU124: 0 | AY124: ROZPOCET | BK124: =BK125+BK209+BK216+BK327+BK355+BK411 -> 0
D125: D | E125: 1 | F125: Zemní práce | J125: =BK125 -> 0 | P125: =SUM(P126:P208) -> 0 | R125: =SUM(R126:R208) -> 0.011274 | T125: =SUM(T126:T208) -> 286.9949 | AR125: 1 | AT125: D | AU125: 1 | AY125: ROZPOCET | BK125: =SUM(BK126:BK208) -> 0
C126: 1 | D126: K | E126: 113106122 | F126: Rozebrání dlažeb z kamenných dlaždic komunikací pro pěší ručně | G126: m2 | H126: 7 | J126: =ROUND(I126*H126,2) -> 0 | N126: základní | P126: =O126*H126 -> 0 | Q126: 0 | R126: =Q126*H126 -> 0 | S126: 0.235 | T126: =S126*H126 -> 1.645 | AR126: 4 | AT126: K | AU126: 2 | AY126: ROZPOCET | BE126: =IF(N126="základní",J126,0) -> 0 | BF126: =IF(N126="snížená",J126,0) -> 0 | BG126: =IF(N126="zákl. přenesená",J126,0) -> 0 | BH126: =IF(N126="sníž. přenesená",J126,0) -> 0 | BI126: =IF(N126="nulová",J126,0) -> 0 | BJ126: 1 | BK126: =ROUND(I126*H126,2) -> 0 | BL126: 4 | BM126: -1355074079
D127: VV | F127: tabulka přípojek | AT127: VV | AU127: 2 | AV127: 1 | AW127: True | AX127: 0 | AY127: ROZPOCET
D128: VV | F128: kamenná dlažba | AT128: VV | AU128: 2 | AV128: 1 | AW128: True | AX128: 0 | AY128: ROZPOCET
D129: VV | F129: 7,00 | H129: 7 | AT129: VV | AU129: 2 | AV129: 2 | AW129: True | AX129: 0 | AY129: ROZPOCET
D130: VV | F130: Součet | H130: 7 | AT130: VV | AU130: 2 | AV130: 4 | AW130: True | AX130: 1 | AY130: ROZPOCET
C131: 2 | D131: K | E131: 113106123 | F131: Rozebrání dlažeb ze zámkových dlaždic komunikací pro pěší ručně | G131: m2 | H131: 48.6 | J131: =ROUND(I131*H131,2) -> 0 | N131: základní | P131: =O131*H131 -> 0 | Q131: 0 | R131: =Q131*H131 -> 0 | S131: 0.26 | T131: =S131*H131 -> 12.636 | AR131: 4 | AT131: K | AU131: 2 | AY131: ROZPOCET | BE131: =IF(N131="základní",J131,0) -> 0 | BF131: =IF(N131="snížená",J131,0) -> 0 | BG131: =IF(N131="zákl. přenesená",J131,0) -> 0 | BH131: =IF(N131="sníž. přenesená",J131,0) -> 0 | BI131: =IF(N131="nulová",J131,0) -> 0 | BJ131: 1 | BK131: =ROUND(I131*H131,2) -> 0 | BL131: 4 | BM131: -965514747
D132: VV | F132: tabulka přípojek | AT132: VV | AU132: 2 | AV132: 1 | AW132: True | AX132: 0 | AY132: ROZPOCET
D133: VV | F133: zámková dlažba | AT133: VV | AU133: 2 | AV133: 1 | AW133: True | AX133: 0 | AY133: ROZPOCET
D134: VV | F134: 6,80+9,70+11,40+10,70+3,00+7,00 | H134: 48.6 | AT134: VV | AU134: 2 | AV134: 2 | AW134: True | AX134: 0 | AY134: ROZPOCET
D135: VV | F135: Součet | H135: 48.6 | AT135: VV | AU135: 2 | AV135: 4 | AW135: True | AX135: 1 | AY135: ROZPOCET
C136: 3 | D136: K | E136: 113106125 | F136: Rozebrání dlažeb z vegetačních dlaždic betonových komunikací pro pěší ručně | G136: m2 | H136: 19.5 | J136: =ROUND(I136*H136,2) -> 0 | N136: základní | P136: =O136*H136 -> 0 | Q136: 0 | R136: =Q136*H136 -> 0 | S136: 0.225 | T136: =S136*H136 -> 4.3875 | AR136: 4 | AT136: K | AU136: 2 | AY136: ROZPOCET | BE136: =IF(N136="základní",J136,0) -> 0 | BF136: =IF(N136="snížená",J136,0) -> 0 | BG136: =IF(N136="zákl. přenesená",J136,0) -> 0 | BH136: =IF(N136="sníž. přenesená",J136,0) -> 0 | BI136: =IF(N136="nulová",J136,0) -> 0 | BJ136: 1 | BK136: =ROUND(I136*H136,2) -> 0 | BL136: 4 | BM136: 521233199
D137: VV | F137: tabulka přípojek | AT137: VV | AU137: 2 | AV137: 1 | AW137: True | AX137: 0 | AY137: ROZPOCET
D138: VV | F138: zatravňovací tvárnice | AT138: VV | AU138: 2 | AV138: 1 | AW138: True | AX138: 0 | AY138: ROZPOCET
D139: VV | F139: 7,80+8,70 | H139: 16.5 | AT139: VV | AU139: 2 | AV139: 2 | AW139: True | AX139: 0 | AY139: ROZPOCET
D140: VV | F140: 6,00*0,50 | H140: 3 | AT140: VV | AU140: 2 | AV140: 2 | AW140: True | AX140: 0 | AY140: ROZPOCET
D141: VV | F141: Součet | H141: 19.5 | AT141: VV | AU141: 2 | AV141: 4 | AW141: True | AX141: 1 | AY141: ROZPOCET
C142: 4 | D142: K | E142: 113106190 | F142: Rozebrání vozovek ze silničních dílců se spárami vyplněnými kamenivem strojně pl do 50 m2 | G142: m2 | H142: 9.5 | J142: =ROUND(I142*H142,2) -> 0 | N142: základní | P142: =O142*H142 -> 0 | Q142: 0 | R142: =Q142*H142 -> 0 | S142: 0.4 | T142: =S142*H142 -> 3.8 | AR142: 4 | AT142: K | AU142: 2 | AY142: ROZPOCET | BE142: =IF(N142="základní",J142,0) -> 0 | BF142: =IF(N142="snížená",J142,0) -> 0 | BG142: =IF(N142="zákl. přenesená",J142,0) -> 0 | BH142: =IF(N142="sníž. přenesená",J142,0) -> 0 | BI142: =IF(N142="nulová",J142,0) -> 0 | BJ142: 1 | BK142: =ROUND(I142*H142,2) -> 0 | BL142: 4 | BM142: 96793628
D143: VV | F143: tabulka přípojek | AT143: VV | AU143: 2 | AV143: 1 | AW143: True | AX143: 0 | AY143: ROZPOCET
D144: VV | F144: betonové panely | AT144: VV | AU144: 2 | AV144: 1 | AW144: True | AX144: 0 | AY144: ROZPOCET
D145: VV | F145: 9,50 | H145: 9.5 | AT145: VV | AU145: 2 | AV145: 2 | AW145: True | AX145: 0 | AY145: ROZPOCET
D146: VV | F146: Součet | H146: 9.5 | AT146: VV | AU146: 2 | AV146: 4 | AW146: True | AX146: 1 | AY146: ROZPOCET
C147: 5 | D147: K | E147: 113107322 | F147: Odstranění podkladu z kameniva drceného tl přes 100 do 200 mm strojně pl do 50 m2 | G147: m2 | H147: 85.6 | J147: =ROUND(I147*H147,2) -> 0 | N147: základní | P147: =O147*H147 -> 0 | Q147: 0 | R147: =Q147*H147 -> 0 | S147: 0.29 | T147: =S147*H147 -> 24.824 | AR147: 4 | AT147: K | AU147: 2 | AY147: ROZPOCET | BE147: =IF(N147="základní",J147,0) -> 0 | BF147: =IF(N147="snížená",J147,0) -> 0 | BG147: =IF(N147="zákl. přenesená",J147,0) -> 0 | BH147: =IF(N147="sníž. přenesená",J147,0) -> 0 | BI147: =IF(N147="nulová",J147,0) -> 0 | BJ147: 1 | BK147: =ROUND(I147*H147,2) -> 0 | BL147: 4 | BM147: 13411102
D148: VV | F148: tabulka přípojek | AT148: VV | AU148: 2 | AV148: 1 | AW148: True | AX148: 0 | AY148: ROZPOCET
D149: VV | F149: betonový chodník+betonový sjezd | AT149: VV | AU149: 2 | AV149: 1 | AW149: True | AX149: 0 | AY149: ROZPOCET
D150: VV | F150: 1,50+7,20+3,00+8,60+7,20 | H150: 27.5 | AT150: VV | AU150: 2 | AV150: 2 | AW150: True | AX150: 0 | AY150: ROZPOCET
D151: VV | F151: zámková dlažba | AT151: VV | AU151: 2 | AV151: 1 | AW151: True | AX151: 0 | AY151: ROZPOCET
D152: VV | F152: 6,80+9,70+11,40+10,70+3,00+7,00 | H152: 48.6 | AT152: VV | AU152: 2 | AV152: 2 | AW152: True | AX152: 0 | AY152: ROZPOCET
D153: VV | F153: betonové panely | AT153: VV | AU153: 2 | AV153: 1 | AW153: True | AX153: 0 | AY153: ROZPOCET
D154: VV | F154: 9,50 | H154: 9.5 | AT154: VV | AU154: 2 | AV154: 2 | AW154: True | AX154: 0 | AY154: ROZPOCET
D155: VV | F155: Součet | H155: 85.6 | AT155: VV | AU155: 2 | AV155: 4 | AW155: True | AX155: 1 | AY155: ROZPOCET
C156: 6 | D156: K | E156: 113107323 | F156: Odstranění podkladu z kameniva drceného tl přes 200 do 300 mm strojně pl do 50 m2 | G156: m2 | H156: 83.6 | J156: =ROUND(I156*H156,2) -> 0 | N156: základní | P156: =O156*H156 -> 0 | Q156: 0 | R156: =Q156*H156 -> 0 | S156: 0.44 | T156: =S156*H156 -> 36.784 | AR156: 4 | AT156: K | AU156: 2 | AY156: ROZPOCET | BE156: =IF(N156="základní",J156,0) -> 0 | BF156: =IF(N156="snížená",J156,0) -> 0 | BG156: =IF(N156="zákl. přenesená",J156,0) -> 0 | BH156: =IF(N156="sníž. přenesená",J156,0) -> 0 | BI156: =IF(N156="nulová",J156,0) -> 0 | BJ156: 1 | BK156: =ROUND(I156*H156,2) -> 0 | BL156: 4 | BM156: -2047334391
D157: VV | F157: situace obnovy povrchu | AT157: VV | AU157: 2 | AV157: 1 | AW157: True | AX157: 0 | AY157: ROZPOCET
D158: VV | F158: 40,30+43,30 | H158: 83.6 | AT158: VV | AU158: 2 | AV158: 2 | AW158: True | AX158: 0 | AY158: ROZPOCET
D159: VV | F159: Součet | H159: 83.6 | AT159: VV | AU159: 2 | AV159: 4 | AW159: True | AX159: 1 | AY159: ROZPOCET
C160: 7 | D160: K | E160: 113107324 | F160: Odstranění podkladu z kameniva drceného tl přes 300 do 400 mm strojně pl do 50 m2 | G160: m2 | H160: 156.3 | J160: =ROUND(I160*H160,2) -> 0 | N160: základní | P160: =O160*H160 -> 0 | Q160: 0 | R160: =Q160*H160 -> 0 | S160: 0.58 | T160: =S160*H160 -> 90.654 | AR160: 4 | AT160: K | AU160: 2 | AY160: ROZPOCET | BE160: =IF(N160="základní",J160,0) -> 0 | BF160: =IF(N160="snížená",J160,0) -> 0 | BG160: =IF(N160="zákl. přenesená",J160,0) -> 0 | BH160: =IF(N160="sníž. přenesená",J160,0) -> 0 | BI160: =IF(N160="nulová",J160,0) -> 0 | BJ160: 1 | BK160: =ROUND(I160*H160,2) -> 0 | BL160: 4 | BM160: 1382445082
D161: VV | F161: tabulka přípojek | AT161: VV | AU161: 2 | AV161: 1 | AW161: True | AX161: 0 | AY161: ROZPOCET
D162: VV | F162: 8,90+12,70+2,10+9,20+4,10+9,20+13,60+13,80+9,60+8,00+8,80+9,20+6,50+9,40+14,20+9,50+7,50 | H162: 156.3 | AT162: VV | AU162: 2 | AV162: 2 | AW162: True | AX162: 0 | AY162: ROZPOCET
D163: VV | F163: Součet | H163: 156.3 | AT163: VV | AU163: 2 | AV163: 4 | AW163: True | AX163: 1 | AY163: ROZPOCET
C164: 8 | D164: K | E164: 113107336 | F164: Odstranění podkladu z betonu vyztuženého sítěmi tl přes 100 do 150 mm strojně pl do 50 m2 | G164: m2 | H164: 27.5 | J164: =ROUND(I164*H164,2) -> 0 | N164: základní | P164: =O164*H164 -> 0 | Q164: 0 | R164: =Q164*H164 -> 0 | S164: 0.33 | T164: =S164*H164 -> 9.075 | AR164: 4 | AT164: K | AU164: 2 | AY164: ROZPOCET | BE164: =IF(N164="základní",J164,0) -> 0 | BF164: =IF(N164="snížená",J164,0) -> 0 | BG164: =IF(N164="zákl. přenesená",J164,0) -> 0 | BH164: =IF(N164="sníž. přenesená",J164,0) -> 0 | BI164: =IF(N164="nulová",J164,0) -> 0 | BJ164: 1 | BK164: =ROUND(I164*H164,2) -> 0 | BL164: 4 | BM164: -1334307180
D165: VV | F165: tabulka přípojek | AT165: VV | AU165: 2 | AV165: 1 | AW165: True | AX165: 0 | AY165: ROZPOCET
...

Sheet 04 - VRN
L2: >> skryté sloupce << | AT2: {222898cb-c602-47aa-9d8a-b70398d621c6}
AT3: 2
D4: KRYCÍ LIST SOUPISU PRACÍ | M4: v --- níže se nacházejí doplnkové a pomocné údaje k sestavám --- v | AT4: False
D6: Stavba:
E7: ='Rekapitulace stavby'!K6 -> Dolní a Horní Chobolice - vodovodní přípojky
D8: Objekt:
E9: 04 - VRN
D11: KSO: | I11: CC-CZ:
D12: Místo: | F12: Chobolice | I12: Datum: | J12: ='Rekapitulace stavby'!AN8 -> -
D14: Zadavatel: | I14: IČ:
E15: Obec Liběšice | I15: DIČ:
D17: Uchazeč: | I17: IČ: | J17: ='Rekapitulace stavby'!AN13 -> Vyplň údaj
E18: ='Rekapitulace stavby'!E14 -> Vyplň údaj | I18: DIČ: | J18: ='Rekapitulace stavby'!AN14 -> Vyplň údaj
D20: Projektant: | I20: IČ:
E21: SVIS TCE spol. s.r.o. | I21: DIČ:
D23: Zpracovatel: | I23: IČ: | J23: =IF('Rekapitulace stavby'!AN19="","",'Rekapitulace stavby'!AN19)
E24: =IF('Rekapitulace stavby'!E20="","",'Rekapitulace stavby'!E20) | I24: DIČ: | J24: =IF('Rekapitulace stavby'!AN20="","",'Rekapitulace stavby'!AN20)
D26: Poznámka:
E27: Soupis prací je sestaven s využitím Cenové soustavy ÚRS. Položky, které pochází z této cenové soustavy, jsou ve sloupci 'Cenová soustava' označeny popisem 'CS ÚRS' a úrovní příslušného kalendářního pololetí. Veškeré další informace vymezující popis a podmínky použití těchto položek z Cenové soustavy, které nejsou uvedeny přímo v soupisu prací, jsou neomezeně dálkově k dispozici na webu podminky.urs.cz.
D30: Cena bez DPH | J30: =ROUND(J118, 2) -> 0
F32: Základ daně | I32: Sazba daně | J32: Výše daně
D33: DPH | E33: základní | F33: =ROUND((SUM(BE118:BE121)), 2) -> 0 | I33: 0.21 | J33: =ROUND(((SUM(BE118:BE121))*I33), 2) -> 0
E34: snížená | F34: =ROUND((SUM(BF118:BF121)), 2) -> 0 | I34: 0.12 | J34: =ROUND(((SUM(BF118:BF121))*I34), 2) -> 0
E35: zákl. přenesená | F35: =ROUND((SUM(BG118:BG121)), 2) -> 0 | I35: 0.21 | J35: =0 -> 0
E36: sníž. přenesená | F36: =ROUND((SUM(BH118:BH121)), 2) -> 0 | I36: 0.12 | J36: =0 -> 0
E37: nulová | F37: =ROUND((SUM(BI118:BI121)), 2) -> 0 | I37: 0 | J37: =0 -> 0
D39: Cena s DPH | G39: v | H39: CZK | J39: =SUM(J30:J37) -> 0
D50: Projektant | G50: Zpracovatel
D61: Datum a podpis: | F61: Razítko | G61: Datum a podpis: | J61: Razítko
D65: Objednavatel | G65: Uchazeč
D76: Datum a podpis: | F76: Razítko | G76: Datum a podpis: | J76: Razítko
C82: REKAPITULACE ČLENĚNÍ SOUPISU PRACÍ
C84: Stavba:
E85: =E7 -> Dolní a Horní Chobolice - vodovodní přípojky
C86: Objekt:
E87: =E9 -> 04 - VRN
C89: Místo: | F89: =F12 -> Chobolice | I89: Datum: | J89: =IF(J12="","",J12) -> -
C91: Zadavatel: | F91: =E15 -> Obec Liběšice | I91: Projektant: | J91: =E21 -> SVIS TCE spol. s.r.o.
C92: Uchazeč: | F92: =IF(E18="","",E18) -> Vyplň údaj | I92: Zpracovatel: | J92: =E24
C94: Kód dílu - Popis | J94: Cena celkem [CZK]
C96: Náklady ze soupisu prací | J96: =J118 -> 0 | AU96: -1
D97: VRN - Vedlejší rozpočtové náklady | J97: =J119 -> 0
D98: VRN3 - Zařízení staveniště | J98: =J120 -> 0
C105: SOUPIS PRACÍ
C107: Stavba:
E108: =E7 -> Dolní a Horní Chobolice - vodovodní přípojky
C109: Objekt:
E110: =E9 -> 04 - VRN
C112: Místo: | F112: =F12 -> Chobolice | I112: Datum: | J112: =IF(J12="","",J12) -> -
C114: Zadavatel: | F114: =E15 -> Obec Liběšice | I114: Projektant: | J114: =E21 -> SVIS TCE spol. s.r.o.
C115: Uchazeč: | F115: =IF(E18="","",E18) -> Vyplň údaj | I115: Zpracovatel: | J115: =E24
C117: PČ | D117: Typ | E117: Kód | F117: Popis | G117: MJ | H117: Množství | I117: J.cena [CZK] | J117: Cena celkem [CZK] | K117: Cenová soustava | N117: DPH | O117: J. Nh [h] | P117: Nh celkem [h] | Q117: J. hmotnost [t] | R117: Hmotnost celkem [t] | S117: J. suť [t] | T117: Suť Celkem [t]
C118: Náklady soupisu celkem | J118: =BK118 -> 0 | P118: =P119 -> 0 | R118: =R119 -> 0 | T118: =T119 -> 0 | AT118: D | AU118: -1 | BK118: =BK119 -> 0
D119: D | E119: VRN | F119: Vedlejší rozpočtové náklady | J119: =BK119 -> 0 | P119: =P120 -> 0 | R119: =R120 -> 0 | T119: =T120 -> 0 | AR119: 5 | AT119: D | AU119: 0 | AY119: ROZPOCET | BK119: =BK120 -> 0
D120: D | E120: VRN3 | F120: Zařízení staveniště | J120: =BK120 -> 0 | P120: =P121 -> 0 | R120: =R121 -> 0 | T120: =T121 -> 0 | AR120: 5 | AT120: D | AU120: 1 | AY120: ROZPOCET | BK120: =BK121 -> 0
C121: 1 | D121: K | E121: 030001000-A | F121: Zařízení staveniště SO, IO | G121: % | J121: =ROUND(I121*H121,2) -> 0 | N121: základní | P121: =O121*H121 -> 0 | Q121: 0 | R121: =Q121*H121 -> 0 | S121: 0 | T121: =S121*H121 -> 0 | AR121: 1024 | AT121: K | AU121: 2 | AY121: ROZPOCET | BE121: =IF(N121="základní",J121,0) -> 0 | BF121: =IF(N121="snížená",J121,0) -> 0 | BG121: =IF(N121="zákl. přenesená",J121,0) -> 0 | BH121: =IF(N121="sníž. přenesená",J121,0) -> 0 | BI121: =IF(N121="nulová",J121,0) -> 0 | BJ121: 1 | BK121: =ROUND(I121*H121,2) -> 0 | BL121: 1024 | BM121: -730429316

Sheet 05 - Ostatní rozpočtové n...
L2: >> skryté sloupce << | AT2: {82ad865b-0f97-41ef-8931-907bf6a9b93b}
AT3: 2
D4: KRYCÍ LIST SOUPISU PRACÍ | M4: v --- níže se nacházejí doplnkové a pomocné údaje k sestavám --- v | AT4: False
D6: Stavba:
E7: ='Rekapitulace stavby'!K6 -> Dolní a Horní Chobolice - vodovodní přípojky
D8: Objekt:
E9: 05 - Ostatní rozpočtové náklady
D11: KSO: | I11: CC-CZ:
D12: Místo: | F12: Chobolice | I12: Datum: | J12: ='Rekapitulace stavby'!AN8 -> -
D14: Zadavatel: | I14: IČ:
E15: Obec Liběšice | I15: DIČ:
D17: Uchazeč: | I17: IČ: | J17: ='Rekapitulace stavby'!AN13 -> Vyplň údaj
E18: ='Rekapitulace stavby'!E14 -> Vyplň údaj | I18: DIČ: | J18: ='Rekapitulace stavby'!AN14 -> Vyplň údaj
D20: Projektant: | I20: IČ:
E21: SVIS TCE spol. s.r.o. | I21: DIČ:
D23: Zpracovatel: | I23: IČ: | J23: =IF('Rekapitulace stavby'!AN19="","",'Rekapitulace stavby'!AN19)
E24: =IF('Rekapitulace stavby'!E20="","",'Rekapitulace stavby'!E20) | I24: DIČ: | J24: =IF('Rekapitulace stavby'!AN20="","",'Rekapitulace stavby'!AN20)
D26: Poznámka:
E27: Soupis prací je sestaven s využitím Cenové soustavy ÚRS. Položky, které pochází z této cenové soustavy, jsou ve sloupci 'Cenová soustava' označeny popisem 'CS ÚRS' a úrovní příslušného kalendářního pololetí. Veškeré další informace vymezující popis a podmínky použití těchto položek z Cenové soustavy, které nejsou uvedeny přímo v soupisu prací, jsou neomezeně dálkově k dispozici na webu podminky.urs.cz.
D30: Cena bez DPH | J30: =ROUND(J117, 2) -> 0
F32: Základ daně | I32: Sazba daně | J32: Výše daně
D33: DPH | E33: základní | F33: =ROUND((SUM(BE117:BE132)), 2) -> 0 | I33: 0.21 | J33: =ROUND(((SUM(BE117:BE132))*I33), 2) -> 0
E34: snížená | F34: =ROUND((SUM(BF117:BF132)), 2) -> 0 | I34: 0.12 | J34: =ROUND(((SUM(BF117:BF132))*I34), 2) -> 0
E35: zákl. přenesená | F35: =ROUND((SUM(BG117:BG132)), 2) -> 0 | I35: 0.21 | J35: =0 -> 0
E36: sníž. přenesená | F36: =ROUND((SUM(BH117:BH132)), 2) -> 0 | I36: 0.12 | J36: =0 -> 0
E37: nulová | F37: =ROUND((SUM(BI117:BI132)), 2) -> 0 | I37: 0 | J37: =0 -> 0
D39: Cena s DPH | G39: v | H39: CZK | J39: =SUM(J30:J37) -> 0
D50: Projektant | G50: Zpracovatel
D61: Datum a podpis: | F61: Razítko | G61: Datum a podpis: | J61: Razítko
D65: Objednavatel | G65: Uchazeč
D76: Datum a podpis: | F76: Razítko | G76: Datum a podpis: | J76: Razítko
C82: REKAPITULACE ČLENĚNÍ SOUPISU PRACÍ
C84: Stavba:
E85: =E7 -> Dolní a Horní Chobolice - vodovodní přípojky
C86: Objekt:
E87: =E9 -> 05 - Ostatní rozpočtové náklady
C89: Místo: | F89: =F12 -> Chobolice | I89: Datum: | J89: =IF(J12="","",J12) -> -
C91: Zadavatel: | F91: =E15 -> Obec Liběšice | I91: Projektant: | J91: =E21 -> SVIS TCE spol. s.r.o.
C92: Uchazeč: | F92: =IF(E18="","",E18) -> Vyplň údaj | I92: Zpracovatel: | J92: =E24
C94: Kód dílu - Popis | J94: Cena celkem [CZK]
C96: Náklady ze soupisu prací | J96: =J117 -> 0 | AU96: -1
D97: VRN - Vedlejší rozpočtové náklady | J97: =J118 -> 0
C104: SOUPIS PRACÍ
C106: Stavba:
E107: =E7 -> Dolní a Horní Chobolice - vodovodní přípojky
C108: Objekt:
E109: =E9 -> 05 - Ostatní rozpočtové náklady
C111: Místo: | F111: =F12 -> Chobolice | I111: Datum: | J111: =IF(J12="","",J12) -> -
C113: Zadavatel: | F113: =E15 -> Obec Liběšice | I113: Projektant: | J113: =E21 -> SVIS TCE spol. s.r.o.
C114: Uchazeč: | F114: =IF(E18="","",E18) -> Vyplň údaj | I114: Zpracovatel: | J114: =E24
C116: PČ | D116: Typ | E116: Kód | F116: Popis | G116: MJ | H116: Množství | I116: J.cena [CZK] | J116: Cena celkem [CZK] | K116: Cenová soustava | N116: DPH | O116: J. Nh [h] | P116: Nh celkem [h] | Q116: J. hmotnost [t] | R116: Hmotnost celkem [t] | S116: J. suť [t] | T116: Suť Celkem [t]
C117: Náklady soupisu celkem | J117: =BK117 -> 0 | P117: =P118 -> 0 | R117: =R118 -> 0 | T117: =T118 -> 0 | AT117: D | AU117: -1 | BK117: =BK118 -> 0
D118: D | E118: VRN | F118: Vedlejší rozpočtové náklady | J118: =BK118 -> 0 | P118: =SUM(P119:P132) -> 0 | R118: =SUM(R119:R132) -> 0 | T118: =SUM(T119:T132) -> 0 | AR118: 5 | AT118: D | AU118: 0 | AY118: ROZPOCET | BK118: =SUM(BK119:BK132) -> 0
C119: 1 | D119: K | E119: 01151400A0 | F119: Fotodokumentace | G119: Kč | H119: 1 | J119: =ROUND(I119*H119,2) -> 0 | N119: základní | P119: =O119*H119 -> 0 | Q119: 0 | R119: =Q119*H119 -> 0 | S119: 0 | T119: =S119*H119 -> 0 | AR119: 262144 | AT119: K | AU119: 1 | AY119: ROZPOCET | BE119: =IF(N119="základní",J119,0) -> 0 | BF119: =IF(N119="snížená",J119,0) -> 0 | BG119: =IF(N119="zákl. přenesená",J119,0) -> 0 | BH119: =IF(N119="sníž. přenesená",J119,0) -> 0 | BI119: =IF(N119="nulová",J119,0) -> 0 | BJ119: 1 | BK119: =ROUND(I119*H119,2) -> 0 | BL119: 262144 | BM119: 2112042731
D120: VV | F120: 1 | H120: 1 | AT120: VV | AU120: 1 | AV120: 2 | AW120: True | AX120: 1 | AY120: ROZPOCET
C121: 2 | D121: K | E121: 01210300A0 | F121: Geodetické práce před výstavbou - vytýčení bodů | G121: Kč | H121: 1 | J121: =ROUND(I121*H121,2) -> 0 | N121: základní | P121: =O121*H121 -> 0 | Q121: 0 | R121: =Q121*H121 -> 0 | S121: 0 | T121: =S121*H121 -> 0 | AR121: 262144 | AT121: K | AU121: 1 | AY121: ROZPOCET | BE121: =IF(N121="základní",J121,0) -> 0 | BF121: =IF(N121="snížená",J121,0) -> 0 | BG121: =IF(N121="zákl. přenesená",J121,0) -> 0 | BH121: =IF(N121="sníž. přenesená",J121,0) -> 0 | BI121: =IF(N121="nulová",J121,0) -> 0 | BJ121: 1 | BK121: =ROUND(I121*H121,2) -> 0 | BL121: 262144 | BM121: -885221794
D122: VV | F122: 1 | H122: 1 | AT122: VV | AU122: 1 | AV122: 2 | AW122: True | AX122: 1 | AY122: ROZPOCET
C123: 3 | D123: K | E123: 01220300A0 | F123: Geodetické práce při provádění stavby | G123: Kč | H123: 1 | J123: =ROUND(I123*H123,2) -> 0 | N123: základní | P123: =O123*H123 -> 0 | Q123: 0 | R123: =Q123*H123 -> 0 | S123: 0 | T123: =S123*H123 -> 0 | AR123: 262144 | AT123: K | AU123: 1 | AY123: ROZPOCET | BE123: =IF(N123="základní",J123,0) -> 0 | BF123: =IF(N123="snížená",J123,0) -> 0 | BG123: =IF(N123="zákl. přenesená",J123,0) -> 0 | BH123: =IF(N123="sníž. přenesená",J123,0) -> 0 | BI123: =IF(N123="nulová",J123,0) -> 0 | BJ123: 1 | BK123: =ROUND(I123*H123,2) -> 0 | BL123: 262144 | BM123: 1501225159
D124: VV | F124: 1 | H124: 1 | AT124: VV | AU124: 1 | AV124: 2 | AW124: True | AX124: 1 | AY124: ROZPOCET
C125: 4 | D125: K | E125: 01230300A0 | F125: Geodetické práce po výstavbě | G125: Kč | H125: 1 | J125: =ROUND(I125*H125,2) -> 0 | N125: základní | P125: =O125*H125 -> 0 | Q125: 0 | R125: =Q125*H125 -> 0 | S125: 0 | T125: =S125*H125 -> 0 | AR125: 262144 | AT125: K | AU125: 1 | AY125: ROZPOCET | BE125: =IF(N125="základní",J125,0) -> 0 | BF125: =IF(N125="snížená",J125,0) -> 0 | BG125: =IF(N125="zákl. přenesená",J125,0) -> 0 | BH125: =IF(N125="sníž. přenesená",J125,0) -> 0 | BI125: =IF(N125="nulová",J125,0) -> 0 | BJ125: 1 | BK125: =ROUND(I125*H125,2) -> 0 | BL125: 262144 | BM125: -975890915
D126: VV | F126: 1 | H126: 1 | AT126: VV | AU126: 1 | AV126: 2 | AW126: True | AX126: 1 | AY126: ROZPOCET
C127: 5 | D127: K | E127: 01325400A0 | F127: Dokumentace skutečného provedení stavby | G127: Kč | H127: 1 | J127: =ROUND(I127*H127,2) -> 0 | N127: základní | P127: =O127*H127 -> 0 | Q127: 0 | R127: =Q127*H127 -> 0 | S127: 0 | T127: =S127*H127 -> 0 | AR127: 262144 | AT127: K | AU127: 1 | AY127: ROZPOCET | BE127: =IF(N127="základní",J127,0) -> 0 | BF127: =IF(N127="snížená",J127,0) -> 0 | BG127: =IF(N127="zákl. přenesená",J127,0) -> 0 | BH127: =IF(N127="sníž. přenesená",J127,0) -> 0 | BI127: =IF(N127="nulová",J127,0) -> 0 | BJ127: 1 | BK127: =ROUND(I127*H127,2) -> 0 | BL127: 262144 | BM127: 33902633
D128: VV | F128: 1 | H128: 1 | AT128: VV | AU128: 1 | AV128: 2 | AW128: True | AX128: 0 | AY128: ROZPOCET
D129: VV | F129: Součet | H129: 1 | AT129: VV | AU129: 1 | AV129: 4 | AW129: True | AX129: 1 | AY129: ROZPOCET
C130: 6 | D130: K | E130: 01327400A0 | F130: Pasportizace objektu | G130: Kč | H130: 68 | J130: =ROUND(I130*H130,2) -> 0 | N130: základní | P130: =O130*H130 -> 0 | Q130: 0 | R130: =Q130*H130 -> 0 | S130: 0 | T130: =S130*H130 -> 0 | AR130: 262144 | AT130: K | AU130: 1 | AY130: ROZPOCET | BE130: =IF(N130="základní",J130,0) -> 0 | BF130: =IF(N130="snížená",J130,0) -> 0 | BG130: =IF(N130="zákl. přenesená",J130,0) -> 0 | BH130: =IF(N130="sníž. přenesená",J130,0) -> 0 | BI130: =IF(N130="nulová",J130,0) -> 0 | BJ130: 1 | BK130: =ROUND(I130*H130,2) -> 0 | BL130: 262144 | BM130: -1725105994
D131: VV | F131: 68 | H131: 68 | AT131: VV | AU131: 1 | AV131: 2 | AW131: True | AX131: 0 | AY131: ROZPOCET
D132: VV | F132: Součet | H132: 68 | AT132: VV | AU132: 1 | AV132: 4 | AW132: True | AX132: 1 | AY132: ROZPOCET

Sheet Seznam figur
C4: SEZNAM FIGUR
C5: Kód: | D5: 18/2026
C6: Stavba: | D6: Dolní a Horní Chobolice - vodovodní přípojky
C7: Datum: | D7: ='Rekapitulace stavby'!AN8 -> -
C9: Kód | D9: Popis | E9: MJ | F9: Výměra
C10: 01 | D10: Horní Chobolice - vodovodní přípojky
C11: jámy | D11: jámy protlaku | E11: m3 | F11: 505.538
D12: Vodoměrná šachta | F12: 0
D13: 1.přípojka č.ev.19 | F13: 0
D14: 2,60*2,50*(2,10-0,35) | F14: 11.375
D15: 2.přípojka č.p.20 | F15: 0
D16: 2,60*2,50*(2,10-0,20) | F16: 12.35
D17: 3.přípojka č.ev.20 | F17: 0
D18: 2,60*2,50*(2,10-0,20) | F18: 12.35
D19: 4.přípojka č. ev.29 | F19: 0
D20: 2,60*2,50*(2,10-0,20) | F20: 12.35
D21: 5.přípojka č.p.17 | F21: 0
D22: 2,60*2,50*(2,10-0,35) | F22: 11.375
D23: 6.přípojka č.ev.5 | F23: 0
... D97: 2,60*2,50*(2,10-0,20) | F97: 12.35
C98: jámy | D98: Součet | F98: 505.538
C99: Použití figury:
C100: 131251201 | D100: Hloubení jam zapažených v hornině třídy těžitelnosti I skupiny 3 objem do 20 m3 strojně | E100: m3 | F100: 252.769
C101: 129001101 | D101: Příplatek za ztížení odkopávky nebo prokopávky v blízkosti inženýrských sítí | E101: m3 | F101: 90.346
C102: 131351201 | D102: Hloubení jam zapažených v hornině třídy těžitelnosti II skupiny 4 objem do 20 m3 strojně | E102: m3 | F102: 202.215
C103: 131451201 | D103: Hloubení jam zapažených v hornině třídy těžitelnosti II skupiny 5 objem do 20 m3 strojně | E103: m3 | F103: 50.554
C104: 162351103 | D104: Vodorovné přemístění přes 50 do 500 m výkopku/sypaniny z horniny třídy těžitelnosti I skupiny 1 až 3 | E104: m3 | F104: 1267.323
C105: 162351123 | D105: Vodorovné přemístění přes 50 do 500 m výkopku/sypaniny z hornin třídy těžitelnosti II skupiny 4 a 5 | E105: m3 | F105: 451.732
C106: 162751117 | D106: Vodorovné přemístění přes 9 000 do 10000 m výkopku/sypaniny z horniny třídy těžitelnosti I skupiny 1 až 3 | E106: m3 | F106: 139.464
C107: 162751137 | D107: Vodorovné přemístění přes 9 000 do 10000 m výkopku/sypaniny z horniny třídy těžitelnosti II skupiny 4 a 5 | E107: m3 | F107: 139.464
C108: 167151101 | D108: Nakládání výkopku z hornin třídy těžitelnosti I skupiny 1 až 3 do 100 m3 strojně | E108: m3 | F108: 642.787
C109: 167151102 | D109: Nakládání výkopku z hornin třídy těžitelnosti II skupiny 4 a 5 do 100 m3 strojně | E109: m3 | F109: 451.732
C110: 171251201 | D110: Uložení sypaniny na skládky nebo meziskládky | E110: m3 | F110: 1094.518
C111: 174151101 | D111: Zásyp jam, šachet rýh nebo kolem objektů sypaninou se zhutněním | E111: m3 | F111: 630.844
C112: lože | D112: lože | E112: m3 | F112: 39.825
D113: D.1.2, D.1.4 | F113: 0
D114: 1.přípojka č.ev.19 | F114: 0
D115: 5,00*1,00*0,15 | F115: 0.75
D116: 2.přípojka č.p.20 | F116: 0
D117: 9,00*1,00*0,15 | F117: 1.35
D118: 3.přípojka č.ev.20 | F118: 0
D119: 12,00*1,00*0,15 | F119: 1.8
D120: 4.přípojka č. ev.29 | F120: 0
D121: 4,00*1,00*0,15 | F121: 0.6
D122: 5.přípojka č.p.17 | F122: 0
D123: 9,00*1,00*0,15 | F123: 1.35
D124: 6.přípojka č.ev.5 | F124: 0
... D197: 4,00*1,00*0,15 | F197: 0.6
C198: lože | D198: Součet | F198: 39.825
C199: Použití figury:
C200: 451572111 | D200: Lože pod potrubí otevřený výkop z kameniva drobného těženého | E200: m3 | F200: 39.825
C201: 162351103 | D201: Vodorovné přemístění přes 50 do 500 m výkopku/sypaniny z horniny třídy těžitelnosti I skupiny 1 až 3 | E201: m3 | F201: 1267.323
C202: 167151101 | D202: Nakládání výkopku z hornin třídy těžitelnosti I skupiny 1 až 3 do 100 m3 strojně | E202: m3 | F202: 642.787
C203: 171251201 | D203: Uložení sypaniny na skládky nebo meziskládky | E203: m3 | F203: 1094.518
C204: 174151101 | D204: Zásyp jam, šachet rýh nebo kolem objektů sypaninou se zhutněním | E204: m3 | F204: 630.844
C205: nový_zásyp | D205: nový zásyp | E205: m3 | F205: 63.084
D206: komunikace nový 100% z celkového množství 1% | F206: 0
D207: zásyp*1,00*0,1 | F207: 63.084
C208: nový_zásyp | D208: Součet | F208: 63.084
C209: Použití figury:
C210: 58331200 | D210: štěrkopísek netříděný | E210: t | F210: 63.084
C211: 162351103 | D211: Vodorovné přemístění přes 50 do 500 m výkopku/sypaniny z horniny třídy těžitelnosti I skupiny 1 až 3 | E211: m3 | F211: 1267.323
C212: 167151101 | D212: Nakládání výkopku z hornin třídy těžitelnosti I skupiny 1 až 3 do 100 m3 strojně | E212: m3 | F212: 642.787
C213: 171251201 | D213: Uložení sypaniny na skládky nebo meziskládky | E213: m3 | F213: 1094.518
C214: obsyp | D214: obsyp | E214: m3 | F214: 88.146
D215: D.1.2, D.1.4 | F215: 0
D216: 1.přípojka č.ev.19 | F216: 0
D217: 5,00*1,00*(0,032+0,30) | F217: 1.66
D218: 2.přípojka č.p.20 | F218: 0
D219: 9,00*1,00*(0,032+0,30) | F219: 2.988
D220: 3.přípojka č.ev.20 | F220: 0
D221: 12,00*1,00*(0,032+0,30) | F221: 3.984
D222: 4.přípojka č. ev.29 | F222: 0
D223: 4,00*1,00*(0,032+0,30) | F223: 1.328
D224: 5.přípojka č.p.17 | F224: 0
D225: 9,00*1,00*(0,032+0,30) | F225: 2.988
D226: 6.přípojka č.ev.5 | F226: 0
... D299: 4,00*1,00*(0,032+0,30) | F299: 1.328
C300: obsyp | D300: Součet | F300: 88.146
C301: Použití figury:
C302: 175151101 | D302: Obsypání potrubí strojně sypaninou bez prohození, uloženou do 3 m | E302: m3 | F302: 88.146
C303: 162351103 | D303: Vodorovné přemístění přes 50 do 500 m výkopku/sypaniny z horniny třídy těžitelnosti I skupiny 1 až 3 | E303: m3 | F303: 1267.323
C304: 167151101 | D304: Nakládání výkopku z hornin třídy těžitelnosti I skupiny 1 až 3 do 100 m3 strojně | E304: m3 | F304: 642.787
C305: 171251201 | D305: Uložení sypaniny na skládky nebo meziskládky | E305: m3 | F305: 1094.518
C306: 174151101 | D306: Zásyp jam, šachet rýh nebo kolem objektů sypaninou se zhutněním | E306: m3 | F306: 630.844
C307: 58337331 | D307: štěrkopísek frakce 0/22 | E307: t | F307: 158.663
C308: pažení | D308: pažení | E308: m2 | F308: 929.25
D309: D.1.2, D.1.4 | F309: 0
D310: 1.přípojka č.ev.19 | F310: 0
D311: 5,00*1,75*2 | F311: 17.5
D312: 2.přípojka č.p.20 | F312: 0
D313: 9,00*1,75*2 | F313: 31.5
D314: 3.přípojka č.ev.20 | F314: 0
D315: 12,00*1,75*2 | F315: 42
D316: 4.přípojka č. ev.29 | F316: 0
D317: 4,00*1,75*2 | F317: 14
D318: 5.přípojka č.p.17 | F318: 0
D319: 9,00*1,75*2 | F319: 31.5
D320: 6.přípojka č.ev.5 | F320: 0
... D393: 4,00*1,75*2 | F393: 14
...
