Workbook

Sheet Rekapitulace stavby
A1: Export Komplet | BA1: 2.0 | BT1: False | BU1: False | BV1: {d90fdd0e-a475-4b8a-93a8-1189295d3355}
AR2: >> skryté sloupce << | BS2: 0,01 | BT2: 21
BS3: 0,01 | BT3: 12
D4: REKAPITULACE STAVBY | AS4: v --- níže se nacházejí doplnkové a pomocné údaje k sestavám --- v | BE4: Návod na vyplnění | BS4: 0,001
D5: Kód: | K5: 18/2026 | BE5: Měnit lze pouze buňky se žlutým podbarvením!_x000D_ _x000D_ 1) na prvním listu Rekapitulace stavby vyplňte v sestavě_x000D_ _x000D_ a) Souhrnný list_x000D_ - údaje o Uchazeči_x000D_ (přenesou se do ostatních sestav i v jiných listech)_x000D_ _x000D_ b) Rekapitulace objektů_x000D_ - potřebné Ostatní náklady_x000D_ _x000D_ 2) na vybraných listech vyplňte v sestavě_x000D_ _x000D_ a) Krycí list_x000D_ - údaje o Uchazeči, pokud se liší od údajů o Uchazeči na Souhrnném listu_x000D_ (údaje se přenesou do ostatních sestav v daném listu)_x000D_ _x000D_ b) Rekapitulace rozpočtu_x000D_ - potřebné Ostatní náklady_x000D_ _x000D_ c) Celkové náklady za stavbu_x000D_ - ceny u položek_x000D_ - množství, pokud má žluté podbarvení_x000D_ - a v případě potřeby poznámku (ta je ve skrytém sloupci) | BS5: 0,01
D6: Stavba: | K6: Dolní a Horní Chobolice - vodovodní přípojky | BS6: 0,01
D7: KSO: | AK7: CC-CZ: | BS7: 0,01
D8: Místo: | K8: Chobolice | AK8: Datum: | AN8: - | BS8: 0,01
BS9: 0,01
D10: Zadavatel: | AK10: IČ: | BS10: 0,01
E11: Obec Liběšice | AK11: DIČ: | BS11: 0,01
BS12: 0,01
D13: Uchazeč: | AK13: IČ: | AN13: Vyplň údaj | BS13: 0,01
E14: Vyplň údaj | AK14: DIČ: | AN14: Vyplň údaj | BS14: 0,01
BS15: False
D16: Projektant: | AK16: IČ: | BS16: False
E17: SVIS TCE spol. s.r.o. | AK17: DIČ: | BS17: True
BS18: 0,01
D19: Zpracovatel: | AK19: IČ: | BS19: 0,01
AK20: DIČ: | BS20: True
D22: Poznámka:
E23: Soupis prací je sestaven s využitím Cenové soustavy ÚRS. Položky, které pochází z této cenové soustavy, jsou ve sloupci 'Cenová soustava' označeny popisem 'CS ÚRS' a úrovní příslušného kalendářního pololetí. Veškeré další informace vymezující popis a podmínky použití těchto položek z Cenové soustavy, které nejsou uvedeny přímo v soupisu prací, jsou neomezeně dálkově k dispozici na webu podminky.urs.cz.
D26: Cena bez DPH | AK26: =ROUND(AG94,2) -> 0
L28: Sazba daně | W28: Základ daně | AK28: Výše daně
D29: DPH | F29: základní | L29: 0.21 | W29: =ROUND(AZ94, 2) -> 0 | AK29: =ROUND(AV94, 2) -> 0
F30: snížená | L30: 0.12 | W30: =ROUND(BA94, 2) -> 0 | AK30: =ROUND(AW94, 2) -> 0
F31: zákl. přenesená | L31: 0.21 | W31: =ROUND(BB94, 2) -> 0 | AK31: 0
F32: sníž. přenesená | L32: 0.12 | W32: =ROUND(BC94, 2) -> 0 | AK32: 0
F33: nulová | L33: 0 | W33: =ROUND(BD94, 2) -> 0 | AK33: 0
D35: Cena s DPH | T35: v | X35: CZK | AK35: =SUM(AK26:AK33) -> 0
D49: Projektant | AH49: Zpracovatel
D60: Datum a podpis: | V60: Razítko | AH60: Datum a podpis: | AM60: Razítko
D64: Objednavatel | AH64: Uchazeč
D75: Datum a podpis: | V75: Razítko | AH75: Datum a podpis: | AM75: Razítko
C82: REKAPITULACE OBJEKTŮ STAVBY A SOUPISŮ PRACÍ
C84: Kód: | L84: =K5 -> 18/2026
C85: Stavba: | L85: =K6 -> Dolní a Horní Chobolice - vodovodní přípojky
C87: Místo: | L87: =IF(K8="","",K8) -> Chobolice | AI87: Datum: | AM87: =IF(AN8= "","",AN8) -> -
C89: Zadavatel: | L89: =IF(E11= "","",E11) -> Obec Liběšice | AI89: Projektant: | AM89: =IF(E17="","",E17) -> SVIS TCE spol. s.r.o. | AS89: Informatívní údaje z listů zakázek
C90: Uchazeč: | L90: =IF(E14= "Vyplň údaj","",E14) | AI90: Zpracovatel: | AM90: =IF(E20="","",E20)
...

Sheet 01 - Horní Chobolice - vo...
L2: >> skryté sloupce << | AT2: {fe2aa70a-57f3-4530-afec-eb4022400dd1} | AZ2: jámy | BA2: jámy protlaku | BB2: m3 | BC2: 505,538 | BD2: 2
AT3: 2 | AZ3: lože | BA3: lože | BB3: m3 | BC3: 39,825 | BD3: 2
D4: KRYCÍ LIST SOUPISU PRACÍ | M4: v --- níže se nacházejí doplnkové a pomocné údaje k sestavám --- v | AT4: False | AZ4: nový_zásyp | BA4: nový zásyp | BB4: m3 | BC4: 63,084 | BD4: 2
AZ5: obsyp | BA5: obsyp | BB5: m3 | BC5: 88,146 | BD5: 2
D6: Stavba: | AZ6: pažení | BA6: pažení | BB6: m2 | BC6: 929,25 | BD6: 2
E7: ='Rekapitulace stavby'!K6 -> Dolní a Horní Chobolice - vodovodní přípojky | AZ7: pažení_jam | BA7: požení jámy | BB7: m2 | BC7: 899,64 | BD7: 2
D8: Objekt: | AZ8: přejezdy | BA8: přejezdové plechy | BB8: m2 | BC8: 22,5 | BD8: 2
E9: 01 - Horní Chobolice - vodovodní přípojky | AZ9: rozepření | BA9: rozepžení jámy | BB9: m3 | BC9: 573,3 | BD9: 2
AZ10: rýha | BA10: rýha | BC10: 359,175 | BD10: 2
D11: KSO: | F11: 827 1 | I11: CC-CZ: | AZ11: skládka_tr_3 | BA11: skládka tř. 3 | BB11: m3 | BC11: 139,464 | BD11: 2
D12: Místo: | F12: Chobolice | I12: Datum: | J12: ='Rekapitulace stavby'!AN8 -> - | AZ12: skládka_tr_4_5 | BA12: skládka tř. 4-5 | BB12: m3 | BC12: 139,464 | BD12: 2
AZ13: sonda | BA13: sonda | BB13: m3 | BC13: 38,75 | BD13: 2
D14: Zadavatel: | I14: IČ: | AZ14: zábrana | BA14: zábrana | BB14: m2 | BC14: 872 | BD14: 2
E15: Obec Liběšice | I15: DIČ: | AZ15: zásyp | BA15: zásyp | BB15: m3 | BC15: 630,844 | BD15: 2
AZ16: zpětný_zásyp | BA16: zpětný zásyp | BB16: m3 | BC16: 624,536 | BD16: 2
D17: Uchazeč: | I17: IČ: | J17: ='Rekapitulace stavby'!AN13 -> Vyplň údaj | AZ17: žebřík | BA17: žebřík | BB17: m | BC17: 119,7 | BD17: 2
E18: ='Rekapitulace stavby'!E14 -> Vyplň údaj | I18: DIČ: | J18: ='Rekapitulace stavby'!AN14 -> Vyplň údaj
D20: Projektant: | I20: IČ:
E21: SVIS TCE spol. s.r.o. | I21: DIČ:
D23: Zpracovatel: | I23: IČ: | J23: =IF('Rekapitulace stavby'!AN19="","",'Rekapitulace stavby'!AN19)
E24: =IF('Rekapitulace stavby'!E20="","",'Rekapitulace stavby'!E20) | I24: DIČ: | J24: =IF('Rekapitulace stavby'!AN20="","",'Rekapitulace stavby'!AN20)
D26: Poznámka:
E27: Soupis prací je sestaven s využitím Cenové soustavy ÚRS. Položky, které pochází z této cenové soustavy, jsou ve sloupci 'Cenová soustava' označeny popisem 'CS ÚRS' a úrovní příslušného kalendářního pololetí. Veškeré další informace vymezující popis a podmínky použití těchto položek z Cenové soustavy, které nejsou uvedeny přímo v soupisu prací, jsou neomezeně dálkově k dispozici na webu podminky.urs.cz.
D30: Cena bez DPH | J30: =ROUND(J126, 2) -> 0
F32: Základ daně | I32: Sazba daně | J32: Výše daně
D33: DPH | E33: základní | F33: =ROUND((SUM(BE126:BE928)), 2) -> 0 | I33: 0.21 | J33: =ROUND(((SUM(BE126:BE928))*I33), 2) -> 0
E34: snížená | F34: =ROUND((SUM(BF126:BF928)), 2) -> 0 | I34: 0.12 | J34: =ROUND(((SUM(BF126:BF928))*I34), 2) -> 0
E35: zákl. přenesená | F35: =ROUND((SUM(BG126:BG928)), 2) -> 0 | I35: 0.21 | J35: =0 -> 0
E36: sníž. přenesená | F36: =ROUND((SUM(BH126:BH928)), 2) -> 0 | I36: 0.12 | J36: =0 -> 0
E37: nulová | F37: =ROUND((SUM(BI126:BI928)), 2) -> 0 | I37: 0 | J37: =0 -> 0
D39: Cena s DPH | G39: v | H39: CZK | J39: =SUM(J30:J37) -> 0
D50: Projektant | G50: Zpracovatel
D61: Datum a podpis: | F61: Razítko | G61: Datum a podpis: | J61: Razítko
D65: Objednavatel | G65: Uchazeč
D76: Datum a podpis: | F76: Razítko | G76: Datum a podpis: | J76: Razítko
C82: REKAPITULACE ČLENĚNÍ SOUPISU PRACÍ
C84: Stavba:
E85: =E7 -> Dolní a Horní Chobolice - vodovodní přípojky
C86: Objekt:
E87: =E9 -> 01 - Horní Chobolice - vodovodní přípojky
...

Sheet 02 - Dolní Chobolice - vo...
L2: >> skryté sloupce << | AT2: {5f52651f-4c24-483d-9229-79ac32884ed6} | AZ2: jámy | BA2: jámy protlaku | BB2: m3 | BC2: 320,288 | BD2: 2
AT3: 2 | AZ3: lože | BA3: lože | BB3: m3 | BC3: 23,4 | BD3: 2
D4: KRYCÍ LIST SOUPISU PRACÍ | M4: v --- níže se nacházejí doplnkové a pomocné údaje k sestavám --- v | AT4: False | AZ4: nový_zásyp | BA4: nový zásyp | BB4: m3 | BC4: 38,654 | BD4: 2
AZ5: obsyp | BA5: obsyp | BB5: m3 | BC5: 53,232 | BD5: 2
D6: Stavba: | AZ6: pažení | BA6: pažení | BB6: m2 | BC6: 546 | BD6: 2
E7: ='Rekapitulace stavby'!K6 -> Dolní a Horní Chobolice - vodovodní přípojky | AZ7: pažení_jam | BA7: požení jámy | BB7: m2 | BC7: 578,34 | BD7: 2
D8: Objekt: | AZ8: přejezdy | BA8: přejezdové plechy | BB8: m2 | BC8: 7,5 | BD8: 2
E9: 02 - Dolní Chobolice - vodovodní přípojky | AZ9: rozepření | BA9: rozepžení jámy | BB9: m3 | BC9: 368,55 | BD9: 2
AZ10: rýha | BA10: rýha | BC10: 192,125 | BD10: 2
D11: KSO: | F11: 827 1 | I11: CC-CZ: | AZ11: skládka_tr_3 | BA11: skládka tř. 3 | BB11: m3 | BC11: 85,021 | BD11: 2
D12: Místo: | F12: Chobolice | I12: Datum: | J12: ='Rekapitulace stavby'!AN8 -> - | AZ12: skládka_tr_4_5 | BA12: skládka tř. 4-5 | BB12: m3 | BC12: 85,021 | BD12: 2
AZ13: sonda | BA13: sonda | BB13: m3 | BC13: 40,3 | BD13: 2
D14: Zadavatel: | I14: IČ: | AZ14: zábrana | BA14: zábrana | BB14: m2 | BC14: 528 | BD14: 2
E15: Obec Liběšice | I15: DIČ: | AZ15: zásyp | BA15: zásyp | BB15: m3 | BC15: 386,537 | BD15: 2
AZ16: zpětný_zásyp | BA16: zpětný zásyp | BB16: m3 | BC16: 382,672 | BD16: 2
D17: Uchazeč: | I17: IČ: | J17: ='Rekapitulace stavby'!AN13 -> Vyplň údaj | AZ17: žebřík | BA17: žebřík | BB17: m | BC17: 76,95 | BD17: 2
E18: ='Rekapitulace stavby'!E14 -> Vyplň údaj | I18: DIČ: | J18: ='Rekapitulace stavby'!AN14 -> Vyplň údaj
D20: Projektant: | I20: IČ:
E21: SVIS TCE spol. s.r.o. | I21: DIČ:
D23: Zpracovatel: | I23: IČ: | J23: =IF('Rekapitulace stavby'!AN19="","",'Rekapitulace stavby'!AN19)
E24: =IF('Rekapitulace stavby'!E20="","",'Rekapitulace stavby'!E20) | I24: DIČ: | J24: =IF('Rekapitulace stavby'!AN20="","",'Rekapitulace stavby'!AN20)
D26: Poznámka:
E27: Soupis prací je sestaven s využitím Cenové soustavy ÚRS. Položky, které pochází z této cenové soustavy, jsou ve sloupci 'Cenová soustava' označeny popisem 'CS ÚRS' a úrovní příslušného kalendářního pololetí. Veškeré další informace vymezující popis a podmínky použití těchto položek z Cenové soustavy, které nejsou uvedeny přímo v soupisu prací, jsou neomezeně dálkově k dispozici na webu podminky.urs.cz.
D30: Cena bez DPH | J30: =ROUND(J125, 2) -> 0
F32: Základ daně | I32: Sazba daně | J32: Výše daně
D33: DPH | E33: základní | F33: =ROUND((SUM(BE125:BE751)), 2) -> 0 | I33: 0.21 | J33: =ROUND(((SUM(BE125:BE751))*I33), 2) -> 0
E34: snížená | F34: =ROUND((SUM(BF125:BF751)), 2) -> 0 | I34: 0.12 | J34: =ROUND(((SUM(BF125:BF751))*I34), 2) -> 0
E35: zákl. přenesená | F35: =ROUND((SUM(BG125:BG751)), 2) -> 0 | I35: 0.21 | J35: =0 -> 0
E36: sníž. přenesená | F36: =ROUND((SUM(BH125:BH751)), 2) -> 0 | I36: 0.12 | J36: =0 -> 0
E37: nulová | F37: =ROUND((SUM(BI125:BI751)), 2) -> 0 | I37: 0 | J37: =0 -> 0
D39: Cena s DPH | G39: v | H39: CZK | J39: =SUM(J30:J37) -> 0
D50: Projektant | G50: Zpracovatel
D61: Datum a podpis: | F61: Razítko | G61: Datum a podpis: | J61: Razítko
D65: Objednavatel | G65: Uchazeč
D76: Datum a podpis: | F76: Razítko | G76: Datum a podpis: | J76: Razítko
C82: REKAPITULACE ČLENĚNÍ SOUPISU PRACÍ
C84: Stavba:
E85: =E7 -> Dolní a Horní Chobolice - vodovodní přípojky
C86: Objekt:
E87: =E9 -> 02 - Dolní Chobolice - vodovodní přípojky
...

Sheet 03 - Komunikace 
L2: >> skryté sloupce << | AT2: {a37c10aa-6f49-4579-b762-f83d51371840}
AT3: 2
D4: KRYCÍ LIST SOUPISU PRACÍ | M4: v --- níže se nacházejí doplnkové a pomocné údaje k sestavám --- v | AT4: False
D6: Stavba:
E7: ='Rekapitulace stavby'!K6 -> Dolní a Horní Chobolice - vodovodní přípojky
D8: Objekt:
E9: 03 - Komunikace
D11: KSO: | F11: 827 | I11: CC-CZ:
D12: Místo: | F12: Chobolice | I12: Datum: | J12: ='Rekapitulace stavby'!AN8 -> -
D14: Zadavatel: | I14: IČ:
E15: Obec Liběšice | I15: DIČ:
D17: Uchazeč: | I17: IČ: | J17: ='Rekapitulace stavby'!AN13 -> Vyplň údaj
E18: ='Rekapitulace stavby'!E14 -> Vyplň údaj | I18: DIČ: | J18: ='Rekapitulace stavby'!AN14 -> Vyplň údaj
D20: Projektant: | I20: IČ:
E21: SVIS TCE spol. s.r.o. | I21: DIČ:
D23: Zpracovatel: | I23: IČ: | J23: =IF('Rekapitulace stavby'!AN19="","",'Rekapitulace stavby'!AN19)
E24: =IF('Rekapitulace stavby'!E20="","",'Rekapitulace stavby'!E20) | I24: DIČ: | J24: =IF('Rekapitulace stavby'!AN20="","",'Rekapitulace stavby'!AN20)
D26: Poznámka:
E27: Soupis prací je sestaven s využitím Cenové soustavy ÚRS. Položky, které pochází z této cenové soustavy, jsou ve sloupci 'Cenová soustava' označeny popisem 'CS ÚRS' a úrovní příslušného kalendářního pololetí. Veškeré další informace vymezující popis a podmínky použití těchto položek z Cenové soustavy, které nejsou uvedeny přímo v soupisu prací, jsou neomezeně dálkově k dispozici na webu podminky.urs.cz.
D30: Cena bez DPH | J30: =ROUND(J123, 2) -> 0
F32: Základ daně | I32: Sazba daně | J32: Výše daně
D33: DPH | E33: základní | F33: =ROUND((SUM(BE123:BE412)), 2) -> 0 | I33: 0.21 | J33: =ROUND(((SUM(BE123:BE412))*I33), 2) -> 0
E34: snížená | F34: =ROUND((SUM(BF123:BF412)), 2) -> 0 | I34: 0.12 | J34: =ROUND(((SUM(BF123:BF412))*I34), 2) -> 0
E35: zákl. přenesená | F35: =ROUND((SUM(BG123:BG412)), 2) -> 0 | I35: 0.21 | J35: =0 -> 0
E36: sníž. přenesená | F36: =ROUND((SUM(BH123:BH412)), 2) -> 0 | I36: 0.12 | J36: =0 -> 0
E37: nulová | F37: =ROUND((SUM(BI123:BI412)), 2) -> 0 | I37: 0 | J37: =0 -> 0
D39: Cena s DPH | G39: v | H39: CZK | J39: =SUM(J30:J37) -> 0
D50: Projektant | G50: Zpracovatel
D61: Datum a podpis: | F61: Razítko | G61: Datum a podpis: | J61: Razítko
D65: Objednavatel | G65: Uchazeč
D76: Datum a podpis: | F76: Razítko | G76: Datum a podpis: | J76: Razítko
C82: REKAPITULACE ČLENĚNÍ SOUPISU PRACÍ
C84: Stavba:
E85: =E7 -> Dolní a Horní Chobolice - vodovodní přípojky
C86: Objekt:
E87: =E9 -> 03 - Komunikace
C89: Místo: | F89: =F12 -> Chobolice | I89: Datum: | J89: =IF(J12="","",J12) -> -
C91: Zadavatel: | F91: =E15 -> Obec Liběšice | I91: Projektant: | J91: =E21 -> SVIS TCE spol. s.r.o.
C92: Uchazeč: | F92: =IF(E18="","",E18) -> Vyplň údaj | I92: Zpracovatel: | J92: =E24
C94: Kód dílu - Popis | J94: Cena celkem [CZK]
...

Sheet 04 - VRN
L2: >> skryté sloupce << | AT2: {222898cb-c602-47aa-9d8a-b70398d621c6}
AT3: 2
D4: KRYCÍ LIST SOUPISU PRACÍ | M4: v --- níže se nacházejí doplnkové a pomocné údaje k sestavám --- v | AT4: False
D6: Stavba:
E7: ='Rekapitulace stavby'!K6 -> Dolní a Horní Chobolice - vodovodní přípojky
D8: Objekt:
E9: 04 - VRN
D11: KSO: | I11: CC-CZ:
D12: Místo: | F12: Chobolice | I12: Datum: | J12: ='Rekapitulace stavby'!AN8 -> -
D14: Zadavatel: | I14: IČ:
E15: Obec Liběšice | I15: DIČ:
D17: Uchazeč: | I17: IČ: | J17: ='Rekapitulace stavby'!AN13 -> Vyplň údaj
E18: ='Rekapitulace stavby'!E14 -> Vyplň údaj | I18: DIČ: | J18: ='Rekapitulace stavby'!AN14 -> Vyplň údaj
D20: Projektant: | I20: IČ:
E21: SVIS TCE spol. s.r.o. | I21: DIČ:
D23: Zpracovatel: | I23: IČ: | J23: =IF('Rekapitulace stavby'!AN19="","",'Rekapitulace stavby'!AN19)
E24: =IF('Rekapitulace stavby'!E20="","",'Rekapitulace stavby'!E20) | I24: DIČ: | J24: =IF('Rekapitulace stavby'!AN20="","",'Rekapitulace stavby'!AN20)
D26: Poznámka:
E27: Soupis prací je sestaven s využitím Cenové soustavy ÚRS. Položky, které pochází z této cenové soustavy, jsou ve sloupci 'Cenová soustava' označeny popisem 'CS ÚRS' a úrovní příslušného kalendářního pololetí. Veškeré další informace vymezující popis a podmínky použití těchto položek z Cenové soustavy, které nejsou uvedeny přímo v soupisu prací, jsou neomezeně dálkově k dispozici na webu podminky.urs.cz.
D30: Cena bez DPH | J30: =ROUND(J118, 2) -> 0
F32: Základ daně | I32: Sazba daně | J32: Výše daně
D33: DPH | E33: základní | F33: =ROUND((SUM(BE118:BE121)), 2) -> 0 | I33: 0.21 | J33: =ROUND(((SUM(BE118:BE121))*I33), 2) -> 0
E34: snížená | F34: =ROUND((SUM(BF118:BF121)), 2) -> 0 | I34: 0.12 | J34: =ROUND(((SUM(BF118:BF121))*I34), 2) -> 0
E35: zákl. přenesená | F35: =ROUND((SUM(BG118:BG121)), 2) -> 0 | I35: 0.21 | J35: =0 -> 0
E36: sníž. přenesená | F36: =ROUND((SUM(BH118:BH121)), 2) -> 0 | I36: 0.12 | J36: =0 -> 0
E37: nulová | F37: =ROUND((SUM(BI118:BI121)), 2) -> 0 | I37: 0 | J37: =0 -> 0
D39: Cena s DPH | G39: v | H39: CZK | J39: =SUM(J30:J37) -> 0
D50: Projektant | G50: Zpracovatel
D61: Datum a podpis: | F61: Razítko | G61: Datum a podpis: | J61: Razítko
D65: Objednavatel | G65: Uchazeč
D76: Datum a podpis: | F76: Razítko | G76: Datum a podpis: | J76: Razítko
C82: REKAPITULACE ČLENĚNÍ SOUPISU PRACÍ
C84: Stavba:
E85: =E7 -> Dolní a Horní Chobolice - vodovodní přípojky
C86: Objekt:
E87: =E9 -> 04 - VRN
C89: Místo: | F89: =F12 -> Chobolice | I89: Datum: | J89: =IF(J12="","",J12) -> -
C91: Zadavatel: | F91: =E15 -> Obec Liběšice | I91: Projektant: | J91: =E21 -> SVIS TCE spol. s.r.o.
C92: Uchazeč: | F92: =IF(E18="","",E18) -> Vyplň údaj | I92: Zpracovatel: | J92: =E24
C94: Kód dílu - Popis | J94: Cena celkem [CZK]
...

Sheet 05 - Ostatní rozpočtové n...
L2: >> skryté sloupce << | AT2: {82ad865b-0f97-41ef-8931-907bf6a9b93b}
AT3: 2
D4: KRYCÍ LIST SOUPISU PRACÍ | M4: v --- níže se nacházejí doplnkové a pomocné údaje k sestavám --- v | AT4: False
D6: Stavba:
E7: ='Rekapitulace stavby'!K6 -> Dolní a Horní Chobolice - vodovodní přípojky
D8: Objekt:
E9: 05 - Ostatní rozpočtové náklady
D11: KSO: | I11: CC-CZ:
D12: Místo: | F12: Chobolice | I12: Datum: | J12: ='Rekapitulace stavby'!AN8 -> -
D14: Zadavatel: | I14: IČ:
E15: Obec Liběšice | I15: DIČ:
D17: Uchazeč: | I17: IČ: | J17: ='Rekapitulace stavby'!AN13 -> Vyplň údaj
E18: ='Rekapitulace stavby'!E14 -> Vyplň údaj | I18: DIČ: | J18: ='Rekapitulace stavby'!AN14 -> Vyplň údaj
D20: Projektant: | I20: IČ:
E21: SVIS TCE spol. s.r.o. | I21: DIČ:
D23: Zpracovatel: | I23: IČ: | J23: =IF('Rekapitulace stavby'!AN19="","",'Rekapitulace stavby'!AN19)
E24: =IF('Rekapitulace stavby'!E20="","",'Rekapitulace stavby'!E20) | I24: DIČ: | J24: =IF('Rekapitulace stavby'!AN20="","",'Rekapitulace stavby'!AN20)
D26: Poznámka:
E27: Soupis prací je sestaven s využitím Cenové soustavy ÚRS. Položky, které pochází z této cenové soustavy, jsou ve sloupci 'Cenová soustava' označeny popisem 'CS ÚRS' a úrovní příslušného kalendářního pololetí. Veškeré další informace vymezující popis a podmínky použití těchto položek z Cenové soustavy, které nejsou uvedeny přímo v soupisu prací, jsou neomezeně dálkově k dispozici na webu podminky.urs.cz.
D30: Cena bez DPH | J30: =ROUND(J117, 2) -> 0
F32: Základ daně | I32: Sazba daně | J32: Výše daně
D33: DPH | E33: základní | F33: =ROUND((SUM(BE117:BE132)), 2) -> 0 | I33: 0.21 | J33: =ROUND(((SUM(BE117:BE132))*I33), 2) -> 0
E34: snížená | F34: =ROUND((SUM(BF117:BF132)), 2) -> 0 | I34: 0.12 | J34: =ROUND(((SUM(BF117:BF132))*I34), 2) -> 0
E35: zákl. přenesená | F35: =ROUND((SUM(BG117:BG132)), 2) -> 0 | I35: 0.21 | J35: =0 -> 0
E36: sníž. přenesená | F36: =ROUND((SUM(BH117:BH132)), 2) -> 0 | I36: 0.12 | J36: =0 -> 0
E37: nulová | F37: =ROUND((SUM(BI117:BI132)), 2) -> 0 | I37: 0 | J37: =0 -> 0
D39: Cena s DPH | G39: v | H39: CZK | J39: =SUM(J30:J37) -> 0
D50: Projektant | G50: Zpracovatel
D61: Datum a podpis: | F61: Razítko | G61: Datum a podpis: | J61: Razítko
D65: Objednavatel | G65: Uchazeč
D76: Datum a podpis: | F76: Razítko | G76: Datum a podpis: | J76: Razítko
C82: REKAPITULACE ČLENĚNÍ SOUPISU PRACÍ
C84: Stavba:
E85: =E7 -> Dolní a Horní Chobolice - vodovodní přípojky
C86: Objekt:
E87: =E9 -> 05 - Ostatní rozpočtové náklady
C89: Místo: | F89: =F12 -> Chobolice | I89: Datum: | J89: =IF(J12="","",J12) -> -
C91: Zadavatel: | F91: =E15 -> Obec Liběšice | I91: Projektant: | J91: =E21 -> SVIS TCE spol. s.r.o.
C92: Uchazeč: | F92: =IF(E18="","",E18) -> Vyplň údaj | I92: Zpracovatel: | J92: =E24
C94: Kód dílu - Popis | J94: Cena celkem [CZK]
...

Sheet Seznam figur
C4: SEZNAM FIGUR
C5: Kód: | D5: 18/2026
C6: Stavba: | D6: Dolní a Horní Chobolice - vodovodní přípojky
C7: Datum: | D7: ='Rekapitulace stavby'!AN8 -> -
C9: Kód | D9: Popis | E9: MJ | F9: Výměra
C10: 01 | D10: Horní Chobolice - vodovodní přípojky
C11: jámy | D11: jámy protlaku | E11: m3 | F11: 505.538
D12: Vodoměrná šachta | F12: 0
D13: 1.přípojka č.ev.19 | F13: 0
D14: 2,60*2,50*(2,10-0,35) | F14: 11.375
D15: 2.přípojka č.p.20 | F15: 0
D16: 2,60*2,50*(2,10-0,20) | F16: 12.35
D17: 3.přípojka č.ev.20 | F17: 0
D18: 2,60*2,50*(2,10-0,20) | F18: 12.35
D19: 4.přípojka č. ev.29 | F19: 0
D20: 2,60*2,50*(2,10-0,20) | F20: 12.35
D21: 5.přípojka č.p.17 | F21: 0
D22: 2,60*2,50*(2,10-0,35) | F22: 11.375
D23: 6.přípojka č.ev.5 | F23: 0
... D97: 2,60*2,50*(2,10-0,20) | F97: 12.35
C98: jámy | D98: Součet | F98: 505.538
C99: Použití figury:
C100: 131251201 | D100: Hloubení jam zapažených v hornině třídy těžitelnosti I skupiny 3 objem do 20 m3 strojně | E100: m3 | F100: 252.769
C101: 129001101 | D101: Příplatek za ztížení odkopávky nebo prokopávky v blízkosti inženýrských sítí | E101: m3 | F101: 90.346
C102: 131351201 | D102: Hloubení jam zapažených v hornině třídy těžitelnosti II skupiny 4 objem do 20 m3 strojně | E102: m3 | F102: 202.215
C103: 131451201 | D103: Hloubení jam zapažených v hornině třídy těžitelnosti II skupiny 5 objem do 20 m3 strojně | E103: m3 | F103: 50.554
C104: 162351103 | D104: Vodorovné přemístění přes 50 do 500 m výkopku/sypaniny z horniny třídy těžitelnosti I skupiny 1 až 3 | E104: m3 | F104: 1267.323
C105: 162351123 | D105: Vodorovné přemístění přes 50 do 500 m výkopku/sypaniny z hornin třídy těžitelnosti II skupiny 4 a 5 | E105: m3 | F105: 451.732
C106: 162751117 | D106: Vodorovné přemístění přes 9 000 do 10000 m výkopku/sypaniny z horniny třídy těžitelnosti I skupiny 1 až 3 | E106: m3 | F106: 139.464
C107: 162751137 | D107: Vodorovné přemístění přes 9 000 do 10000 m výkopku/sypaniny z horniny třídy těžitelnosti II skupiny 4 a 5 | E107: m3 | F107: 139.464
C108: 167151101 | D108: Nakládání výkopku z hornin třídy těžitelnosti I skupiny 1 až 3 do 100 m3 strojně | E108: m3 | F108: 642.787
C109: 167151102 | D109: Nakládání výkopku z hornin třídy těžitelnosti II skupiny 4 a 5 do 100 m3 strojně | E109: m3 | F109: 451.732
C110: 171251201 | D110: Uložení sypaniny na skládky nebo meziskládky | E110: m3 | F110: 1094.518
C111: 174151101 | D111: Zásyp jam, šachet rýh nebo kolem objektů sypaninou se zhutněním | E111: m3 | F111: 630.844
C112: lože | D112: lože | E112: m3 | F112: 39.825
D113: D.1.2, D.1.4 | F113: 0
D114: 1.přípojka č.ev.19 | F114: 0
D115: 5,00*1,00*0,15 | F115: 0.75
D116: 2.přípojka č.p.20 | F116: 0
D117: 9,00*1,00*0,15 | F117: 1.35
...
