Workbook
Name Print_Area: 'Kampaňový výzkum'!$A$1:$H$17

Sheet Nákup a administrace reklamy
A1: NÁKUP A ADMINISTRACE REKLAMY - MEDIA
A2: V rámci tohoto plnění bude Objednatel oprávněn poptávat plánování, zprostředkování, nákup, realizaci, správu a vyhodnocování reklamních kampaní a reklamního prostoru v televizních, rozhlasových, tiskových, online, OOH a dalších médiích, včetně veškerých souvisejících činností nezbytných k řádné realizaci plnění. Součástí plnění je zejména komunikace s médii a jejich zastupitelstvími, rezervace a objednávání (nákup) reklamního prostoru, operativní plánování konkrétního mediálního nasazení v rámci poptávané položky (např. výběr OOH ploch, spotlistů, termínů a pozic), trafficking a kontrola reklamních podkladů, zajištění jejich nasazení, potřebných kódů (např. AKA), založení a správa reklamních účtů a přístupových práv pro Objednatele, správa a optimalizace kampaní, měření, kontrola realizace, reporting a vyhodnocení. Plnění zahrnuje rovněž veškeré další související úkony a součinnost nezbytné pro jeho řádné a úplné poskytnutí, i pokud nejsou výslovně uvedeny. Poskytovatel zajistí zachování a předání přístupů, dostupné historie kampaní, dat a souvisejících podkladů Objednateli v rozsahu umožněném příslušnými systémy a médii. Náklady na veškeré výše uvedené a související činnosti musí být zohledněny v nabídkových cenách jednotlivých položek a reklamních formátů a jsou jejich nedílnou součástí.
A4: MEDIA
A5: Umístění | B5: Specifikace inzerce pro období: 2026 | C5: Jednotka | D5: počet modelový koš | E5: počet maximální počet | F5: Jednotková cena v Kč bez DPH* | G5: celková cena v Kč bez DPH modelový koš
A6: TV media
A7: Nova Group | B7: 20s reklamní spoty v aktuální nákupní cílové skupině (ta je vždy zveřejněna na webu Nova Group); 40 % PT+20 % SPT, garantovaná afinita 1,1 v cílové skupině Ženy 25-45, sezónní, stopážové, daypartové, příp. další koeficienty budou uplatněny v souladu s platnými všeobecnými podmínkami reklamy TV stanic | C7: GRP | D7: 560 | E7: 780 | G7: =D7*F7 -> 0
A8: Prima Group | B8: 20s reklamní spoty v aktuální nákupní cílové skupině (ta je vždy zveřejněna na webu Media Club); 60 % PT; garantovaná afinita 0,65 v cílové skupině Ženy 25-45, sezónní, stopážové, daypartové, příp. další koeficienty budou uplatněny v souladu s platnými všeobecnými podmínkami reklamy TV stanic | C8: GRP | D8: 340 | E8: 450 | G8: =D8*F8 -> 0
A9: ČT1 | B9: 10s sponzorské vzkazy u pořadu Události za okamžik 18:52; 1 týden po-ne | C9: Pořad (1 vzkaz) | D9: 9 | E9: 12 | G9: =D9*F9 -> 0
A10: ČT1 | B10: 10s sponzorské vzkazy u pořadu v pondělí v primetime čase mezi 20-22hod.: 1 pořad po 2 vzkazech | C10: Pořad (2 vzkazy) | D10: 4.5 | E10: 6 | G10: =D10*F10 -> 0
A11: TV skupina, s minimálním podílem sledovanosti 10 % dle ATO - roční data za rok 2024 a D15+ | B11: HbbTV cílení bude nastaveno dle požadavku OZP; umístění banneru + umístění spotů OZP na podstránce v rámci HBBTV; součástí je příprava a výroba podkladů pro HBBTV nasazení | C11: imprese | D11: 300000 | E11: 400000 | G11: =D11*F11 -> 0
A12: ATMEDIA: ATMAX | B12: 20s reklamní spoty v aktuální nákupní cílové skupině (ta je vždy zveřejněna na webu AT MEDIA), sezónní, stopážové, daypartové, příp. další koeficienty budou uplatněny v souladu s platnými všeobecnými podmínkami reklamy TV stanic | C12: GRP | D12: 29 | E12: 40 | G12: =D12*F12 -> 0
A13: TV NOVA - rozhovor | B13: Výroba a odvysílání předtočeného rozhovoru v minimální délce 1 minuty na téma prevence + konkrétní programy, firemní dny zdraví a další témata dle požadavku OZP; rozhovor bude probíhat se zástupcem OZP; konkrétní datum a čas odvysílání podléhá schválení ze strany OZP | C13: Rozhovor | D13: 1 | E13: 1 | G13: =D13*F13 -> 0
A14: CNN Prima News Interview+ | B14: Rozhovor se zástupcem OZP na téma po domluvě s redakcí; odsouhlasené okruhy otázek; včetně online vysílání a záznamu v archivu (vše cnn.iprima.cz) + PR článek special + FB post | C14: Interview+ | D14: 1 | E14: 2 | G14: =D14*F14 -> 0
A15: PrimetimeMedia | B15: 20s reklamní spoty v regionální síti tv stanic, sezónní, stopážové, daypartové, příp. další koeficienty budou uplatněny v souladu s platnými všeobecnými podmínkami reklamy TV stanic | C15: Spot | D15: 15 | E15: 20 | G15: =D15*F15 -> 0
A16: TV média celkem | G16: =SUM(G7:G15) -> 0
A17: Radio
A18: MEDIACLUB / Radio United TOTAL | B18: 20s spoty s nasazením Po–Pá 06:00–09:00 (2x), 09:00–12:00 (2x), 12:00–15:00 (2x), 15:00–18:00 (2x)), tj. 40 spotů týdně. Modelový počet kusů slouží pouze pro účely hodnocení nabídek. Skutečné plnění a rozložení bude objednáváno dle potřeb zadavatele až do maximálního počtu uvedeného ve sloupci „Počet maximální počet“. | C18: Spot | D18: 45 | E18: 60 | G18: =D18*F18 -> 0
A19: Radio celkem | G19: =SUM(G18:G18) -> 0
A20: OOH media
A21: CLV | B21: Umístění CLV (min. 1,2m2) včetně produkce na 1 měsíc s umístěním v okresních a krajských městech a jejich spádové oblasti | C21: CLV | D21: 65 | E21: 80 | G21: =D21*F21 -> 0
A22: BIGBOARDY | B22: Umístění bigboardů včetně produkce na 1 měsíc s umístěním v krajských městech a jejich spádové oblasti | C22: BIGBOARD | D22: 12 | E22: 15 | G22: =D22*F22 -> 0
A23: BILLBOARDY | B23: Billboard s umístěním na frekventovaných tazích a silnicích v blízkosti poboček OZP v krajských městech; včetně produkce (tisk, instalace, deinstalace); návrh konkrétního umístění vyžaduje schválení ze strany OZP na základě poskytnutého seznamu dostupných lokalit a ploch | C23: Billboard | D23: 15 | E23: 20 | G23: =D23*F23 -> 0
A24: Hypercubes | B24: Využití celé inzertní plochy hypercubes v min. velikosti šíře a délky 2m a výšky 4m, a to ve městech dle požadavků zadavatele; cena včetně výroby a produkce | C24: HYPERCUBE | D24: 1 | E24: 2 | G24: =D24*F24 -> 0
A25: TV LED OBRAZOVKY | B25: LED obrazovky v rámci ČR (7 měst; 15 obrazovek); 10s reklamní spot nebo statická reklama/vizuál | C25: Zobrazení | D25: 30000 | E25: 40000 | G25: =D25*F25 -> 0
A26: Mojeobrazovka - polikliniky | B26: Reklamní spoty na digitálních obrazovkách v čekárnách zdravotnických zařízení, konkrétní specializace dle požadavků zadavatele, stopáž 30 s, v případě jiné stopáže bude upraven počet spotů tak, aby byla zachována celková doba vysílání | C26: Spot | D26: 35000 | E26: 50000 | G26: =D26*F26 -> 0
A27: TV Ambulance | B27: Reklamní spoty na digitálních obrazovkách v čekárnách zdravotnických zařízení, konkrétní specializace dle požadavků zadavatele, stopáž 30 s, v případě jiné stopáže bude upraven počet spotů tak, aby byla zachována celková doba vysílání | C27: Spot | D27: 35000 | E27: 50000 | G27: =D27*F27 -> 0
A28: TV Reklamní systém | B28: Reklamní spoty na digitálních obrazovkách v čekárnách zdravotnických zařízení, konkrétní specializace dle požadavků zadavatele, stopáž 30 s, v případě jiné stopáže bude upraven počet spotů tak, aby byla zachována celková doba vysílání | C28: Spot | D28: 35000 | E28: 50000 | G28: =D28*F28 -> 0
A29: TV IDS digital poster | B29: 15-30s reklamní vizuály na obrazovkách v čekárnách lékařů v minimálním počtu 200 obrazovek s možností výběru minimálně dvou odborností | C29: Zobrazení | D29: 95000 | E29: 120000 | G29: =D29*F29 -> 0
A30: Distribuce letáků a časopisů; MOJEAMBULANCE a ostatní zdravotnická zařízení | B30: Distribuce propagačních DL letáků OZP (jednoduchých nebo skládaných, maximálně se 3 lomy) a časopisů OZP (do maximálního formátu A4 a rozsahu 110 stran) do celkem 150 čekáren zdravotnických zařízení, příípadně v jejich bezprostřední blízkosti. Součástí plnění je doprava a vyzvednutí distribuovaných materiálů v sídle OZP v Praze. Poměr letáků a časopisů stanoví OZP podle jejich aktuální dostupnosti. | C30: 1ks | D30: 2200 | E30: 3000 | G30: =D30*F30 -> 0
A31: Distribuce letáků a časopisů; IDS zdrav. zařízení | C31: 1ks | D31: 2200 | E31: 3000 | G31: =D31*F31 -> 0
A32: Obrazovky v obchodních centrech a supermarketech | B32: 30s reklamní vizuály na obrazovkách s minimální velikostí 55" v OC centrech (Ad panely) a supermarketech a v minimálně 15 městech; 30s vizuál na výšku se bude skládat z několika motivů, které bude definovat OZP a příprava podkladu je součástí plnění | C32: Odvysílání | D32: 46000 | E32: 60000 | G32: =D32*F32 -> 0
A33: Propagace na sportovní či kulturní akci | B33: Propagace v rámci sportovní nebo kulturní akce s návštěvností min 1000 osob: minimálně zobrazení loga na pozvánkách, vstupenkách a/nebo zpravodaji, minimálně 1x statický panel s minimálním rozměrem 2 m2 na akci, minimálně 10x zobrazení loga/spotu na digitálním nosiči na akci, minimálně jedna propagace na sociální síti akce (fcb, instagram ap.) | C33: Akce | D33: 1 | E33: 2 | G33: =D33*F33 -> 0
A34: OOH média celkem | G34: =SUM(G21:G33) -> 0
A35: Tisková media
A36: MF DNES | B36: Celoplošná barevná inzerce v rozsahu 1/2 strany na šířku (cena dalších formátů bude vypočtena jako součin nabízené ceny za 1/2 strany a podíl ceníkových cen 1/2 strany a zvoleného jiného formátu) | C36: 1/2 na šířku | D36: 1 | E36: 1 | G36: =D36*F36 -> 0
A37: Magazín Dnes+TV | B37: Celoplošná barevná inzerce v rozsahu 1/2 strany na šířku (cena dalších formátů bude vypočtena jako součin nabízené ceny za 1/2 strany a podíl ceníkových cen 1/2 strany a zvoleného jiného formátu) | C37: 1/2 na šířku | D37: 1 | E37: 1 | G37: =D37*F37 -> 0
A38: Ona Dnes | B38: Celoplošná barevná inzerce v rozsahu 1/2 strany na šířku (cena dalších formátů bude vypočtena jako součin nabízené ceny za 1/2 strany a podíl ceníkových cen 1/2 strany a zvoleného jiného formátu) | C38: 1/2 na šířku | D38: 1 | E38: 1 | G38: =D38*F38 -> 0
A39: Téma | B39: Celoplošná barevná inzerce v rozsahu 1/2 strany na šířku (cena dalších formátů bude vypočtena jako součin nabízené ceny za 1/2 strany a podíl ceníkových cen 1/2 strany a zvoleného jiného formátu) | C39: 1/2 na šířku | D39: 1 | E39: 1 | G39: =D39*F39 -> 0
A40: Žena a život | B40: Celoplošná barevná inzerce v rozsahu 1/2 strany na šířku (cena dalších formátů bude vypočtena jako součin nabízené ceny za 1/2 strany a podíl ceníkových cen 1/2 strany a zvoleného jiného formátu) | C40: 1/2 na šířku | D40: 1 | E40: 1 | G40: =D40*F40 -> 0
A41: Týdeník Televize | B41: Celoplošná barevná inzerce v rozsahu 1/2 strany na šířku (cena dalších formátů bude vypočtena jako součin nabízené ceny za 1/2 strany a podíl ceníkových cen 1/2 strany a zvoleného jiného formátu) | C41: 1/2 na šířku | D41: 1 | E41: 1 | G41: =D41*F41 -> 0
A42: Blesk zdraví | B42: Celoplošná barevná inzerce v rozsahu 1/2 strany na šířku (cena dalších formátů bude vypočtena jako součin nabízené ceny za 1/2 strany a podíl ceníkových cen 1/2 strany a zvoleného jiného formátu) | C42: 1/2 na šířku | D42: 1 | E42: 1 | G42: =D42*F42 -> 0
A43: Blesk pro ženy | B43: Celoplošná barevná inzerce v rozsahu 1/2 strany na šířku (cena dalších formátů bude vypočtena jako součin nabízené ceny za 1/2 strany a podíl ceníkových cen 1/2 strany a zvoleného jiného formátu) | C43: 1/2 na šířku | D43: 1 | E43: 1 | G43: =D43*F43 -> 0
A44: Moje psychologie | B44: Celoplošná barevná inzerce v rozsahu 1/2 strany na šířku (cena dalších formátů bude vypočtena jako součin nabízené ceny za 1/2 strany a podíl ceníkových cen 1/2 strany a zvoleného jiného formátu) | C44: 1/2 na šířku | D44: 1 | E44: 1 | G44: =D44*F44 -> 0
A45: Kondice | B45: Celoplošná barevná inzerce v rozsahu 1/2 strany na šířku (cena dalších formátů bude vypočtena jako součin nabízené ceny za 1/2 strany a podíl ceníkových cen 1/2 strany a zvoleného jiného formátu) | C45: 1/2 na šířku | D45: 1 | E45: 1 | G45: =D45*F45 -> 0
A46: Stavebnictví | B46: Celoplošná barevná inzerce v rozsahu 1/2 strany na šířku (cena dalších formátů bude vypočtena jako součin nabízené ceny za 1/2 strany a podíl ceníkových cen 1/2 strany a zvoleného jiného formátu) | C46: 1/2 na šířku | D46: 1 | E46: 1 | G46: =D46*F46 -> 0
A47: Zdravotnictví a Medicína | B47: Celoplošná barevná inzerce v rozsahu 1/2 strany na šířku (cena dalších formátů bude vypočtena jako součin nabízené ceny za 1/2 strany a podíl ceníkových cen 1/2 strany a zvoleného jiného formátu) | C47: 1/2 na šířku | D47: 1 | E47: 1 | G47: =D47*F47 -> 0
... A54: Celostátní a regionální deníky | B54: vklad do 20 g 250 000 ks (cílení dle požadavku OZP) | C54: vklad | D54: 220000 | E54: 300000 | G54: =D54*F54 -> 0
A55: Tisková média celkem | G55: =SUM(G36:G54) -> 0
A56: Online media
A57: GOOGLE | B57: Vyhledávání; textový inzerát (doplněno malým obrázkem), 18+ | C57: Kliknutí | D57: 25000 | E57: 45000 | G57: =D57*F57 -> 0
A58: SEZNAM | B58: Vyhledávání; textový inzerát (doplněno malým obrázkem), 18+ | C58: Kliknutí | D58: 19000 | E58: 26000 | G58: =D58*F58 -> 0
A59: GOOGLE | B59: Bannery v rámci sítě Google: CS dle segmentů definovaných zadavatelem, téma a poměr segmentů definuje zadavatel | C59: Kliknutí | D59: 85000 | E59: 100000 | G59: =D59*F59 -> 0
A60: GOOGLE | B60: Bannery v rámci sítě Google - REMARKETING, CS: navštívili www.ozp.cz/prejdete | C60: Kliknutí | D60: 7000 | E60: 10000 | G60: =D60*F60 -> 0
A61: GOOGLE | B61: Bannery v rámci sítě Google - REMARKETING, CS: navštívili www.ozp.cz/prihlaska-pojistence | C61: Kliknutí | D61: 6500 | E61: 8000 | G61: =D61*F61 -> 0
A62: GOOGLE | B62: Bannery v rámci sítě Google - REMARKETING, CS: navštívili www.ebonus.ozp.cz | C62: Kliknutí | D62: 5200 | E62: 7000 | G62: =D62*F62 -> 0
A63: SEZNAM | B63: Bannery v rámci sítě Seznam: CS dle segmentů definovaných zadavatelem, téma a poměr segmentů definuje zadavatel | C63: Kliknutí | D63: 85000 | E63: 110000 | G63: =D63*F63 -> 0
A64: SEZNAM | B64: Bannery v rámci sítě Seznam - REMARKETING, CS: navštívili www.ozp.cz/prejdete | C64: Kliknutí | D64: 7000 | E64: 10000 | G64: =D64*F64 -> 0
A65: SEZNAM | B65: Bannery v rámci sítě seznam - REMARKETING, CS: navštívili www.ozp.cz/prihlaska-pojistence | C65: Kliknutí | D65: 5800 | E65: 8000 | G65: =D65*F65 -> 0
A66: SEZNAM | B66: Bannery v rámci sítě SEZNAM - REMARKETING, CS: navštívili www.ebonus.ozp.cz | C66: Kliknutí | D66: 5000 | E66: 7000 | G66: =D66*F66 -> 0
A67: Facebook+Instagram | B67: Veškeré dostupné formáty a dle konkrétního cílení, CS: dle segmentů definovaných zadavatelem, téma a poměr segmentů definuje zadavatel | C67: Kliknutí | D67: 110000 | E67: 140000 | G67: =D67*F67 -> 0
A68: Facebook+Instagram | B68: Veškeré dostupné formáty META a dle konkrétního cílení - REMARKETING, CS: navštívili www.ozp.cz/prejdete | C68: Kliknutí | D68: 8000 | E68: 11000 | G68: =D68*F68 -> 0
... A92: In-stream NOVA.CZ | B92: Nepřeskočitelné video; Desktop + Mobil + HbbTV; délka videospotu 10s | C92: Zobrazení | D92: 150000 | E92: 200000 | G92: =D92*F92 -> 0
A93: Online média celkem | G93: =SUM(G57:G92) -> 0
A95: CELKOVÁ CENA ZA MÉDIA v Kč bez DPH | G95: =SUM(G93,G55,G34,G19,G16) -> 0
A97: *Účastník vyplní pouze takto zvýrazněná pole, ostatní budou doplněna automaticky dle nastavených vzorců.

Sheet Print
A1: PRINT
A2: V rámci tohoto plnění bude Objednatel oprávněn poptávat tisk níže uvedených tiskovin z Objednatelem dodaných nebo odsouhlasených podkladů, včetně veškerých souvisejících činností nezbytných k řádnému a úplnému provedení plnění. Tiskoviny budou dle požadavků Objednatele dokončeny požadovaným způsobem, zejména svázány, složeny či přeloženy, a zabaleny v ochranných obalech v množství umožňujícím pohodlnou manipulaci. Kreativní výstupy zhotovené Poskytovatelem v rámci plnění Minitendru či Objednávky se stávají majetkem Objednatele (ohledně úpravy autorských práv viz čl. XII. Rámcové dohody). Tiskoviny a použité obaly budou vyrobeny ze snadno recyklovatelných materiálů, materiálů z obnovitelných zdrojů nebo bude použit obalový systém pro opakované použití. Jednotlivé části obalu z různých materiálů musí být od sebe ručně snadno oddělitelné. Nabídkové ceny jednotlivých položek uvedených níže musí zahrnovat veškeré náklady spojené s jejich řádným a úplným poskytnutím, včetně všech souvisejících činností, a to i v případě, že nejsou výslovně uvedeny, vyjma dopravy, která je naceněna samostatně.
A3: Letáky
A4: typ | B4: specifikace | C4: jednotka | D4: počet - modelový koš pro účely hodnocení nabídek | E4: maximální počet za dobu trvání RD | F4: jednotková cena v Kč bez DPH* | G4: celková cena v Kč bez DPH - modelový koš pro účely hodnocení nabídek
A5: Leták | B5: A5, 4/4, materiál – křída, lesk nebo mat, 135 g/m2, při 1 odběru nákladu na jedno číslo v rozpětí 100-4000 ks | C5: ks | D5: 5000 | E5: 7000 | G5: =D5*F5 -> 0
A6: Leták | B6: A5, 4/4, materiál – křída, lesk nebo mat, 135 g/m2, při 1 odběru nákladu na jedno číslo v rozpětí 4001-8000 ks | C6: ks | D6: 9000 | E6: 12000 | G6: =D6*F6 -> 0
A7: Leták | B7: A5, 4/4, materiál – křída, lesk nebo mat, 170 g/m2, při 1 odběru nákladu na jedno číslo v rozpětí 100-4000 ks | C7: ks | D7: 5000 | E7: 7000 | G7: =D7*F7 -> 0
A8: Leták | B8: A5, 4/4, materiál – křída, lesk nebo mat, 170 g/m2, , při 1 odběru nákladu na jedno číslo v rozpětí 4001-8000 ks | C8: ks | D8: 9000 | E8: 12000 | G8: =D8*F8 -> 0
A9: Leták | B9: A4, 4/0, materiál - křída, lesk nebo mat 135g/m2, baleno po 100ks, při 1 odběru nákladu na jedno číslo v rozpětí 100-4000 ks | C9: ks | D9: 5000 | E9: 7000 | G9: =D9*F9 -> 0
A10: Leták | B10: A4, 4/0, materiál - křída, lesk nebo mat 135g/m2, baleno po 100ks, při 1 odběru nákladu na jedno číslo v rozpětí 4001-8000 ks | C10: ks | D10: 9000 | E10: 12000 | G10: =D10*F10 -> 0
A11: Leták | B11: A4, 4/0, materiál - křída, lesk nebo mat, 170g/m2, baleno po 100ks, při 1 odběru nákladu na jedno číslo v rozpětí 100-4000 ks | C11: ks | D11: 5000 | E11: 7000 | G11: =D11*F11 -> 0
A12: Leták | B12: A4, 4/0, materiál - křída, lesk nebo mat, 170g/m2, baleno po 100ks, při 1 odběru nákladu na jedno číslo v rozpětí 4001-8000 ks | C12: ks | D12: 9000 | E12: 12000 | G12: =D12*F12 -> 0
A13: Leták | B13: A4, 4/4, materiál - křída, lesk nebo mat 135g/m2, baleno po 100ks, při 1 odběru nákladu na jedno číslo v rozpětí 100-4000 ks | C13: ks | D13: 5000 | E13: 7000 | G13: =D13*F13 -> 0
A14: Leták | B14: A4, 4/4, materiál - křída, lesk nebo mat 135g/m2, baleno po 100ks, při 1 odběru nákladu na jedno číslo v rozpětí 4001-8000 ks | C14: ks | D14: 9000 | E14: 12000 | G14: =D14*F14 -> 0
A15: Leták | B15: A4, 4/4, materiál - křída, lesk nebo mat, 170g/m2, baleno po 100ks, při 1 odběru nákladu na jedno číslo v rozpětí 100-4000 ks | C15: ks | D15: 5000 | E15: 7000 | G15: =D15*F15 -> 0
A16: Leták | B16: A4, 4/4, materiál - křída, lesk nebo mat, 170g/m2, baleno po 100ks, při 1 odběru nákladu na jedno číslo v rozpětí 4001-8000 ks | C16: ks | D16: 9000 | E16: 12000 | G16: =D16*F16 -> 0
... A30: Leták skládaný | B30: DL 3 LOMY (lom na DL v 210 mm x š 99mm; v 210 x š 396 mm); 4/4, materiál - křída, lesk nebo mat, 250 g/m2, baleno po 100ks, při 1 odběru nákladu na jedno číslo v rozpětí 4001-8000 ks | C30: ks | D30: 9000 | E30: 12000 | G30: =D30*F30 -> 0
A31: LETÁKY - CENA CELKEM | G31: =SUM(G5:G30) -> 0
A32: Plakáty
A33: typ | B33: specifikace | C33: jednotka | D33: počet - modelový koš pro účely hodnocení nabídek | E33: maximální počet za dobu trvání RD | F33: jednotková cena v Kč bez DPH* | G33: celková cena v Kč bez DPH - modelový koš pro účely hodnocení nabídek
A34: Plakát | B34: A1, 200 g/m, lesk nebo mat, tisk: 4/0 | C34: ks | D34: 130 | E34: 180 | G34: =D34*F34 -> 0
A35: Plakát | B35: A2, 200 g/m, lesk nebo mat, tisk: 4/0 | C35: ks | D35: 130 | E35: 180 | G35: =D35*F35 -> 0
A36: Plakát | B36: A3, 200 g/m, lesk nebo mat, tisk: 4/0 | C36: ks | D36: 180 | E36: 200 | G36: =D36*F36 -> 0
A37: Plakát | B37: A4, 200 g/m, lesk nebo mat, tisk: 4/0 | C37: ks | D37: 4000 | E37: 8000 | G37: =D37*F37 -> 0
A38: Plakát | B38: B1, 200 g/m, lesk nebo mat, tisk: 4/0 | C38: ks | D38: 120 | E38: 150 | G38: =D38*F38 -> 0
A39: Plakát | B39: B2, 200 g/m, lesk nebo mat, tisk: 4/0 | C39: ks | D39: 120 | E39: 150 | G39: =D39*F39 -> 0
A40: Plakát | B40: B3, 200 g/m, lesk nebo mat, tisk: 4/0 | C40: ks | D40: 120 | E40: 150 | G40: =D40*F40 -> 0
A41: Tisk plakátů na bigboardy | B41: 9,6 x 3,6 m, 4/0, papír 160 g, | C41: ks | D41: 30 | E41: 40 | G41: =D41*F41 -> 0
A42: PLAKÁTY - CENA CELKEM | G42: =SUM(G34:G41) -> 0
A43: Odborné tiskoviny
A44: typ | B44: specifikace | C44: jednotka | D44: počet - modelový koš pro účely hodnocení nabídek | E44: maximální počet za dobu trvání RD | F44: jednotková cena v Kč bez DPH* | G44: celková cena v Kč bez DPH - modelový koš pro účely hodnocení nabídek
A45: Diplom | B45: A4, 4/4, lesk nebo mat, papír 200g/m2, příprava obsahu + tisk | C45: ks | D45: 1500 | E45: 2000 | G45: =D45*F45 -> 0
A46: Rehabilitační cviky | B46: A5 na výšku, 200 g/m, 4/4, lesk nebo mat, minimálně 6 listů (12 stran), příprava obsahu publikace + tisk | C46: ks | D46: 1500 | E46: 2000 | G46: =D46*F46 -> 0
A47: Procvičování paměti | B47: A5 na výšku, 200 g/m, 4/4, lesk nebo mat, minimálně 6 listů (12 stran), příprava obsahu publikace + tisk | C47: ks | D47: 1500 | E47: 2000 | G47: =D47*F47 -> 0
A48: První pomoc | B48: A5 na výšku, 200 g/m, 4/4, lesk nebo mat, minimálně 6 listů (12 stran), příprava obsahu publikace + tisk | C48: ks | D48: 1500 | E48: 2000 | G48: =D48*F48 -> 0
A49: ODBORNÉ TISKOVINY - CENA CELKEM | G49: =SUM(G45:G48) -> 0
A50: Bannery
A51: typ | B51: specifikace | C51: jednotka | D51: počet - modelový koš pro účely hodnocení nabídek | E51: maximální počet za dobu trvání RD | F51: jednotková cena v Kč bez DPH* | G51: celková cena v Kč bez DPH - modelový koš pro účely hodnocení nabídek
A52: Výroba bannerů | B52: Cena za 1 m2, 4/0, plachtovina PVC Mono/Polymerická, min. 510g, okraje zpevněné nebo svařené, banner s železnými oky a příslušenstvím na zavěšení | C52: ks | D52: 3 | E52: 5 | G52: =D52*F52 -> 0
A53: Banner - plachta | B53: Oboustranná plachta 4/4 pogumovaná v 140 x š 120,5 cm (určena pro uchycení nahoře a dole hliníkovou lištou) | C53: ks | D53: 3 | E53: 5 | G53: =D53*F53 -> 0
A54: Reklamní vlajka | B54: Reklamní vlajka ve tvaru mušího křídla, polyester/polyflag min. 110g; potisk plnobarevný 4/4; hliníková konstrukce, kovový stojan | C54: ks | D54: 15 | E54: 25 | G54: =D54*F54 -> 0
A55: BANNERY - CENA CELKEM | G55: =SUM(G52:G54) -> 0
A56: Tiskoviny pro lékaře a OZP
A57: typ | B57: specifikace | C57: jednotka | D57: počet - modelový koš pro účely hodnocení nabídek | E57: maximální počet za dobu trvání RD | F57: jednotková cena v Kč bez DPH* | G57: celková cena v Kč bez DPH - modelový koš pro účely hodnocení nabídek
A58: Objednací kartičky | B58: 60x90mm, 250 g/m, primcard, tisk: 4/4 B + 1/0 disperzní lak | C58: ks | D58: 3500 | E58: 5000 | G58: =D58*F58 -> 0
A59: Desky na zdravotnickou dokumentaci | B59: A4, minimálně 250g/m, křída mat, tisk: 2/0, minimálně 2 chlopně | C59: ks | D59: 1200 | E59: 1700 | G59: =D59*F59 -> 0
A60: Dopis | B60: A4, 90g/m, tisk: 4/0 | C60: ks | D60: 3500 | E60: 5000 | G60: =D60*F60 -> 0
A61: Dopis | B61: A4, 135g/m, tisk: 4/0 | C61: ks | D61: 3500 | E61: 5000 | G61: =D61*F61 -> 0
A62: Obálka | B62: Obálka s okénkem C5, potisk na spad 4/0 | C62: ks | D62: 3500 | E62: 5000 | G62: =D62*F62 -> 0
A63: Samolepa | B63: Vinylová samolepa 10x12cm s potiskem 4/0; UV tisk; matná nebo lesklá; s permanentním lepidlem | C63: ks | D63: 220 | E63: 300 | G63: =D63*F63 -> 0
A64: Samolepa | B64: Vinylová samolepa 10x10cm s potiskem 4/0; UV tisk; matná nebo lesklá; s permanentním lepidlem | C64: ks | D64: 220 | E64: 300 | G64: =D64*F64 -> 0
A65: Samolepa | B65: Vinylová samolepa 5x5cm s potiskem 4/0; UV tisk; matná nebo lesklá; s permanentním lepidlem | C65: ks | D65: 220 | E65: 300 | G65: =D65*F65 -> 0
A66: Samolepa kulatá malá logo1 | B66: Vinylová samolepa kulatá, průměr 3cm s potiskem 4/0; UV tisk; lesklá; s permanentním lepidlem | C66: ks | D66: 500 | E66: 1200 | G66: =D66*F66 -> 0
A67: Samolepa kulatá malá logo2 | B67: Vinylová samolepa kulatá, průměr 3cm s potiskem 4/0; UV tisk; lesklá; s permanentním lepidlem | C67: ks | D67: 500 | E67: 1200 | G67: =D67*F67 -> 0
A68: Samolepa kulatá velká logo | B68: Vinylová samolepa kulatá, průměr 8cm s potiskem 4/0; UV tisk; lesklá; s permanentním lepidlem | C68: ks | D68: 220 | E68: 300 | G68: =D68*F68 -> 0
A69: Samolepa logo malé | B69: Vinylová samolepa 15x5cm s potiskem 4/0; UV tisk; lesklá; s permanentním lepidlem | C69: ks | D69: 500 | E69: 1200 | G69: =D69*F69 -> 0
... A83: Vzorová výroční zpráva - doprava | B83: Doprava vzorové výroční zprávy do sídla OZP Roškotova 1, Praha 4 | C83: ks | D83: 1 | E83: 1 | G83: =D83*F83 -> 0
A84: TISKOVINY PRO LÉKAŘE A OZP - CENA CELKEM | G84: =SUM(G58:G83) -> 0
A85: Brožury
A86: typ | B86: specifikace | C86: jednotka | D86: počet - modelový koš pro účely hodnocení nabídek | E86: maximální počet za dobu trvání RD | F86: jednotková cena v Kč bez DPH* | G86: celková cena v Kč bez DPH - modelový koš pro účely hodnocení nabídek
A87: Tisk brožury | B87: Tisk brožury dle technické specifikace zadavatele při odběru nákladu na jedno číslo (jednu objednávku) v rozpětí 800-1000 ks. Součástí plnění je zhotovení 1 kusu vzorového výtisku před zahájením každé jednotlivé tiskové série, a to k předchozímu schválení zadavatelem, dále balení, kompletace a příprava k distribuci dle pokynů zadavatele. Rozsah 12 stran (8 stran + obálka), vazba V1, formát A4, obálka: 200 g křídový matný papír, plnobarevný tisk 4/4; vnitřní listy: 170 g křídový matný papír, plnobarevný tisk 4/4, včetně balení. | C87: objednávka | D87: 7 | E87: 12 | G87: =D87*F87 -> 0
A88: Tisk brožury | B88: Tisk brožury dle technické specifikace zadavatele při odběru nákladu na jedno číslo (jednu objednávku) v rozpětí 1500-2000 ks. Součástí plnění je zhotovení 1 kusu vzorového výtisku před zahájením každé jednotlivé tiskové série, a to k předchozímu schválení zadavatelem, dále balení, kompletace a příprava k distribuci dle pokynů zadavatele. Rozsah 12 stran (8 stran + obálka), vazba V1, formát A4, obálka: 200 g křídový matný papír, plnobarevný tisk 4/4; vnitřní listy: 170 g křídový matný papír, plnobarevný tisk 4/4, včetně balení. | C88: objednávka | D88: 7 | E88: 12 | G88: =D88*F88 -> 0
A89: BROŽURY - CENA CELKEM | G89: =SUM(G87:G88) -> 0
D91: CELKOVÁ CENA ZA PRINT v Kč bez DPH | G91: =G84+G55+G49+G42+G31+G89 -> 0
A93: *Účastník vyplní pouze takto zvýrazněná pole, ostatní budou doplněna automaticky dle nastavených vzorců.
A94: Zeleně podbarvené položky mohou být zadány dílčí veřejnou zakázkou bez obnovení soutěže.

Sheet Kampaňový výzkum
A1: KAMPAŃOVÝ VÝZKUM A ANALÝZY
A2: V rámci tohoto plnění bude Objednatel oprávněn poptávat realizaci kampaňových a marketingových výzkumů a analýz, monitoring a rovněž nákup či zajištění dat, výstupů nebo přístupů z existujících či průběžně realizovaných výzkumů a datových zdrojů dle níže uvedené specifikace. Součástí plnění je dle povahy konkrétní položky zejména příprava metodiky a dotazníků, zajištění respondentů a sběru dat, zpracování, kontrola, analýza a interpretace dat, zajištění potřebných datových zdrojů, licencí a přístupů a předání či prezentace výstupů Objednateli. Plnění zahrnuje rovněž veškeré další související činnosti a součinnost nezbytné pro jeho řádné a úplné poskytnutí, a to i v případě, že nejsou výslovně uvedeny. Veškeré tyto náklady musí být zohledněny v nabídkových cenách jednotlivých položek uvedených níže.
A4: Definice sběru dat | B4: Specifikace výzkumu | C4: Obsah a rozsah výzkumu | D4: Jednotka | E4: počet - modelový koš pro účely hodnocení nabídek** | F4: Nabídková cena za jednotku v Kč bez DPH* | G4: Celková cena v Kč bez DPH
A5: Výzkum metoda CAWI; použití některého z běžně dostupných panelů s minimální registrací 30.000 respondentů | B5: Dotazování vlna 1: Proběhne před začátkem akvizičních kampaní v září, a to nejpozději do 21.08.2027, a to v počtu respondentů minimálně 1.000 | C5: Definice obsahu a otázek: Spontánní a podpořená znalost OZP a vybraných příspěvků OZP (minimálně 8); spontánní a podpořená znalost ostatních zdravotních pojišťoven; uvažování o změně zdravotní pojišťovny; asociace ke zdravotní pojišťovně OZP; sympatie ke značce; image značky; Potenciál využití služeb OZP | D5: Výzkum | E5: 1 | G5: =F5*E5 -> 0
A6: Výzkum metoda CAWI; použití některého z běžně dostupných panelů s minimální registrací 30.000 respondentů | B6: Dotazování vlna 2: Proběhne po skončení akvizičních kampaní v září, a to v období 01.10. - 31.10.2027, a to v počtu respondentů minimálně 1.000 | C6: Definice obsahu a otázek: Spontánní a podpořená znalost OZP a vybraných příspěvků OZP (minimálně 8); spontánní a podpořená znalost ostatních zdravotních pojišťoven; spontánní a podpořená znalost reklamy OZP a ostatních zdravotních pojišťoven; spontánní znalost obsahu komunikace OZP; spontánní znalost claimu OZP; využití mediatypů (zaznamenání kampaně OZP); jaká kampaň by motivovala ke změně ZP; hodnocení vizuálů OZP použitých v kampani (minimálně 5 atributů; minimálně 5 vizuálů); realizovaná změna zdravotní pojišťovny; asociace ke zdravotní pojišťovně OZP; sympatie ke značce; image značky; potenciál využití služeb OZP. | D6: Výzkum | E6: 1 | G6: =F6*E6 -> 0
A7: Výzkum na základě oficiálních dat Nielsen Admosphere, AdIntel, AdMonitoring a dalších | B7: Monitoring mediálních investic zdravotních pojišťoven na českém trhu za období 01/2027-09/2027 | C7: Přehled hrubých mediálních investic zdravotních pojišťoven v ČR po jednotlivých měsících a doplnění o odhad reálných investic; a to vše rozděleno po jednotlivých letech, měsících, mediatypech a zdravotních pojišťovnách. | D7: Výzkum | E7: 1 | G7: =F7*E7 -> 0
A8: Příprava a vyhodnocení dat | B8: Požadovaná analýza | C8: Výstup a minimální rozsah | D8: Jednotka | E8: počet - modelový koš pro účely hodnocení nabídek | F8: Nabídková cena za jednotku v Kč bez DPH | G8: celková cena v Kč bez DPH - modelový koš pro účely hodnocení nabídek
A9: Příprava výzkumu | B9: Detailní příprava otázek a schválení ze strany OZP; v případě požadavku úprava či úpravy otázek | C9: Elektronický; Word nebo Excel | D9: Příprava | E9: 1 | G9: =F9*E9 -> 0
A10: Vyhodnocení výzkumu | B10: Detailní vyhodnocení výzkumu obou vln, a to včetně socio-demografického profilu a klienství ke ZP u vzorku respondentů, TOP lines, detailního porovnání, shrnutí a doporučení pro komunikační strategii a přehledného zpracování v elektronické podobě; na vyžádání osobní odprezentování v sídle OZP | C10: Elektronický; PPT + PDF + DATA EXCEL; minimálně 20 stran | D10: Vyhodnocení | E10: 1 | G10: =F10*E10 -> 0
A12: Celková nabídková cena v Kč bez DPH | G12: =SUM(G5:G7,G9:G10) -> 0
A13: =Print!$A$93 -> *Účastník vyplní pouze takto zvýrazněná pole, ostatní budou doplněna automaticky dle nastavených vzorců.
A14: ** počet uvedený v modelovém koši pro účely hodnocení nabídek je zároveň i počtem maximálním za dobu trvání RD
A15: Cíle výzkumu
A16: Cílem je zjistit aktuální brand awareness OZP (před a po kampani OZP a s odstupem po kampani); znalost kampaně OZP; znalost nebo povědomí o příspěvcích OZP; znalost vizuálů OZP; porovnání vizuálů OZP; povědomí o kampaních všech zdravotních pojišťoven; motivace ke změně zdravotní pojišťovny.

Sheet Tvorba mediálních plánů
A1: TVORBA MEDIÁLNÍCH PLÁNŮ
A2: V rámci tohoto plnění bude Objednatel oprávněn poptávat komplexní strategické a detailní mediální plánování celých kampaní a komunikačních projektů. Součástí plnění je zejména analýza zadání, návrh mediální strategie a mediamixu, stanovení cílových skupin, rozdělení rozpočtu a časového rozložení kampaně, včetně stanovení a vyhodnocení relevantních mediálních ukazatelů (např. zásah, frekvence, afinita, rating, CPT/CPM). Poskytovatel své návrhy odborně odůvodní na základě dostupných dat a dle požadavku Objednatele zpracuje variantní řešení. Plnění zahrnuje rovněž veškeré související analýzy, podklady, nástroje, datové zdroje a činnosti nezbytné pro řádné a úplné zpracování mediálního plánu, i pokud nejsou výslovně uvedeny. Veškeré tyto náklady jsou zahrnuty v nabídkové ceně.
A4: Definice | B4: Specifikace | C4: Jednotka | D4: počet - modelový koš pro účely hodnocení nabídek** | E4: Nabídková cena za jednotku v Kč bez DPH | F4: celková cena v Kč bez DPH - modelový koš pro účely hodnocení nabídek
A5: Komplexní mediální plán kampaně | B5: Zpracování komplexního mediálního plánu celé kampaně zahrnující zejména analýzu zadání, návrh mediální strategie a mediamixu, definici cílových skupin, alokaci rozpočtu, časové rozložení a stanovení relevantních mediálních ukazatelů. Součástí je odůvodnění navrženého řešení a na požadavek Objednatele také variantní řešení. | C5: 1 plán | D5: 1 | F5: =D5*E5 -> 0
A6: Aktualizace mediálního plánu | B6: Významná aktualizace již zpracovaného mediálního plánu vyvolaná zejména změnou zadání, rozpočtu, cílové skupiny, termínu nebo jiných podmínek kampaně, včetně přepočtu relevantních mediálních ukazatelů. | C6: 1 aktualizace | D6: 1 | F6: =D6*E6 -> 0
A7: Post-buy analýza kampaně | B7: Komplexní vyhodnocení kampaně navazující na komplexní mediální plán zpracovaný Poskytovatelem, zahrnující souhrnné vyhodnocení mediamixu a dosažených výsledků vůči mediálnímu plánu a stanoveným KPI, interpretaci výsledků a doporučení pro další kampaně. Za tuto položku se nepovažuje běžný reporting a vyhodnocení jednotlivých médií či kampaní, které je součástí nákupu a administrace reklamy | C7: 1 analýza | D7: 1 | F7: =D7*E7 -> 0
A9: Celková nabídková cena v Kč bez DPH | F9: =SUM(F5:F7) -> 0
A11: ='Kampaňový výzkum'!A13 -> *Účastník vyplní pouze takto zvýrazněná pole, ostatní budou doplněna automaticky dle nastavených vzorců.
A12: ** počet uvedený v modelovém koši pro účely hodnocení nabídek je zároveň i počtem maximálním za dobu trvání RD

Sheet Ceny do soutěží
A2: CENY DO SOUTĚŽÍ
A3: V rámci tohoto plnění bude Objednatel oprávněn poptávat zajištění a dodání cen do soutěží pořádaných Objednatelem či do soutěží, kde je Objednatel partnerem, a které budou souviset s Reklamní kampaní Objednatele dle níže uvedené specifikace. Součástí plnění je výběr a nákup odpovídajících produktů, jejich dodání Objednateli a veškeré související činnosti nezbytné k řádnému a úplnému poskytnutí plnění. Nabídkové ceny musí zahrnovat veškeré náklady na zajištění položek, vyjma dopravy, která je naceněna zvlášť v rámci listu Kreativní a produkční práce.
A4: kategorie | B4: specifikace | C4: jednotka | D4: počet modelový koš pro účely hodnocení nabídek | E4: maximální počet za dobu trvání RD | F4: jednotková cena v Kč bez DPH* | G4: celková cena v Kč bez DPH modelový koš - pro účely hodnocení nabídek
A5: Chytré hodinky | B5: Chytré hodinky s CE certifikací měření EKG - minimální požadavky: pro muže i ženy, s ovládáním v češtině, OLED displej, bluetooth, WiFi, GPS, telefonování z hodinek přes spárovaný telefon (v dosahu Bluetooth), měření tepu, měření EKG, monitoring spánku, krokoměr, oxymetr, barometr, přehrávač hudby v hodinkách, ovládání přehrávače hudby v mobilu, předpověď počasí, režim spánku, vlastní ciferníky, navigace, usnadnění pro hendikepované a integrované mapy, vhodné na běh, cyklistiku, jógu, plavání, vodotěsnost minimálně 50 m, materiál pouzdra hliník, velikost minimálně 44mm a maximálně 46mm, ovládání v češtině. | C5: ks | D5: 3 | E5: 4 | G5: =D5*F5 -> 0
A6: Chytré hodinky | B6: Chytré hodinky s CE certifikací měření EKG - minimální požadavky: pro muže i ženy, s ovládáním v češtině, AMOLED displej, bluetooth, WiFi, GPS, telefonování z hodinek přes spárovaný telefon (v dosahu Bluetooth), měření tepu, měření EKG, monitoring spánku, tlakoměr, krokoměr, oxymetr, barometr, přehrávač hudby v hodinkách, ovládání přehrávače hudby v mobilu, předpověď počasí, režim spánku, vlastní ciferníky, navigace, usnadnění pro hendikepované, vhodné na běh, cyklistiku, jógu, plavání, vodotěsnost minimálně 50 m, materiál pouzdra ocel, velikost minimálně 45mm a maximálně 47mm. | C6: ks | D6: 3 | E6: 4 | G6: =D6*F6 -> 0
A7: Nordic walking hole | B7: Hole určené na nordic walking a túry, materiál hliník nebo carbon, váha páru maximálně 350g, minimální délka 65cm, maximální délka 140cm, délka složených holí maximálně 100 cm. | C7: ks | D7: 12 | E7: 16 | G7: =D7*F7 -> 0
A8: SOS tlačítko pro seniory | B8: SOS tlačítko pro přivolání pomoci ve 2 vteřinách, výdrž baterie až 1 rok, nepotřebuje wifi ani chytrý telefon, SIM součástí balení, poplach až na 5 tel. čísel pomocí SMS a tel. hovoru, potvrzení o doručení poplašné zprávy, funguje v místech se slabým signálem jako jsou sklepy a zahrady, voděodolné, ochrana proti vyvolání nechtěného poplachu. | C8: ks | D8: 5 | E8: 8 | G8: =D8*F8 -> 0
A9: Monitor dechu | B9: Monitor dechu se zvukovým alarmem a světelným ukazatelem, dvě senzorové podložky, monitor dechu a pohybu, vhodné do dětské postýlky 60 x 120 cm, rozměr senzoru š 30-35 x v 50-55 cm, vybavení: displej, nastavitelná úroveň detekce, ovládání tlačítkem, napájení bateriemi. | C9: ks | D9: 4 | E9: 6 | G9: =D9*F9 -> 0
A10: Bezkontaktní teploměr (cena do soutěží) | B10: Bezkontaktní teploměr určený pro měření tělesné teploty pomocí infračervené technologie bez nutnosti fyzického kontaktu s měřeným objektem. Vhodný pro domácí použití a běžné monitorování teploty osob nebo předmětů. bezkontaktní infračervené měření teploty, možnost měření tělesné teploty minimálně v rozsahu 32–42 °C, zobrazení výsledku měření na integrovaném displeji, doba měření maximálně 3 sekundy, paměť minimálně pro posledních 10 měření výhodou, akustická nebo vizuální signalizace zvýšené teploty výhodou, napájení bateriemi, ergonomické ruční provedení vhodné pro opakované domácí použití, český nebo vícejazyčný návod k použití. | C10: ks | D10: 12 | E10: 16 | G10: =D10*F10 -> 0
A11: Sada pomůcek pro jógu a mobilitu | B11: Sada pomůcek určená pro domácí cvičení jógy, strečink, mobilizační cvičení a podporu správného držení těla.Součástí minimálně cvičební podložka,součástí minimálně 2 jógové bloky,součástí minimálně jógový popruh,protiskluzové provedení podložky,transportní obal,vhodné pro domácí i venkovní použití, výrobek běžně dostupný na trhu ČR nebo EU. | C11: ks | D11: 12 | E11: 16 | G11: =D11*F11 -> 0
A12: Cestovní závěsná síť (hamaka) | B12: Cestovní závěsná síť (hamaka) určená pro relaxaci, odpočinek, turistiku, kempování a pobyt v přírodě. Vhodná pro opakované použití v exteriéru a snadné přenášení během cestování. závěsná houpací síť určená minimálně pro 1 osobu, minimální nosnost 120 kg, lehká a skladná konstrukce vhodná pro cestování, minimální rozměr lehací plochy 250 × 120 cm nebo ekvivalentní plocha pro pohodlné ležení, materiál nylon, polyester nebo jiný obdobný pevný a rychleschnoucí materiál, součástí minimálně transportní obal, systém zavěšení pomocí lan, popruhů, karabin nebo obdobného upevňovacího systému, moskytiéra nebo integrovaná ochrana proti hmyzu, vhodné pro turistiku, kempování nebo relaxační použití, barevné provedení bez omezení, výrobek běžně dostupný na trhu ČR nebo EU. | C12: ks | D12: 12 | E12: 16 | G12: =D12*F12 -> 0
A13: Masážní pistole | B13: Masážní pistole pro uvolnění svalů. Minimálně 5 rychlostí, minimálně 2 intenzity, minimálně 5 různých masážních hlav, baterie s minimální kapacitou 2500 mAh, funkce automatického vypnutí, maximální hmotnost 1100 g. | C13: ks | D13: 6 | E13: 8 | G13: =D13*F13 -> 0
A14: Kompresní masážní přístroj na nohy | B14: Kompresní masážní přístroj určený k regeneraci dolních končetin pomocí řízené vzduchové komprese. Vhodný pro domácí použití po sportovní aktivitě, dlouhodobém stání, sezení nebo pro podporu relaxace a regenerace svalů. Masáž pomocí vzduchové komprese minimálně v oblasti lýtek nebo chodidel, minimálně 3 úrovně intenzity masáže, minimálně 2 masážní režimy nebo programy, nastavitelné návleky nebo manžety vhodné pro různé velikosti končetin, integrovaný časovač nebo možnost nastavení délky masáže, ovládací jednotka součástí balení, napájení ze síťové elektrické energie, vhodné pro opakované domácí použití, český nebo vícejazyčný návod k použití. | C14: ks | D14: 4 | E14: 6 | G14: =D14*F14 -> 0
A15: Chytré sportovní švihadlo | B15: Chytré sportovní švihadlo určené pro kondiční trénink, domácí cvičení a podporu aktivního životního stylu. Zařízení umožňuje sledování a vyhodnocení tréninkové aktivity prostřednictvím integrovaného počítání nebo propojení s mobilním zařízením. sportovní švihadlo s elektronickým zaznamenáváním tréninkové aktivity, počítání minimálně počtu přeskoků, zobrazení údajů prostřednictvím integrovaného displeje nebo mobilní aplikace, nastavitelné lanko nebo možnost přizpůsobení délky uživateli, ergonomické rukojeti vhodné pro opakované sportovní použití, napájení baterií nebo integrovaným akumulátorem, sledování dalších údajů (čas tréninku, odhad energetického výdeje, statistiky aktivity apod.),,kompatibilita minimálně s operačním systémem Android nebo iOS, barevné provedení bez omezení, výrobek běžně dostupný na trhu ČR nebo EU. | C15: ks | D15: 12 | E15: 16 | G15: =D15*F15 -> 0
A16: Monitor krevního tlaku | B16: Domácí tlakoměr na paži, s displejem, požadavek na připojení Bluetooth k mobilnímu telefonu ke speciání aplikaci nebo ke zdravotním aplikacím mobilních telefonů. | C16: ks | D16: 4 | E16: 6 | G16: =D16*F16 -> 0
... A24: Dárkové poukázky | B24: Dárková poukázka nebo dárková karta (elektronická forma) v hodnotě 1.000 Kč na nákup zboží v obchodě, který nabízí širokou škálu produktů v různých kategoriích (zdraví, sport, knihy, osobní spotřebiče, kosmetika aj.), vlastní eshop a síť prodejen v celé ČR, výběr podléhá schválení ze strany OZP. | C24: ks | D24: 4 | E24: 6 | G24: =D24*F24 -> 0
A25: CENY DO SOUTĚŽÍ - CENA CELKEM | G25: =SUM(G5:G24) -> 0
D27: CELKOVÁ CENA ZA CENY DO SOUTĚŽÍ v Kč bez DPH | G27: =SUM(G25) -> 0
A29: *Účastník vyplní pouze takto zvýrazněná pole, ostatní budou doplněna automaticky dle nastavených vzorců.

Sheet Kreativní a prod. práce
A1: KREATIVNÍ A PRODUKČNÍ PRÁCE
A3: Doprava
A4: druh práce | B4: jednotka | C4: počet - modelový koš pro účely hodnocení nabídek | D4: maximální počet za dobu trvání RD | E4: Jednotková cena v Kč bez DPH* | F4: celková cena v Kč bez DPH - modelový koš pro účely hodnocení nabídek
A5: Doručení plnění v rozsahu jedné palety (doprava), jednotková cena za každých započatých 50km. | B5: doprava | C5: 1 | D5: 2 | F5: =C5*E5 -> 0
A6: Doručení plnění do sídla OZP, Roškotova 1 v rozsahu jedné palety (doprava), jednotková cena za každých započatých 50km. Včetně dodání do prostor OZP za první vchodové uzamykatelné dveře. | B6: doprava | C6: 4 | D6: 8 | F6: =C6*E6 -> 0
A7: Kontrola, zaměření, instalace 1 plachty na pražské pobočce OZP | B7: doprava | C7: 2 | D7: 3 | F7: =C7*E7 -> 0
A8: DOPRAVA - CENA CELKEM | F8: =SUM(F5:F7) -> 0
A9: Práce realizačního týmu
A10: pozice* | B10: jednotka | C10: počet - modelový koš pro účely hodnocení nabídek | D10: maximální počet za dobu trvání RD | E10: Jednotková cena v Kč bez DPH* | F10: celková cena v Kč bez DPH - modelový koš pro účely hodnocení nabídek
A11: Data analyst | B11: hodina | C11: 23 | D11: 30 | F11: =C11*E11 -> 0
A12: Media planner | B12: hodina | C12: 23 | D12: 30 | F12: =C12*E12 -> 0
A13: Research manager | B13: hodina | C13: 23 | D13: 30 | F13: =C13*E13 -> 0
A14: Strategic planner | B14: hodina | C14: 23 | D14: 10 | F14: =C14*E14 -> 0
A15: Account executive | B15: hodina | C15: 23 | D15: 30 | F15: =C15*E15 -> 0
A16: Account manager | B16: hodina | C16: 23 | D16: 30 | F16: =C16*E16 -> 0
A17: Traffic manager | B17: hodina | C17: 23 | D17: 30 | F17: =C17*E17 -> 0
A18: Coder | B18: hodina | C18: 23 | D18: 30 | F18: =C18*E18 -> 0
A19: Content Manager | B19: hodina | C19: 23 | D19: 30 | F19: =C19*E19 -> 0
A20: Digital Designer | B20: hodina | C20: 23 | D20: 30 | F20: =C20*E20 -> 0
A21: Digital Manager | B21: hodina | C21: 23 | D21: 30 | F21: =C21*E21 -> 0
A22: Digital Strategist | B22: hodina | C22: 23 | D22: 30 | F22: =C22*E22 -> 0
... A32: Pronájem hostesek - 1 hosteska | B32: hodina | C32: 23 | D32: 30 | F32: =C32*E32 -> 0
A33: PRÁCE REALIZAČNÍHO TÝMU - CENA CELKEM | F33: =SUM(F11:F32) -> 0
A35: CELKOVÁ CENA ZA KREATIVNÍ A PRODUKČNÍ PRÁCE v Kč bez DPH | F35: =F33+F8 -> 0
A37: *Účastník vyplní pouze takto zvýrazněná pole.
A38: **Účastník vyplní pouze takto zvýrazněná pole. U pozic účastník vyplní jednotkovou cenu v Kč bez DPH (za 1h) , skutečný počet čerpaných hodin bude záviset na potřebách zadavatele. Jednotková cena v Kč bez DPH uvedená účastníkem u pozic v části Práce realizačního týmu nesmí být nižší než třetina hodinové sazby u stejných pozic zveřejněných v rámci "Výsledků průzkumu hodinových sazeb 2025 a souvislosti" Asociací komunikačních agentur (AKA) - viz https://www.aka.cz/app/uploads/2025/04/vysledky-vyzkumu-sazby-ke-zverejneni-2025.pdf. Blížší informace jsou uvedeny v článku 8. zadávací dokumentace.
A40: Zeleně podbarvené položky mohou být zadány dílčí veřejnou zakázkou bez obnovení soutěže.

Sheet NC pro účely hodnocení
A2: Veřejná zakázka: | C2: Zajištění realizace markentigové strategie pro rok 2027
A4: Zadavatel: | C4: Oborová zdravotní pojišťovna zaměstanců bank, pojišťoven a stavebnictví
A6: Ev č. VZ:
A8: Účastník | B8: Firma:
B9: IČO:
B10: Zástupce:
B11: Sídlo:
A14: NABÍDKOVÁ CENA STANOVENÁ PRO ÚČELY HODNOCENÍ NABÍDEK
A15: Označení plnění | D15: Součet cen za položky (viz součtové položky z předchozích listů ceníku)
A16: Ceny do soutěží | D16: ='Ceny do soutěží'!G27 -> 0
A17: Print | D17: =Print!G91 -> 0
A18: Nákup a administrace reklamy | D18: ='Nákup a administrace reklamy'!G95 -> 0
A19: Tvorba mediálních plánů | D19: ='Tvorba mediálních plánů'!F9 -> 0
A20: Kreativní a produkční práce | D20: ='Kreativní a prod. práce'!F35 -> 0
A21: Kampaňový výzkum | D21: ='Kampaňový výzkum'!G12 -> 0
A22: CELKOVÁ NABÍDKOVÁ CENA v Kč bez DPH | D22: =SUM(D16:I21) -> 0
A25: Datum a podpis oprávněného zástupce účastníka:
A28: *Účastník vyplní pouze takto zvýrazněná pole, ostatní budou doplněna automaticky dle nastavených vzorců.
