Workbook

Sheet Rekapitulace stavby
A1: Export Komplet | AZ1: VZ | BA1: 2.0 | BT1: False | BU1: False | BV1: {3a6ed787-b051-4250-8e2b-8c6c2ceed602}
AR2: >> skryté sloupce << | BS2: 0,01 | BT2: 21
BS3: 0,01 | BT3: 12
D4: REKAPITULACE STAVBY | AS4: v --- níže se nacházejí doplnkové a pomocné údaje k sestavám --- v | BS4: 0,001
D5: Kód: | K5: UHE0611 | BS5: 0,01
D6: Stavba: | K6: Uliční chodníky v obci Vlastislav - úsek č.2 + část úseku č.3 | BS6: 0,01
D7: KSO: | AK7: CC-CZ: | BS7: 0,01
D8: Místo: | K8: Vlastislav | AK8: Datum: | AN8: 27. 2. 2025 | BS8: 0,01
BS9: 0,01
D10: Zadavatel: | AK10: IČ: | BS10: 0,1
AK11: DIČ: | BS11: 0,1
BS12: 0,1
D13: Zhotovitel: | AK13: IČ: | BS13: 0,1
AK14: DIČ: | BS14: 0,1
BS15: False
D16: Projektant: | AK16: IČ: | BS16: False
E17: Ivan Uherčík | AK17: DIČ: | BS17: True
BS18: 0,01
D19: Zpracovatel: | AK19: IČ: | BS19: 0,01
AK20: DIČ: | BS20: True
D22: Poznámka:
E23: Soupis prací je sestaven za využití položek Cenové soustavy ÚRS. Cenové a technické podmínky položek Cenové soustavy ÚRS, které nejsou uvedeny v soupisu prací (tzv.úvodní části katalogů), jsou neomezeně dálkově k dispozici na www.cs-urs.cz. Položky, které nemají ve sloupci "Cenová soustava" uveden žádný údaj, nepochází z Cenové soustavy ÚRS._x000D_ Je-li v kontrolním rozpočtu nebo v soupisu prací uvedena v kolonce "Popis" obchodní značka jakéhokoliv materiálu nebo výrobku, má tento název pouze informativní charakter._x000D_ Pro ocenění a následně pro realizaci je možné použít i jiný materiál nebo výrobek, který má srovnatelné nebo lepší užitné vlastnosti a odpovídá požadavkům dokumentace.
D26: Cena bez DPH | AK26: =ROUND(AG54,2) -> 0
L28: Sazba daně | W28: Základ daně | AK28: Výše daně
D29: DPH | F29: základní | L29: 0.21 | W29: =ROUND(AZ54, 2) -> 0 | AK29: 0
F30: snížená | L30: 0.12 | W30: =ROUND(BA54, 2) -> 0 | AK30: =ROUND(AW54, 2) -> 0
F31: zákl. přenesená | L31: 0.21 | W31: =ROUND(BB54, 2) -> 0 | AK31: 0
F32: sníž. přenesená | L32: 0.12 | W32: =ROUND(BC54, 2) -> 0 | AK32: 0
F33: nulová | L33: 0 | W33: =ROUND(BD54, 2) -> 0 | AK33: 0
D35: Cena s DPH | T35: v | X35: CZK | AK35: =SUM(AK26:AK33) -> 0
C42: REKAPITULACE OBJEKTŮ STAVBY A SOUPISŮ PRACÍ
C44: Kód: | L44: =K5 -> UHE0611
C45: Stavba: | L45: =K6 -> Uliční chodníky v obci Vlastislav - úsek č.2 + část úseku č.3
C47: Místo: | L47: =IF(K8="","",K8) -> Vlastislav | AI47: Datum: | AM47: =IF(AN8= "","",AN8) -> 27. 2. 2025
C49: Zadavatel: | L49: =IF(E11= "","",E11) | AI49: Projektant: | AM49: =IF(E17="","",E17) -> Ivan Uherčík | AS49: Informatívní údaje z listů zakázek
C50: Zhotovitel: | L50: =IF(E14="","",E14) | AI50: Zpracovatel: | AM50: =IF(E20="","",E20)
C52: Kód | I52: Popis | AG52: Cena bez DPH [CZK] | AN52: Cena s DPH [CZK] | AQ52: Typ | AS52: z toho Ostat._x000D_ náklady [CZK] | AT52: DPH [CZK] | AU52: Normohodiny [h] | AV52: DPH základní [CZK] | AW52: DPH snížená [CZK] | AX52: DPH základní přenesená_x000D_ [CZK] | AY52: DPH snížená přenesená_x000D_ [CZK] | AZ52: Základna_x000D_ DPH základní | BA52: Základna_x000D_ DPH snížená | BB52: Základna_x000D_ DPH zákl. přenesená | BC52: Základna_x000D_ DPH sníž. přenesená | BD52: Základna_x000D_ DPH nulová
C54: Náklady stavby celkem | AG54: =ROUND(AG55,2) -> 0 | AN54: =SUM(AG54,AT54) -> 0 | AS54: =ROUND(AS55,2) -> 0 | AT54: =ROUND(SUM(AV54:AW54),2) -> 0 | AU54: =ROUND(AU55,5) -> 1683.7368 | AV54: =ROUND(AZ54*L29,2) -> 0 | AW54: =ROUND(BA54*L30,2) -> 0 | AX54: =ROUND(BB54*L29,2) -> 0 | AY54: =ROUND(BC54*L30,2) -> 0 | AZ54: =ROUND(AZ55,2) -> 0 | BA54: =ROUND(BA55,2) -> 0 | BB54: =ROUND(BB55,2) -> 0 | BC54: =ROUND(BC55,2) -> 0 | BD54: =ROUND(BD55,2) -> 0 | BS54: D | BT54: 0 | BU54: ###NOIMPORT### | BV54: IMPORT | BW54: {3a6ed787-b051-4250-8e2b-8c6c2ceed602} | BX54: {00000000-0000-0000-0000-000000000000}
A55: / | D55: 01 | J55: Úsek č.2 + část úseku č.3 | AG55: ='01 - Úsek č.2 + část úsek...'!J30 -> 0 | AN55: =SUM(AG55,AT55) -> 0 | AQ55: STA | AS55: 0 | AT55: =ROUND(SUM(AV55:AW55),2) -> 0 | AU55: ='01 - Úsek č.2 + část úsek...'!P88 -> 1683.7368 | AV55: ='01 - Úsek č.2 + část úsek...'!J33 -> 0 | AW55: ='01 - Úsek č.2 + část úsek...'!J34 -> 0 | AX55: ='01 - Úsek č.2 + část úsek...'!J35 -> 0 | AY55: ='01 - Úsek č.2 + část úsek...'!J36 -> 0 | AZ55: ='01 - Úsek č.2 + část úsek...'!F33 -> 0 | BA55: ='01 - Úsek č.2 + část úsek...'!F34 -> 0 | BB55: ='01 - Úsek č.2 + část úsek...'!F35 -> 0 | BC55: ='01 - Úsek č.2 + část úsek...'!F36 -> 0 | BD55: ='01 - Úsek č.2 + část úsek...'!F37 -> 0 | BT55: 1 | BV55: IMPORT | BW55: {f0b6365f-def7-4cab-b206-5b0db347f598} | BX55: {3a6ed787-b051-4250-8e2b-8c6c2ceed602} | CM55: 2

Sheet 01 - Úsek č.2 + část úsek...
L2: >> skryté sloupce << | AT2: {f0b6365f-def7-4cab-b206-5b0db347f598}
AT3: 2
D4: KRYCÍ LIST SOUPISU PRACÍ | M4: v --- níže se nacházejí doplnkové a pomocné údaje k sestavám --- v | AT4: False
D6: Stavba:
E7: ='Rekapitulace stavby'!K6 -> Uliční chodníky v obci Vlastislav - úsek č.2 + část úseku č.3
D8: Objekt:
E9: 01 - Úsek č.2 + část úseku č.3
D11: KSO: | I11: CC-CZ:
D12: Místo: | F12: Vlastislav | I12: Datum: | J12: ='Rekapitulace stavby'!AN8 -> 27. 2. 2025
D14: Zadavatel: | I14: IČ: | J14: =IF('Rekapitulace stavby'!AN10="","",'Rekapitulace stavby'!AN10)
E15: =IF('Rekapitulace stavby'!E11="","",'Rekapitulace stavby'!E11) | I15: DIČ: | J15: =IF('Rekapitulace stavby'!AN11="","",'Rekapitulace stavby'!AN11)
D17: Zhotovitel: | I17: IČ: | J17: ='Rekapitulace stavby'!AN13
E18: ='Rekapitulace stavby'!E14 | I18: DIČ: | J18: ='Rekapitulace stavby'!AN14
D20: Projektant: | I20: IČ:
E21: Ivan Uherčík | I21: DIČ:
D23: Zpracovatel: | I23: IČ: | J23: =IF('Rekapitulace stavby'!AN19="","",'Rekapitulace stavby'!AN19)
E24: =IF('Rekapitulace stavby'!E20="","",'Rekapitulace stavby'!E20) | I24: DIČ: | J24: =IF('Rekapitulace stavby'!AN20="","",'Rekapitulace stavby'!AN20)
D26: Poznámka:
E27: Soupis prací je sestaven za využití položek Cenové soustavy ÚRS. Cenové a technické podmínky položek Cenové soustavy ÚRS, které nejsou uvedeny v soupisu prací (tzv.úvodní části katalogů), jsou neomezeně dálkově k dispozici na www.cs-urs.cz. Položky, které nemají ve sloupci "Cenová soustava" uveden žádný údaj, nepochází z Cenové soustavy ÚRS. Je-li v kontrolním rozpočtu nebo v soupisu prací uvedena v kolonce "Popis" obchodní značka jakéhokoliv materiálu nebo výrobku, má tento název pouze informativní charakter. Pro ocenění a následně pro realizaci je možné použít i jiný materiál nebo výrobek, který má srovnatelné nebo lepší užitné vlastnosti a odpovídá požadavkům dokumentace.
D30: Cena bez DPH | J30: =ROUND(J88, 2) -> 0
F32: Základ daně | I32: Sazba daně | J32: Výše daně
D33: DPH | E33: základní | F33: =ROUND((SUM(BE88:BE368)), 2) -> 0 | I33: 0.21 | J33: =ROUND(((SUM(BE88:BE368))*I33), 2) -> 0
E34: snížená | F34: =ROUND((SUM(BF88:BF368)), 2) -> 0 | I34: 0.12 | J34: =ROUND(((SUM(BF88:BF368))*I34), 2) -> 0
E35: zákl. přenesená | F35: =ROUND((SUM(BG88:BG368)), 2) -> 0 | I35: 0.21 | J35: =0 -> 0
E36: sníž. přenesená | F36: =ROUND((SUM(BH88:BH368)), 2) -> 0 | I36: 0.12 | J36: =0 -> 0
E37: nulová | F37: =ROUND((SUM(BI88:BI368)), 2) -> 0 | I37: 0 | J37: =0 -> 0
D39: Cena s DPH | G39: v | H39: CZK | J39: =SUM(J30:J37) -> 0
C45: REKAPITULACE ČLENĚNÍ SOUPISU PRACÍ
C47: Stavba:
E48: =E7 -> Uliční chodníky v obci Vlastislav - úsek č.2 + část úseku č.3
C49: Objekt:
E50: =E9 -> 01 - Úsek č.2 + část úseku č.3
C52: Místo: | F52: =F12 -> Vlastislav | I52: Datum: | J52: =IF(J12="","",J12) -> 27. 2. 2025
C54: Zadavatel: | F54: =E15 | I54: Projektant: | J54: =E21 -> Ivan Uherčík
C55: Zhotovitel: | F55: =IF(E18="","",E18) | I55: Zpracovatel: | J55: =E24
C57: Kód dílu - Popis | J57: Cena celkem [CZK]
C59: Náklady stavby celkem | J59: =J88 -> 0 | AU59: -1
D60: HSV - Práce a dodávky HSV | J60: =J89 -> 0
D61: 1 - Zemní práce | J61: =J90 -> 0
D62: 2 - Zakládání | J62: =J136 -> 0
D63: 3 - Svislé a kompletní konstrukce | J63: =J141 -> 0
D64: 5 - Komunikace pozemní | J64: =J163 -> 0
D65: 96 - Bourání konstrukcí | J65: =J297 -> 0
D66: 997 - Přesun sutě | J66: =J333 -> 0
D67: 998 - Přesun hmot | J67: =J362 -> 0
D68: VRN - Vedlejší rozpočtové náklady | J68: =J366 -> 0
C75: SOUPIS PRACÍ
C77: Stavba:
E78: =E7 -> Uliční chodníky v obci Vlastislav - úsek č.2 + část úseku č.3
C79: Objekt:
E80: =E9 -> 01 - Úsek č.2 + část úseku č.3
C82: Místo: | F82: =F12 -> Vlastislav | I82: Datum: | J82: =IF(J12="","",J12) -> 27. 2. 2025
C84: Zadavatel: | F84: =E15 | I84: Projektant: | J84: =E21 -> Ivan Uherčík
C85: Zhotovitel: | F85: =IF(E18="","",E18) | I85: Zpracovatel: | J85: =E24
C87: PČ | D87: Typ | E87: Kód | F87: Popis | G87: MJ | H87: Množství | I87: J.cena [CZK] | J87: Cena celkem [CZK] | K87: Cenová soustava | N87: DPH | O87: J. Nh [h] | P87: Nh celkem [h] | Q87: J. hmotnost [t] | R87: Hmotnost celkem [t] | S87: J. suť [t] | T87: Suť Celkem [t]
C88: Náklady soupisu celkem | J88: =BK88 -> 0 | P88: =P89+P366 -> 1683.7368 | R88: =R89+R366 -> 995.94531 | T88: =T89+T366 -> 207.8544 | AT88: D | AU88: -1 | BK88: =BK89+BK366 -> 0
D89: D | E89: HSV | F89: Práce a dodávky HSV | J89: =BK89 -> 0 | P89: =P90+P136+P141+P163+P297+P333+P362 -> 1683.7368 | R89: =R90+R136+R141+R163+R297+R333+R362 -> 995.94531 | T89: =T90+T136+T141+T163+T297+T333+T362 -> 207.8544 | AR89: 1 | AT89: D | AU89: 0 | AY89: ROZPOCET | BK89: =BK90+BK136+BK141+BK163+BK297+BK333+BK362 -> 0
D90: D | E90: 1 | F90: Zemní práce | J90: =BK90 -> 0 | P90: =SUM(P91:P135) -> 130.83339 | R90: =SUM(R91:R135) -> 17.101425 | T90: =SUM(T91:T135) -> 0 | AR90: 1 | AT90: D | AU90: 1 | AY90: ROZPOCET | BK90: =SUM(BK91:BK135) -> 0
C91: 1 | D91: K | E91: 122252204 | F91: Odkopávky a prokopávky nezapažené pro silnice a dálnice v hornině třídy těžitelnosti I objem do 500 m3 strojně | G91: m3 | H91: 161.98 | J91: =ROUND(I91*H91,2) -> 0 | K91: CS ÚRS 2025 01 | N91: základní | O91: 0.191 | P91: =O91*H91 -> 30.93818 | Q91: 0 | R91: =Q91*H91 -> 0 | S91: 0 | T91: =S91*H91 -> 0 | AR91: 4 | AT91: K | AU91: 2 | AY91: ROZPOCET | BE91: =IF(N91="základní",J91,0) -> 0 | BF91: =IF(N91="snížená",J91,0) -> 0 | BG91: =IF(N91="zákl. přenesená",J91,0) -> 0 | BH91: =IF(N91="sníž. přenesená",J91,0) -> 0 | BI91: =IF(N91="nulová",J91,0) -> 0 | BJ91: 1 | BK91: =ROUND(I91*H91,2) -> 0 | BL91: 4 | BM91: -474844902
D92: PP | F92: Odkopávky a prokopávky nezapažené pro silnice a dálnice strojně v hornině třídy těžitelnosti I přes 100 do 500 m3 | AT92: PP | AU92: 2
D93: Online PSC | F93: https://podminky.urs.cz/item/CS_URS_2025_01/122252204 | AT93: Online PSC | AU93: 2
D94: VV | F94: 350,00*1,70*0,20 | H94: 119 | AT94: VV | AU94: 2 | AV94: 2 | AW94: True | AX94: 0 | AY94: ROZPOCET
D95: VV | F95: 10,00*1,70*0,20 | H95: 3.4 | AT95: VV | AU95: 2 | AV95: 2 | AW95: True | AX95: 0 | AY95: ROZPOCET
D96: VV | F96: 5,00*1,70*0,20 | H96: 1.7 | AT96: VV | AU96: 2 | AV96: 2 | AW96: True | AX96: 0 | AY96: ROZPOCET
D97: VV | F97: 32,00*1,70*0,20 | H97: 10.88 | AT97: VV | AU97: 2 | AV97: 2 | AW97: True | AX97: 0 | AY97: ROZPOCET
D98: VV | F98: "palisády" 45,00*1,00*0,60 | H98: 27 | AT98: VV | AU98: 2 | AV98: 2 | AW98: True | AX98: 0 | AY98: ROZPOCET
D99: VV | F99: Součet | H99: 161.98 | AT99: VV | AU99: 2 | AV99: 4 | AW99: True | AX99: 1 | AY99: ROZPOCET
C100: 2 | D100: K | E100: 132251101 | F100: Hloubení rýh nezapažených š do 800 mm v hornině třídy těžitelnosti I skupiny 3 objem do 20 m3 strojně | G100: m3 | H100: 12 | J100: =ROUND(I100*H100,2) -> 0 | K100: CS ÚRS 2025 01 | N100: základní | O100: 1.72 | P100: =O100*H100 -> 20.64 | Q100: 0 | R100: =Q100*H100 -> 0 | S100: 0 | T100: =S100*H100 -> 0 | AR100: 4 | AT100: K | AU100: 2 | AY100: ROZPOCET | BE100: =IF(N100="základní",J100,0) -> 0 | BF100: =IF(N100="snížená",J100,0) -> 0 | BG100: =IF(N100="zákl. přenesená",J100,0) -> 0 | BH100: =IF(N100="sníž. přenesená",J100,0) -> 0 | BI100: =IF(N100="nulová",J100,0) -> 0 | BJ100: 1 | BK100: =ROUND(I100*H100,2) -> 0 | BL100: 4 | BM100: -372130207
D101: PP | F101: Hloubení nezapažených rýh šířky do 800 mm strojně s urovnáním dna do předepsaného profilu a spádu v hornině třídy těžitelnosti I skupiny 3 do 20 m3 | AT101: PP | AU101: 2
D102: Online PSC | F102: https://podminky.urs.cz/item/CS_URS_2025_01/132251101 | AT102: Online PSC | AU102: 2
D103: VV | F103: "oplocení" 80,00*0,30*0,50 | H103: 12 | AT103: VV | AU103: 2 | AV103: 2 | AW103: True | AX103: 1 | AY103: ROZPOCET
C104: 3 | D104: K | E104: 132251251 | F104: Hloubení rýh nezapažených š do 2000 mm v hornině třídy těžitelnosti I skupiny 3 objem do 20 m3 strojně | G104: m3 | H104: 17.55 | J104: =ROUND(I104*H104,2) -> 0 | K104: CS ÚRS 2025 01 | N104: základní | O104: 1.267 | P104: =O104*H104 -> 22.23585 | Q104: 0 | R104: =Q104*H104 -> 0 | S104: 0 | T104: =S104*H104 -> 0 | AR104: 4 | AT104: K | AU104: 2 | AY104: ROZPOCET | BE104: =IF(N104="základní",J104,0) -> 0 | BF104: =IF(N104="snížená",J104,0) -> 0 | BG104: =IF(N104="zákl. přenesená",J104,0) -> 0 | BH104: =IF(N104="sníž. přenesená",J104,0) -> 0 | BI104: =IF(N104="nulová",J104,0) -> 0 | BJ104: 1 | BK104: =ROUND(I104*H104,2) -> 0 | BL104: 4 | BM104: -1838532862
D105: PP | F105: Hloubení nezapažených rýh šířky přes 800 do 2 000 mm strojně s urovnáním dna do předepsaného profilu a spádu v hornině třídy těžitelnosti I skupiny 3 do 20 m3 | AT105: PP | AU105: 2
D106: Online PSC | F106: https://podminky.urs.cz/item/CS_URS_2025_01/132251251 | AT106: Online PSC | AU106: 2
D107: VV | F107: 45,00*0,65*0,60 | H107: 17.55 | AT107: VV | AU107: 2 | AV107: 2 | AW107: True | AX107: 1 | AY107: ROZPOCET
C108: 4 | D108: K | E108: 162751117 | F108: Vodorovné přemístění přes 9 000 do 10000 m výkopku/sypaniny z horniny třídy těžitelnosti I skupiny 1 až 3 | G108: m3 | H108: 191.53 | J108: =ROUND(I108*H108,2) -> 0 | K108: CS ÚRS 2025 01 | N108: základní | O108: 0.087 | P108: =O108*H108 -> 16.66311 | Q108: 0 | R108: =Q108*H108 -> 0 | S108: 0 | T108: =S108*H108 -> 0 | AR108: 4 | AT108: K | AU108: 2 | AY108: ROZPOCET | BE108: =IF(N108="základní",J108,0) -> 0 | BF108: =IF(N108="snížená",J108,0) -> 0 | BG108: =IF(N108="zákl. přenesená",J108,0) -> 0 | BH108: =IF(N108="sníž. přenesená",J108,0) -> 0 | BI108: =IF(N108="nulová",J108,0) -> 0 | BJ108: 1 | BK108: =ROUND(I108*H108,2) -> 0 | BL108: 4 | BM108: 1082714708
D109: PP | F109: Vodorovné přemístění výkopku nebo sypaniny po suchu na obvyklém dopravním prostředku, bez naložení výkopku, avšak se složením bez rozhrnutí z horniny třídy těžitelnosti I skupiny 1 až 3 na vzdálenost přes 9 000 do 10 000 m | AT109: PP | AU109: 2
D110: Online PSC | F110: https://podminky.urs.cz/item/CS_URS_2025_01/162751117 | AT110: Online PSC | AU110: 2
D111: VV | F111: 161,98+12,00+17,55 | H111: 191.53 | AT111: VV | AU111: 2 | AV111: 2 | AW111: True | AX111: 1 | AY111: ROZPOCET
C112: 5 | D112: K | E112: 171201231 | F112: Poplatek za uložení zeminy a kamení na recyklační skládce (skládkovné) kód odpadu 17 05 04 | G112: t | H112: 291.564 | J112: =ROUND(I112*H112,2) -> 0 | K112: CS ÚRS 2025 01 | N112: základní | O112: 0 | P112: =O112*H112 -> 0 | Q112: 0 | R112: =Q112*H112 -> 0 | S112: 0 | T112: =S112*H112 -> 0 | AR112: 4 | AT112: K | AU112: 2 | AY112: ROZPOCET | BE112: =IF(N112="základní",J112,0) -> 0 | BF112: =IF(N112="snížená",J112,0) -> 0 | BG112: =IF(N112="zákl. přenesená",J112,0) -> 0 | BH112: =IF(N112="sníž. přenesená",J112,0) -> 0 | BI112: =IF(N112="nulová",J112,0) -> 0 | BJ112: 1 | BK112: =ROUND(I112*H112,2) -> 0 | BL112: 4 | BM112: 1210009880
D113: PP | F113: Poplatek za uložení stavebního odpadu na recyklační skládce (skládkovné) zeminy a kamení zatříděného do Katalogu odpadů pod kódem 17 05 04 | AT113: PP | AU113: 2
D114: Online PSC | F114: https://podminky.urs.cz/item/CS_URS_2025_01/171201231 | AT114: Online PSC | AU114: 2
D115: VV | F115: 161,98*1,80 | H115: 291.564 | AT115: VV | AU115: 2 | AV115: 2 | AW115: True | AX115: 1 | AY115: ROZPOCET
C116: 6 | D116: K | E116: 181951112 | F116: Úprava pláně v hornině třídy těžitelnosti I skupiny 1 až 3 se zhutněním strojně | G116: m2 | H116: 960.65 | J116: =ROUND(I116*H116,2) -> 0 | K116: CS ÚRS 2025 01 | N116: základní | O116: 0.025 | P116: =O116*H116 -> 24.01625 | Q116: 0 | R116: =Q116*H116 -> 0 | S116: 0 | T116: =S116*H116 -> 0 | AR116: 4 | AT116: K | AU116: 2 | AY116: ROZPOCET | BE116: =IF(N116="základní",J116,0) -> 0 | BF116: =IF(N116="snížená",J116,0) -> 0 | BG116: =IF(N116="zákl. přenesená",J116,0) -> 0 | BH116: =IF(N116="sníž. přenesená",J116,0) -> 0 | BI116: =IF(N116="nulová",J116,0) -> 0 | BJ116: 1 | BK116: =ROUND(I116*H116,2) -> 0 | BL116: 4 | BM116: 1571079987
D117: PP | F117: Úprava pláně vyrovnáním výškových rozdílů strojně v hornině třídy těžitelnosti I, skupiny 1 až 3 se zhutněním | AT117: PP | AU117: 2
D118: Online PSC | F118: https://podminky.urs.cz/item/CS_URS_2025_01/181951112 | AT118: Online PSC | AU118: 2
D119: VV | F119: "sjezdy" 214,25 | H119: 214.25 | AT119: VV | AU119: 2 | AV119: 2 | AW119: True | AX119: 0 | AY119: ROZPOCET
D120: VV | F120: "chodníky" 475,50 | H120: 475.5 | AT120: VV | AU120: 2 | AV120: 2 | AW120: True | AX120: 0 | AY120: ROZPOCET
D121: VV | F121: "oprava vozovky" 350,00*0,70 +37,00*0,70 | H121: 270.9 | AT121: VV | AU121: 2 | AV121: 2 | AW121: True | AX121: 0 | AY121: ROZPOCET
D122: VV | F122: Součet | H122: 960.65 | AT122: VV | AU122: 2 | AV122: 4 | AW122: True | AX122: 1 | AY122: ROZPOCET
C123: 7 | D123: K | E123: 181351003 | F123: Rozprostření ornice tl vrstvy do 200 mm pl do 100 m2 v rovině nebo ve svahu do 1:5 strojně | G123: m2 | H123: 95 | J123: =ROUND(I123*H123,2) -> 0 | K123: CS ÚRS 2025 01 | N123: základní | O123: 0.114 | P123: =O123*H123 -> 10.83 | Q123: 0 | R123: =Q123*H123 -> 0 | S123: 0 | T123: =S123*H123 -> 0 | AR123: 4 | AT123: K | AU123: 2 | AY123: ROZPOCET | BE123: =IF(N123="základní",J123,0) -> 0 | BF123: =IF(N123="snížená",J123,0) -> 0 | BG123: =IF(N123="zákl. přenesená",J123,0) -> 0 | BH123: =IF(N123="sníž. přenesená",J123,0) -> 0 | BI123: =IF(N123="nulová",J123,0) -> 0 | BJ123: 1 | BK123: =ROUND(I123*H123,2) -> 0 | BL123: 4 | BM123: -1882473555
D124: PP | F124: Rozprostření a urovnání ornice v rovině nebo ve svahu sklonu do 1:5 strojně při souvislé ploše do 100 m2, tl. vrstvy do 200 mm | AT124: PP | AU124: 2
D125: Online PSC | F125: https://podminky.urs.cz/item/CS_URS_2025_01/181351003 | AT125: Online PSC | AU125: 2
D126: VV | F126: 95,00*1,00 | H126: 95 | AT126: VV | AU126: 2 | AV126: 2 | AW126: True | AX126: 1 | AY126: ROZPOCET
C127: 8 | D127: M | E127: 10364101 | F127: zemina pro terénní úpravy - ornice | G127: t | H127: 17.1 | J127: =ROUND(I127*H127,2) -> 0 | K127: CS ÚRS 2025 01 | N127: základní | O127: 0 | P127: =O127*H127 -> 0 | Q127: 1 | R127: =Q127*H127 -> 17.1 | S127: 0 | T127: =S127*H127 -> 0 | AR127: 8 | AT127: M | AU127: 2 | AY127: ROZPOCET | BE127: =IF(N127="základní",J127,0) -> 0 | BF127: =IF(N127="snížená",J127,0) -> 0 | BG127: =IF(N127="zákl. přenesená",J127,0) -> 0 | BH127: =IF(N127="sníž. přenesená",J127,0) -> 0 | BI127: =IF(N127="nulová",J127,0) -> 0 | BJ127: 1 | BK127: =ROUND(I127*H127,2) -> 0 | BL127: 4 | BM127: -1396593018
D128: PP | F128: zemina pro terénní úpravy - ornice | AT128: PP | AU128: 2
D129: VV | F129: 95,00*0,10*1,80 | H129: 17.1 | AT129: VV | AU129: 2 | AV129: 2 | AW129: True | AX129: 1 | AY129: ROZPOCET
C130: 9 | D130: K | E130: 181411131 | F130: Založení parkového trávníku výsevem pl do 1000 m2 v rovině a ve svahu do 1:5 | G130: m2 | H130: 95 | J130: =ROUND(I130*H130,2) -> 0 | K130: CS ÚRS 2025 01 | N130: základní | O130: 0.058 | P130: =O130*H130 -> 5.51 | Q130: 0 | R130: =Q130*H130 -> 0 | S130: 0 | T130: =S130*H130 -> 0 | AR130: 4 | AT130: K | AU130: 2 | AY130: ROZPOCET | BE130: =IF(N130="základní",J130,0) -> 0 | BF130: =IF(N130="snížená",J130,0) -> 0 | BG130: =IF(N130="zákl. přenesená",J130,0) -> 0 | BH130: =IF(N130="sníž. přenesená",J130,0) -> 0 | BI130: =IF(N130="nulová",J130,0) -> 0 | BJ130: 1 | BK130: =ROUND(I130*H130,2) -> 0 | BL130: 4 | BM130: -61743085
D131: PP | F131: Založení trávníku na půdě předem připravené plochy do 1000 m2 výsevem včetně utažení parkového v rovině nebo na svahu do 1:5 | AT131: PP | AU131: 2
D132: Online PSC | F132: https://podminky.urs.cz/item/CS_URS_2025_01/181411131 | AT132: Online PSC | AU132: 2
...

Sheet Pokyny pro vyplnění
C3: Struktura údajů, formát souboru a metodika pro zpracování
C4: Struktura
C6: Soubor je složen ze záložky Rekapitulace stavby a záložek s názvem soupisu prací pro jednotlivé objekty ve formátu XLSX. Každá ze záložek přitom obsahuje
C7: ještě samostatné sestavy vymezené orámovaním a nadpisem sestavy.
C9: Rekapitulace stavby obsahuje sestavu Rekapitulace stavby a Rekapitulace objektů stavby a soupisů prací.
D10: V sestavě Rekapitulace stavby jsou uvedeny informace identifikující předmět veřejné zakázky na stavební práce, KSO, CC-CZ, CZ-CPV, CZ-CPA a rekapitulaci
D11: celkové nabídkové ceny účastníka.
D13: Termínem "učastník" (resp. zhotovitel) se myslí "účastník zadávacího řízení" ve smyslu zákona o zadávání veřejných zakázek.
D15: V sestavě Rekapitulace objektů stavby a soupisů prací je uvedena rekapitulace stavebních objektů, inženýrských objektů, provozních souborů,
D16: vedlejších a ostatních nákladů a ostatních nákladů s rekapitulací nabídkové ceny za jednotlivé soupisy prací. Na základě údaje Typ je možné
D17: identifikovat, zda se jedná o objekt nebo soupis prací pro daný objekt:
E18: STA | F18: Stavební objekt pozemní
E19: ING | F19: Stavební objekt inženýrský
E20: PRO | F20: Provozní soubor
E21: VON | F21: Vedlejší a ostatní náklady
E22: OST | F22: Ostatní
E23: Soupis | F23: Soupis prací pro daný typ objektu
C25: Soupis prací pro jednotlivé objekty obsahuje sestavy Krycí list soupisu prací, Rekapitulace členění soupisu prací, Soupis prací. Za soupis prací může být považován
C26: i objekt stavby v případě, že neobsahuje podřízenou zakázku.
D27: Krycí list soupisu obsahuje rekapitulaci informací o předmětu veřejné zakázky ze sestavy Rekapitulace stavby, informaci o zařazení objektu do KSO,
D28: CC-CZ, CZ-CPV, CZ-CPA a rekapitulaci celkové nabídkové ceny účastníka za aktuální soupis prací.
D30: Rekapitulace členění soupisu prací obsahuje rekapitulaci soupisu prací ve všech úrovních členění soupisu tak, jak byla tato členění použita (např.
D31: stavební díly, funkční díly, případně jiné členění) s rekapitulací nabídkové ceny.
D33: Soupis prací obsahuje položky veškerých stavebních nebo montážních prací, dodávek materiálů a služeb nezbytných pro zhotovení stavebního objektu,
D34: inženýrského objektu, provozního souboru, vedlejších a ostatních nákladů.
D35: Pro položky soupisu prací se zobrazují následující informace:
E36: PČ | G36: Pořadové číslo položky v aktuálním soupisu
E37: TYP | G37: Typ položky: K - konstrukce, M - materiál, PP - plný popis, PSC - poznámka k souboru cen, P - poznámka k položce, VV - výkaz výměr, FIG - rozpad figur
E38: Kód | G38: Kód položky
E39: Popis | G39: Zkrácený popis položky
E40: MJ | G40: Měrná jednotka položky
E41: Množství | G41: Množství v měrné jednotce
E42: J.cena | G42: Jednotková cena položky. Zadaní může obsahovat namísto J.ceny sloupce J.materiál a J.montáž, jejichž součet definuje
G43: J.cenu položky.
E44: Cena celkem | G44: Celková cena položky daná jako součin množství a j.ceny
E45: Cenová soustava | G45: Příslušnost položky do cenové soustavy
D47: Ke každé položce soupisu prací se na samostatných řádcích může zobrazovat:
E48: Plný popis položky
E49: Poznámka k souboru cen a poznámka zadavatele
E50: Výkaz výměr
D51: Pokud je k řádku výkazu výměr evidovaný údaj ve sloupci Kód, jedná se o definovaný odkaz, na který se může odvolávat výkaz výměr z jiné položky.
C52: Metodika pro zpracování
C54: Jednotlivé sestavy jsou v souboru provázány. Editovatelné pole jsou zvýrazněny žlutým podbarvením, ostatní pole neslouží k editaci a nesmí být jakkoliv
C55: modifikovány.
C57: Účastník je pro podání nabídky povinen vyplnit žlutě podbarvená pole:
D58: Pole Účastník v sestavě Rekapitulace stavby - zde účastník vyplní svůj název (název subjektu)
D59: Pole IČ a DIČ v sestavě Rekapitulace stavby - zde účastník vyplní svoje IČ a DIČ
D60: Datum v sestavě Rekapitulace stavby - zde účastník vyplní datum vytvoření nabídky
D61: J.cena = jednotková cena v sestavě Soupis prací o maximálním počtu desetinných míst uvedených v poli
D62: - pokud sestavy soupisů prací obsahují pole J.cena, měla by být všechna tato pole vyplněna nenulovými
D63: Poznámka - nepovinný údaj pro položku soupisu
D65: V případě, že sestavy soupisů prací neobsahují pole J.cena, potom ve všech soupisech prací obsahují pole:
D66: - J.materiál - jednotková cena materiálu
D67: - J.montáž - jednotková cena montáže
D68: Účastník v tomto případě by měl vyplnit všechna pole J.materiál a pole J.montáž nenulovými kladnými číslicemi. V případech, kdy položka
D69: neobsahuje žádný materiál je přípustné, aby pole J.materiál bylo vyplněno nulou. V případech, kdy položka neobsahuje žádnou montáž je přípustné,
D70: aby pole J.montáž bylo vyplněno nulou. Obě pole - J.materiál, J.Montáž u jedné položky by však neměly být vyplněny nulou.
C75: Rekapitulace stavby
C76: Název | F76: Povinný | H76: Popis | I76: Typ | J76: Max. počet
C77: atributu | F77: (A/N) | J77: znaků
C79: Kód | F79: A | H79: Kód stavby | I79: String | J79: 20
C80: Stavba | F80: A | H80: Název stavby | I80: String | J80: 120
C81: Místo | F81: N | H81: Místo stavby | I81: String | J81: 50
C82: Datum | F82: A | H82: Datum vykonaného exportu | I82: Date
C83: KSO | F83: N | H83: Klasifikace stavebního objektu | I83: String | J83: 15
C84: CC-CZ | F84: N | H84: Klasifikace stavbeních děl | I84: String | J84: 15
C85: CZ-CPV | F85: N | H85: Společný slovník pro veřejné zakázky | I85: String | J85: 20
C86: CZ-CPA | F86: N | H86: Klasifikace produkce podle činností | I86: String | J86: 20
C87: Zadavatel | F87: N | H87: Zadavatel zadaní | I87: String | J87: 50
C88: IČ | F88: N | H88: IČ zadavatele zadaní | I88: String | J88: 20
C89: DIČ | F89: N | H89: DIČ zadavatele zadaní | I89: String | J89: 20
C90: Účastník | F90: N | H90: Účastník veřejné zakázky | I90: String | J90: 50
C91: Projektant | F91: N | H91: Projektant | I91: String | J91: 50
C92: Poznámka | F92: N | H92: Poznámka k zadání | I92: String | J92: 255
C93: Sazba DPH | F93: A | H93: Rekapitulace sazeb DPH u položek soupisů | I93: eGSazbaDph
C94: Základna DPH | F94: A | H94: Základna DPH určena součtem celkové ceny z položek soupisů | I94: Double
C95: Hodnota DPH | F95: A | H95: Hodnota DPH | I95: Double
C96: Cena bez DPH | F96: A | H96: Celková cena bez DPH za celou stavbu. Sčítává se ze všech listů. | I96: Double
C97: Cena s DPH | F97: A | H97: Celková cena s DPH za celou stavbu | I97: Double
C102: Rekapitulace objektů stavby a soupisů prací
C103: Název | F103: Povinný | H103: Popis | I103: Typ | J103: Max. počet
C104: atributu | F104: (A/N) | J104: znaků
C106: Kód | F106: A | H106: Přebírá se z Rekapitulace stavby | I106: String | J106: 20
C107: Stavba | F107: A | H107: Přebírá se z Rekapitulace stavby | I107: String | J107: 120
C108: Místo | F108: N | H108: Přebírá se z Rekapitulace stavby | I108: String | J108: 50
C109: Datum | F109: A | H109: Přebírá se z Rekapitulace stavby | I109: Date
C110: Zadavatel | F110: N | H110: Přebírá se z Rekapitulace stavby | I110: String | J110: 50
C111: Projektant | F111: N | H111: Přebírá se z Rekapitulace stavby | I111: String | J111: 50
C112: Účastník | F112: N | H112: Přebírá se z Rekapitulace stavby | I112: String | J112: 50
C113: Kód | F113: A | H113: Kód objektu | I113: String | J113: 20
C114: Objektu, Soupis prací | F114: A | H114: Název objektu | I114: String | J114: 120
C115: Cena bez DPH | F115: A | H115: Cena bez DPH za daný objekt | I115: Double
C116: Cena s DPH | F116: A | H116: Cena spolu s DPH za daný objekt | I116: Double
C117: Typ | F117: A | H117: Typ zakázky | I117: eGTypZakazky
C122: Krycí list soupisu
C123: Název | F123: Povinný | H123: Popis | I123: Typ | J123: Max. počet
C124: atributu | F124: (A/N) | J124: znaků
C126: Stavba | F126: A | H126: Přebírá se z Rekapitulace stavby | I126: String | J126: 120
C127: Objekt | F127: A | H127: Kód a název objektu | I127: String | J127: 20 + 120
C128: Soupis | F128: A | H128: Kód a název soupisu | I128: String | J128: 20 + 120
...
