Workbook
Name CelkemDPHVypocet: Stavba!$H$43
Name CenaCelkem: Stavba!$G$29
Name CenaCelkemBezDPH: Stavba!$G$28
Name CenaCelkemVypocet: Stavba!$I$43
Name cisloobjektu: Stavba!$D$3
Name CisloRozpoctu: '[1]Krycí list'!$C$2
Name CisloStavby: Stavba!$D$2
Name cislostavby: '[1]Krycí list'!$A$7
Name CisloStavebnihoRozpoctu: Stavba!$D$4
Name dadresa: Stavba!$D$12:$G$12
Name DIČ: Stavba!$I$12
Name dmisto: Stavba!$E$13:$G$13
Name DPHSni: Stavba!$G$24
Name DPHZakl: Stavba!$G$26
Name dpsc: Stavba!$D$13
Name IČO: Stavba!$I$11
Name Mena: Stavba!$J$29
Name MistoStavby: Stavba!$D$4
Name nazevobjektu: Stavba!$E$3
Name NazevRozpoctu: '[1]Krycí list'!$D$2
Name NazevStavby: Stavba!$E$2
Name nazevstavby: '[1]Krycí list'!$C$7
Name NazevStavebnihoRozpoctu: Stavba!$E$4
Name oadresa: Stavba!$D$6
Name Objednatel: Stavba!$D$5
Name Objekt: Stavba!$B$38
Name odic: Stavba!$I$6
Name oico: Stavba!$I$5
Name omisto: Stavba!$E$7
Name onazev: Stavba!$D$6
Name opsc: Stavba!$D$7
Name padresa: Stavba!$D$9
Name pdic: Stavba!$I$9
Name pico: Stavba!$I$8
Name pmisto: Stavba!$E$10
Name PocetMJ: #REF!
Name PoptavkaID: Stavba!$A$1
Name pPSC: Stavba!$D$10
Name Projektant: Stavba!$D$8
Name SazbaDPH1: Stavba!$E$23
Name SazbaDPH1: '[1]Krycí list'!$C$30
Name SazbaDPH2: Stavba!$E$25
Name SazbaDPH2: '[1]Krycí list'!$C$32
Name SloupecCC: #REF!
Name SloupecCisloPol: #REF!
Name SloupecJC: #REF!
Name SloupecMJ: #REF!
Name SloupecMnozstvi: #REF!
Name SloupecNazPol: #REF!
Name SloupecPC: #REF!
Name Vypracoval: Stavba!$D$14
Name ZakladDPHSni: Stavba!$G$23
Name ZakladDPHSniVypocet: Stavba!$F$43
Name ZakladDPHZakl: Stavba!$G$25
Name ZakladDPHZaklVypocet: Stavba!$G$43
Name ZaObjednatele: Stavba!$G$34
Name Zaokrouhleni: Stavba!$G$27
Name ZaZhotovitele: Stavba!$D$34
Name Zhotovitel: Stavba!$D$11:$G$11

Sheet Pokyny pro vyplnění
A1: Pokyny pro vyplnění
A2: Ve všech listech tohoto souboru můžete měnit pouze buňky s modrým pozadím. Jedná se o tyto údaje : - údaje o firmě - jednotkové ceny položek zadané na maximálně dvě desetinná místa

Sheet Stavba
A1: #RTSROZP# | B1: Soupis stavebních prací, dodávek a služeb
B2: Stavba: | D2: 52 | E2: Oprava fasády Archeologický ústav AV ČR, Praha, v.v.i.
B3: Objekt: | D3: 01 | E3: Oprava části fasády objektu čp. 123, ul. Letenská, Praha 1
A4: 1126 | B4: Rozpočet: | D4: 01 | E4: Oprava části fasády objektu čp. 123, ul. Letenská, Praha 1
B5: Zadavatel | D5: Archeologický ústav AV ČR, Praha, v. v. i. | H5: IČO: | I5: 67985912
D6: Letenská 123/4 | H6: DIČ: | I6: CZ67985912
D7: 11800 | E7: Praha-Malá Strana
B8: Projektant: | D8: ateliér Salaba spol. s r.o. | H8: IČO: | I8: 19326483
D9: Kosmonautů 1328 | H9: DIČ: | I9: CZ19326483
D10: 51101 | E10: Turnov
B11: Zhotovitel: | H11: IČO:
H12: DIČ:
B14: Vypracoval: | D14: Ing. Vratislav Salaba
B15: Rozpis ceny | I15: Celkem
A16: HSV | B16: HSV | I16: =SUMIF(F53:F58,A16,I53:I58)+SUMIF(F53:F58,"PSU",I53:I58) -> 0
A17: PSV | B17: PSV | I17: =SUMIF(F53:F58,A17,I53:I58) -> 0
A18: MON | B18: MON | I18: =SUMIF(F53:F58,A18,I53:I58) -> 0
A19: VN | B19: Vedlejší náklady | I19: =SUMIF(F53:F58,A19,I53:I58) -> 0
A20: ON | B20: Ostatní náklady | I20: =SUMIF(F53:F58,A20,I53:I58) -> 0
B21: Celkem | I21: =SUM(I16:J20) -> 0
B22: Rekapitulace daní
A23: =ZakladDPHSni*SazbaDPH1/100 -> 0 | B23: Základ pro sníženou DPH | E23: 12 | F23: % | G23: =ZakladDPHSniVypocet -> 0 | J23: =Mena -> CZK
A24: =(A23-INT(A23))*100 -> 0 | B24: Snížená DPH | E24: =SazbaDPH1 -> 12 | F24: % | G24: =A23 -> 0 | J24: =Mena -> CZK
A25: =ZakladDPHZakl*SazbaDPH2/100 -> 0 | B25: Základ pro základní DPH | E25: 21 | F25: % | G25: =ZakladDPHZaklVypocet -> 0 | J25: =Mena -> CZK
A26: =(A25-INT(A25))*100 -> 0 | B26: Základní DPH | E26: =SazbaDPH2 -> 21 | F26: % | G26: =A25 -> 0 | J26: =Mena -> CZK
A27: =ZakladDPHSni+DPHSni+ZakladDPHZakl+DPHZakl -> 0 | B27: Zaokrouhlení | G27: =CenaCelkem-(ZakladDPHSni+DPHSni+ZakladDPHZakl+DPHZakl) -> 0 | J27: =Mena -> CZK
B28: Cena celkem bez DPH | G28: =ZakladDPHSniVypocet+ZakladDPHZaklVypocet -> 0 | J28: =Mena -> CZK
A29: =(A27-INT(A27))*100 -> 0 | B29: Cena celkem s DPH | G29: =A27 -> 0 | J29: CZK
C32: v | F32: dne | H32: 15.5.2025
D35: Za zhotovitele | H35: Za objednatele
B37: Rekapitulace dílčích částí
A38: #CASTI>> | B38: Číslo | C38: Název | F38: =B23 -> Základ pro sníženou DPH | G38: =B25 -> Základ pro základní DPH | H38: DPH celkem | I38: Cena celkem | J38: %
A39: 1 | B39: Stavba | F39: ='01 01 Pol'!AE95 -> 0 | G39: ='01 01 Pol'!AF95 -> 0 | H39: =(F39*SazbaDPH1/100)+(G39*SazbaDPH2/100) -> 0 | I39: =F39+G39+H39 -> 0 | J39: =IF(_xlfn.SINGLE(CenaCelkemVypocet)=0,"",I39/_xlfn.SINGLE(CenaCelkemVypocet)*100)
A40: 2 | C40: Stavební objekt | H40: =(F40*SazbaDPH1/100)+(G40*SazbaDPH2/100) -> 0
A41: 2 | B41: 01 | C41: Oprava části fasády objektu čp. 123, ul. Letenská, Praha 1 | F41: ='01 01 Pol'!AE95 -> 0 | G41: ='01 01 Pol'!AF95 -> 0 | H41: =(F41*SazbaDPH1/100)+(G41*SazbaDPH2/100) -> 0 | I41: =F41+G41+H41 -> 0 | J41: =IF(_xlfn.SINGLE(CenaCelkemVypocet)=0,"",I41/_xlfn.SINGLE(CenaCelkemVypocet)*100)
A42: 3 | B42: 01 | C42: Oprava části fasády objektu čp. 123, ul. Letenská, Praha 1 | F42: ='01 01 Pol'!AE95 -> 0 | G42: ='01 01 Pol'!AF95 -> 0 | H42: =(F42*SazbaDPH1/100)+(G42*SazbaDPH2/100) -> 0 | I42: =F42+G42+H42 -> 0 | J42: =IF(_xlfn.SINGLE(CenaCelkemVypocet)=0,"",I42/_xlfn.SINGLE(CenaCelkemVypocet)*100)
B43: Celkem za stavbu | F43: =SUMIF(A39:A42,"=1",F39:F42) -> 0 | G43: =SUMIF(A39:A42,"=1",G39:G42) -> 0 | H43: =SUMIF(A39:A42,"=1",H39:H42) -> 0 | I43: =SUMIF(A39:A42,"=1",I39:I42) -> 0 | J43: =SUMIF(A39:A42,"=1",J39:J42) -> 0
A45: #POPS | B45: Popis stavby: 52 - Oprava fasády Archeologický ústav AV ČR, Praha, v.v.i.
A46: #POPO | B46: Popis objektu: 01 - Oprava části fasády objektu čp. 123, ul. Letenská, Praha 1
A47: #POPR | B47: Popis rozpočtu: 01 - Oprava části fasády objektu čp. 123, ul. Letenská, Praha 1
B50: Rekapitulace dílů
B52: Číslo | C52: Název | F52: Typ dílu | I52: Celkem | J52: %
B53: 62 | C53: Úpravy povrchů vnější | F53: HSV | I53: ='01 01 Pol'!G8 -> 0 | J53: =IF(I59=0,"",I53/I59*100)
B54: 94 | C54: Lešení a stavební výtahy | F54: HSV | I54: ='01 01 Pol'!G38 -> 0 | J54: =IF(I59=0,"",I54/I59*100)
B55: 99 | C55: Staveništní přesun hmot | F55: HSV | I55: ='01 01 Pol'!G68 -> 0 | J55: =IF(I59=0,"",I55/I59*100)
B56: 764 | C56: Konstrukce klempířské | F56: PSV | I56: ='01 01 Pol'!G71 -> 0 | J56: =IF(I59=0,"",I56/I59*100)
B57: 799 | C57: Ostatní | F57: PSV | I57: ='01 01 Pol'!G82 -> 0 | J57: =IF(I59=0,"",I57/I59*100)
B58: D96 | C58: Přesuny suti a vybouraných hmot | F58: PSU | I58: ='01 01 Pol'!G85 -> 0 | J58: =IF(I59=0,"",I58/I59*100)
B59: Cena celkem | I59: =SUM(I53:I58) -> 0 | J59: =SUM(J53:J58) -> 0

Sheet VzorPolozky
A1: Položkový rozpočet
A2: S:
A3: O:
A4: R:

Sheet 01 01 Pol
A1: Položkový soupis prací a dodávek | AG1: #TypZaznamu#
A2: S: | B2: 52 | C2: Oprava fasády Archeologický ústav AV ČR, Praha, v.v.i. | AG2: STA
A3: O: | B3: 01 | C3: Oprava části fasády objektu čp. 123, ul. Letenská, Praha 1 | AC3: STA | AG3: OBJ
A4: R: | B4: 01 | C4: Oprava části fasády objektu čp. 123, ul. Letenská, Praha 1 | AG4: ROZ
A6: P.č. | B6: Číslo položky | C6: Název položky | D6: MJ | E6: Množství | F6: Cena / MJ | G6: Celkem | H6: Dodávka | I6: Dodávka celk. | J6: Montáž | K6: Montáž celk. | L6: DPH | M6: Cena s DPH | N6: Hmotnost / MJ | O6: Hmotnost celk.(t) | P6: Dem. hmotnost / MJ | Q6: Dem. hmotnost celk.(t) | R6: Ceník | S6: Cen. soustava / platnost | T6: Cenová úroveň | U6: Nhod / MJ | V6: Nhod celk. | W6: Dodavatel | X6: Typ položky | Y6: Stav položky
A8: Díl: | B8: 62 | C8: Úpravy povrchů vnější | G8: =SUMIF(AG9:AG37,"<>NOR",G9:G37) -> 0 | I8: =SUM(I9:I37) -> 0 | K8: =SUM(K9:K37) -> 0 | M8: =SUM(M9:M37) -> 0 | O8: =SUM(O9:O37) -> 3.47 | Q8: =SUM(Q9:Q37) -> 0 | V8: =SUM(V9:V37) -> 455.11 | AG8: DIL
A9: 1 | B9: 602015173R00 | C9: Omítka stěn z hotových směsí vrstva štuková, z trassového vápna, vnější, tloušťka vrstvy 3 mm, přírodně šedobílá | D9: m2 | E9: 180.4 | G9: =ROUND(E9*F9,2) -> 0 | I9: =ROUND(E9*H9,2) -> 0 | K9: =ROUND(E9*J9,2) -> 0 | L9: 21 | M9: =G9*(1+L9/100) -> 0 | N9: 0.00606 | O9: =ROUND(E9*N9,2) -> 1.09 | P9: 0 | Q9: =ROUND(E9*P9,2) -> 0 | R9: 801-1 | S9: RTS 25/ I | T9: RTS 25/ I | U9: 0.29 | V9: =ROUND(E9*U9,2) -> 52.32 | X9: Práce | Y9: Běžná | AG9: POL1_
C10: po jednotlivých vrstvách | AG10: SPI
C11: Fasáda : 20,5*11,0*0,8 | E11: 180.4 | AG11: VV | AH11: 0
A12: 2 | B12: 620991121R00 | C12: Zakrývání výplní vnějších otvorů z postaveného lešení | D12: m2 | E12: 61.54 | G12: =ROUND(E12*F12,2) -> 0 | I12: =ROUND(E12*H12,2) -> 0 | K12: =ROUND(E12*J12,2) -> 0 | L12: 21 | M12: =G12*(1+L12/100) -> 0 | N12: 4e-05 | O12: =ROUND(E12*N12,2) -> 0 | P12: 0 | Q12: =ROUND(E12*P12,2) -> 0 | R12: 801-1 | S12: RTS 25/ I | T12: RTS 25/ I | U12: 0.08 | V12: =ROUND(E12*U12,2) -> 4.92 | X12: Práce | Y12: Běžná | AG12: POL1_
C13: s rámy a zárubněmi, zábradlí, předmětů oplechování apod., které se zřizují ještě před úpravami povrchu, před jejich znečištěním při úpravách povrchu nástřikem plastických (lepivých) maltovin | AG13: SPI | BA13: =C13 -> s rámy a zárubněmi, zábradlí, předmětů oplechování apod., které se zřizují ještě před úpravami povrchu, před jejich znečištěním při úpravách povrchu nástřikem plastických (lepivých) maltovin
C14: Okna I.NP : (2*3)+(3*1,5*2,2) | E14: 15.9 | AG14: VV | AH14: 0
C15: Okna II.NP : (1,4*2,3*8) | E15: 25.76 | AG15: VV | AH15: 0
C16: Okna III.NP : (1,4*2,3*2)+(1,4*1,6*6) | E16: 19.88 | AG16: VV | AH16: 0
A17: 3 | B17: 622411122R00 | C17: Barvení vnější omítky stěn fasáda nad 3. stupeň složitosti | D17: m2 | E17: 225.5 | G17: =ROUND(E17*F17,2) -> 0 | I17: =ROUND(E17*H17,2) -> 0 | K17: =ROUND(E17*J17,2) -> 0 | L17: 21 | M17: =G17*(1+L17/100) -> 0 | N17: 0.00201 | O17: =ROUND(E17*N17,2) -> 0.45 | P17: 0 | Q17: =ROUND(E17*P17,2) -> 0 | R17: 801-1 | S17: RTS 24/ I | T17: RTS 24/ I | U17: 0.15 | V17: =ROUND(E17*U17,2) -> 33.83 | X17: Práce | Y17: Běžná | AG17: POL1_
C18: včetně podkladního pačokování do tří barev jakéhokoliv odstínu dvojnásobné | AG18: SPI
C19: Fasáda vč. dodávky vzorků barevnosti pro OPP : 20,5*11,0 | E19: 225.5 | AG19: VV | AH19: 0
A20: 4 | B20: 622412322RT1 | C20: Nátěr vnějsích omítek stěn silikátový, složitost 3-4, | D20: m2 | E20: 259.325 | G20: =ROUND(E20*F20,2) -> 0 | I20: =ROUND(E20*H20,2) -> 0 | K20: =ROUND(E20*J20,2) -> 0 | L20: 21 | M20: =G20*(1+L20/100) -> 0 | N20: 0.00061 | O20: =ROUND(E20*N20,2) -> 0.16 | P20: 0 | Q20: =ROUND(E20*P20,2) -> 0 | R20: 801-1 | S20: RTS 25/ I | T20: RTS 25/ I | U20: 0.242 | V20: =ROUND(E20*U20,2) -> 62.76 | X20: Práce | Y20: Běžná | AG20: POL1_
C21: Penetrace + 2 x krycí nátěr. | AG21: SPI
C22: včetně penetrace podkladu | AG22: POP
C23: Fasáda : 20,5*11*0,5*2 | E23: 225.5 | AG23: VV | AH23: 0
C24: Koeficient Nadspotřeba: 0,15 | E24: 33.825 | AG24: VV | AH24: 4
A25: 5 | B25: 622421742R00 | C25: Oprava vnějších omítek vápenných štukových stupeň členitosti 4, v množství opravované plochy přes 10 do 20 %, z omítkových směsí památkářských, bez nátěru, včetně nákladů na umělecké dekorace zhotovené přímo na fasádě i dekorace vytvořené mimo stavbu a aplikované na fasádu | D25: m2 | E25: 225.5 | G25: =ROUND(E25*F25,2) -> 0 | I25: =ROUND(E25*H25,2) -> 0 | K25: =ROUND(E25*J25,2) -> 0 | L25: 21 | M25: =G25*(1+L25/100) -> 0 | N25: 0.0068 | O25: =ROUND(E25*N25,2) -> 1.53 | P25: 0 | Q25: =ROUND(E25*P25,2) -> 0 | R25: 801-4 | S25: RTS 25/ I | T25: RTS 25/ I | U25: 1 | V25: =ROUND(E25*U25,2) -> 225.5 | X25: Práce | Y25: Běžná | AG25: POL1_
C26: bez otlučení vadných míst | AG26: SPI
C27: Fasáda : 20,5*11,0 | E27: 225.5 | AG27: VV | AH27: 0
A28: 6 | B28: 622904115R00 | C28: Očištění fasád tlakovou vodou, složitost fasády 3 - 5 | D28: m2 | E28: 225.5 | G28: =ROUND(E28*F28,2) -> 0 | I28: =ROUND(E28*H28,2) -> 0 | K28: =ROUND(E28*J28,2) -> 0 | L28: 21 | M28: =G28*(1+L28/100) -> 0 | N28: 2e-05 | O28: =ROUND(E28*N28,2) -> 0 | P28: 0 | Q28: =ROUND(E28*P28,2) -> 0 | R28: 801-1 | S28: RTS 25/ I | T28: RTS 25/ I | U28: 0.18 | V28: =ROUND(E28*U28,2) -> 40.59 | X28: Práce | Y28: Běžná | AG28: POL1_
C29: Fasáda : 20,5*11,0 | E29: 225.5 | AG29: VV | AH29: 0
A30: 7 | B30: 711212111R00 | C30: Izolace proti vodě nátěr podkladní pod hydroizolační stěrky | D30: m2 | E30: 225.5 | G30: =ROUND(E30*F30,2) -> 0 | I30: =ROUND(E30*H30,2) -> 0 | K30: =ROUND(E30*J30,2) -> 0 | L30: 21 | M30: =G30*(1+L30/100) -> 0 | N30: 0.00022 | O30: =ROUND(E30*N30,2) -> 0.05 | P30: 0 | Q30: =ROUND(E30*P30,2) -> 0 | R30: 800-711 | S30: RTS 25/ I | T30: RTS 25/ I | U30: 0.1 | V30: =ROUND(E30*U30,2) -> 22.55 | X30: Práce | Y30: Běžná | AG30: POL1_
C31: Penetrace pod barevný nátěr : 20,5*11 | E31: 225.5 | AG31: VV | AH31: 0
A32: 8 | B32: 622477121R00.VS9 | C32: Oprava uměleckých prvků fasády - šambrány oken | D32: m | E32: 66.5 | G32: =ROUND(E32*F32,2) -> 0 | I32: =ROUND(E32*H32,2) -> 0 | K32: =ROUND(E32*J32,2) -> 0 | L32: 21 | M32: =G32*(1+L32/100) -> 0 | N32: 0.00241 | O32: =ROUND(E32*N32,2) -> 0.16 | P32: 0 | Q32: =ROUND(E32*P32,2) -> 0 | S32: Vlastní | T32: Indiv | U32: 0.19 | V32: =ROUND(E32*U32,2) -> 12.64 | X32: Práce | Y32: Běžná | AG32: POL1_
C33: Oprava/modelace odpadlých okenních šambrán : (2,4+1,2+2,4)*10 | E33: 60 | AG33: VV | AH33: 0
C34: Oprava/modelace odpadlých šambrán dveří - podatelna : (2,5+1,5+2,5)*1 | E34: 6.5 | AG34: VV | AH34: 0
A35: 9 | B35: 58556574R | C35: Penetrace silikátová; funkce: proti tvorbě skvrn, úprava savosti, adhezní můstek; ředidlo: voda (disperzní) | D35: kg | E35: 25.9325 | G35: =ROUND(E35*F35,2) -> 0 | I35: =ROUND(E35*H35,2) -> 0 | K35: =ROUND(E35*J35,2) -> 0 | L35: 21 | M35: =G35*(1+L35/100) -> 0 | N35: 0.001 | O35: =ROUND(E35*N35,2) -> 0.03 | P35: 0 | Q35: =ROUND(E35*P35,2) -> 0 | R35: SPCM | S35: RTS 25/ I | T35: RTS 25/ I | U35: 0 | V35: =ROUND(E35*U35,2) -> 0 | X35: Specifikace | Y35: Běžná | AG35: POL3_
C36: Fasáda - spotřeba 0,1 kg/m2 : 20,5*11*0,1 | E36: 22.55 | AG36: VV | AH36: 0
C37: Koeficient Nadspotřeba: 0,15 | E37: 3.3825 | AG37: VV | AH37: 4
A38: Díl: | B38: 94 | C38: Lešení a stavební výtahy | G38: =SUMIF(AG39:AG67,"<>NOR",G39:G67) -> 0 | I38: =SUM(I39:I67) -> 0 | K38: =SUM(K39:K67) -> 0 | M38: =SUM(M39:M67) -> 0 | O38: =SUM(O39:O67) -> 6.37 | Q38: =SUM(Q39:Q67) -> 0 | V38: =SUM(V39:V67) -> 89.14 | AG38: DIL
A39: 10 | B39: 941941052R00 | C39: Montáž lešení lehkého pracovního řadového s podlahami šířky od 1,20 do 1,50 m, výšky přes 10 do 24 m | D39: m2 | E39: 246 | G39: =ROUND(E39*F39,2) -> 0 | I39: =ROUND(E39*H39,2) -> 0 | K39: =ROUND(E39*J39,2) -> 0 | L39: 21 | M39: =G39*(1+L39/100) -> 0 | N39: 0.02426 | O39: =ROUND(E39*N39,2) -> 5.97 | P39: 0 | Q39: =ROUND(E39*P39,2) -> 0 | R39: 800-3 | S39: RTS 25/ I | T39: RTS 25/ I | U39: 0.14 | V39: =ROUND(E39*U39,2) -> 34.44 | X39: Práce | Y39: Běžná | AG39: POL1_
C40: včetně kotvení | AG40: SPI
C41: Včetně kotvení lešení. | AG41: POP
C42: Fasádní lešení : 12*20,5 | E42: 246 | AG42: VV | AH42: 0
A43: 11 | B43: 941941852R00 | C43: Demontáž lešení lehkého řadového s podlahami šířky přes 1,2 do 1,5 m, výšky přes 10 do 24 m | D43: m2 | E43: 246 | G43: =ROUND(E43*F43,2) -> 0 | I43: =ROUND(E43*H43,2) -> 0 | K43: =ROUND(E43*J43,2) -> 0 | L43: 21 | M43: =G43*(1+L43/100) -> 0 | N43: 0 | O43: =ROUND(E43*N43,2) -> 0 | P43: 0 | Q43: =ROUND(E43*P43,2) -> 0 | R43: 800-3 | S43: RTS 25/ I | T43: RTS 25/ I | U43: 0.12 | V43: =ROUND(E43*U43,2) -> 29.52 | X43: Práce | Y43: Běžná | AG43: POL1_
C44: Fasádní lešení : 12*20,5 | E44: 246 | AG44: VV | AH44: 0
A45: 12 | B45: 941944392R00 | C45: Montáž lešení lehkého pracovního řadového bez podlah příplatek k ceně za každý další i započatý měsíc použití lešení šířky od 1,20 do 1,50 m a výšky přes 10 do 24 m | D45: m2 | E45: 246 | G45: =ROUND(E45*F45,2) -> 0 | I45: =ROUND(E45*H45,2) -> 0 | K45: =ROUND(E45*J45,2) -> 0 | L45: 21 | M45: =G45*(1+L45/100) -> 0 | N45: 0.00035 | O45: =ROUND(E45*N45,2) -> 0.09 | P45: 0 | Q45: =ROUND(E45*P45,2) -> 0 | R45: 800-3 | S45: RTS 25/ I | T45: RTS 25/ I | U45: 0.01 | V45: =ROUND(E45*U45,2) -> 2.46 | X45: Práce | Y45: Běžná | AG45: POL1_
C46: včetně kotvení | AG46: SPI
C47: Fasádní lešení : 12*20,5 | E47: 246 | AG47: VV | AH47: 0
A48: 13 | B48: 944941102R00 | C48: Ochranné zábradlí na lešeňových trubkových konstrukcích jednotyčové | D48: m | E48: 20.5 | G48: =ROUND(E48*F48,2) -> 0 | I48: =ROUND(E48*H48,2) -> 0 | K48: =ROUND(E48*J48,2) -> 0 | L48: 21 | M48: =G48*(1+L48/100) -> 0 | N48: 0.00401 | O48: =ROUND(E48*N48,2) -> 0.08 | P48: 0 | Q48: =ROUND(E48*P48,2) -> 0 | R48: 800-3 | S48: RTS 25/ I | T48: RTS 25/ I | U48: 0.05 | V48: =ROUND(E48*U48,2) -> 1.03 | X48: Práce | Y48: Běžná | AG48: POL1_
C49: Pro lešeňové trubkové konstrukce do výšky 40 m. | AG49: POP
C50: Zábradlí běžné podlaží : 20,5*1 | E50: 20.5 | AG50: VV | AH50: 0
A51: 14 | B51: 944941121R00 | C51: Ochranné zábradlí po obvodu nejvyššího stropu z kovových sloupků a dřevěných desek | D51: m | E51: 20.5 | G51: =ROUND(E51*F51,2) -> 0 | I51: =ROUND(E51*H51,2) -> 0 | K51: =ROUND(E51*J51,2) -> 0 | L51: 21 | M51: =G51*(1+L51/100) -> 0 | N51: 0.00486 | O51: =ROUND(E51*N51,2) -> 0.1 | P51: 0 | Q51: =ROUND(E51*P51,2) -> 0 | R51: 800-3 | S51: RTS 25/ I | T51: RTS 25/ I | U51: 0.24 | V51: =ROUND(E51*U51,2) -> 4.92 | X51: Práce | Y51: Běžná | AG51: POL1_
C52: Z8bradlí na najvyšší podlaze : 20,5*1 | E52: 20.5 | AG52: VV | AH52: 0
A53: 15 | B53: 944944013R00 | C53: Montáž ochranné sítě z umělých vláken | D53: m2 | E53: 246 | G53: =ROUND(E53*F53,2) -> 0 | I53: =ROUND(E53*H53,2) -> 0 | K53: =ROUND(E53*J53,2) -> 0 | L53: 21 | M53: =G53*(1+L53/100) -> 0 | N53: 0 | O53: =ROUND(E53*N53,2) -> 0 | P53: 0 | Q53: =ROUND(E53*P53,2) -> 0 | R53: 800-3 | S53: RTS 25/ I | T53: RTS 25/ I | U53: 0.04 | V53: =ROUND(E53*U53,2) -> 9.84 | X53: Práce | Y53: Běžná | AG53: POL1_
C54: Fasádní lešení : 12*20,5 | E54: 246 | AG54: VV | AH54: 0
A55: 16 | B55: 944944033R00 | C55: Montáž ochranné sítě příplatek k ceně za každý další i započatý měsíc použití ochranných sítí z umělých vláken | D55: m2 | E55: 246 | G55: =ROUND(E55*F55,2) -> 0 | I55: =ROUND(E55*H55,2) -> 0 | K55: =ROUND(E55*J55,2) -> 0 | L55: 21 | M55: =G55*(1+L55/100) -> 0 | N55: 0.00013 | O55: =ROUND(E55*N55,2) -> 0.03 | P55: 0 | Q55: =ROUND(E55*P55,2) -> 0 | R55: 800-3 | S55: RTS 25/ I | T55: RTS 25/ I | U55: 0 | V55: =ROUND(E55*U55,2) -> 0 | X55: Práce | Y55: Běžná | AG55: POL1_
C56: Fasádní lešení : 12*20,5 | E56: 246 | AG56: VV | AH56: 0
A57: 17 | B57: 944944083R00 | C57: Demontáž ochranné sítě z umělých vláken | D57: m2 | E57: 246 | G57: =ROUND(E57*F57,2) -> 0 | I57: =ROUND(E57*H57,2) -> 0 | K57: =ROUND(E57*J57,2) -> 0 | L57: 21 | M57: =G57*(1+L57/100) -> 0 | N57: 0 | O57: =ROUND(E57*N57,2) -> 0 | P57: 0 | Q57: =ROUND(E57*P57,2) -> 0 | R57: 800-3 | S57: RTS 25/ I | T57: RTS 25/ I | U57: 0.02 | V57: =ROUND(E57*U57,2) -> 4.92 | X57: Práce | Y57: Běžná | AG57: POL1_
C58: Fasádní lešení : 12*20,5 | E58: 246 | AG58: VV | AH58: 0
A59: 18 | B59: 944945013R00 | C59: Montáž záchytné stříšky šířky přes 2 m | D59: m | E59: 3.5 | G59: =ROUND(E59*F59,2) -> 0 | I59: =ROUND(E59*H59,2) -> 0 | K59: =ROUND(E59*J59,2) -> 0 | L59: 21 | M59: =G59*(1+L59/100) -> 0 | N59: 0.02372 | O59: =ROUND(E59*N59,2) -> 0.08 | P59: 0 | Q59: =ROUND(E59*P59,2) -> 0 | R59: 800-3 | S59: RTS 25/ I | T59: RTS 25/ I | U59: 0.24 | V59: =ROUND(E59*U59,2) -> 0.84 | X59: Práce | Y59: Běžná | AG59: POL1_
C60: Stříška vchod do budovy : 3,5 | E60: 3.5 | AG60: VV | AH60: 0
A61: 19 | B61: 944945193R00 | C61: Montáž záchytné stříšky příplatek k ceně za každý další i započatý měsíc použití záchytné stříšky šířky přes 2 m | D61: m | E61: 3.5 | G61: =ROUND(E61*F61,2) -> 0 | I61: =ROUND(E61*H61,2) -> 0 | K61: =ROUND(E61*J61,2) -> 0 | L61: 21 | M61: =G61*(1+L61/100) -> 0 | N61: 0.00225 | O61: =ROUND(E61*N61,2) -> 0.01 | P61: 0 | Q61: =ROUND(E61*P61,2) -> 0 | R61: 800-3 | S61: RTS 25/ I | T61: RTS 25/ I | U61: 0.01 | V61: =ROUND(E61*U61,2) -> 0.04 | X61: Práce | Y61: Běžná | AG61: POL1_
C62: Stříška vchod do budovy : 3,5 | E62: 3.5 | AG62: VV | AH62: 0
A63: 20 | B63: 944945813R00 | C63: Demontáž záchytné stříšky šířky přes 2 m | D63: m | E63: 3.5 | G63: =ROUND(E63*F63,2) -> 0 | I63: =ROUND(E63*H63,2) -> 0 | K63: =ROUND(E63*J63,2) -> 0 | L63: 21 | M63: =G63*(1+L63/100) -> 0 | N63: 0 | O63: =ROUND(E63*N63,2) -> 0 | P63: 0 | Q63: =ROUND(E63*P63,2) -> 0 | R63: 800-3 | S63: RTS 25/ I | T63: RTS 25/ I | U63: 0.15 | V63: =ROUND(E63*U63,2) -> 0.53 | X63: Práce | Y63: Běžná | AG63: POL1_
C64: zřizované současně s lehkým nebo těžkým lešením, | AG64: SPI
C65: Stříška vchod do budovy : 3,5 | E65: 3.5 | AG65: VV | AH65: 0
A66: 21 | B66: 944946111RT2 | C66: Ochrana před propadem suti na lešových podlahách z geotextilie, včetně dodávky textílie, 500 g/m2 | D66: m2 | E66: 15 | G66: =ROUND(E66*F66,2) -> 0 | I66: =ROUND(E66*H66,2) -> 0 | K66: =ROUND(E66*J66,2) -> 0 | L66: 21 | M66: =G66*(1+L66/100) -> 0 | N66: 0.0006 | O66: =ROUND(E66*N66,2) -> 0.01 | P66: 0 | Q66: =ROUND(E66*P66,2) -> 0 | R66: 800-3 | S66: RTS 25/ I | T66: RTS 25/ I | U66: 0.04 | V66: =ROUND(E66*U66,2) -> 0.6 | X66: Práce | Y66: Běžná | AG66: POL1_
C67: Záchytná síť podlaha nad vstupem : 15 | E67: 15 | AG67: VV | AH67: 0
A68: Díl: | B68: 99 | C68: Staveništní přesun hmot | G68: =SUMIF(AG69:AG70,"<>NOR",G69:G70) -> 0 | I68: =SUM(I69:I70) -> 0 | K68: =SUM(K69:K70) -> 0 | M68: =SUM(M69:M70) -> 0 | O68: =SUM(O69:O70) -> 0 | Q68: =SUM(Q69:Q70) -> 0 | V68: =SUM(V69:V70) -> 3.02 | AG68: DIL
A69: 22 | B69: 998011002R00 | C69: Přesun hmot pro budovy s nosnou konstrukcí zděnou výšky přes 6 do 12 m | D69: t | E69: 9.84862 | G69: =ROUND(E69*F69,2) -> 0 | I69: =ROUND(E69*H69,2) -> 0 | K69: =ROUND(E69*J69,2) -> 0 | L69: 21 | M69: =G69*(1+L69/100) -> 0 | N69: 0 | O69: =ROUND(E69*N69,2) -> 0 | P69: 0 | Q69: =ROUND(E69*P69,2) -> 0 | R69: 801-1 | S69: RTS 25/ I | T69: RTS 25/ I | U69: 0.307 | V69: =ROUND(E69*U69,2) -> 3.02 | X69: Přesun hmot | Y69: Běžná | AG69: POL7_
C70: přesun hmot pro budovy občanské výstavby (JKSO 801), budovy pro bydlení (JKSO 803) budovy pro výrobu a služby (JKSO 812) s nosnou svislou konstrukcí zděnou z cihel nebo tvárnic nebo kovovou | AG70: SPI | BA70: =C70 -> přesun hmot pro budovy občanské výstavby (JKSO 801), budovy pro bydlení (JKSO 803) budovy pro výrobu a služby (JKSO 812) s nosnou svislou konstrukcí zděnou z cihel nebo tvárnic nebo kovovou
A71: Díl: | B71: 764 | C71: Konstrukce klempířské | G71: =SUMIF(AG72:AG81,"<>NOR",G72:G81) -> 0 | I71: =SUM(I72:I81) -> 0 | K71: =SUM(K72:K81) -> 0 | M71: =SUM(M72:M81) -> 0 | O71: =SUM(O72:O81) -> 0.1 | Q71: =SUM(Q72:Q81) -> 0.05 | V71: =SUM(V72:V81) -> 31.57 | AG71: DIL
A72: 23 | B72: 764512250R00 | C72: Oplechování parapetů z měděného plechu dodávka a montáž včetně rohů rš 330 mm | D72: m | E72: 34.45 | G72: =ROUND(E72*F72,2) -> 0 | I72: =ROUND(E72*H72,2) -> 0 | K72: =ROUND(E72*J72,2) -> 0 | L72: 21 | M72: =G72*(1+L72/100) -> 0 | N72: 0.00291 | O72: =ROUND(E72*N72,2) -> 0.1 | P72: 0 | Q72: =ROUND(E72*P72,2) -> 0 | R72: 800-764 | S72: RTS 25/ I | T72: RTS 25/ I | U72: 0.8119 | V72: =ROUND(E72*U72,2) -> 27.97 | X72: Práce | Y72: Běžná | AG72: POL1_
C73: Okna I.NP : 1,7+2,7+1,8+1,8+1,8 | E73: 9.8 | AG73: VV | AH73: 0
C74: Okna II.NP : 1,65*9 | E74: 14.85 | AG74: VV | AH74: 0
C75: Okna III.NP : 1,4*7 | E75: 9.8 | AG75: VV | AH75: 0
A76: 24 | B76: 764410850R00 | C76: Demontáž oplechování parapetů rš od 100 do 330 mm | D76: m | E76: 34.45 | G76: =ROUND(E76*F76,2) -> 0 | I76: =ROUND(E76*H76,2) -> 0 | K76: =ROUND(E76*J76,2) -> 0 | L76: 21 | M76: =G76*(1+L76/100) -> 0 | N76: 0 | O76: =ROUND(E76*N76,2) -> 0 | P76: 0.00135 | Q76: =ROUND(E76*P76,2) -> 0.05 | R76: 800-764 | S76: RTS 25/ I | T76: RTS 25/ I | U76: 0.09 | V76: =ROUND(E76*U76,2) -> 3.1 | X76: Práce | Y76: Běžná | AG76: POL1_
C77: Okna I.NP : 1,7+2,7+1,8+1,8+1,8 | E77: 9.8 | AG77: VV | AH77: 0
C78: Okna II.NP : 1,65*9 | E78: 14.85 | AG78: VV | AH78: 0
C79: Okna III.NP : 1,4*7 | E79: 9.8 | AG79: VV | AH79: 0
A80: 25 | B80: 998764103R00 | C80: Přesun hmot pro konstrukce klempířské v objektech výšky do 24 m | D80: t | E80: 0.10025 | G80: =ROUND(E80*F80,2) -> 0 | I80: =ROUND(E80*H80,2) -> 0 | K80: =ROUND(E80*J80,2) -> 0 | L80: 21 | M80: =G80*(1+L80/100) -> 0 | N80: 0 | O80: =ROUND(E80*N80,2) -> 0 | P80: 0 | Q80: =ROUND(E80*P80,2) -> 0 | R80: 800-764 | S80: RTS 25/ I | T80: RTS 25/ I | U80: 4.947 | V80: =ROUND(E80*U80,2) -> 0.5 | X80: Přesun hmot | Y80: Běžná | AG80: POL7_
C81: 50 m vodorovně | AG81: SPI
A82: Díl: | B82: 799 | C82: Ostatní | G82: =SUMIF(AG83:AG84,"<>NOR",G83:G84) -> 0 | I82: =SUM(I83:I84) -> 0 | K82: =SUM(K83:K84) -> 0 | M82: =SUM(M83:M84) -> 0 | O82: =SUM(O83:O84) -> 0 | Q82: =SUM(Q83:Q84) -> 0 | V82: =SUM(V83:V84) -> 0 | AG82: DIL
A83: 26 | B83: 02851 OA0.VS1 | C83: PRŮZKUMNÉ PRÁCE - průzkum skladby fasády | D83: soubor | E83: 1 | G83: =ROUND(E83*F83,2) -> 0 | I83: =ROUND(E83*H83,2) -> 0 | K83: =ROUND(E83*J83,2) -> 0 | L83: 21 | M83: =G83*(1+L83/100) -> 0 | N83: 0 | O83: =ROUND(E83*N83,2) -> 0 | P83: 0 | Q83: =ROUND(E83*P83,2) -> 0 | S83: Vlastní | T83: Indiv | U83: 0 | V83: =ROUND(E83*U83,2) -> 0 | X83: Agregovaná položka | Y83: Běžná | AG83: POL2_
C84: Provedení průzkumu barevnosti stávající fasády : 1 | E84: 1 | AG84: VV | AH84: 0
A85: Díl: | B85: D96 | C85: Přesuny suti a vybouraných hmot | G85: =SUMIF(AG86:AG93,"<>NOR",G86:G93) -> 0 | I85: =SUM(I86:I93) -> 0 | K85: =SUM(K86:K93) -> 0 | M85: =SUM(M86:M93) -> 0 | O85: =SUM(O86:O93) -> 0 | Q85: =SUM(Q86:Q93) -> 0 | V85: =SUM(V86:V93) -> 0.06 | AG85: DIL
A86: 27 | B86: 979081111R00 | C86: Odvoz suti a vybouraných hmot na skládku do 1 km | D86: t | E86: 0.04651 | G86: =ROUND(E86*F86,2) -> 0 | I86: =ROUND(E86*H86,2) -> 0 | K86: =ROUND(E86*J86,2) -> 0 | L86: 21 | M86: =G86*(1+L86/100) -> 0 | N86: 0 | O86: =ROUND(E86*N86,2) -> 0 | P86: 0 | Q86: =ROUND(E86*P86,2) -> 0 | R86: 801-3 | S86: RTS 25/ I | T86: RTS 25/ I | U86: 0.49 | V86: =ROUND(E86*U86,2) -> 0.02 | X86: Přesun suti | Y86: Běžná | AG86: POL8_
C87: Včetně naložení na dopravní prostředek a složení na skládku, bez poplatku za skládku. | AG87: POP
A88: 28 | B88: 979081121R00 | C88: Odvoz suti a vybouraných hmot na skládku příplatek za každý další 1 km | D88: t | E88: 0.04651 | G88: =ROUND(E88*F88,2) -> 0 | I88: =ROUND(E88*H88,2) -> 0 | K88: =ROUND(E88*J88,2) -> 0 | L88: 21 | M88: =G88*(1+L88/100) -> 0 | N88: 0 | O88: =ROUND(E88*N88,2) -> 0 | P88: 0 | Q88: =ROUND(E88*P88,2) -> 0 | R88: 801-3 | S88: RTS 25/ I | T88: RTS 25/ I | U88: 0 | V88: =ROUND(E88*U88,2) -> 0 | X88: Přesun suti | Y88: Běžná | AG88: POL8_
A89: 29 | B89: 979990107R00 | C89: Poplatek za uložení, směs betonu, cihel a dřeva, , skupina 17 09 04 z Katalogu odpadů | D89: t | E89: 0.04651 | G89: =ROUND(E89*F89,2) -> 0 | I89: =ROUND(E89*H89,2) -> 0 | K89: =ROUND(E89*J89,2) -> 0 | L89: 21 | M89: =G89*(1+L89/100) -> 0 | N89: 0 | O89: =ROUND(E89*N89,2) -> 0 | P89: 0 | Q89: =ROUND(E89*P89,2) -> 0 | R89: 801-3 | S89: RTS 25/ I | T89: RTS 25/ I | U89: 0 | V89: =ROUND(E89*U89,2) -> 0 | X89: Přesun suti | Y89: Běžná | AG89: POL8_
C90: kategorie 17 09 04 smíšené stavební a demoliční odpady | AG90: POP
A91: 30 | B91: 979087312R00 | C91: Vodorovné přemístění suti nošením k místu nakládky vodorovné přemístění vybouraných hmot nošením nebo přehozením, na vzdálenost 10 m | D91: t | E91: 0.04651 | G91: =ROUND(E91*F91,2) -> 0 | I91: =ROUND(E91*H91,2) -> 0 | K91: =ROUND(E91*J91,2) -> 0 | L91: 21 | M91: =G91*(1+L91/100) -> 0 | N91: 0 | O91: =ROUND(E91*N91,2) -> 0 | P91: 0 | Q91: =ROUND(E91*P91,2) -> 0 | R91: 800-2 | S91: RTS 25/ I | T91: RTS 25/ I | U91: 0.832 | V91: =ROUND(E91*U91,2) -> 0.04 | X91: Přesun suti | Y91: Běžná | AG91: POL8_
C92: nebo vybouraných hmot nošením nebo přehazováním k místu nakládky přístupnému normálním dopravním prostředkům do 10 m, | AG92: SPI | BA92: =C92 -> nebo vybouraných hmot nošením nebo přehazováním k místu nakládky přístupnému normálním dopravním prostředkům do 10 m,
C93: S naložením suti nebo vybouraných hmot do dopravního prostředku a na jejich vyložením, popřípadě přeložením na normální dopravní prostředek. | AG93: POP | BA93: =C93 -> S naložením suti nebo vybouraných hmot do dopravního prostředku a na jejich vyložením, popřípadě přeložením na normální dopravní prostředek.
AE94: 12 | AF94: 21 | AG94: DPH
B95: Celkem | G95: =G8+G38+G68+G71+G82+G85 -> 0 | AE95: =SUMIF(L7:L93,AE94,G7:G93) -> 0 | AF95: =SUMIF(L7:L93,AF94,G7:G93) -> 0 | AG95: SUM
AG96: END
