Workbook
Name CelkemDPHVypocet: Stavba!$H$43
Name CenaCelkem: Stavba!$G$29
Name CenaCelkemBezDPH: Stavba!$G$28
Name CenaCelkemVypocet: Stavba!$I$43
Name cisloobjektu: Stavba!$D$3
Name CisloRozpoctu: '[1]Krycí list'!$C$2
Name CisloStavby: Stavba!$D$2
Name cislostavby: '[1]Krycí list'!$A$7
Name CisloStavebnihoRozpoctu: Stavba!$D$4
Name dadresa: Stavba!$D$12:$G$12
Name DIČ: Stavba!$I$12
Name dmisto: Stavba!$E$13:$G$13
Name DPHSni: Stavba!$G$24
Name DPHZakl: Stavba!$G$26
Name dpsc: Stavba!$D$13
Name IČO: Stavba!$I$11
Name Mena: Stavba!$J$29
Name MistoStavby: Stavba!$D$4
Name nazevobjektu: Stavba!$E$3
Name NazevRozpoctu: '[1]Krycí list'!$D$2
Name NazevStavby: Stavba!$E$2
Name nazevstavby: '[1]Krycí list'!$C$7
Name NazevStavebnihoRozpoctu: Stavba!$E$4
Name oadresa: Stavba!$D$6
Name Objednatel: Stavba!$D$5
Name Objekt: Stavba!$B$38
Name odic: Stavba!$I$6
Name oico: Stavba!$I$5
Name omisto: Stavba!$E$7
Name onazev: Stavba!$D$6
Name opsc: Stavba!$D$7
Name padresa: Stavba!$D$9
Name pdic: Stavba!$I$9
Name pico: Stavba!$I$8
Name pmisto: Stavba!$E$10
Name PocetMJ: #REF!
Name PoptavkaID: Stavba!$A$1
Name pPSC: Stavba!$D$10
Name Projektant: Stavba!$D$8
Name SazbaDPH1: Stavba!$E$23
Name SazbaDPH1: '[1]Krycí list'!$C$30
Name SazbaDPH2: Stavba!$E$25
Name SazbaDPH2: '[1]Krycí list'!$C$32
Name SloupecCC: #REF!
Name SloupecCisloPol: #REF!
Name SloupecJC: #REF!
Name SloupecMJ: #REF!
Name SloupecMnozstvi: #REF!
Name SloupecNazPol: #REF!
Name SloupecPC: #REF!
Name Vypracoval: Stavba!$D$14
Name ZakladDPHSni: Stavba!$G$23
Name ZakladDPHSniVypocet: Stavba!$F$43
Name ZakladDPHZakl: Stavba!$G$25
Name ZakladDPHZaklVypocet: Stavba!$G$43
Name ZaObjednatele: Stavba!$G$34
Name Zaokrouhleni: Stavba!$G$27
Name ZaZhotovitele: Stavba!$D$34
Name Zhotovitel: Stavba!$D$11:$G$11

Sheet Pokyny pro vyplnění
A1: Pokyny pro vyplnění
A2: Ve všech listech tohoto souboru můžete měnit pouze buňky s modrým pozadím. Jedná se o tyto údaje : - údaje o firmě - jednotkové ceny položek zadané na maximálně dvě desetinná místa

Sheet Stavba
A1: #RTSROZP# | B1: Soupis stavebních prací, dodávek a služeb
B2: Stavba: | D2: 52 | E2: Oprava fasády Archeologický ústav AV ČR, Praha, v.v.i.
B3: Objekt: | D3: 01 | E3: Oprava části fasády objektu čp. 123, ul. Letenská, Praha 1
A4: 1126 | B4: Rozpočet: | D4: 01 | E4: Oprava části fasády objektu čp. 123, ul. Letenská, Praha 1
B5: Zadavatel | D5: Archeologický ústav AV ČR, Praha, v. v. i. | H5: IČO: | I5: 67985912
D6: Letenská 123/4 | H6: DIČ: | I6: CZ67985912
D7: 11800 | E7: Praha-Malá Strana
B8: Projektant: | D8: ateliér Salaba spol. s r.o. | H8: IČO: | I8: 19326483
D9: Kosmonautů 1328 | H9: DIČ: | I9: CZ19326483
D10: 51101 | E10: Turnov
B11: Zhotovitel: | H11: IČO:
H12: DIČ:
B14: Vypracoval: | D14: Ing. Vratislav Salaba
B15: Rozpis ceny | I15: Celkem
A16: HSV | B16: HSV | I16: =SUMIF(F53:F58,A16,I53:I58)+SUMIF(F53:F58,"PSU",I53:I58) -> 0
A17: PSV | B17: PSV | I17: =SUMIF(F53:F58,A17,I53:I58) -> 0
A18: MON | B18: MON | I18: =SUMIF(F53:F58,A18,I53:I58) -> 0
A19: VN | B19: Vedlejší náklady | I19: =SUMIF(F53:F58,A19,I53:I58) -> 0
A20: ON | B20: Ostatní náklady | I20: =SUMIF(F53:F58,A20,I53:I58) -> 0
B21: Celkem | I21: =SUM(I16:J20) -> 0
B22: Rekapitulace daní
A23: =ZakladDPHSni*SazbaDPH1/100 -> 0 | B23: Základ pro sníženou DPH | E23: 12 | F23: % | G23: =ZakladDPHSniVypocet -> 0 | J23: =Mena -> CZK
A24: =(A23-INT(A23))*100 -> 0 | B24: Snížená DPH | E24: =SazbaDPH1 -> 12 | F24: % | G24: =A23 -> 0 | J24: =Mena -> CZK
A25: =ZakladDPHZakl*SazbaDPH2/100 -> 0 | B25: Základ pro základní DPH | E25: 21 | F25: % | G25: =ZakladDPHZaklVypocet -> 0 | J25: =Mena -> CZK
A26: =(A25-INT(A25))*100 -> 0 | B26: Základní DPH | E26: =SazbaDPH2 -> 21 | F26: % | G26: =A25 -> 0 | J26: =Mena -> CZK
A27: =ZakladDPHSni+DPHSni+ZakladDPHZakl+DPHZakl -> 0 | B27: Zaokrouhlení | G27: =CenaCelkem-(ZakladDPHSni+DPHSni+ZakladDPHZakl+DPHZakl) -> 0 | J27: =Mena -> CZK
B28: Cena celkem bez DPH | G28: =ZakladDPHSniVypocet+ZakladDPHZaklVypocet -> 0 | J28: =Mena -> CZK
A29: =(A27-INT(A27))*100 -> 0 | B29: Cena celkem s DPH | G29: =A27 -> 0 | J29: CZK
C32: v | F32: dne | H32: 15.5.2025
D35: Za zhotovitele | H35: Za objednatele
B37: Rekapitulace dílčích částí
A38: #CASTI>> | B38: Číslo | C38: Název | F38: =B23 -> Základ pro sníženou DPH | G38: =B25 -> Základ pro základní DPH | H38: DPH celkem | I38: Cena celkem | J38: %
A39: 1 | B39: Stavba | F39: ='01 01 Pol'!AE95 -> 0 | G39: ='01 01 Pol'!AF95 -> 0 | H39: =(F39*SazbaDPH1/100)+(G39*SazbaDPH2/100) -> 0 | I39: =F39+G39+H39 -> 0 | J39: =IF(_xlfn.SINGLE(CenaCelkemVypocet)=0,"",I39/_xlfn.SINGLE(CenaCelkemVypocet)*100)
A40: 2 | C40: Stavební objekt | H40: =(F40*SazbaDPH1/100)+(G40*SazbaDPH2/100) -> 0
A41: 2 | B41: 01 | C41: Oprava části fasády objektu čp. 123, ul. Letenská, Praha 1 | F41: ='01 01 Pol'!AE95 -> 0 | G41: ='01 01 Pol'!AF95 -> 0 | H41: =(F41*SazbaDPH1/100)+(G41*SazbaDPH2/100) -> 0 | I41: =F41+G41+H41 -> 0 | J41: =IF(_xlfn.SINGLE(CenaCelkemVypocet)=0,"",I41/_xlfn.SINGLE(CenaCelkemVypocet)*100)
A42: 3 | B42: 01 | C42: Oprava části fasády objektu čp. 123, ul. Letenská, Praha 1 | F42: ='01 01 Pol'!AE95 -> 0 | G42: ='01 01 Pol'!AF95 -> 0 | H42: =(F42*SazbaDPH1/100)+(G42*SazbaDPH2/100) -> 0 | I42: =F42+G42+H42 -> 0 | J42: =IF(_xlfn.SINGLE(CenaCelkemVypocet)=0,"",I42/_xlfn.SINGLE(CenaCelkemVypocet)*100)
B43: Celkem za stavbu | F43: =SUMIF(A39:A42,"=1",F39:F42) -> 0 | G43: =SUMIF(A39:A42,"=1",G39:G42) -> 0 | H43: =SUMIF(A39:A42,"=1",H39:H42) -> 0 | I43: =SUMIF(A39:A42,"=1",I39:I42) -> 0 | J43: =SUMIF(A39:A42,"=1",J39:J42) -> 0
A45: #POPS | B45: Popis stavby: 52 - Oprava fasády Archeologický ústav AV ČR, Praha, v.v.i.
A46: #POPO | B46: Popis objektu: 01 - Oprava části fasády objektu čp. 123, ul. Letenská, Praha 1
A47: #POPR | B47: Popis rozpočtu: 01 - Oprava části fasády objektu čp. 123, ul. Letenská, Praha 1
...

Sheet VzorPolozky
A1: Položkový rozpočet
A2: S:
A3: O:
A4: R:

Sheet 01 01 Pol
A1: Položkový soupis prací a dodávek | AG1: #TypZaznamu#
A2: S: | B2: 52 | C2: Oprava fasády Archeologický ústav AV ČR, Praha, v.v.i. | AG2: STA
A3: O: | B3: 01 | C3: Oprava části fasády objektu čp. 123, ul. Letenská, Praha 1 | AC3: STA | AG3: OBJ
A4: R: | B4: 01 | C4: Oprava části fasády objektu čp. 123, ul. Letenská, Praha 1 | AG4: ROZ
A6: P.č. | B6: Číslo položky | C6: Název položky | D6: MJ | E6: Množství | F6: Cena / MJ | G6: Celkem | H6: Dodávka | I6: Dodávka celk. | J6: Montáž | K6: Montáž celk. | L6: DPH | M6: Cena s DPH | N6: Hmotnost / MJ | O6: Hmotnost celk.(t) | P6: Dem. hmotnost / MJ | Q6: Dem. hmotnost celk.(t) | R6: Ceník | S6: Cen. soustava / platnost | T6: Cenová úroveň | U6: Nhod / MJ | V6: Nhod celk. | W6: Dodavatel | X6: Typ položky | Y6: Stav položky
A8: Díl: | B8: 62 | C8: Úpravy povrchů vnější | G8: =SUMIF(AG9:AG37,"<>NOR",G9:G37) -> 0 | I8: =SUM(I9:I37) -> 0 | K8: =SUM(K9:K37) -> 0 | M8: =SUM(M9:M37) -> 0 | O8: =SUM(O9:O37) -> 3.47 | Q8: =SUM(Q9:Q37) -> 0 | V8: =SUM(V9:V37) -> 455.11 | AG8: DIL
A9: 1 | B9: 602015173R00 | C9: Omítka stěn z hotových směsí vrstva štuková, z trassového vápna, vnější, tloušťka vrstvy 3 mm, přírodně šedobílá | D9: m2 | E9: 180.4 | G9: =ROUND(E9*F9,2) -> 0 | I9: =ROUND(E9*H9,2) -> 0 | K9: =ROUND(E9*J9,2) -> 0 | L9: 21 | M9: =G9*(1+L9/100) -> 0 | N9: 0.00606 | O9: =ROUND(E9*N9,2) -> 1.09 | P9: 0 | Q9: =ROUND(E9*P9,2) -> 0 | R9: 801-1 | S9: RTS 25/ I | T9: RTS 25/ I | U9: 0.29 | V9: =ROUND(E9*U9,2) -> 52.32 | X9: Práce | Y9: Běžná | AG9: POL1_
C10: po jednotlivých vrstvách | AG10: SPI
C11: Fasáda : 20,5*11,0*0,8 | E11: 180.4 | AG11: VV | AH11: 0
A12: 2 | B12: 620991121R00 | C12: Zakrývání výplní vnějších otvorů z postaveného lešení | D12: m2 | E12: 61.54 | G12: =ROUND(E12*F12,2) -> 0 | I12: =ROUND(E12*H12,2) -> 0 | K12: =ROUND(E12*J12,2) -> 0 | L12: 21 | M12: =G12*(1+L12/100) -> 0 | N12: 4e-05 | O12: =ROUND(E12*N12,2) -> 0 | P12: 0 | Q12: =ROUND(E12*P12,2) -> 0 | R12: 801-1 | S12: RTS 25/ I | T12: RTS 25/ I | U12: 0.08 | V12: =ROUND(E12*U12,2) -> 4.92 | X12: Práce | Y12: Běžná | AG12: POL1_
C13: s rámy a zárubněmi, zábradlí, předmětů oplechování apod., které se zřizují ještě před úpravami povrchu, před jejich znečištěním při úpravách povrchu nástřikem plastických (lepivých) maltovin | AG13: SPI | BA13: =C13 -> s rámy a zárubněmi, zábradlí, předmětů oplechování apod., které se zřizují ještě před úpravami povrchu, před jejich znečištěním při úpravách povrchu nástřikem plastických (lepivých) maltovin
C14: Okna I.NP : (2*3)+(3*1,5*2,2) | E14: 15.9 | AG14: VV | AH14: 0
C15: Okna II.NP : (1,4*2,3*8) | E15: 25.76 | AG15: VV | AH15: 0
C16: Okna III.NP : (1,4*2,3*2)+(1,4*1,6*6) | E16: 19.88 | AG16: VV | AH16: 0
A17: 3 | B17: 622411122R00 | C17: Barvení vnější omítky stěn fasáda nad 3. stupeň složitosti | D17: m2 | E17: 225.5 | G17: =ROUND(E17*F17,2) -> 0 | I17: =ROUND(E17*H17,2) -> 0 | K17: =ROUND(E17*J17,2) -> 0 | L17: 21 | M17: =G17*(1+L17/100) -> 0 | N17: 0.00201 | O17: =ROUND(E17*N17,2) -> 0.45 | P17: 0 | Q17: =ROUND(E17*P17,2) -> 0 | R17: 801-1 | S17: RTS 24/ I | T17: RTS 24/ I | U17: 0.15 | V17: =ROUND(E17*U17,2) -> 33.83 | X17: Práce | Y17: Běžná | AG17: POL1_
C18: včetně podkladního pačokování do tří barev jakéhokoliv odstínu dvojnásobné | AG18: SPI
C19: Fasáda vč. dodávky vzorků barevnosti pro OPP : 20,5*11,0 | E19: 225.5 | AG19: VV | AH19: 0
A20: 4 | B20: 622412322RT1 | C20: Nátěr vnějsích omítek stěn silikátový, složitost 3-4, | D20: m2 | E20: 259.325 | G20: =ROUND(E20*F20,2) -> 0 | I20: =ROUND(E20*H20,2) -> 0 | K20: =ROUND(E20*J20,2) -> 0 | L20: 21 | M20: =G20*(1+L20/100) -> 0 | N20: 0.00061 | O20: =ROUND(E20*N20,2) -> 0.16 | P20: 0 | Q20: =ROUND(E20*P20,2) -> 0 | R20: 801-1 | S20: RTS 25/ I | T20: RTS 25/ I | U20: 0.242 | V20: =ROUND(E20*U20,2) -> 62.76 | X20: Práce | Y20: Běžná | AG20: POL1_
C21: Penetrace + 2 x krycí nátěr. | AG21: SPI
C22: včetně penetrace podkladu | AG22: POP
C23: Fasáda : 20,5*11*0,5*2 | E23: 225.5 | AG23: VV | AH23: 0
C24: Koeficient Nadspotřeba: 0,15 | E24: 33.825 | AG24: VV | AH24: 4
A25: 5 | B25: 622421742R00 | C25: Oprava vnějších omítek vápenných štukových stupeň členitosti 4, v množství opravované plochy přes 10 do 20 %, z omítkových směsí památkářských, bez nátěru, včetně nákladů na umělecké dekorace zhotovené přímo na fasádě i dekorace vytvořené mimo stavbu a aplikované na fasádu | D25: m2 | E25: 225.5 | G25: =ROUND(E25*F25,2) -> 0 | I25: =ROUND(E25*H25,2) -> 0 | K25: =ROUND(E25*J25,2) -> 0 | L25: 21 | M25: =G25*(1+L25/100) -> 0 | N25: 0.0068 | O25: =ROUND(E25*N25,2) -> 1.53 | P25: 0 | Q25: =ROUND(E25*P25,2) -> 0 | R25: 801-4 | S25: RTS 25/ I | T25: RTS 25/ I | U25: 1 | V25: =ROUND(E25*U25,2) -> 225.5 | X25: Práce | Y25: Běžná | AG25: POL1_
C26: bez otlučení vadných míst | AG26: SPI
C27: Fasáda : 20,5*11,0 | E27: 225.5 | AG27: VV | AH27: 0
A28: 6 | B28: 622904115R00 | C28: Očištění fasád tlakovou vodou, složitost fasády 3 - 5 | D28: m2 | E28: 225.5 | G28: =ROUND(E28*F28,2) -> 0 | I28: =ROUND(E28*H28,2) -> 0 | K28: =ROUND(E28*J28,2) -> 0 | L28: 21 | M28: =G28*(1+L28/100) -> 0 | N28: 2e-05 | O28: =ROUND(E28*N28,2) -> 0 | P28: 0 | Q28: =ROUND(E28*P28,2) -> 0 | R28: 801-1 | S28: RTS 25/ I | T28: RTS 25/ I | U28: 0.18 | V28: =ROUND(E28*U28,2) -> 40.59 | X28: Práce | Y28: Běžná | AG28: POL1_
C29: Fasáda : 20,5*11,0 | E29: 225.5 | AG29: VV | AH29: 0
A30: 7 | B30: 711212111R00 | C30: Izolace proti vodě nátěr podkladní pod hydroizolační stěrky | D30: m2 | E30: 225.5 | G30: =ROUND(E30*F30,2) -> 0 | I30: =ROUND(E30*H30,2) -> 0 | K30: =ROUND(E30*J30,2) -> 0 | L30: 21 | M30: =G30*(1+L30/100) -> 0 | N30: 0.00022 | O30: =ROUND(E30*N30,2) -> 0.05 | P30: 0 | Q30: =ROUND(E30*P30,2) -> 0 | R30: 800-711 | S30: RTS 25/ I | T30: RTS 25/ I | U30: 0.1 | V30: =ROUND(E30*U30,2) -> 22.55 | X30: Práce | Y30: Běžná | AG30: POL1_
C31: Penetrace pod barevný nátěr : 20,5*11 | E31: 225.5 | AG31: VV | AH31: 0
A32: 8 | B32: 622477121R00.VS9 | C32: Oprava uměleckých prvků fasády - šambrány oken | D32: m | E32: 66.5 | G32: =ROUND(E32*F32,2) -> 0 | I32: =ROUND(E32*H32,2) -> 0 | K32: =ROUND(E32*J32,2) -> 0 | L32: 21 | M32: =G32*(1+L32/100) -> 0 | N32: 0.00241 | O32: =ROUND(E32*N32,2) -> 0.16 | P32: 0 | Q32: =ROUND(E32*P32,2) -> 0 | S32: Vlastní | T32: Indiv | U32: 0.19 | V32: =ROUND(E32*U32,2) -> 12.64 | X32: Práce | Y32: Běžná | AG32: POL1_
C33: Oprava/modelace odpadlých okenních šambrán : (2,4+1,2+2,4)*10 | E33: 60 | AG33: VV | AH33: 0
C34: Oprava/modelace odpadlých šambrán dveří - podatelna : (2,5+1,5+2,5)*1 | E34: 6.5 | AG34: VV | AH34: 0
A35: 9 | B35: 58556574R | C35: Penetrace silikátová; funkce: proti tvorbě skvrn, úprava savosti, adhezní můstek; ředidlo: voda (disperzní) | D35: kg | E35: 25.9325 | G35: =ROUND(E35*F35,2) -> 0 | I35: =ROUND(E35*H35,2) -> 0 | K35: =ROUND(E35*J35,2) -> 0 | L35: 21 | M35: =G35*(1+L35/100) -> 0 | N35: 0.001 | O35: =ROUND(E35*N35,2) -> 0.03 | P35: 0 | Q35: =ROUND(E35*P35,2) -> 0 | R35: SPCM | S35: RTS 25/ I | T35: RTS 25/ I | U35: 0 | V35: =ROUND(E35*U35,2) -> 0 | X35: Specifikace | Y35: Běžná | AG35: POL3_
C36: Fasáda - spotřeba 0,1 kg/m2 : 20,5*11*0,1 | E36: 22.55 | AG36: VV | AH36: 0
C37: Koeficient Nadspotřeba: 0,15 | E37: 3.3825 | AG37: VV | AH37: 4
A38: Díl: | B38: 94 | C38: Lešení a stavební výtahy | G38: =SUMIF(AG39:AG67,"<>NOR",G39:G67) -> 0 | I38: =SUM(I39:I67) -> 0 | K38: =SUM(K39:K67) -> 0 | M38: =SUM(M39:M67) -> 0 | O38: =SUM(O39:O67) -> 6.37 | Q38: =SUM(Q39:Q67) -> 0 | V38: =SUM(V39:V67) -> 89.14 | AG38: DIL
A39: 10 | B39: 941941052R00 | C39: Montáž lešení lehkého pracovního řadového s podlahami šířky od 1,20 do 1,50 m, výšky přes 10 do 24 m | D39: m2 | E39: 246 | G39: =ROUND(E39*F39,2) -> 0 | I39: =ROUND(E39*H39,2) -> 0 | K39: =ROUND(E39*J39,2) -> 0 | L39: 21 | M39: =G39*(1+L39/100) -> 0 | N39: 0.02426 | O39: =ROUND(E39*N39,2) -> 5.97 | P39: 0 | Q39: =ROUND(E39*P39,2) -> 0 | R39: 800-3 | S39: RTS 25/ I | T39: RTS 25/ I | U39: 0.14 | V39: =ROUND(E39*U39,2) -> 34.44 | X39: Práce | Y39: Běžná | AG39: POL1_
C40: včetně kotvení | AG40: SPI
C41: Včetně kotvení lešení. | AG41: POP
C42: Fasádní lešení : 12*20,5 | E42: 246 | AG42: VV | AH42: 0
...
