Workbook
Name CelkemDPHVypocet: Stavba!$H$47
Name CenaCelkem: Stavba!$G$29
Name CenaCelkemBezDPH: Stavba!$G$28
Name CenaCelkemVypocet: Stavba!$I$47
Name cisloobjektu: Stavba!$D$3
Name CisloRozpoctu: '[1]Krycí list'!$C$2
Name CisloStavby: Stavba!$D$2
Name cislostavby: '[1]Krycí list'!$A$7
Name CisloStavebnihoRozpoctu: Stavba!$D$4
Name dadresa: Stavba!$D$12:$G$12
Name DIČ: Stavba!$I$12
Name dmisto: Stavba!$E$13:$G$13
Name DPHSni: Stavba!$G$24
Name DPHZakl: Stavba!$G$26
Name dpsc: Stavba!$D$13
Name IČO: Stavba!$I$11
Name Mena: Stavba!$J$29
Name MistoStavby: Stavba!$D$4
Name nazevobjektu: Stavba!$E$3
Name NazevRozpoctu: '[1]Krycí list'!$D$2
Name NazevStavby: Stavba!$E$2
Name nazevstavby: '[1]Krycí list'!$C$7
Name NazevStavebnihoRozpoctu: Stavba!$E$4
Name oadresa: Stavba!$D$6
Name Objednatel: Stavba!$D$5
Name Objekt: Stavba!$B$38
Name odic: Stavba!$I$6
Name oico: Stavba!$I$5
Name omisto: Stavba!$E$7
Name onazev: Stavba!$D$6
Name opsc: Stavba!$D$7
Name padresa: Stavba!$D$9
Name pdic: Stavba!$I$9
Name pico: Stavba!$I$8
Name pmisto: Stavba!$E$10
Name PocetMJ: #REF!
Name PoptavkaID: Stavba!$A$1
Name pPSC: Stavba!$D$10
Name Projektant: Stavba!$D$8
Name SazbaDPH1: Stavba!$E$23
Name SazbaDPH1: '[1]Krycí list'!$C$30
Name SazbaDPH2: Stavba!$E$25
Name SazbaDPH2: '[1]Krycí list'!$C$32
Name SloupecCC: #REF!
Name SloupecCisloPol: #REF!
Name SloupecJC: #REF!
Name SloupecMJ: #REF!
Name SloupecMnozstvi: #REF!
Name SloupecNazPol: #REF!
Name SloupecPC: #REF!
Name Vypracoval: Stavba!$D$14
Name ZakladDPHSni: Stavba!$G$23
Name ZakladDPHSniVypocet: Stavba!$F$47
Name ZakladDPHZakl: Stavba!$G$25
Name ZakladDPHZaklVypocet: Stavba!$G$47
Name ZaObjednatele: Stavba!$G$34
Name Zaokrouhleni: Stavba!$G$27
Name ZaZhotovitele: Stavba!$D$34
Name Zhotovitel: Stavba!$D$11:$G$11

Sheet Pokyny pro vyplnění
A1: Pokyny pro vyplnění
A2: Ve všech listech tohoto souboru můžete měnit pouze buňky s modrým pozadím. Jedná se o tyto údaje : - údaje o firmě - jednotkové ceny položek zadané na maximálně dvě desetinná místa

Sheet Stavba
A1: #RTSROZP# | B1: Soupis stavebních prací, dodávek a služeb
B2: Stavba: | D2: 001 | E2: Uherský Brod, rekonstrukce I TP - ul.Na Dlouhých, 9.května, B.Smetany, Jiráskova
B5: Zadavatel | D5: Slovácké vodárny a kanalizace, a.s. | H5: IČO: | I5: 49453866
D6: Za Olšávkou 290 | H6: DIČ: | I6: CZ49453866
D7: 68601 | E7: Uherské Hradiště - Sady
B8: Projektant: | H8: IČO:
H9: DIČ:
B11: Zhotovitel: | H11: IČO:
H12: DIČ:
B14: Vypracoval:
B15: Rozpis ceny | I15: Celkem
A16: HSV | B16: HSV | I16: =SUMIF(F61:F79,A16,I61:I79)+SUMIF(F61:F79,"PSU",I61:I79) -> 0
A17: PSV | B17: PSV | I17: =SUMIF(F61:F79,A17,I61:I79) -> 0
A18: MON | B18: MON | I18: =SUMIF(F61:F79,A18,I61:I79) -> 0
A19: VN | B19: Vedlejší náklady | I19: =SUMIF(F61:F79,A19,I61:I79) -> 0
A20: ON | B20: Ostatní náklady | I20: =SUMIF(F61:F79,A20,I61:I79) -> 0
B21: Celkem | I21: =SUM(I16:J20) -> 0
B22: Rekapitulace daní
B23: Základ pro sníženou DPH | E23: 12 | F23: % | G23: =ZakladDPHSniVypocet -> 0 | J23: =Mena -> CZK
B24: Snížená DPH | E24: =SazbaDPH1 -> 12 | F24: % | G24: =I23*E23/100 -> 0 | J24: =Mena -> CZK
B25: Základ pro základní DPH | E25: 21 | F25: % | G25: =ZakladDPHZaklVypocet -> 0 | J25: =Mena -> CZK
B26: Základní DPH | E26: =SazbaDPH2 -> 21 | F26: % | G26: =I25*E25/100 -> 0 | J26: =Mena -> CZK
A27: =ZakladDPHSni+ZakladDPHZakl -> 0 | B27: Zaokrouhlení | G27: =CenaCelkemBezDPH-(ZakladDPHSni+ZakladDPHZakl) -> 0 | J27: =Mena -> CZK
A28: =(A27-INT(A27))*100 -> 0 | B28: Cena celkem bez DPH | G28: =A27 -> 0 | J28: =Mena -> CZK
B29: Cena celkem s DPH | G29: =ZakladDPHSni+DPHSni+ZakladDPHZakl+DPHZakl+Zaokrouhleni -> 0 | J29: CZK
C32: v | F32: dne
D35: Za zhotovitele | H35: Za objednatele
B37: Rekapitulace dílčích částí
A38: #CASTI>> | B38: Číslo | C38: Název | F38: =B23 -> Základ pro sníženou DPH | G38: =B25 -> Základ pro základní DPH | H38: DPH celkem | I38: Cena celkem | J38: %
A39: 1 | B39: Stavba | F39: ='00 VRN'!AE40+'SO01 Řad A31'!AE380+'SO02 Řad A30,A12, A28'!AE600+'SO03 Řad A21'!AE329+'SO04 Řad A27'!AE314 -> 0 | G39: ='00 VRN'!AF40+'SO01 Řad A31'!AF380+'SO02 Řad A30,A12, A28'!AF600+'SO03 Řad A21'!AF329+'SO04 Řad A27'!AF314 -> 0 | I39: =F39+G39+H39 -> 0 | J39: =IF(CenaCelkemVypocet=0,"",I39/CenaCelkemVypocet*100)
A40: 2 | C40: Stavební objekt
A41: 2 | B41: 01 | C41: Uherský Brod, rekonstrukce I TP -ul.Na Dlouhých, 9.května, B.Smetany, Jiráskova | F41: ='00 VRN'!AE40+'SO01 Řad A31'!AE380+'SO02 Řad A30,A12, A28'!AE600+'SO03 Řad A21'!AE329+'SO04 Řad A27'!AE314 -> 0 | G41: ='00 VRN'!AF40+'SO01 Řad A31'!AF380+'SO02 Řad A30,A12, A28'!AF600+'SO03 Řad A21'!AF329+'SO04 Řad A27'!AF314 -> 0 | I41: =F41+G41+H41 -> 0 | J41: =IF(CenaCelkemVypocet=0,"",I41/CenaCelkemVypocet*100)
A42: 3 | B42: 00 | C42: 00 Vedlejší a ostatní náklady | F42: ='00 VRN'!AE40 -> 0 | G42: ='00 VRN'!AF40 -> 0 | I42: =F42+G42+H42 -> 0 | J42: =IF(CenaCelkemVypocet=0,"",I42/CenaCelkemVypocet*100)
A43: 3 | B43: 01 | C43: SO01 Řad A31 | F43: ='SO01 Řad A31'!AE380 -> 0 | G43: ='SO01 Řad A31'!AF380 -> 0 | I43: =F43+G43+H43 -> 0 | J43: =IF(CenaCelkemVypocet=0,"",I43/CenaCelkemVypocet*100)
A44: 3 | B44: 02 | C44: SO02 Řad A30, A12, A28 | F44: ='SO02 Řad A30,A12, A28'!AE600 -> 0 | G44: ='SO02 Řad A30,A12, A28'!AF600 -> 0 | I44: =F44+G44+H44 -> 0 | J44: =IF(CenaCelkemVypocet=0,"",I44/CenaCelkemVypocet*100)
A45: 3 | B45: 03 | C45: SO03 Řad A21 | F45: ='SO03 Řad A21'!AE329 -> 0 | G45: ='SO03 Řad A21'!AF329 -> 0 | I45: =F45+G45+H45 -> 0 | J45: =IF(CenaCelkemVypocet=0,"",I45/CenaCelkemVypocet*100)
A46: 3 | B46: 04 | C46: SO04 Řad A27 | F46: ='SO04 Řad A27'!AE314 -> 0 | G46: ='SO04 Řad A27'!AF314 -> 0 | I46: =F46+G46+H46 -> 0 | J46: =IF(CenaCelkemVypocet=0,"",I46/CenaCelkemVypocet*100)
B47: Celkem za stavbu | F47: =SUMIF(A39:A46,"=1",F39:F46) -> 0 | G47: =SUMIF(A39:A46,"=1",G39:G46) -> 0 | H47: =SUMIF(A39:A46,"=1",H39:H46) -> 0 | I47: =SUMIF(A39:A46,"=1",I39:I46) -> 0 | J47: =SUMIF(A39:A46,"=1",J39:J46) -> 0
A49: #POPS | B49: Popis stavby: 001 - Uherský Brod, rekonstrukce I TP - ul.Na Dlouhých, 9.května, B.Smetany, Jiráskova
A50: #POPO | B50: Popis objektu: 01 - Uherský Brod, rekonstrukce I TP -ul.Na Dlouhých, 9.května, B.Smetany, Jiráskova
A51: #POPR | B51: Popis rozpočtu: 00 - 00 Vedlejší a ostatní náklady
A52: #POPR | B52: Popis rozpočtu: 01 - SO01 Řad A31
A53: #POPR | B53: Popis rozpočtu: 02 - SO02 Řad A30, A12, A28
A54: #POPR | B54: Popis rozpočtu: 03 - SO03 Řad A21
A55: #POPR | B55: Popis rozpočtu: 04 - SO04 Řad A27
B58: Rekapitulace dílů
B60: Číslo | C60: Název | F60: Typ dílu | I60: Celkem | J60: %
B61: 1 | C61: Zemní práce | F61: HSV | I61: ='SO01 Řad A31'!G8+'SO02 Řad A30,A12, A28'!G8+'SO03 Řad A21'!G8+'SO04 Řad A27'!G8 -> 0 | J61: =IF(I80=0,"",I61/I80*100)
B62: 11 | C62: Přípravné a přidružené práce | F62: HSV | I62: ='SO01 Řad A31'!G98+'SO02 Řad A30,A12, A28'!G150+'SO03 Řad A21'!G89+'SO04 Řad A27'!G96 -> 0 | J62: =IF(I80=0,"",I62/I80*100)
B63: 21 | C63: Úprava podloží a základ.spáry | F63: HSV | I63: ='SO01 Řad A31'!G130+'SO02 Řad A30,A12, A28'!G193+'SO03 Řad A21'!G118+'SO04 Řad A27'!G120 -> 0 | J63: =IF(I80=0,"",I63/I80*100)
B64: 4 | C64: Vodorovné konstrukce | F64: HSV | I64: ='SO01 Řad A31'!G143+'SO02 Řad A30,A12, A28'!G217+'SO03 Řad A21'!G131+'SO04 Řad A27'!G133 -> 0 | J64: =IF(I80=0,"",I64/I80*100)
B65: 5 | C65: Komunikace | F65: HSV | I65: ='SO01 Řad A31'!G157+'SO02 Řad A30,A12, A28'!G241+'SO03 Řad A21'!G140+'SO04 Řad A27'!G140 -> 0 | J65: =IF(I80=0,"",I65/I80*100)
B66: 57 | C66: Kryty štěrk. a živič.komunikac | F66: HSV | I66: ='SO01 Řad A31'!G185+'SO02 Řad A30,A12, A28'!G277+'SO03 Řad A21'!G162 -> 0 | J66: =IF(I80=0,"",I66/I80*100)
B67: 59 | C67: Dlažby a předlažby komunikací | F67: HSV | I67: ='SO01 Řad A31'!G200+'SO02 Řad A30,A12, A28'!G293+'SO03 Řad A21'!G177+'SO04 Řad A27'!G156 -> 0 | J67: =IF(I80=0,"",I67/I80*100)
B68: 8 | C68: Trubní vedení | F68: HSV | I68: ='SO01 Řad A31'!G207+'SO02 Řad A30,A12, A28'!G301+'SO03 Řad A21'!G186+'SO04 Řad A27'!G165 -> 0 | J68: =IF(I80=0,"",I68/I80*100)
B69: 91 | C69: Doplňující práce na komunikaci | F69: HSV | I69: ='SO01 Řad A31'!G327+'SO02 Řad A30,A12, A28'!G533+'SO03 Řad A21'!G280+'SO04 Řad A27'!G272 -> 0 | J69: =IF(I80=0,"",I69/I80*100)
B70: 93 | C70: Dokončovací práce inž.staveb | F70: HSV | I70: ='SO01 Řad A31'!G338+'SO02 Řad A30,A12, A28'!G546+'SO03 Řad A21'!G291+'SO04 Řad A27'!G279 -> 0 | J70: =IF(I80=0,"",I70/I80*100)
B71: 96 | C71: Bourání konstrukcí | F71: HSV | I71: ='SO01 Řad A31'!G341+'SO02 Řad A30,A12, A28'!G550+'SO03 Řad A21'!G294+'SO04 Řad A27'!G282 -> 0 | J71: =IF(I80=0,"",I71/I80*100)
B72: 97 | C72: Prorážení otvorů | F72: HSV | I72: ='SO01 Řad A31'!G348+'SO02 Řad A30,A12, A28'!G560+'SO03 Řad A21'!G301+'SO04 Řad A27'!G289 -> 0 | J72: =IF(I80=0,"",I72/I80*100)
B73: 99 | C73: Staveništní přesun hmot | F73: HSV | I73: ='SO01 Řad A31'!G356+'SO02 Řad A30,A12, A28'!G577+'SO03 Řad A21'!G306+'SO04 Řad A27'!G294 -> 0 | J73: =IF(I80=0,"",I73/I80*100)
B74: M23 | C74: Montáže potrubí | F74: MON | I74: ='SO02 Řad A30,A12, A28'!G566 -> 0 | J74: =IF(I80=0,"",I74/I80*100)
B75: M46 | C75: Zemní práce při montážích | F75: MON | I75: ='SO01 Řad A31'!G353+'SO02 Řad A30,A12, A28'!G573 -> 0 | J75: =IF(I80=0,"",I75/I80*100)
B76: 997 | C76: Přesun sutě | F76: PSU | I76: ='SO01 Řad A31'!G360+'SO02 Řad A30,A12, A28'!G580+'SO03 Řad A21'!G309+'SO04 Řad A27'!G297 -> 0 | J76: =IF(I80=0,"",I76/I80*100)
B77: 999 | C77: Poplatky za skládky | F77: PSU | I77: ='SO01 Řad A31'!G371+'SO02 Řad A30,A12, A28'!G591+'SO03 Řad A21'!G320+'SO04 Řad A27'!G307 -> 0 | J77: =IF(I80=0,"",I77/I80*100)
B78: VN | C78: Vedlejší náklady | F78: VN | I78: ='00 VRN'!G8 -> 0 | J78: =IF(I80=0,"",I78/I80*100)
B79: ON | C79: Ostatní náklady | F79: ON | I79: ='00 VRN'!G20 -> 0 | J79: =IF(I80=0,"",I79/I80*100)
B80: Cena celkem | I80: =SUM(I61:I79) -> 0 | J80: =SUM(J61:J79) -> 0

Sheet VzorPolozky
A1: Položkový rozpočet
A2: S:
A3: O:
A4: R:

Sheet 00 VRN
A1: Položkový soupis prací a dodávek | AG1: #TypZaznamu#
A2: S: | B2: 001 | C2: Uherský Brod, rekonstrukce I TP - ul.Na Dlouhých, 9.května, B.Smetany, Jiráskova | AG2: STA
A3: O: | B3: 01 | C3: Uherský Brod, rekonstrukce I TP -ul.Na Dlouhých, 9.května, B.Smetany, Jiráskova | AC3: STA | AG3: OBJ
A4: R: | B4: 00 | C4: 00 Vedlejší a ostatní náklady | AG4: ROZ
A6: P.č. | B6: Číslo položky | C6: Název položky | D6: MJ | E6: Množství | F6: Cena / MJ | G6: Celkem | H6: Dodávka | I6: Dodávka celk. | J6: Montáž | K6: Montáž celk. | L6: DPH | M6: Cena s DPH | N6: Hmotnost / MJ | O6: Hmotnost celk.(t) | P6: Dem. hmotnost / MJ | Q6: Dem. hmotnost celk.(t) | R6: Ceník | S6: Cen. soustava / platnost | T6: Cenová úroveň | U6: Nhod / MJ | V6: Nhod celk. | W6: Dodavatel | X6: Typ položky | Y6: Stav položky
A8: Díl: | B8: VN | C8: Vedlejší náklady | G8: =SUMIF(AG9:AG19,"<>NOR",G9:G19) -> 0 | I8: =SUM(I9:I19) -> 0 | K8: =SUM(K9:K19) -> 0 | M8: =SUM(M9:M19) -> 0 | O8: =SUM(O9:O19) -> 0 | Q8: =SUM(Q9:Q19) -> 0 | V8: =SUM(V9:V19) -> 0 | AG8: DIL
A9: 1 | B9: 005111021R | C9: Vytyčení inženýrských sítí | D9: Soubor | E9: 1 | G9: =ROUND(E9*F9,2) -> 0 | I9: =ROUND(E9*H9,2) -> 0 | K9: =ROUND(E9*J9,2) -> 0 | L9: 21 | M9: =G9*(1+L9/100) -> 0 | N9: 0 | O9: =ROUND(E9*N9,2) -> 0 | P9: 0 | Q9: =ROUND(E9*P9,2) -> 0 | S9: Vlastní | T9: Indiv | U9: 0 | V9: =ROUND(E9*U9,2) -> 0 | X9: Práce | Y9: Běžná | AG9: POL1_1
A10: 2 | B10: 005111020R | C10: Vytyčení vodovodu | D10: Soubor | E10: 1 | G10: =ROUND(E10*F10,2) -> 0 | I10: =ROUND(E10*H10,2) -> 0 | K10: =ROUND(E10*J10,2) -> 0 | L10: 21 | M10: =G10*(1+L10/100) -> 0 | N10: 0 | O10: =ROUND(E10*N10,2) -> 0 | P10: 0 | Q10: =ROUND(E10*P10,2) -> 0 | S10: Vlastní | T10: Indiv | U10: 0 | V10: =ROUND(E10*U10,2) -> 0 | X10: Práce | Y10: Běžná | AG10: POL1_1
A11: 3 | B11: 005121010R | C11: Vybudování zařízení staveniště | D11: Soubor | E11: 1 | G11: =ROUND(E11*F11,2) -> 0 | I11: =ROUND(E11*H11,2) -> 0 | K11: =ROUND(E11*J11,2) -> 0 | L11: 21 | M11: =G11*(1+L11/100) -> 0 | N11: 0 | O11: =ROUND(E11*N11,2) -> 0 | P11: 0 | Q11: =ROUND(E11*P11,2) -> 0 | S11: Vlastní | T11: Indiv | U11: 0 | V11: =ROUND(E11*U11,2) -> 0 | X11: Práce | Y11: Běžná | AG11: POL1_1
A12: 4 | B12: 005121020R | C12: Provoz zařízení staveniště | D12: Soubor | E12: 1 | G12: =ROUND(E12*F12,2) -> 0 | I12: =ROUND(E12*H12,2) -> 0 | K12: =ROUND(E12*J12,2) -> 0 | L12: 21 | M12: =G12*(1+L12/100) -> 0 | N12: 0 | O12: =ROUND(E12*N12,2) -> 0 | P12: 0 | Q12: =ROUND(E12*P12,2) -> 0 | S12: Vlastní | T12: Indiv | U12: 0 | V12: =ROUND(E12*U12,2) -> 0 | X12: Práce | Y12: Běžná | AG12: POL1_1
A13: 5 | B13: 005121030R | C13: Odstranění zařízení staveniště | D13: Soubor | E13: 1 | G13: =ROUND(E13*F13,2) -> 0 | I13: =ROUND(E13*H13,2) -> 0 | K13: =ROUND(E13*J13,2) -> 0 | L13: 21 | M13: =G13*(1+L13/100) -> 0 | N13: 0 | O13: =ROUND(E13*N13,2) -> 0 | P13: 0 | Q13: =ROUND(E13*P13,2) -> 0 | S13: Vlastní | T13: Indiv | U13: 0 | V13: =ROUND(E13*U13,2) -> 0 | X13: Práce | Y13: Běžná | AG13: POL1_1
A14: 6 | B14: 005124010R | C14: Koordinační činnost | D14: Soubor | E14: 1 | G14: =ROUND(E14*F14,2) -> 0 | I14: =ROUND(E14*H14,2) -> 0 | K14: =ROUND(E14*J14,2) -> 0 | L14: 21 | M14: =G14*(1+L14/100) -> 0 | N14: 0 | O14: =ROUND(E14*N14,2) -> 0 | P14: 0 | Q14: =ROUND(E14*P14,2) -> 0 | S14: Vlastní | T14: Indiv | U14: 0 | V14: =ROUND(E14*U14,2) -> 0 | X14: Práce | Y14: Běžná | AG14: POL1_1
A15: 7 | B15: 005211020R | C15: Ochrana stávaj. inženýrských sítí na staveništi | D15: Soubor | E15: 1 | G15: =ROUND(E15*F15,2) -> 0 | I15: =ROUND(E15*H15,2) -> 0 | K15: =ROUND(E15*J15,2) -> 0 | L15: 21 | M15: =G15*(1+L15/100) -> 0 | N15: 0 | O15: =ROUND(E15*N15,2) -> 0 | P15: 0 | Q15: =ROUND(E15*P15,2) -> 0 | S15: Vlastní | T15: Indiv | U15: 0 | V15: =ROUND(E15*U15,2) -> 0 | X15: Práce | Y15: Běžná | AG15: POL1_1
A16: 8 | B16: 005211030R | C16: Dočasná dopravní opatření | D16: Soubor | E16: 1 | G16: =ROUND(E16*F16,2) -> 0 | I16: =ROUND(E16*H16,2) -> 0 | K16: =ROUND(E16*J16,2) -> 0 | L16: 21 | M16: =G16*(1+L16/100) -> 0 | N16: 0 | O16: =ROUND(E16*N16,2) -> 0 | P16: 0 | Q16: =ROUND(E16*P16,2) -> 0 | S16: Vlastní | T16: Indiv | U16: 0 | V16: =ROUND(E16*U16,2) -> 0 | X16: Práce | Y16: Běžná | AG16: POL1_1
A17: 9 | B17: 005211040R | C17: Užívání veřejných ploch a prostranství, uvedení ploch do původního stavu | D17: Soubor | E17: 1 | G17: =ROUND(E17*F17,2) -> 0 | I17: =ROUND(E17*H17,2) -> 0 | K17: =ROUND(E17*J17,2) -> 0 | L17: 21 | M17: =G17*(1+L17/100) -> 0 | N17: 0 | O17: =ROUND(E17*N17,2) -> 0 | P17: 0 | Q17: =ROUND(E17*P17,2) -> 0 | S17: Vlastní | T17: Indiv | U17: 0 | V17: =ROUND(E17*U17,2) -> 0 | X17: Práce | Y17: Běžná | AG17: POL1_1
A18: 10 | B18: VN02 | C18: Průběžné čistění vozidel a komunikace, při výjezdu ze stavby | D18: kompl | E18: 1 | G18: =ROUND(E18*F18,2) -> 0 | I18: =ROUND(E18*H18,2) -> 0 | K18: =ROUND(E18*J18,2) -> 0 | L18: 21 | M18: =G18*(1+L18/100) -> 0 | N18: 0 | O18: =ROUND(E18*N18,2) -> 0 | P18: 0 | Q18: =ROUND(E18*P18,2) -> 0 | S18: Vlastní | T18: Indiv | U18: 0 | V18: =ROUND(E18*U18,2) -> 0 | X18: Práce | Y18: Běžná | AG18: POL1_1
A19: 11 | B19: 005211080R | C19: Bezpečnostní a hygienická opatření na staveništi | D19: Soubor | E19: 1 | G19: =ROUND(E19*F19,2) -> 0 | I19: =ROUND(E19*H19,2) -> 0 | K19: =ROUND(E19*J19,2) -> 0 | L19: 21 | M19: =G19*(1+L19/100) -> 0 | N19: 0 | O19: =ROUND(E19*N19,2) -> 0 | P19: 0 | Q19: =ROUND(E19*P19,2) -> 0 | S19: Vlastní | T19: Indiv | U19: 0 | V19: =ROUND(E19*U19,2) -> 0 | X19: Práce | Y19: Běžná | AG19: POL1_1
A20: Díl: | B20: ON | C20: Ostatní náklady | G20: =SUMIF(AG21:AG38,"<>NOR",G21:G38) -> 0 | I20: =SUM(I21:I38) -> 0 | K20: =SUM(K21:K38) -> 0 | M20: =SUM(M21:M38) -> 0 | O20: =SUM(O21:O38) -> 0 | Q20: =SUM(Q21:Q38) -> 0 | V20: =SUM(V21:V38) -> 0 | AG20: DIL
A21: 12 | B21: 005241010R | C21: Dokumentace skutečného provedení | D21: Soubor | E21: 1 | G21: =ROUND(E21*F21,2) -> 0 | I21: =ROUND(E21*H21,2) -> 0 | K21: =ROUND(E21*J21,2) -> 0 | L21: 21 | M21: =G21*(1+L21/100) -> 0 | N21: 0 | O21: =ROUND(E21*N21,2) -> 0 | P21: 0 | Q21: =ROUND(E21*P21,2) -> 0 | S21: Vlastní | T21: Indiv | U21: 0 | V21: =ROUND(E21*U21,2) -> 0 | X21: Práce | Y21: Běžná | AG21: POL1_1
A22: 13 | B22: 005241020R | C22: Geodetické zaměření skutečného provedení | D22: Soubor | E22: 1 | G22: =ROUND(E22*F22,2) -> 0 | I22: =ROUND(E22*H22,2) -> 0 | K22: =ROUND(E22*J22,2) -> 0 | L22: 21 | M22: =G22*(1+L22/100) -> 0 | N22: 0 | O22: =ROUND(E22*N22,2) -> 0 | P22: 0 | Q22: =ROUND(E22*P22,2) -> 0 | S22: Vlastní | T22: Indiv | U22: 0 | V22: =ROUND(E22*U22,2) -> 0 | X22: Práce | Y22: Běžná | AG22: POL1_1
A23: 14 | B23: ON01 | C23: Statická zatěžovací zkouška | D23: kus | E23: 6 | G23: =ROUND(E23*F23,2) -> 0 | I23: =ROUND(E23*H23,2) -> 0 | K23: =ROUND(E23*J23,2) -> 0 | L23: 21 | M23: =G23*(1+L23/100) -> 0 | N23: 0 | O23: =ROUND(E23*N23,2) -> 0 | P23: 0 | Q23: =ROUND(E23*P23,2) -> 0 | S23: Vlastní | T23: Indiv | U23: 0 | V23: =ROUND(E23*U23,2) -> 0 | X23: Práce | Y23: Běžná | AG23: POL1_1
C24: SO01-řad A31 : 2 | E24: 2 | AG24: VV | AH24: 0
C25: SO02-řad A30+A12+A28 : 1 | E25: 1 | AG25: VV | AH25: 0
C26: SO03-řad A21 : 2 | E26: 2 | AG26: VV | AH26: 0
C27: SO04-řad A27 : 1 | E27: 1 | AG27: VV | AH27: 0
A28: 15 | B28: 00523101 | C28: Zkouška funkčnosti signalizačního vodiče | D28: m | E28: 795 | G28: =ROUND(E28*F28,2) -> 0 | I28: =ROUND(E28*H28,2) -> 0 | K28: =ROUND(E28*J28,2) -> 0 | L28: 21 | M28: =G28*(1+L28/100) -> 0 | N28: 0 | O28: =ROUND(E28*N28,2) -> 0 | P28: 0 | Q28: =ROUND(E28*P28,2) -> 0 | S28: Vlastní | T28: Indiv | U28: 0 | V28: =ROUND(E28*U28,2) -> 0 | X28: Práce | Y28: Běžná | AG28: POL1_1
C29: SO01-řad A31 : 263 | E29: 263 | AG29: VV | AH29: 0
C30: SO02-řad A30+A12+A28 : 80+4+168 | E30: 252 | AG30: VV | AH30: 0
C31: SO03-řad A21 : 132 | E31: 132 | AG31: VV | AH31: 0
C32: SO04-řad A27 : 148 | E32: 148 | AG32: VV | AH32: 0
A33: 16 | B33: VN04 | C33: Hygienický rozbor vzorku pitné vody | D33: kompl | E33: 5 | G33: =ROUND(E33*F33,2) -> 0 | I33: =ROUND(E33*H33,2) -> 0 | K33: =ROUND(E33*J33,2) -> 0 | L33: 21 | M33: =G33*(1+L33/100) -> 0 | N33: 0 | O33: =ROUND(E33*N33,2) -> 0 | P33: 0 | Q33: =ROUND(E33*P33,2) -> 0 | S33: Vlastní | T33: Indiv | U33: 0 | V33: =ROUND(E33*U33,2) -> 0 | X33: Práce | Y33: Běžná | AG33: POL1_1
C34: SO01-řad A31 : 1 | E34: 1 | AG34: VV | AH34: 0
C35: SO02-řad A30+A12+A28 : 2 | E35: 2 | AG35: VV | AH35: 0
C36: SO03-řad A21 : 1 | E36: 1 | AG36: VV | AH36: 0
C37: SO04-řad A27 : 1 | E37: 1 | AG37: VV | AH37: 0
A38: 17 | B38: VN03 | C38: Pasportizace stávajících objektů | D38: kompl | E38: 1 | G38: =ROUND(E38*F38,2) -> 0 | I38: =ROUND(E38*H38,2) -> 0 | K38: =ROUND(E38*J38,2) -> 0 | L38: 21 | M38: =G38*(1+L38/100) -> 0 | N38: 0 | O38: =ROUND(E38*N38,2) -> 0 | P38: 0 | Q38: =ROUND(E38*P38,2) -> 0 | S38: Vlastní | T38: Indiv | U38: 0 | V38: =ROUND(E38*U38,2) -> 0 | X38: Práce | Y38: Běžná | AG38: POL1_1
AE39: 12 | AF39: 21 | AG39: DPH
B40: Celkem | G40: =G8+G20 -> 0 | AE40: =SUMIF(L7:L38,AE39,G7:G38) -> 0 | AF40: =SUMIF(L7:L38,AF39,G7:G38) -> 0 | AG40: SUM
AG41: END

Sheet SO01 Řad A31
A1: Položkový soupis prací a dodávek | AG1: #TypZaznamu#
A2: S: | B2: 001 | C2: Uherský Brod, rekonstrukce I TP - ul.Na Dlouhých, 9.května, B.Smetany, Jiráskova | AG2: STA
A3: O: | B3: 01 | C3: Uherský Brod, rekonstrukce I TP -ul.Na Dlouhých, 9.května, B.Smetany, Jiráskova | AC3: STA | AG3: OBJ
A4: R: | B4: 01 | C4: SO01 Řad A31 | AG4: ROZ
A6: P.č. | B6: Číslo položky | C6: Název položky | D6: MJ | E6: Množství | F6: Cena / MJ | G6: Celkem | H6: Dodávka | I6: Dodávka celk. | J6: Montáž | K6: Montáž celk. | L6: DPH | M6: Cena s DPH | N6: Hmotnost / MJ | O6: Hmotnost celk.(t) | P6: Dem. hmotnost / MJ | Q6: Dem. hmotnost celk.(t) | R6: Ceník | S6: Cen. soustava / platnost | T6: Cenová úroveň | U6: Nhod / MJ | V6: Nhod celk. | W6: Dodavatel | X6: Typ položky | Y6: Stav položky
A8: Díl: | B8: 1 | C8: Zemní práce | G8: =SUMIF(AG9:AG97,"<>NOR",G9:G97) -> 0 | I8: =SUM(I9:I97) -> 0 | K8: =SUM(K9:K97) -> 0 | M8: =SUM(M9:M97) -> 0 | O8: =SUM(O9:O97) -> 125.31 | Q8: =SUM(Q9:Q97) -> 0 | V8: =SUM(V9:V97) -> 695.4 | AG8: DIL
A9: 1 | B9: 115101201R00 | C9: Čerpání vody na výšku do 10 m, přítok do 500 l/min | D9: h | E9: 60 | G9: =ROUND(E9*F9,2) -> 0 | I9: =ROUND(E9*H9,2) -> 0 | K9: =ROUND(E9*J9,2) -> 0 | L9: 21 | M9: =G9*(1+L9/100) -> 0 | N9: 0 | O9: =ROUND(E9*N9,2) -> 0 | P9: 0 | Q9: =ROUND(E9*P9,2) -> 0 | S9: Vlastní | T9: Indiv | U9: 0.203 | V9: =ROUND(E9*U9,2) -> 12.18 | X9: Práce | Y9: Běžná | AG9: POL1_1
A10: 2 | B10: 115101301 | C10: Pohotovost čerpací soupravy výš.10m přítok 500l | D10: den | E10: 20 | G10: =ROUND(E10*F10,2) -> 0 | I10: =ROUND(E10*H10,2) -> 0 | K10: =ROUND(E10*J10,2) -> 0 | L10: 21 | M10: =G10*(1+L10/100) -> 0 | N10: 0 | O10: =ROUND(E10*N10,2) -> 0 | P10: 0 | Q10: =ROUND(E10*P10,2) -> 0 | S10: Vlastní | T10: Indiv | U10: 0 | V10: =ROUND(E10*U10,2) -> 0 | X10: Práce | Y10: Běžná | AG10: POL1_1
A11: 3 | B11: 119001421R00 | C11: Dočasné zajištění kabelů - do počtu 3 kabelů | D11: m | E11: 4 | G11: =ROUND(E11*F11,2) -> 0 | I11: =ROUND(E11*H11,2) -> 0 | K11: =ROUND(E11*J11,2) -> 0 | L11: 21 | M11: =G11*(1+L11/100) -> 0 | N11: 0.02478 | O11: =ROUND(E11*N11,2) -> 0.1 | P11: 0 | Q11: =ROUND(E11*P11,2) -> 0 | S11: Vlastní | T11: Indiv | U11: 0.547 | V11: =ROUND(E11*U11,2) -> 2.19 | X11: Práce | Y11: Běžná | AG11: POL1_1
C12: řad A31 : 4 | E12: 4 | AG12: VV | AH12: 0
A13: 4 | B13: 119001401R00 | C13: Dočasné zajištění ocelového potrubí do DN 200 | D13: m | E13: 8 | G13: =ROUND(E13*F13,2) -> 0 | I13: =ROUND(E13*H13,2) -> 0 | K13: =ROUND(E13*J13,2) -> 0 | L13: 21 | M13: =G13*(1+L13/100) -> 0 | N13: 0.00868 | O13: =ROUND(E13*N13,2) -> 0.07 | P13: 0 | Q13: =ROUND(E13*P13,2) -> 0 | S13: Vlastní | T13: Indiv | U13: 0.703 | V13: =ROUND(E13*U13,2) -> 5.62 | X13: Práce | Y13: Běžná | AG13: POL1_1
C14: řad A31 : 8 | E14: 8 | AG14: VV | AH14: 0
A15: 5 | B15: 121101102R00 | C15: Sejmutí ornice s přemístěním přes 50 do 100 m | D15: m3 | E15: 10.6 | G15: =ROUND(E15*F15,2) -> 0 | I15: =ROUND(E15*H15,2) -> 0 | K15: =ROUND(E15*J15,2) -> 0 | L15: 21 | M15: =G15*(1+L15/100) -> 0 | N15: 0 | O15: =ROUND(E15*N15,2) -> 0 | P15: 0 | Q15: =ROUND(E15*P15,2) -> 0 | S15: Vlastní | T15: Indiv | U15: 0.032 | V15: =ROUND(E15*U15,2) -> 0.34 | X15: Práce | Y15: Běžná | AG15: POL1_1
C16: řad A31 : | AG16: VV | AH16: 0
C17: zelená plocha : 106*0,1 | E17: 10.6 | AG17: VV | AH17: 0
A18: 6 | B18: 130001101R00 | C18: Příplatek za ztížené hloubení v blízkosti vedení | D18: m3 | E18: 14.85 | G18: =ROUND(E18*F18,2) -> 0 | I18: =ROUND(E18*H18,2) -> 0 | K18: =ROUND(E18*J18,2) -> 0 | L18: 21 | M18: =G18*(1+L18/100) -> 0 | N18: 0 | O18: =ROUND(E18*N18,2) -> 0 | P18: 0 | Q18: =ROUND(E18*P18,2) -> 0 | S18: Vlastní | T18: Indiv | U18: 1.763 | V18: =ROUND(E18*U18,2) -> 26.18 | X18: Práce | Y18: Běžná | AG18: POL1_1
C19: NN : 1*1,1*1,5 | E19: 1.65 | AG19: VV | AH19: 0
C20: sdělovací kabel : 1*1,1*1,5 | E20: 1.65 | AG20: VV | AH20: 0
C21: kanalizace : 6*1,1*1,5 | E21: 9.9 | AG21: VV | AH21: 0
C22: STL : 1*1,1*1,5 | E22: 1.65 | AG22: VV | AH22: 0
A23: 7 | B23: 132201110R00 | C23: Hloubení rýh š.do 60 cm v hor.3 do 50 m3, STROJNĚ | D23: m3 | E23: 3.4854 | G23: =ROUND(E23*F23,2) -> 0 | I23: =ROUND(E23*H23,2) -> 0 | K23: =ROUND(E23*J23,2) -> 0 | L23: 21 | M23: =G23*(1+L23/100) -> 0 | N23: 0 | O23: =ROUND(E23*N23,2) -> 0 | P23: 0 | Q23: =ROUND(E23*P23,2) -> 0 | S23: Vlastní | T23: Indiv | U23: 0.365 | V23: =ROUND(E23*U23,2) -> 1.27 | X23: Práce | Y23: Běžná | AG23: POL1_1
C24: řad A31 - drenáž : (17,25+9,03+31,81)*0,3*0,2 | E24: 3.49 | AG24: VV | AH24: 0
A25: 8 | B25: 132201119R00 | C25: Přípl.za lepivost,hloubení rýh 60 cm,hor.3,STROJNĚ | D25: m3 | E25: 3.4854 | G25: =ROUND(E25*F25,2) -> 0 | I25: =ROUND(E25*H25,2) -> 0 | K25: =ROUND(E25*J25,2) -> 0 | L25: 21 | M25: =G25*(1+L25/100) -> 0 | N25: 0 | O25: =ROUND(E25*N25,2) -> 0 | P25: 0 | Q25: =ROUND(E25*P25,2) -> 0 | S25: Vlastní | T25: Indiv | U25: 0.3898 | V25: =ROUND(E25*U25,2) -> 1.36 | X25: Práce | Y25: Běžná | AG25: POL1_1
A26: 9 | B26: 132201210R00 | C26: Hloubení rýh šířky do 2000 mm v hor. 3, do 50 m3, STROJNĚ | D26: m3 | E26: 40.21666 | G26: =ROUND(E26*F26,2) -> 0 | I26: =ROUND(E26*H26,2) -> 0 | K26: =ROUND(E26*J26,2) -> 0 | L26: 21 | M26: =G26*(1+L26/100) -> 0 | N26: 0 | O26: =ROUND(E26*N26,2) -> 0 | P26: 0 | Q26: =ROUND(E26*P26,2) -> 0 | S26: Vlastní | T26: Indiv | U26: 0.365 | V26: =ROUND(E26*U26,2) -> 14.68 | X26: Práce | Y26: Běžná | AG26: POL1_1
C27: řad A31 : | AG27: VV | AH27: 0
C28: dlažba : 6,42*1,1*(1,76-0,29) | E28: 10.38 | AG28: VV | AH28: 0
C29: asfalt : (12+9,19)*1,1*((1,8+1,76)/2-0,5) | E29: 29.84 | AG29: VV | AH29: 0
A30: 10 | B30: 132201219R00 | C30: Přípl.za lepivost,hloubení rýh 200cm,hor.3,STROJNĚ | D30: m3 | E30: 40.21666 | G30: =ROUND(E30*F30,2) -> 0 | I30: =ROUND(E30*H30,2) -> 0 | K30: =ROUND(E30*J30,2) -> 0 | L30: 21 | M30: =G30*(1+L30/100) -> 0 | N30: 0 | O30: =ROUND(E30*N30,2) -> 0 | P30: 0 | Q30: =ROUND(E30*P30,2) -> 0 | S30: Vlastní | T30: Indiv | U30: 0.084 | V30: =ROUND(E30*U30,2) -> 3.38 | X30: Práce | Y30: Běžná | AG30: POL1_1
A31: 11 | B31: 131201201R00 | C31: Hloubení zapažených jam v hor.3 do 100 m3 | D31: m3 | E31: 48.98056 | G31: =ROUND(E31*F31,2) -> 0 | I31: =ROUND(E31*H31,2) -> 0 | K31: =ROUND(E31*J31,2) -> 0 | L31: 21 | M31: =G31*(1+L31/100) -> 0 | N31: 0 | O31: =ROUND(E31*N31,2) -> 0 | P31: 0 | Q31: =ROUND(E31*P31,2) -> 0 | S31: Vlastní | T31: Indiv | U31: 2.249 | V31: =ROUND(E31*U31,2) -> 110.16 | X31: Práce | Y31: Běžná | AG31: POL1_1
C32: řad A31 : | AG32: VV | AH32: 0
C33: dlažba : (1,16+0,76+1+1,79+1+1,22+1+1+1+1)*1,1*((1,8+1,85+1,86+1,76+2,04+1,87+1,82+1,78+1,56+1,61)/10-0,29) | E33: 18.09 | AG33: VV | AH33: 0
C34: nezpevněný terén : (1,06+3,3+1+1,62+1+1,05)*1,1*((1,8+1,85+1,78+1,84+1,91+1,76)/6-0,1) | E34: 17.12 | AG34: VV | AH34: 0
C35: asfalt : (1+1,42+1+1+1+1+4,2)*1,1*((1,62+1,64+1,75+1,69+1,68+1,61+1,76)/7-0,5) | E35: 13.77 | AG35: VV | AH35: 0
A36: 12 | B36: 131201209R00 | C36: Příplatek za lepivost - hloubení zapaž.jam v hor.3 | D36: m3 | E36: 48.98056 | G36: =ROUND(E36*F36,2) -> 0 | I36: =ROUND(E36*H36,2) -> 0 | K36: =ROUND(E36*J36,2) -> 0 | L36: 21 | M36: =G36*(1+L36/100) -> 0 | N36: 0 | O36: =ROUND(E36*N36,2) -> 0 | P36: 0 | Q36: =ROUND(E36*P36,2) -> 0 | S36: Vlastní | T36: Indiv | U36: 0.107 | V36: =ROUND(E36*U36,2) -> 5.24 | X36: Práce | Y36: Běžná | AG36: POL1_1
A37: 13 | B37: 139601102R00 | C37: Ruční výkop jam, rýh a šachet v hornině tř. 3 | D37: m3 | E37: 5.6 | G37: =ROUND(E37*F37,2) -> 0 | I37: =ROUND(E37*H37,2) -> 0 | K37: =ROUND(E37*J37,2) -> 0 | L37: 21 | M37: =G37*(1+L37/100) -> 0 | N37: 0 | O37: =ROUND(E37*N37,2) -> 0 | P37: 0 | Q37: =ROUND(E37*P37,2) -> 0 | S37: Vlastní | T37: Indiv | U37: 3.533 | V37: =ROUND(E37*U37,2) -> 19.78 | X37: Práce | Y37: Běžná | AG37: POL1_1
C38: kopaná sonda : | AG38: VV | AH38: 0
C39: řad A31 : 7*1*1*0,8 | E39: 5.6 | AG39: VV | AH39: 0
A40: 14 | B40: 141721101R00 | C40: Řízené protlačení a vtažení PE do d 110mm, hor.1-4 | D40: m | E40: 198.3 | G40: =ROUND(E40*F40,2) -> 0 | I40: =ROUND(E40*H40,2) -> 0 | K40: =ROUND(E40*J40,2) -> 0 | L40: 21 | M40: =G40*(1+L40/100) -> 0 | N40: 0.00348 | O40: =ROUND(E40*N40,2) -> 0.69 | P40: 0 | Q40: =ROUND(E40*P40,2) -> 0 | S40: Vlastní | T40: Indiv | U40: 1.70124 | V40: =ROUND(E40*U40,2) -> 337.36 | X40: Práce | Y40: Běžná | AG40: POL1_1
C41: řad A31 : 198,3 | E41: 198.3 | AG41: VV | AH41: 0
A42: 15 | B42: 151101101R00 | C42: Pažení a rozepření stěn rýh - příložné - hl.do 2 m | D42: m2 | E42: 71.64413 | G42: =ROUND(E42*F42,2) -> 0 | I42: =ROUND(E42*H42,2) -> 0 | K42: =ROUND(E42*J42,2) -> 0 | L42: 21 | M42: =G42*(1+L42/100) -> 0 | N42: 0.00099 | O42: =ROUND(E42*N42,2) -> 0.07 | P42: 0 | Q42: =ROUND(E42*P42,2) -> 0 | S42: Vlastní | T42: Indiv | U42: 0.236 | V42: =ROUND(E42*U42,2) -> 16.91 | X42: Práce | Y42: Běžná | AG42: POL1_1
C43: řad A31 : | AG43: VV | AH43: 0
C44: dlažba : (1,16+0,76+1+1,79+1+1,22+1+1+1+1)*((1,8+1,85+1,86+1,76+2,04+1,87+1,82+1,78+1,56+1,61)/10-0,29)*2 | E44: 32.9 | AG44: VV | AH44: 0
C45: nezpevněný terén : (1,06+0,3+1+1,62+1+1,05)*((1,8+1,85+1,78+1,84+1,91+1,76)/6-0,1)*2 | E45: 20.78 | AG45: VV | AH45: 0
C46: asfalt : (1+1,42+1+1+1+1+1,2)*((1,62+1,64+1,75+1,69+1,68+1,61+1,76)/7-0,5)*2 | E46: 17.96 | AG46: VV | AH46: 0
A47: 16 | B47: 151101111R00 | C47: Odstranění pažení stěn rýh - příložné - hl. do 2 m | D47: m2 | E47: 71.64413 | G47: =ROUND(E47*F47,2) -> 0 | I47: =ROUND(E47*H47,2) -> 0 | K47: =ROUND(E47*J47,2) -> 0 | L47: 21 | M47: =G47*(1+L47/100) -> 0 | N47: 0 | O47: =ROUND(E47*N47,2) -> 0 | P47: 0 | Q47: =ROUND(E47*P47,2) -> 0 | S47: Vlastní | T47: Indiv | U47: 0.07 | V47: =ROUND(E47*U47,2) -> 5.02 | X47: Práce | Y47: Běžná | AG47: POL1_1
A48: 17 | B48: 151811111R00 | C48: Montáž lehkého pažicího boxu dl.3m, š.1m, hl.1,6 m | D48: kus | E48: 8 | G48: =ROUND(E48*F48,2) -> 0 | I48: =ROUND(E48*H48,2) -> 0 | K48: =ROUND(E48*J48,2) -> 0 | L48: 21 | M48: =G48*(1+L48/100) -> 0 | N48: 0 | O48: =ROUND(E48*N48,2) -> 0 | P48: 0 | Q48: =ROUND(E48*P48,2) -> 0 | S48: Vlastní | T48: Indiv | U48: 0.9104 | V48: =ROUND(E48*U48,2) -> 7.28 | X48: Práce | Y48: Běžná | AG48: POL1_1
A49: 18 | B49: 151812111R00 | C49: Pronájem lehkého pažic.boxu dl.3m, š.1m, hl.1,6m | D49: den | E49: 20 | G49: =ROUND(E49*F49,2) -> 0 | I49: =ROUND(E49*H49,2) -> 0 | K49: =ROUND(E49*J49,2) -> 0 | L49: 21 | M49: =G49*(1+L49/100) -> 0 | N49: 0 | O49: =ROUND(E49*N49,2) -> 0 | P49: 0 | Q49: =ROUND(E49*P49,2) -> 0 | S49: Vlastní | T49: Indiv | U49: 0 | V49: =ROUND(E49*U49,2) -> 0 | X49: Práce | Y49: Běžná | AG49: POL1_1
C50: 10 dnů 2 boxy : 2*10 | E50: 20 | AG50: VV | AH50: 0
A51: 19 | B51: 151813111R00 | C51: Dmtž lehkého pažicího boxu dl.3m, š.1m, hl.1,6m | D51: kus | E51: 8 | G51: =ROUND(E51*F51,2) -> 0 | I51: =ROUND(E51*H51,2) -> 0 | K51: =ROUND(E51*J51,2) -> 0 | L51: 21 | M51: =G51*(1+L51/100) -> 0 | N51: 0 | O51: =ROUND(E51*N51,2) -> 0 | P51: 0 | Q51: =ROUND(E51*P51,2) -> 0 | S51: Vlastní | T51: Indiv | U51: 0.8944 | V51: =ROUND(E51*U51,2) -> 7.16 | X51: Práce | Y51: Běžná | AG51: POL1_1
A52: 20 | B52: 161101101R00 | C52: Svislé přemístění výkopku z hor.1-4 do 2,5 m | D52: m3 | E52: 98.28262 | G52: =ROUND(E52*F52,2) -> 0 | I52: =ROUND(E52*H52,2) -> 0 | K52: =ROUND(E52*J52,2) -> 0 | L52: 21 | M52: =G52*(1+L52/100) -> 0 | N52: 0 | O52: =ROUND(E52*N52,2) -> 0 | P52: 0 | Q52: =ROUND(E52*P52,2) -> 0 | S52: Vlastní | T52: Indiv | U52: 0.345 | V52: =ROUND(E52*U52,2) -> 33.91 | X52: Práce | Y52: Běžná | AG52: POL1_1
C53: 3,4854+40,21666+48,98056+5,6 | E53: 98.28 | AG53: VV | AH53: 0
A54: 21 | B54: 162301101R00 | C54: Vodorovné přemístění výkopku z hor.1-4 do 500 m | D54: m3 | E54: 117.02729 | G54: =ROUND(E54*F54,2) -> 0 | I54: =ROUND(E54*H54,2) -> 0 | K54: =ROUND(E54*J54,2) -> 0 | L54: 21 | M54: =G54*(1+L54/100) -> 0 | N54: 0 | O54: =ROUND(E54*N54,2) -> 0 | P54: 0 | Q54: =ROUND(E54*P54,2) -> 0 | S54: Vlastní | T54: Indiv | U54: 0.011 | V54: =ROUND(E54*U54,2) -> 1.29 | X54: Práce | Y54: Běžná | AG54: POL1_1
C55: odvoz zeminy na meziskládku : 98,28262 | E55: 98.28 | AG55: VV | AH55: 0
C56: dovoz zeminy pro zpětný zásyp : 18,74467 | E56: 18.74 | AG56: VV | AH56: 0
A57: 22 | B57: 162601102R00 | C57: Vodorovné přemístění výkopku z hor.1-4 do 5000 m | D57: m3 | E57: 79.53795 | G57: =ROUND(E57*F57,2) -> 0 | I57: =ROUND(E57*H57,2) -> 0 | K57: =ROUND(E57*J57,2) -> 0 | L57: 21 | M57: =G57*(1+L57/100) -> 0 | N57: 0 | O57: =ROUND(E57*N57,2) -> 0 | P57: 0 | Q57: =ROUND(E57*P57,2) -> 0 | S57: Vlastní | T57: Indiv | U57: 0.011 | V57: =ROUND(E57*U57,2) -> 0.87 | X57: Práce | Y57: Běžná | AG57: POL1_1
C58: výkop : 98,28262 | E58: 98.28 | AG58: VV | AH58: 0
C59: zpětný zásyp : -18,74467 | E59: -18.74 | AG59: VV | AH59: 0
A60: 23 | B60: 167101101R00 | C60: Nakládání výkopku z hor. 1 ÷ 4 v množství do 100 m3 | D60: m3 | E60: 18.74467 | G60: =ROUND(E60*F60,2) -> 0 | I60: =ROUND(E60*H60,2) -> 0 | K60: =ROUND(E60*J60,2) -> 0 | L60: 21 | M60: =G60*(1+L60/100) -> 0 | N60: 0 | O60: =ROUND(E60*N60,2) -> 0 | P60: 0 | Q60: =ROUND(E60*P60,2) -> 0 | S60: Vlastní | T60: Indiv | U60: 0.652 | V60: =ROUND(E60*U60,2) -> 12.22 | X60: Práce | Y60: Běžná | AG60: POL1_1
C61: zpětný zásyp : 18,74467 | E61: 18.74 | AG61: VV | AH61: 0
A62: 24 | B62: 171201201R00 | C62: Uložení sypaniny na skládku | D62: m3 | E62: 79.53795 | G62: =ROUND(E62*F62,2) -> 0 | I62: =ROUND(E62*H62,2) -> 0 | K62: =ROUND(E62*J62,2) -> 0 | L62: 21 | M62: =G62*(1+L62/100) -> 0 | N62: 0 | O62: =ROUND(E62*N62,2) -> 0 | P62: 0 | Q62: =ROUND(E62*P62,2) -> 0 | S62: Vlastní | T62: Indiv | U62: 0.009 | V62: =ROUND(E62*U62,2) -> 0.72 | X62: Práce | Y62: Běžná | AG62: POL1_1
A63: 25 | B63: 174101101R00 | C63: Zásyp jam, rýh, šachet se zhutněním | D63: m3 | E63: 69.19362 | G63: =ROUND(E63*F63,2) -> 0 | I63: =ROUND(E63*H63,2) -> 0 | K63: =ROUND(E63*J63,2) -> 0 | L63: 21 | M63: =G63*(1+L63/100) -> 0 | N63: 0 | O63: =ROUND(E63*N63,2) -> 0 | P63: 0 | Q63: =ROUND(E63*P63,2) -> 0 | S63: Vlastní | T63: Indiv | U63: 0.202 | V63: =ROUND(E63*U63,2) -> 13.98 | X63: Práce | Y63: Běžná | AG63: POL1_1
C64: řad A31 : | AG64: VV | AH64: 0
C65: kamenivo 0/32mm : | AG65: VV | AH65: 0
C66: rýhy : | AG66: VV | AH66: 0
C67: dlažba : 6,42*1,1*(1,76-0,29-0,4) | E67: 7.56 | AG67: VV | AH67: 0
C68: asfalt : (12+9,19)*1,1*((1,8+1,76)/2-0,5-0,4) | E68: 20.51 | AG68: VV | AH68: 0
C69: Mezisoučet | AG69: VV | AH69: 1
C70: jámy : | AG70: VV | AH70: 0
C71: dlažba : (1,16+0,76+1+1,79+1+1,22+1+1+1+1)*1,1*((1,8+1,85+1,86+1,76+2,04+1,87+1,82+1,78+1,56+1,61)/10-0,29-0,4) | E71: 13.29 | AG71: VV | AH71: 0
C72: asfalt : (1+1,42+1+1+1+1+4,2)*1,1*((1,62+1,64+1,75+1,69+1,68+1,61+1,76)/7-0,5-0,4) | E72: 9.1 | AG72: VV | AH72: 0
C73: Mezisoučet | AG73: VV | AH73: 1
C74: zemina : | AG74: VV | AH74: 0
C75: nezpevněný terén : (1,06+3,3+1+1,62+1+1,05)*1,1*((1,8+1,85+1,78+1,84+1,91+1,76)/6-0,1-0,4) | E75: 13.14 | AG75: VV | AH75: 0
C76: kopaná sonda : 7*1*1*0,8 | E76: 5.6 | AG76: VV | AH76: 0
C77: Mezisoučet | AG77: VV | AH77: 1
A78: 26 | B78: 175101101R00 | C78: Obsyp potrubí bez prohození sypaniny | D78: m3 | E78: 18.64998 | G78: =ROUND(E78*F78,2) -> 0 | I78: =ROUND(E78*H78,2) -> 0 | K78: =ROUND(E78*J78,2) -> 0 | L78: 21 | M78: =G78*(1+L78/100) -> 0 | N78: 0 | O78: =ROUND(E78*N78,2) -> 0 | P78: 0 | Q78: =ROUND(E78*P78,2) -> 0 | S78: Vlastní | T78: Indiv | U78: 1.587 | V78: =ROUND(E78*U78,2) -> 29.6 | X78: Práce | Y78: Běžná | AG78: POL1_1
C79: dlažba : 17,35*1,1*0,3-3,14*0,11/2*0,11/2*17,35 | E79: 5.56 | AG79: VV | AH79: 0
C80: nezpevněný terén : 9,03*1,1*0,3-3,14*0,11/2*0,11/2*9,03 | E80: 2.89 | AG80: VV | AH80: 0
C81: asfalt : 31,81*1,1*0,3-3,14*0,11/2*0,11/2*31,81 | E81: 10.2 | AG81: VV | AH81: 0
C82: Mezisoučet | AG82: VV | AH82: 1
A83: 27 | B83: 180401211R00 | C83: Založení trávníku lučního výsevem v rovině | D83: m2 | E83: 106 | G83: =ROUND(E83*F83,2) -> 0 | I83: =ROUND(E83*H83,2) -> 0 | K83: =ROUND(E83*J83,2) -> 0 | L83: 21 | M83: =G83*(1+L83/100) -> 0 | N83: 0 | O83: =ROUND(E83*N83,2) -> 0 | P83: 0 | Q83: =ROUND(E83*P83,2) -> 0 | S83: Vlastní | T83: Indiv | U83: 0.021 | V83: =ROUND(E83*U83,2) -> 2.23 | X83: Práce | Y83: Běžná | AG83: POL1_1
A84: 28 | B84: 181201102R00 | C84: Úprava pláně v násypech v hor. 1-4, se zhutněním | D84: m2 | E84: 64.009 | G84: =ROUND(E84*F84,2) -> 0 | I84: =ROUND(E84*H84,2) -> 0 | K84: =ROUND(E84*J84,2) -> 0 | L84: 21 | M84: =G84*(1+L84/100) -> 0 | N84: 0 | O84: =ROUND(E84*N84,2) -> 0 | P84: 0 | Q84: =ROUND(E84*P84,2) -> 0 | S84: Vlastní | T84: Indiv | U84: 0.018 | V84: =ROUND(E84*U84,2) -> 1.15 | X84: Práce | Y84: Běžná | AG84: POL1_1
C85: zarovnání rýhy : | AG85: VV | AH85: 0
C86: dlažba : 17,35*1,1 | E86: 19.09 | AG86: VV | AH86: 0
C87: nezpevněný terén : 9,03*1,1 | E87: 9.93 | AG87: VV | AH87: 0
C88: asfalt : 31,81*1,1 | E88: 34.99 | AG88: VV | AH88: 0
A89: 29 | B89: 181301101R00 | C89: Rozprostření ornice, rovina, tl. do 10 cm do 500m2 | D89: m2 | E89: 106 | G89: =ROUND(E89*F89,2) -> 0 | I89: =ROUND(E89*H89,2) -> 0 | K89: =ROUND(E89*J89,2) -> 0 | L89: 21 | M89: =G89*(1+L89/100) -> 0 | N89: 0 | O89: =ROUND(E89*N89,2) -> 0 | P89: 0 | Q89: =ROUND(E89*P89,2) -> 0 | S89: Vlastní | T89: Indiv | U89: 0.13 | V89: =ROUND(E89*U89,2) -> 13.78 | X89: Práce | Y89: Běžná | AG89: POL1_1
C90: zelená plocha : 106 | E90: 106 | AG90: VV | AH90: 0
A91: 30 | B91: 182001111R00 | C91: Plošná úprava terénu, nerovnosti do 10 cm v rovině | D91: m2 | E91: 106 | G91: =ROUND(E91*F91,2) -> 0 | I91: =ROUND(E91*H91,2) -> 0 | K91: =ROUND(E91*J91,2) -> 0 | L91: 21 | M91: =G91*(1+L91/100) -> 0 | N91: 0 | O91: =ROUND(E91*N91,2) -> 0 | P91: 0 | Q91: =ROUND(E91*P91,2) -> 0 | S91: Vlastní | T91: Indiv | U91: 0.09 | V91: =ROUND(E91*U91,2) -> 9.54 | X91: Práce | Y91: Běžná | AG91: POL1_1
A92: 31 | B92: 583420401R | C92: Kamenivo drcené 0/4 mm | D92: t | E92: 33.56996 | G92: =ROUND(E92*F92,2) -> 0 | I92: =ROUND(E92*H92,2) -> 0 | K92: =ROUND(E92*J92,2) -> 0 | L92: 21 | M92: =G92*(1+L92/100) -> 0 | N92: 1 | O92: =ROUND(E92*N92,2) -> 33.57 | P92: 0 | Q92: =ROUND(E92*P92,2) -> 0 | S92: Vlastní | T92: Indiv | U92: 0 | V92: =ROUND(E92*U92,2) -> 0 | X92: Specifikace | Y92: Běžná | AG92: POL3_0
C93: obsyp potrubí : 18,64998*1,8 | E93: 33.57 | AG93: VV | AH93: 0
A94: 32 | B94: 58344169R | C94: Štěrkodrtě frakce 0/32 mm | D94: t | E94: 90.80811 | G94: =ROUND(E94*F94,2) -> 0 | I94: =ROUND(E94*H94,2) -> 0 | K94: =ROUND(E94*J94,2) -> 0 | L94: 21 | M94: =G94*(1+L94/100) -> 0 | N94: 1 | O94: =ROUND(E94*N94,2) -> 90.81 | P94: 0 | Q94: =ROUND(E94*P94,2) -> 0 | S94: Vlastní | T94: Indiv | U94: 0 | V94: =ROUND(E94*U94,2) -> 0 | X94: Specifikace | Y94: Běžná | AG94: POL3_0
C95: zásyp potrubí ve ZP : (28,06826+22,38069)*1,8 | E95: 90.81 | AG95: VV | AH95: 0
A96: 33 | B96: 00572470R | C96: Směs travní luční I. - krátkodobá PROFI, á 25 kg | D96: kg | E96: 4.24 | G96: =ROUND(E96*F96,2) -> 0 | I96: =ROUND(E96*H96,2) -> 0 | K96: =ROUND(E96*J96,2) -> 0 | L96: 21 | M96: =G96*(1+L96/100) -> 0 | N96: 0.001 | O96: =ROUND(E96*N96,2) -> 0 | P96: 0 | Q96: =ROUND(E96*P96,2) -> 0 | S96: Vlastní | T96: Indiv | U96: 0 | V96: =ROUND(E96*U96,2) -> 0 | X96: Specifikace | Y96: Běžná | AG96: POL3_0
C97: 106*0,04 | E97: 4.24 | AG97: VV | AH97: 0
A98: Díl: | B98: 11 | C98: Přípravné a přidružené práce | G98: =SUMIF(AG99:AG129,"<>NOR",G99:G129) -> 0 | I98: =SUM(I99:I129) -> 0 | K98: =SUM(K99:K129) -> 0 | M98: =SUM(M99:M129) -> 0 | O98: =SUM(O99:O129) -> 6.68 | Q98: =SUM(Q99:Q129) -> 122.7 | V98: =SUM(V99:V129) -> 84.62 | AG98: DIL
A99: 34 | B99: 113106231R00 | C99: Rozebrání dlažeb ze zámkové dlažby v kamenivu | D99: m2 | E99: 23 | G99: =ROUND(E99*F99,2) -> 0 | I99: =ROUND(E99*H99,2) -> 0 | K99: =ROUND(E99*J99,2) -> 0 | L99: 21 | M99: =G99*(1+L99/100) -> 0 | N99: 0.178 | O99: =ROUND(E99*N99,2) -> 4.09 | P99: 0.047 | Q99: =ROUND(E99*P99,2) -> 1.08 | S99: Vlastní | T99: Indiv | U99: 0.142 | V99: =ROUND(E99*U99,2) -> 3.27 | X99: Práce | Y99: Běžná | AG99: POL1_1
C100: zpevněná plocha : | AG100: VV | AH100: 0
C101: řad A31 : 23 | E101: 23 | AG101: VV | AH101: 0
A102: 35 | B102: 113106221R00 | C102: Rozebrání dlažeb z drobných kostek, lože z kameniva, strusky nebo škváry, plocha do 200 m2 | D102: m2 | E102: 1 | G102: =ROUND(E102*F102,2) -> 0 | I102: =ROUND(E102*H102,2) -> 0 | K102: =ROUND(E102*J102,2) -> 0 | L102: 21 | M102: =G102*(1+L102/100) -> 0 | N102: 0.11 | O102: =ROUND(E102*N102,2) -> 0.11 | P102: 0.09 | Q102: =ROUND(E102*P102,2) -> 0.09 | S102: Vlastní | T102: Indiv | U102: 0.1 | V102: =ROUND(E102*U102,2) -> 0.1 | X102: Práce | Y102: Běžná | AG102: POL1_1
...

Sheet SO02 Řad A30,A12, A28
A1: Položkový soupis prací a dodávek | AG1: #TypZaznamu#
A2: S: | B2: 001 | C2: Uherský Brod, rekonstrukce I TP - ul.Na Dlouhých, 9.května, B.Smetany, Jiráskova | AG2: STA
A3: O: | B3: 01 | C3: Uherský Brod, rekonstrukce I TP -ul.Na Dlouhých, 9.května, B.Smetany, Jiráskova | AC3: STA | AG3: OBJ
A4: R: | B4: 02 | C4: SO02 Řad A30, A12, A28 | AG4: ROZ
A6: P.č. | B6: Číslo položky | C6: Název položky | D6: MJ | E6: Množství | F6: Cena / MJ | G6: Celkem | H6: Dodávka | I6: Dodávka celk. | J6: Montáž | K6: Montáž celk. | L6: DPH | M6: Cena s DPH | N6: Hmotnost / MJ | O6: Hmotnost celk.(t) | P6: Dem. hmotnost / MJ | Q6: Dem. hmotnost celk.(t) | R6: Ceník | S6: Cen. soustava / platnost | T6: Cenová úroveň | U6: Nhod / MJ | V6: Nhod celk. | W6: Dodavatel | X6: Typ položky | Y6: Stav položky
A8: Díl: | B8: 1 | C8: Zemní práce | G8: =SUMIF(AG9:AG149,"<>NOR",G9:G149) -> 0 | I8: =SUM(I9:I149) -> 0 | K8: =SUM(K9:K149) -> 0 | M8: =SUM(M9:M149) -> 0 | O8: =SUM(O9:O149) -> 77.57 | Q8: =SUM(Q9:Q149) -> 0 | V8: =SUM(V9:V149) -> 786.56 | AG8: DIL
A9: 1 | B9: 115101201R00 | C9: Čerpání vody na výšku do 10 m, přítok do 500 l/min | D9: h | E9: 60 | G9: =ROUND(E9*F9,2) -> 0 | I9: =ROUND(E9*H9,2) -> 0 | K9: =ROUND(E9*J9,2) -> 0 | L9: 21 | M9: =G9*(1+L9/100) -> 0 | N9: 0 | O9: =ROUND(E9*N9,2) -> 0 | P9: 0 | Q9: =ROUND(E9*P9,2) -> 0 | S9: Vlastní | T9: Indiv | U9: 0.203 | V9: =ROUND(E9*U9,2) -> 12.18 | X9: Práce | Y9: Běžná | AG9: POL1_1
A10: 2 | B10: 115101301 | C10: Pohotovost čerpací soupravy výš.10m přítok 500l | D10: den | E10: 20 | G10: =ROUND(E10*F10,2) -> 0 | I10: =ROUND(E10*H10,2) -> 0 | K10: =ROUND(E10*J10,2) -> 0 | L10: 21 | M10: =G10*(1+L10/100) -> 0 | N10: 0 | O10: =ROUND(E10*N10,2) -> 0 | P10: 0 | Q10: =ROUND(E10*P10,2) -> 0 | S10: Vlastní | T10: Indiv | U10: 0 | V10: =ROUND(E10*U10,2) -> 0 | X10: Práce | Y10: Běžná | AG10: POL1_1
A11: 3 | B11: 119001421R00 | C11: Dočasné zajištění kabelů - do počtu 3 kabelů | D11: m | E11: 24 | G11: =ROUND(E11*F11,2) -> 0 | I11: =ROUND(E11*H11,2) -> 0 | K11: =ROUND(E11*J11,2) -> 0 | L11: 21 | M11: =G11*(1+L11/100) -> 0 | N11: 0.02478 | O11: =ROUND(E11*N11,2) -> 0.59 | P11: 0 | Q11: =ROUND(E11*P11,2) -> 0 | S11: Vlastní | T11: Indiv | U11: 0.547 | V11: =ROUND(E11*U11,2) -> 13.13 | X11: Práce | Y11: Běžná | AG11: POL1_1
C12: řad A30 : 2+6 | E12: 8 | AG12: VV | AH12: 0
C13: řad A28 : 16 | E13: 16 | AG13: VV | AH13: 0
A14: 4 | B14: 119001401R00 | C14: Dočasné zajištění ocelového potrubí do DN 200 | D14: m | E14: 15 | G14: =ROUND(E14*F14,2) -> 0 | I14: =ROUND(E14*H14,2) -> 0 | K14: =ROUND(E14*J14,2) -> 0 | L14: 21 | M14: =G14*(1+L14/100) -> 0 | N14: 0.00868 | O14: =ROUND(E14*N14,2) -> 0.13 | P14: 0 | Q14: =ROUND(E14*P14,2) -> 0 | S14: Vlastní | T14: Indiv | U14: 0.703 | V14: =ROUND(E14*U14,2) -> 10.55 | X14: Práce | Y14: Běžná | AG14: POL1_1
C15: řad A30 : 5 | E15: 5 | AG15: VV | AH15: 0
C16: řad A12 : 1 | E16: 1 | AG16: VV | AH16: 0
C17: řad A28 : 9 | E17: 9 | AG17: VV | AH17: 0
A18: 5 | B18: 121101102R00 | C18: Sejmutí ornice s přemístěním přes 50 do 100 m | D18: m3 | E18: 28.4 | G18: =ROUND(E18*F18,2) -> 0 | I18: =ROUND(E18*H18,2) -> 0 | K18: =ROUND(E18*J18,2) -> 0 | L18: 21 | M18: =G18*(1+L18/100) -> 0 | N18: 0 | O18: =ROUND(E18*N18,2) -> 0 | P18: 0 | Q18: =ROUND(E18*P18,2) -> 0 | S18: Vlastní | T18: Indiv | U18: 0.032 | V18: =ROUND(E18*U18,2) -> 0.91 | X18: Práce | Y18: Běžná | AG18: POL1_1
C19: zelená plocha : | AG19: VV | AH19: 0
C20: řad A30 : 130*0,1 | E20: 13 | AG20: VV | AH20: 0
C21: řad A12+A28 : 154*0,1 | E21: 15.4 | AG21: VV | AH21: 0
A22: 6 | B22: 130001101R00 | C22: Příplatek za ztížené hloubení v blízkosti vedení | D22: m3 | E22: 13.2 | G22: =ROUND(E22*F22,2) -> 0 | I22: =ROUND(E22*H22,2) -> 0 | K22: =ROUND(E22*J22,2) -> 0 | L22: 21 | M22: =G22*(1+L22/100) -> 0 | N22: 0 | O22: =ROUND(E22*N22,2) -> 0 | P22: 0 | Q22: =ROUND(E22*P22,2) -> 0 | S22: Vlastní | T22: Indiv | U22: 1.763 | V22: =ROUND(E22*U22,2) -> 23.27 | X22: Práce | Y22: Běžná | AG22: POL1_1
C23: řad A30 : | AG23: VV | AH23: 0
C24: kanalizace : 1*1,1*1,5 | E24: 1.65 | AG24: VV | AH24: 0
C25: řad A12+A28 : | AG25: VV | AH25: 0
C26: kanalizace : 2*1,1*1,5 | E26: 3.3 | AG26: VV | AH26: 0
C27: sdělovací kabel : 3*1,1*1,5 | E27: 4.95 | AG27: VV | AH27: 0
C28: NTL : 2*1,1*1,5 | E28: 3.3 | AG28: VV | AH28: 0
A29: 7 | B29: 132201110R00 | C29: Hloubení rýh š.do 60 cm v hor.3 do 50 m3, STROJNĚ | D29: m3 | E29: 3.0636 | G29: =ROUND(E29*F29,2) -> 0 | I29: =ROUND(E29*H29,2) -> 0 | K29: =ROUND(E29*J29,2) -> 0 | L29: 21 | M29: =G29*(1+L29/100) -> 0 | N29: 0 | O29: =ROUND(E29*N29,2) -> 0 | P29: 0 | Q29: =ROUND(E29*P29,2) -> 0 | S29: Vlastní | T29: Indiv | U29: 0.365 | V29: =ROUND(E29*U29,2) -> 1.12 | X29: Práce | Y29: Běžná | AG29: POL1_1
C30: řad A30 - drenáž : (1+7,55+3,46)*0,3*0,2 | E30: 0.72 | AG30: VV | AH30: 0
C31: řad A12+A28- drenáž : (8,1+20,19+9,25+1,51)*0,3*0,2 | E31: 2.34 | AG31: VV | AH31: 0
A32: 8 | B32: 132201119R00 | C32: Přípl.za lepivost,hloubení rýh 60 cm,hor.3,STROJNĚ | D32: m3 | E32: 3.0636 | G32: =ROUND(E32*F32,2) -> 0 | I32: =ROUND(E32*H32,2) -> 0 | K32: =ROUND(E32*J32,2) -> 0 | L32: 21 | M32: =G32*(1+L32/100) -> 0 | N32: 0 | O32: =ROUND(E32*N32,2) -> 0 | P32: 0 | Q32: =ROUND(E32*P32,2) -> 0 | S32: Vlastní | T32: Indiv | U32: 0.3898 | V32: =ROUND(E32*U32,2) -> 1.19 | X32: Práce | Y32: Běžná | AG32: POL1_1
A33: 9 | B33: 132201210R00 | C33: Hloubení rýh šířky do 2000 mm v hor. 3, do 50 m3, STROJNĚ | D33: m3 | E33: 40.54941 | G33: =ROUND(E33*F33,2) -> 0 | I33: =ROUND(E33*H33,2) -> 0 | K33: =ROUND(E33*J33,2) -> 0 | L33: 21 | M33: =G33*(1+L33/100) -> 0 | N33: 0 | O33: =ROUND(E33*N33,2) -> 0 | P33: 0 | Q33: =ROUND(E33*P33,2) -> 0 | S33: Vlastní | T33: Indiv | U33: 0.365 | V33: =ROUND(E33*U33,2) -> 14.8 | X33: Práce | Y33: Běžná | AG33: POL1_1
C34: řad A12+A28 : | AG34: VV | AH34: 0
C35: nezpevněný terén : (7,34+6,35)*1,1*((1,9+1,78)/2-0,1) | E35: 26.2 | AG35: VV | AH35: 0
C36: asfalt : 9,25*1,1*(1,91-0,5) | E36: 14.35 | AG36: VV | AH36: 0
A37: 10 | B37: 132201219R00 | C37: Přípl.za lepivost,hloubení rýh 200cm,hor.3,STROJNĚ | D37: m3 | E37: 40.54941 | G37: =ROUND(E37*F37,2) -> 0 | I37: =ROUND(E37*H37,2) -> 0 | K37: =ROUND(E37*J37,2) -> 0 | L37: 21 | M37: =G37*(1+L37/100) -> 0 | N37: 0 | O37: =ROUND(E37*N37,2) -> 0 | P37: 0 | Q37: =ROUND(E37*P37,2) -> 0 | S37: Vlastní | T37: Indiv | U37: 0.084 | V37: =ROUND(E37*U37,2) -> 3.41 | X37: Práce | Y37: Běžná | AG37: POL1_1
A38: 11 | B38: 131201201R00 | C38: Hloubení zapažených jam v hor.3 do 100 m3 | D38: m3 | E38: 44.42693 | G38: =ROUND(E38*F38,2) -> 0 | I38: =ROUND(E38*H38,2) -> 0 | K38: =ROUND(E38*J38,2) -> 0 | L38: 21 | M38: =G38*(1+L38/100) -> 0 | N38: 0 | O38: =ROUND(E38*N38,2) -> 0 | P38: 0 | Q38: =ROUND(E38*P38,2) -> 0 | S38: Vlastní | T38: Indiv | U38: 2.249 | V38: =ROUND(E38*U38,2) -> 99.92 | X38: Práce | Y38: Běžná | AG38: POL1_1
C39: řad A30 : | AG39: VV | AH39: 0
C40: dlažba : (2,43+1,03)*1,1*((1,52+1,54)/2-0,29) | E40: 4.72 | AG40: VV | AH40: 0
C41: nezpevněný terén : (1+1+1+1+1+2,55)*1,1*((1,55+1,57+1,56+1,57+1,55+1,65)/6-0,1) | E41: 12.25 | AG41: VV | AH41: 0
C42: asfalt : 1*1,1*(1,98-0,5) | E42: 1.63 | AG42: VV | AH42: 0
C43: řad A12+A28 : | AG43: VV | AH43: 0
C44: dlažba : (1,56+1,39+1+1,15+1+1+1)*1,1*((1,78+1,8+1,75+1,68+1,7+1,73+1,7)/7-0,29) | E44: 12.87 | AG44: VV | AH44: 0
C45: nezpevněný terén : (1+1+1+3,5)*1,1*((1,6+1,55+1,6+1,6)/4-0,1) | E45: 10.64 | AG45: VV | AH45: 0
C46: štěrk : 1,51*1,1*(1,63-0,23) | E46: 2.33 | AG46: VV | AH46: 0
A47: 12 | B47: 131201209R00 | C47: Příplatek za lepivost - hloubení zapaž.jam v hor.3 | D47: m3 | E47: 44.42693 | G47: =ROUND(E47*F47,2) -> 0 | I47: =ROUND(E47*H47,2) -> 0 | K47: =ROUND(E47*J47,2) -> 0 | L47: 21 | M47: =G47*(1+L47/100) -> 0 | N47: 0 | O47: =ROUND(E47*N47,2) -> 0 | P47: 0 | Q47: =ROUND(E47*P47,2) -> 0 | S47: Vlastní | T47: Indiv | U47: 0.107 | V47: =ROUND(E47*U47,2) -> 4.75 | X47: Práce | Y47: Běžná | AG47: POL1_1
A48: 13 | B48: 139601102R00 | C48: Ruční výkop jam, rýh a šachet v hornině tř. 3 | D48: m3 | E48: 8 | G48: =ROUND(E48*F48,2) -> 0 | I48: =ROUND(E48*H48,2) -> 0 | K48: =ROUND(E48*J48,2) -> 0 | L48: 21 | M48: =G48*(1+L48/100) -> 0 | N48: 0 | O48: =ROUND(E48*N48,2) -> 0 | P48: 0 | Q48: =ROUND(E48*P48,2) -> 0 | S48: Vlastní | T48: Indiv | U48: 3.533 | V48: =ROUND(E48*U48,2) -> 28.26 | X48: Práce | Y48: Běžná | AG48: POL1_1
C49: kopaná sonda : | AG49: VV | AH49: 0
C50: řad A30 : 5*1*1*0,8 | E50: 4 | AG50: VV | AH50: 0
C51: řad A28 : 5*1*1*0,8 | E51: 4 | AG51: VV | AH51: 0
A52: 14 | B52: 141721101R00 | C52: Řízené protlačení a vtažení PE do d 110mm, hor.1-4 | D52: m | E52: 194.6 | G52: =ROUND(E52*F52,2) -> 0 | I52: =ROUND(E52*H52,2) -> 0 | K52: =ROUND(E52*J52,2) -> 0 | L52: 21 | M52: =G52*(1+L52/100) -> 0 | N52: 0.00348 | O52: =ROUND(E52*N52,2) -> 0.68 | P52: 0 | Q52: =ROUND(E52*P52,2) -> 0 | S52: Vlastní | T52: Indiv | U52: 1.70124 | V52: =ROUND(E52*U52,2) -> 331.06 | X52: Práce | Y52: Běžná | AG52: POL1_1
C53: řad A30 : 69,1 | E53: 69.1 | AG53: VV | AH53: 0
C54: řad A28 : 125,5 | E54: 125.5 | AG54: VV | AH54: 0
A55: 15 | B55: 141700102R00 | C55: Protlak neřízený z trub D 110 mm v hor.1 - 4 | D55: m | E55: 17 | G55: =ROUND(E55*F55,2) -> 0 | I55: =ROUND(E55*H55,2) -> 0 | K55: =ROUND(E55*J55,2) -> 0 | L55: 21 | M55: =G55*(1+L55/100) -> 0 | N55: 0.00726 | O55: =ROUND(E55*N55,2) -> 0.12 | P55: 0 | Q55: =ROUND(E55*P55,2) -> 0 | S55: Vlastní | T55: Indiv | U55: 1.725 | V55: =ROUND(E55*U55,2) -> 29.33 | X55: Práce | Y55: Běžná | AG55: POL1_1
C56: řad A28-přípojka VP29 : 8 | E56: 8 | AG56: VV | AH56: 0
C57: řad A28-přípojka VP35 : 9 | E57: 9 | AG57: VV | AH57: 0
A58: 16 | B58: 151101101R00 | C58: Pažení a rozepření stěn rýh - příložné - hl.do 2 m | D58: m2 | E58: 87.36243 | G58: =ROUND(E58*F58,2) -> 0 | I58: =ROUND(E58*H58,2) -> 0 | K58: =ROUND(E58*J58,2) -> 0 | L58: 21 | M58: =G58*(1+L58/100) -> 0 | N58: 0.00099 | O58: =ROUND(E58*N58,2) -> 0.09 | P58: 0 | Q58: =ROUND(E58*P58,2) -> 0 | S58: Vlastní | T58: Indiv | U58: 0.236 | V58: =ROUND(E58*U58,2) -> 20.62 | X58: Práce | Y58: Běžná | AG58: POL1_1
C59: řad A30 : | AG59: VV | AH59: 0
C60: dlažba : (2,43+1,03)*((1,52+1,54)/2-0,29)*2 | E60: 8.58 | AG60: VV | AH60: 0
C61: nezpevněný terén : (1+1+1+1+1+2,55)*((1,55+1,57+1,56+1,57+1,55+1,65)/6-0,1)*2 | E61: 22.27 | AG61: VV | AH61: 0
C62: řad A12+A28 : | AG62: VV | AH62: 0
C63: asfalt : 1*(1,98-0,5)*2 | E63: 2.96 | AG63: VV | AH63: 0
C64: dlažba : (1,56+1,39+1+1,15+1+1+1)*((1,78+1,8+1,75+1,68+1,7+1,73+1,7)/7-0,29)*2 | E64: 23.4 | AG64: VV | AH64: 0
C65: nezpevněný terén : (1,34+0,35)*((1,9+1,78)/2-0,1)*2 | E65: 5.88 | AG65: VV | AH65: 0
C66: nezpevněný terén : (1+1+1+3,5)*((1,6+1,55+1,6+1,6)/4-0,1)*2 | E66: 19.34 | AG66: VV | AH66: 0
C67: asfalt : 0,25*(1,91-0,5)*2 | E67: 0.71 | AG67: VV | AH67: 0
C68: štěrk : 1,51*(1,63-0,23)*2 | E68: 4.23 | AG68: VV | AH68: 0
A69: 17 | B69: 151101111R00 | C69: Odstranění pažení stěn rýh - příložné - hl. do 2 m | D69: m2 | E69: 87.36243 | G69: =ROUND(E69*F69,2) -> 0 | I69: =ROUND(E69*H69,2) -> 0 | K69: =ROUND(E69*J69,2) -> 0 | L69: 21 | M69: =G69*(1+L69/100) -> 0 | N69: 0 | O69: =ROUND(E69*N69,2) -> 0 | P69: 0 | Q69: =ROUND(E69*P69,2) -> 0 | S69: Vlastní | T69: Indiv | U69: 0.07 | V69: =ROUND(E69*U69,2) -> 6.12 | X69: Práce | Y69: Běžná | AG69: POL1_1
A70: 18 | B70: 151811111R00 | C70: Montáž lehkého pažicího boxu dl.3m, š.1m, hl.1,6 m | D70: kus | E70: 7 | G70: =ROUND(E70*F70,2) -> 0 | I70: =ROUND(E70*H70,2) -> 0 | K70: =ROUND(E70*J70,2) -> 0 | L70: 21 | M70: =G70*(1+L70/100) -> 0 | N70: 0 | O70: =ROUND(E70*N70,2) -> 0 | P70: 0 | Q70: =ROUND(E70*P70,2) -> 0 | S70: Vlastní | T70: Indiv | U70: 0.9104 | V70: =ROUND(E70*U70,2) -> 6.37 | X70: Práce | Y70: Běžná | AG70: POL1_1
C71: řad A28 : 7 | E71: 7 | AG71: VV | AH71: 0
A72: 19 | B72: 151812111R00 | C72: Pronájem lehkého pažic.boxu dl.3m, š.1m, hl.1,6m | D72: den | E72: 20 | G72: =ROUND(E72*F72,2) -> 0 | I72: =ROUND(E72*H72,2) -> 0 | K72: =ROUND(E72*J72,2) -> 0 | L72: 21 | M72: =G72*(1+L72/100) -> 0 | N72: 0 | O72: =ROUND(E72*N72,2) -> 0 | P72: 0 | Q72: =ROUND(E72*P72,2) -> 0 | S72: Vlastní | T72: Indiv | U72: 0 | V72: =ROUND(E72*U72,2) -> 0 | X72: Práce | Y72: Běžná | AG72: POL1_1
C73: 10 dnů 2 boxy : 2*10 | E73: 20 | AG73: VV | AH73: 0
A74: 20 | B74: 151813111R00 | C74: Dmtž lehkého pažicího boxu dl.3m, š.1m, hl.1,6m | D74: kus | E74: 7 | G74: =ROUND(E74*F74,2) -> 0 | I74: =ROUND(E74*H74,2) -> 0 | K74: =ROUND(E74*J74,2) -> 0 | L74: 21 | M74: =G74*(1+L74/100) -> 0 | N74: 0 | O74: =ROUND(E74*N74,2) -> 0 | P74: 0 | Q74: =ROUND(E74*P74,2) -> 0 | S74: Vlastní | T74: Indiv | U74: 0.8944 | V74: =ROUND(E74*U74,2) -> 6.26 | X74: Práce | Y74: Běžná | AG74: POL1_1
A75: 21 | B75: 161101101R00 | C75: Svislé přemístění výkopku z hor.1-4 do 2,5 m | D75: m3 | E75: 96.03994 | G75: =ROUND(E75*F75,2) -> 0 | I75: =ROUND(E75*H75,2) -> 0 | K75: =ROUND(E75*J75,2) -> 0 | L75: 21 | M75: =G75*(1+L75/100) -> 0 | N75: 0 | O75: =ROUND(E75*N75,2) -> 0 | P75: 0 | Q75: =ROUND(E75*P75,2) -> 0 | S75: Vlastní | T75: Indiv | U75: 0.345 | V75: =ROUND(E75*U75,2) -> 33.13 | X75: Práce | Y75: Běžná | AG75: POL1_1
C76: 3,0636+40,54941+44,42693+8 | E76: 96.04 | AG76: VV | AH76: 0
A77: 22 | B77: 162301101R00 | C77: Vodorovné přemístění výkopku z hor.1-4 do 500 m | D77: m3 | E77: 138.98937 | G77: =ROUND(E77*F77,2) -> 0 | I77: =ROUND(E77*H77,2) -> 0 | K77: =ROUND(E77*J77,2) -> 0 | L77: 21 | M77: =G77*(1+L77/100) -> 0 | N77: 0 | O77: =ROUND(E77*N77,2) -> 0 | P77: 0 | Q77: =ROUND(E77*P77,2) -> 0 | S77: Vlastní | T77: Indiv | U77: 0.011 | V77: =ROUND(E77*U77,2) -> 1.53 | X77: Práce | Y77: Běžná | AG77: POL1_1
C78: odvoz zeminy na meziskládku : 96,03994 | E78: 96.04 | AG78: VV | AH78: 0
C79: dovoz zeminy pro zpětný zásyp : 12,92788+30,02155 | E79: 42.95 | AG79: VV | AH79: 0
A80: 23 | B80: 162601102R00 | C80: Vodorovné přemístění výkopku z hor.1-4 do 5000 m | D80: m3 | E80: 53.09051 | G80: =ROUND(E80*F80,2) -> 0 | I80: =ROUND(E80*H80,2) -> 0 | K80: =ROUND(E80*J80,2) -> 0 | L80: 21 | M80: =G80*(1+L80/100) -> 0 | N80: 0 | O80: =ROUND(E80*N80,2) -> 0 | P80: 0 | Q80: =ROUND(E80*P80,2) -> 0 | S80: Vlastní | T80: Indiv | U80: 0.011 | V80: =ROUND(E80*U80,2) -> 0.58 | X80: Práce | Y80: Běžná | AG80: POL1_1
C81: výkop : 96,03994 | E81: 96.04 | AG81: VV | AH81: 0
C82: zpětný zásyp : -42,94943 | E82: -42.95 | AG82: VV | AH82: 0
A83: 24 | B83: 167101101R00 | C83: Nakládání výkopku z hor. 1 ÷ 4 v množství do 100 m3 | D83: m3 | E83: 42.94943 | G83: =ROUND(E83*F83,2) -> 0 | I83: =ROUND(E83*H83,2) -> 0 | K83: =ROUND(E83*J83,2) -> 0 | L83: 21 | M83: =G83*(1+L83/100) -> 0 | N83: 0 | O83: =ROUND(E83*N83,2) -> 0 | P83: 0 | Q83: =ROUND(E83*P83,2) -> 0 | S83: Vlastní | T83: Indiv | U83: 0.652 | V83: =ROUND(E83*U83,2) -> 28 | X83: Práce | Y83: Běžná | AG83: POL1_1
C84: zpětný zásyp : 12,92788+30,02155 | E84: 42.95 | AG84: VV | AH84: 0
A85: 25 | B85: 171201201R00 | C85: Uložení sypaniny na skládku | D85: m3 | E85: 53.09051 | G85: =ROUND(E85*F85,2) -> 0 | I85: =ROUND(E85*H85,2) -> 0 | K85: =ROUND(E85*J85,2) -> 0 | L85: 21 | M85: =G85*(1+L85/100) -> 0 | N85: 0 | O85: =ROUND(E85*N85,2) -> 0 | P85: 0 | Q85: =ROUND(E85*P85,2) -> 0 | S85: Vlastní | T85: Indiv | U85: 0.009 | V85: =ROUND(E85*U85,2) -> 0.48 | X85: Práce | Y85: Běžná | AG85: POL1_1
A86: 26 | B86: 174101101R00 | C86: Zásyp jam, rýh, šachet se zhutněním | D86: m3 | E86: 68.5768 | G86: =ROUND(E86*F86,2) -> 0 | I86: =ROUND(E86*H86,2) -> 0 | K86: =ROUND(E86*J86,2) -> 0 | L86: 21 | M86: =G86*(1+L86/100) -> 0 | N86: 0 | O86: =ROUND(E86*N86,2) -> 0 | P86: 0 | Q86: =ROUND(E86*P86,2) -> 0 | S86: Vlastní | T86: Indiv | U86: 0.202 | V86: =ROUND(E86*U86,2) -> 13.85 | X86: Práce | Y86: Běžná | AG86: POL1_1
C87: řad A30 : | AG87: VV | AH87: 0
C88: kamenivo 0/32mm : | AG88: VV | AH88: 0
C89: jámy : | AG89: VV | AH89: 0
C90: dlažba : (2,43+1,03)*1,1*((1,52+1,54)/2-0,29-0,4) | E90: 3.2 | AG90: VV | AH90: 0
C91: asfalt : 1*1,1*(1,98-0,5-0,4) | E91: 1.19 | AG91: VV | AH91: 0
C92: Mezisoučet | AG92: VV | AH92: 1
C93: zemina : | AG93: VV | AH93: 0
C94: nezpevněný terén : (1+1+1+1+1+2,55)*1,1*((1,55+1,57+1,56+1,57+1,55+1,65)/6-0,1-0,4) | E94: 8.93 | AG94: VV | AH94: 0
C95: kopaná sonda : 5*1*1*0,8 | E95: 4 | AG95: VV | AH95: 0
C96: Mezisoučet | AG96: VV | AH96: 1
C97: řad A12+A28 : | AG97: VV | AH97: 0
C98: kamenivo 0/32mm : | AG98: VV | AH98: 0
C99: rýhy : | AG99: VV | AH99: 0
C100: asfalt : 9,25*1,1*(1,91-0,5-0,4) | E100: 10.28 | AG100: VV | AH100: 0
C101: jámy : | AG101: VV | AH101: 0
C102: dlažba : (1,56+1,39+1+1,15+1+1+1)*1,1*((1,78+1,8+1,75+1,68+1,7+1,73+1,7)/7-0,29-0,4) | E102: 9.3 | AG102: VV | AH102: 0
...

Sheet SO03 Řad A21
A1: Položkový soupis prací a dodávek | AG1: #TypZaznamu#
A2: S: | B2: 001 | C2: Uherský Brod, rekonstrukce I TP - ul.Na Dlouhých, 9.května, B.Smetany, Jiráskova | AG2: STA
A3: O: | B3: 01 | C3: Uherský Brod, rekonstrukce I TP -ul.Na Dlouhých, 9.května, B.Smetany, Jiráskova | AC3: STA | AG3: OBJ
A4: R: | B4: 03 | C4: SO03 Řad A21 | AG4: ROZ
A6: P.č. | B6: Číslo položky | C6: Název položky | D6: MJ | E6: Množství | F6: Cena / MJ | G6: Celkem | H6: Dodávka | I6: Dodávka celk. | J6: Montáž | K6: Montáž celk. | L6: DPH | M6: Cena s DPH | N6: Hmotnost / MJ | O6: Hmotnost celk.(t) | P6: Dem. hmotnost / MJ | Q6: Dem. hmotnost celk.(t) | R6: Ceník | S6: Cen. soustava / platnost | T6: Cenová úroveň | U6: Nhod / MJ | V6: Nhod celk. | W6: Dodavatel | X6: Typ položky | Y6: Stav položky
A8: Díl: | B8: 1 | C8: Zemní práce | G8: =SUMIF(AG9:AG88,"<>NOR",G9:G88) -> 0 | I8: =SUM(I9:I88) -> 0 | K8: =SUM(K9:K88) -> 0 | M8: =SUM(M9:M88) -> 0 | O8: =SUM(O9:O88) -> 17.91 | Q8: =SUM(Q9:Q88) -> 0 | V8: =SUM(V9:V88) -> 374.12 | AG8: DIL
A9: 1 | B9: 115101201R00 | C9: Čerpání vody na výšku do 10 m, přítok do 500 l/min | D9: h | E9: 30 | G9: =ROUND(E9*F9,2) -> 0 | I9: =ROUND(E9*H9,2) -> 0 | K9: =ROUND(E9*J9,2) -> 0 | L9: 21 | M9: =G9*(1+L9/100) -> 0 | N9: 0 | O9: =ROUND(E9*N9,2) -> 0 | P9: 0 | Q9: =ROUND(E9*P9,2) -> 0 | S9: Vlastní | T9: Indiv | U9: 0.203 | V9: =ROUND(E9*U9,2) -> 6.09 | X9: Práce | Y9: Běžná | AG9: POL1_1
A10: 2 | B10: 115101301 | C10: Pohotovost čerpací soupravy výš.10m přítok 500l | D10: den | E10: 10 | G10: =ROUND(E10*F10,2) -> 0 | I10: =ROUND(E10*H10,2) -> 0 | K10: =ROUND(E10*J10,2) -> 0 | L10: 21 | M10: =G10*(1+L10/100) -> 0 | N10: 0 | O10: =ROUND(E10*N10,2) -> 0 | P10: 0 | Q10: =ROUND(E10*P10,2) -> 0 | S10: Vlastní | T10: Indiv | U10: 0 | V10: =ROUND(E10*U10,2) -> 0 | X10: Práce | Y10: Běžná | AG10: POL1_1
A11: 3 | B11: 119001401R00 | C11: Dočasné zajištění ocelového potrubí do DN 200 | D11: m | E11: 4 | G11: =ROUND(E11*F11,2) -> 0 | I11: =ROUND(E11*H11,2) -> 0 | K11: =ROUND(E11*J11,2) -> 0 | L11: 21 | M11: =G11*(1+L11/100) -> 0 | N11: 0.00868 | O11: =ROUND(E11*N11,2) -> 0.03 | P11: 0 | Q11: =ROUND(E11*P11,2) -> 0 | S11: Vlastní | T11: Indiv | U11: 0.703 | V11: =ROUND(E11*U11,2) -> 2.81 | X11: Práce | Y11: Běžná | AG11: POL1_1
C12: řad A21 : 4 | E12: 4 | AG12: VV | AH12: 0
A13: 4 | B13: 121101102R00 | C13: Sejmutí ornice s přemístěním přes 50 do 100 m | D13: m3 | E13: 6.4 | G13: =ROUND(E13*F13,2) -> 0 | I13: =ROUND(E13*H13,2) -> 0 | K13: =ROUND(E13*J13,2) -> 0 | L13: 21 | M13: =G13*(1+L13/100) -> 0 | N13: 0 | O13: =ROUND(E13*N13,2) -> 0 | P13: 0 | Q13: =ROUND(E13*P13,2) -> 0 | S13: Vlastní | T13: Indiv | U13: 0.032 | V13: =ROUND(E13*U13,2) -> 0.2 | X13: Práce | Y13: Běžná | AG13: POL1_1
C14: řad A21 : | AG14: VV | AH14: 0
C15: zelená plocha : 64*0,1 | E15: 6.4 | AG15: VV | AH15: 0
A16: 5 | B16: 130001101R00 | C16: Příplatek za ztížené hloubení v blízkosti vedení | D16: m3 | E16: 1.65 | G16: =ROUND(E16*F16,2) -> 0 | I16: =ROUND(E16*H16,2) -> 0 | K16: =ROUND(E16*J16,2) -> 0 | L16: 21 | M16: =G16*(1+L16/100) -> 0 | N16: 0 | O16: =ROUND(E16*N16,2) -> 0 | P16: 0 | Q16: =ROUND(E16*P16,2) -> 0 | S16: Vlastní | T16: Indiv | U16: 1.763 | V16: =ROUND(E16*U16,2) -> 2.91 | X16: Práce | Y16: Běžná | AG16: POL1_1
C17: kanalizace : 1*1,1*1,5 | E17: 1.65 | AG17: VV | AH17: 0
A18: 6 | B18: 132201110R00 | C18: Hloubení rýh š.do 60 cm v hor.3 do 50 m3, STROJNĚ | D18: m3 | E18: 0.9654 | G18: =ROUND(E18*F18,2) -> 0 | I18: =ROUND(E18*H18,2) -> 0 | K18: =ROUND(E18*J18,2) -> 0 | L18: 21 | M18: =G18*(1+L18/100) -> 0 | N18: 0 | O18: =ROUND(E18*N18,2) -> 0 | P18: 0 | Q18: =ROUND(E18*P18,2) -> 0 | S18: Vlastní | T18: Indiv | U18: 0.365 | V18: =ROUND(E18*U18,2) -> 0.35 | X18: Práce | Y18: Běžná | AG18: POL1_1
C19: řad A21 - drenáž : (3,05+12,04+1)*0,3*0,2 | E19: 0.97 | AG19: VV | AH19: 0
A20: 7 | B20: 132201119R00 | C20: Přípl.za lepivost,hloubení rýh 60 cm,hor.3,STROJNĚ | D20: m3 | E20: 0.9654 | G20: =ROUND(E20*F20,2) -> 0 | I20: =ROUND(E20*H20,2) -> 0 | K20: =ROUND(E20*J20,2) -> 0 | L20: 21 | M20: =G20*(1+L20/100) -> 0 | N20: 0 | O20: =ROUND(E20*N20,2) -> 0 | P20: 0 | Q20: =ROUND(E20*P20,2) -> 0 | S20: Vlastní | T20: Indiv | U20: 0.3898 | V20: =ROUND(E20*U20,2) -> 0.38 | X20: Práce | Y20: Běžná | AG20: POL1_1
A21: 8 | B21: 131201201R00 | C21: Hloubení zapažených jam v hor.3 do 100 m3 | D21: m3 | E21: 25.07505 | G21: =ROUND(E21*F21,2) -> 0 | I21: =ROUND(E21*H21,2) -> 0 | K21: =ROUND(E21*J21,2) -> 0 | L21: 21 | M21: =G21*(1+L21/100) -> 0 | N21: 0 | O21: =ROUND(E21*N21,2) -> 0 | P21: 0 | Q21: =ROUND(E21*P21,2) -> 0 | S21: Vlastní | T21: Indiv | U21: 2.249 | V21: =ROUND(E21*U21,2) -> 56.39 | X21: Práce | Y21: Běžná | AG21: POL1_1
C22: řad A21 : | AG22: VV | AH22: 0
C23: dlažba : 1*1,1*(1,56-0,29) | E23: 1.4 | AG23: VV | AH23: 0
C24: asfalt : 3,05*1,1*(1,89-0,5) | E24: 4.66 | AG24: VV | AH24: 0
C25: nezpevněný terén : (1+1+3+1+2,72+1+2,32)*1,1*((1,56+1,44+1,43+1,49+1,62+1,59+1,62)/7-0,1) | E25: 19.01 | AG25: VV | AH25: 0
A26: 9 | B26: 131201209R00 | C26: Příplatek za lepivost - hloubení zapaž.jam v hor.3 | D26: m3 | E26: 25.07505 | G26: =ROUND(E26*F26,2) -> 0 | I26: =ROUND(E26*H26,2) -> 0 | K26: =ROUND(E26*J26,2) -> 0 | L26: 21 | M26: =G26*(1+L26/100) -> 0 | N26: 0 | O26: =ROUND(E26*N26,2) -> 0 | P26: 0 | Q26: =ROUND(E26*P26,2) -> 0 | S26: Vlastní | T26: Indiv | U26: 0.107 | V26: =ROUND(E26*U26,2) -> 2.68 | X26: Práce | Y26: Běžná | AG26: POL1_1
A27: 10 | B27: 139601102R00 | C27: Ruční výkop jam, rýh a šachet v hornině tř. 3 | D27: m3 | E27: 3.2 | G27: =ROUND(E27*F27,2) -> 0 | I27: =ROUND(E27*H27,2) -> 0 | K27: =ROUND(E27*J27,2) -> 0 | L27: 21 | M27: =G27*(1+L27/100) -> 0 | N27: 0 | O27: =ROUND(E27*N27,2) -> 0 | P27: 0 | Q27: =ROUND(E27*P27,2) -> 0 | S27: Vlastní | T27: Indiv | U27: 3.533 | V27: =ROUND(E27*U27,2) -> 11.31 | X27: Práce | Y27: Běžná | AG27: POL1_1
C28: kopaná sonda : | AG28: VV | AH28: 0
C29: řad A21 : 4*1*1*0,8 | E29: 3.2 | AG29: VV | AH29: 0
A30: 11 | B30: 141721101R00 | C30: Řízené protlačení a vtažení PE do d 110mm, hor.1-4 | D30: m | E30: 112 | G30: =ROUND(E30*F30,2) -> 0 | I30: =ROUND(E30*H30,2) -> 0 | K30: =ROUND(E30*J30,2) -> 0 | L30: 21 | M30: =G30*(1+L30/100) -> 0 | N30: 0.00348 | O30: =ROUND(E30*N30,2) -> 0.39 | P30: 0 | Q30: =ROUND(E30*P30,2) -> 0 | S30: Vlastní | T30: Indiv | U30: 1.70124 | V30: =ROUND(E30*U30,2) -> 190.54 | X30: Práce | Y30: Běžná | AG30: POL1_1
C31: řad A21 : 112 | E31: 112 | AG31: VV | AH31: 0
A32: 12 | B32: 151101101R00 | C32: Pažení a rozepření stěn rýh - příložné - hl.do 2 m | D32: m2 | E32: 37.112 | G32: =ROUND(E32*F32,2) -> 0 | I32: =ROUND(E32*H32,2) -> 0 | K32: =ROUND(E32*J32,2) -> 0 | L32: 21 | M32: =G32*(1+L32/100) -> 0 | N32: 0.00099 | O32: =ROUND(E32*N32,2) -> 0.04 | P32: 0 | Q32: =ROUND(E32*P32,2) -> 0 | S32: Vlastní | T32: Indiv | U32: 0.236 | V32: =ROUND(E32*U32,2) -> 8.76 | X32: Práce | Y32: Běžná | AG32: POL1_1
C33: řad A21 : | AG33: VV | AH33: 0
C34: dlažba : 1*(1,56-0,29)*2 | E34: 2.54 | AG34: VV | AH34: 0
C35: nezpevněný terén : (1+1+3+1+2,72+1+2,32)*((1,56+1,44+1,43+1,49+1,62+1,59+1,62)/7-0,1)*2 | E35: 34.57 | AG35: VV | AH35: 0
A36: 13 | B36: 151101111R00 | C36: Odstranění pažení stěn rýh - příložné - hl. do 2 m | D36: m2 | E36: 37.112 | G36: =ROUND(E36*F36,2) -> 0 | I36: =ROUND(E36*H36,2) -> 0 | K36: =ROUND(E36*J36,2) -> 0 | L36: 21 | M36: =G36*(1+L36/100) -> 0 | N36: 0 | O36: =ROUND(E36*N36,2) -> 0 | P36: 0 | Q36: =ROUND(E36*P36,2) -> 0 | S36: Vlastní | T36: Indiv | U36: 0.07 | V36: =ROUND(E36*U36,2) -> 2.6 | X36: Práce | Y36: Běžná | AG36: POL1_1
A37: 14 | B37: 151811111R00 | C37: Montáž lehkého pažicího boxu dl.3m, š.1m, hl.1,6 m | D37: kus | E37: 1 | G37: =ROUND(E37*F37,2) -> 0 | I37: =ROUND(E37*H37,2) -> 0 | K37: =ROUND(E37*J37,2) -> 0 | L37: 21 | M37: =G37*(1+L37/100) -> 0 | N37: 0 | O37: =ROUND(E37*N37,2) -> 0 | P37: 0 | Q37: =ROUND(E37*P37,2) -> 0 | S37: Vlastní | T37: Indiv | U37: 0.9104 | V37: =ROUND(E37*U37,2) -> 0.91 | X37: Práce | Y37: Běžná | AG37: POL1_1
A38: 15 | B38: 151812111R00 | C38: Pronájem lehkého pažic.boxu dl.3m, š.1m, hl.1,6m | D38: den | E38: 10 | G38: =ROUND(E38*F38,2) -> 0 | I38: =ROUND(E38*H38,2) -> 0 | K38: =ROUND(E38*J38,2) -> 0 | L38: 21 | M38: =G38*(1+L38/100) -> 0 | N38: 0 | O38: =ROUND(E38*N38,2) -> 0 | P38: 0 | Q38: =ROUND(E38*P38,2) -> 0 | S38: Vlastní | T38: Indiv | U38: 0 | V38: =ROUND(E38*U38,2) -> 0 | X38: Práce | Y38: Běžná | AG38: POL1_1
C39: 5 dnů 1 box : 2*5 | E39: 10 | AG39: VV | AH39: 0
A40: 16 | B40: 151813111R00 | C40: Dmtž lehkého pažicího boxu dl.3m, š.1m, hl.1,6m | D40: kus | E40: 1 | G40: =ROUND(E40*F40,2) -> 0 | I40: =ROUND(E40*H40,2) -> 0 | K40: =ROUND(E40*J40,2) -> 0 | L40: 21 | M40: =G40*(1+L40/100) -> 0 | N40: 0 | O40: =ROUND(E40*N40,2) -> 0 | P40: 0 | Q40: =ROUND(E40*P40,2) -> 0 | S40: Vlastní | T40: Indiv | U40: 0.8944 | V40: =ROUND(E40*U40,2) -> 0.89 | X40: Práce | Y40: Běžná | AG40: POL1_1
A41: 17 | B41: 161101101R00 | C41: Svislé přemístění výkopku z hor.1-4 do 2,5 m | D41: m3 | E41: 29.24045 | G41: =ROUND(E41*F41,2) -> 0 | I41: =ROUND(E41*H41,2) -> 0 | K41: =ROUND(E41*J41,2) -> 0 | L41: 21 | M41: =G41*(1+L41/100) -> 0 | N41: 0 | O41: =ROUND(E41*N41,2) -> 0 | P41: 0 | Q41: =ROUND(E41*P41,2) -> 0 | S41: Vlastní | T41: Indiv | U41: 0.345 | V41: =ROUND(E41*U41,2) -> 10.09 | X41: Práce | Y41: Běžná | AG41: POL1_1
C42: 0,9654+25,07505+3,2 | E42: 29.24 | AG42: VV | AH42: 0
A43: 18 | B43: 162301101R00 | C43: Vodorovné přemístění výkopku z hor.1-4 do 500 m | D43: m3 | E43: 46.15745 | G43: =ROUND(E43*F43,2) -> 0 | I43: =ROUND(E43*H43,2) -> 0 | K43: =ROUND(E43*J43,2) -> 0 | L43: 21 | M43: =G43*(1+L43/100) -> 0 | N43: 0 | O43: =ROUND(E43*N43,2) -> 0 | P43: 0 | Q43: =ROUND(E43*P43,2) -> 0 | S43: Vlastní | T43: Indiv | U43: 0.011 | V43: =ROUND(E43*U43,2) -> 0.51 | X43: Práce | Y43: Běžná | AG43: POL1_1
C44: odvoz zeminy na meziskládku : 29,24045 | E44: 29.24 | AG44: VV | AH44: 0
C45: dovoz zeminy pro zpětný zásyp : 16,917 | E45: 16.92 | AG45: VV | AH45: 0
A46: 19 | B46: 162601102R00 | C46: Vodorovné přemístění výkopku z hor.1-4 do 5000 m | D46: m3 | E46: 12.32345 | G46: =ROUND(E46*F46,2) -> 0 | I46: =ROUND(E46*H46,2) -> 0 | K46: =ROUND(E46*J46,2) -> 0 | L46: 21 | M46: =G46*(1+L46/100) -> 0 | N46: 0 | O46: =ROUND(E46*N46,2) -> 0 | P46: 0 | Q46: =ROUND(E46*P46,2) -> 0 | S46: Vlastní | T46: Indiv | U46: 0.011 | V46: =ROUND(E46*U46,2) -> 0.14 | X46: Práce | Y46: Běžná | AG46: POL1_1
C47: výkop : 29,24045 | E47: 29.24 | AG47: VV | AH47: 0
C48: zpětný zásyp : -16,917 | E48: -16.92 | AG48: VV | AH48: 0
A49: 20 | B49: 167101101R00 | C49: Nakládání výkopku z hor. 1 ÷ 4 v množství do 100 m3 | D49: m3 | E49: 16.917 | G49: =ROUND(E49*F49,2) -> 0 | I49: =ROUND(E49*H49,2) -> 0 | K49: =ROUND(E49*J49,2) -> 0 | L49: 21 | M49: =G49*(1+L49/100) -> 0 | N49: 0 | O49: =ROUND(E49*N49,2) -> 0 | P49: 0 | Q49: =ROUND(E49*P49,2) -> 0 | S49: Vlastní | T49: Indiv | U49: 0.652 | V49: =ROUND(E49*U49,2) -> 11.03 | X49: Práce | Y49: Běžná | AG49: POL1_1
C50: zpětný zásyp : 16,917 | E50: 16.92 | AG50: VV | AH50: 0
A51: 21 | B51: 171201201R00 | C51: Uložení sypaniny na skládku | D51: m3 | E51: 12.32345 | G51: =ROUND(E51*F51,2) -> 0 | I51: =ROUND(E51*H51,2) -> 0 | K51: =ROUND(E51*J51,2) -> 0 | L51: 21 | M51: =G51*(1+L51/100) -> 0 | N51: 0 | O51: =ROUND(E51*N51,2) -> 0 | P51: 0 | Q51: =ROUND(E51*P51,2) -> 0 | S51: Vlastní | T51: Indiv | U51: 0.009 | V51: =ROUND(E51*U51,2) -> 0.11 | X51: Práce | Y51: Běžná | AG51: POL1_1
A52: 22 | B52: 174101101R00 | C52: Zásyp jam, rýh, šachet se zhutněním | D52: m3 | E52: 21.19545 | G52: =ROUND(E52*F52,2) -> 0 | I52: =ROUND(E52*H52,2) -> 0 | K52: =ROUND(E52*J52,2) -> 0 | L52: 21 | M52: =G52*(1+L52/100) -> 0 | N52: 0 | O52: =ROUND(E52*N52,2) -> 0 | P52: 0 | Q52: =ROUND(E52*P52,2) -> 0 | S52: Vlastní | T52: Indiv | U52: 0.202 | V52: =ROUND(E52*U52,2) -> 4.28 | X52: Práce | Y52: Běžná | AG52: POL1_1
C53: řad A21 : | AG53: VV | AH53: 0
C54: jámy : | AG54: VV | AH54: 0
C55: kamenivo 0/32mm : | AG55: VV | AH55: 0
C56: dlažba : 1*1,1*(1,56-0,29-0,4) | E56: 0.96 | AG56: VV | AH56: 0
C57: asfalt : 3,05*1,1*(1,89-0,5-0,4) | E57: 3.32 | AG57: VV | AH57: 0
C58: Mezisoučet | AG58: VV | AH58: 1
C59: zemina : | AG59: VV | AH59: 0
C60: jámy : | AG60: VV | AH60: 0
C61: nezpevněný terén : (1+1+3+1+2,72+1+2,32)*1,1*((1,56+1,44+1,43+1,49+1,62+1,59+1,62)/7-0,1-0,4) | E61: 13.72 | AG61: VV | AH61: 0
C62: kopaná sonda : 4*1*1*0,8 | E62: 3.2 | AG62: VV | AH62: 0
C63: Mezisoučet | AG63: VV | AH63: 1
A64: 23 | B64: 175101101R00 | C64: Obsyp potrubí bez prohození sypaniny | D64: m3 | E64: 5.25957 | G64: =ROUND(E64*F64,2) -> 0 | I64: =ROUND(E64*H64,2) -> 0 | K64: =ROUND(E64*J64,2) -> 0 | L64: 21 | M64: =G64*(1+L64/100) -> 0 | N64: 0 | O64: =ROUND(E64*N64,2) -> 0 | P64: 0 | Q64: =ROUND(E64*P64,2) -> 0 | S64: Vlastní | T64: Indiv | U64: 1.587 | V64: =ROUND(E64*U64,2) -> 8.35 | X64: Práce | Y64: Běžná | AG64: POL1_1
C65: řad A21 : | AG65: VV | AH65: 0
C66: dlažba : 1*1,1*0,3-3,14*0,063/2*0,063/2*1 | E66: 0.33 | AG66: VV | AH66: 0
C67: asfalt : 3,05*1,1*0,3-3,14*0,063/2*0,063/2*3,05 | E67: 1 | AG67: VV | AH67: 0
C68: nezpevněný terén : (1+1+3+1+2,72+1+2,32)*1,1*0,3-3,14*0,063/2*0,063/2*(1+1+3+1+2,72+1+2,32) | E68: 3.94 | AG68: VV | AH68: 0
C69: Mezisoučet | AG69: VV | AH69: 1
A70: 24 | B70: 180401211R00 | C70: Založení trávníku lučního výsevem v rovině | D70: m2 | E70: 64 | G70: =ROUND(E70*F70,2) -> 0 | I70: =ROUND(E70*H70,2) -> 0 | K70: =ROUND(E70*J70,2) -> 0 | L70: 21 | M70: =G70*(1+L70/100) -> 0 | N70: 0 | O70: =ROUND(E70*N70,2) -> 0 | P70: 0 | Q70: =ROUND(E70*P70,2) -> 0 | S70: Vlastní | T70: Indiv | U70: 0.021 | V70: =ROUND(E70*U70,2) -> 1.34 | X70: Práce | Y70: Běžná | AG70: POL1_1
A71: 25 | B71: 181201102R00 | C71: Úprava pláně v násypech v hor. 1-4, se zhutněním | D71: m2 | E71: 17.699 | G71: =ROUND(E71*F71,2) -> 0 | I71: =ROUND(E71*H71,2) -> 0 | K71: =ROUND(E71*J71,2) -> 0 | L71: 21 | M71: =G71*(1+L71/100) -> 0 | N71: 0 | O71: =ROUND(E71*N71,2) -> 0 | P71: 0 | Q71: =ROUND(E71*P71,2) -> 0 | S71: Vlastní | T71: Indiv | U71: 0.018 | V71: =ROUND(E71*U71,2) -> 0.32 | X71: Práce | Y71: Běžná | AG71: POL1_1
C72: zarovnání rýhy : | AG72: VV | AH72: 0
C73: řad A21 : | AG73: VV | AH73: 0
C74: dlažba : 1*1,1 | E74: 1.1 | AG74: VV | AH74: 0
C75: asfalt : 3,05*1,1 | E75: 3.36 | AG75: VV | AH75: 0
C76: nezpevněný terén : (1+1+3+1+2,72+1+2,32)*1,1 | E76: 13.24 | AG76: VV | AH76: 0
A77: 26 | B77: 181301101R00 | C77: Rozprostření ornice, rovina, tl. do 10 cm do 500m2 | D77: m2 | E77: 64 | G77: =ROUND(E77*F77,2) -> 0 | I77: =ROUND(E77*H77,2) -> 0 | K77: =ROUND(E77*J77,2) -> 0 | L77: 21 | M77: =G77*(1+L77/100) -> 0 | N77: 0 | O77: =ROUND(E77*N77,2) -> 0 | P77: 0 | Q77: =ROUND(E77*P77,2) -> 0 | S77: Vlastní | T77: Indiv | U77: 0.13 | V77: =ROUND(E77*U77,2) -> 8.32 | X77: Práce | Y77: Běžná | AG77: POL1_1
C78: zelená plocha : 64 | E78: 64 | AG78: VV | AH78: 0
A79: 27 | B79: 182001111R00 | C79: Plošná úprava terénu, nerovnosti do 10 cm v rovině | D79: m2 | E79: 64 | G79: =ROUND(E79*F79,2) -> 0 | I79: =ROUND(E79*H79,2) -> 0 | K79: =ROUND(E79*J79,2) -> 0 | L79: 21 | M79: =G79*(1+L79/100) -> 0 | N79: 0 | O79: =ROUND(E79*N79,2) -> 0 | P79: 0 | Q79: =ROUND(E79*P79,2) -> 0 | S79: Vlastní | T79: Indiv | U79: 0.09 | V79: =ROUND(E79*U79,2) -> 5.76 | X79: Práce | Y79: Běžná | AG79: POL1_1
A80: 28 | B80: 583420401R | C80: Kamenivo drcené 0/4 mm | D80: t | E80: 9.46723 | G80: =ROUND(E80*F80,2) -> 0 | I80: =ROUND(E80*H80,2) -> 0 | K80: =ROUND(E80*J80,2) -> 0 | L80: 21 | M80: =G80*(1+L80/100) -> 0 | N80: 1 | O80: =ROUND(E80*N80,2) -> 9.47 | P80: 0 | Q80: =ROUND(E80*P80,2) -> 0 | S80: Vlastní | T80: Indiv | U80: 0 | V80: =ROUND(E80*U80,2) -> 0 | X80: Specifikace | Y80: Běžná | AG80: POL3_0
C81: obsyp potrubí : 5,25957*1,8 | E81: 9.47 | AG81: VV | AH81: 0
A82: 29 | B82: 58344169R | C82: Štěrkodrtě frakce 0/32 mm | D82: t | E82: 7.70084 | G82: =ROUND(E82*F82,2) -> 0 | I82: =ROUND(E82*H82,2) -> 0 | K82: =ROUND(E82*J82,2) -> 0 | L82: 21 | M82: =G82*(1+L82/100) -> 0 | N82: 1 | O82: =ROUND(E82*N82,2) -> 7.7 | P82: 0 | Q82: =ROUND(E82*P82,2) -> 0 | S82: Vlastní | T82: Indiv | U82: 0 | V82: =ROUND(E82*U82,2) -> 0 | X82: Specifikace | Y82: Běžná | AG82: POL3_0
C83: zásyp potrubí ve ZP : 4,278245*1,8 | E83: 7.7 | AG83: VV | AH83: 0
A84: 30 | B84: 00572470R | C84: Směs travní luční I. - krátkodobá PROFI, á 25 kg | D84: kg | E84: 2.56 | G84: =ROUND(E84*F84,2) -> 0 | I84: =ROUND(E84*H84,2) -> 0 | K84: =ROUND(E84*J84,2) -> 0 | L84: 21 | M84: =G84*(1+L84/100) -> 0 | N84: 0.001 | O84: =ROUND(E84*N84,2) -> 0 | P84: 0 | Q84: =ROUND(E84*P84,2) -> 0 | S84: Vlastní | T84: Indiv | U84: 0 | V84: =ROUND(E84*U84,2) -> 0 | X84: Specifikace | Y84: Běžná | AG84: POL3_0
C85: 64*0,04 | E85: 2.56 | AG85: VV | AH85: 0
A86: 31 | B86: 184807111R00 | C86: Ochrana stromu bedněním - zřízení | D86: m2 | E86: 30 | G86: =ROUND(E86*F86,2) -> 0 | I86: =ROUND(E86*H86,2) -> 0 | K86: =ROUND(E86*J86,2) -> 0 | L86: 21 | M86: =G86*(1+L86/100) -> 0 | N86: 0.0094 | O86: =ROUND(E86*N86,2) -> 0.28 | P86: 0 | Q86: =ROUND(E86*P86,2) -> 0 | S86: Vlastní | T86: Indiv | U86: 0.864 | V86: =ROUND(E86*U86,2) -> 25.92 | X86: Práce | Y86: Běžná | AG86: POL1_1
C87: 5*1*1,5*4 | E87: 30 | AG87: VV | AH87: 0
A88: 32 | B88: 184807112R00 | C88: Ochrana stromu bedněním - odstranění | D88: m2 | E88: 30 | G88: =ROUND(E88*F88,2) -> 0 | I88: =ROUND(E88*H88,2) -> 0 | K88: =ROUND(E88*J88,2) -> 0 | L88: 21 | M88: =G88*(1+L88/100) -> 0 | N88: 0 | O88: =ROUND(E88*N88,2) -> 0 | P88: 0 | Q88: =ROUND(E88*P88,2) -> 0 | S88: Vlastní | T88: Indiv | U88: 0.371 | V88: =ROUND(E88*U88,2) -> 11.13 | X88: Práce | Y88: Běžná | AG88: POL1_1
A89: Díl: | B89: 11 | C89: Přípravné a přidružené práce | G89: =SUMIF(AG90:AG117,"<>NOR",G90:G117) -> 0 | I89: =SUM(I90:I117) -> 0 | K89: =SUM(K90:K117) -> 0 | M89: =SUM(M90:M117) -> 0 | O89: =SUM(O90:O117) -> 2.44 | Q89: =SUM(Q90:Q117) -> 76.67 | V89: =SUM(V90:V117) -> 53.3 | AG89: DIL
A90: 33 | B90: 113106231R00 | C90: Rozebrání dlažeb ze zámkové dlažby v kamenivu | D90: m2 | E90: 2 | G90: =ROUND(E90*F90,2) -> 0 | I90: =ROUND(E90*H90,2) -> 0 | K90: =ROUND(E90*J90,2) -> 0 | L90: 21 | M90: =G90*(1+L90/100) -> 0 | N90: 0.178 | O90: =ROUND(E90*N90,2) -> 0.36 | P90: 0.047 | Q90: =ROUND(E90*P90,2) -> 0.09 | S90: Vlastní | T90: Indiv | U90: 0.142 | V90: =ROUND(E90*U90,2) -> 0.28 | X90: Práce | Y90: Běžná | AG90: POL1_1
C91: zpevněná plocha : | AG91: VV | AH91: 0
C92: řad A21 : 2 | E92: 2 | AG92: VV | AH92: 0
A93: 34 | B93: 113106121R00 | C93: Rozebrání dlažeb z betonových dlaždic, na sucho | D93: m2 | E93: 6 | G93: =ROUND(E93*F93,2) -> 0 | I93: =ROUND(E93*H93,2) -> 0 | K93: =ROUND(E93*J93,2) -> 0 | L93: 21 | M93: =G93*(1+L93/100) -> 0 | N93: 0 | O93: =ROUND(E93*N93,2) -> 0 | P93: 0.138 | Q93: =ROUND(E93*P93,2) -> 0.83 | S93: Vlastní | T93: Indiv | U93: 0.16 | V93: =ROUND(E93*U93,2) -> 0.96 | X93: Práce | Y93: Běžná | AG93: POL1_1
C94: řad A21 : 6 | E94: 6 | AG94: VV | AH94: 0
A95: 35 | B95: 113107530R00 | C95: Odstranění podkladu plochy do 50 m2, kamenivo drcené tl. 300 mm | D95: m2 | E95: 17 | G95: =ROUND(E95*F95,2) -> 0 | I95: =ROUND(E95*H95,2) -> 0 | K95: =ROUND(E95*J95,2) -> 0 | L95: 21 | M95: =G95*(1+L95/100) -> 0 | N95: 0 | O95: =ROUND(E95*N95,2) -> 0 | P95: 0.66 | Q95: =ROUND(E95*P95,2) -> 11.22 | S95: Vlastní | T95: Indiv | U95: 1.053 | V95: =ROUND(E95*U95,2) -> 17.9 | X95: Práce | Y95: Běžná | AG95: POL1_1
C96: řad A21 : | AG96: VV | AH96: 0
C97: místní komunikace : 17 | E97: 17 | AG97: VV | AH97: 0
A98: 36 | B98: 113108410R00 | C98: Odstranění asfaltové vrstvy plochy nad 50 m2, tl. 100 mm | D98: m2 | E98: 217 | G98: =ROUND(E98*F98,2) -> 0 | I98: =ROUND(E98*H98,2) -> 0 | K98: =ROUND(E98*J98,2) -> 0 | L98: 21 | M98: =G98*(1+L98/100) -> 0 | N98: 0 | O98: =ROUND(E98*N98,2) -> 0 | P98: 0.22 | Q98: =ROUND(E98*P98,2) -> 47.74 | S98: Vlastní | T98: Indiv | U98: 0.07 | V98: =ROUND(E98*U98,2) -> 15.19 | X98: Práce | Y98: Běžná | AG98: POL1_1
C99: řad A21 : | AG99: VV | AH99: 0
C100: místní komunikace : 217 | E100: 217 | AG100: VV | AH100: 0
A101: 37 | B101: 113109310R00 | C101: Odstranění podkladu plochy do 50 m2, beton prostý tl. 100 mm | D101: m2 | E101: 17 | G101: =ROUND(E101*F101,2) -> 0 | I101: =ROUND(E101*H101,2) -> 0 | K101: =ROUND(E101*J101,2) -> 0 | L101: 21 | M101: =G101*(1+L101/100) -> 0 | N101: 0 | O101: =ROUND(E101*N101,2) -> 0 | P101: 0.24 | Q101: =ROUND(E101*P101,2) -> 4.08 | S101: Vlastní | T101: Indiv | U101: 0.80648 | V101: =ROUND(E101*U101,2) -> 13.71 | X101: Práce | Y101: Běžná | AG101: POL1_1
C102: řad A21 : | AG102: VV | AH102: 0
...

Sheet SO04 Řad A27
A1: Položkový soupis prací a dodávek | AG1: #TypZaznamu#
A2: S: | B2: 001 | C2: Uherský Brod, rekonstrukce I TP - ul.Na Dlouhých, 9.května, B.Smetany, Jiráskova | AG2: STA
A3: O: | B3: 01 | C3: Uherský Brod, rekonstrukce I TP -ul.Na Dlouhých, 9.května, B.Smetany, Jiráskova | AC3: STA | AG3: OBJ
A4: R: | B4: 04 | C4: SO04 Řad A27 | AG4: ROZ
A6: P.č. | B6: Číslo položky | C6: Název položky | D6: MJ | E6: Množství | F6: Cena / MJ | G6: Celkem | H6: Dodávka | I6: Dodávka celk. | J6: Montáž | K6: Montáž celk. | L6: DPH | M6: Cena s DPH | N6: Hmotnost / MJ | O6: Hmotnost celk.(t) | P6: Dem. hmotnost / MJ | Q6: Dem. hmotnost celk.(t) | R6: Ceník | S6: Cen. soustava / platnost | T6: Cenová úroveň | U6: Nhod / MJ | V6: Nhod celk. | W6: Dodavatel | X6: Typ položky | Y6: Stav položky
A8: Díl: | B8: 1 | C8: Zemní práce | G8: =SUMIF(AG9:AG95,"<>NOR",G9:G95) -> 0 | I8: =SUM(I9:I95) -> 0 | K8: =SUM(K9:K95) -> 0 | M8: =SUM(M9:M95) -> 0 | O8: =SUM(O9:O95) -> 23.13 | Q8: =SUM(Q9:Q95) -> 0 | V8: =SUM(V9:V95) -> 401.56 | AG8: DIL
A9: 1 | B9: 115101201R00 | C9: Čerpání vody na výšku do 10 m, přítok do 500 l/min | D9: h | E9: 30 | G9: =ROUND(E9*F9,2) -> 0 | I9: =ROUND(E9*H9,2) -> 0 | K9: =ROUND(E9*J9,2) -> 0 | L9: 21 | M9: =G9*(1+L9/100) -> 0 | N9: 0 | O9: =ROUND(E9*N9,2) -> 0 | P9: 0 | Q9: =ROUND(E9*P9,2) -> 0 | S9: Vlastní | T9: Indiv | U9: 0.203 | V9: =ROUND(E9*U9,2) -> 6.09 | X9: Práce | Y9: Běžná | AG9: POL1_1
A10: 2 | B10: 115101301 | C10: Pohotovost čerpací soupravy výš.10m přítok 500l | D10: den | E10: 10 | G10: =ROUND(E10*F10,2) -> 0 | I10: =ROUND(E10*H10,2) -> 0 | K10: =ROUND(E10*J10,2) -> 0 | L10: 21 | M10: =G10*(1+L10/100) -> 0 | N10: 0 | O10: =ROUND(E10*N10,2) -> 0 | P10: 0 | Q10: =ROUND(E10*P10,2) -> 0 | S10: Vlastní | T10: Indiv | U10: 0 | V10: =ROUND(E10*U10,2) -> 0 | X10: Práce | Y10: Běžná | AG10: POL1_1
A11: 3 | B11: 119001401R00 | C11: Dočasné zajištění ocelového potrubí do DN 200 | D11: m | E11: 7 | G11: =ROUND(E11*F11,2) -> 0 | I11: =ROUND(E11*H11,2) -> 0 | K11: =ROUND(E11*J11,2) -> 0 | L11: 21 | M11: =G11*(1+L11/100) -> 0 | N11: 0.00868 | O11: =ROUND(E11*N11,2) -> 0.06 | P11: 0 | Q11: =ROUND(E11*P11,2) -> 0 | S11: Vlastní | T11: Indiv | U11: 0.703 | V11: =ROUND(E11*U11,2) -> 4.92 | X11: Práce | Y11: Běžná | AG11: POL1_1
C12: řad A27 : 7 | E12: 7 | AG12: VV | AH12: 0
A13: 4 | B13: 121101102R00 | C13: Sejmutí ornice s přemístěním přes 50 do 100 m | D13: m3 | E13: 11.5 | G13: =ROUND(E13*F13,2) -> 0 | I13: =ROUND(E13*H13,2) -> 0 | K13: =ROUND(E13*J13,2) -> 0 | L13: 21 | M13: =G13*(1+L13/100) -> 0 | N13: 0 | O13: =ROUND(E13*N13,2) -> 0 | P13: 0 | Q13: =ROUND(E13*P13,2) -> 0 | S13: Vlastní | T13: Indiv | U13: 0.032 | V13: =ROUND(E13*U13,2) -> 0.37 | X13: Práce | Y13: Běžná | AG13: POL1_1
C14: řad A27 : | AG14: VV | AH14: 0
C15: zelená plocha : 115*0,1 | E15: 11.5 | AG15: VV | AH15: 0
A16: 5 | B16: 130001101R00 | C16: Příplatek za ztížené hloubení v blízkosti vedení | D16: m3 | E16: 3.3 | G16: =ROUND(E16*F16,2) -> 0 | I16: =ROUND(E16*H16,2) -> 0 | K16: =ROUND(E16*J16,2) -> 0 | L16: 21 | M16: =G16*(1+L16/100) -> 0 | N16: 0 | O16: =ROUND(E16*N16,2) -> 0 | P16: 0 | Q16: =ROUND(E16*P16,2) -> 0 | S16: Vlastní | T16: Indiv | U16: 1.763 | V16: =ROUND(E16*U16,2) -> 5.82 | X16: Práce | Y16: Běžná | AG16: POL1_1
C17: kanalizace : 1*1,1*1,5 | E17: 1.65 | AG17: VV | AH17: 0
C18: STL : 1*1,1*1,5 | E18: 1.65 | AG18: VV | AH18: 0
A19: 6 | B19: 132201110R00 | C19: Hloubení rýh š.do 60 cm v hor.3 do 50 m3, STROJNĚ | D19: m3 | E19: 1.3008 | G19: =ROUND(E19*F19,2) -> 0 | I19: =ROUND(E19*H19,2) -> 0 | K19: =ROUND(E19*J19,2) -> 0 | L19: 21 | M19: =G19*(1+L19/100) -> 0 | N19: 0 | O19: =ROUND(E19*N19,2) -> 0 | P19: 0 | Q19: =ROUND(E19*P19,2) -> 0 | S19: Vlastní | T19: Indiv | U19: 0.365 | V19: =ROUND(E19*U19,2) -> 0.47 | X19: Práce | Y19: Běžná | AG19: POL1_1
C20: řad A27- drenáž : (2,95+15,03+3,7)*0,3*0,2 | E20: 1.3 | AG20: VV | AH20: 0
A21: 7 | B21: 132201119R00 | C21: Přípl.za lepivost,hloubení rýh 60 cm,hor.3,STROJNĚ | D21: m3 | E21: 1.3008 | G21: =ROUND(E21*F21,2) -> 0 | I21: =ROUND(E21*H21,2) -> 0 | K21: =ROUND(E21*J21,2) -> 0 | L21: 21 | M21: =G21*(1+L21/100) -> 0 | N21: 0 | O21: =ROUND(E21*N21,2) -> 0 | P21: 0 | Q21: =ROUND(E21*P21,2) -> 0 | S21: Vlastní | T21: Indiv | U21: 0.3898 | V21: =ROUND(E21*U21,2) -> 0.51 | X21: Práce | Y21: Běžná | AG21: POL1_1
A22: 8 | B22: 132201210R00 | C22: Hloubení rýh šířky do 2000 mm v hor. 3, do 50 m3, STROJNĚ | D22: m3 | E22: 7.63532 | G22: =ROUND(E22*F22,2) -> 0 | I22: =ROUND(E22*H22,2) -> 0 | K22: =ROUND(E22*J22,2) -> 0 | L22: 21 | M22: =G22*(1+L22/100) -> 0 | N22: 0 | O22: =ROUND(E22*N22,2) -> 0 | P22: 0 | Q22: =ROUND(E22*P22,2) -> 0 | S22: Vlastní | T22: Indiv | U22: 0.365 | V22: =ROUND(E22*U22,2) -> 2.79 | X22: Práce | Y22: Běžná | AG22: POL1_1
C23: řad A27 : | AG23: VV | AH23: 0
C24: nezpevněný terén : 5,18*1,1*(1,44-0,1) | E24: 7.64 | AG24: VV | AH24: 0
A25: 9 | B25: 132201219R00 | C25: Přípl.za lepivost,hloubení rýh 200cm,hor.3,STROJNĚ | D25: m3 | E25: 7.63532 | G25: =ROUND(E25*F25,2) -> 0 | I25: =ROUND(E25*H25,2) -> 0 | K25: =ROUND(E25*J25,2) -> 0 | L25: 21 | M25: =G25*(1+L25/100) -> 0 | N25: 0 | O25: =ROUND(E25*N25,2) -> 0 | P25: 0 | Q25: =ROUND(E25*P25,2) -> 0 | S25: Vlastní | T25: Indiv | U25: 0.084 | V25: =ROUND(E25*U25,2) -> 0.64 | X25: Práce | Y25: Běžná | AG25: POL1_1
A26: 10 | B26: 131201201R00 | C26: Hloubení zapažených jam v hor.3 do 100 m3 | D26: m3 | E26: 22.05445 | G26: =ROUND(E26*F26,2) -> 0 | I26: =ROUND(E26*H26,2) -> 0 | K26: =ROUND(E26*J26,2) -> 0 | L26: 21 | M26: =G26*(1+L26/100) -> 0 | N26: 0 | O26: =ROUND(E26*N26,2) -> 0 | P26: 0 | Q26: =ROUND(E26*P26,2) -> 0 | S26: Vlastní | T26: Indiv | U26: 2.249 | V26: =ROUND(E26*U26,2) -> 49.6 | X26: Práce | Y26: Běžná | AG26: POL1_1
C27: řad A27 : | AG27: VV | AH27: 0
C28: nezpevněný terén : (1,34+1+1+1+0,96+1+1+2,55)*1,1*((1,7+1,62+1,52+1,58+1,62+1,44+1,43+1,53)/8-0,29) | E28: 13.71 | AG28: VV | AH28: 0
C29: dlažba : (1+0,7+1+1)*1,1*((1,4+1,56+1,44+1,43)/4-0,1) | E29: 5.53 | AG29: VV | AH29: 0
C30: asfalt : 2,95*1,1*(1,37-0,5) | E30: 2.82 | AG30: VV | AH30: 0
A31: 11 | B31: 131201209R00 | C31: Příplatek za lepivost - hloubení zapaž.jam v hor.3 | D31: m3 | E31: 22.05445 | G31: =ROUND(E31*F31,2) -> 0 | I31: =ROUND(E31*H31,2) -> 0 | K31: =ROUND(E31*J31,2) -> 0 | L31: 21 | M31: =G31*(1+L31/100) -> 0 | N31: 0 | O31: =ROUND(E31*N31,2) -> 0 | P31: 0 | Q31: =ROUND(E31*P31,2) -> 0 | S31: Vlastní | T31: Indiv | U31: 0.107 | V31: =ROUND(E31*U31,2) -> 2.36 | X31: Práce | Y31: Běžná | AG31: POL1_1
A32: 12 | B32: 139601102R00 | C32: Ruční výkop jam, rýh a šachet v hornině tř. 3 | D32: m3 | E32: 5.6 | G32: =ROUND(E32*F32,2) -> 0 | I32: =ROUND(E32*H32,2) -> 0 | K32: =ROUND(E32*J32,2) -> 0 | L32: 21 | M32: =G32*(1+L32/100) -> 0 | N32: 0 | O32: =ROUND(E32*N32,2) -> 0 | P32: 0 | Q32: =ROUND(E32*P32,2) -> 0 | S32: Vlastní | T32: Indiv | U32: 3.533 | V32: =ROUND(E32*U32,2) -> 19.78 | X32: Práce | Y32: Běžná | AG32: POL1_1
C33: kopaná sonda : | AG33: VV | AH33: 0
C34: řad A27 : 7*1*1*0,8 | E34: 5.6 | AG34: VV | AH34: 0
A35: 13 | B35: 141721101R00 | C35: Řízené protlačení a vtažení PE do d 110mm, hor.1-4 | D35: m | E35: 125.5 | G35: =ROUND(E35*F35,2) -> 0 | I35: =ROUND(E35*H35,2) -> 0 | K35: =ROUND(E35*J35,2) -> 0 | L35: 21 | M35: =G35*(1+L35/100) -> 0 | N35: 0.00348 | O35: =ROUND(E35*N35,2) -> 0.44 | P35: 0 | Q35: =ROUND(E35*P35,2) -> 0 | S35: Vlastní | T35: Indiv | U35: 1.70124 | V35: =ROUND(E35*U35,2) -> 213.51 | X35: Práce | Y35: Běžná | AG35: POL1_1
C36: řad A27 : 125,5 | E36: 125.5 | AG36: VV | AH36: 0
A37: 14 | B37: 151101101R00 | C37: Pažení a rozepření stěn rýh - příložné - hl.do 2 m | D37: m2 | E37: 45.9414 | G37: =ROUND(E37*F37,2) -> 0 | I37: =ROUND(E37*H37,2) -> 0 | K37: =ROUND(E37*J37,2) -> 0 | L37: 21 | M37: =G37*(1+L37/100) -> 0 | N37: 0.00099 | O37: =ROUND(E37*N37,2) -> 0.05 | P37: 0 | Q37: =ROUND(E37*P37,2) -> 0 | S37: Vlastní | T37: Indiv | U37: 0.236 | V37: =ROUND(E37*U37,2) -> 10.84 | X37: Práce | Y37: Běžná | AG37: POL1_1
C38: řad A27 : | AG38: VV | AH38: 0
C39: jáma : | AG39: VV | AH39: 0
C40: nezpevněný terén : 2,18*(1,44-0,1)*2 | E40: 5.84 | AG40: VV | AH40: 0
C41: rýhy : | AG41: VV | AH41: 0
C42: nezpevněný terén : (1,34+1+1+1+0,96+1+1+2,55)*((1,7+1,62+1,52+1,58+1,62+1,44+1,43+1,53)/8-0,29)*2 | E42: 24.92 | AG42: VV | AH42: 0
C43: dlažba : (1+0,7+1+1)*((1,4+1,56+1,44+1,43)/4-0,1)*2 | E43: 10.05 | AG43: VV | AH43: 0
C44: asfalt : 2,95*(1,37-0,5)*2 | E44: 5.13 | AG44: VV | AH44: 0
A45: 15 | B45: 151101111R00 | C45: Odstranění pažení stěn rýh - příložné - hl. do 2 m | D45: m2 | E45: 45.9414 | G45: =ROUND(E45*F45,2) -> 0 | I45: =ROUND(E45*H45,2) -> 0 | K45: =ROUND(E45*J45,2) -> 0 | L45: 21 | M45: =G45*(1+L45/100) -> 0 | N45: 0 | O45: =ROUND(E45*N45,2) -> 0 | P45: 0 | Q45: =ROUND(E45*P45,2) -> 0 | S45: Vlastní | T45: Indiv | U45: 0.07 | V45: =ROUND(E45*U45,2) -> 3.22 | X45: Práce | Y45: Běžná | AG45: POL1_1
A46: 16 | B46: 151811111R00 | C46: Montáž lehkého pažicího boxu dl.3m, š.1m, hl.1,6 m | D46: kus | E46: 1 | G46: =ROUND(E46*F46,2) -> 0 | I46: =ROUND(E46*H46,2) -> 0 | K46: =ROUND(E46*J46,2) -> 0 | L46: 21 | M46: =G46*(1+L46/100) -> 0 | N46: 0 | O46: =ROUND(E46*N46,2) -> 0 | P46: 0 | Q46: =ROUND(E46*P46,2) -> 0 | S46: Vlastní | T46: Indiv | U46: 0.9104 | V46: =ROUND(E46*U46,2) -> 0.91 | X46: Práce | Y46: Běžná | AG46: POL1_1
A47: 17 | B47: 151812111R00 | C47: Pronájem lehkého pažic.boxu dl.3m, š.1m, hl.1,6m | D47: den | E47: 5 | G47: =ROUND(E47*F47,2) -> 0 | I47: =ROUND(E47*H47,2) -> 0 | K47: =ROUND(E47*J47,2) -> 0 | L47: 21 | M47: =G47*(1+L47/100) -> 0 | N47: 0 | O47: =ROUND(E47*N47,2) -> 0 | P47: 0 | Q47: =ROUND(E47*P47,2) -> 0 | S47: Vlastní | T47: Indiv | U47: 0 | V47: =ROUND(E47*U47,2) -> 0 | X47: Práce | Y47: Běžná | AG47: POL1_1
C48: 5 dnů 1 box : 1*5 | E48: 5 | AG48: VV | AH48: 0
A49: 18 | B49: 151813111R00 | C49: Dmtž lehkého pažicího boxu dl.3m, š.1m, hl.1,6m | D49: kus | E49: 1 | G49: =ROUND(E49*F49,2) -> 0 | I49: =ROUND(E49*H49,2) -> 0 | K49: =ROUND(E49*J49,2) -> 0 | L49: 21 | M49: =G49*(1+L49/100) -> 0 | N49: 0 | O49: =ROUND(E49*N49,2) -> 0 | P49: 0 | Q49: =ROUND(E49*P49,2) -> 0 | S49: Vlastní | T49: Indiv | U49: 0.8944 | V49: =ROUND(E49*U49,2) -> 0.89 | X49: Práce | Y49: Běžná | AG49: POL1_1
A50: 19 | B50: 161101101R00 | C50: Svislé přemístění výkopku z hor.1-4 do 2,5 m | D50: m3 | E50: 36.59057 | G50: =ROUND(E50*F50,2) -> 0 | I50: =ROUND(E50*H50,2) -> 0 | K50: =ROUND(E50*J50,2) -> 0 | L50: 21 | M50: =G50*(1+L50/100) -> 0 | N50: 0 | O50: =ROUND(E50*N50,2) -> 0 | P50: 0 | Q50: =ROUND(E50*P50,2) -> 0 | S50: Vlastní | T50: Indiv | U50: 0.345 | V50: =ROUND(E50*U50,2) -> 12.62 | X50: Práce | Y50: Běžná | AG50: POL1_1
C51: 1,3008+7,63532+22,05445+5,6 | E51: 36.59 | AG51: VV | AH51: 0
A52: 20 | B52: 162301101R00 | C52: Vodorovné přemístění výkopku z hor.1-4 do 500 m | D52: m3 | E52: 56.91897 | G52: =ROUND(E52*F52,2) -> 0 | I52: =ROUND(E52*H52,2) -> 0 | K52: =ROUND(E52*J52,2) -> 0 | L52: 21 | M52: =G52*(1+L52/100) -> 0 | N52: 0 | O52: =ROUND(E52*N52,2) -> 0 | P52: 0 | Q52: =ROUND(E52*P52,2) -> 0 | S52: Vlastní | T52: Indiv | U52: 0.011 | V52: =ROUND(E52*U52,2) -> 0.63 | X52: Práce | Y52: Běžná | AG52: POL1_1
C53: odvoz zeminy na meziskládku : 36,59057 | E53: 36.59 | AG53: VV | AH53: 0
C54: dovoz zeminy pro zpětný zásyp : 20,3284 | E54: 20.33 | AG54: VV | AH54: 0
A55: 21 | B55: 162601102R00 | C55: Vodorovné přemístění výkopku z hor.1-4 do 5000 m | D55: m3 | E55: 16.26217 | G55: =ROUND(E55*F55,2) -> 0 | I55: =ROUND(E55*H55,2) -> 0 | K55: =ROUND(E55*J55,2) -> 0 | L55: 21 | M55: =G55*(1+L55/100) -> 0 | N55: 0 | O55: =ROUND(E55*N55,2) -> 0 | P55: 0 | Q55: =ROUND(E55*P55,2) -> 0 | S55: Vlastní | T55: Indiv | U55: 0.011 | V55: =ROUND(E55*U55,2) -> 0.18 | X55: Práce | Y55: Běžná | AG55: POL1_1
C56: výkop : 36,59057 | E56: 36.59 | AG56: VV | AH56: 0
C57: zpětný zásyp : -20,3284 | E57: -20.33 | AG57: VV | AH57: 0
A58: 22 | B58: 167101101R00 | C58: Nakládání výkopku z hor. 1 ÷ 4 v množství do 100 m3 | D58: m3 | E58: 20.3284 | G58: =ROUND(E58*F58,2) -> 0 | I58: =ROUND(E58*H58,2) -> 0 | K58: =ROUND(E58*J58,2) -> 0 | L58: 21 | M58: =G58*(1+L58/100) -> 0 | N58: 0 | O58: =ROUND(E58*N58,2) -> 0 | P58: 0 | Q58: =ROUND(E58*P58,2) -> 0 | S58: Vlastní | T58: Indiv | U58: 0.652 | V58: =ROUND(E58*U58,2) -> 13.25 | X58: Práce | Y58: Běžná | AG58: POL1_1
C59: zpětný zásyp : 20,3284 | E59: 20.33 | AG59: VV | AH59: 0
A60: 23 | B60: 171201201R00 | C60: Uložení sypaniny na skládku | D60: m3 | E60: 16.26217 | G60: =ROUND(E60*F60,2) -> 0 | I60: =ROUND(E60*H60,2) -> 0 | K60: =ROUND(E60*J60,2) -> 0 | L60: 21 | M60: =G60*(1+L60/100) -> 0 | N60: 0 | O60: =ROUND(E60*N60,2) -> 0 | P60: 0 | Q60: =ROUND(E60*P60,2) -> 0 | S60: Vlastní | T60: Indiv | U60: 0.009 | V60: =ROUND(E60*U60,2) -> 0.15 | X60: Práce | Y60: Běžná | AG60: POL1_1
A61: 24 | B61: 174101101R00 | C61: Zásyp jam, rýh, šachet se zhutněním | D61: m3 | E61: 25.75057 | G61: =ROUND(E61*F61,2) -> 0 | I61: =ROUND(E61*H61,2) -> 0 | K61: =ROUND(E61*J61,2) -> 0 | L61: 21 | M61: =G61*(1+L61/100) -> 0 | N61: 0 | O61: =ROUND(E61*N61,2) -> 0 | P61: 0 | Q61: =ROUND(E61*P61,2) -> 0 | S61: Vlastní | T61: Indiv | U61: 0.202 | V61: =ROUND(E61*U61,2) -> 5.2 | X61: Práce | Y61: Běžná | AG61: POL1_1
C62: řad A27 : | AG62: VV | AH62: 0
C63: kamenivo 0/32mm : | AG63: VV | AH63: 0
C64: asfalt : 2,95*1,1*(1,37-0,5-0,4) | E64: 1.53 | AG64: VV | AH64: 0
C65: dlažba : (1+0,7+1+1)*1,1*((1,4+1,56+1,44+1,43)/4-0,1-0,4) | E65: 3.9 | AG65: VV | AH65: 0
C66: Mezisoučet | AG66: VV | AH66: 1
C67: zemina : | AG67: VV | AH67: 0
C68: jámy : | AG68: VV | AH68: 0
C69: nezpevněný terén : 5,18*1,1*(1,44-0,1-0,4) | E69: 5.36 | AG69: VV | AH69: 0
C70: rýha : | AG70: VV | AH70: 0
C71: nezpevněný terén : (1,34+1+1+1+0,96+1+1+2,55)*1,1*((1,7+1,62+1,52+1,58+1,62+1,44+1,43+1,53)/8-0,29-0,4) | E71: 9.37 | AG71: VV | AH71: 0
C72: kopaná sonda : 7*1*1*0,8 | E72: 5.6 | AG72: VV | AH72: 0
C73: Mezisoučet | AG73: VV | AH73: 1
A74: 25 | B74: 175101101R00 | C74: Obsyp potrubí bez prohození sypaniny | D74: m3 | E74: 7.08685 | G74: =ROUND(E74*F74,2) -> 0 | I74: =ROUND(E74*H74,2) -> 0 | K74: =ROUND(E74*J74,2) -> 0 | L74: 21 | M74: =G74*(1+L74/100) -> 0 | N74: 0 | O74: =ROUND(E74*N74,2) -> 0 | P74: 0 | Q74: =ROUND(E74*P74,2) -> 0 | S74: Vlastní | T74: Indiv | U74: 1.587 | V74: =ROUND(E74*U74,2) -> 11.25 | X74: Práce | Y74: Běžná | AG74: POL1_1
C75: asfalt : 2,95*1,1*0,3-3,14*0,063/2*0,063/2*2,95 | E75: 0.96 | AG75: VV | AH75: 0
C76: dlažba : (1+0,7+1+1)*1,1*0,3-3,14*0,063/2*0,063/2*(1+0,7+1+1) | E76: 1.21 | AG76: VV | AH76: 0
C77: nezpevněný terén : (1,34+1+5,18+1+1+0,96+1+1+2,55)*1,1*0,3-3,14*0,063/2*0,063/2*(1,34+1+5,18+1+1+0,96+1+1+2,55) | E77: 4.91 | AG77: VV | AH77: 0
A78: 26 | B78: 180401211R00 | C78: Založení trávníku lučního výsevem v rovině | D78: m2 | E78: 115 | G78: =ROUND(E78*F78,2) -> 0 | I78: =ROUND(E78*H78,2) -> 0 | K78: =ROUND(E78*J78,2) -> 0 | L78: 21 | M78: =G78*(1+L78/100) -> 0 | N78: 0 | O78: =ROUND(E78*N78,2) -> 0 | P78: 0 | Q78: =ROUND(E78*P78,2) -> 0 | S78: Vlastní | T78: Indiv | U78: 0.021 | V78: =ROUND(E78*U78,2) -> 2.42 | X78: Práce | Y78: Běžná | AG78: POL1_1
A79: 27 | B79: 181201102R00 | C79: Úprava pláně v násypech v hor. 1-4, se zhutněním | D79: m2 | E79: 23.848 | G79: =ROUND(E79*F79,2) -> 0 | I79: =ROUND(E79*H79,2) -> 0 | K79: =ROUND(E79*J79,2) -> 0 | L79: 21 | M79: =G79*(1+L79/100) -> 0 | N79: 0 | O79: =ROUND(E79*N79,2) -> 0 | P79: 0 | Q79: =ROUND(E79*P79,2) -> 0 | S79: Vlastní | T79: Indiv | U79: 0.018 | V79: =ROUND(E79*U79,2) -> 0.43 | X79: Práce | Y79: Běžná | AG79: POL1_1
C80: zarovnání rýhy : | AG80: VV | AH80: 0
C81: asfalt : 2,95*1,1 | E81: 3.25 | AG81: VV | AH81: 0
C82: dlažba : (1+0,7+1+1)*1,1 | E82: 4.07 | AG82: VV | AH82: 0
C83: nezpevněný terén : (1,34+1+5,18+1+1+0,96+1+1+2,55)*1,1 | E83: 16.53 | AG83: VV | AH83: 0
A84: 28 | B84: 181301101R00 | C84: Rozprostření ornice, rovina, tl. do 10 cm do 500m2 | D84: m2 | E84: 115 | G84: =ROUND(E84*F84,2) -> 0 | I84: =ROUND(E84*H84,2) -> 0 | K84: =ROUND(E84*J84,2) -> 0 | L84: 21 | M84: =G84*(1+L84/100) -> 0 | N84: 0 | O84: =ROUND(E84*N84,2) -> 0 | P84: 0 | Q84: =ROUND(E84*P84,2) -> 0 | S84: Vlastní | T84: Indiv | U84: 0.13 | V84: =ROUND(E84*U84,2) -> 14.95 | X84: Práce | Y84: Běžná | AG84: POL1_1
C85: zelená plocha : 115 | E85: 115 | AG85: VV | AH85: 0
A86: 29 | B86: 182001111R00 | C86: Plošná úprava terénu, nerovnosti do 10 cm v rovině | D86: m2 | E86: 115 | G86: =ROUND(E86*F86,2) -> 0 | I86: =ROUND(E86*H86,2) -> 0 | K86: =ROUND(E86*J86,2) -> 0 | L86: 21 | M86: =G86*(1+L86/100) -> 0 | N86: 0 | O86: =ROUND(E86*N86,2) -> 0 | P86: 0 | Q86: =ROUND(E86*P86,2) -> 0 | S86: Vlastní | T86: Indiv | U86: 0.09 | V86: =ROUND(E86*U86,2) -> 10.35 | X86: Práce | Y86: Běžná | AG86: POL1_1
A87: 30 | B87: 583420401R | C87: Kamenivo drcené 0/4 mm | D87: t | E87: 12.75633 | G87: =ROUND(E87*F87,2) -> 0 | I87: =ROUND(E87*H87,2) -> 0 | K87: =ROUND(E87*J87,2) -> 0 | L87: 21 | M87: =G87*(1+L87/100) -> 0 | N87: 1 | O87: =ROUND(E87*N87,2) -> 12.76 | P87: 0 | Q87: =ROUND(E87*P87,2) -> 0 | S87: Vlastní | T87: Indiv | U87: 0 | V87: =ROUND(E87*U87,2) -> 0 | X87: Specifikace | Y87: Běžná | AG87: POL3_0
C88: obsyp potrubí : 7,08685*1,8 | E88: 12.76 | AG88: VV | AH88: 0
A89: 31 | B89: 58344169R | C89: Štěrkodrtě frakce 0/32 mm | D89: t | E89: 9.75992 | G89: =ROUND(E89*F89,2) -> 0 | I89: =ROUND(E89*H89,2) -> 0 | K89: =ROUND(E89*J89,2) -> 0 | L89: 21 | M89: =G89*(1+L89/100) -> 0 | N89: 1 | O89: =ROUND(E89*N89,2) -> 9.76 | P89: 0 | Q89: =ROUND(E89*P89,2) -> 0 | S89: Vlastní | T89: Indiv | U89: 0 | V89: =ROUND(E89*U89,2) -> 0 | X89: Specifikace | Y89: Běžná | AG89: POL3_0
C90: zásyp potrubí ve ZP : 5,42218*1,8 | E90: 9.76 | AG90: VV | AH90: 0
A91: 32 | B91: 00572470R | C91: Směs travní luční I. - krátkodobá PROFI, á 25 kg | D91: kg | E91: 4.6 | G91: =ROUND(E91*F91,2) -> 0 | I91: =ROUND(E91*H91,2) -> 0 | K91: =ROUND(E91*J91,2) -> 0 | L91: 21 | M91: =G91*(1+L91/100) -> 0 | N91: 0.001 | O91: =ROUND(E91*N91,2) -> 0 | P91: 0 | Q91: =ROUND(E91*P91,2) -> 0 | S91: Vlastní | T91: Indiv | U91: 0 | V91: =ROUND(E91*U91,2) -> 0 | X91: Specifikace | Y91: Běžná | AG91: POL3_0
C92: 115*0,04 | E92: 4.6 | AG92: VV | AH92: 0
A93: 33 | B93: 184807111R00 | C93: Ochrana stromu bedněním - zřízení | D93: m2 | E93: 6 | G93: =ROUND(E93*F93,2) -> 0 | I93: =ROUND(E93*H93,2) -> 0 | K93: =ROUND(E93*J93,2) -> 0 | L93: 21 | M93: =G93*(1+L93/100) -> 0 | N93: 0.0094 | O93: =ROUND(E93*N93,2) -> 0.06 | P93: 0 | Q93: =ROUND(E93*P93,2) -> 0 | S93: Vlastní | T93: Indiv | U93: 0.864 | V93: =ROUND(E93*U93,2) -> 5.18 | X93: Práce | Y93: Běžná | AG93: POL1_1
C94: 1*1*1,5*4 | E94: 6 | AG94: VV | AH94: 0
A95: 34 | B95: 184807112R00 | C95: Ochrana stromu bedněním - odstranění | D95: m2 | E95: 6 | G95: =ROUND(E95*F95,2) -> 0 | I95: =ROUND(E95*H95,2) -> 0 | K95: =ROUND(E95*J95,2) -> 0 | L95: 21 | M95: =G95*(1+L95/100) -> 0 | N95: 0 | O95: =ROUND(E95*N95,2) -> 0 | P95: 0 | Q95: =ROUND(E95*P95,2) -> 0 | S95: Vlastní | T95: Indiv | U95: 0.371 | V95: =ROUND(E95*U95,2) -> 2.23 | X95: Práce | Y95: Běžná | AG95: POL1_1
A96: Díl: | B96: 11 | C96: Přípravné a přidružené práce | G96: =SUMIF(AG97:AG119,"<>NOR",G97:G119) -> 0 | I96: =SUM(I97:I119) -> 0 | K96: =SUM(K97:K119) -> 0 | M96: =SUM(M97:M119) -> 0 | O96: =SUM(O97:O119) -> 3.87 | Q96: =SUM(Q97:Q119) -> 17.72 | V96: =SUM(V97:V119) -> 10.09 | AG96: DIL
A97: 35 | B97: 113106231R00 | C97: Rozebrání dlažeb ze zámkové dlažby v kamenivu | D97: m2 | E97: 7 | G97: =ROUND(E97*F97,2) -> 0 | I97: =ROUND(E97*H97,2) -> 0 | K97: =ROUND(E97*J97,2) -> 0 | L97: 21 | M97: =G97*(1+L97/100) -> 0 | N97: 0.178 | O97: =ROUND(E97*N97,2) -> 1.25 | P97: 0.047 | Q97: =ROUND(E97*P97,2) -> 0.33 | S97: Vlastní | T97: Indiv | U97: 0.142 | V97: =ROUND(E97*U97,2) -> 0.99 | X97: Práce | Y97: Běžná | AG97: POL1_1
C98: zpevněná plocha : | AG98: VV | AH98: 0
C99: řad A27 : 7 | E99: 7 | AG99: VV | AH99: 0
A100: 36 | B100: 113106121R00 | C100: Rozebrání dlažeb z betonových dlaždic, na sucho | D100: m2 | E100: 2 | G100: =ROUND(E100*F100,2) -> 0 | I100: =ROUND(E100*H100,2) -> 0 | K100: =ROUND(E100*J100,2) -> 0 | L100: 21 | M100: =G100*(1+L100/100) -> 0 | N100: 0 | O100: =ROUND(E100*N100,2) -> 0 | P100: 0.138 | Q100: =ROUND(E100*P100,2) -> 0.28 | S100: Vlastní | T100: Indiv | U100: 0.16 | V100: =ROUND(E100*U100,2) -> 0.32 | X100: Práce | Y100: Běžná | AG100: POL1_1
C101: řad A27 : 2 | E101: 2 | AG101: VV | AH101: 0
A102: 37 | B102: 113107520R00 | C102: Odstranění podkladu plochy do 50 m2, kamenivo drcené tl. 200 mm | D102: m2 | E102: 1 | G102: =ROUND(E102*F102,2) -> 0 | I102: =ROUND(E102*H102,2) -> 0 | K102: =ROUND(E102*J102,2) -> 0 | L102: 21 | M102: =G102*(1+L102/100) -> 0 | N102: 0 | O102: =ROUND(E102*N102,2) -> 0 | P102: 0.44 | Q102: =ROUND(E102*P102,2) -> 0.44 | S102: Vlastní | T102: Indiv | U102: 0.632 | V102: =ROUND(E102*U102,2) -> 0.63 | X102: Práce | Y102: Běžná | AG102: POL1_1
...
