Workbook
Name CelkemDPHVypocet: Stavba!$H$47
Name CenaCelkem: Stavba!$G$29
Name CenaCelkemBezDPH: Stavba!$G$28
Name CenaCelkemVypocet: Stavba!$I$47
Name cisloobjektu: Stavba!$D$3
Name CisloRozpoctu: '[1]Krycí list'!$C$2
Name CisloStavby: Stavba!$D$2
Name cislostavby: '[1]Krycí list'!$A$7
Name CisloStavebnihoRozpoctu: Stavba!$D$4
Name dadresa: Stavba!$D$12:$G$12
Name DIČ: Stavba!$I$12
Name dmisto: Stavba!$E$13:$G$13
Name DPHSni: Stavba!$G$24
Name DPHZakl: Stavba!$G$26
Name dpsc: Stavba!$D$13
Name IČO: Stavba!$I$11
Name Mena: Stavba!$J$29
Name MistoStavby: Stavba!$D$4
Name nazevobjektu: Stavba!$E$3
Name NazevRozpoctu: '[1]Krycí list'!$D$2
Name NazevStavby: Stavba!$E$2
Name nazevstavby: '[1]Krycí list'!$C$7
Name NazevStavebnihoRozpoctu: Stavba!$E$4
Name oadresa: Stavba!$D$6
Name Objednatel: Stavba!$D$5
Name Objekt: Stavba!$B$38
Name odic: Stavba!$I$6
Name oico: Stavba!$I$5
Name omisto: Stavba!$E$7
Name onazev: Stavba!$D$6
Name opsc: Stavba!$D$7
Name padresa: Stavba!$D$9
Name pdic: Stavba!$I$9
Name pico: Stavba!$I$8
Name pmisto: Stavba!$E$10
Name PocetMJ: #REF!
Name PoptavkaID: Stavba!$A$1
Name pPSC: Stavba!$D$10
Name Projektant: Stavba!$D$8
Name SazbaDPH1: Stavba!$E$23
Name SazbaDPH1: '[1]Krycí list'!$C$30
Name SazbaDPH2: Stavba!$E$25
Name SazbaDPH2: '[1]Krycí list'!$C$32
Name SloupecCC: #REF!
Name SloupecCisloPol: #REF!
Name SloupecJC: #REF!
Name SloupecMJ: #REF!
Name SloupecMnozstvi: #REF!
Name SloupecNazPol: #REF!
Name SloupecPC: #REF!
Name Vypracoval: Stavba!$D$14
Name ZakladDPHSni: Stavba!$G$23
Name ZakladDPHSniVypocet: Stavba!$F$47
Name ZakladDPHZakl: Stavba!$G$25
Name ZakladDPHZaklVypocet: Stavba!$G$47
Name ZaObjednatele: Stavba!$G$34
Name Zaokrouhleni: Stavba!$G$27
Name ZaZhotovitele: Stavba!$D$34
Name Zhotovitel: Stavba!$D$11:$G$11

Sheet Pokyny pro vyplnění
A1: Pokyny pro vyplnění
A2: Ve všech listech tohoto souboru můžete měnit pouze buňky s modrým pozadím. Jedná se o tyto údaje : - údaje o firmě - jednotkové ceny položek zadané na maximálně dvě desetinná místa

Sheet Stavba
A1: #RTSROZP# | B1: Soupis stavebních prací, dodávek a služeb
B2: Stavba: | D2: 001 | E2: Uherský Brod, rekonstrukce I TP - ul.Na Dlouhých, 9.května, B.Smetany, Jiráskova
B5: Zadavatel | D5: Slovácké vodárny a kanalizace, a.s. | H5: IČO: | I5: 49453866
D6: Za Olšávkou 290 | H6: DIČ: | I6: CZ49453866
D7: 68601 | E7: Uherské Hradiště - Sady
B8: Projektant: | H8: IČO:
H9: DIČ:
B11: Zhotovitel: | H11: IČO:
H12: DIČ:
B14: Vypracoval:
B15: Rozpis ceny | I15: Celkem
A16: HSV | B16: HSV | I16: =SUMIF(F61:F79,A16,I61:I79)+SUMIF(F61:F79,"PSU",I61:I79) -> 0
A17: PSV | B17: PSV | I17: =SUMIF(F61:F79,A17,I61:I79) -> 0
A18: MON | B18: MON | I18: =SUMIF(F61:F79,A18,I61:I79) -> 0
A19: VN | B19: Vedlejší náklady | I19: =SUMIF(F61:F79,A19,I61:I79) -> 0
A20: ON | B20: Ostatní náklady | I20: =SUMIF(F61:F79,A20,I61:I79) -> 0
B21: Celkem | I21: =SUM(I16:J20) -> 0
B22: Rekapitulace daní
B23: Základ pro sníženou DPH | E23: 12 | F23: % | G23: =ZakladDPHSniVypocet -> 0 | J23: =Mena -> CZK
B24: Snížená DPH | E24: =SazbaDPH1 -> 12 | F24: % | G24: =I23*E23/100 -> 0 | J24: =Mena -> CZK
B25: Základ pro základní DPH | E25: 21 | F25: % | G25: =ZakladDPHZaklVypocet -> 0 | J25: =Mena -> CZK
B26: Základní DPH | E26: =SazbaDPH2 -> 21 | F26: % | G26: =I25*E25/100 -> 0 | J26: =Mena -> CZK
A27: =ZakladDPHSni+ZakladDPHZakl -> 0 | B27: Zaokrouhlení | G27: =CenaCelkemBezDPH-(ZakladDPHSni+ZakladDPHZakl) -> 0 | J27: =Mena -> CZK
A28: =(A27-INT(A27))*100 -> 0 | B28: Cena celkem bez DPH | G28: =A27 -> 0 | J28: =Mena -> CZK
B29: Cena celkem s DPH | G29: =ZakladDPHSni+DPHSni+ZakladDPHZakl+DPHZakl+Zaokrouhleni -> 0 | J29: CZK
C32: v | F32: dne
D35: Za zhotovitele | H35: Za objednatele
B37: Rekapitulace dílčích částí
A38: #CASTI>> | B38: Číslo | C38: Název | F38: =B23 -> Základ pro sníženou DPH | G38: =B25 -> Základ pro základní DPH | H38: DPH celkem | I38: Cena celkem | J38: %
A39: 1 | B39: Stavba | F39: ='00 VRN'!AE40+'SO01 Řad A31'!AE380+'SO02 Řad A30,A12, A28'!AE600+'SO03 Řad A21'!AE329+'SO04 Řad A27'!AE314 -> 0 | G39: ='00 VRN'!AF40+'SO01 Řad A31'!AF380+'SO02 Řad A30,A12, A28'!AF600+'SO03 Řad A21'!AF329+'SO04 Řad A27'!AF314 -> 0 | I39: =F39+G39+H39 -> 0 | J39: =IF(CenaCelkemVypocet=0,"",I39/CenaCelkemVypocet*100)
A40: 2 | C40: Stavební objekt
A41: 2 | B41: 01 | C41: Uherský Brod, rekonstrukce I TP -ul.Na Dlouhých, 9.května, B.Smetany, Jiráskova | F41: ='00 VRN'!AE40+'SO01 Řad A31'!AE380+'SO02 Řad A30,A12, A28'!AE600+'SO03 Řad A21'!AE329+'SO04 Řad A27'!AE314 -> 0 | G41: ='00 VRN'!AF40+'SO01 Řad A31'!AF380+'SO02 Řad A30,A12, A28'!AF600+'SO03 Řad A21'!AF329+'SO04 Řad A27'!AF314 -> 0 | I41: =F41+G41+H41 -> 0 | J41: =IF(CenaCelkemVypocet=0,"",I41/CenaCelkemVypocet*100)
A42: 3 | B42: 00 | C42: 00 Vedlejší a ostatní náklady | F42: ='00 VRN'!AE40 -> 0 | G42: ='00 VRN'!AF40 -> 0 | I42: =F42+G42+H42 -> 0 | J42: =IF(CenaCelkemVypocet=0,"",I42/CenaCelkemVypocet*100)
A43: 3 | B43: 01 | C43: SO01 Řad A31 | F43: ='SO01 Řad A31'!AE380 -> 0 | G43: ='SO01 Řad A31'!AF380 -> 0 | I43: =F43+G43+H43 -> 0 | J43: =IF(CenaCelkemVypocet=0,"",I43/CenaCelkemVypocet*100)
A44: 3 | B44: 02 | C44: SO02 Řad A30, A12, A28 | F44: ='SO02 Řad A30,A12, A28'!AE600 -> 0 | G44: ='SO02 Řad A30,A12, A28'!AF600 -> 0 | I44: =F44+G44+H44 -> 0 | J44: =IF(CenaCelkemVypocet=0,"",I44/CenaCelkemVypocet*100)
A45: 3 | B45: 03 | C45: SO03 Řad A21 | F45: ='SO03 Řad A21'!AE329 -> 0 | G45: ='SO03 Řad A21'!AF329 -> 0 | I45: =F45+G45+H45 -> 0 | J45: =IF(CenaCelkemVypocet=0,"",I45/CenaCelkemVypocet*100)
A46: 3 | B46: 04 | C46: SO04 Řad A27 | F46: ='SO04 Řad A27'!AE314 -> 0 | G46: ='SO04 Řad A27'!AF314 -> 0 | I46: =F46+G46+H46 -> 0 | J46: =IF(CenaCelkemVypocet=0,"",I46/CenaCelkemVypocet*100)
B47: Celkem za stavbu | F47: =SUMIF(A39:A46,"=1",F39:F46) -> 0 | G47: =SUMIF(A39:A46,"=1",G39:G46) -> 0 | H47: =SUMIF(A39:A46,"=1",H39:H46) -> 0 | I47: =SUMIF(A39:A46,"=1",I39:I46) -> 0 | J47: =SUMIF(A39:A46,"=1",J39:J46) -> 0
A49: #POPS | B49: Popis stavby: 001 - Uherský Brod, rekonstrukce I TP - ul.Na Dlouhých, 9.května, B.Smetany, Jiráskova
A50: #POPO | B50: Popis objektu: 01 - Uherský Brod, rekonstrukce I TP -ul.Na Dlouhých, 9.května, B.Smetany, Jiráskova
...

Sheet VzorPolozky
A1: Položkový rozpočet
A2: S:
A3: O:
A4: R:

Sheet 00 VRN
A1: Položkový soupis prací a dodávek | AG1: #TypZaznamu#
A2: S: | B2: 001 | C2: Uherský Brod, rekonstrukce I TP - ul.Na Dlouhých, 9.května, B.Smetany, Jiráskova | AG2: STA
A3: O: | B3: 01 | C3: Uherský Brod, rekonstrukce I TP -ul.Na Dlouhých, 9.května, B.Smetany, Jiráskova | AC3: STA | AG3: OBJ
A4: R: | B4: 00 | C4: 00 Vedlejší a ostatní náklady | AG4: ROZ
A6: P.č. | B6: Číslo položky | C6: Název položky | D6: MJ | E6: Množství | F6: Cena / MJ | G6: Celkem | H6: Dodávka | I6: Dodávka celk. | J6: Montáž | K6: Montáž celk. | L6: DPH | M6: Cena s DPH | N6: Hmotnost / MJ | O6: Hmotnost celk.(t) | P6: Dem. hmotnost / MJ | Q6: Dem. hmotnost celk.(t) | R6: Ceník | S6: Cen. soustava / platnost | T6: Cenová úroveň | U6: Nhod / MJ | V6: Nhod celk. | W6: Dodavatel | X6: Typ položky | Y6: Stav položky
A8: Díl: | B8: VN | C8: Vedlejší náklady | G8: =SUMIF(AG9:AG19,"<>NOR",G9:G19) -> 0 | I8: =SUM(I9:I19) -> 0 | K8: =SUM(K9:K19) -> 0 | M8: =SUM(M9:M19) -> 0 | O8: =SUM(O9:O19) -> 0 | Q8: =SUM(Q9:Q19) -> 0 | V8: =SUM(V9:V19) -> 0 | AG8: DIL
A9: 1 | B9: 005111021R | C9: Vytyčení inženýrských sítí | D9: Soubor | E9: 1 | G9: =ROUND(E9*F9,2) -> 0 | I9: =ROUND(E9*H9,2) -> 0 | K9: =ROUND(E9*J9,2) -> 0 | L9: 21 | M9: =G9*(1+L9/100) -> 0 | N9: 0 | O9: =ROUND(E9*N9,2) -> 0 | P9: 0 | Q9: =ROUND(E9*P9,2) -> 0 | S9: Vlastní | T9: Indiv | U9: 0 | V9: =ROUND(E9*U9,2) -> 0 | X9: Práce | Y9: Běžná | AG9: POL1_1
A10: 2 | B10: 005111020R | C10: Vytyčení vodovodu | D10: Soubor | E10: 1 | G10: =ROUND(E10*F10,2) -> 0 | I10: =ROUND(E10*H10,2) -> 0 | K10: =ROUND(E10*J10,2) -> 0 | L10: 21 | M10: =G10*(1+L10/100) -> 0 | N10: 0 | O10: =ROUND(E10*N10,2) -> 0 | P10: 0 | Q10: =ROUND(E10*P10,2) -> 0 | S10: Vlastní | T10: Indiv | U10: 0 | V10: =ROUND(E10*U10,2) -> 0 | X10: Práce | Y10: Běžná | AG10: POL1_1
A11: 3 | B11: 005121010R | C11: Vybudování zařízení staveniště | D11: Soubor | E11: 1 | G11: =ROUND(E11*F11,2) -> 0 | I11: =ROUND(E11*H11,2) -> 0 | K11: =ROUND(E11*J11,2) -> 0 | L11: 21 | M11: =G11*(1+L11/100) -> 0 | N11: 0 | O11: =ROUND(E11*N11,2) -> 0 | P11: 0 | Q11: =ROUND(E11*P11,2) -> 0 | S11: Vlastní | T11: Indiv | U11: 0 | V11: =ROUND(E11*U11,2) -> 0 | X11: Práce | Y11: Běžná | AG11: POL1_1
A12: 4 | B12: 005121020R | C12: Provoz zařízení staveniště | D12: Soubor | E12: 1 | G12: =ROUND(E12*F12,2) -> 0 | I12: =ROUND(E12*H12,2) -> 0 | K12: =ROUND(E12*J12,2) -> 0 | L12: 21 | M12: =G12*(1+L12/100) -> 0 | N12: 0 | O12: =ROUND(E12*N12,2) -> 0 | P12: 0 | Q12: =ROUND(E12*P12,2) -> 0 | S12: Vlastní | T12: Indiv | U12: 0 | V12: =ROUND(E12*U12,2) -> 0 | X12: Práce | Y12: Běžná | AG12: POL1_1
A13: 5 | B13: 005121030R | C13: Odstranění zařízení staveniště | D13: Soubor | E13: 1 | G13: =ROUND(E13*F13,2) -> 0 | I13: =ROUND(E13*H13,2) -> 0 | K13: =ROUND(E13*J13,2) -> 0 | L13: 21 | M13: =G13*(1+L13/100) -> 0 | N13: 0 | O13: =ROUND(E13*N13,2) -> 0 | P13: 0 | Q13: =ROUND(E13*P13,2) -> 0 | S13: Vlastní | T13: Indiv | U13: 0 | V13: =ROUND(E13*U13,2) -> 0 | X13: Práce | Y13: Běžná | AG13: POL1_1
A14: 6 | B14: 005124010R | C14: Koordinační činnost | D14: Soubor | E14: 1 | G14: =ROUND(E14*F14,2) -> 0 | I14: =ROUND(E14*H14,2) -> 0 | K14: =ROUND(E14*J14,2) -> 0 | L14: 21 | M14: =G14*(1+L14/100) -> 0 | N14: 0 | O14: =ROUND(E14*N14,2) -> 0 | P14: 0 | Q14: =ROUND(E14*P14,2) -> 0 | S14: Vlastní | T14: Indiv | U14: 0 | V14: =ROUND(E14*U14,2) -> 0 | X14: Práce | Y14: Běžná | AG14: POL1_1
A15: 7 | B15: 005211020R | C15: Ochrana stávaj. inženýrských sítí na staveništi | D15: Soubor | E15: 1 | G15: =ROUND(E15*F15,2) -> 0 | I15: =ROUND(E15*H15,2) -> 0 | K15: =ROUND(E15*J15,2) -> 0 | L15: 21 | M15: =G15*(1+L15/100) -> 0 | N15: 0 | O15: =ROUND(E15*N15,2) -> 0 | P15: 0 | Q15: =ROUND(E15*P15,2) -> 0 | S15: Vlastní | T15: Indiv | U15: 0 | V15: =ROUND(E15*U15,2) -> 0 | X15: Práce | Y15: Běžná | AG15: POL1_1
A16: 8 | B16: 005211030R | C16: Dočasná dopravní opatření | D16: Soubor | E16: 1 | G16: =ROUND(E16*F16,2) -> 0 | I16: =ROUND(E16*H16,2) -> 0 | K16: =ROUND(E16*J16,2) -> 0 | L16: 21 | M16: =G16*(1+L16/100) -> 0 | N16: 0 | O16: =ROUND(E16*N16,2) -> 0 | P16: 0 | Q16: =ROUND(E16*P16,2) -> 0 | S16: Vlastní | T16: Indiv | U16: 0 | V16: =ROUND(E16*U16,2) -> 0 | X16: Práce | Y16: Běžná | AG16: POL1_1
A17: 9 | B17: 005211040R | C17: Užívání veřejných ploch a prostranství, uvedení ploch do původního stavu | D17: Soubor | E17: 1 | G17: =ROUND(E17*F17,2) -> 0 | I17: =ROUND(E17*H17,2) -> 0 | K17: =ROUND(E17*J17,2) -> 0 | L17: 21 | M17: =G17*(1+L17/100) -> 0 | N17: 0 | O17: =ROUND(E17*N17,2) -> 0 | P17: 0 | Q17: =ROUND(E17*P17,2) -> 0 | S17: Vlastní | T17: Indiv | U17: 0 | V17: =ROUND(E17*U17,2) -> 0 | X17: Práce | Y17: Běžná | AG17: POL1_1
A18: 10 | B18: VN02 | C18: Průběžné čistění vozidel a komunikace, při výjezdu ze stavby | D18: kompl | E18: 1 | G18: =ROUND(E18*F18,2) -> 0 | I18: =ROUND(E18*H18,2) -> 0 | K18: =ROUND(E18*J18,2) -> 0 | L18: 21 | M18: =G18*(1+L18/100) -> 0 | N18: 0 | O18: =ROUND(E18*N18,2) -> 0 | P18: 0 | Q18: =ROUND(E18*P18,2) -> 0 | S18: Vlastní | T18: Indiv | U18: 0 | V18: =ROUND(E18*U18,2) -> 0 | X18: Práce | Y18: Běžná | AG18: POL1_1
A19: 11 | B19: 005211080R | C19: Bezpečnostní a hygienická opatření na staveništi | D19: Soubor | E19: 1 | G19: =ROUND(E19*F19,2) -> 0 | I19: =ROUND(E19*H19,2) -> 0 | K19: =ROUND(E19*J19,2) -> 0 | L19: 21 | M19: =G19*(1+L19/100) -> 0 | N19: 0 | O19: =ROUND(E19*N19,2) -> 0 | P19: 0 | Q19: =ROUND(E19*P19,2) -> 0 | S19: Vlastní | T19: Indiv | U19: 0 | V19: =ROUND(E19*U19,2) -> 0 | X19: Práce | Y19: Běžná | AG19: POL1_1
A20: Díl: | B20: ON | C20: Ostatní náklady | G20: =SUMIF(AG21:AG38,"<>NOR",G21:G38) -> 0 | I20: =SUM(I21:I38) -> 0 | K20: =SUM(K21:K38) -> 0 | M20: =SUM(M21:M38) -> 0 | O20: =SUM(O21:O38) -> 0 | Q20: =SUM(Q21:Q38) -> 0 | V20: =SUM(V21:V38) -> 0 | AG20: DIL
A21: 12 | B21: 005241010R | C21: Dokumentace skutečného provedení | D21: Soubor | E21: 1 | G21: =ROUND(E21*F21,2) -> 0 | I21: =ROUND(E21*H21,2) -> 0 | K21: =ROUND(E21*J21,2) -> 0 | L21: 21 | M21: =G21*(1+L21/100) -> 0 | N21: 0 | O21: =ROUND(E21*N21,2) -> 0 | P21: 0 | Q21: =ROUND(E21*P21,2) -> 0 | S21: Vlastní | T21: Indiv | U21: 0 | V21: =ROUND(E21*U21,2) -> 0 | X21: Práce | Y21: Běžná | AG21: POL1_1
A22: 13 | B22: 005241020R | C22: Geodetické zaměření skutečného provedení | D22: Soubor | E22: 1 | G22: =ROUND(E22*F22,2) -> 0 | I22: =ROUND(E22*H22,2) -> 0 | K22: =ROUND(E22*J22,2) -> 0 | L22: 21 | M22: =G22*(1+L22/100) -> 0 | N22: 0 | O22: =ROUND(E22*N22,2) -> 0 | P22: 0 | Q22: =ROUND(E22*P22,2) -> 0 | S22: Vlastní | T22: Indiv | U22: 0 | V22: =ROUND(E22*U22,2) -> 0 | X22: Práce | Y22: Běžná | AG22: POL1_1
A23: 14 | B23: ON01 | C23: Statická zatěžovací zkouška | D23: kus | E23: 6 | G23: =ROUND(E23*F23,2) -> 0 | I23: =ROUND(E23*H23,2) -> 0 | K23: =ROUND(E23*J23,2) -> 0 | L23: 21 | M23: =G23*(1+L23/100) -> 0 | N23: 0 | O23: =ROUND(E23*N23,2) -> 0 | P23: 0 | Q23: =ROUND(E23*P23,2) -> 0 | S23: Vlastní | T23: Indiv | U23: 0 | V23: =ROUND(E23*U23,2) -> 0 | X23: Práce | Y23: Běžná | AG23: POL1_1
C24: SO01-řad A31 : 2 | E24: 2 | AG24: VV | AH24: 0
C25: SO02-řad A30+A12+A28 : 1 | E25: 1 | AG25: VV | AH25: 0
C26: SO03-řad A21 : 2 | E26: 2 | AG26: VV | AH26: 0
C27: SO04-řad A27 : 1 | E27: 1 | AG27: VV | AH27: 0
A28: 15 | B28: 00523101 | C28: Zkouška funkčnosti signalizačního vodiče | D28: m | E28: 795 | G28: =ROUND(E28*F28,2) -> 0 | I28: =ROUND(E28*H28,2) -> 0 | K28: =ROUND(E28*J28,2) -> 0 | L28: 21 | M28: =G28*(1+L28/100) -> 0 | N28: 0 | O28: =ROUND(E28*N28,2) -> 0 | P28: 0 | Q28: =ROUND(E28*P28,2) -> 0 | S28: Vlastní | T28: Indiv | U28: 0 | V28: =ROUND(E28*U28,2) -> 0 | X28: Práce | Y28: Běžná | AG28: POL1_1
C29: SO01-řad A31 : 263 | E29: 263 | AG29: VV | AH29: 0
C30: SO02-řad A30+A12+A28 : 80+4+168 | E30: 252 | AG30: VV | AH30: 0
C31: SO03-řad A21 : 132 | E31: 132 | AG31: VV | AH31: 0
C32: SO04-řad A27 : 148 | E32: 148 | AG32: VV | AH32: 0
A33: 16 | B33: VN04 | C33: Hygienický rozbor vzorku pitné vody | D33: kompl | E33: 5 | G33: =ROUND(E33*F33,2) -> 0 | I33: =ROUND(E33*H33,2) -> 0 | K33: =ROUND(E33*J33,2) -> 0 | L33: 21 | M33: =G33*(1+L33/100) -> 0 | N33: 0 | O33: =ROUND(E33*N33,2) -> 0 | P33: 0 | Q33: =ROUND(E33*P33,2) -> 0 | S33: Vlastní | T33: Indiv | U33: 0 | V33: =ROUND(E33*U33,2) -> 0 | X33: Práce | Y33: Běžná | AG33: POL1_1
C34: SO01-řad A31 : 1 | E34: 1 | AG34: VV | AH34: 0
C35: SO02-řad A30+A12+A28 : 2 | E35: 2 | AG35: VV | AH35: 0
C36: SO03-řad A21 : 1 | E36: 1 | AG36: VV | AH36: 0
C37: SO04-řad A27 : 1 | E37: 1 | AG37: VV | AH37: 0
A38: 17 | B38: VN03 | C38: Pasportizace stávajících objektů | D38: kompl | E38: 1 | G38: =ROUND(E38*F38,2) -> 0 | I38: =ROUND(E38*H38,2) -> 0 | K38: =ROUND(E38*J38,2) -> 0 | L38: 21 | M38: =G38*(1+L38/100) -> 0 | N38: 0 | O38: =ROUND(E38*N38,2) -> 0 | P38: 0 | Q38: =ROUND(E38*P38,2) -> 0 | S38: Vlastní | T38: Indiv | U38: 0 | V38: =ROUND(E38*U38,2) -> 0 | X38: Práce | Y38: Běžná | AG38: POL1_1
AE39: 12 | AF39: 21 | AG39: DPH
B40: Celkem | G40: =G8+G20 -> 0 | AE40: =SUMIF(L7:L38,AE39,G7:G38) -> 0 | AF40: =SUMIF(L7:L38,AF39,G7:G38) -> 0 | AG40: SUM
AG41: END

Sheet SO01 Řad A31
A1: Položkový soupis prací a dodávek | AG1: #TypZaznamu#
A2: S: | B2: 001 | C2: Uherský Brod, rekonstrukce I TP - ul.Na Dlouhých, 9.května, B.Smetany, Jiráskova | AG2: STA
A3: O: | B3: 01 | C3: Uherský Brod, rekonstrukce I TP -ul.Na Dlouhých, 9.května, B.Smetany, Jiráskova | AC3: STA | AG3: OBJ
A4: R: | B4: 01 | C4: SO01 Řad A31 | AG4: ROZ
A6: P.č. | B6: Číslo položky | C6: Název položky | D6: MJ | E6: Množství | F6: Cena / MJ | G6: Celkem | H6: Dodávka | I6: Dodávka celk. | J6: Montáž | K6: Montáž celk. | L6: DPH | M6: Cena s DPH | N6: Hmotnost / MJ | O6: Hmotnost celk.(t) | P6: Dem. hmotnost / MJ | Q6: Dem. hmotnost celk.(t) | R6: Ceník | S6: Cen. soustava / platnost | T6: Cenová úroveň | U6: Nhod / MJ | V6: Nhod celk. | W6: Dodavatel | X6: Typ položky | Y6: Stav položky
A8: Díl: | B8: 1 | C8: Zemní práce | G8: =SUMIF(AG9:AG97,"<>NOR",G9:G97) -> 0 | I8: =SUM(I9:I97) -> 0 | K8: =SUM(K9:K97) -> 0 | M8: =SUM(M9:M97) -> 0 | O8: =SUM(O9:O97) -> 125.31 | Q8: =SUM(Q9:Q97) -> 0 | V8: =SUM(V9:V97) -> 695.4 | AG8: DIL
A9: 1 | B9: 115101201R00 | C9: Čerpání vody na výšku do 10 m, přítok do 500 l/min | D9: h | E9: 60 | G9: =ROUND(E9*F9,2) -> 0 | I9: =ROUND(E9*H9,2) -> 0 | K9: =ROUND(E9*J9,2) -> 0 | L9: 21 | M9: =G9*(1+L9/100) -> 0 | N9: 0 | O9: =ROUND(E9*N9,2) -> 0 | P9: 0 | Q9: =ROUND(E9*P9,2) -> 0 | S9: Vlastní | T9: Indiv | U9: 0.203 | V9: =ROUND(E9*U9,2) -> 12.18 | X9: Práce | Y9: Běžná | AG9: POL1_1
A10: 2 | B10: 115101301 | C10: Pohotovost čerpací soupravy výš.10m přítok 500l | D10: den | E10: 20 | G10: =ROUND(E10*F10,2) -> 0 | I10: =ROUND(E10*H10,2) -> 0 | K10: =ROUND(E10*J10,2) -> 0 | L10: 21 | M10: =G10*(1+L10/100) -> 0 | N10: 0 | O10: =ROUND(E10*N10,2) -> 0 | P10: 0 | Q10: =ROUND(E10*P10,2) -> 0 | S10: Vlastní | T10: Indiv | U10: 0 | V10: =ROUND(E10*U10,2) -> 0 | X10: Práce | Y10: Běžná | AG10: POL1_1
A11: 3 | B11: 119001421R00 | C11: Dočasné zajištění kabelů - do počtu 3 kabelů | D11: m | E11: 4 | G11: =ROUND(E11*F11,2) -> 0 | I11: =ROUND(E11*H11,2) -> 0 | K11: =ROUND(E11*J11,2) -> 0 | L11: 21 | M11: =G11*(1+L11/100) -> 0 | N11: 0.02478 | O11: =ROUND(E11*N11,2) -> 0.1 | P11: 0 | Q11: =ROUND(E11*P11,2) -> 0 | S11: Vlastní | T11: Indiv | U11: 0.547 | V11: =ROUND(E11*U11,2) -> 2.19 | X11: Práce | Y11: Běžná | AG11: POL1_1
C12: řad A31 : 4 | E12: 4 | AG12: VV | AH12: 0
A13: 4 | B13: 119001401R00 | C13: Dočasné zajištění ocelového potrubí do DN 200 | D13: m | E13: 8 | G13: =ROUND(E13*F13,2) -> 0 | I13: =ROUND(E13*H13,2) -> 0 | K13: =ROUND(E13*J13,2) -> 0 | L13: 21 | M13: =G13*(1+L13/100) -> 0 | N13: 0.00868 | O13: =ROUND(E13*N13,2) -> 0.07 | P13: 0 | Q13: =ROUND(E13*P13,2) -> 0 | S13: Vlastní | T13: Indiv | U13: 0.703 | V13: =ROUND(E13*U13,2) -> 5.62 | X13: Práce | Y13: Běžná | AG13: POL1_1
C14: řad A31 : 8 | E14: 8 | AG14: VV | AH14: 0
A15: 5 | B15: 121101102R00 | C15: Sejmutí ornice s přemístěním přes 50 do 100 m | D15: m3 | E15: 10.6 | G15: =ROUND(E15*F15,2) -> 0 | I15: =ROUND(E15*H15,2) -> 0 | K15: =ROUND(E15*J15,2) -> 0 | L15: 21 | M15: =G15*(1+L15/100) -> 0 | N15: 0 | O15: =ROUND(E15*N15,2) -> 0 | P15: 0 | Q15: =ROUND(E15*P15,2) -> 0 | S15: Vlastní | T15: Indiv | U15: 0.032 | V15: =ROUND(E15*U15,2) -> 0.34 | X15: Práce | Y15: Běžná | AG15: POL1_1
C16: řad A31 : | AG16: VV | AH16: 0
C17: zelená plocha : 106*0,1 | E17: 10.6 | AG17: VV | AH17: 0
A18: 6 | B18: 130001101R00 | C18: Příplatek za ztížené hloubení v blízkosti vedení | D18: m3 | E18: 14.85 | G18: =ROUND(E18*F18,2) -> 0 | I18: =ROUND(E18*H18,2) -> 0 | K18: =ROUND(E18*J18,2) -> 0 | L18: 21 | M18: =G18*(1+L18/100) -> 0 | N18: 0 | O18: =ROUND(E18*N18,2) -> 0 | P18: 0 | Q18: =ROUND(E18*P18,2) -> 0 | S18: Vlastní | T18: Indiv | U18: 1.763 | V18: =ROUND(E18*U18,2) -> 26.18 | X18: Práce | Y18: Běžná | AG18: POL1_1
C19: NN : 1*1,1*1,5 | E19: 1.65 | AG19: VV | AH19: 0
C20: sdělovací kabel : 1*1,1*1,5 | E20: 1.65 | AG20: VV | AH20: 0
C21: kanalizace : 6*1,1*1,5 | E21: 9.9 | AG21: VV | AH21: 0
C22: STL : 1*1,1*1,5 | E22: 1.65 | AG22: VV | AH22: 0
A23: 7 | B23: 132201110R00 | C23: Hloubení rýh š.do 60 cm v hor.3 do 50 m3, STROJNĚ | D23: m3 | E23: 3.4854 | G23: =ROUND(E23*F23,2) -> 0 | I23: =ROUND(E23*H23,2) -> 0 | K23: =ROUND(E23*J23,2) -> 0 | L23: 21 | M23: =G23*(1+L23/100) -> 0 | N23: 0 | O23: =ROUND(E23*N23,2) -> 0 | P23: 0 | Q23: =ROUND(E23*P23,2) -> 0 | S23: Vlastní | T23: Indiv | U23: 0.365 | V23: =ROUND(E23*U23,2) -> 1.27 | X23: Práce | Y23: Běžná | AG23: POL1_1
C24: řad A31 - drenáž : (17,25+9,03+31,81)*0,3*0,2 | E24: 3.49 | AG24: VV | AH24: 0
A25: 8 | B25: 132201119R00 | C25: Přípl.za lepivost,hloubení rýh 60 cm,hor.3,STROJNĚ | D25: m3 | E25: 3.4854 | G25: =ROUND(E25*F25,2) -> 0 | I25: =ROUND(E25*H25,2) -> 0 | K25: =ROUND(E25*J25,2) -> 0 | L25: 21 | M25: =G25*(1+L25/100) -> 0 | N25: 0 | O25: =ROUND(E25*N25,2) -> 0 | P25: 0 | Q25: =ROUND(E25*P25,2) -> 0 | S25: Vlastní | T25: Indiv | U25: 0.3898 | V25: =ROUND(E25*U25,2) -> 1.36 | X25: Práce | Y25: Běžná | AG25: POL1_1
A26: 9 | B26: 132201210R00 | C26: Hloubení rýh šířky do 2000 mm v hor. 3, do 50 m3, STROJNĚ | D26: m3 | E26: 40.21666 | G26: =ROUND(E26*F26,2) -> 0 | I26: =ROUND(E26*H26,2) -> 0 | K26: =ROUND(E26*J26,2) -> 0 | L26: 21 | M26: =G26*(1+L26/100) -> 0 | N26: 0 | O26: =ROUND(E26*N26,2) -> 0 | P26: 0 | Q26: =ROUND(E26*P26,2) -> 0 | S26: Vlastní | T26: Indiv | U26: 0.365 | V26: =ROUND(E26*U26,2) -> 14.68 | X26: Práce | Y26: Běžná | AG26: POL1_1
C27: řad A31 : | AG27: VV | AH27: 0
C28: dlažba : 6,42*1,1*(1,76-0,29) | E28: 10.38 | AG28: VV | AH28: 0
C29: asfalt : (12+9,19)*1,1*((1,8+1,76)/2-0,5) | E29: 29.84 | AG29: VV | AH29: 0
A30: 10 | B30: 132201219R00 | C30: Přípl.za lepivost,hloubení rýh 200cm,hor.3,STROJNĚ | D30: m3 | E30: 40.21666 | G30: =ROUND(E30*F30,2) -> 0 | I30: =ROUND(E30*H30,2) -> 0 | K30: =ROUND(E30*J30,2) -> 0 | L30: 21 | M30: =G30*(1+L30/100) -> 0 | N30: 0 | O30: =ROUND(E30*N30,2) -> 0 | P30: 0 | Q30: =ROUND(E30*P30,2) -> 0 | S30: Vlastní | T30: Indiv | U30: 0.084 | V30: =ROUND(E30*U30,2) -> 3.38 | X30: Práce | Y30: Běžná | AG30: POL1_1
A31: 11 | B31: 131201201R00 | C31: Hloubení zapažených jam v hor.3 do 100 m3 | D31: m3 | E31: 48.98056 | G31: =ROUND(E31*F31,2) -> 0 | I31: =ROUND(E31*H31,2) -> 0 | K31: =ROUND(E31*J31,2) -> 0 | L31: 21 | M31: =G31*(1+L31/100) -> 0 | N31: 0 | O31: =ROUND(E31*N31,2) -> 0 | P31: 0 | Q31: =ROUND(E31*P31,2) -> 0 | S31: Vlastní | T31: Indiv | U31: 2.249 | V31: =ROUND(E31*U31,2) -> 110.16 | X31: Práce | Y31: Běžná | AG31: POL1_1
C32: řad A31 : | AG32: VV | AH32: 0
C33: dlažba : (1,16+0,76+1+1,79+1+1,22+1+1+1+1)*1,1*((1,8+1,85+1,86+1,76+2,04+1,87+1,82+1,78+1,56+1,61)/10-0,29) | E33: 18.09 | AG33: VV | AH33: 0
C34: nezpevněný terén : (1,06+3,3+1+1,62+1+1,05)*1,1*((1,8+1,85+1,78+1,84+1,91+1,76)/6-0,1) | E34: 17.12 | AG34: VV | AH34: 0
C35: asfalt : (1+1,42+1+1+1+1+4,2)*1,1*((1,62+1,64+1,75+1,69+1,68+1,61+1,76)/7-0,5) | E35: 13.77 | AG35: VV | AH35: 0
A36: 12 | B36: 131201209R00 | C36: Příplatek za lepivost - hloubení zapaž.jam v hor.3 | D36: m3 | E36: 48.98056 | G36: =ROUND(E36*F36,2) -> 0 | I36: =ROUND(E36*H36,2) -> 0 | K36: =ROUND(E36*J36,2) -> 0 | L36: 21 | M36: =G36*(1+L36/100) -> 0 | N36: 0 | O36: =ROUND(E36*N36,2) -> 0 | P36: 0 | Q36: =ROUND(E36*P36,2) -> 0 | S36: Vlastní | T36: Indiv | U36: 0.107 | V36: =ROUND(E36*U36,2) -> 5.24 | X36: Práce | Y36: Běžná | AG36: POL1_1
A37: 13 | B37: 139601102R00 | C37: Ruční výkop jam, rýh a šachet v hornině tř. 3 | D37: m3 | E37: 5.6 | G37: =ROUND(E37*F37,2) -> 0 | I37: =ROUND(E37*H37,2) -> 0 | K37: =ROUND(E37*J37,2) -> 0 | L37: 21 | M37: =G37*(1+L37/100) -> 0 | N37: 0 | O37: =ROUND(E37*N37,2) -> 0 | P37: 0 | Q37: =ROUND(E37*P37,2) -> 0 | S37: Vlastní | T37: Indiv | U37: 3.533 | V37: =ROUND(E37*U37,2) -> 19.78 | X37: Práce | Y37: Běžná | AG37: POL1_1
C38: kopaná sonda : | AG38: VV | AH38: 0
C39: řad A31 : 7*1*1*0,8 | E39: 5.6 | AG39: VV | AH39: 0
A40: 14 | B40: 141721101R00 | C40: Řízené protlačení a vtažení PE do d 110mm, hor.1-4 | D40: m | E40: 198.3 | G40: =ROUND(E40*F40,2) -> 0 | I40: =ROUND(E40*H40,2) -> 0 | K40: =ROUND(E40*J40,2) -> 0 | L40: 21 | M40: =G40*(1+L40/100) -> 0 | N40: 0.00348 | O40: =ROUND(E40*N40,2) -> 0.69 | P40: 0 | Q40: =ROUND(E40*P40,2) -> 0 | S40: Vlastní | T40: Indiv | U40: 1.70124 | V40: =ROUND(E40*U40,2) -> 337.36 | X40: Práce | Y40: Běžná | AG40: POL1_1
C41: řad A31 : 198,3 | E41: 198.3 | AG41: VV | AH41: 0
A42: 15 | B42: 151101101R00 | C42: Pažení a rozepření stěn rýh - příložné - hl.do 2 m | D42: m2 | E42: 71.64413 | G42: =ROUND(E42*F42,2) -> 0 | I42: =ROUND(E42*H42,2) -> 0 | K42: =ROUND(E42*J42,2) -> 0 | L42: 21 | M42: =G42*(1+L42/100) -> 0 | N42: 0.00099 | O42: =ROUND(E42*N42,2) -> 0.07 | P42: 0 | Q42: =ROUND(E42*P42,2) -> 0 | S42: Vlastní | T42: Indiv | U42: 0.236 | V42: =ROUND(E42*U42,2) -> 16.91 | X42: Práce | Y42: Běžná | AG42: POL1_1
...

Sheet SO02 Řad A30,A12, A28
A1: Položkový soupis prací a dodávek | AG1: #TypZaznamu#
A2: S: | B2: 001 | C2: Uherský Brod, rekonstrukce I TP - ul.Na Dlouhých, 9.května, B.Smetany, Jiráskova | AG2: STA
A3: O: | B3: 01 | C3: Uherský Brod, rekonstrukce I TP -ul.Na Dlouhých, 9.května, B.Smetany, Jiráskova | AC3: STA | AG3: OBJ
A4: R: | B4: 02 | C4: SO02 Řad A30, A12, A28 | AG4: ROZ
A6: P.č. | B6: Číslo položky | C6: Název položky | D6: MJ | E6: Množství | F6: Cena / MJ | G6: Celkem | H6: Dodávka | I6: Dodávka celk. | J6: Montáž | K6: Montáž celk. | L6: DPH | M6: Cena s DPH | N6: Hmotnost / MJ | O6: Hmotnost celk.(t) | P6: Dem. hmotnost / MJ | Q6: Dem. hmotnost celk.(t) | R6: Ceník | S6: Cen. soustava / platnost | T6: Cenová úroveň | U6: Nhod / MJ | V6: Nhod celk. | W6: Dodavatel | X6: Typ položky | Y6: Stav položky
A8: Díl: | B8: 1 | C8: Zemní práce | G8: =SUMIF(AG9:AG149,"<>NOR",G9:G149) -> 0 | I8: =SUM(I9:I149) -> 0 | K8: =SUM(K9:K149) -> 0 | M8: =SUM(M9:M149) -> 0 | O8: =SUM(O9:O149) -> 77.57 | Q8: =SUM(Q9:Q149) -> 0 | V8: =SUM(V9:V149) -> 786.56 | AG8: DIL
A9: 1 | B9: 115101201R00 | C9: Čerpání vody na výšku do 10 m, přítok do 500 l/min | D9: h | E9: 60 | G9: =ROUND(E9*F9,2) -> 0 | I9: =ROUND(E9*H9,2) -> 0 | K9: =ROUND(E9*J9,2) -> 0 | L9: 21 | M9: =G9*(1+L9/100) -> 0 | N9: 0 | O9: =ROUND(E9*N9,2) -> 0 | P9: 0 | Q9: =ROUND(E9*P9,2) -> 0 | S9: Vlastní | T9: Indiv | U9: 0.203 | V9: =ROUND(E9*U9,2) -> 12.18 | X9: Práce | Y9: Běžná | AG9: POL1_1
A10: 2 | B10: 115101301 | C10: Pohotovost čerpací soupravy výš.10m přítok 500l | D10: den | E10: 20 | G10: =ROUND(E10*F10,2) -> 0 | I10: =ROUND(E10*H10,2) -> 0 | K10: =ROUND(E10*J10,2) -> 0 | L10: 21 | M10: =G10*(1+L10/100) -> 0 | N10: 0 | O10: =ROUND(E10*N10,2) -> 0 | P10: 0 | Q10: =ROUND(E10*P10,2) -> 0 | S10: Vlastní | T10: Indiv | U10: 0 | V10: =ROUND(E10*U10,2) -> 0 | X10: Práce | Y10: Běžná | AG10: POL1_1
A11: 3 | B11: 119001421R00 | C11: Dočasné zajištění kabelů - do počtu 3 kabelů | D11: m | E11: 24 | G11: =ROUND(E11*F11,2) -> 0 | I11: =ROUND(E11*H11,2) -> 0 | K11: =ROUND(E11*J11,2) -> 0 | L11: 21 | M11: =G11*(1+L11/100) -> 0 | N11: 0.02478 | O11: =ROUND(E11*N11,2) -> 0.59 | P11: 0 | Q11: =ROUND(E11*P11,2) -> 0 | S11: Vlastní | T11: Indiv | U11: 0.547 | V11: =ROUND(E11*U11,2) -> 13.13 | X11: Práce | Y11: Běžná | AG11: POL1_1
C12: řad A30 : 2+6 | E12: 8 | AG12: VV | AH12: 0
C13: řad A28 : 16 | E13: 16 | AG13: VV | AH13: 0
A14: 4 | B14: 119001401R00 | C14: Dočasné zajištění ocelového potrubí do DN 200 | D14: m | E14: 15 | G14: =ROUND(E14*F14,2) -> 0 | I14: =ROUND(E14*H14,2) -> 0 | K14: =ROUND(E14*J14,2) -> 0 | L14: 21 | M14: =G14*(1+L14/100) -> 0 | N14: 0.00868 | O14: =ROUND(E14*N14,2) -> 0.13 | P14: 0 | Q14: =ROUND(E14*P14,2) -> 0 | S14: Vlastní | T14: Indiv | U14: 0.703 | V14: =ROUND(E14*U14,2) -> 10.55 | X14: Práce | Y14: Běžná | AG14: POL1_1
C15: řad A30 : 5 | E15: 5 | AG15: VV | AH15: 0
C16: řad A12 : 1 | E16: 1 | AG16: VV | AH16: 0
C17: řad A28 : 9 | E17: 9 | AG17: VV | AH17: 0
A18: 5 | B18: 121101102R00 | C18: Sejmutí ornice s přemístěním přes 50 do 100 m | D18: m3 | E18: 28.4 | G18: =ROUND(E18*F18,2) -> 0 | I18: =ROUND(E18*H18,2) -> 0 | K18: =ROUND(E18*J18,2) -> 0 | L18: 21 | M18: =G18*(1+L18/100) -> 0 | N18: 0 | O18: =ROUND(E18*N18,2) -> 0 | P18: 0 | Q18: =ROUND(E18*P18,2) -> 0 | S18: Vlastní | T18: Indiv | U18: 0.032 | V18: =ROUND(E18*U18,2) -> 0.91 | X18: Práce | Y18: Běžná | AG18: POL1_1
C19: zelená plocha : | AG19: VV | AH19: 0
C20: řad A30 : 130*0,1 | E20: 13 | AG20: VV | AH20: 0
C21: řad A12+A28 : 154*0,1 | E21: 15.4 | AG21: VV | AH21: 0
A22: 6 | B22: 130001101R00 | C22: Příplatek za ztížené hloubení v blízkosti vedení | D22: m3 | E22: 13.2 | G22: =ROUND(E22*F22,2) -> 0 | I22: =ROUND(E22*H22,2) -> 0 | K22: =ROUND(E22*J22,2) -> 0 | L22: 21 | M22: =G22*(1+L22/100) -> 0 | N22: 0 | O22: =ROUND(E22*N22,2) -> 0 | P22: 0 | Q22: =ROUND(E22*P22,2) -> 0 | S22: Vlastní | T22: Indiv | U22: 1.763 | V22: =ROUND(E22*U22,2) -> 23.27 | X22: Práce | Y22: Běžná | AG22: POL1_1
C23: řad A30 : | AG23: VV | AH23: 0
C24: kanalizace : 1*1,1*1,5 | E24: 1.65 | AG24: VV | AH24: 0
C25: řad A12+A28 : | AG25: VV | AH25: 0
C26: kanalizace : 2*1,1*1,5 | E26: 3.3 | AG26: VV | AH26: 0
C27: sdělovací kabel : 3*1,1*1,5 | E27: 4.95 | AG27: VV | AH27: 0
C28: NTL : 2*1,1*1,5 | E28: 3.3 | AG28: VV | AH28: 0
A29: 7 | B29: 132201110R00 | C29: Hloubení rýh š.do 60 cm v hor.3 do 50 m3, STROJNĚ | D29: m3 | E29: 3.0636 | G29: =ROUND(E29*F29,2) -> 0 | I29: =ROUND(E29*H29,2) -> 0 | K29: =ROUND(E29*J29,2) -> 0 | L29: 21 | M29: =G29*(1+L29/100) -> 0 | N29: 0 | O29: =ROUND(E29*N29,2) -> 0 | P29: 0 | Q29: =ROUND(E29*P29,2) -> 0 | S29: Vlastní | T29: Indiv | U29: 0.365 | V29: =ROUND(E29*U29,2) -> 1.12 | X29: Práce | Y29: Běžná | AG29: POL1_1
C30: řad A30 - drenáž : (1+7,55+3,46)*0,3*0,2 | E30: 0.72 | AG30: VV | AH30: 0
C31: řad A12+A28- drenáž : (8,1+20,19+9,25+1,51)*0,3*0,2 | E31: 2.34 | AG31: VV | AH31: 0
A32: 8 | B32: 132201119R00 | C32: Přípl.za lepivost,hloubení rýh 60 cm,hor.3,STROJNĚ | D32: m3 | E32: 3.0636 | G32: =ROUND(E32*F32,2) -> 0 | I32: =ROUND(E32*H32,2) -> 0 | K32: =ROUND(E32*J32,2) -> 0 | L32: 21 | M32: =G32*(1+L32/100) -> 0 | N32: 0 | O32: =ROUND(E32*N32,2) -> 0 | P32: 0 | Q32: =ROUND(E32*P32,2) -> 0 | S32: Vlastní | T32: Indiv | U32: 0.3898 | V32: =ROUND(E32*U32,2) -> 1.19 | X32: Práce | Y32: Běžná | AG32: POL1_1
A33: 9 | B33: 132201210R00 | C33: Hloubení rýh šířky do 2000 mm v hor. 3, do 50 m3, STROJNĚ | D33: m3 | E33: 40.54941 | G33: =ROUND(E33*F33,2) -> 0 | I33: =ROUND(E33*H33,2) -> 0 | K33: =ROUND(E33*J33,2) -> 0 | L33: 21 | M33: =G33*(1+L33/100) -> 0 | N33: 0 | O33: =ROUND(E33*N33,2) -> 0 | P33: 0 | Q33: =ROUND(E33*P33,2) -> 0 | S33: Vlastní | T33: Indiv | U33: 0.365 | V33: =ROUND(E33*U33,2) -> 14.8 | X33: Práce | Y33: Běžná | AG33: POL1_1
C34: řad A12+A28 : | AG34: VV | AH34: 0
C35: nezpevněný terén : (7,34+6,35)*1,1*((1,9+1,78)/2-0,1) | E35: 26.2 | AG35: VV | AH35: 0
C36: asfalt : 9,25*1,1*(1,91-0,5) | E36: 14.35 | AG36: VV | AH36: 0
A37: 10 | B37: 132201219R00 | C37: Přípl.za lepivost,hloubení rýh 200cm,hor.3,STROJNĚ | D37: m3 | E37: 40.54941 | G37: =ROUND(E37*F37,2) -> 0 | I37: =ROUND(E37*H37,2) -> 0 | K37: =ROUND(E37*J37,2) -> 0 | L37: 21 | M37: =G37*(1+L37/100) -> 0 | N37: 0 | O37: =ROUND(E37*N37,2) -> 0 | P37: 0 | Q37: =ROUND(E37*P37,2) -> 0 | S37: Vlastní | T37: Indiv | U37: 0.084 | V37: =ROUND(E37*U37,2) -> 3.41 | X37: Práce | Y37: Běžná | AG37: POL1_1
A38: 11 | B38: 131201201R00 | C38: Hloubení zapažených jam v hor.3 do 100 m3 | D38: m3 | E38: 44.42693 | G38: =ROUND(E38*F38,2) -> 0 | I38: =ROUND(E38*H38,2) -> 0 | K38: =ROUND(E38*J38,2) -> 0 | L38: 21 | M38: =G38*(1+L38/100) -> 0 | N38: 0 | O38: =ROUND(E38*N38,2) -> 0 | P38: 0 | Q38: =ROUND(E38*P38,2) -> 0 | S38: Vlastní | T38: Indiv | U38: 2.249 | V38: =ROUND(E38*U38,2) -> 99.92 | X38: Práce | Y38: Běžná | AG38: POL1_1
C39: řad A30 : | AG39: VV | AH39: 0
C40: dlažba : (2,43+1,03)*1,1*((1,52+1,54)/2-0,29) | E40: 4.72 | AG40: VV | AH40: 0
C41: nezpevněný terén : (1+1+1+1+1+2,55)*1,1*((1,55+1,57+1,56+1,57+1,55+1,65)/6-0,1) | E41: 12.25 | AG41: VV | AH41: 0
C42: asfalt : 1*1,1*(1,98-0,5) | E42: 1.63 | AG42: VV | AH42: 0
...

Sheet SO03 Řad A21
A1: Položkový soupis prací a dodávek | AG1: #TypZaznamu#
A2: S: | B2: 001 | C2: Uherský Brod, rekonstrukce I TP - ul.Na Dlouhých, 9.května, B.Smetany, Jiráskova | AG2: STA
A3: O: | B3: 01 | C3: Uherský Brod, rekonstrukce I TP -ul.Na Dlouhých, 9.května, B.Smetany, Jiráskova | AC3: STA | AG3: OBJ
A4: R: | B4: 03 | C4: SO03 Řad A21 | AG4: ROZ
A6: P.č. | B6: Číslo položky | C6: Název položky | D6: MJ | E6: Množství | F6: Cena / MJ | G6: Celkem | H6: Dodávka | I6: Dodávka celk. | J6: Montáž | K6: Montáž celk. | L6: DPH | M6: Cena s DPH | N6: Hmotnost / MJ | O6: Hmotnost celk.(t) | P6: Dem. hmotnost / MJ | Q6: Dem. hmotnost celk.(t) | R6: Ceník | S6: Cen. soustava / platnost | T6: Cenová úroveň | U6: Nhod / MJ | V6: Nhod celk. | W6: Dodavatel | X6: Typ položky | Y6: Stav položky
A8: Díl: | B8: 1 | C8: Zemní práce | G8: =SUMIF(AG9:AG88,"<>NOR",G9:G88) -> 0 | I8: =SUM(I9:I88) -> 0 | K8: =SUM(K9:K88) -> 0 | M8: =SUM(M9:M88) -> 0 | O8: =SUM(O9:O88) -> 17.91 | Q8: =SUM(Q9:Q88) -> 0 | V8: =SUM(V9:V88) -> 374.12 | AG8: DIL
A9: 1 | B9: 115101201R00 | C9: Čerpání vody na výšku do 10 m, přítok do 500 l/min | D9: h | E9: 30 | G9: =ROUND(E9*F9,2) -> 0 | I9: =ROUND(E9*H9,2) -> 0 | K9: =ROUND(E9*J9,2) -> 0 | L9: 21 | M9: =G9*(1+L9/100) -> 0 | N9: 0 | O9: =ROUND(E9*N9,2) -> 0 | P9: 0 | Q9: =ROUND(E9*P9,2) -> 0 | S9: Vlastní | T9: Indiv | U9: 0.203 | V9: =ROUND(E9*U9,2) -> 6.09 | X9: Práce | Y9: Běžná | AG9: POL1_1
A10: 2 | B10: 115101301 | C10: Pohotovost čerpací soupravy výš.10m přítok 500l | D10: den | E10: 10 | G10: =ROUND(E10*F10,2) -> 0 | I10: =ROUND(E10*H10,2) -> 0 | K10: =ROUND(E10*J10,2) -> 0 | L10: 21 | M10: =G10*(1+L10/100) -> 0 | N10: 0 | O10: =ROUND(E10*N10,2) -> 0 | P10: 0 | Q10: =ROUND(E10*P10,2) -> 0 | S10: Vlastní | T10: Indiv | U10: 0 | V10: =ROUND(E10*U10,2) -> 0 | X10: Práce | Y10: Běžná | AG10: POL1_1
A11: 3 | B11: 119001401R00 | C11: Dočasné zajištění ocelového potrubí do DN 200 | D11: m | E11: 4 | G11: =ROUND(E11*F11,2) -> 0 | I11: =ROUND(E11*H11,2) -> 0 | K11: =ROUND(E11*J11,2) -> 0 | L11: 21 | M11: =G11*(1+L11/100) -> 0 | N11: 0.00868 | O11: =ROUND(E11*N11,2) -> 0.03 | P11: 0 | Q11: =ROUND(E11*P11,2) -> 0 | S11: Vlastní | T11: Indiv | U11: 0.703 | V11: =ROUND(E11*U11,2) -> 2.81 | X11: Práce | Y11: Běžná | AG11: POL1_1
C12: řad A21 : 4 | E12: 4 | AG12: VV | AH12: 0
A13: 4 | B13: 121101102R00 | C13: Sejmutí ornice s přemístěním přes 50 do 100 m | D13: m3 | E13: 6.4 | G13: =ROUND(E13*F13,2) -> 0 | I13: =ROUND(E13*H13,2) -> 0 | K13: =ROUND(E13*J13,2) -> 0 | L13: 21 | M13: =G13*(1+L13/100) -> 0 | N13: 0 | O13: =ROUND(E13*N13,2) -> 0 | P13: 0 | Q13: =ROUND(E13*P13,2) -> 0 | S13: Vlastní | T13: Indiv | U13: 0.032 | V13: =ROUND(E13*U13,2) -> 0.2 | X13: Práce | Y13: Běžná | AG13: POL1_1
C14: řad A21 : | AG14: VV | AH14: 0
C15: zelená plocha : 64*0,1 | E15: 6.4 | AG15: VV | AH15: 0
A16: 5 | B16: 130001101R00 | C16: Příplatek za ztížené hloubení v blízkosti vedení | D16: m3 | E16: 1.65 | G16: =ROUND(E16*F16,2) -> 0 | I16: =ROUND(E16*H16,2) -> 0 | K16: =ROUND(E16*J16,2) -> 0 | L16: 21 | M16: =G16*(1+L16/100) -> 0 | N16: 0 | O16: =ROUND(E16*N16,2) -> 0 | P16: 0 | Q16: =ROUND(E16*P16,2) -> 0 | S16: Vlastní | T16: Indiv | U16: 1.763 | V16: =ROUND(E16*U16,2) -> 2.91 | X16: Práce | Y16: Běžná | AG16: POL1_1
C17: kanalizace : 1*1,1*1,5 | E17: 1.65 | AG17: VV | AH17: 0
A18: 6 | B18: 132201110R00 | C18: Hloubení rýh š.do 60 cm v hor.3 do 50 m3, STROJNĚ | D18: m3 | E18: 0.9654 | G18: =ROUND(E18*F18,2) -> 0 | I18: =ROUND(E18*H18,2) -> 0 | K18: =ROUND(E18*J18,2) -> 0 | L18: 21 | M18: =G18*(1+L18/100) -> 0 | N18: 0 | O18: =ROUND(E18*N18,2) -> 0 | P18: 0 | Q18: =ROUND(E18*P18,2) -> 0 | S18: Vlastní | T18: Indiv | U18: 0.365 | V18: =ROUND(E18*U18,2) -> 0.35 | X18: Práce | Y18: Běžná | AG18: POL1_1
C19: řad A21 - drenáž : (3,05+12,04+1)*0,3*0,2 | E19: 0.97 | AG19: VV | AH19: 0
A20: 7 | B20: 132201119R00 | C20: Přípl.za lepivost,hloubení rýh 60 cm,hor.3,STROJNĚ | D20: m3 | E20: 0.9654 | G20: =ROUND(E20*F20,2) -> 0 | I20: =ROUND(E20*H20,2) -> 0 | K20: =ROUND(E20*J20,2) -> 0 | L20: 21 | M20: =G20*(1+L20/100) -> 0 | N20: 0 | O20: =ROUND(E20*N20,2) -> 0 | P20: 0 | Q20: =ROUND(E20*P20,2) -> 0 | S20: Vlastní | T20: Indiv | U20: 0.3898 | V20: =ROUND(E20*U20,2) -> 0.38 | X20: Práce | Y20: Běžná | AG20: POL1_1
A21: 8 | B21: 131201201R00 | C21: Hloubení zapažených jam v hor.3 do 100 m3 | D21: m3 | E21: 25.07505 | G21: =ROUND(E21*F21,2) -> 0 | I21: =ROUND(E21*H21,2) -> 0 | K21: =ROUND(E21*J21,2) -> 0 | L21: 21 | M21: =G21*(1+L21/100) -> 0 | N21: 0 | O21: =ROUND(E21*N21,2) -> 0 | P21: 0 | Q21: =ROUND(E21*P21,2) -> 0 | S21: Vlastní | T21: Indiv | U21: 2.249 | V21: =ROUND(E21*U21,2) -> 56.39 | X21: Práce | Y21: Běžná | AG21: POL1_1
C22: řad A21 : | AG22: VV | AH22: 0
C23: dlažba : 1*1,1*(1,56-0,29) | E23: 1.4 | AG23: VV | AH23: 0
C24: asfalt : 3,05*1,1*(1,89-0,5) | E24: 4.66 | AG24: VV | AH24: 0
C25: nezpevněný terén : (1+1+3+1+2,72+1+2,32)*1,1*((1,56+1,44+1,43+1,49+1,62+1,59+1,62)/7-0,1) | E25: 19.01 | AG25: VV | AH25: 0
A26: 9 | B26: 131201209R00 | C26: Příplatek za lepivost - hloubení zapaž.jam v hor.3 | D26: m3 | E26: 25.07505 | G26: =ROUND(E26*F26,2) -> 0 | I26: =ROUND(E26*H26,2) -> 0 | K26: =ROUND(E26*J26,2) -> 0 | L26: 21 | M26: =G26*(1+L26/100) -> 0 | N26: 0 | O26: =ROUND(E26*N26,2) -> 0 | P26: 0 | Q26: =ROUND(E26*P26,2) -> 0 | S26: Vlastní | T26: Indiv | U26: 0.107 | V26: =ROUND(E26*U26,2) -> 2.68 | X26: Práce | Y26: Běžná | AG26: POL1_1
A27: 10 | B27: 139601102R00 | C27: Ruční výkop jam, rýh a šachet v hornině tř. 3 | D27: m3 | E27: 3.2 | G27: =ROUND(E27*F27,2) -> 0 | I27: =ROUND(E27*H27,2) -> 0 | K27: =ROUND(E27*J27,2) -> 0 | L27: 21 | M27: =G27*(1+L27/100) -> 0 | N27: 0 | O27: =ROUND(E27*N27,2) -> 0 | P27: 0 | Q27: =ROUND(E27*P27,2) -> 0 | S27: Vlastní | T27: Indiv | U27: 3.533 | V27: =ROUND(E27*U27,2) -> 11.31 | X27: Práce | Y27: Běžná | AG27: POL1_1
C28: kopaná sonda : | AG28: VV | AH28: 0
C29: řad A21 : 4*1*1*0,8 | E29: 3.2 | AG29: VV | AH29: 0
A30: 11 | B30: 141721101R00 | C30: Řízené protlačení a vtažení PE do d 110mm, hor.1-4 | D30: m | E30: 112 | G30: =ROUND(E30*F30,2) -> 0 | I30: =ROUND(E30*H30,2) -> 0 | K30: =ROUND(E30*J30,2) -> 0 | L30: 21 | M30: =G30*(1+L30/100) -> 0 | N30: 0.00348 | O30: =ROUND(E30*N30,2) -> 0.39 | P30: 0 | Q30: =ROUND(E30*P30,2) -> 0 | S30: Vlastní | T30: Indiv | U30: 1.70124 | V30: =ROUND(E30*U30,2) -> 190.54 | X30: Práce | Y30: Běžná | AG30: POL1_1
C31: řad A21 : 112 | E31: 112 | AG31: VV | AH31: 0
A32: 12 | B32: 151101101R00 | C32: Pažení a rozepření stěn rýh - příložné - hl.do 2 m | D32: m2 | E32: 37.112 | G32: =ROUND(E32*F32,2) -> 0 | I32: =ROUND(E32*H32,2) -> 0 | K32: =ROUND(E32*J32,2) -> 0 | L32: 21 | M32: =G32*(1+L32/100) -> 0 | N32: 0.00099 | O32: =ROUND(E32*N32,2) -> 0.04 | P32: 0 | Q32: =ROUND(E32*P32,2) -> 0 | S32: Vlastní | T32: Indiv | U32: 0.236 | V32: =ROUND(E32*U32,2) -> 8.76 | X32: Práce | Y32: Běžná | AG32: POL1_1
C33: řad A21 : | AG33: VV | AH33: 0
C34: dlažba : 1*(1,56-0,29)*2 | E34: 2.54 | AG34: VV | AH34: 0
C35: nezpevněný terén : (1+1+3+1+2,72+1+2,32)*((1,56+1,44+1,43+1,49+1,62+1,59+1,62)/7-0,1)*2 | E35: 34.57 | AG35: VV | AH35: 0
A36: 13 | B36: 151101111R00 | C36: Odstranění pažení stěn rýh - příložné - hl. do 2 m | D36: m2 | E36: 37.112 | G36: =ROUND(E36*F36,2) -> 0 | I36: =ROUND(E36*H36,2) -> 0 | K36: =ROUND(E36*J36,2) -> 0 | L36: 21 | M36: =G36*(1+L36/100) -> 0 | N36: 0 | O36: =ROUND(E36*N36,2) -> 0 | P36: 0 | Q36: =ROUND(E36*P36,2) -> 0 | S36: Vlastní | T36: Indiv | U36: 0.07 | V36: =ROUND(E36*U36,2) -> 2.6 | X36: Práce | Y36: Běžná | AG36: POL1_1
A37: 14 | B37: 151811111R00 | C37: Montáž lehkého pažicího boxu dl.3m, š.1m, hl.1,6 m | D37: kus | E37: 1 | G37: =ROUND(E37*F37,2) -> 0 | I37: =ROUND(E37*H37,2) -> 0 | K37: =ROUND(E37*J37,2) -> 0 | L37: 21 | M37: =G37*(1+L37/100) -> 0 | N37: 0 | O37: =ROUND(E37*N37,2) -> 0 | P37: 0 | Q37: =ROUND(E37*P37,2) -> 0 | S37: Vlastní | T37: Indiv | U37: 0.9104 | V37: =ROUND(E37*U37,2) -> 0.91 | X37: Práce | Y37: Běžná | AG37: POL1_1
A38: 15 | B38: 151812111R00 | C38: Pronájem lehkého pažic.boxu dl.3m, š.1m, hl.1,6m | D38: den | E38: 10 | G38: =ROUND(E38*F38,2) -> 0 | I38: =ROUND(E38*H38,2) -> 0 | K38: =ROUND(E38*J38,2) -> 0 | L38: 21 | M38: =G38*(1+L38/100) -> 0 | N38: 0 | O38: =ROUND(E38*N38,2) -> 0 | P38: 0 | Q38: =ROUND(E38*P38,2) -> 0 | S38: Vlastní | T38: Indiv | U38: 0 | V38: =ROUND(E38*U38,2) -> 0 | X38: Práce | Y38: Běžná | AG38: POL1_1
C39: 5 dnů 1 box : 2*5 | E39: 10 | AG39: VV | AH39: 0
A40: 16 | B40: 151813111R00 | C40: Dmtž lehkého pažicího boxu dl.3m, š.1m, hl.1,6m | D40: kus | E40: 1 | G40: =ROUND(E40*F40,2) -> 0 | I40: =ROUND(E40*H40,2) -> 0 | K40: =ROUND(E40*J40,2) -> 0 | L40: 21 | M40: =G40*(1+L40/100) -> 0 | N40: 0 | O40: =ROUND(E40*N40,2) -> 0 | P40: 0 | Q40: =ROUND(E40*P40,2) -> 0 | S40: Vlastní | T40: Indiv | U40: 0.8944 | V40: =ROUND(E40*U40,2) -> 0.89 | X40: Práce | Y40: Běžná | AG40: POL1_1
A41: 17 | B41: 161101101R00 | C41: Svislé přemístění výkopku z hor.1-4 do 2,5 m | D41: m3 | E41: 29.24045 | G41: =ROUND(E41*F41,2) -> 0 | I41: =ROUND(E41*H41,2) -> 0 | K41: =ROUND(E41*J41,2) -> 0 | L41: 21 | M41: =G41*(1+L41/100) -> 0 | N41: 0 | O41: =ROUND(E41*N41,2) -> 0 | P41: 0 | Q41: =ROUND(E41*P41,2) -> 0 | S41: Vlastní | T41: Indiv | U41: 0.345 | V41: =ROUND(E41*U41,2) -> 10.09 | X41: Práce | Y41: Běžná | AG41: POL1_1
C42: 0,9654+25,07505+3,2 | E42: 29.24 | AG42: VV | AH42: 0
...

Sheet SO04 Řad A27
A1: Položkový soupis prací a dodávek | AG1: #TypZaznamu#
A2: S: | B2: 001 | C2: Uherský Brod, rekonstrukce I TP - ul.Na Dlouhých, 9.května, B.Smetany, Jiráskova | AG2: STA
A3: O: | B3: 01 | C3: Uherský Brod, rekonstrukce I TP -ul.Na Dlouhých, 9.května, B.Smetany, Jiráskova | AC3: STA | AG3: OBJ
A4: R: | B4: 04 | C4: SO04 Řad A27 | AG4: ROZ
A6: P.č. | B6: Číslo položky | C6: Název položky | D6: MJ | E6: Množství | F6: Cena / MJ | G6: Celkem | H6: Dodávka | I6: Dodávka celk. | J6: Montáž | K6: Montáž celk. | L6: DPH | M6: Cena s DPH | N6: Hmotnost / MJ | O6: Hmotnost celk.(t) | P6: Dem. hmotnost / MJ | Q6: Dem. hmotnost celk.(t) | R6: Ceník | S6: Cen. soustava / platnost | T6: Cenová úroveň | U6: Nhod / MJ | V6: Nhod celk. | W6: Dodavatel | X6: Typ položky | Y6: Stav položky
A8: Díl: | B8: 1 | C8: Zemní práce | G8: =SUMIF(AG9:AG95,"<>NOR",G9:G95) -> 0 | I8: =SUM(I9:I95) -> 0 | K8: =SUM(K9:K95) -> 0 | M8: =SUM(M9:M95) -> 0 | O8: =SUM(O9:O95) -> 23.13 | Q8: =SUM(Q9:Q95) -> 0 | V8: =SUM(V9:V95) -> 401.56 | AG8: DIL
A9: 1 | B9: 115101201R00 | C9: Čerpání vody na výšku do 10 m, přítok do 500 l/min | D9: h | E9: 30 | G9: =ROUND(E9*F9,2) -> 0 | I9: =ROUND(E9*H9,2) -> 0 | K9: =ROUND(E9*J9,2) -> 0 | L9: 21 | M9: =G9*(1+L9/100) -> 0 | N9: 0 | O9: =ROUND(E9*N9,2) -> 0 | P9: 0 | Q9: =ROUND(E9*P9,2) -> 0 | S9: Vlastní | T9: Indiv | U9: 0.203 | V9: =ROUND(E9*U9,2) -> 6.09 | X9: Práce | Y9: Běžná | AG9: POL1_1
A10: 2 | B10: 115101301 | C10: Pohotovost čerpací soupravy výš.10m přítok 500l | D10: den | E10: 10 | G10: =ROUND(E10*F10,2) -> 0 | I10: =ROUND(E10*H10,2) -> 0 | K10: =ROUND(E10*J10,2) -> 0 | L10: 21 | M10: =G10*(1+L10/100) -> 0 | N10: 0 | O10: =ROUND(E10*N10,2) -> 0 | P10: 0 | Q10: =ROUND(E10*P10,2) -> 0 | S10: Vlastní | T10: Indiv | U10: 0 | V10: =ROUND(E10*U10,2) -> 0 | X10: Práce | Y10: Běžná | AG10: POL1_1
A11: 3 | B11: 119001401R00 | C11: Dočasné zajištění ocelového potrubí do DN 200 | D11: m | E11: 7 | G11: =ROUND(E11*F11,2) -> 0 | I11: =ROUND(E11*H11,2) -> 0 | K11: =ROUND(E11*J11,2) -> 0 | L11: 21 | M11: =G11*(1+L11/100) -> 0 | N11: 0.00868 | O11: =ROUND(E11*N11,2) -> 0.06 | P11: 0 | Q11: =ROUND(E11*P11,2) -> 0 | S11: Vlastní | T11: Indiv | U11: 0.703 | V11: =ROUND(E11*U11,2) -> 4.92 | X11: Práce | Y11: Běžná | AG11: POL1_1
C12: řad A27 : 7 | E12: 7 | AG12: VV | AH12: 0
A13: 4 | B13: 121101102R00 | C13: Sejmutí ornice s přemístěním přes 50 do 100 m | D13: m3 | E13: 11.5 | G13: =ROUND(E13*F13,2) -> 0 | I13: =ROUND(E13*H13,2) -> 0 | K13: =ROUND(E13*J13,2) -> 0 | L13: 21 | M13: =G13*(1+L13/100) -> 0 | N13: 0 | O13: =ROUND(E13*N13,2) -> 0 | P13: 0 | Q13: =ROUND(E13*P13,2) -> 0 | S13: Vlastní | T13: Indiv | U13: 0.032 | V13: =ROUND(E13*U13,2) -> 0.37 | X13: Práce | Y13: Běžná | AG13: POL1_1
C14: řad A27 : | AG14: VV | AH14: 0
C15: zelená plocha : 115*0,1 | E15: 11.5 | AG15: VV | AH15: 0
A16: 5 | B16: 130001101R00 | C16: Příplatek za ztížené hloubení v blízkosti vedení | D16: m3 | E16: 3.3 | G16: =ROUND(E16*F16,2) -> 0 | I16: =ROUND(E16*H16,2) -> 0 | K16: =ROUND(E16*J16,2) -> 0 | L16: 21 | M16: =G16*(1+L16/100) -> 0 | N16: 0 | O16: =ROUND(E16*N16,2) -> 0 | P16: 0 | Q16: =ROUND(E16*P16,2) -> 0 | S16: Vlastní | T16: Indiv | U16: 1.763 | V16: =ROUND(E16*U16,2) -> 5.82 | X16: Práce | Y16: Běžná | AG16: POL1_1
C17: kanalizace : 1*1,1*1,5 | E17: 1.65 | AG17: VV | AH17: 0
C18: STL : 1*1,1*1,5 | E18: 1.65 | AG18: VV | AH18: 0
A19: 6 | B19: 132201110R00 | C19: Hloubení rýh š.do 60 cm v hor.3 do 50 m3, STROJNĚ | D19: m3 | E19: 1.3008 | G19: =ROUND(E19*F19,2) -> 0 | I19: =ROUND(E19*H19,2) -> 0 | K19: =ROUND(E19*J19,2) -> 0 | L19: 21 | M19: =G19*(1+L19/100) -> 0 | N19: 0 | O19: =ROUND(E19*N19,2) -> 0 | P19: 0 | Q19: =ROUND(E19*P19,2) -> 0 | S19: Vlastní | T19: Indiv | U19: 0.365 | V19: =ROUND(E19*U19,2) -> 0.47 | X19: Práce | Y19: Běžná | AG19: POL1_1
C20: řad A27- drenáž : (2,95+15,03+3,7)*0,3*0,2 | E20: 1.3 | AG20: VV | AH20: 0
A21: 7 | B21: 132201119R00 | C21: Přípl.za lepivost,hloubení rýh 60 cm,hor.3,STROJNĚ | D21: m3 | E21: 1.3008 | G21: =ROUND(E21*F21,2) -> 0 | I21: =ROUND(E21*H21,2) -> 0 | K21: =ROUND(E21*J21,2) -> 0 | L21: 21 | M21: =G21*(1+L21/100) -> 0 | N21: 0 | O21: =ROUND(E21*N21,2) -> 0 | P21: 0 | Q21: =ROUND(E21*P21,2) -> 0 | S21: Vlastní | T21: Indiv | U21: 0.3898 | V21: =ROUND(E21*U21,2) -> 0.51 | X21: Práce | Y21: Běžná | AG21: POL1_1
A22: 8 | B22: 132201210R00 | C22: Hloubení rýh šířky do 2000 mm v hor. 3, do 50 m3, STROJNĚ | D22: m3 | E22: 7.63532 | G22: =ROUND(E22*F22,2) -> 0 | I22: =ROUND(E22*H22,2) -> 0 | K22: =ROUND(E22*J22,2) -> 0 | L22: 21 | M22: =G22*(1+L22/100) -> 0 | N22: 0 | O22: =ROUND(E22*N22,2) -> 0 | P22: 0 | Q22: =ROUND(E22*P22,2) -> 0 | S22: Vlastní | T22: Indiv | U22: 0.365 | V22: =ROUND(E22*U22,2) -> 2.79 | X22: Práce | Y22: Běžná | AG22: POL1_1
C23: řad A27 : | AG23: VV | AH23: 0
C24: nezpevněný terén : 5,18*1,1*(1,44-0,1) | E24: 7.64 | AG24: VV | AH24: 0
A25: 9 | B25: 132201219R00 | C25: Přípl.za lepivost,hloubení rýh 200cm,hor.3,STROJNĚ | D25: m3 | E25: 7.63532 | G25: =ROUND(E25*F25,2) -> 0 | I25: =ROUND(E25*H25,2) -> 0 | K25: =ROUND(E25*J25,2) -> 0 | L25: 21 | M25: =G25*(1+L25/100) -> 0 | N25: 0 | O25: =ROUND(E25*N25,2) -> 0 | P25: 0 | Q25: =ROUND(E25*P25,2) -> 0 | S25: Vlastní | T25: Indiv | U25: 0.084 | V25: =ROUND(E25*U25,2) -> 0.64 | X25: Práce | Y25: Běžná | AG25: POL1_1
A26: 10 | B26: 131201201R00 | C26: Hloubení zapažených jam v hor.3 do 100 m3 | D26: m3 | E26: 22.05445 | G26: =ROUND(E26*F26,2) -> 0 | I26: =ROUND(E26*H26,2) -> 0 | K26: =ROUND(E26*J26,2) -> 0 | L26: 21 | M26: =G26*(1+L26/100) -> 0 | N26: 0 | O26: =ROUND(E26*N26,2) -> 0 | P26: 0 | Q26: =ROUND(E26*P26,2) -> 0 | S26: Vlastní | T26: Indiv | U26: 2.249 | V26: =ROUND(E26*U26,2) -> 49.6 | X26: Práce | Y26: Běžná | AG26: POL1_1
C27: řad A27 : | AG27: VV | AH27: 0
C28: nezpevněný terén : (1,34+1+1+1+0,96+1+1+2,55)*1,1*((1,7+1,62+1,52+1,58+1,62+1,44+1,43+1,53)/8-0,29) | E28: 13.71 | AG28: VV | AH28: 0
C29: dlažba : (1+0,7+1+1)*1,1*((1,4+1,56+1,44+1,43)/4-0,1) | E29: 5.53 | AG29: VV | AH29: 0
C30: asfalt : 2,95*1,1*(1,37-0,5) | E30: 2.82 | AG30: VV | AH30: 0
A31: 11 | B31: 131201209R00 | C31: Příplatek za lepivost - hloubení zapaž.jam v hor.3 | D31: m3 | E31: 22.05445 | G31: =ROUND(E31*F31,2) -> 0 | I31: =ROUND(E31*H31,2) -> 0 | K31: =ROUND(E31*J31,2) -> 0 | L31: 21 | M31: =G31*(1+L31/100) -> 0 | N31: 0 | O31: =ROUND(E31*N31,2) -> 0 | P31: 0 | Q31: =ROUND(E31*P31,2) -> 0 | S31: Vlastní | T31: Indiv | U31: 0.107 | V31: =ROUND(E31*U31,2) -> 2.36 | X31: Práce | Y31: Běžná | AG31: POL1_1
A32: 12 | B32: 139601102R00 | C32: Ruční výkop jam, rýh a šachet v hornině tř. 3 | D32: m3 | E32: 5.6 | G32: =ROUND(E32*F32,2) -> 0 | I32: =ROUND(E32*H32,2) -> 0 | K32: =ROUND(E32*J32,2) -> 0 | L32: 21 | M32: =G32*(1+L32/100) -> 0 | N32: 0 | O32: =ROUND(E32*N32,2) -> 0 | P32: 0 | Q32: =ROUND(E32*P32,2) -> 0 | S32: Vlastní | T32: Indiv | U32: 3.533 | V32: =ROUND(E32*U32,2) -> 19.78 | X32: Práce | Y32: Běžná | AG32: POL1_1
C33: kopaná sonda : | AG33: VV | AH33: 0
C34: řad A27 : 7*1*1*0,8 | E34: 5.6 | AG34: VV | AH34: 0
A35: 13 | B35: 141721101R00 | C35: Řízené protlačení a vtažení PE do d 110mm, hor.1-4 | D35: m | E35: 125.5 | G35: =ROUND(E35*F35,2) -> 0 | I35: =ROUND(E35*H35,2) -> 0 | K35: =ROUND(E35*J35,2) -> 0 | L35: 21 | M35: =G35*(1+L35/100) -> 0 | N35: 0.00348 | O35: =ROUND(E35*N35,2) -> 0.44 | P35: 0 | Q35: =ROUND(E35*P35,2) -> 0 | S35: Vlastní | T35: Indiv | U35: 1.70124 | V35: =ROUND(E35*U35,2) -> 213.51 | X35: Práce | Y35: Běžná | AG35: POL1_1
C36: řad A27 : 125,5 | E36: 125.5 | AG36: VV | AH36: 0
A37: 14 | B37: 151101101R00 | C37: Pažení a rozepření stěn rýh - příložné - hl.do 2 m | D37: m2 | E37: 45.9414 | G37: =ROUND(E37*F37,2) -> 0 | I37: =ROUND(E37*H37,2) -> 0 | K37: =ROUND(E37*J37,2) -> 0 | L37: 21 | M37: =G37*(1+L37/100) -> 0 | N37: 0.00099 | O37: =ROUND(E37*N37,2) -> 0.05 | P37: 0 | Q37: =ROUND(E37*P37,2) -> 0 | S37: Vlastní | T37: Indiv | U37: 0.236 | V37: =ROUND(E37*U37,2) -> 10.84 | X37: Práce | Y37: Běžná | AG37: POL1_1
C38: řad A27 : | AG38: VV | AH38: 0
C39: jáma : | AG39: VV | AH39: 0
C40: nezpevněný terén : 2,18*(1,44-0,1)*2 | E40: 5.84 | AG40: VV | AH40: 0
C41: rýhy : | AG41: VV | AH41: 0
C42: nezpevněný terén : (1,34+1+1+1+0,96+1+1+2,55)*((1,7+1,62+1,52+1,58+1,62+1,44+1,43+1,53)/8-0,29)*2 | E42: 24.92 | AG42: VV | AH42: 0
...
