Workbook

Sheet Rekapitulace stavby
A1: Export Komplet | AZ1: VZ | BA1: 2.0 | BB1: ZAMOK | BT1: False | BU1: False | BV1: {5bad87a3-ad83-448b-bb67-bc5dc6202ef8}
BS2: 0,01 | BT2: 21
BS3: 0,01 | BT3: 12
D4: REKAPITULACE STAVBY | AS4: v --- níže se nacházejí doplnkové a pomocné údaje k sestavám --- v | BE4: Návod na vyplnění | BS4: 0,001
D5: Kód: | K5: 1247-26/tp-P | BE5: Měnit lze pouze buňky se žlutým podbarvením!_x000D_ _x000D_ 1) v Rekapitulaci stavby vyplňte údaje o Účastníkovi (přenesou se do ostatních sestav i v jiných listech)_x000D_ _x000D_ 2) na vybraných listech vyplňte v sestavě Soupis prací ceny u položek | BS5: 0,01
D6: Stavba: | K6: Hanušovice - Holba - rámcový rozpočet úprav oblasti | BS6: 0,01
D7: KSO: | AK7: CC-CZ: | BS7: 0,01
D8: Místo: | K8: k.ú. Hanušovice | AK8: Datum: | AN8: 4. 8. 2026 | BS8: 0,01
BS9: 0,01
D10: Zadavatel: | AK10: IČ: | AN10: 00302546 | BS10: 0,01
E11: Město Hanušovice | AK11: DIČ: | AN11: CZ00302546 | BS11: 0,01
BS12: 0,01
D13: Účastník: | AK13: IČ: | AN13: Vyplň údaj | BS13: 0,01
E14: Vyplň údaj | AK14: DIČ: | AN14: Vyplň údaj | BS14: 0,01
BS15: False
D16: Projektant: | AK16: IČ: | AN16: 27821251 | BS16: False
E17: Cekr CZ s.r.o. | AK17: DIČ: | AN17: CZ27821251 | BS17: True
BS18: 0,01
D19: Zpracovatel: | AK19: IČ: | BS19: 0,01
E20: Jan Zamykal, CS ÚRS 2026/I | AK20: DIČ: | BS20: False
D22: Poznámka:
E23: Soupis prací je sestaven s využitím Cenové soustavy ÚRS. Položky, které pochází z této cenové soustavy, jsou ve sloupci 'Cenová soustava' označeny popisem 'CS ÚRS' a úrovní příslušného kalendářního pololetí. Veškeré další informace vymezující popis a podmínky použití těchto položek z Cenové soustavy, které nejsou uvedeny přímo v soupisu prací, jsou neomezeně dálkově k dispozici na webu podminky.urs.cz.
D26: Cena bez DPH | AK26: =ROUND(AG54,2) -> 0
L28: Sazba daně | W28: Základ daně | AK28: Výše daně
D29: DPH | F29: základní | L29: 0.21 | W29: =ROUND(AZ54, 2) -> 0 | AK29: =ROUND(AV54, 2) -> 0
F30: snížená | L30: 0.12 | W30: =ROUND(BA54, 2) -> 0 | AK30: =ROUND(AW54, 2) -> 0
F31: zákl. přenesená | L31: 0.21 | W31: =ROUND(BB54, 2) -> 0 | AK31: 0
F32: sníž. přenesená | L32: 0.12 | W32: =ROUND(BC54, 2) -> 0 | AK32: 0
F33: nulová | L33: 0 | W33: =ROUND(BD54, 2) -> 0 | AK33: 0
D35: Cena s DPH | T35: v | X35: CZK | AK35: =SUM(AK26:AK33) -> 0
C42: REKAPITULACE OBJEKTŮ STAVBY A SOUPISŮ PRACÍ
C44: Kód: | L44: =K5 -> 1247-26/tp-P
C45: Stavba: | L45: =K6 -> Hanušovice - Holba - rámcový rozpočet úprav oblasti
C47: Místo: | L47: =IF(K8="","",K8) -> k.ú. Hanušovice | AI47: Datum: | AM47: =IF(AN8= "","",AN8) -> 4. 8. 2026
C49: Zadavatel: | L49: =IF(E11= "","",E11) -> Město Hanušovice | AI49: Projektant: | AM49: =IF(E17="","",E17) -> Cekr CZ s.r.o. | AS49: Informatívní údaje z listů zakázek
C50: Účastník: | L50: =IF(E14= "Vyplň údaj","",E14) | AI50: Zpracovatel: | AM50: =IF(E20="","",E20) -> Jan Zamykal, CS ÚRS 2026/I
C52: Kód | I52: Popis | AG52: Cena bez DPH [CZK] | AN52: Cena s DPH [CZK] | AQ52: Typ | AS52: z toho Ostat._x000D_ náklady [CZK] | AT52: DPH [CZK] | AU52: Normohodiny [h] | AV52: DPH základní [CZK] | AW52: DPH snížená [CZK] | AX52: DPH základní přenesená_x000D_ [CZK] | AY52: DPH snížená přenesená_x000D_ [CZK] | AZ52: Základna_x000D_ DPH základní | BA52: Základna_x000D_ DPH snížená | BB52: Základna_x000D_ DPH zákl. přenesená | BC52: Základna_x000D_ DPH sníž. přenesená | BD52: Základna_x000D_ DPH nulová
C54: Náklady stavby celkem | AG54: =ROUND(AG55+AG57+AG69+AG71,2) -> 0 | AN54: =SUM(AG54,AT54) -> 0 | AS54: =ROUND(AS55+AS57+AS69+AS71,2) -> 0 | AT54: =ROUND(SUM(AV54:AW54),2) -> 0 | AU54: =ROUND(AU55+AU57+AU69+AU71,5) -> 0 | AV54: =ROUND(AZ54*L29,2) -> 0 | AW54: =ROUND(BA54*L30,2) -> 0 | AX54: =ROUND(BB54*L29,2) -> 0 | AY54: =ROUND(BC54*L30,2) -> 0 | AZ54: =ROUND(AZ55+AZ57+AZ69+AZ71,2) -> 0 | BA54: =ROUND(BA55+BA57+BA69+BA71,2) -> 0 | BB54: =ROUND(BB55+BB57+BB69+BB71,2) -> 0 | BC54: =ROUND(BC55+BC57+BC69+BC71,2) -> 0 | BD54: =ROUND(BD55+BD57+BD69+BD71,2) -> 0 | BS54: D | BT54: 0 | BU54: ###NOIMPORT### | BV54: IMPORT | BW54: {5bad87a3-ad83-448b-bb67-bc5dc6202ef8} | BX54: {00000000-0000-0000-0000-000000000000}
D55: 000 | J55: Objekty přípravy staveniště | AG55: =ROUND(AG56,2) -> 0 | AN55: =SUM(AG55,AT55) -> 0 | AQ55: STA | AS55: =ROUND(AS56,2) -> 0 | AT55: =ROUND(SUM(AV55:AW55),2) -> 0 | AU55: =ROUND(AU56,5) -> 0 | AV55: =ROUND(AZ55*L29,2) -> 0 | AW55: =ROUND(BA55*L30,2) -> 0 | AX55: =ROUND(BB55*L29,2) -> 0 | AY55: =ROUND(BC55*L30,2) -> 0 | AZ55: =ROUND(AZ56,2) -> 0 | BA55: =ROUND(BA56,2) -> 0 | BB55: =ROUND(BB56,2) -> 0 | BC55: =ROUND(BC56,2) -> 0 | BD55: =ROUND(BD56,2) -> 0 | BS55: D | BT55: 1 | BU55: ###NOIMPORT### | BV55: IMPORT | BW55: {2deec942-6563-4c7d-8ab9-e29e64106373} | BX55: {5bad87a3-ad83-448b-bb67-bc5dc6202ef8} | CM55: 2
A56: / | E56: SO 001 | K56: Příprava staveniště, demolice - vnitroblok | AG56: ='SO 001 - Příprava staveni...'!J32 -> 0 | AN56: =SUM(AG56,AT56) -> 0 | AQ56: Soupis | AS56: 0 | AT56: =ROUND(SUM(AV56:AW56),2) -> 0 | AU56: ='SO 001 - Příprava staveni...'!P90 -> 0 | AV56: ='SO 001 - Příprava staveni...'!J35 -> 0 | AW56: ='SO 001 - Příprava staveni...'!J36 -> 0 | AX56: ='SO 001 - Příprava staveni...'!J37 -> 0 | AY56: ='SO 001 - Příprava staveni...'!J38 -> 0 | AZ56: ='SO 001 - Příprava staveni...'!F35 -> 0 | BA56: ='SO 001 - Příprava staveni...'!F36 -> 0 | BB56: ='SO 001 - Příprava staveni...'!F37 -> 0 | BC56: ='SO 001 - Příprava staveni...'!F38 -> 0 | BD56: ='SO 001 - Příprava staveni...'!F39 -> 0 | BT56: 2 | BV56: IMPORT | BW56: {d59b99a8-548d-4606-b1f8-436dda4c39e7} | BX56: {2deec942-6563-4c7d-8ab9-e29e64106373}
D57: 100 | J57: Komunikace | AG57: =ROUND(SUM(AG58:AG68),2) -> 0 | AN57: =SUM(AG57,AT57) -> 0 | AQ57: STA | AS57: =ROUND(SUM(AS58:AS68),2) -> 0 | AT57: =ROUND(SUM(AV57:AW57),2) -> 0 | AU57: =ROUND(SUM(AU58:AU68),5) -> 0 | AV57: =ROUND(AZ57*L29,2) -> 0 | AW57: =ROUND(BA57*L30,2) -> 0 | AX57: =ROUND(BB57*L29,2) -> 0 | AY57: =ROUND(BC57*L30,2) -> 0 | AZ57: =ROUND(SUM(AZ58:AZ68),2) -> 0 | BA57: =ROUND(SUM(BA58:BA68),2) -> 0 | BB57: =ROUND(SUM(BB58:BB68),2) -> 0 | BC57: =ROUND(SUM(BC58:BC68),2) -> 0 | BD57: =ROUND(SUM(BD58:BD68),2) -> 0 | BS57: D | BT57: 1 | BU57: ###NOIMPORT### | BV57: IMPORT | BW57: {3e50805b-7122-4b6e-bf32-a800b178e540} | BX57: {5bad87a3-ad83-448b-bb67-bc5dc6202ef8} | CM57: 2
A58: / | E58: SO 101 | K58: Komunikace vozidlová - MK 26c | AG58: ='SO 101 - Komunikace vozid...'!J32 -> 0 | AN58: =SUM(AG58,AT58) -> 0 | AQ58: Soupis | AS58: 0 | AT58: =ROUND(SUM(AV58:AW58),2) -> 0 | AU58: ='SO 101 - Komunikace vozid...'!P91 -> 0 | AV58: ='SO 101 - Komunikace vozid...'!J35 -> 0 | AW58: ='SO 101 - Komunikace vozid...'!J36 -> 0 | AX58: ='SO 101 - Komunikace vozid...'!J37 -> 0 | AY58: ='SO 101 - Komunikace vozid...'!J38 -> 0 | AZ58: ='SO 101 - Komunikace vozid...'!F35 -> 0 | BA58: ='SO 101 - Komunikace vozid...'!F36 -> 0 | BB58: ='SO 101 - Komunikace vozid...'!F37 -> 0 | BC58: ='SO 101 - Komunikace vozid...'!F38 -> 0 | BD58: ='SO 101 - Komunikace vozid...'!F39 -> 0 | BT58: 2 | BV58: IMPORT | BW58: {1ecbe3f3-69db-4de6-906f-b8ae858e51ed} | BX58: {3e50805b-7122-4b6e-bf32-a800b178e540}
A59: / | E59: SO 101.1 | K59: Komunikace vozidlová - MK 2c | AG59: ='SO 101.1 - Komunikace voz...'!J32 -> 0 | AN59: =SUM(AG59,AT59) -> 0 | AQ59: Soupis | AS59: 0 | AT59: =ROUND(SUM(AV59:AW59),2) -> 0 | AU59: ='SO 101.1 - Komunikace voz...'!P91 -> 0 | AV59: ='SO 101.1 - Komunikace voz...'!J35 -> 0 | AW59: ='SO 101.1 - Komunikace voz...'!J36 -> 0 | AX59: ='SO 101.1 - Komunikace voz...'!J37 -> 0 | AY59: ='SO 101.1 - Komunikace voz...'!J38 -> 0 | AZ59: ='SO 101.1 - Komunikace voz...'!F35 -> 0 | BA59: ='SO 101.1 - Komunikace voz...'!F36 -> 0 | BB59: ='SO 101.1 - Komunikace voz...'!F37 -> 0 | BC59: ='SO 101.1 - Komunikace voz...'!F38 -> 0 | BD59: ='SO 101.1 - Komunikace voz...'!F39 -> 0 | BT59: 2 | BV59: IMPORT | BW59: {1e9e3687-1a79-4efa-b902-f8e8048b201a} | BX59: {3e50805b-7122-4b6e-bf32-a800b178e540}
A60: / | E60: SO 101.2 | K60: Komunikace vozidlová - MK 28c | AG60: ='SO 101.2 - Komunikace voz...'!J32 -> 0 | AN60: =SUM(AG60,AT60) -> 0 | AQ60: Soupis | AS60: 0 | AT60: =ROUND(SUM(AV60:AW60),2) -> 0 | AU60: ='SO 101.2 - Komunikace voz...'!P92 -> 0 | AV60: ='SO 101.2 - Komunikace voz...'!J35 -> 0 | AW60: ='SO 101.2 - Komunikace voz...'!J36 -> 0 | AX60: ='SO 101.2 - Komunikace voz...'!J37 -> 0 | AY60: ='SO 101.2 - Komunikace voz...'!J38 -> 0 | AZ60: ='SO 101.2 - Komunikace voz...'!F35 -> 0 | BA60: ='SO 101.2 - Komunikace voz...'!F36 -> 0 | BB60: ='SO 101.2 - Komunikace voz...'!F37 -> 0 | BC60: ='SO 101.2 - Komunikace voz...'!F38 -> 0 | BD60: ='SO 101.2 - Komunikace voz...'!F39 -> 0 | BT60: 2 | BV60: IMPORT | BW60: {c1e42a41-45e9-487e-8068-2b7d9f21bf02} | BX60: {3e50805b-7122-4b6e-bf32-a800b178e540}
A61: / | E61: SO 101.3 | K61: Komunikace vozidlová - UK 29u | AG61: ='SO 101.3 - Komunikace voz...'!J32 -> 0 | AN61: =SUM(AG61,AT61) -> 0 | AQ61: Soupis | AS61: 0 | AT61: =ROUND(SUM(AV61:AW61),2) -> 0 | AU61: ='SO 101.3 - Komunikace voz...'!P91 -> 0 | AV61: ='SO 101.3 - Komunikace voz...'!J35 -> 0 | AW61: ='SO 101.3 - Komunikace voz...'!J36 -> 0 | AX61: ='SO 101.3 - Komunikace voz...'!J37 -> 0 | AY61: ='SO 101.3 - Komunikace voz...'!J38 -> 0 | AZ61: ='SO 101.3 - Komunikace voz...'!F35 -> 0 | BA61: ='SO 101.3 - Komunikace voz...'!F36 -> 0 | BB61: ='SO 101.3 - Komunikace voz...'!F37 -> 0 | BC61: ='SO 101.3 - Komunikace voz...'!F38 -> 0 | BD61: ='SO 101.3 - Komunikace voz...'!F39 -> 0 | BT61: 2 | BV61: IMPORT | BW61: {b98a2ae1-8358-4989-942a-95250cf173e4} | BX61: {3e50805b-7122-4b6e-bf32-a800b178e540}
A62: / | E62: SO 101.4 | K62: Komunikace vozidlová - MK 40c | AG62: ='SO 101.4 - Komunikace voz...'!J32 -> 0 | AN62: =SUM(AG62,AT62) -> 0 | AQ62: Soupis | AS62: 0 | AT62: =ROUND(SUM(AV62:AW62),2) -> 0 | AU62: ='SO 101.4 - Komunikace voz...'!P91 -> 0 | AV62: ='SO 101.4 - Komunikace voz...'!J35 -> 0 | AW62: ='SO 101.4 - Komunikace voz...'!J36 -> 0 | AX62: ='SO 101.4 - Komunikace voz...'!J37 -> 0 | AY62: ='SO 101.4 - Komunikace voz...'!J38 -> 0 | AZ62: ='SO 101.4 - Komunikace voz...'!F35 -> 0 | BA62: ='SO 101.4 - Komunikace voz...'!F36 -> 0 | BB62: ='SO 101.4 - Komunikace voz...'!F37 -> 0 | BC62: ='SO 101.4 - Komunikace voz...'!F38 -> 0 | BD62: ='SO 101.4 - Komunikace voz...'!F39 -> 0 | BT62: 2 | BV62: IMPORT | BW62: {de5ddde9-c4d8-47aa-89a2-b791e2c09488} | BX62: {3e50805b-7122-4b6e-bf32-a800b178e540}
A63: / | E63: SO 101.5 | K63: Komunikace vozidlová - UK 39u | AG63: ='SO 101.5 - Komunikace voz...'!J32 -> 0 | AN63: =SUM(AG63,AT63) -> 0 | AQ63: Soupis | AS63: 0 | AT63: =ROUND(SUM(AV63:AW63),2) -> 0 | AU63: ='SO 101.5 - Komunikace voz...'!P91 -> 0 | AV63: ='SO 101.5 - Komunikace voz...'!J35 -> 0 | AW63: ='SO 101.5 - Komunikace voz...'!J36 -> 0 | AX63: ='SO 101.5 - Komunikace voz...'!J37 -> 0 | AY63: ='SO 101.5 - Komunikace voz...'!J38 -> 0 | AZ63: ='SO 101.5 - Komunikace voz...'!F35 -> 0 | BA63: ='SO 101.5 - Komunikace voz...'!F36 -> 0 | BB63: ='SO 101.5 - Komunikace voz...'!F37 -> 0 | BC63: ='SO 101.5 - Komunikace voz...'!F38 -> 0 | BD63: ='SO 101.5 - Komunikace voz...'!F39 -> 0 | BT63: 2 | BV63: IMPORT | BW63: {2296a6b3-9dd6-4ffa-92a5-a701af109932} | BX63: {3e50805b-7122-4b6e-bf32-a800b178e540}
A64: / | E64: SO 102 | K64: Odstavné plochy | AG64: ='SO 102 - Odstavné plochy'!J32 -> 0 | AN64: =SUM(AG64,AT64) -> 0 | AQ64: Soupis | AS64: 0 | AT64: =ROUND(SUM(AV64:AW64),2) -> 0 | AU64: ='SO 102 - Odstavné plochy'!P91 -> 0 | AV64: ='SO 102 - Odstavné plochy'!J35 -> 0 | AW64: ='SO 102 - Odstavné plochy'!J36 -> 0 | AX64: ='SO 102 - Odstavné plochy'!J37 -> 0 | AY64: ='SO 102 - Odstavné plochy'!J38 -> 0 | AZ64: ='SO 102 - Odstavné plochy'!F35 -> 0 | BA64: ='SO 102 - Odstavné plochy'!F36 -> 0 | BB64: ='SO 102 - Odstavné plochy'!F37 -> 0 | BC64: ='SO 102 - Odstavné plochy'!F38 -> 0 | BD64: ='SO 102 - Odstavné plochy'!F39 -> 0 | BT64: 2 | BV64: IMPORT | BW64: {057062ea-d08c-4795-b402-21d4dc78cb19} | BX64: {3e50805b-7122-4b6e-bf32-a800b178e540}
A65: / | E65: SO 103 | K65: Sjezdy | AG65: ='SO 103 - Sjezdy'!J32 -> 0 | AN65: =SUM(AG65,AT65) -> 0 | AQ65: Soupis | AS65: 0 | AT65: =ROUND(SUM(AV65:AW65),2) -> 0 | AU65: ='SO 103 - Sjezdy'!P90 -> 0 | AV65: ='SO 103 - Sjezdy'!J35 -> 0 | AW65: ='SO 103 - Sjezdy'!J36 -> 0 | AX65: ='SO 103 - Sjezdy'!J37 -> 0 | AY65: ='SO 103 - Sjezdy'!J38 -> 0 | AZ65: ='SO 103 - Sjezdy'!F35 -> 0 | BA65: ='SO 103 - Sjezdy'!F36 -> 0 | BB65: ='SO 103 - Sjezdy'!F37 -> 0 | BC65: ='SO 103 - Sjezdy'!F38 -> 0 | BD65: ='SO 103 - Sjezdy'!F39 -> 0 | BT65: 2 | BV65: IMPORT | BW65: {09b2e1a6-e385-4243-b0bf-0f21c1c6b263} | BX65: {3e50805b-7122-4b6e-bf32-a800b178e540}
A66: / | E66: SO 110 | K66: Komunikace pro pěší - chodníky 15d, 48d a 49d | AG66: ='SO 110 - Komunikace pro p...'!J32 -> 0 | AN66: =SUM(AG66,AT66) -> 0 | AQ66: Soupis | AS66: 0 | AT66: =ROUND(SUM(AV66:AW66),2) -> 0 | AU66: ='SO 110 - Komunikace pro p...'!P91 -> 0 | AV66: ='SO 110 - Komunikace pro p...'!J35 -> 0 | AW66: ='SO 110 - Komunikace pro p...'!J36 -> 0 | AX66: ='SO 110 - Komunikace pro p...'!J37 -> 0 | AY66: ='SO 110 - Komunikace pro p...'!J38 -> 0 | AZ66: ='SO 110 - Komunikace pro p...'!F35 -> 0 | BA66: ='SO 110 - Komunikace pro p...'!F36 -> 0 | BB66: ='SO 110 - Komunikace pro p...'!F37 -> 0 | BC66: ='SO 110 - Komunikace pro p...'!F38 -> 0 | BD66: ='SO 110 - Komunikace pro p...'!F39 -> 0 | BT66: 2 | BV66: IMPORT | BW66: {138b5d37-ad09-4932-9e1d-49db7ee5c1d1} | BX66: {3e50805b-7122-4b6e-bf32-a800b178e540}
A67: / | E67: SO 110.1 | K67: Komunikace pro pěší - chodník 30d | AG67: ='SO 110.1 - Komunikace pro...'!J32 -> 0 | AN67: =SUM(AG67,AT67) -> 0 | AQ67: Soupis | AS67: 0 | AT67: =ROUND(SUM(AV67:AW67),2) -> 0 | AU67: ='SO 110.1 - Komunikace pro...'!P92 -> 0 | AV67: ='SO 110.1 - Komunikace pro...'!J35 -> 0 | AW67: ='SO 110.1 - Komunikace pro...'!J36 -> 0 | AX67: ='SO 110.1 - Komunikace pro...'!J37 -> 0 | AY67: ='SO 110.1 - Komunikace pro...'!J38 -> 0 | AZ67: ='SO 110.1 - Komunikace pro...'!F35 -> 0 | BA67: ='SO 110.1 - Komunikace pro...'!F36 -> 0 | BB67: ='SO 110.1 - Komunikace pro...'!F37 -> 0 | BC67: ='SO 110.1 - Komunikace pro...'!F38 -> 0 | BD67: ='SO 110.1 - Komunikace pro...'!F39 -> 0 | BT67: 2 | BV67: IMPORT | BW67: {30756037-9ca2-433b-98b3-1f46c350355c} | BX67: {3e50805b-7122-4b6e-bf32-a800b178e540}
A68: / | E68: SO 191 | K68: DIO | AG68: ='SO 191 - DIO'!J32 -> 0 | AN68: =SUM(AG68,AT68) -> 0 | AQ68: Soupis | AS68: 0 | AT68: =ROUND(SUM(AV68:AW68),2) -> 0 | AU68: ='SO 191 - DIO'!P87 -> 0 | AV68: ='SO 191 - DIO'!J35 -> 0 | AW68: ='SO 191 - DIO'!J36 -> 0 | AX68: ='SO 191 - DIO'!J37 -> 0 | AY68: ='SO 191 - DIO'!J38 -> 0 | AZ68: ='SO 191 - DIO'!F35 -> 0 | BA68: ='SO 191 - DIO'!F36 -> 0 | BB68: ='SO 191 - DIO'!F37 -> 0 | BC68: ='SO 191 - DIO'!F38 -> 0 | BD68: ='SO 191 - DIO'!F39 -> 0 | BT68: 2 | BV68: IMPORT | BW68: {ce1d551d-e133-410d-b542-e47bdfefa181} | BX68: {3e50805b-7122-4b6e-bf32-a800b178e540}
D69: 800 | J69: Vegetační úpravy a rekultivace | AG69: =ROUND(AG70,2) -> 0 | AN69: =SUM(AG69,AT69) -> 0 | AQ69: STA | AS69: =ROUND(AS70,2) -> 0 | AT69: =ROUND(SUM(AV69:AW69),2) -> 0 | AU69: =ROUND(AU70,5) -> 0 | AV69: =ROUND(AZ69*L29,2) -> 0 | AW69: =ROUND(BA69*L30,2) -> 0 | AX69: =ROUND(BB69*L29,2) -> 0 | AY69: =ROUND(BC69*L30,2) -> 0 | AZ69: =ROUND(AZ70,2) -> 0 | BA69: =ROUND(BA70,2) -> 0 | BB69: =ROUND(BB70,2) -> 0 | BC69: =ROUND(BC70,2) -> 0 | BD69: =ROUND(BD70,2) -> 0 | BS69: D | BT69: 1 | BU69: ###NOIMPORT### | BV69: IMPORT | BW69: {35b4853b-35d5-4330-997a-f90a1de86d49} | BX69: {5bad87a3-ad83-448b-bb67-bc5dc6202ef8} | CM69: 2
A70: / | E70: SO 801 | K70: Sadové úpravy, JTÚ a rekultivace | AG70: ='SO 801 - Sadové úpravy, J...'!J32 -> 0 | AN70: =SUM(AG70,AT70) -> 0 | AQ70: Soupis | AS70: 0 | AT70: =ROUND(SUM(AV70:AW70),2) -> 0 | AU70: ='SO 801 - Sadové úpravy, J...'!P87 -> 0 | AV70: ='SO 801 - Sadové úpravy, J...'!J35 -> 0 | AW70: ='SO 801 - Sadové úpravy, J...'!J36 -> 0 | AX70: ='SO 801 - Sadové úpravy, J...'!J37 -> 0 | AY70: ='SO 801 - Sadové úpravy, J...'!J38 -> 0 | AZ70: ='SO 801 - Sadové úpravy, J...'!F35 -> 0 | BA70: ='SO 801 - Sadové úpravy, J...'!F36 -> 0 | BB70: ='SO 801 - Sadové úpravy, J...'!F37 -> 0 | BC70: ='SO 801 - Sadové úpravy, J...'!F38 -> 0 | BD70: ='SO 801 - Sadové úpravy, J...'!F39 -> 0 | BT70: 2 | BV70: IMPORT | BW70: {4d6f68b2-625f-4c79-bdf8-f786e2d6013a} | BX70: {35b4853b-35d5-4330-997a-f90a1de86d49}
D71: 900 | J71: Volná řada objektů | AG71: =ROUND(AG72,2) -> 0 | AN71: =SUM(AG71,AT71) -> 0 | AQ71: STA | AS71: =ROUND(AS72,2) -> 0 | AT71: =ROUND(SUM(AV71:AW71),2) -> 0 | AU71: =ROUND(AU72,5) -> 0 | AV71: =ROUND(AZ71*L29,2) -> 0 | AW71: =ROUND(BA71*L30,2) -> 0 | AX71: =ROUND(BB71*L29,2) -> 0 | AY71: =ROUND(BC71*L30,2) -> 0 | AZ71: =ROUND(AZ72,2) -> 0 | BA71: =ROUND(BA72,2) -> 0 | BB71: =ROUND(BB72,2) -> 0 | BC71: =ROUND(BC72,2) -> 0 | BD71: =ROUND(BD72,2) -> 0 | BS71: D | BT71: 1 | BU71: ###NOIMPORT### | BV71: IMPORT | BW71: {74db9fa9-0a98-4da3-8d5a-9e41d7363606} | BX71: {5bad87a3-ad83-448b-bb67-bc5dc6202ef8} | CM71: 2
A72: / | E72: SO 901 | K72: VRN | AG72: ='SO 901 - VRN'!J32 -> 0 | AN72: =SUM(AG72,AT72) -> 0 | AQ72: Soupis | AS72: 0 | AT72: =ROUND(SUM(AV72:AW72),2) -> 0 | AU72: ='SO 901 - VRN'!P89 -> 0 | AV72: ='SO 901 - VRN'!J35 -> 0 | AW72: ='SO 901 - VRN'!J36 -> 0 | AX72: ='SO 901 - VRN'!J37 -> 0 | AY72: ='SO 901 - VRN'!J38 -> 0 | AZ72: ='SO 901 - VRN'!F35 -> 0 | BA72: ='SO 901 - VRN'!F36 -> 0 | BB72: ='SO 901 - VRN'!F37 -> 0 | BC72: ='SO 901 - VRN'!F38 -> 0 | BD72: ='SO 901 - VRN'!F39 -> 0 | BT72: 2 | BV72: IMPORT | BW72: {01181896-6b1f-4fa7-a27c-2dae9f4c6158} | BX72: {74db9fa9-0a98-4da3-8d5a-9e41d7363606}

Sheet SO 001 - Příprava staveni...
AT2: {d59b99a8-548d-4606-b1f8-436dda4c39e7}
AT3: 2
D4: KRYCÍ LIST SOUPISU PRACÍ | M4: v --- níže se nacházejí doplnkové a pomocné údaje k sestavám --- v | AT4: False
D6: Stavba:
E7: ='Rekapitulace stavby'!K6 -> Hanušovice - Holba - rámcový rozpočet úprav oblasti
D8: Objekt:
E9: 000 - Objekty přípravy staveniště
D10: Soupis:
E11: SO 001 - Příprava staveniště, demolice - vnitroblok
D13: KSO: | I13: CC-CZ:
D14: Místo: | F14: k.ú. Hanušovice | I14: Datum: | J14: ='Rekapitulace stavby'!AN8 -> 4. 8. 2026
D16: Zadavatel: | I16: IČ: | J16: 00302546
E17: Město Hanušovice | I17: DIČ: | J17: CZ00302546
D19: Účastník: | I19: IČ: | J19: ='Rekapitulace stavby'!AN13 -> Vyplň údaj
E20: ='Rekapitulace stavby'!E14 -> Vyplň údaj | I20: DIČ: | J20: ='Rekapitulace stavby'!AN14 -> Vyplň údaj
D22: Projektant: | I22: IČ: | J22: 27821251
E23: Cekr CZ s.r.o. | I23: DIČ: | J23: CZ27821251
D25: Zpracovatel: | I25: IČ:
E26: Jan Zamykal, CS ÚRS 2026/I | I26: DIČ:
D28: Poznámka:
D32: Cena bez DPH | J32: =ROUND(J90, 2) -> 0
F34: Základ daně | I34: Sazba daně | J34: Výše daně
D35: DPH | E35: základní | F35: =ROUND((SUM(BE90:BE274)), 2) -> 0 | I35: 0.21 | J35: =ROUND(((SUM(BE90:BE274))*I35), 2) -> 0
E36: snížená | F36: =ROUND((SUM(BF90:BF274)), 2) -> 0 | I36: 0.12 | J36: =ROUND(((SUM(BF90:BF274))*I36), 2) -> 0
E37: zákl. přenesená | F37: =ROUND((SUM(BG90:BG274)), 2) -> 0 | I37: 0.21 | J37: =0 -> 0
E38: sníž. přenesená | F38: =ROUND((SUM(BH90:BH274)), 2) -> 0 | I38: 0.12 | J38: =0 -> 0
E39: nulová | F39: =ROUND((SUM(BI90:BI274)), 2) -> 0 | I39: 0 | J39: =0 -> 0
D41: Cena s DPH | G41: v | H41: CZK | J41: =SUM(J32:J39) -> 0
C47: REKAPITULACE ČLENĚNÍ SOUPISU PRACÍ
C49: Stavba:
E50: =E7 -> Hanušovice - Holba - rámcový rozpočet úprav oblasti
C51: Objekt:
E52: 000 - Objekty přípravy staveniště
C53: Soupis:
E54: =E11 -> SO 001 - Příprava staveniště, demolice - vnitroblok
C56: Místo: | F56: =F14 -> k.ú. Hanušovice | I56: Datum: | J56: =IF(J14="","",J14) -> 4. 8. 2026
C58: Zadavatel: | F58: =E17 -> Město Hanušovice | I58: Projektant: | J58: =E23 -> Cekr CZ s.r.o.
C59: Účastník: | F59: =IF(E20="","",E20) -> Vyplň údaj | I59: Zpracovatel: | J59: =E26 -> Jan Zamykal, CS ÚRS 2026/I
C61: Kód dílu - Popis | J61: Cena celkem [CZK]
C63: Náklady stavby celkem | J63: =J90 -> 0 | AU63: -1
D64: HSV - Práce a dodávky HSV | J64: =J91 -> 0
D65: 1 - Zemní práce | J65: =J92 -> 0
D66: 9 - Ostatní konstrukce a práce, bourání | J66: =J227 -> 0
D67: 997 - Doprava suti a vybouraných hmot | J67: =J235 -> 0
D68: 998 - Přesun hmot | J68: =J272 -> 0
C75: SOUPIS PRACÍ
C77: Stavba:
E78: =E7 -> Hanušovice - Holba - rámcový rozpočet úprav oblasti
C79: Objekt:
E80: 000 - Objekty přípravy staveniště
C81: Soupis:
E82: =E11 -> SO 001 - Příprava staveniště, demolice - vnitroblok
C84: Místo: | F84: =F14 -> k.ú. Hanušovice | I84: Datum: | J84: =IF(J14="","",J14) -> 4. 8. 2026
C86: Zadavatel: | F86: =E17 -> Město Hanušovice | I86: Projektant: | J86: =E23 -> Cekr CZ s.r.o.
C87: Účastník: | F87: =IF(E20="","",E20) -> Vyplň údaj | I87: Zpracovatel: | J87: =E26 -> Jan Zamykal, CS ÚRS 2026/I
C89: PČ | D89: Typ | E89: Kód | F89: Popis | G89: MJ | H89: Množství | I89: J.cena [CZK] | J89: Cena celkem [CZK] | K89: Cenová soustava | N89: DPH | O89: J. Nh [h] | P89: Nh celkem [h] | Q89: J. hmotnost [t] | R89: Hmotnost celkem [t] | S89: J. suť [t] | T89: Suť Celkem [t]
C90: Náklady soupisu celkem | J90: =BK90 -> 0 | P90: =P91 -> 0 | R90: =R91 -> 0.031524 | T90: =T91 -> 1018.1135 | AT90: D | AU90: -1 | BK90: =BK91 -> 0
D91: D | E91: HSV | F91: Práce a dodávky HSV | J91: =BK91 -> 0 | P91: =P92+P227+P235+P272 -> 0 | R91: =R92+R227+R235+R272 -> 0.031524 | T91: =T92+T227+T235+T272 -> 1018.1135 | AR91: 1 | AT91: D | AU91: 0 | AY91: ROZPOCET | BK91: =BK92+BK227+BK235+BK272 -> 0
D92: D | E92: 1 | F92: Zemní práce | J92: =BK92 -> 0 | P92: =SUM(P93:P226) -> 0 | R92: =SUM(R93:R226) -> 0.031524 | T92: =SUM(T93:T226) -> 1018.1135 | AR92: 1 | AT92: D | AU92: 1 | AY92: ROZPOCET | BK92: =SUM(BK93:BK226) -> 0
C93: 1 | D93: K | E93: 111211101 | F93: Odstranění křovin a stromů s odstraněním kořenů ručně průměru kmene do 100 mm jakékoliv plochy v rovině nebo ve svahu o sklonu do 1:5 | G93: m2 | H93: 30 | J93: =ROUND(I93*H93,2) -> 0 | K93: CS ÚRS 2026 01 | N93: základní | P93: =O93*H93 -> 0 | Q93: 0 | R93: =Q93*H93 -> 0 | S93: 0 | T93: =S93*H93 -> 0 | AR93: 4 | AT93: K | AU93: 2 | AY93: ROZPOCET | BE93: =IF(N93="základní",J93,0) -> 0 | BF93: =IF(N93="snížená",J93,0) -> 0 | BG93: =IF(N93="zákl. přenesená",J93,0) -> 0 | BH93: =IF(N93="sníž. přenesená",J93,0) -> 0 | BI93: =IF(N93="nulová",J93,0) -> 0 | BJ93: 1 | BK93: =ROUND(I93*H93,2) -> 0 | BL93: 4 | BM93: -330150821
D94: Online PSC | F94: https://podminky.urs.cz/item/CS_URS_2026_01/111211101 | AT94: Online PSC | AU94: 2
D95: VV | F95: "odstranění keřů a křovin - nové chodníky dle PD" | AT95: VV | AU95: 2 | AV95: 1 | AW95: True | AX95: 0 | AY95: ROZPOCET
D96: VV | F96: "odečteno digitálně z grafické části PD" | AT96: VV | AU96: 2 | AV96: 1 | AW96: True | AX96: 0 | AY96: ROZPOCET
D97: VV | F97: 30,0 | H97: 30 | AT97: VV | AU97: 2 | AV97: 2 | AW97: True | AX97: 0 | AY97: ROZPOCET
D98: VV | F98: Součet | H98: 30 | AT98: VV | AU98: 2 | AV98: 4 | AW98: True | AX98: 1 | AY98: ROZPOCET
C99: 2 | D99: K | E99: 112151312 | F99: Pokácení stromu postupné bez spouštění částí kmene a koruny o průměru na řezné ploše pařezu přes 200 do 300 mm | G99: kus | H99: 5 | J99: =ROUND(I99*H99,2) -> 0 | K99: CS ÚRS 2026 01 | N99: základní | P99: =O99*H99 -> 0 | Q99: 0 | R99: =Q99*H99 -> 0 | S99: 0 | T99: =S99*H99 -> 0 | AR99: 4 | AT99: K | AU99: 2 | AY99: ROZPOCET | BE99: =IF(N99="základní",J99,0) -> 0 | BF99: =IF(N99="snížená",J99,0) -> 0 | BG99: =IF(N99="zákl. přenesená",J99,0) -> 0 | BH99: =IF(N99="sníž. přenesená",J99,0) -> 0 | BI99: =IF(N99="nulová",J99,0) -> 0 | BJ99: 1 | BK99: =ROUND(I99*H99,2) -> 0 | BL99: 4 | BM99: 1850584670
D100: Online PSC | F100: https://podminky.urs.cz/item/CS_URS_2026_01/112151312 | AT100: Online PSC | AU100: 2
D101: VV | F101: "ztížené kácení stromu ve vnitrobloku - nové chodníky dle PD" | AT101: VV | AU101: 2 | AV101: 1 | AW101: True | AX101: 0 | AY101: ROZPOCET
D102: VV | F102: "odečteno digitálně z grafické části PD" | AT102: VV | AU102: 2 | AV102: 1 | AW102: True | AX102: 0 | AY102: ROZPOCET
D103: VV | F103: 5 | H103: 5 | AT103: VV | AU103: 2 | AV103: 2 | AW103: True | AX103: 0 | AY103: ROZPOCET
D104: VV | F104: Součet | H104: 5 | AT104: VV | AU104: 2 | AV104: 4 | AW104: True | AX104: 1 | AY104: ROZPOCET
C105: 3 | D105: K | E105: 112155215 | F105: Štěpkování s naložením na dopravní prostředek a odvozem do 20 km stromků a větví solitérů, průměru kmene do 300 mm | G105: kus | H105: 5 | J105: =ROUND(I105*H105,2) -> 0 | K105: CS ÚRS 2026 01 | N105: základní | P105: =O105*H105 -> 0 | Q105: 0 | R105: =Q105*H105 -> 0 | S105: 0 | T105: =S105*H105 -> 0 | AR105: 4 | AT105: K | AU105: 2 | AY105: ROZPOCET | BE105: =IF(N105="základní",J105,0) -> 0 | BF105: =IF(N105="snížená",J105,0) -> 0 | BG105: =IF(N105="zákl. přenesená",J105,0) -> 0 | BH105: =IF(N105="sníž. přenesená",J105,0) -> 0 | BI105: =IF(N105="nulová",J105,0) -> 0 | BJ105: 1 | BK105: =ROUND(I105*H105,2) -> 0 | BL105: 4 | BM105: -1651272012
D106: Online PSC | F106: https://podminky.urs.cz/item/CS_URS_2026_01/112155215 | AT106: Online PSC | AU106: 2
D107: VV | F107: "štěpkování větví kácených stromů k dalšímu využití na místě" | AT107: VV | AU107: 2 | AV107: 1 | AW107: True | AX107: 0 | AY107: ROZPOCET
D108: VV | F108: 5 | H108: 5 | AT108: VV | AU108: 2 | AV108: 2 | AW108: True | AX108: 0 | AY108: ROZPOCET
D109: VV | F109: Součet | H109: 5 | AT109: VV | AU109: 2 | AV109: 4 | AW109: True | AX109: 1 | AY109: ROZPOCET
C110: 4 | D110: K | E110: 112155311 | F110: Štěpkování s naložením na dopravní prostředek a odvozem do 20 km keřového porostu středně hustého | G110: m2 | H110: 30 | J110: =ROUND(I110*H110,2) -> 0 | K110: CS ÚRS 2026 01 | N110: základní | P110: =O110*H110 -> 0 | Q110: 0 | R110: =Q110*H110 -> 0 | S110: 0 | T110: =S110*H110 -> 0 | AR110: 4 | AT110: K | AU110: 2 | AY110: ROZPOCET | BE110: =IF(N110="základní",J110,0) -> 0 | BF110: =IF(N110="snížená",J110,0) -> 0 | BG110: =IF(N110="zákl. přenesená",J110,0) -> 0 | BH110: =IF(N110="sníž. přenesená",J110,0) -> 0 | BI110: =IF(N110="nulová",J110,0) -> 0 | BJ110: 1 | BK110: =ROUND(I110*H110,2) -> 0 | BL110: 4 | BM110: 651358971
D111: Online PSC | F111: https://podminky.urs.cz/item/CS_URS_2026_01/112155311 | AT111: Online PSC | AU111: 2
D112: VV | F112: "štěpkování keřů a křovin k dalšímu využití na místě" | AT112: VV | AU112: 2 | AV112: 1 | AW112: True | AX112: 0 | AY112: ROZPOCET
D113: VV | F113: 30,0 | H113: 30 | AT113: VV | AU113: 2 | AV113: 2 | AW113: True | AX113: 0 | AY113: ROZPOCET
D114: VV | F114: Součet | H114: 30 | AT114: VV | AU114: 2 | AV114: 4 | AW114: True | AX114: 1 | AY114: ROZPOCET
C115: 5 | D115: K | E115: 112201113 | F115: Odstranění pařezu v rovině nebo na svahu do 1:5 o průměru pařezu na řezné ploše přes 300 do 400 mm | G115: kus | H115: 5 | J115: =ROUND(I115*H115,2) -> 0 | K115: CS ÚRS 2026 01 | N115: základní | P115: =O115*H115 -> 0 | Q115: 0 | R115: =Q115*H115 -> 0 | S115: 0 | T115: =S115*H115 -> 0 | AR115: 4 | AT115: K | AU115: 2 | AY115: ROZPOCET | BE115: =IF(N115="základní",J115,0) -> 0 | BF115: =IF(N115="snížená",J115,0) -> 0 | BG115: =IF(N115="zákl. přenesená",J115,0) -> 0 | BH115: =IF(N115="sníž. přenesená",J115,0) -> 0 | BI115: =IF(N115="nulová",J115,0) -> 0 | BJ115: 1 | BK115: =ROUND(I115*H115,2) -> 0 | BL115: 4 | BM115: -1918738304
D116: Online PSC | F116: https://podminky.urs.cz/item/CS_URS_2026_01/112201113 | AT116: Online PSC | AU116: 2
D117: VV | F117: "ztížené kácení stromu ve vnitrobloku - nové chodníky dle PD" | AT117: VV | AU117: 2 | AV117: 1 | AW117: True | AX117: 0 | AY117: ROZPOCET
D118: VV | F118: "odstranění pařezů vč.jejich likvidace" | AT118: VV | AU118: 2 | AV118: 1 | AW118: True | AX118: 0 | AY118: ROZPOCET
D119: VV | F119: "odečteno digitálně z grafické části PD" | AT119: VV | AU119: 2 | AV119: 1 | AW119: True | AX119: 0 | AY119: ROZPOCET
D120: VV | F120: 5 | H120: 5 | AT120: VV | AU120: 2 | AV120: 2 | AW120: True | AX120: 0 | AY120: ROZPOCET
D121: VV | F121: Součet | H121: 5 | AT121: VV | AU121: 2 | AV121: 4 | AW121: True | AX121: 1 | AY121: ROZPOCET
C122: 6 | D122: K | E122: 113106123 | F122: Rozebrání dlažeb komunikací pro pěší s přemístěním hmot na skládku na vzdálenost do 3 m nebo s naložením na dopravní prostředek s ložem z kameniva nebo živice a s jakoukoliv výplní spár ručně ze zámkové dlažby | G122: m2 | H122: 477.4 | J122: =ROUND(I122*H122,2) -> 0 | K122: CS ÚRS 2026 01 | N122: základní | P122: =O122*H122 -> 0 | Q122: 0 | R122: =Q122*H122 -> 0 | S122: 0.26 | T122: =S122*H122 -> 124.124 | AR122: 4 | AT122: K | AU122: 2 | AY122: ROZPOCET | BE122: =IF(N122="základní",J122,0) -> 0 | BF122: =IF(N122="snížená",J122,0) -> 0 | BG122: =IF(N122="zákl. přenesená",J122,0) -> 0 | BH122: =IF(N122="sníž. přenesená",J122,0) -> 0 | BI122: =IF(N122="nulová",J122,0) -> 0 | BJ122: 1 | BK122: =ROUND(I122*H122,2) -> 0 | BL122: 4 | BM122: 1779249452
D123: Online PSC | F123: https://podminky.urs.cz/item/CS_URS_2026_01/113106123 | AT123: Online PSC | AU123: 2
D124: VV | F124: "rozebrání dlažeb stáv.chodníků dle PD"" | AT124: VV | AU124: 2 | AV124: 1 | AW124: True | AX124: 0 | AY124: ROZPOCET
D125: VV | F125: "odečteno digitálně, výpočet SW" | AT125: VV | AU125: 2 | AV125: 1 | AW125: True | AX125: 0 | AY125: ROZPOCET
D126: VV | F126: "plochy chodníku 49 d; u čp. 490 - 493" | AT126: VV | AU126: 2 | AV126: 1 | AW126: True | AX126: 0 | AY126: ROZPOCET
D127: VV | F127: 131,50+144,90 | H127: 276.4 | AT127: VV | AU127: 2 | AV127: 2 | AW127: True | AX127: 0 | AY127: ROZPOCET
D128: VV | F128: "plochy chodníku 48 d; č p.488 a 489 - vnitroblok +podél ul.Na Holbě" | AT128: VV | AU128: 2 | AV128: 1 | AW128: True | AX128: 0 | AY128: ROZPOCET
D129: VV | F129: 11,80+189,20 | H129: 201 | AT129: VV | AU129: 2 | AV129: 2 | AW129: True | AX129: 0 | AY129: ROZPOCET
D130: VV | F130: Součet | H130: 477.4 | AT130: VV | AU130: 2 | AV130: 4 | AW130: True | AX130: 1 | AY130: ROZPOCET
C131: 7 | D131: K | E131: 113106171 | F131: Rozebrání dlažeb vozovek a ploch s přemístěním hmot na skládku na vzdálenost do 3 m nebo s naložením na dopravní prostředek, s jakoukoliv výplní spár ručně ze zámkové dlažby s ložem z kameniva | G131: m2 | H131: 848.4 | J131: =ROUND(I131*H131,2) -> 0 | K131: CS ÚRS 2026 01 | N131: základní | P131: =O131*H131 -> 0 | Q131: 0 | R131: =Q131*H131 -> 0 | S131: 0.295 | T131: =S131*H131 -> 250.278 | AR131: 4 | AT131: K | AU131: 2 | AY131: ROZPOCET | BE131: =IF(N131="základní",J131,0) -> 0 | BF131: =IF(N131="snížená",J131,0) -> 0 | BG131: =IF(N131="zákl. přenesená",J131,0) -> 0 | BH131: =IF(N131="sníž. přenesená",J131,0) -> 0 | BI131: =IF(N131="nulová",J131,0) -> 0 | BJ131: 1 | BK131: =ROUND(I131*H131,2) -> 0 | BL131: 4 | BM131: 572718429
D132: Online PSC | F132: https://podminky.urs.cz/item/CS_URS_2026_01/113106171 | AT132: Online PSC | AU132: 2
D133: VV | F133: "rozebrání dlažeb stáv.odstavných ploch dle PD"" | AT133: VV | AU133: 2 | AV133: 1 | AW133: True | AX133: 0 | AY133: ROZPOCET
...

Sheet SO 101 - Komunikace vozid...
AT2: {1ecbe3f3-69db-4de6-906f-b8ae858e51ed}
AT3: 2
D4: KRYCÍ LIST SOUPISU PRACÍ | M4: v --- níže se nacházejí doplnkové a pomocné údaje k sestavám --- v | AT4: False
D6: Stavba:
E7: ='Rekapitulace stavby'!K6 -> Hanušovice - Holba - rámcový rozpočet úprav oblasti
D8: Objekt:
E9: 100 - Komunikace
D10: Soupis:
E11: SO 101 - Komunikace vozidlová - MK 26c
D13: KSO: | I13: CC-CZ:
D14: Místo: | F14: k.ú. Hanušovice | I14: Datum: | J14: ='Rekapitulace stavby'!AN8 -> 4. 8. 2026
D16: Zadavatel: | I16: IČ: | J16: 00302546
E17: Město Hanušovice | I17: DIČ: | J17: CZ00302546
D19: Účastník: | I19: IČ: | J19: ='Rekapitulace stavby'!AN13 -> Vyplň údaj
E20: ='Rekapitulace stavby'!E14 -> Vyplň údaj | I20: DIČ: | J20: ='Rekapitulace stavby'!AN14 -> Vyplň údaj
D22: Projektant: | I22: IČ: | J22: 27821251
E23: Cekr CZ s.r.o. | I23: DIČ: | J23: CZ27821251
D25: Zpracovatel: | I25: IČ:
E26: Jan Zamykal, CS ÚRS 2026/I | I26: DIČ:
D28: Poznámka:
D32: Cena bez DPH | J32: =ROUND(J91, 2) -> 0
F34: Základ daně | I34: Sazba daně | J34: Výše daně
D35: DPH | E35: základní | F35: =ROUND((SUM(BE91:BE211)), 2) -> 0 | I35: 0.21 | J35: =ROUND(((SUM(BE91:BE211))*I35), 2) -> 0
E36: snížená | F36: =ROUND((SUM(BF91:BF211)), 2) -> 0 | I36: 0.12 | J36: =ROUND(((SUM(BF91:BF211))*I36), 2) -> 0
E37: zákl. přenesená | F37: =ROUND((SUM(BG91:BG211)), 2) -> 0 | I37: 0.21 | J37: =0 -> 0
E38: sníž. přenesená | F38: =ROUND((SUM(BH91:BH211)), 2) -> 0 | I38: 0.12 | J38: =0 -> 0
E39: nulová | F39: =ROUND((SUM(BI91:BI211)), 2) -> 0 | I39: 0 | J39: =0 -> 0
D41: Cena s DPH | G41: v | H41: CZK | J41: =SUM(J32:J39) -> 0
C47: REKAPITULACE ČLENĚNÍ SOUPISU PRACÍ
C49: Stavba:
E50: =E7 -> Hanušovice - Holba - rámcový rozpočet úprav oblasti
C51: Objekt:
E52: 100 - Komunikace
C53: Soupis:
E54: =E11 -> SO 101 - Komunikace vozidlová - MK 26c
C56: Místo: | F56: =F14 -> k.ú. Hanušovice | I56: Datum: | J56: =IF(J14="","",J14) -> 4. 8. 2026
C58: Zadavatel: | F58: =E17 -> Město Hanušovice | I58: Projektant: | J58: =E23 -> Cekr CZ s.r.o.
C59: Účastník: | F59: =IF(E20="","",E20) -> Vyplň údaj | I59: Zpracovatel: | J59: =E26 -> Jan Zamykal, CS ÚRS 2026/I
C61: Kód dílu - Popis | J61: Cena celkem [CZK]
C63: Náklady stavby celkem | J63: =J91 -> 0 | AU63: -1
D64: HSV - Práce a dodávky HSV | J64: =J92 -> 0
D65: 1 - Zemní práce | J65: =J93 -> 0
D66: 5 - Komunikace pozemní | J66: =J115 -> 0
D67: 8 - Vedení trubní dálková a přípojná | J67: =J140 -> 0
D68: 9 - Ostatní konstrukce a práce, bourání | J68: =J153 -> 0
D69: 998 - Přesun hmot | J69: =J209 -> 0
C76: SOUPIS PRACÍ
C78: Stavba:
E79: =E7 -> Hanušovice - Holba - rámcový rozpočet úprav oblasti
C80: Objekt:
E81: 100 - Komunikace
C82: Soupis:
E83: =E11 -> SO 101 - Komunikace vozidlová - MK 26c
C85: Místo: | F85: =F14 -> k.ú. Hanušovice | I85: Datum: | J85: =IF(J14="","",J14) -> 4. 8. 2026
C87: Zadavatel: | F87: =E17 -> Město Hanušovice | I87: Projektant: | J87: =E23 -> Cekr CZ s.r.o.
C88: Účastník: | F88: =IF(E20="","",E20) -> Vyplň údaj | I88: Zpracovatel: | J88: =E26 -> Jan Zamykal, CS ÚRS 2026/I
C90: PČ | D90: Typ | E90: Kód | F90: Popis | G90: MJ | H90: Množství | I90: J.cena [CZK] | J90: Cena celkem [CZK] | K90: Cenová soustava | N90: DPH | O90: J. Nh [h] | P90: Nh celkem [h] | Q90: J. hmotnost [t] | R90: Hmotnost celkem [t] | S90: J. suť [t] | T90: Suť Celkem [t]
C91: Náklady soupisu celkem | J91: =BK91 -> 0 | P91: =P92 -> 0 | R91: =R92 -> 118.7784 | T91: =T92 -> 6.36 | AT91: D | AU91: -1 | BK91: =BK92 -> 0
D92: D | E92: HSV | F92: Práce a dodávky HSV | J92: =BK92 -> 0 | P92: =P93+P115+P140+P153+P209 -> 0 | R92: =R93+R115+R140+R153+R209 -> 118.7784 | T92: =T93+T115+T140+T153+T209 -> 6.36 | AR92: 1 | AT92: D | AU92: 0 | AY92: ROZPOCET | BK92: =BK93+BK115+BK140+BK153+BK209 -> 0
D93: D | E93: 1 | F93: Zemní práce | J93: =BK93 -> 0 | P93: =SUM(P94:P114) -> 0 | R93: =SUM(R94:R114) -> 0 | T93: =SUM(T94:T114) -> 0 | AR93: 1 | AT93: D | AU93: 1 | AY93: ROZPOCET | BK93: =SUM(BK94:BK114) -> 0
C94: 1 | D94: K | E94: 132112132 | F94: Hloubení nezapažených rýh šířky do 800 mm ručně s urovnáním dna do předepsaného profilu a spádu v hornině třídy těžitelnosti I skupiny 1 a 2 nesoudržných | G94: m3 | H94: 12.713 | J94: =ROUND(I94*H94,2) -> 0 | K94: CS ÚRS 2026 01 | N94: základní | P94: =O94*H94 -> 0 | Q94: 0 | R94: =Q94*H94 -> 0 | S94: 0 | T94: =S94*H94 -> 0 | AR94: 4 | AT94: K | AU94: 2 | AY94: ROZPOCET | BE94: =IF(N94="základní",J94,0) -> 0 | BF94: =IF(N94="snížená",J94,0) -> 0 | BG94: =IF(N94="zákl. přenesená",J94,0) -> 0 | BH94: =IF(N94="sníž. přenesená",J94,0) -> 0 | BI94: =IF(N94="nulová",J94,0) -> 0 | BJ94: 1 | BK94: =ROUND(I94*H94,2) -> 0 | BL94: 4 | BM94: -29256805
D95: Online PSC | F95: https://podminky.urs.cz/item/CS_URS_2026_01/132112132 | AT95: Online PSC | AU95: 2
D96: VV | F96: "prohloubení a úprava rýh pro osazení novcýh obrub a přídlažeb ze ŽK dle PD" | AT96: VV | AU96: 2 | AV96: 1 | AW96: True | AX96: 0 | AY96: ROZPOCET
D97: VV | F97: "odečteno digitálně z grafické části PD" | AT97: VV | AU97: 2 | AV97: 1 | AW97: True | AX97: 0 | AY97: ROZPOCET
D98: VV | F98: 0,30*0,15*282,50 | H98: 12.713 | AT98: VV | AU98: 2 | AV98: 2 | AW98: True | AX98: 0 | AY98: ROZPOCET
D99: VV | F99: Součet | H99: 12.713 | AT99: VV | AU99: 2 | AV99: 4 | AW99: True | AX99: 1 | AY99: ROZPOCET
C100: 2 | D100: K | E100: 162751117 | F100: Vodorovné přemístění výkopku nebo sypaniny po suchu na obvyklém dopravním prostředku, bez naložení výkopku, avšak se složením bez rozhrnutí z horniny třídy těžitelnosti I skupiny 1 až 3 na vzdálenost přes 9 000 do 10 000 m | G100: m3 | H100: 12.713 | J100: =ROUND(I100*H100,2) -> 0 | K100: CS ÚRS 2026 01 | N100: základní | P100: =O100*H100 -> 0 | Q100: 0 | R100: =Q100*H100 -> 0 | S100: 0 | T100: =S100*H100 -> 0 | AR100: 4 | AT100: K | AU100: 2 | AY100: ROZPOCET | BE100: =IF(N100="základní",J100,0) -> 0 | BF100: =IF(N100="snížená",J100,0) -> 0 | BG100: =IF(N100="zákl. přenesená",J100,0) -> 0 | BH100: =IF(N100="sníž. přenesená",J100,0) -> 0 | BI100: =IF(N100="nulová",J100,0) -> 0 | BJ100: 1 | BK100: =ROUND(I100*H100,2) -> 0 | BL100: 4 | BM100: 1405712075
D101: Online PSC | F101: https://podminky.urs.cz/item/CS_URS_2026_01/162751117 | AT101: Online PSC | AU101: 2
D102: VV | F102: "přemístění výkopku na řízenou skládku - předpoklad do 17 km (RECOVERA Rapotín)" | AT102: VV | AU102: 2 | AV102: 1 | AW102: True | AX102: 0 | AY102: ROZPOCET
D103: VV | F103: "rýhy" 12,713 | H103: 12.713 | AT103: VV | AU103: 2 | AV103: 2 | AW103: True | AX103: 0 | AY103: ROZPOCET
D104: VV | F104: Součet | H104: 12.713 | AT104: VV | AU104: 2 | AV104: 4 | AW104: True | AX104: 1 | AY104: ROZPOCET
C105: 3 | D105: K | E105: 162751119 | F105: Vodorovné přemístění výkopku nebo sypaniny po suchu na obvyklém dopravním prostředku, bez naložení výkopku, avšak se složením bez rozhrnutí z horniny třídy těžitelnosti I skupiny 1 až 3 na vzdálenost Příplatek k ceně za každých dalších i započatých 1 000 m | G105: m3 | H105: 88.991 | J105: =ROUND(I105*H105,2) -> 0 | K105: CS ÚRS 2026 01 | N105: základní | P105: =O105*H105 -> 0 | Q105: 0 | R105: =Q105*H105 -> 0 | S105: 0 | T105: =S105*H105 -> 0 | AR105: 4 | AT105: K | AU105: 2 | AY105: ROZPOCET | BE105: =IF(N105="základní",J105,0) -> 0 | BF105: =IF(N105="snížená",J105,0) -> 0 | BG105: =IF(N105="zákl. přenesená",J105,0) -> 0 | BH105: =IF(N105="sníž. přenesená",J105,0) -> 0 | BI105: =IF(N105="nulová",J105,0) -> 0 | BJ105: 1 | BK105: =ROUND(I105*H105,2) -> 0 | BL105: 4 | BM105: 1640579230
D106: Online PSC | F106: https://podminky.urs.cz/item/CS_URS_2026_01/162751119 | AT106: Online PSC | AU106: 2
D107: VV | F107: "přemístění výkopku na řízenou skládku - předpoklad do 17 km (RECOVERA Rapotín)" | AT107: VV | AU107: 2 | AV107: 1 | AW107: True | AX107: 0 | AY107: ROZPOCET
D108: VV | F108: "rýhy" 12,713*7 | H108: 88.991 | AT108: VV | AU108: 2 | AV108: 2 | AW108: True | AX108: 0 | AY108: ROZPOCET
D109: VV | F109: Součet | H109: 88.991 | AT109: VV | AU109: 2 | AV109: 4 | AW109: True | AX109: 1 | AY109: ROZPOCET
C110: 4 | D110: K | E110: 171201231 | F110: Poplatek za předání zeminy a kamení recyklačnímu zařízení zatříděné do Katalogu odpadů pod kódem 17 05 04 | G110: t | H110: 22.883 | J110: =ROUND(I110*H110,2) -> 0 | K110: CS ÚRS 2026 01 | N110: základní | P110: =O110*H110 -> 0 | Q110: 0 | R110: =Q110*H110 -> 0 | S110: 0 | T110: =S110*H110 -> 0 | AR110: 4 | AT110: K | AU110: 2 | AY110: ROZPOCET | BE110: =IF(N110="základní",J110,0) -> 0 | BF110: =IF(N110="snížená",J110,0) -> 0 | BG110: =IF(N110="zákl. přenesená",J110,0) -> 0 | BH110: =IF(N110="sníž. přenesená",J110,0) -> 0 | BI110: =IF(N110="nulová",J110,0) -> 0 | BJ110: 1 | BK110: =ROUND(I110*H110,2) -> 0 | BL110: 4 | BM110: -1038776289
D111: Online PSC | F111: https://podminky.urs.cz/item/CS_URS_2026_01/171201231 | AT111: Online PSC | AU111: 2
D112: VV | F112: "poplatek za uložení - skládkovné; 1,8 t/m3" | AT112: VV | AU112: 2 | AV112: 1 | AW112: True | AX112: 0 | AY112: ROZPOCET
D113: VV | F113: 12,713*1,8 | H113: 22.883 | AT113: VV | AU113: 2 | AV113: 2 | AW113: True | AX113: 0 | AY113: ROZPOCET
D114: VV | F114: Součet | H114: 22.883 | AT114: VV | AU114: 2 | AV114: 4 | AW114: True | AX114: 1 | AY114: ROZPOCET
D115: D | E115: 5 | F115: Komunikace pozemní | J115: =BK115 -> 0 | P115: =SUM(P116:P139) -> 0 | R115: =SUM(R116:R139) -> 0 | T115: =SUM(T116:T139) -> 0 | AR115: 1 | AT115: D | AU115: 1 | AY115: ROZPOCET | BK115: =SUM(BK116:BK139) -> 0
C116: 5 | D116: K | E116: 565145021 | F116: Asfaltový beton vrstva podkladní ACP 16 z nemodifikovaného asfaltu s rozprostřením a zhutněním ACP 16 + v pruhu šířky přes 3 m, po zhutnění tl. 60 mm | G116: m2 | H116: 870.5 | J116: =ROUND(I116*H116,2) -> 0 | K116: CS ÚRS 2026 01 | N116: základní | P116: =O116*H116 -> 0 | Q116: 0 | R116: =Q116*H116 -> 0 | S116: 0 | T116: =S116*H116 -> 0 | AR116: 4 | AT116: K | AU116: 2 | AY116: ROZPOCET | BE116: =IF(N116="základní",J116,0) -> 0 | BF116: =IF(N116="snížená",J116,0) -> 0 | BG116: =IF(N116="zákl. přenesená",J116,0) -> 0 | BH116: =IF(N116="sníž. přenesená",J116,0) -> 0 | BI116: =IF(N116="nulová",J116,0) -> 0 | BJ116: 1 | BK116: =ROUND(I116*H116,2) -> 0 | BL116: 4 | BM116: 757601072
D117: Online PSC | F117: https://podminky.urs.cz/item/CS_URS_2026_01/565145021 | AT117: Online PSC | AU117: 2
D118: VV | F118: "nový dvouvrstvý kryt, podkladní vrstva konstrukce komunikace dle PD" | AT118: VV | AU118: 2 | AV118: 1 | AW118: True | AX118: 0 | AY118: ROZPOCET
D119: VV | F119: "odečteno digitálně z grafické části PD" | AT119: VV | AU119: 2 | AV119: 1 | AW119: True | AX119: 0 | AY119: ROZPOCET
D120: VV | F120: "plocha vozovky - ACp 16+ (50/70)" 870,50 | H120: 870.5 | AT120: VV | AU120: 2 | AV120: 2 | AW120: True | AX120: 0 | AY120: ROZPOCET
D121: VV | F121: Součet | H121: 870.5 | AT121: VV | AU121: 2 | AV121: 4 | AW121: True | AX121: 1 | AY121: ROZPOCET
C122: 6 | D122: K | E122: 573191111 | F122: Postřik infiltrační kationaktivní emulzí v množství 1,00 kg/m2 | G122: m2 | H122: 870.5 | J122: =ROUND(I122*H122,2) -> 0 | K122: CS ÚRS 2026 01 | N122: základní | P122: =O122*H122 -> 0 | Q122: 0 | R122: =Q122*H122 -> 0 | S122: 0 | T122: =S122*H122 -> 0 | AR122: 4 | AT122: K | AU122: 2 | AY122: ROZPOCET | BE122: =IF(N122="základní",J122,0) -> 0 | BF122: =IF(N122="snížená",J122,0) -> 0 | BG122: =IF(N122="zákl. přenesená",J122,0) -> 0 | BH122: =IF(N122="sníž. přenesená",J122,0) -> 0 | BI122: =IF(N122="nulová",J122,0) -> 0 | BJ122: 1 | BK122: =ROUND(I122*H122,2) -> 0 | BL122: 4 | BM122: 119444343
D123: Online PSC | F123: https://podminky.urs.cz/item/CS_URS_2026_01/573191111 | AT123: Online PSC | AU123: 2
D124: VV | F124: "nová skladba konstrukce komunikace dle PD; 0,60 - 1,00 kg/m2" | AT124: VV | AU124: 2 | AV124: 1 | AW124: True | AX124: 0 | AY124: ROZPOCET
D125: VV | F125: "odečteno digitálně z grafické části PD" | AT125: VV | AU125: 2 | AV125: 1 | AW125: True | AX125: 0 | AY125: ROZPOCET
D126: VV | F126: 870,50 | H126: 870.5 | AT126: VV | AU126: 2 | AV126: 2 | AW126: True | AX126: 0 | AY126: ROZPOCET
D127: VV | F127: Součet | H127: 870.5 | AT127: VV | AU127: 2 | AV127: 4 | AW127: True | AX127: 1 | AY127: ROZPOCET
C128: 7 | D128: K | E128: 573231106 | F128: Postřik spojovací PS bez posypu kamenivem ze silniční emulze, v množství 0,30 kg/m2 | G128: m2 | H128: 870.5 | J128: =ROUND(I128*H128,2) -> 0 | K128: CS ÚRS 2026 01 | N128: základní | P128: =O128*H128 -> 0 | Q128: 0 | R128: =Q128*H128 -> 0 | S128: 0 | T128: =S128*H128 -> 0 | AR128: 4 | AT128: K | AU128: 2 | AY128: ROZPOCET | BE128: =IF(N128="základní",J128,0) -> 0 | BF128: =IF(N128="snížená",J128,0) -> 0 | BG128: =IF(N128="zákl. přenesená",J128,0) -> 0 | BH128: =IF(N128="sníž. přenesená",J128,0) -> 0 | BI128: =IF(N128="nulová",J128,0) -> 0 | BJ128: 1 | BK128: =ROUND(I128*H128,2) -> 0 | BL128: 4 | BM128: 1221008057
D129: Online PSC | F129: https://podminky.urs.cz/item/CS_URS_2026_01/573231106 | AT129: Online PSC | AU129: 2
D130: VV | F130: "nová skladba konstrukce komunikace dle PD" | AT130: VV | AU130: 2 | AV130: 1 | AW130: True | AX130: 0 | AY130: ROZPOCET
D131: VV | F131: "odečteno digitálně z grafické části PD" | AT131: VV | AU131: 2 | AV131: 1 | AW131: True | AX131: 0 | AY131: ROZPOCET
D132: VV | F132: 870,50 | H132: 870.5 | AT132: VV | AU132: 2 | AV132: 2 | AW132: True | AX132: 0 | AY132: ROZPOCET
D133: VV | F133: Součet | H133: 870.5 | AT133: VV | AU133: 2 | AV133: 4 | AW133: True | AX133: 1 | AY133: ROZPOCET
...

Sheet SO 101.1 - Komunikace voz...
AT2: {1e9e3687-1a79-4efa-b902-f8e8048b201a}
AT3: 2
D4: KRYCÍ LIST SOUPISU PRACÍ | M4: v --- níže se nacházejí doplnkové a pomocné údaje k sestavám --- v | AT4: False
D6: Stavba:
E7: ='Rekapitulace stavby'!K6 -> Hanušovice - Holba - rámcový rozpočet úprav oblasti
D8: Objekt:
E9: 100 - Komunikace
D10: Soupis:
E11: SO 101.1 - Komunikace vozidlová - MK 2c
D13: KSO: | I13: CC-CZ:
D14: Místo: | F14: k.ú. Hanušovice | I14: Datum: | J14: ='Rekapitulace stavby'!AN8 -> 4. 8. 2026
D16: Zadavatel: | I16: IČ: | J16: 00302546
E17: Město Hanušovice | I17: DIČ: | J17: CZ00302546
D19: Účastník: | I19: IČ: | J19: ='Rekapitulace stavby'!AN13 -> Vyplň údaj
E20: ='Rekapitulace stavby'!E14 -> Vyplň údaj | I20: DIČ: | J20: ='Rekapitulace stavby'!AN14 -> Vyplň údaj
D22: Projektant: | I22: IČ: | J22: 27821251
E23: Cekr CZ s.r.o. | I23: DIČ: | J23: CZ27821251
D25: Zpracovatel: | I25: IČ:
E26: Jan Zamykal, CS ÚRS 2026/I | I26: DIČ:
D28: Poznámka:
D32: Cena bez DPH | J32: =ROUND(J91, 2) -> 0
F34: Základ daně | I34: Sazba daně | J34: Výše daně
D35: DPH | E35: základní | F35: =ROUND((SUM(BE91:BE225)), 2) -> 0 | I35: 0.21 | J35: =ROUND(((SUM(BE91:BE225))*I35), 2) -> 0
E36: snížená | F36: =ROUND((SUM(BF91:BF225)), 2) -> 0 | I36: 0.12 | J36: =ROUND(((SUM(BF91:BF225))*I36), 2) -> 0
E37: zákl. přenesená | F37: =ROUND((SUM(BG91:BG225)), 2) -> 0 | I37: 0.21 | J37: =0 -> 0
E38: sníž. přenesená | F38: =ROUND((SUM(BH91:BH225)), 2) -> 0 | I38: 0.12 | J38: =0 -> 0
E39: nulová | F39: =ROUND((SUM(BI91:BI225)), 2) -> 0 | I39: 0 | J39: =0 -> 0
D41: Cena s DPH | G41: v | H41: CZK | J41: =SUM(J32:J39) -> 0
C47: REKAPITULACE ČLENĚNÍ SOUPISU PRACÍ
C49: Stavba:
E50: =E7 -> Hanušovice - Holba - rámcový rozpočet úprav oblasti
C51: Objekt:
E52: 100 - Komunikace
C53: Soupis:
E54: =E11 -> SO 101.1 - Komunikace vozidlová - MK 2c
C56: Místo: | F56: =F14 -> k.ú. Hanušovice | I56: Datum: | J56: =IF(J14="","",J14) -> 4. 8. 2026
C58: Zadavatel: | F58: =E17 -> Město Hanušovice | I58: Projektant: | J58: =E23 -> Cekr CZ s.r.o.
C59: Účastník: | F59: =IF(E20="","",E20) -> Vyplň údaj | I59: Zpracovatel: | J59: =E26 -> Jan Zamykal, CS ÚRS 2026/I
C61: Kód dílu - Popis | J61: Cena celkem [CZK]
C63: Náklady stavby celkem | J63: =J91 -> 0 | AU63: -1
D64: HSV - Práce a dodávky HSV | J64: =J92 -> 0
D65: 1 - Zemní práce | J65: =J93 -> 0
D66: 5 - Komunikace pozemní | J66: =J122 -> 0
D67: 9 - Ostatní konstrukce a práce, bourání | J67: =J147 -> 0
D68: 997 - Doprava suti a vybouraných hmot | J68: =J207 -> 0
D69: 998 - Přesun hmot | J69: =J223 -> 0
C76: SOUPIS PRACÍ
C78: Stavba:
E79: =E7 -> Hanušovice - Holba - rámcový rozpočet úprav oblasti
C80: Objekt:
E81: 100 - Komunikace
C82: Soupis:
E83: =E11 -> SO 101.1 - Komunikace vozidlová - MK 2c
C85: Místo: | F85: =F14 -> k.ú. Hanušovice | I85: Datum: | J85: =IF(J14="","",J14) -> 4. 8. 2026
C87: Zadavatel: | F87: =E17 -> Město Hanušovice | I87: Projektant: | J87: =E23 -> Cekr CZ s.r.o.
C88: Účastník: | F88: =IF(E20="","",E20) -> Vyplň údaj | I88: Zpracovatel: | J88: =E26 -> Jan Zamykal, CS ÚRS 2026/I
C90: PČ | D90: Typ | E90: Kód | F90: Popis | G90: MJ | H90: Množství | I90: J.cena [CZK] | J90: Cena celkem [CZK] | K90: Cenová soustava | N90: DPH | O90: J. Nh [h] | P90: Nh celkem [h] | Q90: J. hmotnost [t] | R90: Hmotnost celkem [t] | S90: J. suť [t] | T90: Suť Celkem [t]
C91: Náklady soupisu celkem | J91: =BK91 -> 0 | P91: =P92 -> 0 | R91: =R92 -> 140.65514 | T91: =T92 -> 203.78 | AT91: D | AU91: -1 | BK91: =BK92 -> 0
D92: D | E92: HSV | F92: Práce a dodávky HSV | J92: =BK92 -> 0 | P92: =P93+P122+P147+P207+P223 -> 0 | R92: =R93+R122+R147+R207+R223 -> 140.65514 | T92: =T93+T122+T147+T207+T223 -> 203.78 | AR92: 1 | AT92: D | AU92: 0 | AY92: ROZPOCET | BK92: =BK93+BK122+BK147+BK207+BK223 -> 0
D93: D | E93: 1 | F93: Zemní práce | J93: =BK93 -> 0 | P93: =SUM(P94:P121) -> 0 | R93: =SUM(R94:R121) -> 0.02658 | T93: =SUM(T94:T121) -> 203.78 | AR93: 1 | AT93: D | AU93: 1 | AY93: ROZPOCET | BK93: =SUM(BK94:BK121) -> 0
C94: 1 | D94: K | E94: 113154548 | F94: Frézování živičného podkladu nebo krytu s naložením hmot na dopravní prostředek plochy přes 500 do 2 000 m2 pruhu šířky přes 1 m, tloušťky vrstvy 100 mm | G94: m2 | H94: 886 | J94: =ROUND(I94*H94,2) -> 0 | K94: CS ÚRS 2026 01 | N94: základní | P94: =O94*H94 -> 0 | Q94: 3e-05 | R94: =Q94*H94 -> 0.02658 | S94: 0.23 | T94: =S94*H94 -> 203.78 | AR94: 4 | AT94: K | AU94: 2 | AY94: ROZPOCET | BE94: =IF(N94="základní",J94,0) -> 0 | BF94: =IF(N94="snížená",J94,0) -> 0 | BG94: =IF(N94="zákl. přenesená",J94,0) -> 0 | BH94: =IF(N94="sníž. přenesená",J94,0) -> 0 | BI94: =IF(N94="nulová",J94,0) -> 0 | BJ94: 1 | BK94: =ROUND(I94*H94,2) -> 0 | BL94: 4 | BM94: 35912759
D95: Online PSC | F95: https://podminky.urs.cz/item/CS_URS_2026_01/113154548 | AT95: Online PSC | AU95: 2
D96: VV | F96: "odfrézování stáv.živič.vrstev MK 2c dle PD" | AT96: VV | AU96: 2 | AV96: 1 | AW96: True | AX96: 0 | AY96: ROZPOCET
D97: VV | F97: "odečteno digitálně z grafické části PD" | AT97: VV | AU97: 2 | AV97: 1 | AW97: True | AX97: 0 | AY97: ROZPOCET
D98: VV | F98: 886,00 | H98: 886 | AT98: VV | AU98: 2 | AV98: 2 | AW98: True | AX98: 0 | AY98: ROZPOCET
D99: VV | F99: Součet | H99: 886 | AT99: VV | AU99: 2 | AV99: 4 | AW99: True | AX99: 1 | AY99: ROZPOCET
C100: 2 | D100: K | E100: 132112132 | F100: Hloubení nezapažených rýh šířky do 800 mm ručně s urovnáním dna do předepsaného profilu a spádu v hornině třídy těžitelnosti I skupiny 1 a 2 nesoudržných | G100: m3 | H100: 10.11 | J100: =ROUND(I100*H100,2) -> 0 | K100: CS ÚRS 2026 01 | N100: základní | P100: =O100*H100 -> 0 | Q100: 0 | R100: =Q100*H100 -> 0 | S100: 0 | T100: =S100*H100 -> 0 | AR100: 4 | AT100: K | AU100: 2 | AY100: ROZPOCET | BE100: =IF(N100="základní",J100,0) -> 0 | BF100: =IF(N100="snížená",J100,0) -> 0 | BG100: =IF(N100="zákl. přenesená",J100,0) -> 0 | BH100: =IF(N100="sníž. přenesená",J100,0) -> 0 | BI100: =IF(N100="nulová",J100,0) -> 0 | BJ100: 1 | BK100: =ROUND(I100*H100,2) -> 0 | BL100: 4 | BM100: -1207583494
D101: Online PSC | F101: https://podminky.urs.cz/item/CS_URS_2026_01/132112132 | AT101: Online PSC | AU101: 2
D102: VV | F102: "prohloubení a úprava rýh pro osazení novcýh obrub a přídlažeb ze ŽK dle PD" | AT102: VV | AU102: 2 | AV102: 1 | AW102: True | AX102: 0 | AY102: ROZPOCET
D103: VV | F103: "odečteno digitálně z grafické části PD" | AT103: VV | AU103: 2 | AV103: 1 | AW103: True | AX103: 0 | AY103: ROZPOCET
D104: VV | F104: "obrubník vč.přídlažby" 0,30*0,15*214,00 | H104: 9.63 | AT104: VV | AU104: 2 | AV104: 2 | AW104: True | AX104: 0 | AY104: ROZPOCET
D105: VV | F105: "pouze přídlažba" 0,20*0,15*16,00 | H105: 0.48 | AT105: VV | AU105: 2 | AV105: 2 | AW105: True | AX105: 0 | AY105: ROZPOCET
D106: VV | F106: Součet | H106: 10.11 | AT106: VV | AU106: 2 | AV106: 4 | AW106: True | AX106: 1 | AY106: ROZPOCET
C107: 3 | D107: K | E107: 162751117 | F107: Vodorovné přemístění výkopku nebo sypaniny po suchu na obvyklém dopravním prostředku, bez naložení výkopku, avšak se složením bez rozhrnutí z horniny třídy těžitelnosti I skupiny 1 až 3 na vzdálenost přes 9 000 do 10 000 m | G107: m3 | H107: 10.11 | J107: =ROUND(I107*H107,2) -> 0 | K107: CS ÚRS 2026 01 | N107: základní | P107: =O107*H107 -> 0 | Q107: 0 | R107: =Q107*H107 -> 0 | S107: 0 | T107: =S107*H107 -> 0 | AR107: 4 | AT107: K | AU107: 2 | AY107: ROZPOCET | BE107: =IF(N107="základní",J107,0) -> 0 | BF107: =IF(N107="snížená",J107,0) -> 0 | BG107: =IF(N107="zákl. přenesená",J107,0) -> 0 | BH107: =IF(N107="sníž. přenesená",J107,0) -> 0 | BI107: =IF(N107="nulová",J107,0) -> 0 | BJ107: 1 | BK107: =ROUND(I107*H107,2) -> 0 | BL107: 4 | BM107: 125772149
D108: Online PSC | F108: https://podminky.urs.cz/item/CS_URS_2026_01/162751117 | AT108: Online PSC | AU108: 2
D109: VV | F109: "přemístění výkopku na řízenou skládku - předpoklad do 17 km (RECOVERA Rapotín)" | AT109: VV | AU109: 2 | AV109: 1 | AW109: True | AX109: 0 | AY109: ROZPOCET
D110: VV | F110: "rýhy" 10,11 | H110: 10.11 | AT110: VV | AU110: 2 | AV110: 2 | AW110: True | AX110: 0 | AY110: ROZPOCET
D111: VV | F111: Součet | H111: 10.11 | AT111: VV | AU111: 2 | AV111: 4 | AW111: True | AX111: 1 | AY111: ROZPOCET
C112: 4 | D112: K | E112: 162751119 | F112: Vodorovné přemístění výkopku nebo sypaniny po suchu na obvyklém dopravním prostředku, bez naložení výkopku, avšak se složením bez rozhrnutí z horniny třídy těžitelnosti I skupiny 1 až 3 na vzdálenost Příplatek k ceně za každých dalších i započatých 1 000 m | G112: m3 | H112: 70.77 | J112: =ROUND(I112*H112,2) -> 0 | K112: CS ÚRS 2026 01 | N112: základní | P112: =O112*H112 -> 0 | Q112: 0 | R112: =Q112*H112 -> 0 | S112: 0 | T112: =S112*H112 -> 0 | AR112: 4 | AT112: K | AU112: 2 | AY112: ROZPOCET | BE112: =IF(N112="základní",J112,0) -> 0 | BF112: =IF(N112="snížená",J112,0) -> 0 | BG112: =IF(N112="zákl. přenesená",J112,0) -> 0 | BH112: =IF(N112="sníž. přenesená",J112,0) -> 0 | BI112: =IF(N112="nulová",J112,0) -> 0 | BJ112: 1 | BK112: =ROUND(I112*H112,2) -> 0 | BL112: 4 | BM112: -538271318
D113: Online PSC | F113: https://podminky.urs.cz/item/CS_URS_2026_01/162751119 | AT113: Online PSC | AU113: 2
D114: VV | F114: "přemístění výkopku na řízenou skládku - předpoklad do 17 km (RECOVERA Rapotín)" | AT114: VV | AU114: 2 | AV114: 1 | AW114: True | AX114: 0 | AY114: ROZPOCET
D115: VV | F115: "rýhy" 10,11*7 | H115: 70.77 | AT115: VV | AU115: 2 | AV115: 2 | AW115: True | AX115: 0 | AY115: ROZPOCET
D116: VV | F116: Součet | H116: 70.77 | AT116: VV | AU116: 2 | AV116: 4 | AW116: True | AX116: 1 | AY116: ROZPOCET
C117: 5 | D117: K | E117: 171201231 | F117: Poplatek za předání zeminy a kamení recyklačnímu zařízení zatříděné do Katalogu odpadů pod kódem 17 05 04 | G117: t | H117: 18.198 | J117: =ROUND(I117*H117,2) -> 0 | K117: CS ÚRS 2026 01 | N117: základní | P117: =O117*H117 -> 0 | Q117: 0 | R117: =Q117*H117 -> 0 | S117: 0 | T117: =S117*H117 -> 0 | AR117: 4 | AT117: K | AU117: 2 | AY117: ROZPOCET | BE117: =IF(N117="základní",J117,0) -> 0 | BF117: =IF(N117="snížená",J117,0) -> 0 | BG117: =IF(N117="zákl. přenesená",J117,0) -> 0 | BH117: =IF(N117="sníž. přenesená",J117,0) -> 0 | BI117: =IF(N117="nulová",J117,0) -> 0 | BJ117: 1 | BK117: =ROUND(I117*H117,2) -> 0 | BL117: 4 | BM117: 2137490502
D118: Online PSC | F118: https://podminky.urs.cz/item/CS_URS_2026_01/171201231 | AT118: Online PSC | AU118: 2
D119: VV | F119: "poplatek za uložení - skládkovné; 1,8 t/m3" | AT119: VV | AU119: 2 | AV119: 1 | AW119: True | AX119: 0 | AY119: ROZPOCET
D120: VV | F120: 10,11*1,8 | H120: 18.198 | AT120: VV | AU120: 2 | AV120: 2 | AW120: True | AX120: 0 | AY120: ROZPOCET
D121: VV | F121: Součet | H121: 18.198 | AT121: VV | AU121: 2 | AV121: 4 | AW121: True | AX121: 1 | AY121: ROZPOCET
D122: D | E122: 5 | F122: Komunikace pozemní | J122: =BK122 -> 0 | P122: =SUM(P123:P146) -> 0 | R122: =SUM(R123:R146) -> 0 | T122: =SUM(T123:T146) -> 0 | AR122: 1 | AT122: D | AU122: 1 | AY122: ROZPOCET | BK122: =SUM(BK123:BK146) -> 0
C123: 6 | D123: K | E123: 565145021 | F123: Asfaltový beton vrstva podkladní ACP 16 z nemodifikovaného asfaltu s rozprostřením a zhutněním ACP 16 + v pruhu šířky přes 3 m, po zhutnění tl. 60 mm | G123: m2 | H123: 886 | J123: =ROUND(I123*H123,2) -> 0 | K123: CS ÚRS 2026 01 | N123: základní | P123: =O123*H123 -> 0 | Q123: 0 | R123: =Q123*H123 -> 0 | S123: 0 | T123: =S123*H123 -> 0 | AR123: 4 | AT123: K | AU123: 2 | AY123: ROZPOCET | BE123: =IF(N123="základní",J123,0) -> 0 | BF123: =IF(N123="snížená",J123,0) -> 0 | BG123: =IF(N123="zákl. přenesená",J123,0) -> 0 | BH123: =IF(N123="sníž. přenesená",J123,0) -> 0 | BI123: =IF(N123="nulová",J123,0) -> 0 | BJ123: 1 | BK123: =ROUND(I123*H123,2) -> 0 | BL123: 4 | BM123: 346026142
D124: Online PSC | F124: https://podminky.urs.cz/item/CS_URS_2026_01/565145021 | AT124: Online PSC | AU124: 2
D125: VV | F125: "nový dvouvrstvý kryt, podkladní vrstva konstrukce komunikace dle PD" | AT125: VV | AU125: 2 | AV125: 1 | AW125: True | AX125: 0 | AY125: ROZPOCET
D126: VV | F126: "odečteno digitálně z grafické části PD" | AT126: VV | AU126: 2 | AV126: 1 | AW126: True | AX126: 0 | AY126: ROZPOCET
D127: VV | F127: "plocha vozovky - ACp 16+ (50/70)" 886,00 | H127: 886 | AT127: VV | AU127: 2 | AV127: 2 | AW127: True | AX127: 0 | AY127: ROZPOCET
D128: VV | F128: Součet | H128: 886 | AT128: VV | AU128: 2 | AV128: 4 | AW128: True | AX128: 1 | AY128: ROZPOCET
C129: 7 | D129: K | E129: 573191111 | F129: Postřik infiltrační kationaktivní emulzí v množství 1,00 kg/m2 | G129: m2 | H129: 886 | J129: =ROUND(I129*H129,2) -> 0 | K129: CS ÚRS 2026 01 | N129: základní | P129: =O129*H129 -> 0 | Q129: 0 | R129: =Q129*H129 -> 0 | S129: 0 | T129: =S129*H129 -> 0 | AR129: 4 | AT129: K | AU129: 2 | AY129: ROZPOCET | BE129: =IF(N129="základní",J129,0) -> 0 | BF129: =IF(N129="snížená",J129,0) -> 0 | BG129: =IF(N129="zákl. přenesená",J129,0) -> 0 | BH129: =IF(N129="sníž. přenesená",J129,0) -> 0 | BI129: =IF(N129="nulová",J129,0) -> 0 | BJ129: 1 | BK129: =ROUND(I129*H129,2) -> 0 | BL129: 4 | BM129: 298369911
D130: Online PSC | F130: https://podminky.urs.cz/item/CS_URS_2026_01/573191111 | AT130: Online PSC | AU130: 2
D131: VV | F131: "nová skladba konstrukce komunikace dle PD; 0,60 - 1,00 kg/m2" | AT131: VV | AU131: 2 | AV131: 1 | AW131: True | AX131: 0 | AY131: ROZPOCET
D132: VV | F132: "odečteno digitálně z grafické části PD" | AT132: VV | AU132: 2 | AV132: 1 | AW132: True | AX132: 0 | AY132: ROZPOCET
D133: VV | F133: 886,00 | H133: 886 | AT133: VV | AU133: 2 | AV133: 2 | AW133: True | AX133: 0 | AY133: ROZPOCET
...

Sheet SO 101.2 - Komunikace voz...
AT2: {c1e42a41-45e9-487e-8068-2b7d9f21bf02}
AT3: 2
D4: KRYCÍ LIST SOUPISU PRACÍ | M4: v --- níže se nacházejí doplnkové a pomocné údaje k sestavám --- v | AT4: False
D6: Stavba:
E7: ='Rekapitulace stavby'!K6 -> Hanušovice - Holba - rámcový rozpočet úprav oblasti
D8: Objekt:
E9: 100 - Komunikace
D10: Soupis:
E11: SO 101.2 - Komunikace vozidlová - MK 28c
D13: KSO: | I13: CC-CZ:
D14: Místo: | F14: k.ú. Hanušovice | I14: Datum: | J14: ='Rekapitulace stavby'!AN8 -> 4. 8. 2026
D16: Zadavatel: | I16: IČ: | J16: 00302546
E17: Město Hanušovice | I17: DIČ: | J17: CZ00302546
D19: Účastník: | I19: IČ: | J19: ='Rekapitulace stavby'!AN13 -> Vyplň údaj
E20: ='Rekapitulace stavby'!E14 -> Vyplň údaj | I20: DIČ: | J20: ='Rekapitulace stavby'!AN14 -> Vyplň údaj
D22: Projektant: | I22: IČ: | J22: 27821251
E23: Cekr CZ s.r.o. | I23: DIČ: | J23: CZ27821251
D25: Zpracovatel: | I25: IČ:
E26: Jan Zamykal, CS ÚRS 2026/I | I26: DIČ:
D28: Poznámka:
D32: Cena bez DPH | J32: =ROUND(J92, 2) -> 0
F34: Základ daně | I34: Sazba daně | J34: Výše daně
D35: DPH | E35: základní | F35: =ROUND((SUM(BE92:BE230)), 2) -> 0 | I35: 0.21 | J35: =ROUND(((SUM(BE92:BE230))*I35), 2) -> 0
E36: snížená | F36: =ROUND((SUM(BF92:BF230)), 2) -> 0 | I36: 0.12 | J36: =ROUND(((SUM(BF92:BF230))*I36), 2) -> 0
E37: zákl. přenesená | F37: =ROUND((SUM(BG92:BG230)), 2) -> 0 | I37: 0.21 | J37: =0 -> 0
E38: sníž. přenesená | F38: =ROUND((SUM(BH92:BH230)), 2) -> 0 | I38: 0.12 | J38: =0 -> 0
E39: nulová | F39: =ROUND((SUM(BI92:BI230)), 2) -> 0 | I39: 0 | J39: =0 -> 0
D41: Cena s DPH | G41: v | H41: CZK | J41: =SUM(J32:J39) -> 0
C47: REKAPITULACE ČLENĚNÍ SOUPISU PRACÍ
C49: Stavba:
E50: =E7 -> Hanušovice - Holba - rámcový rozpočet úprav oblasti
C51: Objekt:
E52: 100 - Komunikace
C53: Soupis:
E54: =E11 -> SO 101.2 - Komunikace vozidlová - MK 28c
C56: Místo: | F56: =F14 -> k.ú. Hanušovice | I56: Datum: | J56: =IF(J14="","",J14) -> 4. 8. 2026
C58: Zadavatel: | F58: =E17 -> Město Hanušovice | I58: Projektant: | J58: =E23 -> Cekr CZ s.r.o.
C59: Účastník: | F59: =IF(E20="","",E20) -> Vyplň údaj | I59: Zpracovatel: | J59: =E26 -> Jan Zamykal, CS ÚRS 2026/I
C61: Kód dílu - Popis | J61: Cena celkem [CZK]
C63: Náklady stavby celkem | J63: =J92 -> 0 | AU63: -1
D64: HSV - Práce a dodávky HSV | J64: =J93 -> 0
D65: 1 - Zemní práce | J65: =J94 -> 0
D66: 5 - Komunikace pozemní | J66: =J116 -> 0
D67: 8 - Vedení trubní dálková a přípojná | J67: =J141 -> 0
D68: 9 - Ostatní konstrukce a práce, bourání | J68: =J154 -> 0
D69: 997 - Doprava suti a vybouraných hmot | J69: =J212 -> 0
D70: 998 - Přesun hmot | J70: =J228 -> 0
C77: SOUPIS PRACÍ
C79: Stavba:
E80: =E7 -> Hanušovice - Holba - rámcový rozpočet úprav oblasti
C81: Objekt:
E82: 100 - Komunikace
C83: Soupis:
E84: =E11 -> SO 101.2 - Komunikace vozidlová - MK 28c
C86: Místo: | F86: =F14 -> k.ú. Hanušovice | I86: Datum: | J86: =IF(J14="","",J14) -> 4. 8. 2026
C88: Zadavatel: | F88: =E17 -> Město Hanušovice | I88: Projektant: | J88: =E23 -> Cekr CZ s.r.o.
C89: Účastník: | F89: =IF(E20="","",E20) -> Vyplň údaj | I89: Zpracovatel: | J89: =E26 -> Jan Zamykal, CS ÚRS 2026/I
C91: PČ | D91: Typ | E91: Kód | F91: Popis | G91: MJ | H91: Množství | I91: J.cena [CZK] | J91: Cena celkem [CZK] | K91: Cenová soustava | N91: DPH | O91: J. Nh [h] | P91: Nh celkem [h] | Q91: J. hmotnost [t] | R91: Hmotnost celkem [t] | S91: J. suť [t] | T91: Suť Celkem [t]
C92: Náklady soupisu celkem | J92: =BK92 -> 0 | P92: =P93 -> 0 | R92: =R93 -> 162.19715 | T92: =T93 -> 155.315 | AT92: D | AU92: -1 | BK92: =BK93 -> 0
D93: D | E93: HSV | F93: Práce a dodávky HSV | J93: =BK93 -> 0 | P93: =P94+P116+P141+P154+P212+P228 -> 0 | R93: =R94+R116+R141+R154+R212+R228 -> 162.19715 | T93: =T94+T116+T141+T154+T212+T228 -> 155.315 | AR93: 1 | AT93: D | AU93: 0 | AY93: ROZPOCET | BK93: =BK94+BK116+BK141+BK154+BK212+BK228 -> 0
D94: D | E94: 1 | F94: Zemní práce | J94: =BK94 -> 0 | P94: =SUM(P95:P115) -> 0 | R94: =SUM(R95:R115) -> 0.019875 | T94: =SUM(T95:T115) -> 152.375 | AR94: 1 | AT94: D | AU94: 1 | AY94: ROZPOCET | BK94: =SUM(BK95:BK115) -> 0
C95: 1 | D95: K | E95: 113154548 | F95: Frézování živičného podkladu nebo krytu s naložením hmot na dopravní prostředek plochy přes 500 do 2 000 m2 pruhu šířky přes 1 m, tloušťky vrstvy 100 mm | G95: m2 | H95: 662.5 | J95: =ROUND(I95*H95,2) -> 0 | K95: CS ÚRS 2026 01 | N95: základní | P95: =O95*H95 -> 0 | Q95: 3e-05 | R95: =Q95*H95 -> 0.019875 | S95: 0.23 | T95: =S95*H95 -> 152.375 | AR95: 4 | AT95: K | AU95: 2 | AY95: ROZPOCET | BE95: =IF(N95="základní",J95,0) -> 0 | BF95: =IF(N95="snížená",J95,0) -> 0 | BG95: =IF(N95="zákl. přenesená",J95,0) -> 0 | BH95: =IF(N95="sníž. přenesená",J95,0) -> 0 | BI95: =IF(N95="nulová",J95,0) -> 0 | BJ95: 1 | BK95: =ROUND(I95*H95,2) -> 0 | BL95: 4 | BM95: 1915915920
D96: Online PSC | F96: https://podminky.urs.cz/item/CS_URS_2026_01/113154548 | AT96: Online PSC | AU96: 2
D97: VV | F97: "odfrézování stáv.živič.vrstev MK 2c dle PD" | AT97: VV | AU97: 2 | AV97: 1 | AW97: True | AX97: 0 | AY97: ROZPOCET
D98: VV | F98: "odečteno digitálně z grafické části PD" | AT98: VV | AU98: 2 | AV98: 1 | AW98: True | AX98: 0 | AY98: ROZPOCET
D99: VV | F99: 248,90+413,60 | H99: 662.5 | AT99: VV | AU99: 2 | AV99: 2 | AW99: True | AX99: 0 | AY99: ROZPOCET
D100: VV | F100: Součet | H100: 662.5 | AT100: VV | AU100: 2 | AV100: 4 | AW100: True | AX100: 1 | AY100: ROZPOCET
C101: 2 | D101: K | E101: 132112132 | F101: Hloubení nezapažených rýh šířky do 800 mm ručně s urovnáním dna do předepsaného profilu a spádu v hornině třídy těžitelnosti I skupiny 1 a 2 nesoudržných | G101: m3 | H101: 26.463 | J101: =ROUND(I101*H101,2) -> 0 | K101: CS ÚRS 2026 01 | N101: základní | P101: =O101*H101 -> 0 | Q101: 0 | R101: =Q101*H101 -> 0 | S101: 0 | T101: =S101*H101 -> 0 | AR101: 4 | AT101: K | AU101: 2 | AY101: ROZPOCET | BE101: =IF(N101="základní",J101,0) -> 0 | BF101: =IF(N101="snížená",J101,0) -> 0 | BG101: =IF(N101="zákl. přenesená",J101,0) -> 0 | BH101: =IF(N101="sníž. přenesená",J101,0) -> 0 | BI101: =IF(N101="nulová",J101,0) -> 0 | BJ101: 1 | BK101: =ROUND(I101*H101,2) -> 0 | BL101: 4 | BM101: 1459735903
D102: Online PSC | F102: https://podminky.urs.cz/item/CS_URS_2026_01/132112132 | AT102: Online PSC | AU102: 2
D103: VV | F103: "prohloubení a úprava rýh pro osazení nových obrub a přídlažeb ze ŽK dle PD" | AT103: VV | AU103: 2 | AV103: 1 | AW103: True | AX103: 0 | AY103: ROZPOCET
D104: VV | F104: "odečteno digitálně z grafické části PD" | AT104: VV | AU104: 2 | AV104: 1 | AW104: True | AX104: 0 | AY104: ROZPOCET
D105: VV | F105: "obruba vč.přídlažby" 0,35*0,25*(49,00+52,00) | H105: 8.838 | AT105: VV | AU105: 2 | AV105: 2 | AW105: True | AX105: 0 | AY105: ROZPOCET
D106: VV | F106: "pouze přídlažba" 0,25*0,25*(191,00+192,00-101,00) | H106: 17.625 | AT106: VV | AU106: 2 | AV106: 2 | AW106: True | AX106: 0 | AY106: ROZPOCET
D107: VV | F107: Součet | H107: 26.463 | AT107: VV | AU107: 2 | AV107: 4 | AW107: True | AX107: 1 | AY107: ROZPOCET
C108: 3 | D108: K | E108: 174111101 | F108: Zásyp sypaninou z jakékoliv horniny ručně s uložením výkopku ve vrstvách se zhutněním jam, šachet, rýh nebo kolem objektů v těchto vykopávkách | G108: m3 | H108: 38.3 | J108: =ROUND(I108*H108,2) -> 0 | K108: CS ÚRS 2026 01 | N108: základní | P108: =O108*H108 -> 0 | Q108: 0 | R108: =Q108*H108 -> 0 | S108: 0 | T108: =S108*H108 -> 0 | AR108: 4 | AT108: K | AU108: 2 | AY108: ROZPOCET | BE108: =IF(N108="základní",J108,0) -> 0 | BF108: =IF(N108="snížená",J108,0) -> 0 | BG108: =IF(N108="zákl. přenesená",J108,0) -> 0 | BH108: =IF(N108="sníž. přenesená",J108,0) -> 0 | BI108: =IF(N108="nulová",J108,0) -> 0 | BJ108: 1 | BK108: =ROUND(I108*H108,2) -> 0 | BL108: 4 | BM108: -560212775
D109: Online PSC | F109: https://podminky.urs.cz/item/CS_URS_2026_01/174111101 | AT109: Online PSC | AU109: 2
D110: VV | F110: "dosypání nových obrubníků 0,10 m3/m - doplnění zeminy v zelených plochách dle PD" | AT110: VV | AU110: 2 | AV110: 1 | AW110: True | AX110: 0 | AY110: ROZPOCET
D111: VV | F111: "odečteno digitálně z grafické části PD" | AT111: VV | AU111: 2 | AV111: 1 | AW111: True | AX111: 0 | AY111: ROZPOCET
D112: VV | F112: "obruba vč.přídlažby" (49,00+52,00)*0,10 | H112: 10.1 | AT112: VV | AU112: 2 | AV112: 2 | AW112: True | AX112: 0 | AY112: ROZPOCET
D113: VV | F113: "pouze přídlažba" (191,00+192,00-101,00)*0,10 | H113: 28.2 | AT113: VV | AU113: 2 | AV113: 2 | AW113: True | AX113: 0 | AY113: ROZPOCET
D114: VV | F114: "!!!bude využito výkopku z úpravy rýh pro obruby a přebytku z jiných objektů!!!" | AT114: VV | AU114: 2 | AV114: 1 | AW114: True | AX114: 0 | AY114: ROZPOCET
D115: VV | F115: Součet | H115: 38.3 | AT115: VV | AU115: 2 | AV115: 4 | AW115: True | AX115: 1 | AY115: ROZPOCET
D116: D | E116: 5 | F116: Komunikace pozemní | J116: =BK116 -> 0 | P116: =SUM(P117:P140) -> 0 | R116: =SUM(R117:R140) -> 0 | T116: =SUM(T117:T140) -> 0 | AR116: 1 | AT116: D | AU116: 1 | AY116: ROZPOCET | BK116: =SUM(BK117:BK140) -> 0
C117: 4 | D117: K | E117: 565145021 | F117: Asfaltový beton vrstva podkladní ACP 16 z nemodifikovaného asfaltu s rozprostřením a zhutněním ACP 16 + v pruhu šířky přes 3 m, po zhutnění tl. 60 mm | G117: m2 | H117: 662.5 | J117: =ROUND(I117*H117,2) -> 0 | K117: CS ÚRS 2026 01 | N117: základní | P117: =O117*H117 -> 0 | Q117: 0 | R117: =Q117*H117 -> 0 | S117: 0 | T117: =S117*H117 -> 0 | AR117: 4 | AT117: K | AU117: 2 | AY117: ROZPOCET | BE117: =IF(N117="základní",J117,0) -> 0 | BF117: =IF(N117="snížená",J117,0) -> 0 | BG117: =IF(N117="zákl. přenesená",J117,0) -> 0 | BH117: =IF(N117="sníž. přenesená",J117,0) -> 0 | BI117: =IF(N117="nulová",J117,0) -> 0 | BJ117: 1 | BK117: =ROUND(I117*H117,2) -> 0 | BL117: 4 | BM117: 346026142
D118: Online PSC | F118: https://podminky.urs.cz/item/CS_URS_2026_01/565145021 | AT118: Online PSC | AU118: 2
D119: VV | F119: "nový dvouvrstvý kryt, podkladní vrstva konstrukce komunikace dle PD" | AT119: VV | AU119: 2 | AV119: 1 | AW119: True | AX119: 0 | AY119: ROZPOCET
D120: VV | F120: "odečteno digitálně z grafické části PD" | AT120: VV | AU120: 2 | AV120: 1 | AW120: True | AX120: 0 | AY120: ROZPOCET
D121: VV | F121: "plocha vozovky - ACp 16+ (50/70)" 248,90+413,60 | H121: 662.5 | AT121: VV | AU121: 2 | AV121: 2 | AW121: True | AX121: 0 | AY121: ROZPOCET
D122: VV | F122: Součet | H122: 662.5 | AT122: VV | AU122: 2 | AV122: 4 | AW122: True | AX122: 1 | AY122: ROZPOCET
C123: 5 | D123: K | E123: 573191111 | F123: Postřik infiltrační kationaktivní emulzí v množství 1,00 kg/m2 | G123: m2 | H123: 662.5 | J123: =ROUND(I123*H123,2) -> 0 | K123: CS ÚRS 2026 01 | N123: základní | P123: =O123*H123 -> 0 | Q123: 0 | R123: =Q123*H123 -> 0 | S123: 0 | T123: =S123*H123 -> 0 | AR123: 4 | AT123: K | AU123: 2 | AY123: ROZPOCET | BE123: =IF(N123="základní",J123,0) -> 0 | BF123: =IF(N123="snížená",J123,0) -> 0 | BG123: =IF(N123="zákl. přenesená",J123,0) -> 0 | BH123: =IF(N123="sníž. přenesená",J123,0) -> 0 | BI123: =IF(N123="nulová",J123,0) -> 0 | BJ123: 1 | BK123: =ROUND(I123*H123,2) -> 0 | BL123: 4 | BM123: 298369911
D124: Online PSC | F124: https://podminky.urs.cz/item/CS_URS_2026_01/573191111 | AT124: Online PSC | AU124: 2
D125: VV | F125: "nová skladba konstrukce komunikace dle PD; 0,60 - 1,00 kg/m2" | AT125: VV | AU125: 2 | AV125: 1 | AW125: True | AX125: 0 | AY125: ROZPOCET
D126: VV | F126: "odečteno digitálně z grafické části PD" | AT126: VV | AU126: 2 | AV126: 1 | AW126: True | AX126: 0 | AY126: ROZPOCET
D127: VV | F127: 662,50 | H127: 662.5 | AT127: VV | AU127: 2 | AV127: 2 | AW127: True | AX127: 0 | AY127: ROZPOCET
D128: VV | F128: Součet | H128: 662.5 | AT128: VV | AU128: 2 | AV128: 4 | AW128: True | AX128: 1 | AY128: ROZPOCET
C129: 6 | D129: K | E129: 573231106 | F129: Postřik spojovací PS bez posypu kamenivem ze silniční emulze, v množství 0,30 kg/m2 | G129: m2 | H129: 662.5 | J129: =ROUND(I129*H129,2) -> 0 | K129: CS ÚRS 2026 01 | N129: základní | P129: =O129*H129 -> 0 | Q129: 0 | R129: =Q129*H129 -> 0 | S129: 0 | T129: =S129*H129 -> 0 | AR129: 4 | AT129: K | AU129: 2 | AY129: ROZPOCET | BE129: =IF(N129="základní",J129,0) -> 0 | BF129: =IF(N129="snížená",J129,0) -> 0 | BG129: =IF(N129="zákl. přenesená",J129,0) -> 0 | BH129: =IF(N129="sníž. přenesená",J129,0) -> 0 | BI129: =IF(N129="nulová",J129,0) -> 0 | BJ129: 1 | BK129: =ROUND(I129*H129,2) -> 0 | BL129: 4 | BM129: 446511829
D130: Online PSC | F130: https://podminky.urs.cz/item/CS_URS_2026_01/573231106 | AT130: Online PSC | AU130: 2
D131: VV | F131: "nová skladba konstrukce komunikace dle PD" | AT131: VV | AU131: 2 | AV131: 1 | AW131: True | AX131: 0 | AY131: ROZPOCET
D132: VV | F132: "odečteno digitálně z grafické části PD" | AT132: VV | AU132: 2 | AV132: 1 | AW132: True | AX132: 0 | AY132: ROZPOCET
D133: VV | F133: 662,50 | H133: 662.5 | AT133: VV | AU133: 2 | AV133: 2 | AW133: True | AX133: 0 | AY133: ROZPOCET
...

Sheet SO 101.3 - Komunikace voz...
AT2: {b98a2ae1-8358-4989-942a-95250cf173e4}
AT3: 2
D4: KRYCÍ LIST SOUPISU PRACÍ | M4: v --- níže se nacházejí doplnkové a pomocné údaje k sestavám --- v | AT4: False
D6: Stavba:
E7: ='Rekapitulace stavby'!K6 -> Hanušovice - Holba - rámcový rozpočet úprav oblasti
D8: Objekt:
E9: 100 - Komunikace
D10: Soupis:
E11: SO 101.3 - Komunikace vozidlová - UK 29u
D13: KSO: | I13: CC-CZ:
D14: Místo: | F14: k.ú. Hanušovice | I14: Datum: | J14: ='Rekapitulace stavby'!AN8 -> 4. 8. 2026
D16: Zadavatel: | I16: IČ: | J16: 00302546
E17: Město Hanušovice | I17: DIČ: | J17: CZ00302546
D19: Účastník: | I19: IČ: | J19: ='Rekapitulace stavby'!AN13 -> Vyplň údaj
E20: ='Rekapitulace stavby'!E14 -> Vyplň údaj | I20: DIČ: | J20: ='Rekapitulace stavby'!AN14 -> Vyplň údaj
D22: Projektant: | I22: IČ: | J22: 27821251
E23: Cekr CZ s.r.o. | I23: DIČ: | J23: CZ27821251
D25: Zpracovatel: | I25: IČ:
E26: Jan Zamykal, CS ÚRS 2026/I | I26: DIČ:
D28: Poznámka:
D32: Cena bez DPH | J32: =ROUND(J91, 2) -> 0
F34: Základ daně | I34: Sazba daně | J34: Výše daně
D35: DPH | E35: základní | F35: =ROUND((SUM(BE91:BE252)), 2) -> 0 | I35: 0.21 | J35: =ROUND(((SUM(BE91:BE252))*I35), 2) -> 0
E36: snížená | F36: =ROUND((SUM(BF91:BF252)), 2) -> 0 | I36: 0.12 | J36: =ROUND(((SUM(BF91:BF252))*I36), 2) -> 0
E37: zákl. přenesená | F37: =ROUND((SUM(BG91:BG252)), 2) -> 0 | I37: 0.21 | J37: =0 -> 0
E38: sníž. přenesená | F38: =ROUND((SUM(BH91:BH252)), 2) -> 0 | I38: 0.12 | J38: =0 -> 0
E39: nulová | F39: =ROUND((SUM(BI91:BI252)), 2) -> 0 | I39: 0 | J39: =0 -> 0
D41: Cena s DPH | G41: v | H41: CZK | J41: =SUM(J32:J39) -> 0
C47: REKAPITULACE ČLENĚNÍ SOUPISU PRACÍ
C49: Stavba:
E50: =E7 -> Hanušovice - Holba - rámcový rozpočet úprav oblasti
C51: Objekt:
E52: 100 - Komunikace
C53: Soupis:
E54: =E11 -> SO 101.3 - Komunikace vozidlová - UK 29u
C56: Místo: | F56: =F14 -> k.ú. Hanušovice | I56: Datum: | J56: =IF(J14="","",J14) -> 4. 8. 2026
C58: Zadavatel: | F58: =E17 -> Město Hanušovice | I58: Projektant: | J58: =E23 -> Cekr CZ s.r.o.
C59: Účastník: | F59: =IF(E20="","",E20) -> Vyplň údaj | I59: Zpracovatel: | J59: =E26 -> Jan Zamykal, CS ÚRS 2026/I
C61: Kód dílu - Popis | J61: Cena celkem [CZK]
C63: Náklady stavby celkem | J63: =J91 -> 0 | AU63: -1
D64: HSV - Práce a dodávky HSV | J64: =J92 -> 0
D65: 1 - Zemní práce | J65: =J93 -> 0
D66: 5 - Komunikace pozemní | J66: =J155 -> 0
D67: 9 - Ostatní konstrukce a práce, bourání | J67: =J194 -> 0
D68: 997 - Doprava suti a vybouraných hmot | J68: =J223 -> 0
D69: 998 - Přesun hmot | J69: =J250 -> 0
C76: SOUPIS PRACÍ
C78: Stavba:
E79: =E7 -> Hanušovice - Holba - rámcový rozpočet úprav oblasti
C80: Objekt:
E81: 100 - Komunikace
C82: Soupis:
E83: =E11 -> SO 101.3 - Komunikace vozidlová - UK 29u
C85: Místo: | F85: =F14 -> k.ú. Hanušovice | I85: Datum: | J85: =IF(J14="","",J14) -> 4. 8. 2026
C87: Zadavatel: | F87: =E17 -> Město Hanušovice | I87: Projektant: | J87: =E23 -> Cekr CZ s.r.o.
C88: Účastník: | F88: =IF(E20="","",E20) -> Vyplň údaj | I88: Zpracovatel: | J88: =E26 -> Jan Zamykal, CS ÚRS 2026/I
C90: PČ | D90: Typ | E90: Kód | F90: Popis | G90: MJ | H90: Množství | I90: J.cena [CZK] | J90: Cena celkem [CZK] | K90: Cenová soustava | N90: DPH | O90: J. Nh [h] | P90: Nh celkem [h] | Q90: J. hmotnost [t] | R90: Hmotnost celkem [t] | S90: J. suť [t] | T90: Suť Celkem [t]
C91: Náklady soupisu celkem | J91: =BK91 -> 0 | P91: =P92 -> 0 | R91: =R92 -> 492.2428 | T91: =T92 -> 83.07 | AT91: D | AU91: -1 | BK91: =BK92 -> 0
D92: D | E92: HSV | F92: Práce a dodávky HSV | J92: =BK92 -> 0 | P92: =P93+P155+P194+P223+P250 -> 0 | R92: =R93+R155+R194+R223+R250 -> 492.2428 | T92: =T93+T155+T194+T223+T250 -> 83.07 | AR92: 1 | AT92: D | AU92: 0 | AY92: ROZPOCET | BK92: =BK93+BK155+BK194+BK223+BK250 -> 0
D93: D | E93: 1 | F93: Zemní práce | J93: =BK93 -> 0 | P93: =SUM(P94:P154) -> 0 | R93: =SUM(R94:R154) -> 244.904 | T93: =SUM(T94:T154) -> 83.07 | AR93: 1 | AT93: D | AU93: 1 | AY93: ROZPOCET | BK93: =SUM(BK94:BK154) -> 0
C94: 1 | D94: K | E94: 113151111 | F94: Rozebírání zpevněných ploch s přemístěním na skládku na vzdálenost do 20 m nebo s naložením na dopravní prostředek ze silničních panelů | G94: m2 | H94: 234 | J94: =ROUND(I94*H94,2) -> 0 | K94: CS ÚRS 2026 01 | N94: základní | P94: =O94*H94 -> 0 | Q94: 0 | R94: =Q94*H94 -> 0 | S94: 0.355 | T94: =S94*H94 -> 83.07 | AR94: 4 | AT94: K | AU94: 2 | AY94: ROZPOCET | BE94: =IF(N94="základní",J94,0) -> 0 | BF94: =IF(N94="snížená",J94,0) -> 0 | BG94: =IF(N94="zákl. přenesená",J94,0) -> 0 | BH94: =IF(N94="sníž. přenesená",J94,0) -> 0 | BI94: =IF(N94="nulová",J94,0) -> 0 | BJ94: 1 | BK94: =ROUND(I94*H94,2) -> 0 | BL94: 4 | BM94: 73011563
D95: Online PSC | F95: https://podminky.urs.cz/item/CS_URS_2026_01/113151111 | AT95: Online PSC | AU95: 2
D96: VV | F96: "rozebrání stáv.panelové plochy dle PD" | AT96: VV | AU96: 2 | AV96: 1 | AW96: True | AX96: 0 | AY96: ROZPOCET
D97: VV | F97: "odečteno digitálně z grafické části PD" | AT97: VV | AU97: 2 | AV97: 1 | AW97: True | AX97: 0 | AY97: ROZPOCET
D98: VV | F98: 234,00 | H98: 234 | AT98: VV | AU98: 2 | AV98: 2 | AW98: True | AX98: 0 | AY98: ROZPOCET
D99: VV | F99: Součet | H99: 234 | AT99: VV | AU99: 2 | AV99: 4 | AW99: True | AX99: 1 | AY99: ROZPOCET
C100: 2 | D100: K | E100: 122252204 | F100: Odkopávky a prokopávky nezapažené pro silnice a dálnice strojně v hornině třídy těžitelnosti I přes 100 do 500 m3 | G100: m3 | H100: 223.719 | J100: =ROUND(I100*H100,2) -> 0 | K100: CS ÚRS 2026 01 | N100: základní | P100: =O100*H100 -> 0 | Q100: 0 | R100: =Q100*H100 -> 0 | S100: 0 | T100: =S100*H100 -> 0 | AR100: 4 | AT100: K | AU100: 2 | AY100: ROZPOCET | BE100: =IF(N100="základní",J100,0) -> 0 | BF100: =IF(N100="snížená",J100,0) -> 0 | BG100: =IF(N100="zákl. přenesená",J100,0) -> 0 | BH100: =IF(N100="sníž. přenesená",J100,0) -> 0 | BI100: =IF(N100="nulová",J100,0) -> 0 | BJ100: 1 | BK100: =ROUND(I100*H100,2) -> 0 | BL100: 4 | BM100: 259575033
D101: Online PSC | F101: https://podminky.urs.cz/item/CS_URS_2026_01/122252204 | AT101: Online PSC | AU101: 2
D102: P | F102: Poznámka k položce:_x000D_ Poznámka k položce: odkopávky pro provedení sanace všechny plochy jsou odmřeny z dwg | AT102: P | AU102: 2
D103: VV | F103: "odkopávka pro konstrukci nové komunikace vč. aktivní zóny dle PD" | AT103: VV | AU103: 2 | AV103: 1 | AW103: True | AX103: 0 | AY103: ROZPOCET
D104: VV | F104: "odečteno digitálně, výpočet SW" | AT104: VV | AU104: 2 | AV104: 1 | AW104: True | AX104: 0 | AY104: ROZPOCET
D105: VV | F105: "index rozšíření ploch i=1,15" | AT105: VV | AU105: 2 | AV105: 1 | AW105: True | AX105: 0 | AY105: ROZPOCET
D106: VV | F106: 242,00*1,15*0,43 | H106: 119.669 | AT106: VV | AU106: 2 | AV106: 2 | AW106: True | AX106: 0 | AY106: ROZPOCET
D107: VV | F107: "odpočet ojemu vybouraných původních vrstev" | AT107: VV | AU107: 2 | AV107: 1 | AW107: True | AX107: 0 | AY107: ROZPOCET
D108: VV | F108: "panely" -234,00*0,15 | H108: -35.1 | AT108: VV | AU108: 2 | AV108: 2 | AW108: True | AX108: 0 | AY108: ROZPOCET
D109: VV | F109: Mezisoučet | H109: 84.569 | AT109: VV | AU109: 2 | AV109: 3 | AW109: True | AX109: 0 | AY109: ROZPOCET
D110: VV | F110: "aktivní zóna" | AT110: VV | AU110: 2 | AV110: 1 | AW110: True | AX110: 0 | AY110: ROZPOCET
D111: VV | F111: "index rozšíření ploch i=1,15" | AT111: VV | AU111: 2 | AV111: 1 | AW111: True | AX111: 0 | AY111: ROZPOCET
D112: VV | F112: 242,00*1,15*0,50 | H112: 139.15 | AT112: VV | AU112: 2 | AV112: 2 | AW112: True | AX112: 0 | AY112: ROZPOCET
D113: VV | F113: Mezisoučet | H113: 139.15 | AT113: VV | AU113: 2 | AV113: 3 | AW113: True | AX113: 0 | AY113: ROZPOCET
D114: VV | F114: Součet | H114: 223.719 | AT114: VV | AU114: 2 | AV114: 4 | AW114: True | AX114: 1 | AY114: ROZPOCET
C115: 4 | D115: K | E115: 162751117 | F115: Vodorovné přemístění výkopku nebo sypaniny po suchu na obvyklém dopravním prostředku, bez naložení výkopku, avšak se složením bez rozhrnutí z horniny třídy těžitelnosti I skupiny 1 až 3 na vzdálenost přes 9 000 do 10 000 m | G115: m3 | H115: 207.319 | J115: =ROUND(I115*H115,2) -> 0 | K115: CS ÚRS 2026 01 | N115: základní | P115: =O115*H115 -> 0 | Q115: 0 | R115: =Q115*H115 -> 0 | S115: 0 | T115: =S115*H115 -> 0 | AR115: 4 | AT115: K | AU115: 2 | AY115: ROZPOCET | BE115: =IF(N115="základní",J115,0) -> 0 | BF115: =IF(N115="snížená",J115,0) -> 0 | BG115: =IF(N115="zákl. přenesená",J115,0) -> 0 | BH115: =IF(N115="sníž. přenesená",J115,0) -> 0 | BI115: =IF(N115="nulová",J115,0) -> 0 | BJ115: 1 | BK115: =ROUND(I115*H115,2) -> 0 | BL115: 4 | BM115: 366209681
D116: Online PSC | F116: https://podminky.urs.cz/item/CS_URS_2026_01/162751117 | AT116: Online PSC | AU116: 2
D117: VV | F117: "přemístění výkopku na řízenou skládku - předpoklad do 17 km (RECOVERA Rapotín)" | AT117: VV | AU117: 2 | AV117: 1 | AW117: True | AX117: 0 | AY117: ROZPOCET
D118: VV | F118: "odkopávky" 84,569+139,15 | H118: 223.719 | AT118: VV | AU118: 2 | AV118: 2 | AW118: True | AX118: 0 | AY118: ROZPOCET
D119: VV | F119: "odpočet zeminy využité k dosypání obrubníků" -16,40 | H119: -16.4 | AT119: VV | AU119: 2 | AV119: 2 | AW119: True | AX119: 0 | AY119: ROZPOCET
D120: VV | F120: Součet | H120: 207.319 | AT120: VV | AU120: 2 | AV120: 4 | AW120: True | AX120: 1 | AY120: ROZPOCET
C121: 5 | D121: K | E121: 162751119 | F121: Vodorovné přemístění výkopku nebo sypaniny po suchu na obvyklém dopravním prostředku, bez naložení výkopku, avšak se složením bez rozhrnutí z horniny třídy těžitelnosti I skupiny 1 až 3 na vzdálenost Příplatek k ceně za každých dalších i započatých 1 000 m | G121: m3 | H121: 1451.233 | J121: =ROUND(I121*H121,2) -> 0 | K121: CS ÚRS 2026 01 | N121: základní | P121: =O121*H121 -> 0 | Q121: 0 | R121: =Q121*H121 -> 0 | S121: 0 | T121: =S121*H121 -> 0 | AR121: 4 | AT121: K | AU121: 2 | AY121: ROZPOCET | BE121: =IF(N121="základní",J121,0) -> 0 | BF121: =IF(N121="snížená",J121,0) -> 0 | BG121: =IF(N121="zákl. přenesená",J121,0) -> 0 | BH121: =IF(N121="sníž. přenesená",J121,0) -> 0 | BI121: =IF(N121="nulová",J121,0) -> 0 | BJ121: 1 | BK121: =ROUND(I121*H121,2) -> 0 | BL121: 4 | BM121: 503564142
D122: Online PSC | F122: https://podminky.urs.cz/item/CS_URS_2026_01/162751119 | AT122: Online PSC | AU122: 2
D123: VV | F123: "přemístění výkopku na řízenou skládku - předpoklad do 17 km (RECOVERA Rapotín)" | AT123: VV | AU123: 2 | AV123: 1 | AW123: True | AX123: 0 | AY123: ROZPOCET
D124: VV | F124: "odkopávky" (84,569+139,15-16,40)*7 | H124: 1451.233 | AT124: VV | AU124: 2 | AV124: 2 | AW124: True | AX124: 0 | AY124: ROZPOCET
D125: VV | F125: Součet | H125: 1451.233 | AT125: VV | AU125: 2 | AV125: 4 | AW125: True | AX125: 1 | AY125: ROZPOCET
C126: 6 | D126: K | E126: 171152111 | F126: Uložení sypaniny do zhutněných násypů pro silnice, dálnice a letiště s rozprostřením sypaniny ve vrstvách, s hrubým urovnáním a uzavřením povrchu násypu z hornin nesoudržných sypkých v aktivní zóně | G126: m3 | H126: 139.15 | J126: =ROUND(I126*H126,2) -> 0 | K126: CS ÚRS 2026 01 | N126: základní | P126: =O126*H126 -> 0 | Q126: 0 | R126: =Q126*H126 -> 0 | S126: 0 | T126: =S126*H126 -> 0 | AR126: 4 | AT126: K | AU126: 2 | AY126: ROZPOCET | BE126: =IF(N126="základní",J126,0) -> 0 | BF126: =IF(N126="snížená",J126,0) -> 0 | BG126: =IF(N126="zákl. přenesená",J126,0) -> 0 | BH126: =IF(N126="sníž. přenesená",J126,0) -> 0 | BI126: =IF(N126="nulová",J126,0) -> 0 | BJ126: 1 | BK126: =ROUND(I126*H126,2) -> 0 | BL126: 4 | BM126: 1233615314
D127: Online PSC | F127: https://podminky.urs.cz/item/CS_URS_2026_01/171152111 | AT127: Online PSC | AU127: 2
D128: VV | F128: "vytvoření aktivní zóny nové plochy komunikace dle PD v tl. 50 cm" | AT128: VV | AU128: 2 | AV128: 1 | AW128: True | AX128: 0 | AY128: ROZPOCET
D129: VV | F129: "odečteno digitálně, výpočet SW" | AT129: VV | AU129: 2 | AV129: 1 | AW129: True | AX129: 0 | AY129: ROZPOCET
D130: VV | F130: "index rozšíření ploch i=1,15" | AT130: VV | AU130: 2 | AV130: 1 | AW130: True | AX130: 0 | AY130: ROZPOCET
D131: VV | F131: 242,00*1,15*0,50 | H131: 139.15 | AT131: VV | AU131: 2 | AV131: 2 | AW131: True | AX131: 0 | AY131: ROZPOCET
D132: VV | F132: "!!!nutnost realizace musí být předem odsouhlasena projektantem (AD)!!!" | AT132: VV | AU132: 2 | AV132: 1 | AW132: True | AX132: 0 | AY132: ROZPOCET
D133: VV | F133: Součet | H133: 139.15 | AT133: VV | AU133: 2 | AV133: 4 | AW133: True | AX133: 1 | AY133: ROZPOCET
...

Sheet SO 101.4 - Komunikace voz...
AT2: {de5ddde9-c4d8-47aa-89a2-b791e2c09488}
AT3: 2
D4: KRYCÍ LIST SOUPISU PRACÍ | M4: v --- níže se nacházejí doplnkové a pomocné údaje k sestavám --- v | AT4: False
D6: Stavba:
E7: ='Rekapitulace stavby'!K6 -> Hanušovice - Holba - rámcový rozpočet úprav oblasti
D8: Objekt:
E9: 100 - Komunikace
D10: Soupis:
E11: SO 101.4 - Komunikace vozidlová - MK 40c
D13: KSO: | I13: CC-CZ:
D14: Místo: | F14: k.ú. Hanušovice | I14: Datum: | J14: ='Rekapitulace stavby'!AN8 -> 4. 8. 2026
D16: Zadavatel: | I16: IČ: | J16: 00302546
E17: Město Hanušovice | I17: DIČ: | J17: CZ00302546
D19: Účastník: | I19: IČ: | J19: ='Rekapitulace stavby'!AN13 -> Vyplň údaj
E20: ='Rekapitulace stavby'!E14 -> Vyplň údaj | I20: DIČ: | J20: ='Rekapitulace stavby'!AN14 -> Vyplň údaj
D22: Projektant: | I22: IČ: | J22: 27821251
E23: Cekr CZ s.r.o. | I23: DIČ: | J23: CZ27821251
D25: Zpracovatel: | I25: IČ:
E26: Jan Zamykal, CS ÚRS 2026/I | I26: DIČ:
D28: Poznámka:
D32: Cena bez DPH | J32: =ROUND(J91, 2) -> 0
F34: Základ daně | I34: Sazba daně | J34: Výše daně
D35: DPH | E35: základní | F35: =ROUND((SUM(BE91:BE338)), 2) -> 0 | I35: 0.21 | J35: =ROUND(((SUM(BE91:BE338))*I35), 2) -> 0
E36: snížená | F36: =ROUND((SUM(BF91:BF338)), 2) -> 0 | I36: 0.12 | J36: =ROUND(((SUM(BF91:BF338))*I36), 2) -> 0
E37: zákl. přenesená | F37: =ROUND((SUM(BG91:BG338)), 2) -> 0 | I37: 0.21 | J37: =0 -> 0
E38: sníž. přenesená | F38: =ROUND((SUM(BH91:BH338)), 2) -> 0 | I38: 0.12 | J38: =0 -> 0
E39: nulová | F39: =ROUND((SUM(BI91:BI338)), 2) -> 0 | I39: 0 | J39: =0 -> 0
D41: Cena s DPH | G41: v | H41: CZK | J41: =SUM(J32:J39) -> 0
C47: REKAPITULACE ČLENĚNÍ SOUPISU PRACÍ
C49: Stavba:
E50: =E7 -> Hanušovice - Holba - rámcový rozpočet úprav oblasti
C51: Objekt:
E52: 100 - Komunikace
C53: Soupis:
E54: =E11 -> SO 101.4 - Komunikace vozidlová - MK 40c
C56: Místo: | F56: =F14 -> k.ú. Hanušovice | I56: Datum: | J56: =IF(J14="","",J14) -> 4. 8. 2026
C58: Zadavatel: | F58: =E17 -> Město Hanušovice | I58: Projektant: | J58: =E23 -> Cekr CZ s.r.o.
C59: Účastník: | F59: =IF(E20="","",E20) -> Vyplň údaj | I59: Zpracovatel: | J59: =E26 -> Jan Zamykal, CS ÚRS 2026/I
C61: Kód dílu - Popis | J61: Cena celkem [CZK]
C63: Náklady stavby celkem | J63: =J91 -> 0 | AU63: -1
D64: HSV - Práce a dodávky HSV | J64: =J92 -> 0
D65: 1 - Zemní práce | J65: =J93 -> 0
D66: 5 - Komunikace pozemní | J66: =J191 -> 0
D67: 9 - Ostatní konstrukce a práce, bourání | J67: =J254 -> 0
D68: 997 - Doprava suti a vybouraných hmot | J68: =J305 -> 0
D69: 998 - Přesun hmot | J69: =J336 -> 0
C76: SOUPIS PRACÍ
C78: Stavba:
E79: =E7 -> Hanušovice - Holba - rámcový rozpočet úprav oblasti
C80: Objekt:
E81: 100 - Komunikace
C82: Soupis:
E83: =E11 -> SO 101.4 - Komunikace vozidlová - MK 40c
C85: Místo: | F85: =F14 -> k.ú. Hanušovice | I85: Datum: | J85: =IF(J14="","",J14) -> 4. 8. 2026
C87: Zadavatel: | F87: =E17 -> Město Hanušovice | I87: Projektant: | J87: =E23 -> Cekr CZ s.r.o.
C88: Účastník: | F88: =IF(E20="","",E20) -> Vyplň údaj | I88: Zpracovatel: | J88: =E26 -> Jan Zamykal, CS ÚRS 2026/I
C90: PČ | D90: Typ | E90: Kód | F90: Popis | G90: MJ | H90: Množství | I90: J.cena [CZK] | J90: Cena celkem [CZK] | K90: Cenová soustava | N90: DPH | O90: J. Nh [h] | P90: Nh celkem [h] | Q90: J. hmotnost [t] | R90: Hmotnost celkem [t] | S90: J. suť [t] | T90: Suť Celkem [t]
C91: Náklady soupisu celkem | J91: =BK91 -> 0 | P91: =P92 -> 0 | R91: =R92 -> 1456.473 | T91: =T92 -> 177.81 | AT91: D | AU91: -1 | BK91: =BK92 -> 0
D92: D | E92: HSV | F92: Práce a dodávky HSV | J92: =BK92 -> 0 | P92: =P93+P191+P254+P305+P336 -> 0 | R92: =R93+R191+R254+R305+R336 -> 1456.473 | T92: =T93+T191+T254+T305+T336 -> 177.81 | AR92: 1 | AT92: D | AU92: 0 | AY92: ROZPOCET | BK92: =BK93+BK191+BK254+BK305+BK336 -> 0
D93: D | E93: 1 | F93: Zemní práce | J93: =BK93 -> 0 | P93: =SUM(P94:P190) -> 0 | R93: =SUM(R94:R190) -> 630.504 | T93: =SUM(T94:T190) -> 177.81 | AR93: 1 | AT93: D | AU93: 1 | AY93: ROZPOCET | BK93: =SUM(BK94:BK190) -> 0
C94: 1 | D94: K | E94: 113154528 | F94: Frézování živičného podkladu nebo krytu s naložením hmot na dopravní prostředek plochy do 500 m2 pruhu šířky přes 0,5 m, tloušťky vrstvy 100 mm | G94: m2 | H94: 700 | J94: =ROUND(I94*H94,2) -> 0 | K94: CS ÚRS 2026 01 | N94: základní | P94: =O94*H94 -> 0 | Q94: 3e-05 | R94: =Q94*H94 -> 0.021 | S94: 0.23 | T94: =S94*H94 -> 161 | AR94: 4 | AT94: K | AU94: 2 | AY94: ROZPOCET | BE94: =IF(N94="základní",J94,0) -> 0 | BF94: =IF(N94="snížená",J94,0) -> 0 | BG94: =IF(N94="zákl. přenesená",J94,0) -> 0 | BH94: =IF(N94="sníž. přenesená",J94,0) -> 0 | BI94: =IF(N94="nulová",J94,0) -> 0 | BJ94: 1 | BK94: =ROUND(I94*H94,2) -> 0 | BL94: 4 | BM94: 767975960
D95: Online PSC | F95: https://podminky.urs.cz/item/CS_URS_2026_01/113154528 | AT95: Online PSC | AU95: 2
D96: VV | F96: "odfrézování stáv. degradovaného živič.krytu dle PD" | AT96: VV | AU96: 2 | AV96: 1 | AW96: True | AX96: 0 | AY96: ROZPOCET
D97: VV | F97: "odečteno digitálně z grafické části PD" | AT97: VV | AU97: 2 | AV97: 1 | AW97: True | AX97: 0 | AY97: ROZPOCET
D98: VV | F98: 700,00 | H98: 700 | AT98: VV | AU98: 2 | AV98: 2 | AW98: True | AX98: 0 | AY98: ROZPOCET
D99: VV | F99: Součet | H99: 700 | AT99: VV | AU99: 2 | AV99: 4 | AW99: True | AX99: 1 | AY99: ROZPOCET
C100: 2 | D100: K | E100: 113202111 | F100: Vytrhání obrub s vybouráním lože, s přemístěním hmot na skládku na vzdálenost do 3 m nebo s naložením na dopravní prostředek z krajníků nebo obrubníků stojatých | G100: m | H100: 82 | J100: =ROUND(I100*H100,2) -> 0 | K100: CS ÚRS 2026 01 | N100: základní | P100: =O100*H100 -> 0 | Q100: 0 | R100: =Q100*H100 -> 0 | S100: 0.205 | T100: =S100*H100 -> 16.81 | AR100: 4 | AT100: K | AU100: 2 | AY100: ROZPOCET | BE100: =IF(N100="základní",J100,0) -> 0 | BF100: =IF(N100="snížená",J100,0) -> 0 | BG100: =IF(N100="zákl. přenesená",J100,0) -> 0 | BH100: =IF(N100="sníž. přenesená",J100,0) -> 0 | BI100: =IF(N100="nulová",J100,0) -> 0 | BJ100: 1 | BK100: =ROUND(I100*H100,2) -> 0 | BL100: 4 | BM100: -165054988
D101: Online PSC | F101: https://podminky.urs.cz/item/CS_URS_2026_01/113202111 | AT101: Online PSC | AU101: 2
D102: VV | F102: "vytrhání stávajících chodníkových obrub v upravovaných plochách" | AT102: VV | AU102: 2 | AV102: 1 | AW102: True | AX102: 0 | AY102: ROZPOCET
D103: VV | F103: 38+44 | H103: 82 | AT103: VV | AU103: 2 | AV103: 2 | AW103: True | AX103: 0 | AY103: ROZPOCET
D104: VV | F104: Součet | H104: 82 | AT104: VV | AU104: 2 | AV104: 4 | AW104: True | AX104: 1 | AY104: ROZPOCET
C105: 3 | D105: K | E105: 122252205 | F105: Odkopávky a prokopávky nezapažené pro silnice a dálnice strojně v hornině třídy těžitelnosti I přes 500 do 1 000 m3 | G105: m3 | H105: 674.91 | J105: =ROUND(I105*H105,2) -> 0 | K105: CS ÚRS 2026 01 | N105: základní | P105: =O105*H105 -> 0 | Q105: 0 | R105: =Q105*H105 -> 0 | S105: 0 | T105: =S105*H105 -> 0 | AR105: 4 | AT105: K | AU105: 2 | AY105: ROZPOCET | BE105: =IF(N105="základní",J105,0) -> 0 | BF105: =IF(N105="snížená",J105,0) -> 0 | BG105: =IF(N105="zákl. přenesená",J105,0) -> 0 | BH105: =IF(N105="sníž. přenesená",J105,0) -> 0 | BI105: =IF(N105="nulová",J105,0) -> 0 | BJ105: 1 | BK105: =ROUND(I105*H105,2) -> 0 | BL105: 4 | BM105: 2099291985
D106: Online PSC | F106: https://podminky.urs.cz/item/CS_URS_2026_01/122252205 | AT106: Online PSC | AU106: 2
D107: P | F107: Poznámka k položce:_x000D_ Poznámka k položce: odkopávky pro provedení sanace všechny plochy jsou odmřeny z dwg | AT107: P | AU107: 2
D108: VV | F108: "odkopávka pro konstrukci nových odstavných ploch vč. aktivní zóny dle PD" | AT108: VV | AU108: 2 | AV108: 1 | AW108: True | AX108: 0 | AY108: ROZPOCET
D109: VV | F109: "odečteno digitálně, výpočet SW" | AT109: VV | AU109: 2 | AV109: 1 | AW109: True | AX109: 0 | AY109: ROZPOCET
D110: VV | F110: "index rozšíření ploch i=1,05" | AT110: VV | AU110: 2 | AV110: 1 | AW110: True | AX110: 0 | AY110: ROZPOCET
D111: VV | F111: 389,90*1,05*0,45 | H111: 184.228 | AT111: VV | AU111: 2 | AV111: 2 | AW111: True | AX111: 0 | AY111: ROZPOCET
D112: VV | F112: Mezisoučet | H112: 184.228 | AT112: VV | AU112: 2 | AV112: 3 | AW112: True | AX112: 0 | AY112: ROZPOCET
D113: VV | F113: "aktivní zóna" | AT113: VV | AU113: 2 | AV113: 1 | AW113: True | AX113: 0 | AY113: ROZPOCET
D114: VV | F114: "index rozšíření ploch i=1,05" | AT114: VV | AU114: 2 | AV114: 1 | AW114: True | AX114: 0 | AY114: ROZPOCET
D115: VV | F115: 389,90*1,05*0,30 | H115: 122.819 | AT115: VV | AU115: 2 | AV115: 2 | AW115: True | AX115: 0 | AY115: ROZPOCET
D116: VV | F116: Mezisoučet | H116: 122.819 | AT116: VV | AU116: 2 | AV116: 3 | AW116: True | AX116: 0 | AY116: ROZPOCET
D117: VV | F117: "odkopávka pro konstrukci nové komunikace vč. aktivní zóny dle PD" | AT117: VV | AU117: 2 | AV117: 1 | AW117: True | AX117: 0 | AY117: ROZPOCET
D118: VV | F118: "odečteno digitálně, výpočet SW" | AT118: VV | AU118: 2 | AV118: 1 | AW118: True | AX118: 0 | AY118: ROZPOCET
D119: VV | F119: "index rozšíření ploch i=1,05" | AT119: VV | AU119: 2 | AV119: 1 | AW119: True | AX119: 0 | AY119: ROZPOCET
D120: VV | F120: 448,40*1,05*0,43 | H120: 202.453 | AT120: VV | AU120: 2 | AV120: 2 | AW120: True | AX120: 0 | AY120: ROZPOCET
D121: VV | F121: Mezisoučet | H121: 202.453 | AT121: VV | AU121: 2 | AV121: 3 | AW121: True | AX121: 0 | AY121: ROZPOCET
D122: VV | F122: "aktivní zóna" | AT122: VV | AU122: 2 | AV122: 1 | AW122: True | AX122: 0 | AY122: ROZPOCET
D123: VV | F123: "index rozšíření ploch i=1,05" | AT123: VV | AU123: 2 | AV123: 1 | AW123: True | AX123: 0 | AY123: ROZPOCET
D124: VV | F124: 448,40*1,05*0,50 | H124: 235.41 | AT124: VV | AU124: 2 | AV124: 2 | AW124: True | AX124: 0 | AY124: ROZPOCET
D125: VV | F125: Mezisoučet | H125: 235.41 | AT125: VV | AU125: 2 | AV125: 3 | AW125: True | AX125: 0 | AY125: ROZPOCET
D126: VV | F126: "odpočet objemu vybouraných původních hmot" | AT126: VV | AU126: 2 | AV126: 1 | AW126: True | AX126: 0 | AY126: ROZPOCET
D127: VV | F127: "degradovaný asfaltový kryt" -700,00*0,10 | H127: -70 | AT127: VV | AU127: 2 | AV127: 2 | AW127: True | AX127: 0 | AY127: ROZPOCET
D128: VV | F128: Mezisoučet | H128: -70 | AT128: VV | AU128: 2 | AV128: 3 | AW128: True | AX128: 0 | AY128: ROZPOCET
D129: VV | F129: Součet | H129: 674.91 | AT129: VV | AU129: 2 | AV129: 4 | AW129: True | AX129: 1 | AY129: ROZPOCET
C130: 4 | D130: K | E130: 132112132 | F130: Hloubení nezapažených rýh šířky do 800 mm ručně s urovnáním dna do předepsaného profilu a spádu v hornině třídy těžitelnosti I skupiny 1 a 2 nesoudržných | G130: m3 | H130: 6.818 | J130: =ROUND(I130*H130,2) -> 0 | K130: CS ÚRS 2026 01 | N130: základní | P130: =O130*H130 -> 0 | Q130: 0 | R130: =Q130*H130 -> 0 | S130: 0 | T130: =S130*H130 -> 0 | AR130: 4 | AT130: K | AU130: 2 | AY130: ROZPOCET | BE130: =IF(N130="základní",J130,0) -> 0 | BF130: =IF(N130="snížená",J130,0) -> 0 | BG130: =IF(N130="zákl. přenesená",J130,0) -> 0 | BH130: =IF(N130="sníž. přenesená",J130,0) -> 0 | BI130: =IF(N130="nulová",J130,0) -> 0 | BJ130: 1 | BK130: =ROUND(I130*H130,2) -> 0 | BL130: 4 | BM130: -1025042481
D131: Online PSC | F131: https://podminky.urs.cz/item/CS_URS_2026_01/132112132 | AT131: Online PSC | AU131: 2
D132: VV | F132: "prohloubení a úprava rýh pro osazení nových obrub a přídlažeb ze ŽK dle PD" | AT132: VV | AU132: 2 | AV132: 1 | AW132: True | AX132: 0 | AY132: ROZPOCET
D133: VV | F133: "odečteno digitálně z grafické části PD" | AT133: VV | AU133: 2 | AV133: 1 | AW133: True | AX133: 0 | AY133: ROZPOCET
...

Sheet SO 101.5 - Komunikace voz...
AT2: {2296a6b3-9dd6-4ffa-92a5-a701af109932}
AT3: 2
D4: KRYCÍ LIST SOUPISU PRACÍ | M4: v --- níže se nacházejí doplnkové a pomocné údaje k sestavám --- v | AT4: False
D6: Stavba:
E7: ='Rekapitulace stavby'!K6 -> Hanušovice - Holba - rámcový rozpočet úprav oblasti
D8: Objekt:
E9: 100 - Komunikace
D10: Soupis:
E11: SO 101.5 - Komunikace vozidlová - UK 39u
D13: KSO: | I13: CC-CZ:
D14: Místo: | F14: k.ú. Hanušovice | I14: Datum: | J14: ='Rekapitulace stavby'!AN8 -> 4. 8. 2026
D16: Zadavatel: | I16: IČ: | J16: 00302546
E17: Město Hanušovice | I17: DIČ: | J17: CZ00302546
D19: Účastník: | I19: IČ: | J19: ='Rekapitulace stavby'!AN13 -> Vyplň údaj
E20: ='Rekapitulace stavby'!E14 -> Vyplň údaj | I20: DIČ: | J20: ='Rekapitulace stavby'!AN14 -> Vyplň údaj
D22: Projektant: | I22: IČ: | J22: 27821251
E23: Cekr CZ s.r.o. | I23: DIČ: | J23: CZ27821251
D25: Zpracovatel: | I25: IČ:
E26: Jan Zamykal, CS ÚRS 2026/I | I26: DIČ:
D28: Poznámka:
D32: Cena bez DPH | J32: =ROUND(J91, 2) -> 0
F34: Základ daně | I34: Sazba daně | J34: Výše daně
D35: DPH | E35: základní | F35: =ROUND((SUM(BE91:BE310)), 2) -> 0 | I35: 0.21 | J35: =ROUND(((SUM(BE91:BE310))*I35), 2) -> 0
E36: snížená | F36: =ROUND((SUM(BF91:BF310)), 2) -> 0 | I36: 0.12 | J36: =ROUND(((SUM(BF91:BF310))*I36), 2) -> 0
E37: zákl. přenesená | F37: =ROUND((SUM(BG91:BG310)), 2) -> 0 | I37: 0.21 | J37: =0 -> 0
E38: sníž. přenesená | F38: =ROUND((SUM(BH91:BH310)), 2) -> 0 | I38: 0.12 | J38: =0 -> 0
E39: nulová | F39: =ROUND((SUM(BI91:BI310)), 2) -> 0 | I39: 0 | J39: =0 -> 0
D41: Cena s DPH | G41: v | H41: CZK | J41: =SUM(J32:J39) -> 0
C47: REKAPITULACE ČLENĚNÍ SOUPISU PRACÍ
C49: Stavba:
E50: =E7 -> Hanušovice - Holba - rámcový rozpočet úprav oblasti
C51: Objekt:
E52: 100 - Komunikace
C53: Soupis:
E54: =E11 -> SO 101.5 - Komunikace vozidlová - UK 39u
C56: Místo: | F56: =F14 -> k.ú. Hanušovice | I56: Datum: | J56: =IF(J14="","",J14) -> 4. 8. 2026
C58: Zadavatel: | F58: =E17 -> Město Hanušovice | I58: Projektant: | J58: =E23 -> Cekr CZ s.r.o.
C59: Účastník: | F59: =IF(E20="","",E20) -> Vyplň údaj | I59: Zpracovatel: | J59: =E26 -> Jan Zamykal, CS ÚRS 2026/I
C61: Kód dílu - Popis | J61: Cena celkem [CZK]
C63: Náklady stavby celkem | J63: =J91 -> 0 | AU63: -1
D64: HSV - Práce a dodávky HSV | J64: =J92 -> 0
D65: 1 - Zemní práce | J65: =J93 -> 0
D66: 5 - Komunikace pozemní | J66: =J175 -> 0
D67: 9 - Ostatní konstrukce a práce, bourání | J67: =J214 -> 0
D68: 997 - Doprava suti a vybouraných hmot | J68: =J264 -> 0
D69: 998 - Přesun hmot | J69: =J308 -> 0
C76: SOUPIS PRACÍ
C78: Stavba:
E79: =E7 -> Hanušovice - Holba - rámcový rozpočet úprav oblasti
C80: Objekt:
E81: 100 - Komunikace
C82: Soupis:
E83: =E11 -> SO 101.5 - Komunikace vozidlová - UK 39u
C85: Místo: | F85: =F14 -> k.ú. Hanušovice | I85: Datum: | J85: =IF(J14="","",J14) -> 4. 8. 2026
C87: Zadavatel: | F87: =E17 -> Město Hanušovice | I87: Projektant: | J87: =E23 -> Cekr CZ s.r.o.
C88: Účastník: | F88: =IF(E20="","",E20) -> Vyplň údaj | I88: Zpracovatel: | J88: =E26 -> Jan Zamykal, CS ÚRS 2026/I
C90: PČ | D90: Typ | E90: Kód | F90: Popis | G90: MJ | H90: Množství | I90: J.cena [CZK] | J90: Cena celkem [CZK] | K90: Cenová soustava | N90: DPH | O90: J. Nh [h] | P90: Nh celkem [h] | Q90: J. hmotnost [t] | R90: Hmotnost celkem [t] | S90: J. suť [t] | T90: Suť Celkem [t]
C91: Náklady soupisu celkem | J91: =BK91 -> 0 | P91: =P92 -> 0 | R91: =R92 -> 483.08521 | T91: =T92 -> 73.42 | AT91: D | AU91: -1 | BK91: =BK92 -> 0
D92: D | E92: HSV | F92: Práce a dodávky HSV | J92: =BK92 -> 0 | P92: =P93+P175+P214+P264+P308 -> 0 | R92: =R93+R175+R214+R264+R308 -> 483.08521 | T92: =T93+T175+T214+T264+T308 -> 73.42 | AR92: 1 | AT92: D | AU92: 0 | AY92: ROZPOCET | BK92: =BK93+BK175+BK214+BK264+BK308 -> 0
D93: D | E93: 1 | F93: Zemní práce | J93: =BK93 -> 0 | P93: =SUM(P94:P174) -> 0 | R93: =SUM(R94:R174) -> 225.64352 | T93: =SUM(T94:T174) -> 73.42 | AR93: 1 | AT93: D | AU93: 1 | AY93: ROZPOCET | BK93: =SUM(BK94:BK174) -> 0
C94: 1 | D94: K | E94: 113151111 | F94: Rozebírání zpevněných ploch s přemístěním na skládku na vzdálenost do 20 m nebo s naložením na dopravní prostředek ze silničních panelů | G94: m2 | H94: 142 | J94: =ROUND(I94*H94,2) -> 0 | K94: CS ÚRS 2026 01 | N94: základní | P94: =O94*H94 -> 0 | Q94: 0 | R94: =Q94*H94 -> 0 | S94: 0.355 | T94: =S94*H94 -> 50.41 | AR94: 4 | AT94: K | AU94: 2 | AY94: ROZPOCET | BE94: =IF(N94="základní",J94,0) -> 0 | BF94: =IF(N94="snížená",J94,0) -> 0 | BG94: =IF(N94="zákl. přenesená",J94,0) -> 0 | BH94: =IF(N94="sníž. přenesená",J94,0) -> 0 | BI94: =IF(N94="nulová",J94,0) -> 0 | BJ94: 1 | BK94: =ROUND(I94*H94,2) -> 0 | BL94: 4 | BM94: 145483460
D95: Online PSC | F95: https://podminky.urs.cz/item/CS_URS_2026_01/113151111 | AT95: Online PSC | AU95: 2
D96: VV | F96: "rozebrání stáv.panelové plochy dle PD" | AT96: VV | AU96: 2 | AV96: 1 | AW96: True | AX96: 0 | AY96: ROZPOCET
D97: VV | F97: "odečteno digitálně z grafické části PD" | AT97: VV | AU97: 2 | AV97: 1 | AW97: True | AX97: 0 | AY97: ROZPOCET
D98: VV | F98: 142,00 | H98: 142 | AT98: VV | AU98: 2 | AV98: 2 | AW98: True | AX98: 0 | AY98: ROZPOCET
D99: VV | F99: Součet | H99: 142 | AT99: VV | AU99: 2 | AV99: 4 | AW99: True | AX99: 1 | AY99: ROZPOCET
C100: 2 | D100: K | E100: 113154528 | F100: Frézování živičného podkladu nebo krytu s naložením hmot na dopravní prostředek plochy do 500 m2 pruhu šířky přes 0,5 m, tloušťky vrstvy 100 mm | G100: m2 | H100: 84 | J100: =ROUND(I100*H100,2) -> 0 | K100: CS ÚRS 2026 01 | N100: základní | P100: =O100*H100 -> 0 | Q100: 3e-05 | R100: =Q100*H100 -> 0.00252 | S100: 0.23 | T100: =S100*H100 -> 19.32 | AR100: 4 | AT100: K | AU100: 2 | AY100: ROZPOCET | BE100: =IF(N100="základní",J100,0) -> 0 | BF100: =IF(N100="snížená",J100,0) -> 0 | BG100: =IF(N100="zákl. přenesená",J100,0) -> 0 | BH100: =IF(N100="sníž. přenesená",J100,0) -> 0 | BI100: =IF(N100="nulová",J100,0) -> 0 | BJ100: 1 | BK100: =ROUND(I100*H100,2) -> 0 | BL100: 4 | BM100: -195726485
D101: Online PSC | F101: https://podminky.urs.cz/item/CS_URS_2026_01/113154528 | AT101: Online PSC | AU101: 2
D102: VV | F102: "odfrézování stáv. živič.krytu dle PD" | AT102: VV | AU102: 2 | AV102: 1 | AW102: True | AX102: 0 | AY102: ROZPOCET
D103: VV | F103: "odečteno digitálně z grafické části PD" | AT103: VV | AU103: 2 | AV103: 1 | AW103: True | AX103: 0 | AY103: ROZPOCET
D104: VV | F104: 84,00 | H104: 84 | AT104: VV | AU104: 2 | AV104: 2 | AW104: True | AX104: 0 | AY104: ROZPOCET
D105: VV | F105: Součet | H105: 84 | AT105: VV | AU105: 2 | AV105: 4 | AW105: True | AX105: 1 | AY105: ROZPOCET
C106: 3 | D106: K | E106: 113202111 | F106: Vytrhání obrub s vybouráním lože, s přemístěním hmot na skládku na vzdálenost do 3 m nebo s naložením na dopravní prostředek z krajníků nebo obrubníků stojatých | G106: m | H106: 18 | J106: =ROUND(I106*H106,2) -> 0 | K106: CS ÚRS 2026 01 | N106: základní | P106: =O106*H106 -> 0 | Q106: 0 | R106: =Q106*H106 -> 0 | S106: 0.205 | T106: =S106*H106 -> 3.69 | AR106: 4 | AT106: K | AU106: 2 | AY106: ROZPOCET | BE106: =IF(N106="základní",J106,0) -> 0 | BF106: =IF(N106="snížená",J106,0) -> 0 | BG106: =IF(N106="zákl. přenesená",J106,0) -> 0 | BH106: =IF(N106="sníž. přenesená",J106,0) -> 0 | BI106: =IF(N106="nulová",J106,0) -> 0 | BJ106: 1 | BK106: =ROUND(I106*H106,2) -> 0 | BL106: 4 | BM106: -478601490
D107: Online PSC | F107: https://podminky.urs.cz/item/CS_URS_2026_01/113202111 | AT107: Online PSC | AU107: 2
D108: VV | F108: "vytrhání stávajících chodníkových obrub v upravovaných plochách" | AT108: VV | AU108: 2 | AV108: 1 | AW108: True | AX108: 0 | AY108: ROZPOCET
D109: VV | F109: 18,00 | H109: 18 | AT109: VV | AU109: 2 | AV109: 2 | AW109: True | AX109: 0 | AY109: ROZPOCET
D110: VV | F110: Součet | H110: 18 | AT110: VV | AU110: 2 | AV110: 4 | AW110: True | AX110: 1 | AY110: ROZPOCET
C111: 4 | D111: K | E111: 122252204 | F111: Odkopávky a prokopávky nezapažené pro silnice a dálnice strojně v hornině třídy těžitelnosti I přes 100 do 500 m3 | G111: m3 | H111: 208.761 | J111: =ROUND(I111*H111,2) -> 0 | K111: CS ÚRS 2026 01 | N111: základní | P111: =O111*H111 -> 0 | Q111: 0 | R111: =Q111*H111 -> 0 | S111: 0 | T111: =S111*H111 -> 0 | AR111: 4 | AT111: K | AU111: 2 | AY111: ROZPOCET | BE111: =IF(N111="základní",J111,0) -> 0 | BF111: =IF(N111="snížená",J111,0) -> 0 | BG111: =IF(N111="zákl. přenesená",J111,0) -> 0 | BH111: =IF(N111="sníž. přenesená",J111,0) -> 0 | BI111: =IF(N111="nulová",J111,0) -> 0 | BJ111: 1 | BK111: =ROUND(I111*H111,2) -> 0 | BL111: 4 | BM111: -1068712792
D112: Online PSC | F112: https://podminky.urs.cz/item/CS_URS_2026_01/122252204 | AT112: Online PSC | AU112: 2
D113: P | F113: Poznámka k položce:_x000D_ Poznámka k položce: odkopávky pro provedení sanace všechny plochy jsou odmřeny z dwg | AT113: P | AU113: 2
D114: VV | F114: "odkopávka pro konstrukci nové komunikace vč. aktivní zóny dle PD" | AT114: VV | AU114: 2 | AV114: 1 | AW114: True | AX114: 0 | AY114: ROZPOCET
D115: VV | F115: "odečteno digitálně, výpočet SW" | AT115: VV | AU115: 2 | AV115: 1 | AW115: True | AX115: 0 | AY115: ROZPOCET
D116: VV | F116: "index rozšíření ploch i=1,05" | AT116: VV | AU116: 2 | AV116: 1 | AW116: True | AX116: 0 | AY116: ROZPOCET
D117: VV | F117: 244,20*1,05*0,43 | H117: 110.256 | AT117: VV | AU117: 2 | AV117: 2 | AW117: True | AX117: 0 | AY117: ROZPOCET
D118: VV | F118: "odpočet ojemu vybouraných původních vrstev" | AT118: VV | AU118: 2 | AV118: 1 | AW118: True | AX118: 0 | AY118: ROZPOCET
D119: VV | F119: "panely" -142,00*0,15 | H119: -21.3 | AT119: VV | AU119: 2 | AV119: 2 | AW119: True | AX119: 0 | AY119: ROZPOCET
D120: VV | F120: "živičná vozovka" -84,00*0,10 | H120: -8.4 | AT120: VV | AU120: 2 | AV120: 2 | AW120: True | AX120: 0 | AY120: ROZPOCET
D121: VV | F121: Mezisoučet | H121: 80.556 | AT121: VV | AU121: 2 | AV121: 3 | AW121: True | AX121: 0 | AY121: ROZPOCET
D122: VV | F122: "aktivní zóna" | AT122: VV | AU122: 2 | AV122: 1 | AW122: True | AX122: 0 | AY122: ROZPOCET
D123: VV | F123: "index rozšíření ploch i=1,05" | AT123: VV | AU123: 2 | AV123: 1 | AW123: True | AX123: 0 | AY123: ROZPOCET
D124: VV | F124: 244,20*1,05*0,50 | H124: 128.205 | AT124: VV | AU124: 2 | AV124: 2 | AW124: True | AX124: 0 | AY124: ROZPOCET
D125: VV | F125: Mezisoučet | H125: 128.205 | AT125: VV | AU125: 2 | AV125: 3 | AW125: True | AX125: 0 | AY125: ROZPOCET
D126: VV | F126: Součet | H126: 208.761 | AT126: VV | AU126: 2 | AV126: 4 | AW126: True | AX126: 1 | AY126: ROZPOCET
C127: 36 | D127: K | E127: 132112132 | F127: Hloubení nezapažených rýh šířky do 800 mm ručně s urovnáním dna do předepsaného profilu a spádu v hornině třídy těžitelnosti I skupiny 1 a 2 nesoudržných | G127: m3 | H127: 5.985 | J127: =ROUND(I127*H127,2) -> 0 | K127: CS ÚRS 2026 01 | N127: základní | P127: =O127*H127 -> 0 | Q127: 0 | R127: =Q127*H127 -> 0 | S127: 0 | T127: =S127*H127 -> 0 | AR127: 4 | AT127: K | AU127: 2 | AY127: ROZPOCET | BE127: =IF(N127="základní",J127,0) -> 0 | BF127: =IF(N127="snížená",J127,0) -> 0 | BG127: =IF(N127="zákl. přenesená",J127,0) -> 0 | BH127: =IF(N127="sníž. přenesená",J127,0) -> 0 | BI127: =IF(N127="nulová",J127,0) -> 0 | BJ127: 1 | BK127: =ROUND(I127*H127,2) -> 0 | BL127: 4 | BM127: 1556353661
D128: Online PSC | F128: https://podminky.urs.cz/item/CS_URS_2026_01/132112132 | AT128: Online PSC | AU128: 2
D129: VV | F129: "prohloubení a úprava rýh pro osazení nových obrub a přídlažeb ze ŽK dle PD" | AT129: VV | AU129: 2 | AV129: 1 | AW129: True | AX129: 0 | AY129: ROZPOCET
D130: VV | F130: "odečteno digitálně z grafické části PD" | AT130: VV | AU130: 2 | AV130: 1 | AW130: True | AX130: 0 | AY130: ROZPOCET
D131: VV | F131: "obruba vč.přídlažby" 0,35*0,15*114,00 | H131: 5.985 | AT131: VV | AU131: 2 | AV131: 2 | AW131: True | AX131: 0 | AY131: ROZPOCET
D132: VV | F132: Součet | H132: 5.985 | AT132: VV | AU132: 2 | AV132: 4 | AW132: True | AX132: 1 | AY132: ROZPOCET
C133: 5 | D133: K | E133: 162751117 | F133: Vodorovné přemístění výkopku nebo sypaniny po suchu na obvyklém dopravním prostředku, bez naložení výkopku, avšak se složením bez rozhrnutí z horniny třídy těžitelnosti I skupiny 1 až 3 na vzdálenost přes 9 000 do 10 000 m | G133: m3 | H133: 203.146 | J133: =ROUND(I133*H133,2) -> 0 | K133: CS ÚRS 2026 01 | N133: základní | P133: =O133*H133 -> 0 | Q133: 0 | R133: =Q133*H133 -> 0 | S133: 0 | T133: =S133*H133 -> 0 | AR133: 4 | AT133: K | AU133: 2 | AY133: ROZPOCET | BE133: =IF(N133="základní",J133,0) -> 0 | BF133: =IF(N133="snížená",J133,0) -> 0 | BG133: =IF(N133="zákl. přenesená",J133,0) -> 0 | BH133: =IF(N133="sníž. přenesená",J133,0) -> 0 | BI133: =IF(N133="nulová",J133,0) -> 0 | BJ133: 1 | BK133: =ROUND(I133*H133,2) -> 0 | BL133: 4 | BM133: -29397680
...

Sheet SO 102 - Odstavné plochy
AT2: {057062ea-d08c-4795-b402-21d4dc78cb19}
AT3: 2
D4: KRYCÍ LIST SOUPISU PRACÍ | M4: v --- níže se nacházejí doplnkové a pomocné údaje k sestavám --- v | AT4: False
D6: Stavba:
E7: ='Rekapitulace stavby'!K6 -> Hanušovice - Holba - rámcový rozpočet úprav oblasti
D8: Objekt:
E9: 100 - Komunikace
D10: Soupis:
E11: SO 102 - Odstavné plochy
D13: KSO: | I13: CC-CZ:
D14: Místo: | F14: k.ú. Hanušovice | I14: Datum: | J14: ='Rekapitulace stavby'!AN8 -> 4. 8. 2026
D16: Zadavatel: | I16: IČ: | J16: 00302546
E17: Město Hanušovice | I17: DIČ: | J17: CZ00302546
D19: Účastník: | I19: IČ: | J19: ='Rekapitulace stavby'!AN13 -> Vyplň údaj
E20: ='Rekapitulace stavby'!E14 -> Vyplň údaj | I20: DIČ: | J20: ='Rekapitulace stavby'!AN14 -> Vyplň údaj
D22: Projektant: | I22: IČ: | J22: 27821251
E23: Cekr CZ s.r.o. | I23: DIČ: | J23: CZ27821251
D25: Zpracovatel: | I25: IČ:
E26: Jan Zamykal, CS ÚRS 2026/I | I26: DIČ:
D28: Poznámka:
D32: Cena bez DPH | J32: =ROUND(J91, 2) -> 0
F34: Základ daně | I34: Sazba daně | J34: Výše daně
D35: DPH | E35: základní | F35: =ROUND((SUM(BE91:BE271)), 2) -> 0 | I35: 0.21 | J35: =ROUND(((SUM(BE91:BE271))*I35), 2) -> 0
E36: snížená | F36: =ROUND((SUM(BF91:BF271)), 2) -> 0 | I36: 0.12 | J36: =ROUND(((SUM(BF91:BF271))*I36), 2) -> 0
E37: zákl. přenesená | F37: =ROUND((SUM(BG91:BG271)), 2) -> 0 | I37: 0.21 | J37: =0 -> 0
E38: sníž. přenesená | F38: =ROUND((SUM(BH91:BH271)), 2) -> 0 | I38: 0.12 | J38: =0 -> 0
E39: nulová | F39: =ROUND((SUM(BI91:BI271)), 2) -> 0 | I39: 0 | J39: =0 -> 0
D41: Cena s DPH | G41: v | H41: CZK | J41: =SUM(J32:J39) -> 0
C47: REKAPITULACE ČLENĚNÍ SOUPISU PRACÍ
C49: Stavba:
E50: =E7 -> Hanušovice - Holba - rámcový rozpočet úprav oblasti
C51: Objekt:
E52: 100 - Komunikace
C53: Soupis:
E54: =E11 -> SO 102 - Odstavné plochy
C56: Místo: | F56: =F14 -> k.ú. Hanušovice | I56: Datum: | J56: =IF(J14="","",J14) -> 4. 8. 2026
C58: Zadavatel: | F58: =E17 -> Město Hanušovice | I58: Projektant: | J58: =E23 -> Cekr CZ s.r.o.
C59: Účastník: | F59: =IF(E20="","",E20) -> Vyplň údaj | I59: Zpracovatel: | J59: =E26 -> Jan Zamykal, CS ÚRS 2026/I
C61: Kód dílu - Popis | J61: Cena celkem [CZK]
C63: Náklady stavby celkem | J63: =J91 -> 0 | AU63: -1
D64: HSV - Práce a dodávky HSV | J64: =J92 -> 0
D65: 1 - Zemní práce | J65: =J93 -> 0
D66: 5 - Komunikace pozemní | J66: =J161 -> 0
D67: 9 - Ostatní konstrukce a práce, bourání | J67: =J209 -> 0
D68: 911 - Dopravní značení trvalé | J68: =J242 -> 0
D69: 998 - Přesun hmot | J69: =J269 -> 0
C76: SOUPIS PRACÍ
C78: Stavba:
E79: =E7 -> Hanušovice - Holba - rámcový rozpočet úprav oblasti
C80: Objekt:
E81: 100 - Komunikace
C82: Soupis:
E83: =E11 -> SO 102 - Odstavné plochy
C85: Místo: | F85: =F14 -> k.ú. Hanušovice | I85: Datum: | J85: =IF(J14="","",J14) -> 4. 8. 2026
C87: Zadavatel: | F87: =E17 -> Město Hanušovice | I87: Projektant: | J87: =E23 -> Cekr CZ s.r.o.
C88: Účastník: | F88: =IF(E20="","",E20) -> Vyplň údaj | I88: Zpracovatel: | J88: =E26 -> Jan Zamykal, CS ÚRS 2026/I
C90: PČ | D90: Typ | E90: Kód | F90: Popis | G90: MJ | H90: Množství | I90: J.cena [CZK] | J90: Cena celkem [CZK] | K90: Cenová soustava | N90: DPH | O90: J. Nh [h] | P90: Nh celkem [h] | Q90: J. hmotnost [t] | R90: Hmotnost celkem [t] | S90: J. suť [t] | T90: Suť Celkem [t]
C91: Náklady soupisu celkem | J91: =BK91 -> 0 | P91: =P92 -> 0 | R91: =R92 -> 1767.2127 | T91: =T92 -> 0 | AT91: D | AU91: -1 | BK91: =BK92 -> 0
D92: D | E92: HSV | F92: Práce a dodávky HSV | J92: =BK92 -> 0 | P92: =P93+P161+P209+P242+P269 -> 0 | R92: =R93+R161+R209+R242+R269 -> 1767.2127 | T92: =T93+T161+T209+T242+T269 -> 0 | AR92: 1 | AT92: D | AU92: 0 | AY92: ROZPOCET | BK92: =BK93+BK161+BK209+BK242+BK269 -> 0
D93: D | E93: 1 | F93: Zemní práce | J93: =BK93 -> 0 | P93: =SUM(P94:P160) -> 0 | R93: =SUM(R94:R160) -> 587.666 | T93: =SUM(T94:T160) -> 0 | AR93: 1 | AT93: D | AU93: 1 | AY93: ROZPOCET | BK93: =SUM(BK94:BK160) -> 0
C94: 1 | D94: K | E94: 122252205 | F94: Odkopávky a prokopávky nezapažené pro silnice a dálnice strojně v hornině třídy těžitelnosti I přes 500 do 1 000 m3 | G94: m3 | H94: 834.75 | J94: =ROUND(I94*H94,2) -> 0 | K94: CS ÚRS 2026 01 | N94: základní | P94: =O94*H94 -> 0 | Q94: 0 | R94: =Q94*H94 -> 0 | S94: 0 | T94: =S94*H94 -> 0 | AR94: 4 | AT94: K | AU94: 2 | AY94: ROZPOCET | BE94: =IF(N94="základní",J94,0) -> 0 | BF94: =IF(N94="snížená",J94,0) -> 0 | BG94: =IF(N94="zákl. přenesená",J94,0) -> 0 | BH94: =IF(N94="sníž. přenesená",J94,0) -> 0 | BI94: =IF(N94="nulová",J94,0) -> 0 | BJ94: 1 | BK94: =ROUND(I94*H94,2) -> 0 | BL94: 4 | BM94: -638196352
D95: Online PSC | F95: https://podminky.urs.cz/item/CS_URS_2026_01/122252205 | AT95: Online PSC | AU95: 2
D96: P | F96: Poznámka k položce:_x000D_ Poznámka k položce: odkopávky pro provedení sanace všechny plochy jsou odmřeny z dwg | AT96: P | AU96: 2
D97: VV | F97: "odkopávka pro konstrukci nových odstavných ploch vč. aktivní zóny dle PD" | AT97: VV | AU97: 2 | AV97: 1 | AW97: True | AX97: 0 | AY97: ROZPOCET
D98: VV | F98: "odečteno digitálně, výpočet SW" | AT98: VV | AU98: 2 | AV98: 1 | AW98: True | AX98: 0 | AY98: ROZPOCET
D99: VV | F99: "konstrukce odstavných ploch" | AT99: VV | AU99: 2 | AV99: 1 | AW99: True | AX99: 0 | AY99: ROZPOCET
D100: VV | F100: "index rozšíření ploch i=1,05" | AT100: VV | AU100: 2 | AV100: 1 | AW100: True | AX100: 0 | AY100: ROZPOCET
D101: VV | F101: "odstavné plochy před čp. 490 - 493" | AT101: VV | AU101: 2 | AV101: 1 | AW101: True | AX101: 0 | AY101: ROZPOCET
D102: VV | F102: 128,50*1,05*0,45 | H102: 60.716 | AT102: VV | AU102: 2 | AV102: 2 | AW102: True | AX102: 0 | AY102: ROZPOCET
D103: VV | F103: "odstavné plochy ve vnitrobloku - protější strana MK" | AT103: VV | AU103: 2 | AV103: 1 | AW103: True | AX103: 0 | AY103: ROZPOCET
D104: VV | F104: 334,00*1,05*0,45 | H104: 157.815 | AT104: VV | AU104: 2 | AV104: 2 | AW104: True | AX104: 0 | AY104: ROZPOCET
D105: VV | F105: "odstavné plochy op 20 + za Hruškou" | AT105: VV | AU105: 2 | AV105: 1 | AW105: True | AX105: 0 | AY105: ROZPOCET
D106: VV | F106: (150,70+56,30)*1,05*0,45 | H106: 97.808 | AT106: VV | AU106: 2 | AV106: 2 | AW106: True | AX106: 0 | AY106: ROZPOCET
D107: VV | F107: "odstavná plocha u čp.494 - op 19" | AT107: VV | AU107: 2 | AV107: 1 | AW107: True | AX107: 0 | AY107: ROZPOCET
D108: VV | F108: 390,50*1,05*0,45 | H108: 184.511 | AT108: VV | AU108: 2 | AV108: 2 | AW108: True | AX108: 0 | AY108: ROZPOCET
D109: VV | F109: Mezisoučet | H109: 500.85 | AT109: VV | AU109: 2 | AV109: 3 | AW109: True | AX109: 0 | AY109: ROZPOCET
D110: VV | F110: "aktivní zóna" | AT110: VV | AU110: 2 | AV110: 1 | AW110: True | AX110: 0 | AY110: ROZPOCET
D111: VV | F111: "index rozšíření ploch i=1,05" | AT111: VV | AU111: 2 | AV111: 1 | AW111: True | AX111: 0 | AY111: ROZPOCET
D112: VV | F112: (128,50+334,00+150,70+56,30+390,50)*1,05*0,30 | H112: 333.9 | AT112: VV | AU112: 2 | AV112: 2 | AW112: True | AX112: 0 | AY112: ROZPOCET
D113: VV | F113: Mezisoučet | H113: 333.9 | AT113: VV | AU113: 2 | AV113: 3 | AW113: True | AX113: 0 | AY113: ROZPOCET
D114: VV | F114: Součet | H114: 834.75 | AT114: VV | AU114: 2 | AV114: 4 | AW114: True | AX114: 1 | AY114: ROZPOCET
C115: 2 | D115: K | E115: 162751117 | F115: Vodorovné přemístění výkopku nebo sypaniny po suchu na obvyklém dopravním prostředku, bez naložení výkopku, avšak se složením bez rozhrnutí z horniny třídy těžitelnosti I skupiny 1 až 3 na vzdálenost přes 9 000 do 10 000 m | G115: m3 | H115: 834.75 | J115: =ROUND(I115*H115,2) -> 0 | K115: CS ÚRS 2026 01 | N115: základní | P115: =O115*H115 -> 0 | Q115: 0 | R115: =Q115*H115 -> 0 | S115: 0 | T115: =S115*H115 -> 0 | AR115: 4 | AT115: K | AU115: 2 | AY115: ROZPOCET | BE115: =IF(N115="základní",J115,0) -> 0 | BF115: =IF(N115="snížená",J115,0) -> 0 | BG115: =IF(N115="zákl. přenesená",J115,0) -> 0 | BH115: =IF(N115="sníž. přenesená",J115,0) -> 0 | BI115: =IF(N115="nulová",J115,0) -> 0 | BJ115: 1 | BK115: =ROUND(I115*H115,2) -> 0 | BL115: 4 | BM115: -1666774029
D116: Online PSC | F116: https://podminky.urs.cz/item/CS_URS_2026_01/162751117 | AT116: Online PSC | AU116: 2
D117: VV | F117: "přemístění výkopku na řízenou skládku - předpoklad do 17 km (RECOVERA Rapotín)" | AT117: VV | AU117: 2 | AV117: 1 | AW117: True | AX117: 0 | AY117: ROZPOCET
D118: VV | F118: "odkopávky" 500,85+333,90 | H118: 834.75 | AT118: VV | AU118: 2 | AV118: 2 | AW118: True | AX118: 0 | AY118: ROZPOCET
D119: VV | F119: Součet | H119: 834.75 | AT119: VV | AU119: 2 | AV119: 4 | AW119: True | AX119: 1 | AY119: ROZPOCET
C120: 3 | D120: K | E120: 162751119 | F120: Vodorovné přemístění výkopku nebo sypaniny po suchu na obvyklém dopravním prostředku, bez naložení výkopku, avšak se složením bez rozhrnutí z horniny třídy těžitelnosti I skupiny 1 až 3 na vzdálenost Příplatek k ceně za každých dalších i započatých 1 000 m | G120: m3 | H120: 5843.25 | J120: =ROUND(I120*H120,2) -> 0 | K120: CS ÚRS 2026 01 | N120: základní | P120: =O120*H120 -> 0 | Q120: 0 | R120: =Q120*H120 -> 0 | S120: 0 | T120: =S120*H120 -> 0 | AR120: 4 | AT120: K | AU120: 2 | AY120: ROZPOCET | BE120: =IF(N120="základní",J120,0) -> 0 | BF120: =IF(N120="snížená",J120,0) -> 0 | BG120: =IF(N120="zákl. přenesená",J120,0) -> 0 | BH120: =IF(N120="sníž. přenesená",J120,0) -> 0 | BI120: =IF(N120="nulová",J120,0) -> 0 | BJ120: 1 | BK120: =ROUND(I120*H120,2) -> 0 | BL120: 4 | BM120: 2009080362
D121: Online PSC | F121: https://podminky.urs.cz/item/CS_URS_2026_01/162751119 | AT121: Online PSC | AU121: 2
D122: VV | F122: "přemístění výkopku na řízenou skládku - předpoklad do 17 km (RECOVERA Rapotín)" | AT122: VV | AU122: 2 | AV122: 1 | AW122: True | AX122: 0 | AY122: ROZPOCET
D123: VV | F123: "odkopávky" (500,85+333,90)*7 | H123: 5843.25 | AT123: VV | AU123: 2 | AV123: 2 | AW123: True | AX123: 0 | AY123: ROZPOCET
D124: VV | F124: Součet | H124: 5843.25 | AT124: VV | AU124: 2 | AV124: 4 | AW124: True | AX124: 1 | AY124: ROZPOCET
C125: 4 | D125: K | E125: 171152111 | F125: Uložení sypaniny do zhutněných násypů pro silnice, dálnice a letiště s rozprostřením sypaniny ve vrstvách, s hrubým urovnáním a uzavřením povrchu násypu z hornin nesoudržných sypkých v aktivní zóně | G125: m3 | H125: 333.901 | J125: =ROUND(I125*H125,2) -> 0 | K125: CS ÚRS 2026 01 | N125: základní | P125: =O125*H125 -> 0 | Q125: 0 | R125: =Q125*H125 -> 0 | S125: 0 | T125: =S125*H125 -> 0 | AR125: 4 | AT125: K | AU125: 2 | AY125: ROZPOCET | BE125: =IF(N125="základní",J125,0) -> 0 | BF125: =IF(N125="snížená",J125,0) -> 0 | BG125: =IF(N125="zákl. přenesená",J125,0) -> 0 | BH125: =IF(N125="sníž. přenesená",J125,0) -> 0 | BI125: =IF(N125="nulová",J125,0) -> 0 | BJ125: 1 | BK125: =ROUND(I125*H125,2) -> 0 | BL125: 4 | BM125: -1255651114
D126: Online PSC | F126: https://podminky.urs.cz/item/CS_URS_2026_01/171152111 | AT126: Online PSC | AU126: 2
D127: VV | F127: "vytvoření aktivní zóny nových odstavných ploch dle PD v tl. 30 cm" | AT127: VV | AU127: 2 | AV127: 1 | AW127: True | AX127: 0 | AY127: ROZPOCET
D128: VV | F128: "odečteno digitálně, výpočet SW" | AT128: VV | AU128: 2 | AV128: 1 | AW128: True | AX128: 0 | AY128: ROZPOCET
D129: VV | F129: "index rozšíření ploch i=1,05" | AT129: VV | AU129: 2 | AV129: 1 | AW129: True | AX129: 0 | AY129: ROZPOCET
D130: VV | F130: "odstavné plochy před čp. 490 - 493" | AT130: VV | AU130: 2 | AV130: 1 | AW130: True | AX130: 0 | AY130: ROZPOCET
D131: VV | F131: 128,50*1,05*0,30 | H131: 40.478 | AT131: VV | AU131: 2 | AV131: 2 | AW131: True | AX131: 0 | AY131: ROZPOCET
D132: VV | F132: "odstavné plochy ve vnitrobloku - protější strana MK" | AT132: VV | AU132: 2 | AV132: 1 | AW132: True | AX132: 0 | AY132: ROZPOCET
D133: VV | F133: 334,00*1,05*0,30 | H133: 105.21 | AT133: VV | AU133: 2 | AV133: 2 | AW133: True | AX133: 0 | AY133: ROZPOCET
...

Sheet SO 103 - Sjezdy
AT2: {09b2e1a6-e385-4243-b0bf-0f21c1c6b263}
AT3: 2
D4: KRYCÍ LIST SOUPISU PRACÍ | M4: v --- níže se nacházejí doplnkové a pomocné údaje k sestavám --- v | AT4: False
D6: Stavba:
E7: ='Rekapitulace stavby'!K6 -> Hanušovice - Holba - rámcový rozpočet úprav oblasti
D8: Objekt:
E9: 100 - Komunikace
D10: Soupis:
E11: SO 103 - Sjezdy
D13: KSO: | I13: CC-CZ:
D14: Místo: | F14: k.ú. Hanušovice | I14: Datum: | J14: ='Rekapitulace stavby'!AN8 -> 4. 8. 2026
D16: Zadavatel: | I16: IČ: | J16: 00302546
E17: Město Hanušovice | I17: DIČ: | J17: CZ00302546
D19: Účastník: | I19: IČ: | J19: ='Rekapitulace stavby'!AN13 -> Vyplň údaj
E20: ='Rekapitulace stavby'!E14 -> Vyplň údaj | I20: DIČ: | J20: ='Rekapitulace stavby'!AN14 -> Vyplň údaj
D22: Projektant: | I22: IČ: | J22: 27821251
E23: Cekr CZ s.r.o. | I23: DIČ: | J23: CZ27821251
D25: Zpracovatel: | I25: IČ:
E26: Jan Zamykal, CS ÚRS 2026/I | I26: DIČ:
D28: Poznámka:
D32: Cena bez DPH | J32: =ROUND(J90, 2) -> 0
F34: Základ daně | I34: Sazba daně | J34: Výše daně
D35: DPH | E35: základní | F35: =ROUND((SUM(BE90:BE255)), 2) -> 0 | I35: 0.21 | J35: =ROUND(((SUM(BE90:BE255))*I35), 2) -> 0
E36: snížená | F36: =ROUND((SUM(BF90:BF255)), 2) -> 0 | I36: 0.12 | J36: =ROUND(((SUM(BF90:BF255))*I36), 2) -> 0
E37: zákl. přenesená | F37: =ROUND((SUM(BG90:BG255)), 2) -> 0 | I37: 0.21 | J37: =0 -> 0
E38: sníž. přenesená | F38: =ROUND((SUM(BH90:BH255)), 2) -> 0 | I38: 0.12 | J38: =0 -> 0
E39: nulová | F39: =ROUND((SUM(BI90:BI255)), 2) -> 0 | I39: 0 | J39: =0 -> 0
D41: Cena s DPH | G41: v | H41: CZK | J41: =SUM(J32:J39) -> 0
C47: REKAPITULACE ČLENĚNÍ SOUPISU PRACÍ
C49: Stavba:
E50: =E7 -> Hanušovice - Holba - rámcový rozpočet úprav oblasti
C51: Objekt:
E52: 100 - Komunikace
C53: Soupis:
E54: =E11 -> SO 103 - Sjezdy
C56: Místo: | F56: =F14 -> k.ú. Hanušovice | I56: Datum: | J56: =IF(J14="","",J14) -> 4. 8. 2026
C58: Zadavatel: | F58: =E17 -> Město Hanušovice | I58: Projektant: | J58: =E23 -> Cekr CZ s.r.o.
C59: Účastník: | F59: =IF(E20="","",E20) -> Vyplň údaj | I59: Zpracovatel: | J59: =E26 -> Jan Zamykal, CS ÚRS 2026/I
C61: Kód dílu - Popis | J61: Cena celkem [CZK]
C63: Náklady stavby celkem | J63: =J90 -> 0 | AU63: -1
D64: HSV - Práce a dodávky HSV | J64: =J91 -> 0
D65: 1 - Zemní práce | J65: =J92 -> 0
D66: 5 - Komunikace pozemní | J66: =J153 -> 0
D67: 9 - Ostatní konstrukce a práce, bourání | J67: =J206 -> 0
D68: 998 - Přesun hmot | J68: =J253 -> 0
C75: SOUPIS PRACÍ
C77: Stavba:
E78: =E7 -> Hanušovice - Holba - rámcový rozpočet úprav oblasti
C79: Objekt:
E80: 100 - Komunikace
C81: Soupis:
E82: =E11 -> SO 103 - Sjezdy
C84: Místo: | F84: =F14 -> k.ú. Hanušovice | I84: Datum: | J84: =IF(J14="","",J14) -> 4. 8. 2026
C86: Zadavatel: | F86: =E17 -> Město Hanušovice | I86: Projektant: | J86: =E23 -> Cekr CZ s.r.o.
C87: Účastník: | F87: =IF(E20="","",E20) -> Vyplň údaj | I87: Zpracovatel: | J87: =E26 -> Jan Zamykal, CS ÚRS 2026/I
C89: PČ | D89: Typ | E89: Kód | F89: Popis | G89: MJ | H89: Množství | I89: J.cena [CZK] | J89: Cena celkem [CZK] | K89: Cenová soustava | N89: DPH | O89: J. Nh [h] | P89: Nh celkem [h] | Q89: J. hmotnost [t] | R89: Hmotnost celkem [t] | S89: J. suť [t] | T89: Suť Celkem [t]
C90: Náklady soupisu celkem | J90: =BK90 -> 0 | P90: =P91 -> 0 | R90: =R91 -> 127.95553 | T90: =T91 -> 0 | AT90: D | AU90: -1 | BK90: =BK91 -> 0
D91: D | E91: HSV | F91: Práce a dodávky HSV | J91: =BK91 -> 0 | P91: =P92+P153+P206+P253 -> 0 | R91: =R92+R153+R206+R253 -> 127.95553 | T91: =T92+T153+T206+T253 -> 0 | AR91: 1 | AT91: D | AU91: 0 | AY91: ROZPOCET | BK91: =BK92+BK153+BK206+BK253 -> 0
D92: D | E92: 1 | F92: Zemní práce | J92: =BK92 -> 0 | P92: =SUM(P93:P152) -> 0 | R92: =SUM(R93:R152) -> 40.806 | T92: =SUM(T93:T152) -> 0 | AR92: 1 | AT92: D | AU92: 1 | AY92: ROZPOCET | BK92: =SUM(BK93:BK152) -> 0
C93: 1 | D93: K | E93: 122252203 | F93: Odkopávky a prokopávky nezapažené pro silnice a dálnice strojně v hornině třídy těžitelnosti I do 100 m3 | G93: m3 | H93: 51.006 | J93: =ROUND(I93*H93,2) -> 0 | K93: CS ÚRS 2026 01 | N93: základní | P93: =O93*H93 -> 0 | Q93: 0 | R93: =Q93*H93 -> 0 | S93: 0 | T93: =S93*H93 -> 0 | AR93: 4 | AT93: K | AU93: 2 | AY93: ROZPOCET | BE93: =IF(N93="základní",J93,0) -> 0 | BF93: =IF(N93="snížená",J93,0) -> 0 | BG93: =IF(N93="zákl. přenesená",J93,0) -> 0 | BH93: =IF(N93="sníž. přenesená",J93,0) -> 0 | BI93: =IF(N93="nulová",J93,0) -> 0 | BJ93: 1 | BK93: =ROUND(I93*H93,2) -> 0 | BL93: 4 | BM93: 2125167281
D94: Online PSC | F94: https://podminky.urs.cz/item/CS_URS_2026_01/122252203 | AT94: Online PSC | AU94: 2
D95: P | F95: Poznámka k položce:_x000D_ Poznámka k položce: odkopávky pro provedení sanace všechny plochy jsou odmřeny z dwg | AT95: P | AU95: 2
D96: VV | F96: "odkopávka pro konstrukci nových odstavných ploch vč. aktivní zóny dle PD" | AT96: VV | AU96: 2 | AV96: 1 | AW96: True | AX96: 0 | AY96: ROZPOCET
D97: VV | F97: "odečteno digitálně, výpočet SW" | AT97: VV | AU97: 2 | AV97: 1 | AW97: True | AX97: 0 | AY97: ROZPOCET
D98: VV | F98: "konstrukce odstavných ploch" | AT98: VV | AU98: 2 | AV98: 1 | AW98: True | AX98: 0 | AY98: ROZPOCET
D99: VV | F99: "index rozšíření ploch i=1,05" | AT99: VV | AU99: 2 | AV99: 1 | AW99: True | AX99: 0 | AY99: ROZPOCET
D100: VV | F100: "sjezd přes chodník 49d vedle čp. 490" | AT100: VV | AU100: 2 | AV100: 1 | AW100: True | AX100: 0 | AY100: ROZPOCET
D101: VV | F101: (8,50+1,90+4,10)*1,05*0,36 | H101: 5.481 | AT101: VV | AU101: 2 | AV101: 2 | AW101: True | AX101: 0 | AY101: ROZPOCET
D102: VV | F102: "sjezd k trafostanici mezi čp. 491 a 492" | AT102: VV | AU102: 2 | AV102: 1 | AW102: True | AX102: 0 | AY102: ROZPOCET
D103: VV | F103: (53,40+3,60+2,10)*1,05*0,36 | H103: 22.34 | AT103: VV | AU103: 2 | AV103: 2 | AW103: True | AX103: 0 | AY103: ROZPOCET
D104: VV | F104: Mezisoučet | H104: 27.821 | AT104: VV | AU104: 2 | AV104: 3 | AW104: True | AX104: 0 | AY104: ROZPOCET
D105: VV | F105: "aktivní zóna" | AT105: VV | AU105: 2 | AV105: 1 | AW105: True | AX105: 0 | AY105: ROZPOCET
D106: VV | F106: "index rozšíření ploch i=1,05" | AT106: VV | AU106: 2 | AV106: 1 | AW106: True | AX106: 0 | AY106: ROZPOCET
D107: VV | F107: "sjezd přes chodník 49d vedle čp. 490" | AT107: VV | AU107: 2 | AV107: 1 | AW107: True | AX107: 0 | AY107: ROZPOCET
D108: VV | F108: (8,50+1,90+4,10)*1,05*0,30 | H108: 4.568 | AT108: VV | AU108: 2 | AV108: 2 | AW108: True | AX108: 0 | AY108: ROZPOCET
D109: VV | F109: "sjezd k trafostanici mezi čp. 491 a 492" | AT109: VV | AU109: 2 | AV109: 1 | AW109: True | AX109: 0 | AY109: ROZPOCET
D110: VV | F110: (53,40+3,60+2,10)*1,05*0,30 | H110: 18.617 | AT110: VV | AU110: 2 | AV110: 2 | AW110: True | AX110: 0 | AY110: ROZPOCET
D111: VV | F111: Mezisoučet | H111: 23.185 | AT111: VV | AU111: 2 | AV111: 3 | AW111: True | AX111: 0 | AY111: ROZPOCET
D112: VV | F112: Součet | H112: 51.006 | AT112: VV | AU112: 2 | AV112: 4 | AW112: True | AX112: 1 | AY112: ROZPOCET
C113: 2 | D113: K | E113: 162751117 | F113: Vodorovné přemístění výkopku nebo sypaniny po suchu na obvyklém dopravním prostředku, bez naložení výkopku, avšak se složením bez rozhrnutí z horniny třídy těžitelnosti I skupiny 1 až 3 na vzdálenost přes 9 000 do 10 000 m | G113: m3 | H113: 51.006 | J113: =ROUND(I113*H113,2) -> 0 | K113: CS ÚRS 2026 01 | N113: základní | P113: =O113*H113 -> 0 | Q113: 0 | R113: =Q113*H113 -> 0 | S113: 0 | T113: =S113*H113 -> 0 | AR113: 4 | AT113: K | AU113: 2 | AY113: ROZPOCET | BE113: =IF(N113="základní",J113,0) -> 0 | BF113: =IF(N113="snížená",J113,0) -> 0 | BG113: =IF(N113="zákl. přenesená",J113,0) -> 0 | BH113: =IF(N113="sníž. přenesená",J113,0) -> 0 | BI113: =IF(N113="nulová",J113,0) -> 0 | BJ113: 1 | BK113: =ROUND(I113*H113,2) -> 0 | BL113: 4 | BM113: 1471236505
D114: Online PSC | F114: https://podminky.urs.cz/item/CS_URS_2026_01/162751117 | AT114: Online PSC | AU114: 2
D115: VV | F115: "přemístění výkopku na řízenou skládku - předpoklad do 17 km (RECOVERA Rapotín)" | AT115: VV | AU115: 2 | AV115: 1 | AW115: True | AX115: 0 | AY115: ROZPOCET
D116: VV | F116: "odkopávky" 27,821+23,185 | H116: 51.006 | AT116: VV | AU116: 2 | AV116: 2 | AW116: True | AX116: 0 | AY116: ROZPOCET
D117: VV | F117: Součet | H117: 51.006 | AT117: VV | AU117: 2 | AV117: 4 | AW117: True | AX117: 1 | AY117: ROZPOCET
C118: 3 | D118: K | E118: 162751119 | F118: Vodorovné přemístění výkopku nebo sypaniny po suchu na obvyklém dopravním prostředku, bez naložení výkopku, avšak se složením bez rozhrnutí z horniny třídy těžitelnosti I skupiny 1 až 3 na vzdálenost Příplatek k ceně za každých dalších i započatých 1 000 m | G118: m3 | H118: 357.042 | J118: =ROUND(I118*H118,2) -> 0 | K118: CS ÚRS 2026 01 | N118: základní | P118: =O118*H118 -> 0 | Q118: 0 | R118: =Q118*H118 -> 0 | S118: 0 | T118: =S118*H118 -> 0 | AR118: 4 | AT118: K | AU118: 2 | AY118: ROZPOCET | BE118: =IF(N118="základní",J118,0) -> 0 | BF118: =IF(N118="snížená",J118,0) -> 0 | BG118: =IF(N118="zákl. přenesená",J118,0) -> 0 | BH118: =IF(N118="sníž. přenesená",J118,0) -> 0 | BI118: =IF(N118="nulová",J118,0) -> 0 | BJ118: 1 | BK118: =ROUND(I118*H118,2) -> 0 | BL118: 4 | BM118: -96698915
D119: Online PSC | F119: https://podminky.urs.cz/item/CS_URS_2026_01/162751119 | AT119: Online PSC | AU119: 2
D120: VV | F120: "přemístění výkopku na řízenou skládku - předpoklad do 17 km (RECOVERA Rapotín)" | AT120: VV | AU120: 2 | AV120: 1 | AW120: True | AX120: 0 | AY120: ROZPOCET
D121: VV | F121: "odkopávky" (27,821+23,185)*7 | H121: 357.042 | AT121: VV | AU121: 2 | AV121: 2 | AW121: True | AX121: 0 | AY121: ROZPOCET
D122: VV | F122: Součet | H122: 357.042 | AT122: VV | AU122: 2 | AV122: 4 | AW122: True | AX122: 1 | AY122: ROZPOCET
C123: 4 | D123: K | E123: 171152111 | F123: Uložení sypaniny do zhutněných násypů pro silnice, dálnice a letiště s rozprostřením sypaniny ve vrstvách, s hrubým urovnáním a uzavřením povrchu násypu z hornin nesoudržných sypkých v aktivní zóně | G123: m3 | H123: 23.185 | J123: =ROUND(I123*H123,2) -> 0 | K123: CS ÚRS 2026 01 | N123: základní | P123: =O123*H123 -> 0 | Q123: 0 | R123: =Q123*H123 -> 0 | S123: 0 | T123: =S123*H123 -> 0 | AR123: 4 | AT123: K | AU123: 2 | AY123: ROZPOCET | BE123: =IF(N123="základní",J123,0) -> 0 | BF123: =IF(N123="snížená",J123,0) -> 0 | BG123: =IF(N123="zákl. přenesená",J123,0) -> 0 | BH123: =IF(N123="sníž. přenesená",J123,0) -> 0 | BI123: =IF(N123="nulová",J123,0) -> 0 | BJ123: 1 | BK123: =ROUND(I123*H123,2) -> 0 | BL123: 4 | BM123: 417533152
D124: Online PSC | F124: https://podminky.urs.cz/item/CS_URS_2026_01/171152111 | AT124: Online PSC | AU124: 2
D125: VV | F125: "vytvoření aktivní zóny nových sjezdů pro techniku dle PD v tl. 30 cm" | AT125: VV | AU125: 2 | AV125: 1 | AW125: True | AX125: 0 | AY125: ROZPOCET
D126: VV | F126: "odečteno digitálně, výpočet SW" | AT126: VV | AU126: 2 | AV126: 1 | AW126: True | AX126: 0 | AY126: ROZPOCET
D127: VV | F127: "index rozšíření ploch i=1,05" | AT127: VV | AU127: 2 | AV127: 1 | AW127: True | AX127: 0 | AY127: ROZPOCET
D128: VV | F128: "sjezd přes chodník 49d vedle čp. 490" | AT128: VV | AU128: 2 | AV128: 1 | AW128: True | AX128: 0 | AY128: ROZPOCET
D129: VV | F129: (8,50+1,90+4,10)*1,05*0,30 | H129: 4.568 | AT129: VV | AU129: 2 | AV129: 2 | AW129: True | AX129: 0 | AY129: ROZPOCET
D130: VV | F130: "sjezd k trafostanici mezi čp. 491 a 492" | AT130: VV | AU130: 2 | AV130: 1 | AW130: True | AX130: 0 | AY130: ROZPOCET
D131: VV | F131: (53,40+3,60+2,10)*1,05*0,30 | H131: 18.617 | AT131: VV | AU131: 2 | AV131: 2 | AW131: True | AX131: 0 | AY131: ROZPOCET
D132: VV | F132: "!!!nutnost realizace musí být předem odsouhlasena projektantem (AD)!!!" | AT132: VV | AU132: 2 | AV132: 1 | AW132: True | AX132: 0 | AY132: ROZPOCET
D133: VV | F133: Součet | H133: 23.185 | AT133: VV | AU133: 2 | AV133: 4 | AW133: True | AX133: 1 | AY133: ROZPOCET
...

Sheet SO 110 - Komunikace pro p...
AT2: {138b5d37-ad09-4932-9e1d-49db7ee5c1d1}
AT3: 2
D4: KRYCÍ LIST SOUPISU PRACÍ | M4: v --- níže se nacházejí doplnkové a pomocné údaje k sestavám --- v | AT4: False
D6: Stavba:
E7: ='Rekapitulace stavby'!K6 -> Hanušovice - Holba - rámcový rozpočet úprav oblasti
D8: Objekt:
E9: 100 - Komunikace
D10: Soupis:
E11: SO 110 - Komunikace pro pěší - chodníky 15d, 48d a 49d
D13: KSO: | I13: CC-CZ:
D14: Místo: | F14: k.ú. Hanušovice | I14: Datum: | J14: ='Rekapitulace stavby'!AN8 -> 4. 8. 2026
D16: Zadavatel: | I16: IČ: | J16: 00302546
E17: Město Hanušovice | I17: DIČ: | J17: CZ00302546
D19: Účastník: | I19: IČ: | J19: ='Rekapitulace stavby'!AN13 -> Vyplň údaj
E20: ='Rekapitulace stavby'!E14 -> Vyplň údaj | I20: DIČ: | J20: ='Rekapitulace stavby'!AN14 -> Vyplň údaj
D22: Projektant: | I22: IČ: | J22: 27821251
E23: Cekr CZ s.r.o. | I23: DIČ: | J23: CZ27821251
D25: Zpracovatel: | I25: IČ:
E26: Jan Zamykal, CS ÚRS 2026/I | I26: DIČ:
D28: Poznámka:
D32: Cena bez DPH | J32: =ROUND(J91, 2) -> 0
F34: Základ daně | I34: Sazba daně | J34: Výše daně
D35: DPH | E35: základní | F35: =ROUND((SUM(BE91:BE327)), 2) -> 0 | I35: 0.21 | J35: =ROUND(((SUM(BE91:BE327))*I35), 2) -> 0
E36: snížená | F36: =ROUND((SUM(BF91:BF327)), 2) -> 0 | I36: 0.12 | J36: =ROUND(((SUM(BF91:BF327))*I36), 2) -> 0
E37: zákl. přenesená | F37: =ROUND((SUM(BG91:BG327)), 2) -> 0 | I37: 0.21 | J37: =0 -> 0
E38: sníž. přenesená | F38: =ROUND((SUM(BH91:BH327)), 2) -> 0 | I38: 0.12 | J38: =0 -> 0
E39: nulová | F39: =ROUND((SUM(BI91:BI327)), 2) -> 0 | I39: 0 | J39: =0 -> 0
D41: Cena s DPH | G41: v | H41: CZK | J41: =SUM(J32:J39) -> 0
C47: REKAPITULACE ČLENĚNÍ SOUPISU PRACÍ
C49: Stavba:
E50: =E7 -> Hanušovice - Holba - rámcový rozpočet úprav oblasti
C51: Objekt:
E52: 100 - Komunikace
C53: Soupis:
E54: =E11 -> SO 110 - Komunikace pro pěší - chodníky 15d, 48d a 49d
C56: Místo: | F56: =F14 -> k.ú. Hanušovice | I56: Datum: | J56: =IF(J14="","",J14) -> 4. 8. 2026
C58: Zadavatel: | F58: =E17 -> Město Hanušovice | I58: Projektant: | J58: =E23 -> Cekr CZ s.r.o.
C59: Účastník: | F59: =IF(E20="","",E20) -> Vyplň údaj | I59: Zpracovatel: | J59: =E26 -> Jan Zamykal, CS ÚRS 2026/I
C61: Kód dílu - Popis | J61: Cena celkem [CZK]
C63: Náklady stavby celkem | J63: =J91 -> 0 | AU63: -1
D64: HSV - Práce a dodávky HSV | J64: =J92 -> 0
D65: 1 - Zemní práce | J65: =J93 -> 0
D66: 5 - Komunikace pozemní | J66: =J184 -> 0
D67: 8 - Vedení trubní dálková a přípojná | J67: =J272 -> 0
D68: 9 - Ostatní konstrukce a práce, bourání | J68: =J286 -> 0
D69: 998 - Přesun hmot | J69: =J325 -> 0
C76: SOUPIS PRACÍ
C78: Stavba:
E79: =E7 -> Hanušovice - Holba - rámcový rozpočet úprav oblasti
C80: Objekt:
E81: 100 - Komunikace
C82: Soupis:
E83: =E11 -> SO 110 - Komunikace pro pěší - chodníky 15d, 48d a 49d
C85: Místo: | F85: =F14 -> k.ú. Hanušovice | I85: Datum: | J85: =IF(J14="","",J14) -> 4. 8. 2026
C87: Zadavatel: | F87: =E17 -> Město Hanušovice | I87: Projektant: | J87: =E23 -> Cekr CZ s.r.o.
C88: Účastník: | F88: =IF(E20="","",E20) -> Vyplň údaj | I88: Zpracovatel: | J88: =E26 -> Jan Zamykal, CS ÚRS 2026/I
C90: PČ | D90: Typ | E90: Kód | F90: Popis | G90: MJ | H90: Množství | I90: J.cena [CZK] | J90: Cena celkem [CZK] | K90: Cenová soustava | N90: DPH | O90: J. Nh [h] | P90: Nh celkem [h] | Q90: J. hmotnost [t] | R90: Hmotnost celkem [t] | S90: J. suť [t] | T90: Suť Celkem [t]
C91: Náklady soupisu celkem | J91: =BK91 -> 0 | P91: =P92 -> 0 | R91: =R92 -> 2657.0854 | T91: =T92 -> 9.9925 | AT91: D | AU91: -1 | BK91: =BK92 -> 0
D92: D | E92: HSV | F92: Práce a dodávky HSV | J92: =BK92 -> 0 | P92: =P93+P184+P272+P286+P325 -> 0 | R92: =R93+R184+R272+R286+R325 -> 2657.0854 | T92: =T93+T184+T272+T286+T325 -> 9.9925 | AR92: 1 | AT92: D | AU92: 0 | AY92: ROZPOCET | BK92: =BK93+BK184+BK272+BK286+BK325 -> 0
D93: D | E93: 1 | F93: Zemní práce | J93: =BK93 -> 0 | P93: =SUM(P94:P183) -> 0 | R93: =SUM(R94:R183) -> 975.309 | T93: =SUM(T94:T183) -> 4.9725 | AR93: 1 | AT93: D | AU93: 1 | AY93: ROZPOCET | BK93: =SUM(BK94:BK183) -> 0
C94: 1 | D94: K | E94: 113106121 | F94: Rozebrání dlažeb komunikací pro pěší s přemístěním hmot na skládku na vzdálenost do 3 m nebo s naložením na dopravní prostředek s ložem z kameniva nebo živice a s jakoukoliv výplní spár ručně z betonových nebo kameninových dlaždic, desek nebo tvarovek | G94: m2 | H94: 19.5 | J94: =ROUND(I94*H94,2) -> 0 | K94: CS ÚRS 2026 01 | N94: základní | P94: =O94*H94 -> 0 | Q94: 0 | R94: =Q94*H94 -> 0 | S94: 0.255 | T94: =S94*H94 -> 4.9725 | AR94: 4 | AT94: K | AU94: 2 | AY94: ROZPOCET | BE94: =IF(N94="základní",J94,0) -> 0 | BF94: =IF(N94="snížená",J94,0) -> 0 | BG94: =IF(N94="zákl. přenesená",J94,0) -> 0 | BH94: =IF(N94="sníž. přenesená",J94,0) -> 0 | BI94: =IF(N94="nulová",J94,0) -> 0 | BJ94: 1 | BK94: =ROUND(I94*H94,2) -> 0 | BL94: 4 | BM94: -2053755
D95: Online PSC | F95: https://podminky.urs.cz/item/CS_URS_2026_01/113106121 | AT95: Online PSC | AU95: 2
D96: VV | F96: "rozebrání dlažeb stáv.okapových chodníků dle PD"" | AT96: VV | AU96: 2 | AV96: 1 | AW96: True | AX96: 0 | AY96: ROZPOCET
D97: VV | F97: "odečteno digitálně, výpočet SW" | AT97: VV | AU97: 2 | AV97: 1 | AW97: True | AX97: 0 | AY97: ROZPOCET
D98: VV | F98: "plochy chodníku 15 d; č p.494 - vnitroblok" | AT98: VV | AU98: 2 | AV98: 1 | AW98: True | AX98: 0 | AY98: ROZPOCET
D99: VV | F99: 19,50 | H99: 19.5 | AT99: VV | AU99: 2 | AV99: 2 | AW99: True | AX99: 0 | AY99: ROZPOCET
D100: VV | F100: Součet | H100: 19.5 | AT100: VV | AU100: 2 | AV100: 4 | AW100: True | AX100: 1 | AY100: ROZPOCET
C101: 2 | D101: K | E101: 122252205 | F101: Odkopávky a prokopávky nezapažené pro silnice a dálnice strojně v hornině třídy těžitelnosti I přes 500 do 1 000 m3 | G101: m3 | H101: 1250.304 | J101: =ROUND(I101*H101,2) -> 0 | K101: CS ÚRS 2026 01 | N101: základní | P101: =O101*H101 -> 0 | Q101: 0 | R101: =Q101*H101 -> 0 | S101: 0 | T101: =S101*H101 -> 0 | AR101: 4 | AT101: K | AU101: 2 | AY101: ROZPOCET | BE101: =IF(N101="základní",J101,0) -> 0 | BF101: =IF(N101="snížená",J101,0) -> 0 | BG101: =IF(N101="zákl. přenesená",J101,0) -> 0 | BH101: =IF(N101="sníž. přenesená",J101,0) -> 0 | BI101: =IF(N101="nulová",J101,0) -> 0 | BJ101: 1 | BK101: =ROUND(I101*H101,2) -> 0 | BL101: 4 | BM101: -30500763
D102: Online PSC | F102: https://podminky.urs.cz/item/CS_URS_2026_01/122252205 | AT102: Online PSC | AU102: 2
D103: P | F103: Poznámka k položce:_x000D_ Poznámka k položce: odkopávky pro provedení sanace všechny plochy jsou odmřeny z dwg | AT103: P | AU103: 2
D104: VV | F104: "odkopávka pro konstrukci nových chodníkůh vč. aktivní zóny dle PD" | AT104: VV | AU104: 2 | AV104: 1 | AW104: True | AX104: 0 | AY104: ROZPOCET
D105: VV | F105: "odečteno digitálně, výpočet SW" | AT105: VV | AU105: 2 | AV105: 1 | AW105: True | AX105: 0 | AY105: ROZPOCET
D106: VV | F106: "konstrukce chodníků" | AT106: VV | AU106: 2 | AV106: 1 | AW106: True | AX106: 0 | AY106: ROZPOCET
D107: VV | F107: "index rozšíření ploch i=1,10" | AT107: VV | AU107: 2 | AV107: 1 | AW107: True | AX107: 0 | AY107: ROZPOCET
D108: VV | F108: (1758,40+17,60)*1,10*0,34 | H108: 664.224 | AT108: VV | AU108: 2 | AV108: 2 | AW108: True | AX108: 0 | AY108: ROZPOCET
D109: VV | F109: Mezisoučet | H109: 664.224 | AT109: VV | AU109: 2 | AV109: 3 | AW109: True | AX109: 0 | AY109: ROZPOCET
D110: VV | F110: "aktivní zóna" | AT110: VV | AU110: 2 | AV110: 1 | AW110: True | AX110: 0 | AY110: ROZPOCET
D111: VV | F111: "index rozšíření ploch i=1,10" | AT111: VV | AU111: 2 | AV111: 1 | AW111: True | AX111: 0 | AY111: ROZPOCET
D112: VV | F112: (1758,40+17,60)*1,10*0,30 | H112: 586.08 | AT112: VV | AU112: 2 | AV112: 2 | AW112: True | AX112: 0 | AY112: ROZPOCET
D113: VV | F113: Mezisoučet | H113: 586.08 | AT113: VV | AU113: 2 | AV113: 3 | AW113: True | AX113: 0 | AY113: ROZPOCET
D114: VV | F114: Součet | H114: 1250.304 | AT114: VV | AU114: 2 | AV114: 4 | AW114: True | AX114: 1 | AY114: ROZPOCET
C115: 3 | D115: K | E115: 162751117 | F115: Vodorovné přemístění výkopku nebo sypaniny po suchu na obvyklém dopravním prostředku, bez naložení výkopku, avšak se složením bez rozhrnutí z horniny třídy těžitelnosti I skupiny 1 až 3 na vzdálenost přes 9 000 do 10 000 m | G115: m3 | H115: 1148.304 | J115: =ROUND(I115*H115,2) -> 0 | K115: CS ÚRS 2026 01 | N115: základní | P115: =O115*H115 -> 0 | Q115: 0 | R115: =Q115*H115 -> 0 | S115: 0 | T115: =S115*H115 -> 0 | AR115: 4 | AT115: K | AU115: 2 | AY115: ROZPOCET | BE115: =IF(N115="základní",J115,0) -> 0 | BF115: =IF(N115="snížená",J115,0) -> 0 | BG115: =IF(N115="zákl. přenesená",J115,0) -> 0 | BH115: =IF(N115="sníž. přenesená",J115,0) -> 0 | BI115: =IF(N115="nulová",J115,0) -> 0 | BJ115: 1 | BK115: =ROUND(I115*H115,2) -> 0 | BL115: 4 | BM115: -1484295304
D116: Online PSC | F116: https://podminky.urs.cz/item/CS_URS_2026_01/162751117 | AT116: Online PSC | AU116: 2
D117: VV | F117: "přemístění výkopku na řízenou skládku - předpoklad do 17 km (RECOVERA Rapotín)" | AT117: VV | AU117: 2 | AV117: 1 | AW117: True | AX117: 0 | AY117: ROZPOCET
D118: VV | F118: "odkopávky" 664,224+586,080 | H118: 1250.304 | AT118: VV | AU118: 2 | AV118: 2 | AW118: True | AX118: 0 | AY118: ROZPOCET
D119: VV | F119: "odpočet zeminy využité k dosypání obrubníků" -102,00 | H119: -102 | AT119: VV | AU119: 2 | AV119: 2 | AW119: True | AX119: 0 | AY119: ROZPOCET
D120: VV | F120: Součet | H120: 1148.304 | AT120: VV | AU120: 2 | AV120: 4 | AW120: True | AX120: 1 | AY120: ROZPOCET
C121: 4 | D121: K | E121: 162751119 | F121: Vodorovné přemístění výkopku nebo sypaniny po suchu na obvyklém dopravním prostředku, bez naložení výkopku, avšak se složením bez rozhrnutí z horniny třídy těžitelnosti I skupiny 1 až 3 na vzdálenost Příplatek k ceně za každých dalších i započatých 1 000 m | G121: m3 | H121: 8038.128 | J121: =ROUND(I121*H121,2) -> 0 | K121: CS ÚRS 2026 01 | N121: základní | P121: =O121*H121 -> 0 | Q121: 0 | R121: =Q121*H121 -> 0 | S121: 0 | T121: =S121*H121 -> 0 | AR121: 4 | AT121: K | AU121: 2 | AY121: ROZPOCET | BE121: =IF(N121="základní",J121,0) -> 0 | BF121: =IF(N121="snížená",J121,0) -> 0 | BG121: =IF(N121="zákl. přenesená",J121,0) -> 0 | BH121: =IF(N121="sníž. přenesená",J121,0) -> 0 | BI121: =IF(N121="nulová",J121,0) -> 0 | BJ121: 1 | BK121: =ROUND(I121*H121,2) -> 0 | BL121: 4 | BM121: -1067685644
D122: Online PSC | F122: https://podminky.urs.cz/item/CS_URS_2026_01/162751119 | AT122: Online PSC | AU122: 2
D123: VV | F123: "přemístění výkopku na řízenou skládku - předpoklad do 17 km (RECOVERA Rapotín)" | AT123: VV | AU123: 2 | AV123: 1 | AW123: True | AX123: 0 | AY123: ROZPOCET
D124: VV | F124: "odkopávky" (664,224+586,080-102,00)*7 | H124: 8038.128 | AT124: VV | AU124: 2 | AV124: 2 | AW124: True | AX124: 0 | AY124: ROZPOCET
D125: VV | F125: Součet | H125: 8038.128 | AT125: VV | AU125: 2 | AV125: 4 | AW125: True | AX125: 1 | AY125: ROZPOCET
C126: 5 | D126: K | E126: 171152111 | F126: Uložení sypaniny do zhutněných násypů pro silnice, dálnice a letiště s rozprostřením sypaniny ve vrstvách, s hrubým urovnáním a uzavřením povrchu násypu z hornin nesoudržných sypkých v aktivní zóně | G126: m3 | H126: 586.08 | J126: =ROUND(I126*H126,2) -> 0 | K126: CS ÚRS 2026 01 | N126: základní | P126: =O126*H126 -> 0 | Q126: 0 | R126: =Q126*H126 -> 0 | S126: 0 | T126: =S126*H126 -> 0 | AR126: 4 | AT126: K | AU126: 2 | AY126: ROZPOCET | BE126: =IF(N126="základní",J126,0) -> 0 | BF126: =IF(N126="snížená",J126,0) -> 0 | BG126: =IF(N126="zákl. přenesená",J126,0) -> 0 | BH126: =IF(N126="sníž. přenesená",J126,0) -> 0 | BI126: =IF(N126="nulová",J126,0) -> 0 | BJ126: 1 | BK126: =ROUND(I126*H126,2) -> 0 | BL126: 4 | BM126: -1268294676
D127: Online PSC | F127: https://podminky.urs.cz/item/CS_URS_2026_01/171152111 | AT127: Online PSC | AU127: 2
D128: VV | F128: "vytvoření aktivní zóny nových ploch chodníků dle PD v tl. 30 cm" | AT128: VV | AU128: 2 | AV128: 1 | AW128: True | AX128: 0 | AY128: ROZPOCET
D129: VV | F129: "odečteno digitálně, výpočet SW" | AT129: VV | AU129: 2 | AV129: 1 | AW129: True | AX129: 0 | AY129: ROZPOCET
D130: VV | F130: "index rozšíření ploch i=1,10" | AT130: VV | AU130: 2 | AV130: 1 | AW130: True | AX130: 0 | AY130: ROZPOCET
D131: VV | F131: "oblast chodníku 15d" | AT131: VV | AU131: 2 | AV131: 1 | AW131: True | AX131: 0 | AY131: ROZPOCET
D132: VV | F132: (306,70+2,80+1,80)*1,10*0,30 | H132: 102.729 | AT132: VV | AU132: 2 | AV132: 2 | AW132: True | AX132: 0 | AY132: ROZPOCET
D133: VV | F133: Mezisoučet | H133: 102.729 | AT133: VV | AU133: 2 | AV133: 3 | AW133: True | AX133: 0 | AY133: ROZPOCET
...

Sheet SO 110.1 - Komunikace pro...
AT2: {30756037-9ca2-433b-98b3-1f46c350355c}
AT3: 2
D4: KRYCÍ LIST SOUPISU PRACÍ | M4: v --- níže se nacházejí doplnkové a pomocné údaje k sestavám --- v | AT4: False
D6: Stavba:
E7: ='Rekapitulace stavby'!K6 -> Hanušovice - Holba - rámcový rozpočet úprav oblasti
D8: Objekt:
E9: 100 - Komunikace
D10: Soupis:
E11: SO 110.1 - Komunikace pro pěší - chodník 30d
D13: KSO: | I13: CC-CZ:
D14: Místo: | F14: k.ú. Hanušovice | I14: Datum: | J14: ='Rekapitulace stavby'!AN8 -> 4. 8. 2026
D16: Zadavatel: | I16: IČ: | J16: 00302546
E17: Město Hanušovice | I17: DIČ: | J17: CZ00302546
D19: Účastník: | I19: IČ: | J19: ='Rekapitulace stavby'!AN13 -> Vyplň údaj
E20: ='Rekapitulace stavby'!E14 -> Vyplň údaj | I20: DIČ: | J20: ='Rekapitulace stavby'!AN14 -> Vyplň údaj
D22: Projektant: | I22: IČ: | J22: 27821251
E23: Cekr CZ s.r.o. | I23: DIČ: | J23: CZ27821251
D25: Zpracovatel: | I25: IČ:
E26: Jan Zamykal, CS ÚRS 2026/I | I26: DIČ:
D28: Poznámka:
D32: Cena bez DPH | J32: =ROUND(J92, 2) -> 0
F34: Základ daně | I34: Sazba daně | J34: Výše daně
D35: DPH | E35: základní | F35: =ROUND((SUM(BE92:BE261)), 2) -> 0 | I35: 0.21 | J35: =ROUND(((SUM(BE92:BE261))*I35), 2) -> 0
E36: snížená | F36: =ROUND((SUM(BF92:BF261)), 2) -> 0 | I36: 0.12 | J36: =ROUND(((SUM(BF92:BF261))*I36), 2) -> 0
E37: zákl. přenesená | F37: =ROUND((SUM(BG92:BG261)), 2) -> 0 | I37: 0.21 | J37: =0 -> 0
E38: sníž. přenesená | F38: =ROUND((SUM(BH92:BH261)), 2) -> 0 | I38: 0.12 | J38: =0 -> 0
E39: nulová | F39: =ROUND((SUM(BI92:BI261)), 2) -> 0 | I39: 0 | J39: =0 -> 0
D41: Cena s DPH | G41: v | H41: CZK | J41: =SUM(J32:J39) -> 0
C47: REKAPITULACE ČLENĚNÍ SOUPISU PRACÍ
C49: Stavba:
E50: =E7 -> Hanušovice - Holba - rámcový rozpočet úprav oblasti
C51: Objekt:
E52: 100 - Komunikace
C53: Soupis:
E54: =E11 -> SO 110.1 - Komunikace pro pěší - chodník 30d
C56: Místo: | F56: =F14 -> k.ú. Hanušovice | I56: Datum: | J56: =IF(J14="","",J14) -> 4. 8. 2026
C58: Zadavatel: | F58: =E17 -> Město Hanušovice | I58: Projektant: | J58: =E23 -> Cekr CZ s.r.o.
C59: Účastník: | F59: =IF(E20="","",E20) -> Vyplň údaj | I59: Zpracovatel: | J59: =E26 -> Jan Zamykal, CS ÚRS 2026/I
C61: Kód dílu - Popis | J61: Cena celkem [CZK]
C63: Náklady stavby celkem | J63: =J92 -> 0 | AU63: -1
D64: HSV - Práce a dodávky HSV | J64: =J93 -> 0
D65: 1 - Zemní práce | J65: =J94 -> 0
D66: 5 - Komunikace pozemní | J66: =J175 -> 0
D67: 8 - Vedení trubní dálková a přípojná | J67: =J195 -> 0
D68: 9 - Ostatní konstrukce a práce, bourání | J68: =J202 -> 0
D69: 997 - Doprava suti a vybouraných hmot | J69: =J225 -> 0
D70: 998 - Přesun hmot | J70: =J259 -> 0
C77: SOUPIS PRACÍ
C79: Stavba:
E80: =E7 -> Hanušovice - Holba - rámcový rozpočet úprav oblasti
C81: Objekt:
E82: 100 - Komunikace
C83: Soupis:
E84: =E11 -> SO 110.1 - Komunikace pro pěší - chodník 30d
C86: Místo: | F86: =F14 -> k.ú. Hanušovice | I86: Datum: | J86: =IF(J14="","",J14) -> 4. 8. 2026
C88: Zadavatel: | F88: =E17 -> Město Hanušovice | I88: Projektant: | J88: =E23 -> Cekr CZ s.r.o.
C89: Účastník: | F89: =IF(E20="","",E20) -> Vyplň údaj | I89: Zpracovatel: | J89: =E26 -> Jan Zamykal, CS ÚRS 2026/I
C91: PČ | D91: Typ | E91: Kód | F91: Popis | G91: MJ | H91: Množství | I91: J.cena [CZK] | J91: Cena celkem [CZK] | K91: Cenová soustava | N91: DPH | O91: J. Nh [h] | P91: Nh celkem [h] | Q91: J. hmotnost [t] | R91: Hmotnost celkem [t] | S91: J. suť [t] | T91: Suť Celkem [t]
C92: Náklady soupisu celkem | J92: =BK92 -> 0 | P92: =P93 -> 0 | R92: =R93 -> 210.11991 | T92: =T93 -> 50.8175 | AT92: D | AU92: -1 | BK92: =BK93 -> 0
D93: D | E93: HSV | F93: Práce a dodávky HSV | J93: =BK93 -> 0 | P93: =P94+P175+P195+P202+P225+P259 -> 0 | R93: =R94+R175+R195+R202+R225+R259 -> 210.11991 | T93: =T94+T175+T195+T202+T225+T259 -> 50.8175 | AR93: 1 | AT93: D | AU93: 0 | AY93: ROZPOCET | BK93: =BK94+BK175+BK195+BK202+BK225+BK259 -> 0
D94: D | E94: 1 | F94: Zemní práce | J94: =BK94 -> 0 | P94: =SUM(P95:P174) -> 0 | R94: =SUM(R95:R174) -> 75.50685 | T94: =SUM(T95:T174) -> 50.1575 | AR94: 1 | AT94: D | AU94: 1 | AY94: ROZPOCET | BK94: =SUM(BK95:BK174) -> 0
C95: 1 | D95: K | E95: 113106171 | F95: Rozebrání dlažeb vozovek a ploch s přemístěním hmot na skládku na vzdálenost do 3 m nebo s naložením na dopravní prostředek, s jakoukoliv výplní spár ručně ze zámkové dlažby s ložem z kameniva | G95: m2 | H95: 32.5 | J95: =ROUND(I95*H95,2) -> 0 | K95: CS ÚRS 2026 01 | N95: základní | P95: =O95*H95 -> 0 | Q95: 0 | R95: =Q95*H95 -> 0 | S95: 0.295 | T95: =S95*H95 -> 9.5875 | AR95: 4 | AT95: K | AU95: 2 | AY95: ROZPOCET | BE95: =IF(N95="základní",J95,0) -> 0 | BF95: =IF(N95="snížená",J95,0) -> 0 | BG95: =IF(N95="zákl. přenesená",J95,0) -> 0 | BH95: =IF(N95="sníž. přenesená",J95,0) -> 0 | BI95: =IF(N95="nulová",J95,0) -> 0 | BJ95: 1 | BK95: =ROUND(I95*H95,2) -> 0 | BL95: 4 | BM95: 1104634924
D96: Online PSC | F96: https://podminky.urs.cz/item/CS_URS_2026_01/113106171 | AT96: Online PSC | AU96: 2
D97: VV | F97: "rozebrání dlažeb stáv.chodníků dle PD"" | AT97: VV | AU97: 2 | AV97: 1 | AW97: True | AX97: 0 | AY97: ROZPOCET
D98: VV | F98: "odečteno digitálně, výpočet SW" | AT98: VV | AU98: 2 | AV98: 1 | AW98: True | AX98: 0 | AY98: ROZPOCET
D99: VV | F99: 32,50 | H99: 32.5 | AT99: VV | AU99: 2 | AV99: 2 | AW99: True | AX99: 0 | AY99: ROZPOCET
D100: VV | F100: Součet | H100: 32.5 | AT100: VV | AU100: 2 | AV100: 4 | AW100: True | AX100: 1 | AY100: ROZPOCET
C101: 2 | D101: K | E101: 113154528 | F101: Frézování živičného podkladu nebo krytu s naložením hmot na dopravní prostředek plochy do 500 m2 pruhu šířky přes 0,5 m, tloušťky vrstvy 100 mm | G101: m2 | H101: 95 | J101: =ROUND(I101*H101,2) -> 0 | K101: CS ÚRS 2026 01 | N101: základní | P101: =O101*H101 -> 0 | Q101: 3e-05 | R101: =Q101*H101 -> 0.00285 | S101: 0.23 | T101: =S101*H101 -> 21.85 | AR101: 4 | AT101: K | AU101: 2 | AY101: ROZPOCET | BE101: =IF(N101="základní",J101,0) -> 0 | BF101: =IF(N101="snížená",J101,0) -> 0 | BG101: =IF(N101="zákl. přenesená",J101,0) -> 0 | BH101: =IF(N101="sníž. přenesená",J101,0) -> 0 | BI101: =IF(N101="nulová",J101,0) -> 0 | BJ101: 1 | BK101: =ROUND(I101*H101,2) -> 0 | BL101: 4 | BM101: 2044053845
D102: Online PSC | F102: https://podminky.urs.cz/item/CS_URS_2026_01/113154528 | AT102: Online PSC | AU102: 2
D103: VV | F103: "odfrézování stáv. degradovaného živič.krytu dle PD" | AT103: VV | AU103: 2 | AV103: 1 | AW103: True | AX103: 0 | AY103: ROZPOCET
D104: VV | F104: "odečteno digitálně z grafické části PD" | AT104: VV | AU104: 2 | AV104: 1 | AW104: True | AX104: 0 | AY104: ROZPOCET
D105: VV | F105: 95,00 | H105: 95 | AT105: VV | AU105: 2 | AV105: 2 | AW105: True | AX105: 0 | AY105: ROZPOCET
D106: VV | F106: Součet | H106: 95 | AT106: VV | AU106: 2 | AV106: 4 | AW106: True | AX106: 1 | AY106: ROZPOCET
C107: 3 | D107: K | E107: 113201112 | F107: Vytrhání obrub s vybouráním lože, s přemístěním hmot na skládku na vzdálenost do 3 m nebo s naložením na dopravní prostředek silničních ležatých | G107: m | H107: 8 | J107: =ROUND(I107*H107,2) -> 0 | K107: CS ÚRS 2026 01 | N107: základní | P107: =O107*H107 -> 0 | Q107: 0 | R107: =Q107*H107 -> 0 | S107: 0.29 | T107: =S107*H107 -> 2.32 | AR107: 4 | AT107: K | AU107: 2 | AY107: ROZPOCET | BE107: =IF(N107="základní",J107,0) -> 0 | BF107: =IF(N107="snížená",J107,0) -> 0 | BG107: =IF(N107="zákl. přenesená",J107,0) -> 0 | BH107: =IF(N107="sníž. přenesená",J107,0) -> 0 | BI107: =IF(N107="nulová",J107,0) -> 0 | BJ107: 1 | BK107: =ROUND(I107*H107,2) -> 0 | BL107: 4 | BM107: -500950847
D108: Online PSC | F108: https://podminky.urs.cz/item/CS_URS_2026_01/113201112 | AT108: Online PSC | AU108: 2
D109: VV | F109: "vytrhání stávajících silničních obrub - napojení na MK 2c" | AT109: VV | AU109: 2 | AV109: 1 | AW109: True | AX109: 0 | AY109: ROZPOCET
D110: VV | F110: 8,00 | H110: 8 | AT110: VV | AU110: 2 | AV110: 2 | AW110: True | AX110: 0 | AY110: ROZPOCET
D111: VV | F111: Součet | H111: 8 | AT111: VV | AU111: 2 | AV111: 4 | AW111: True | AX111: 1 | AY111: ROZPOCET
C112: 4 | D112: K | E112: 113202111 | F112: Vytrhání obrub s vybouráním lože, s přemístěním hmot na skládku na vzdálenost do 3 m nebo s naložením na dopravní prostředek z krajníků nebo obrubníků stojatých | G112: m | H112: 80 | J112: =ROUND(I112*H112,2) -> 0 | K112: CS ÚRS 2026 01 | N112: základní | P112: =O112*H112 -> 0 | Q112: 0 | R112: =Q112*H112 -> 0 | S112: 0.205 | T112: =S112*H112 -> 16.4 | AR112: 4 | AT112: K | AU112: 2 | AY112: ROZPOCET | BE112: =IF(N112="základní",J112,0) -> 0 | BF112: =IF(N112="snížená",J112,0) -> 0 | BG112: =IF(N112="zákl. přenesená",J112,0) -> 0 | BH112: =IF(N112="sníž. přenesená",J112,0) -> 0 | BI112: =IF(N112="nulová",J112,0) -> 0 | BJ112: 1 | BK112: =ROUND(I112*H112,2) -> 0 | BL112: 4 | BM112: 942078392
D113: Online PSC | F113: https://podminky.urs.cz/item/CS_URS_2026_01/113202111 | AT113: Online PSC | AU113: 2
D114: VV | F114: "vytrhání stávajících chodníkových obrub v upravovaných plochách" | AT114: VV | AU114: 2 | AV114: 1 | AW114: True | AX114: 0 | AY114: ROZPOCET
D115: VV | F115: 80,00 | H115: 80 | AT115: VV | AU115: 2 | AV115: 2 | AW115: True | AX115: 0 | AY115: ROZPOCET
D116: VV | F116: Součet | H116: 80 | AT116: VV | AU116: 2 | AV116: 4 | AW116: True | AX116: 1 | AY116: ROZPOCET
C117: 5 | D117: K | E117: 122252205 | F117: Odkopávky a prokopávky nezapažené pro silnice a dálnice strojně v hornině třídy těžitelnosti I přes 500 do 1 000 m3 | G117: m3 | H117: 82.28 | J117: =ROUND(I117*H117,2) -> 0 | K117: CS ÚRS 2026 01 | N117: základní | P117: =O117*H117 -> 0 | Q117: 0 | R117: =Q117*H117 -> 0 | S117: 0 | T117: =S117*H117 -> 0 | AR117: 4 | AT117: K | AU117: 2 | AY117: ROZPOCET | BE117: =IF(N117="základní",J117,0) -> 0 | BF117: =IF(N117="snížená",J117,0) -> 0 | BG117: =IF(N117="zákl. přenesená",J117,0) -> 0 | BH117: =IF(N117="sníž. přenesená",J117,0) -> 0 | BI117: =IF(N117="nulová",J117,0) -> 0 | BJ117: 1 | BK117: =ROUND(I117*H117,2) -> 0 | BL117: 4 | BM117: -176709835
D118: Online PSC | F118: https://podminky.urs.cz/item/CS_URS_2026_01/122252205 | AT118: Online PSC | AU118: 2
D119: P | F119: Poznámka k položce:_x000D_ Poznámka k položce: odkopávky pro provedení sanace všechny plochy jsou odmřeny z dwg | AT119: P | AU119: 2
D120: VV | F120: "odkopávka pro konstrukci nových chodníků vč. aktivní zóny dle PD" | AT120: VV | AU120: 2 | AV120: 1 | AW120: True | AX120: 0 | AY120: ROZPOCET
D121: VV | F121: "odečteno digitálně, výpočet SW" | AT121: VV | AU121: 2 | AV121: 1 | AW121: True | AX121: 0 | AY121: ROZPOCET
D122: VV | F122: "konstrukce odstavných ploch" | AT122: VV | AU122: 2 | AV122: 1 | AW122: True | AX122: 0 | AY122: ROZPOCET
D123: VV | F123: "index rozšíření ploch i=1,10" | AT123: VV | AU123: 2 | AV123: 1 | AW123: True | AX123: 0 | AY123: ROZPOCET
D124: VV | F124: 130,00*1,10*0,36 | H124: 51.48 | AT124: VV | AU124: 2 | AV124: 2 | AW124: True | AX124: 0 | AY124: ROZPOCET
D125: VV | F125: "odpočet ojemu vybouraných původních vrstev" | AT125: VV | AU125: 2 | AV125: 1 | AW125: True | AX125: 0 | AY125: ROZPOCET
D126: VV | F126: -32,50*0,08 | H126: -2.6 | AT126: VV | AU126: 2 | AV126: 2 | AW126: True | AX126: 0 | AY126: ROZPOCET
D127: VV | F127: -95,00*0,10 | H127: -9.5 | AT127: VV | AU127: 2 | AV127: 2 | AW127: True | AX127: 0 | AY127: ROZPOCET
D128: VV | F128: Mezisoučet | H128: 39.38 | AT128: VV | AU128: 2 | AV128: 3 | AW128: True | AX128: 0 | AY128: ROZPOCET
D129: VV | F129: "aktivní zóna" | AT129: VV | AU129: 2 | AV129: 1 | AW129: True | AX129: 0 | AY129: ROZPOCET
D130: VV | F130: "index rozšíření ploch i=1,10" | AT130: VV | AU130: 2 | AV130: 1 | AW130: True | AX130: 0 | AY130: ROZPOCET
D131: VV | F131: 130,00*1,10*0,30 | H131: 42.9 | AT131: VV | AU131: 2 | AV131: 2 | AW131: True | AX131: 0 | AY131: ROZPOCET
D132: VV | F132: Mezisoučet | H132: 42.9 | AT132: VV | AU132: 2 | AV132: 3 | AW132: True | AX132: 0 | AY132: ROZPOCET
D133: VV | F133: Součet | H133: 82.28 | AT133: VV | AU133: 2 | AV133: 4 | AW133: True | AX133: 1 | AY133: ROZPOCET
...

Sheet SO 191 - DIO
AT2: {ce1d551d-e133-410d-b542-e47bdfefa181}
AT3: 2
D4: KRYCÍ LIST SOUPISU PRACÍ | M4: v --- níže se nacházejí doplnkové a pomocné údaje k sestavám --- v | AT4: False
D6: Stavba:
E7: ='Rekapitulace stavby'!K6 -> Hanušovice - Holba - rámcový rozpočet úprav oblasti
D8: Objekt:
E9: 100 - Komunikace
D10: Soupis:
E11: SO 191 - DIO
D13: KSO: | I13: CC-CZ:
D14: Místo: | F14: k.ú. Hanušovice | I14: Datum: | J14: ='Rekapitulace stavby'!AN8 -> 4. 8. 2026
D16: Zadavatel: | I16: IČ: | J16: 00302546
E17: Město Hanušovice | I17: DIČ: | J17: CZ00302546
D19: Účastník: | I19: IČ: | J19: ='Rekapitulace stavby'!AN13 -> Vyplň údaj
E20: ='Rekapitulace stavby'!E14 -> Vyplň údaj | I20: DIČ: | J20: ='Rekapitulace stavby'!AN14 -> Vyplň údaj
D22: Projektant: | I22: IČ: | J22: 27821251
E23: Cekr CZ s.r.o. | I23: DIČ: | J23: CZ27821251
D25: Zpracovatel: | I25: IČ:
E26: Jan Zamykal, CS ÚRS 2026/I | I26: DIČ:
D28: Poznámka:
D32: Cena bez DPH | J32: =ROUND(J87, 2) -> 0
F34: Základ daně | I34: Sazba daně | J34: Výše daně
D35: DPH | E35: základní | F35: =ROUND((SUM(BE87:BE95)), 2) -> 0 | I35: 0.21 | J35: =ROUND(((SUM(BE87:BE95))*I35), 2) -> 0
E36: snížená | F36: =ROUND((SUM(BF87:BF95)), 2) -> 0 | I36: 0.12 | J36: =ROUND(((SUM(BF87:BF95))*I36), 2) -> 0
E37: zákl. přenesená | F37: =ROUND((SUM(BG87:BG95)), 2) -> 0 | I37: 0.21 | J37: =0 -> 0
E38: sníž. přenesená | F38: =ROUND((SUM(BH87:BH95)), 2) -> 0 | I38: 0.12 | J38: =0 -> 0
E39: nulová | F39: =ROUND((SUM(BI87:BI95)), 2) -> 0 | I39: 0 | J39: =0 -> 0
D41: Cena s DPH | G41: v | H41: CZK | J41: =SUM(J32:J39) -> 0
C47: REKAPITULACE ČLENĚNÍ SOUPISU PRACÍ
C49: Stavba:
E50: =E7 -> Hanušovice - Holba - rámcový rozpočet úprav oblasti
C51: Objekt:
E52: 100 - Komunikace
C53: Soupis:
E54: =E11 -> SO 191 - DIO
C56: Místo: | F56: =F14 -> k.ú. Hanušovice | I56: Datum: | J56: =IF(J14="","",J14) -> 4. 8. 2026
C58: Zadavatel: | F58: =E17 -> Město Hanušovice | I58: Projektant: | J58: =E23 -> Cekr CZ s.r.o.
C59: Účastník: | F59: =IF(E20="","",E20) -> Vyplň údaj | I59: Zpracovatel: | J59: =E26 -> Jan Zamykal, CS ÚRS 2026/I
C61: Kód dílu - Popis | J61: Cena celkem [CZK]
C63: Náklady stavby celkem | J63: =J87 -> 0 | AU63: -1
D64: HSV - Práce a dodávky HSV | J64: =J88 -> 0
D65: 912 - Dopravní značení dočasné (DIO) | J65: =J89 -> 0
C72: SOUPIS PRACÍ
C74: Stavba:
E75: =E7 -> Hanušovice - Holba - rámcový rozpočet úprav oblasti
C76: Objekt:
E77: 100 - Komunikace
C78: Soupis:
E79: =E11 -> SO 191 - DIO
C81: Místo: | F81: =F14 -> k.ú. Hanušovice | I81: Datum: | J81: =IF(J14="","",J14) -> 4. 8. 2026
C83: Zadavatel: | F83: =E17 -> Město Hanušovice | I83: Projektant: | J83: =E23 -> Cekr CZ s.r.o.
C84: Účastník: | F84: =IF(E20="","",E20) -> Vyplň údaj | I84: Zpracovatel: | J84: =E26 -> Jan Zamykal, CS ÚRS 2026/I
C86: PČ | D86: Typ | E86: Kód | F86: Popis | G86: MJ | H86: Množství | I86: J.cena [CZK] | J86: Cena celkem [CZK] | K86: Cenová soustava | N86: DPH | O86: J. Nh [h] | P86: Nh celkem [h] | Q86: J. hmotnost [t] | R86: Hmotnost celkem [t] | S86: J. suť [t] | T86: Suť Celkem [t]
C87: Náklady soupisu celkem | J87: =BK87 -> 0 | P87: =P88 -> 0 | R87: =R88 -> 0 | T87: =T88 -> 0 | AT87: D | AU87: -1 | BK87: =BK88 -> 0
D88: D | E88: HSV | F88: Práce a dodávky HSV | J88: =BK88 -> 0 | P88: =P89 -> 0 | R88: =R89 -> 0 | T88: =T89 -> 0 | AR88: 1 | AT88: D | AU88: 0 | AY88: ROZPOCET | BK88: =BK89 -> 0
D89: D | E89: 912 | F89: Dopravní značení dočasné (DIO) | J89: =BK89 -> 0 | P89: =SUM(P90:P95) -> 0 | R89: =SUM(R90:R95) -> 0 | T89: =SUM(T90:T95) -> 0 | AR89: 1 | AT89: D | AU89: 1 | AY89: ROZPOCET | BK89: =SUM(BK90:BK95) -> 0
C90: 1 | D90: K | E90: 913911000 | F90: Montáž a demontáž dočasného dopravního značení po dobu výstavby | G90: soub | H90: 8 | J90: =ROUND(I90*H90,2) -> 0 | K90: vlastní | N90: základní | P90: =O90*H90 -> 0 | Q90: 0 | R90: =Q90*H90 -> 0 | S90: 0 | T90: =S90*H90 -> 0 | AR90: 4 | AT90: K | AU90: 2 | AY90: ROZPOCET | BE90: =IF(N90="základní",J90,0) -> 0 | BF90: =IF(N90="snížená",J90,0) -> 0 | BG90: =IF(N90="zákl. přenesená",J90,0) -> 0 | BH90: =IF(N90="sníž. přenesená",J90,0) -> 0 | BI90: =IF(N90="nulová",J90,0) -> 0 | BJ90: 1 | BK90: =ROUND(I90*H90,2) -> 0 | BL90: 4 | BM90: 118471159
D91: P | F91: Poznámka k položce:_x000D_ Firemní položka._x000D_ Položka obsahuje především:_x000D_ - Zajištění vydání rozhodnutí o zvláštním užívání silnice, o přechodné úpravě provozu a související povolení a rozhodnutí, zejména pro objízdné trasy, pokud je z povahy projektu požadováno._x000D_ - Náklady na vyhotovení návrhu dočasného dopravního značení, jeho projednání s dotčenými orgány a organizacemi, rozmístění a přemisťování a údržba značení v průběhu celé výstavby + náklady spojené se zajištěním pronájmu a dodávky potřebného dopravního značení._x000D_ | AT91: P | AU91: 2
D92: VV | F92: "řešení DIO pro daný objekt v předpokládaném rozsahu PD (TZ)" | AT92: VV | AU92: 2 | AV92: 1 | AW92: True | AX92: 0 | AY92: ROZPOCET
D93: VV | F93: "předpoklad řešených míst" 8 | H93: 8 | AT93: VV | AU93: 2 | AV93: 2 | AW93: True | AX93: 0 | AY93: ROZPOCET
D94: VV | F94: "!!!BUDE ŘEŠENO DLE SKUTEČNĚ PROVEDENÉHO POČTU OPATŘENÍ, KONKRÉTNÍHO MÍSTA A KONKRÉTNÍCH PODMÍNEK DOTČENÝCH ORGÁNŮ!!!" | AT94: VV | AU94: 2 | AV94: 1 | AW94: True | AX94: 0 | AY94: ROZPOCET
D95: VV | F95: Součet | H95: 8 | AT95: VV | AU95: 2 | AV95: 4 | AW95: True | AX95: 1 | AY95: ROZPOCET

Sheet SO 801 - Sadové úpravy, J...
AT2: {4d6f68b2-625f-4c79-bdf8-f786e2d6013a}
AT3: 2
D4: KRYCÍ LIST SOUPISU PRACÍ | M4: v --- níže se nacházejí doplnkové a pomocné údaje k sestavám --- v | AT4: False
D6: Stavba:
E7: ='Rekapitulace stavby'!K6 -> Hanušovice - Holba - rámcový rozpočet úprav oblasti
D8: Objekt:
E9: 800 - Vegetační úpravy a rekultivace
D10: Soupis:
E11: SO 801 - Sadové úpravy, JTÚ a rekultivace
D13: KSO: | I13: CC-CZ:
D14: Místo: | F14: k.ú. Hanušovice | I14: Datum: | J14: ='Rekapitulace stavby'!AN8 -> 4. 8. 2026
D16: Zadavatel: | I16: IČ: | J16: 00302546
E17: Město Hanušovice | I17: DIČ: | J17: CZ00302546
D19: Účastník: | I19: IČ: | J19: ='Rekapitulace stavby'!AN13 -> Vyplň údaj
E20: ='Rekapitulace stavby'!E14 -> Vyplň údaj | I20: DIČ: | J20: ='Rekapitulace stavby'!AN14 -> Vyplň údaj
D22: Projektant: | I22: IČ: | J22: 27821251
E23: Cekr CZ s.r.o. | I23: DIČ: | J23: CZ27821251
D25: Zpracovatel: | I25: IČ:
E26: Jan Zamykal, CS ÚRS 2026/I | I26: DIČ:
D28: Poznámka:
D32: Cena bez DPH | J32: =ROUND(J87, 2) -> 0
F34: Základ daně | I34: Sazba daně | J34: Výše daně
D35: DPH | E35: základní | F35: =ROUND((SUM(BE87:BE160)), 2) -> 0 | I35: 0.21 | J35: =ROUND(((SUM(BE87:BE160))*I35), 2) -> 0
E36: snížená | F36: =ROUND((SUM(BF87:BF160)), 2) -> 0 | I36: 0.12 | J36: =ROUND(((SUM(BF87:BF160))*I36), 2) -> 0
E37: zákl. přenesená | F37: =ROUND((SUM(BG87:BG160)), 2) -> 0 | I37: 0.21 | J37: =0 -> 0
E38: sníž. přenesená | F38: =ROUND((SUM(BH87:BH160)), 2) -> 0 | I38: 0.12 | J38: =0 -> 0
E39: nulová | F39: =ROUND((SUM(BI87:BI160)), 2) -> 0 | I39: 0 | J39: =0 -> 0
D41: Cena s DPH | G41: v | H41: CZK | J41: =SUM(J32:J39) -> 0
C47: REKAPITULACE ČLENĚNÍ SOUPISU PRACÍ
C49: Stavba:
E50: =E7 -> Hanušovice - Holba - rámcový rozpočet úprav oblasti
C51: Objekt:
E52: 800 - Vegetační úpravy a rekultivace
C53: Soupis:
E54: =E11 -> SO 801 - Sadové úpravy, JTÚ a rekultivace
C56: Místo: | F56: =F14 -> k.ú. Hanušovice | I56: Datum: | J56: =IF(J14="","",J14) -> 4. 8. 2026
C58: Zadavatel: | F58: =E17 -> Město Hanušovice | I58: Projektant: | J58: =E23 -> Cekr CZ s.r.o.
C59: Účastník: | F59: =IF(E20="","",E20) -> Vyplň údaj | I59: Zpracovatel: | J59: =E26 -> Jan Zamykal, CS ÚRS 2026/I
C61: Kód dílu - Popis | J61: Cena celkem [CZK]
C63: Náklady stavby celkem | J63: =J87 -> 0 | AU63: -1
D64: HSV - Práce a dodávky HSV | J64: =J88 -> 0
D65: 18 - Zemní práce - povrchové úpravy terénu | J65: =J89 -> 0
C72: SOUPIS PRACÍ
C74: Stavba:
E75: =E7 -> Hanušovice - Holba - rámcový rozpočet úprav oblasti
C76: Objekt:
E77: 800 - Vegetační úpravy a rekultivace
C78: Soupis:
E79: =E11 -> SO 801 - Sadové úpravy, JTÚ a rekultivace
C81: Místo: | F81: =F14 -> k.ú. Hanušovice | I81: Datum: | J81: =IF(J14="","",J14) -> 4. 8. 2026
C83: Zadavatel: | F83: =E17 -> Město Hanušovice | I83: Projektant: | J83: =E23 -> Cekr CZ s.r.o.
C84: Účastník: | F84: =IF(E20="","",E20) -> Vyplň údaj | I84: Zpracovatel: | J84: =E26 -> Jan Zamykal, CS ÚRS 2026/I
C86: PČ | D86: Typ | E86: Kód | F86: Popis | G86: MJ | H86: Množství | I86: J.cena [CZK] | J86: Cena celkem [CZK] | K86: Cenová soustava | N86: DPH | O86: J. Nh [h] | P86: Nh celkem [h] | Q86: J. hmotnost [t] | R86: Hmotnost celkem [t] | S86: J. suť [t] | T86: Suť Celkem [t]
C87: Náklady soupisu celkem | J87: =BK87 -> 0 | P87: =P88 -> 0 | R87: =R88 -> 0.170924 | T87: =T88 -> 0 | AT87: D | AU87: -1 | BK87: =BK88 -> 0
D88: D | E88: HSV | F88: Práce a dodávky HSV | J88: =BK88 -> 0 | P88: =P89 -> 0 | R88: =R89 -> 0.170924 | T88: =T89 -> 0 | AR88: 1 | AT88: D | AU88: 0 | AY88: ROZPOCET | BK88: =BK89 -> 0
D89: D | E89: 18 | F89: Zemní práce - povrchové úpravy terénu | J89: =BK89 -> 0 | P89: =SUM(P90:P160) -> 0 | R89: =SUM(R90:R160) -> 0.170924 | T89: =SUM(T90:T160) -> 0 | AR89: 1 | AT89: D | AU89: 1 | AY89: ROZPOCET | BK89: =SUM(BK90:BK160) -> 0
C90: 1 | D90: K | E90: 181111111 | F90: Plošná úprava terénu v zemině skupiny 1 až 4 s urovnáním povrchu bez doplnění ornice souvislé plochy do 500 m2 při nerovnostech terénu přes 50 do 100 mm v rovině nebo na svahu do 1:5 | G90: m2 | H90: 2382.3 | J90: =ROUND(I90*H90,2) -> 0 | K90: CS ÚRS 2026 01 | N90: základní | P90: =O90*H90 -> 0 | Q90: 0 | R90: =Q90*H90 -> 0 | S90: 0 | T90: =S90*H90 -> 0 | AR90: 4 | AT90: K | AU90: 2 | AY90: ROZPOCET | BE90: =IF(N90="základní",J90,0) -> 0 | BF90: =IF(N90="snížená",J90,0) -> 0 | BG90: =IF(N90="zákl. přenesená",J90,0) -> 0 | BH90: =IF(N90="sníž. přenesená",J90,0) -> 0 | BI90: =IF(N90="nulová",J90,0) -> 0 | BJ90: 1 | BK90: =ROUND(I90*H90,2) -> 0 | BL90: 4 | BM90: -1326699633
D91: Online PSC | F91: https://podminky.urs.cz/item/CS_URS_2026_01/181111111 | AT91: Online PSC | AU91: 2
D92: VV | F92: "finální úprava terénu po provedení komunikací dle PD" | AT92: VV | AU92: 2 | AV92: 1 | AW92: True | AX92: 0 | AY92: ROZPOCET
D93: VV | F93: "reprofilace s doplněním zeminy tl.do 5 cm" | AT93: VV | AU93: 2 | AV93: 1 | AW93: True | AX93: 0 | AY93: ROZPOCET
D94: VV | F94: "odečteno digitálně, výpočet SW" | AT94: VV | AU94: 2 | AV94: 1 | AW94: True | AX94: 0 | AY94: ROZPOCET
D95: VV | F95: 2382,30 | H95: 2382.3 | AT95: VV | AU95: 2 | AV95: 2 | AW95: True | AX95: 0 | AY95: ROZPOCET
D96: VV | F96: Součet | H96: 2382.3 | AT96: VV | AU96: 2 | AV96: 4 | AW96: True | AX96: 1 | AY96: ROZPOCET
C97: 2 | D97: K | E97: 181411131 | F97: Založení trávníku na půdě předem připravené plochy do 1000 m2 výsevem včetně utažení parkového v rovině nebo na svahu do 1:5 | G97: m2 | H97: 2382.3 | J97: =ROUND(I97*H97,2) -> 0 | K97: CS ÚRS 2026 01 | N97: základní | P97: =O97*H97 -> 0 | Q97: 0 | R97: =Q97*H97 -> 0 | S97: 0 | T97: =S97*H97 -> 0 | AR97: 4 | AT97: K | AU97: 2 | AY97: ROZPOCET | BE97: =IF(N97="základní",J97,0) -> 0 | BF97: =IF(N97="snížená",J97,0) -> 0 | BG97: =IF(N97="zákl. přenesená",J97,0) -> 0 | BH97: =IF(N97="sníž. přenesená",J97,0) -> 0 | BI97: =IF(N97="nulová",J97,0) -> 0 | BJ97: 1 | BK97: =ROUND(I97*H97,2) -> 0 | BL97: 4 | BM97: 53313420
D98: Online PSC | F98: https://podminky.urs.cz/item/CS_URS_2026_01/181411131 | AT98: Online PSC | AU98: 2
D99: VV | F99: "finální úprava terénu po provedení komunikací dle PD" | AT99: VV | AU99: 2 | AV99: 1 | AW99: True | AX99: 0 | AY99: ROZPOCET
D100: VV | F100: "osetí upravených vegetačních ploch" | AT100: VV | AU100: 2 | AV100: 1 | AW100: True | AX100: 0 | AY100: ROZPOCET
D101: VV | F101: "odečteno digitálně, výpočet SW" | AT101: VV | AU101: 2 | AV101: 1 | AW101: True | AX101: 0 | AY101: ROZPOCET
D102: VV | F102: 2382,30 | H102: 2382.3 | AT102: VV | AU102: 2 | AV102: 2 | AW102: True | AX102: 0 | AY102: ROZPOCET
D103: VV | F103: Součet | H103: 2382.3 | AT103: VV | AU103: 2 | AV103: 4 | AW103: True | AX103: 1 | AY103: ROZPOCET
C104: 3 | D104: M | E104: 00572410 | F104: osivo směs travní parková | G104: kg | H104: 61.344 | J104: =ROUND(I104*H104,2) -> 0 | K104: CS ÚRS 2026 01 | N104: základní | P104: =O104*H104 -> 0 | Q104: 0.001 | R104: =Q104*H104 -> 0.061344 | S104: 0 | T104: =S104*H104 -> 0 | AR104: 8 | AT104: M | AU104: 2 | AY104: ROZPOCET | BE104: =IF(N104="základní",J104,0) -> 0 | BF104: =IF(N104="snížená",J104,0) -> 0 | BG104: =IF(N104="zákl. přenesená",J104,0) -> 0 | BH104: =IF(N104="sníž. přenesená",J104,0) -> 0 | BI104: =IF(N104="nulová",J104,0) -> 0 | BJ104: 1 | BK104: =ROUND(I104*H104,2) -> 0 | BL104: 4 | BM104: 911528471
D105: VV | F105: "Dodávka osiva - 40 m2/kg - ztratné 3% " | AT105: VV | AU105: 2 | AV105: 1 | AW105: True | AX105: 0 | AY105: ROZPOCET
D106: VV | F106: 2382,30/40,00*1,03 | H106: 61.344 | AT106: VV | AU106: 2 | AV106: 2 | AW106: True | AX106: 0 | AY106: ROZPOCET
D107: VV | F107: Součet | H107: 61.344 | AT107: VV | AU107: 2 | AV107: 4 | AW107: True | AX107: 1 | AY107: ROZPOCET
C108: 4 | D108: K | E108: 183101122 | F108: Hloubení jamek pro vysazování rostlin v zemině skupiny 1 až 4 bez výměny půdy v rovině nebo na svahu do 1:5, objemu přes 1,00 do 2,00 m3 | G108: kus | H108: 2 | J108: =ROUND(I108*H108,2) -> 0 | K108: CS ÚRS 2026 01 | N108: základní | P108: =O108*H108 -> 0 | Q108: 0 | R108: =Q108*H108 -> 0 | S108: 0 | T108: =S108*H108 -> 0 | AR108: 4 | AT108: K | AU108: 2 | AY108: ROZPOCET | BE108: =IF(N108="základní",J108,0) -> 0 | BF108: =IF(N108="snížená",J108,0) -> 0 | BG108: =IF(N108="zákl. přenesená",J108,0) -> 0 | BH108: =IF(N108="sníž. přenesená",J108,0) -> 0 | BI108: =IF(N108="nulová",J108,0) -> 0 | BJ108: 1 | BK108: =ROUND(I108*H108,2) -> 0 | BL108: 4 | BM108: -1605011394
D109: Online PSC | F109: https://podminky.urs.cz/item/CS_URS_2026_01/183101122 | AT109: Online PSC | AU109: 2
D110: VV | F110: "přesazení stávajících stromů v ploše nových úprav dle PD" | AT110: VV | AU110: 2 | AV110: 1 | AW110: True | AX110: 0 | AY110: ROZPOCET
D111: VV | F111: "předpoklad" 2 | H111: 2 | AT111: VV | AU111: 2 | AV111: 2 | AW111: True | AX111: 0 | AY111: ROZPOCET
D112: VV | F112: Součet | H112: 2 | AT112: VV | AU112: 2 | AV112: 4 | AW112: True | AX112: 1 | AY112: ROZPOCET
C113: 5 | D113: K | E113: 184215133 | F113: Ukotvení dřeviny kůly v rovině nebo na svahu do 1:5 třemi kůly, délky přes 2 do 3 m | G113: kus | H113: 2 | J113: =ROUND(I113*H113,2) -> 0 | K113: CS ÚRS 2026 01 | N113: základní | P113: =O113*H113 -> 0 | Q113: 6e-05 | R113: =Q113*H113 -> 0.00012 | S113: 0 | T113: =S113*H113 -> 0 | AR113: 4 | AT113: K | AU113: 2 | AY113: ROZPOCET | BE113: =IF(N113="základní",J113,0) -> 0 | BF113: =IF(N113="snížená",J113,0) -> 0 | BG113: =IF(N113="zákl. přenesená",J113,0) -> 0 | BH113: =IF(N113="sníž. přenesená",J113,0) -> 0 | BI113: =IF(N113="nulová",J113,0) -> 0 | BJ113: 1 | BK113: =ROUND(I113*H113,2) -> 0 | BL113: 4 | BM113: 972011206
D114: Online PSC | F114: https://podminky.urs.cz/item/CS_URS_2026_01/184215133 | AT114: Online PSC | AU114: 2
D115: VV | F115: "přesazení stávajících stromů v ploše nových úprav dle PD" | AT115: VV | AU115: 2 | AV115: 1 | AW115: True | AX115: 0 | AY115: ROZPOCET
D116: VV | F116: "předpoklad" 2 | H116: 2 | AT116: VV | AU116: 2 | AV116: 2 | AW116: True | AX116: 0 | AY116: ROZPOCET
D117: VV | F117: Součet | H117: 2 | AT117: VV | AU117: 2 | AV117: 4 | AW117: True | AX117: 1 | AY117: ROZPOCET
C118: 6 | D118: M | E118: 60591257 | F118: kůl vyvazovací dřevěný impregnovaný D 8cm dl 3m | G118: kus | H118: 6 | J118: =ROUND(I118*H118,2) -> 0 | K118: CS ÚRS 2026 01 | N118: základní | P118: =O118*H118 -> 0 | Q118: 0.00709 | R118: =Q118*H118 -> 0.04254 | S118: 0 | T118: =S118*H118 -> 0 | AR118: 8 | AT118: M | AU118: 2 | AY118: ROZPOCET | BE118: =IF(N118="základní",J118,0) -> 0 | BF118: =IF(N118="snížená",J118,0) -> 0 | BG118: =IF(N118="zákl. přenesená",J118,0) -> 0 | BH118: =IF(N118="sníž. přenesená",J118,0) -> 0 | BI118: =IF(N118="nulová",J118,0) -> 0 | BJ118: 1 | BK118: =ROUND(I118*H118,2) -> 0 | BL118: 4 | BM118: -290723752
D119: VV | F119: "dodávka kůlů dle PD" | AT119: VV | AU119: 2 | AV119: 1 | AW119: True | AX119: 0 | AY119: ROZPOCET
D120: VV | F120: 2*3 | H120: 6 | AT120: VV | AU120: 2 | AV120: 2 | AW120: True | AX120: 0 | AY120: ROZPOCET
D121: VV | F121: Součet | H121: 6 | AT121: VV | AU121: 2 | AV121: 4 | AW121: True | AX121: 1 | AY121: ROZPOCET
C122: 7 | D122: M | E122: 605999558 | F122: Příčky ke kůlům | G122: kus | H122: 6 | J122: =ROUND(I122*H122,2) -> 0 | K122: vlastní | N122: základní | P122: =O122*H122 -> 0 | Q122: 0 | R122: =Q122*H122 -> 0 | S122: 0 | T122: =S122*H122 -> 0 | AR122: 8 | AT122: M | AU122: 2 | AY122: ROZPOCET | BE122: =IF(N122="základní",J122,0) -> 0 | BF122: =IF(N122="snížená",J122,0) -> 0 | BG122: =IF(N122="zákl. přenesená",J122,0) -> 0 | BH122: =IF(N122="sníž. přenesená",J122,0) -> 0 | BI122: =IF(N122="nulová",J122,0) -> 0 | BJ122: 1 | BK122: =ROUND(I122*H122,2) -> 0 | BL122: 4 | BM122: -1016488993
D123: VV | F123: 2*3 | H123: 6 | AT123: VV | AU123: 2 | AV123: 2 | AW123: True | AX123: 0 | AY123: ROZPOCET
D124: VV | F124: Součet | H124: 6 | AT124: VV | AU124: 2 | AV124: 4 | AW124: True | AX124: 1 | AY124: ROZPOCET
C125: 8 | D125: M | E125: 605999559 | F125: Popruh vyvazovací | G125: m | H125: 4 | J125: =ROUND(I125*H125,2) -> 0 | K125: vlastní | N125: základní | P125: =O125*H125 -> 0 | Q125: 0 | R125: =Q125*H125 -> 0 | S125: 0 | T125: =S125*H125 -> 0 | AR125: 8 | AT125: M | AU125: 2 | AY125: ROZPOCET | BE125: =IF(N125="základní",J125,0) -> 0 | BF125: =IF(N125="snížená",J125,0) -> 0 | BG125: =IF(N125="zákl. přenesená",J125,0) -> 0 | BH125: =IF(N125="sníž. přenesená",J125,0) -> 0 | BI125: =IF(N125="nulová",J125,0) -> 0 | BJ125: 1 | BK125: =ROUND(I125*H125,2) -> 0 | BL125: 4 | BM125: -1169381243
D126: VV | F126: 2*2,0 | H126: 4 | AT126: VV | AU126: 2 | AV126: 2 | AW126: True | AX126: 0 | AY126: ROZPOCET
D127: VV | F127: Součet | H127: 4 | AT127: VV | AU127: 2 | AV127: 4 | AW127: True | AX127: 1 | AY127: ROZPOCET
C128: 9 | D128: K | E128: 184401113 | F128: Příprava dřeviny k přesazení v rovině nebo na svahu do 1:5 s balem, při průměru balu přes 1 do 1,2 m | G128: kus | H128: 2 | J128: =ROUND(I128*H128,2) -> 0 | K128: CS ÚRS 2026 01 | N128: základní | P128: =O128*H128 -> 0 | Q128: 0 | R128: =Q128*H128 -> 0 | S128: 0 | T128: =S128*H128 -> 0 | AR128: 4 | AT128: K | AU128: 2 | AY128: ROZPOCET | BE128: =IF(N128="základní",J128,0) -> 0 | BF128: =IF(N128="snížená",J128,0) -> 0 | BG128: =IF(N128="zákl. přenesená",J128,0) -> 0 | BH128: =IF(N128="sníž. přenesená",J128,0) -> 0 | BI128: =IF(N128="nulová",J128,0) -> 0 | BJ128: 1 | BK128: =ROUND(I128*H128,2) -> 0 | BL128: 4 | BM128: 984244507
D129: Online PSC | F129: https://podminky.urs.cz/item/CS_URS_2026_01/184401113 | AT129: Online PSC | AU129: 2
D130: VV | F130: "přesazení stávajících stromů v ploše nových úprav dle PD" | AT130: VV | AU130: 2 | AV130: 1 | AW130: True | AX130: 0 | AY130: ROZPOCET
D131: VV | F131: "předpoklad" 2 | H131: 2 | AT131: VV | AU131: 2 | AV131: 2 | AW131: True | AX131: 0 | AY131: ROZPOCET
D132: VV | F132: Součet | H132: 2 | AT132: VV | AU132: 2 | AV132: 4 | AW132: True | AX132: 1 | AY132: ROZPOCET
C133: 10 | D133: K | E133: 184502116 | F133: Vyzvednutí dřeviny k přesazení s balem v rovině nebo na svahu do 1:5, při průměru balu přes 1000 do 1200 mm | G133: kus | H133: 2 | J133: =ROUND(I133*H133,2) -> 0 | K133: CS ÚRS 2026 01 | N133: základní | P133: =O133*H133 -> 0 | Q133: 0.00346 | R133: =Q133*H133 -> 0.00692 | S133: 0 | T133: =S133*H133 -> 0 | AR133: 4 | AT133: K | AU133: 2 | AY133: ROZPOCET | BE133: =IF(N133="základní",J133,0) -> 0 | BF133: =IF(N133="snížená",J133,0) -> 0 | BG133: =IF(N133="zákl. přenesená",J133,0) -> 0 | BH133: =IF(N133="sníž. přenesená",J133,0) -> 0 | BI133: =IF(N133="nulová",J133,0) -> 0 | BJ133: 1 | BK133: =ROUND(I133*H133,2) -> 0 | BL133: 4 | BM133: -2043776790
...

Sheet SO 901 - VRN
AT2: {01181896-6b1f-4fa7-a27c-2dae9f4c6158}
AT3: 2
D4: KRYCÍ LIST SOUPISU PRACÍ | M4: v --- níže se nacházejí doplnkové a pomocné údaje k sestavám --- v | AT4: False
D6: Stavba:
E7: ='Rekapitulace stavby'!K6 -> Hanušovice - Holba - rámcový rozpočet úprav oblasti
D8: Objekt:
E9: 900 - Volná řada objektů
D10: Soupis:
E11: SO 901 - VRN
D13: KSO: | I13: CC-CZ:
D14: Místo: | F14: k.ú. Hanušovice | I14: Datum: | J14: ='Rekapitulace stavby'!AN8 -> 4. 8. 2026
D16: Zadavatel: | I16: IČ: | J16: 00302546
E17: Město Hanušovice | I17: DIČ: | J17: CZ00302546
D19: Účastník: | I19: IČ: | J19: ='Rekapitulace stavby'!AN13 -> Vyplň údaj
E20: ='Rekapitulace stavby'!E14 -> Vyplň údaj | I20: DIČ: | J20: ='Rekapitulace stavby'!AN14 -> Vyplň údaj
D22: Projektant: | I22: IČ: | J22: 27821251
E23: Cekr CZ s.r.o. | I23: DIČ: | J23: CZ27821251
D25: Zpracovatel: | I25: IČ:
E26: Jan Zamykal, CS ÚRS 2026/I | I26: DIČ:
D28: Poznámka:
D32: Cena bez DPH | J32: =ROUND(J89, 2) -> 0
F34: Základ daně | I34: Sazba daně | J34: Výše daně
D35: DPH | E35: základní | F35: =ROUND((SUM(BE89:BE155)), 2) -> 0 | I35: 0.21 | J35: =ROUND(((SUM(BE89:BE155))*I35), 2) -> 0
E36: snížená | F36: =ROUND((SUM(BF89:BF155)), 2) -> 0 | I36: 0.12 | J36: =ROUND(((SUM(BF89:BF155))*I36), 2) -> 0
E37: zákl. přenesená | F37: =ROUND((SUM(BG89:BG155)), 2) -> 0 | I37: 0.21 | J37: =0 -> 0
E38: sníž. přenesená | F38: =ROUND((SUM(BH89:BH155)), 2) -> 0 | I38: 0.12 | J38: =0 -> 0
E39: nulová | F39: =ROUND((SUM(BI89:BI155)), 2) -> 0 | I39: 0 | J39: =0 -> 0
D41: Cena s DPH | G41: v | H41: CZK | J41: =SUM(J32:J39) -> 0
C47: REKAPITULACE ČLENĚNÍ SOUPISU PRACÍ
C49: Stavba:
E50: =E7 -> Hanušovice - Holba - rámcový rozpočet úprav oblasti
C51: Objekt:
E52: 900 - Volná řada objektů
C53: Soupis:
E54: =E11 -> SO 901 - VRN
C56: Místo: | F56: =F14 -> k.ú. Hanušovice | I56: Datum: | J56: =IF(J14="","",J14) -> 4. 8. 2026
C58: Zadavatel: | F58: =E17 -> Město Hanušovice | I58: Projektant: | J58: =E23 -> Cekr CZ s.r.o.
C59: Účastník: | F59: =IF(E20="","",E20) -> Vyplň údaj | I59: Zpracovatel: | J59: =E26 -> Jan Zamykal, CS ÚRS 2026/I
C61: Kód dílu - Popis | J61: Cena celkem [CZK]
C63: Náklady stavby celkem | J63: =J89 -> 0 | AU63: -1
D64: VRN - Vedlejší rozpočtové náklady | J64: =J90 -> 0
D65: VRN1 - Průzkumné, geodetické a projektové práce | J65: =J91 -> 0
D66: VRN4 - Inženýrská činnost | J66: =J129 -> 0
D67: VRN9 - Ostatní náklady | J67: =J145 -> 0
C74: SOUPIS PRACÍ
C76: Stavba:
E77: =E7 -> Hanušovice - Holba - rámcový rozpočet úprav oblasti
C78: Objekt:
E79: 900 - Volná řada objektů
C80: Soupis:
E81: =E11 -> SO 901 - VRN
C83: Místo: | F83: =F14 -> k.ú. Hanušovice | I83: Datum: | J83: =IF(J14="","",J14) -> 4. 8. 2026
C85: Zadavatel: | F85: =E17 -> Město Hanušovice | I85: Projektant: | J85: =E23 -> Cekr CZ s.r.o.
C86: Účastník: | F86: =IF(E20="","",E20) -> Vyplň údaj | I86: Zpracovatel: | J86: =E26 -> Jan Zamykal, CS ÚRS 2026/I
C88: PČ | D88: Typ | E88: Kód | F88: Popis | G88: MJ | H88: Množství | I88: J.cena [CZK] | J88: Cena celkem [CZK] | K88: Cenová soustava | N88: DPH | O88: J. Nh [h] | P88: Nh celkem [h] | Q88: J. hmotnost [t] | R88: Hmotnost celkem [t] | S88: J. suť [t] | T88: Suť Celkem [t]
C89: Náklady soupisu celkem | J89: =BK89 -> 0 | P89: =P90 -> 0 | R89: =R90 -> 0 | T89: =T90 -> 0 | AT89: D | AU89: -1 | BK89: =BK90 -> 0
D90: D | E90: VRN | F90: Vedlejší rozpočtové náklady | J90: =BK90 -> 0 | P90: =P91+P129+P145 -> 0 | R90: =R91+R129+R145 -> 0 | T90: =T91+T129+T145 -> 0 | AR90: 5 | AT90: D | AU90: 0 | AY90: ROZPOCET | BK90: =BK91+BK129+BK145 -> 0
D91: D | E91: VRN1 | F91: Průzkumné, geodetické a projektové práce | J91: =BK91 -> 0 | P91: =SUM(P92:P128) -> 0 | R91: =SUM(R92:R128) -> 0 | T91: =SUM(T92:T128) -> 0 | AR91: 5 | AT91: D | AU91: 1 | AY91: ROZPOCET | BK91: =SUM(BK92:BK128) -> 0
C92: 1 | D92: K | E92: 012103000 | F92: Geodetické práce před výstavbou | G92: soub | H92: 1 | J92: =ROUND(I92*H92,2) -> 0 | K92: CS ÚRS 2026 01 | N92: základní | P92: =O92*H92 -> 0 | Q92: 0 | R92: =Q92*H92 -> 0 | S92: 0 | T92: =S92*H92 -> 0 | AR92: 4 | AT92: K | AU92: 2 | AY92: ROZPOCET | BE92: =IF(N92="základní",J92,0) -> 0 | BF92: =IF(N92="snížená",J92,0) -> 0 | BG92: =IF(N92="zákl. přenesená",J92,0) -> 0 | BH92: =IF(N92="sníž. přenesená",J92,0) -> 0 | BI92: =IF(N92="nulová",J92,0) -> 0 | BJ92: 1 | BK92: =ROUND(I92*H92,2) -> 0 | BL92: 4 | BM92: -34924699
D93: Online PSC | F93: https://podminky.urs.cz/item/CS_URS_2026_01/012103000 | AT93: Online PSC | AU93: 2
D94: VV | F94: " vytýčení hlavních bodů stavby před zahájením stavby autorizovaným geodetem vč. vypracování TZ" | AT94: VV | AU94: 2 | AV94: 1 | AW94: True | AX94: 0 | AY94: ROZPOCET
D95: VV | F95: " včetně souřadnic a situace- ověřeno kulatým razítkem a dodatkem dle právních předpisů" | AT95: VV | AU95: 2 | AV95: 1 | AW95: True | AX95: 0 | AY95: ROZPOCET
D96: VV | F96: 1 | H96: 1 | AT96: VV | AU96: 2 | AV96: 2 | AW96: True | AX96: 0 | AY96: ROZPOCET
D97: VV | F97: Součet | H97: 1 | AT97: VV | AU97: 2 | AV97: 4 | AW97: True | AX97: 1 | AY97: ROZPOCET
C98: 2 | D98: K | E98: 012203000.A | F98: Geodetické práce při provádění stavby | G98: soub | H98: 1 | J98: =ROUND(I98*H98,2) -> 0 | K98: CS ÚRS 2026 01 | N98: základní | P98: =O98*H98 -> 0 | Q98: 0 | R98: =Q98*H98 -> 0 | S98: 0 | T98: =S98*H98 -> 0 | AR98: 4 | AT98: K | AU98: 2 | AY98: ROZPOCET | BE98: =IF(N98="základní",J98,0) -> 0 | BF98: =IF(N98="snížená",J98,0) -> 0 | BG98: =IF(N98="zákl. přenesená",J98,0) -> 0 | BH98: =IF(N98="sníž. přenesená",J98,0) -> 0 | BI98: =IF(N98="nulová",J98,0) -> 0 | BJ98: 1 | BK98: =ROUND(I98*H98,2) -> 0 | BL98: 4 | BM98: 2039650395
D99: Online PSC | F99: https://podminky.urs.cz/item/CS_URS_2026_01/012203000.A | AT99: Online PSC | AU99: 2
D100: VV | F100: " vytýčení obvodu a hranic staveniště, objektů stavby a pevných vytyčovacích bodů vč. fixace a obnovení zhotovitelem" | AT100: VV | AU100: 2 | AV100: 1 | AW100: True | AX100: 0 | AY100: ROZPOCET
D101: VV | F101: " vytýčení směrového a výškového řešení" | AT101: VV | AU101: 2 | AV101: 1 | AW101: True | AX101: 0 | AY101: ROZPOCET
D102: VV | F102: " vyhotovení dokumentace v listinné a digitální podobě" | AT102: VV | AU102: 2 | AV102: 1 | AW102: True | AX102: 0 | AY102: ROZPOCET
D103: VV | F103: 1 | H103: 1 | AT103: VV | AU103: 2 | AV103: 2 | AW103: True | AX103: 0 | AY103: ROZPOCET
D104: VV | F104: Součet | H104: 1 | AT104: VV | AU104: 2 | AV104: 4 | AW104: True | AX104: 1 | AY104: ROZPOCET
C105: 4 | D105: K | E105: 012303000 | F105: Geodetické práce po výstavbě | G105: soub | H105: 1 | J105: =ROUND(I105*H105,2) -> 0 | K105: CS ÚRS 2026 01 | N105: základní | P105: =O105*H105 -> 0 | Q105: 0 | R105: =Q105*H105 -> 0 | S105: 0 | T105: =S105*H105 -> 0 | AR105: 4 | AT105: K | AU105: 2 | AY105: ROZPOCET | BE105: =IF(N105="základní",J105,0) -> 0 | BF105: =IF(N105="snížená",J105,0) -> 0 | BG105: =IF(N105="zákl. přenesená",J105,0) -> 0 | BH105: =IF(N105="sníž. přenesená",J105,0) -> 0 | BI105: =IF(N105="nulová",J105,0) -> 0 | BJ105: 1 | BK105: =ROUND(I105*H105,2) -> 0 | BL105: 4 | BM105: -82461867
D106: Online PSC | F106: https://podminky.urs.cz/item/CS_URS_2026_01/012303000 | AT106: Online PSC | AU106: 2
D107: P | F107: Poznámka k položce:_x000D_ Poznámka k položce: !!!Zpracování podkladu pro vyrovnání majetkoprávních vztáhů (oddělovací GP, zpřesnění hranic pozemků atd.)!!! | AT107: P | AU107: 2
D108: VV | F108: "geodetické zaměření skuteč.provedení stavby vč. vypracování geometrického plánu" | AT108: VV | AU108: 2 | AV108: 1 | AW108: True | AX108: 0 | AY108: ROZPOCET
D109: VV | F109: "!!!Zpracování podkladu pro vyrovnání majetkoprávních vztáhů (oddělovací GP, zpřesnění hranic pozemků atd.)!!!" | AT109: VV | AU109: 2 | AV109: 1 | AW109: True | AX109: 0 | AY109: ROZPOCET
D110: VV | F110: 1 | H110: 1 | AT110: VV | AU110: 2 | AV110: 2 | AW110: True | AX110: 0 | AY110: ROZPOCET
D111: VV | F111: Součet | H111: 1 | AT111: VV | AU111: 2 | AV111: 4 | AW111: True | AX111: 1 | AY111: ROZPOCET
C112: 5 | D112: K | E112: 013244000 | F112: Dokumentace pro provádění stavby | G112: soub | H112: 1 | J112: =ROUND(I112*H112,2) -> 0 | K112: CS ÚRS 2026 01 | N112: základní | P112: =O112*H112 -> 0 | Q112: 0 | R112: =Q112*H112 -> 0 | S112: 0 | T112: =S112*H112 -> 0 | AR112: 4 | AT112: K | AU112: 2 | AY112: ROZPOCET | BE112: =IF(N112="základní",J112,0) -> 0 | BF112: =IF(N112="snížená",J112,0) -> 0 | BG112: =IF(N112="zákl. přenesená",J112,0) -> 0 | BH112: =IF(N112="sníž. přenesená",J112,0) -> 0 | BI112: =IF(N112="nulová",J112,0) -> 0 | BJ112: 1 | BK112: =ROUND(I112*H112,2) -> 0 | BL112: 4 | BM112: -60771888
D113: Online PSC | F113: https://podminky.urs.cz/item/CS_URS_2026_01/013244000 | AT113: Online PSC | AU113: 2
D114: P | F114: Poznámka k položce:_x000D_ Poznámka k položce: !!!Vypracování RDS dle podmínek a pravidel SSOK. Nutno před zahájením prací předložit k projednání a odsouhlasení!!! | AT114: P | AU114: 2
D115: VV | F115: "realizační dokumentace stavby - RDS" | AT115: VV | AU115: 2 | AV115: 1 | AW115: True | AX115: 0 | AY115: ROZPOCET
D116: VV | F116: "RDS řeší podrobnosti konstrukcí, zhotovovacích prací, montážních prací a detailní postupy dle konkrétního zhotovitele" | AT116: VV | AU116: 2 | AV116: 1 | AW116: True | AX116: 0 | AY116: ROZPOCET
D117: VV | F117: 1 | H117: 1 | AT117: VV | AU117: 2 | AV117: 2 | AW117: True | AX117: 0 | AY117: ROZPOCET
D118: VV | F118: Součet | H118: 1 | AT118: VV | AU118: 2 | AV118: 4 | AW118: True | AX118: 1 | AY118: ROZPOCET
C119: 6 | D119: K | E119: 013254000 | F119: Dokumentace skutečného provedení stavby | G119: kus | H119: 1 | J119: =ROUND(I119*H119,2) -> 0 | K119: CS ÚRS 2026 01 | N119: základní | P119: =O119*H119 -> 0 | Q119: 0 | R119: =Q119*H119 -> 0 | S119: 0 | T119: =S119*H119 -> 0 | AR119: 4 | AT119: K | AU119: 2 | AY119: ROZPOCET | BE119: =IF(N119="základní",J119,0) -> 0 | BF119: =IF(N119="snížená",J119,0) -> 0 | BG119: =IF(N119="zákl. přenesená",J119,0) -> 0 | BH119: =IF(N119="sníž. přenesená",J119,0) -> 0 | BI119: =IF(N119="nulová",J119,0) -> 0 | BJ119: 1 | BK119: =ROUND(I119*H119,2) -> 0 | BL119: 4 | BM119: 758183455
D120: Online PSC | F120: https://podminky.urs.cz/item/CS_URS_2026_01/013254000 | AT120: Online PSC | AU120: 2
D121: VV | F121: "dokumentace skutečného provedení stavby - DSPS" | AT121: VV | AU121: 2 | AV121: 1 | AW121: True | AX121: 0 | AY121: ROZPOCET
D122: VV | F122: 1 | H122: 1 | AT122: VV | AU122: 2 | AV122: 2 | AW122: True | AX122: 0 | AY122: ROZPOCET
D123: VV | F123: Součet | H123: 1 | AT123: VV | AU123: 2 | AV123: 4 | AW123: True | AX123: 1 | AY123: ROZPOCET
C124: 7 | D124: K | E124: 013294000 | F124: Ostatní dokumentace | G124: soub | H124: 1 | J124: =ROUND(I124*H124,2) -> 0 | K124: CS ÚRS 2026 01 | N124: základní | P124: =O124*H124 -> 0 | Q124: 0 | R124: =Q124*H124 -> 0 | S124: 0 | T124: =S124*H124 -> 0 | AR124: 4 | AT124: K | AU124: 2 | AY124: ROZPOCET | BE124: =IF(N124="základní",J124,0) -> 0 | BF124: =IF(N124="snížená",J124,0) -> 0 | BG124: =IF(N124="zákl. přenesená",J124,0) -> 0 | BH124: =IF(N124="sníž. přenesená",J124,0) -> 0 | BI124: =IF(N124="nulová",J124,0) -> 0 | BJ124: 1 | BK124: =ROUND(I124*H124,2) -> 0 | BL124: 4 | BM124: -1973742652
D125: Online PSC | F125: https://podminky.urs.cz/item/CS_URS_2026_01/013294000 | AT125: Online PSC | AU125: 2
D126: VV | F126: "aktualizace vyjádření k existenci inženýrských sítí, pokud do doby zahájení stavby pozbyly platnosti" | AT126: VV | AU126: 2 | AV126: 1 | AW126: True | AX126: 0 | AY126: ROZPOCET
D127: VV | F127: 1 | H127: 1 | AT127: VV | AU127: 2 | AV127: 2 | AW127: True | AX127: 0 | AY127: ROZPOCET
D128: VV | F128: Součet | H128: 1 | AT128: VV | AU128: 2 | AV128: 4 | AW128: True | AX128: 1 | AY128: ROZPOCET
D129: D | E129: VRN4 | F129: Inženýrská činnost | J129: =BK129 -> 0 | P129: =SUM(P130:P144) -> 0 | R129: =SUM(R130:R144) -> 0 | T129: =SUM(T130:T144) -> 0 | AR129: 5 | AT129: D | AU129: 1 | AY129: ROZPOCET | BK129: =SUM(BK130:BK144) -> 0
C130: 8 | D130: K | E130: 042903000 | F130: Ostatní posudky | G130: soub | H130: 1 | J130: =ROUND(I130*H130,2) -> 0 | K130: CS ÚRS 2026 01 | N130: základní | P130: =O130*H130 -> 0 | Q130: 0 | R130: =Q130*H130 -> 0 | S130: 0 | T130: =S130*H130 -> 0 | AR130: 4 | AT130: K | AU130: 2 | AY130: ROZPOCET | BE130: =IF(N130="základní",J130,0) -> 0 | BF130: =IF(N130="snížená",J130,0) -> 0 | BG130: =IF(N130="zákl. přenesená",J130,0) -> 0 | BH130: =IF(N130="sníž. přenesená",J130,0) -> 0 | BI130: =IF(N130="nulová",J130,0) -> 0 | BJ130: 1 | BK130: =ROUND(I130*H130,2) -> 0 | BL130: 4 | BM130: 644776745
D131: Online PSC | F131: https://podminky.urs.cz/item/CS_URS_2026_01/042903000 | AT131: Online PSC | AU131: 2
D132: VV | F132: "laboratorní rozbory - výluhy sypaniny, výkopku" | AT132: VV | AU132: 2 | AV132: 1 | AW132: True | AX132: 0 | AY132: ROZPOCET
D133: VV | F133: 1 | H133: 1 | AT133: VV | AU133: 2 | AV133: 2 | AW133: True | AX133: 0 | AY133: ROZPOCET
...

Sheet Pokyny pro vyplnění
C3: Struktura údajů, formát souboru a metodika pro zpracování
C4: Struktura
C6: Soubor je složen ze záložky Rekapitulace stavby a záložek s názvem soupisu prací pro jednotlivé objekty ve formátu XLSX. Každá ze záložek přitom obsahuje
C7: ještě samostatné sestavy vymezené orámovaním a nadpisem sestavy.
C9: Rekapitulace stavby obsahuje sestavu Rekapitulace stavby a Rekapitulace objektů stavby a soupisů prací.
D10: V sestavě Rekapitulace stavby jsou uvedeny informace identifikující předmět veřejné zakázky na stavební práce, KSO, CC-CZ, CZ-CPV, CZ-CPA a rekapitulaci
D11: celkové nabídkové ceny účastníka.
D13: Termínem "učastník" (resp. zhotovitel) se myslí "účastník zadávacího řízení" ve smyslu zákona o zadávání veřejných zakázek.
D15: V sestavě Rekapitulace objektů stavby a soupisů prací je uvedena rekapitulace stavebních objektů, inženýrských objektů, provozních souborů,
D16: vedlejších a ostatních nákladů a ostatních nákladů s rekapitulací nabídkové ceny za jednotlivé soupisy prací. Na základě údaje Typ je možné
D17: identifikovat, zda se jedná o objekt nebo soupis prací pro daný objekt:
E18: STA | F18: Stavební objekt pozemní
E19: ING | F19: Stavební objekt inženýrský
E20: PRO | F20: Provozní soubor
E21: VON | F21: Vedlejší a ostatní náklady
E22: OST | F22: Ostatní
E23: Soupis | F23: Soupis prací pro daný typ objektu
C25: Soupis prací pro jednotlivé objekty obsahuje sestavy Krycí list soupisu prací, Rekapitulace členění soupisu prací, Soupis prací. Za soupis prací může být považován
C26: i objekt stavby v případě, že neobsahuje podřízenou zakázku.
D27: Krycí list soupisu obsahuje rekapitulaci informací o předmětu veřejné zakázky ze sestavy Rekapitulace stavby, informaci o zařazení objektu do KSO,
D28: CC-CZ, CZ-CPV, CZ-CPA a rekapitulaci celkové nabídkové ceny účastníka za aktuální soupis prací.
D30: Rekapitulace členění soupisu prací obsahuje rekapitulaci soupisu prací ve všech úrovních členění soupisu tak, jak byla tato členění použita (např.
D31: stavební díly, funkční díly, případně jiné členění) s rekapitulací nabídkové ceny.
D33: Soupis prací obsahuje položky veškerých stavebních nebo montážních prací, dodávek materiálů a služeb nezbytných pro zhotovení stavebního objektu,
D34: inženýrského objektu, provozního souboru, vedlejších a ostatních nákladů.
D35: Pro položky soupisu prací se zobrazují následující informace:
E36: PČ | G36: Pořadové číslo položky v aktuálním soupisu
E37: TYP | G37: Typ položky: K - konstrukce, M - materiál, PP - plný popis, PSC - poznámka k souboru cen, P - poznámka k položce, VV - výkaz výměr, FIG - rozpad figur
E38: Kód | G38: Kód položky
E39: Popis | G39: Zkrácený popis položky
E40: MJ | G40: Měrná jednotka položky
E41: Množství | G41: Množství v měrné jednotce
E42: J.cena | G42: Jednotková cena položky. Zadaní může obsahovat namísto J.ceny sloupce J.materiál a J.montáž, jejichž součet definuje
G43: J.cenu položky.
E44: Cena celkem | G44: Celková cena položky daná jako součin množství a j.ceny
E45: Cenová soustava | G45: Příslušnost položky do cenové soustavy
D47: Ke každé položce soupisu prací se na samostatných řádcích může zobrazovat:
E48: Plný popis položky
E49: Poznámka k souboru cen a poznámka zadavatele
E50: Výkaz výměr
D51: Pokud je k řádku výkazu výměr evidovaný údaj ve sloupci Kód, jedná se o definovaný odkaz, na který se může odvolávat výkaz výměr z jiné položky.
C52: Metodika pro zpracování
C54: Jednotlivé sestavy jsou v souboru provázány. Editovatelné pole jsou zvýrazněny žlutým podbarvením, ostatní pole neslouží k editaci a nesmí být jakkoliv
C55: modifikovány.
C57: Účastník je pro podání nabídky povinen vyplnit žlutě podbarvená pole:
D58: Pole Účastník v sestavě Rekapitulace stavby - zde účastník vyplní svůj název (název subjektu)
D59: Pole IČ a DIČ v sestavě Rekapitulace stavby - zde účastník vyplní svoje IČ a DIČ
D60: Datum v sestavě Rekapitulace stavby - zde účastník vyplní datum vytvoření nabídky
D61: J.cena = jednotková cena v sestavě Soupis prací o maximálním počtu desetinných míst uvedených v poli
D62: - pokud sestavy soupisů prací obsahují pole J.cena, měla by být všechna tato pole vyplněna nenulovými
D63: Poznámka - nepovinný údaj pro položku soupisu
D65: V případě, že sestavy soupisů prací neobsahují pole J.cena, potom ve všech soupisech prací obsahují pole:
D66: - J.materiál - jednotková cena materiálu
D67: - J.montáž - jednotková cena montáže
D68: Účastník v tomto případě by měl vyplnit všechna pole J.materiál a pole J.montáž nenulovými kladnými číslicemi. V případech, kdy položka
D69: neobsahuje žádný materiál je přípustné, aby pole J.materiál bylo vyplněno nulou. V případech, kdy položka neobsahuje žádnou montáž je přípustné,
D70: aby pole J.montáž bylo vyplněno nulou. Obě pole - J.materiál, J.Montáž u jedné položky by však neměly být vyplněny nulou.
C75: Rekapitulace stavby
C76: Název | F76: Povinný | H76: Popis | I76: Typ | J76: Max. počet
C77: atributu | F77: (A/N) | J77: znaků
C79: Kód | F79: A | H79: Kód stavby | I79: String | J79: 20
C80: Stavba | F80: A | H80: Název stavby | I80: String | J80: 120
C81: Místo | F81: N | H81: Místo stavby | I81: String | J81: 50
C82: Datum | F82: A | H82: Datum vykonaného exportu | I82: Date
C83: KSO | F83: N | H83: Klasifikace stavebního objektu | I83: String | J83: 15
C84: CC-CZ | F84: N | H84: Klasifikace stavbeních děl | I84: String | J84: 15
C85: CZ-CPV | F85: N | H85: Společný slovník pro veřejné zakázky | I85: String | J85: 20
C86: CZ-CPA | F86: N | H86: Klasifikace produkce podle činností | I86: String | J86: 20
C87: Zadavatel | F87: N | H87: Zadavatel zadaní | I87: String | J87: 50
C88: IČ | F88: N | H88: IČ zadavatele zadaní | I88: String | J88: 20
C89: DIČ | F89: N | H89: DIČ zadavatele zadaní | I89: String | J89: 20
C90: Účastník | F90: N | H90: Účastník veřejné zakázky | I90: String | J90: 50
C91: Projektant | F91: N | H91: Projektant | I91: String | J91: 50
C92: Poznámka | F92: N | H92: Poznámka k zadání | I92: String | J92: 255
C93: Sazba DPH | F93: A | H93: Rekapitulace sazeb DPH u položek soupisů | I93: eGSazbaDph
C94: Základna DPH | F94: A | H94: Základna DPH určena součtem celkové ceny z položek soupisů | I94: Double
C95: Hodnota DPH | F95: A | H95: Hodnota DPH | I95: Double
C96: Cena bez DPH | F96: A | H96: Celková cena bez DPH za celou stavbu. Sčítává se ze všech listů. | I96: Double
C97: Cena s DPH | F97: A | H97: Celková cena s DPH za celou stavbu | I97: Double
C102: Rekapitulace objektů stavby a soupisů prací
C103: Název | F103: Povinný | H103: Popis | I103: Typ | J103: Max. počet
C104: atributu | F104: (A/N) | J104: znaků
C106: Kód | F106: A | H106: Přebírá se z Rekapitulace stavby | I106: String | J106: 20
C107: Stavba | F107: A | H107: Přebírá se z Rekapitulace stavby | I107: String | J107: 120
C108: Místo | F108: N | H108: Přebírá se z Rekapitulace stavby | I108: String | J108: 50
C109: Datum | F109: A | H109: Přebírá se z Rekapitulace stavby | I109: Date
C110: Zadavatel | F110: N | H110: Přebírá se z Rekapitulace stavby | I110: String | J110: 50
C111: Projektant | F111: N | H111: Přebírá se z Rekapitulace stavby | I111: String | J111: 50
C112: Účastník | F112: N | H112: Přebírá se z Rekapitulace stavby | I112: String | J112: 50
C113: Kód | F113: A | H113: Kód objektu | I113: String | J113: 20
C114: Objektu, Soupis prací | F114: A | H114: Název objektu | I114: String | J114: 120
C115: Cena bez DPH | F115: A | H115: Cena bez DPH za daný objekt | I115: Double
C116: Cena s DPH | F116: A | H116: Cena spolu s DPH za daný objekt | I116: Double
C117: Typ | F117: A | H117: Typ zakázky | I117: eGTypZakazky
C122: Krycí list soupisu
C123: Název | F123: Povinný | H123: Popis | I123: Typ | J123: Max. počet
C124: atributu | F124: (A/N) | J124: znaků
C126: Stavba | F126: A | H126: Přebírá se z Rekapitulace stavby | I126: String | J126: 120
C127: Objekt | F127: A | H127: Kód a název objektu | I127: String | J127: 20 + 120
C128: Soupis | F128: A | H128: Kód a název soupisu | I128: String | J128: 20 + 120
...
