Workbook

Sheet Rekapitulace stavby
A1: Export Komplet | AZ1: VZ | BA1: 2.0 | BB1: ZAMOK | BT1: False | BU1: False | BV1: {5bad87a3-ad83-448b-bb67-bc5dc6202ef8}
BS2: 0,01 | BT2: 21
BS3: 0,01 | BT3: 12
D4: REKAPITULACE STAVBY | AS4: v --- níže se nacházejí doplnkové a pomocné údaje k sestavám --- v | BE4: Návod na vyplnění | BS4: 0,001
D5: Kód: | K5: 1247-26/tp-P | BE5: Měnit lze pouze buňky se žlutým podbarvením!_x000D_ _x000D_ 1) v Rekapitulaci stavby vyplňte údaje o Účastníkovi (přenesou se do ostatních sestav i v jiných listech)_x000D_ _x000D_ 2) na vybraných listech vyplňte v sestavě Soupis prací ceny u položek | BS5: 0,01
D6: Stavba: | K6: Hanušovice - Holba - rámcový rozpočet úprav oblasti | BS6: 0,01
D7: KSO: | AK7: CC-CZ: | BS7: 0,01
D8: Místo: | K8: k.ú. Hanušovice | AK8: Datum: | AN8: 4. 8. 2026 | BS8: 0,01
BS9: 0,01
D10: Zadavatel: | AK10: IČ: | AN10: 00302546 | BS10: 0,01
E11: Město Hanušovice | AK11: DIČ: | AN11: CZ00302546 | BS11: 0,01
BS12: 0,01
D13: Účastník: | AK13: IČ: | AN13: Vyplň údaj | BS13: 0,01
E14: Vyplň údaj | AK14: DIČ: | AN14: Vyplň údaj | BS14: 0,01
BS15: False
D16: Projektant: | AK16: IČ: | AN16: 27821251 | BS16: False
E17: Cekr CZ s.r.o. | AK17: DIČ: | AN17: CZ27821251 | BS17: True
BS18: 0,01
D19: Zpracovatel: | AK19: IČ: | BS19: 0,01
E20: Jan Zamykal, CS ÚRS 2026/I | AK20: DIČ: | BS20: False
D22: Poznámka:
E23: Soupis prací je sestaven s využitím Cenové soustavy ÚRS. Položky, které pochází z této cenové soustavy, jsou ve sloupci 'Cenová soustava' označeny popisem 'CS ÚRS' a úrovní příslušného kalendářního pololetí. Veškeré další informace vymezující popis a podmínky použití těchto položek z Cenové soustavy, které nejsou uvedeny přímo v soupisu prací, jsou neomezeně dálkově k dispozici na webu podminky.urs.cz.
D26: Cena bez DPH | AK26: =ROUND(AG54,2) -> 0
L28: Sazba daně | W28: Základ daně | AK28: Výše daně
D29: DPH | F29: základní | L29: 0.21 | W29: =ROUND(AZ54, 2) -> 0 | AK29: =ROUND(AV54, 2) -> 0
F30: snížená | L30: 0.12 | W30: =ROUND(BA54, 2) -> 0 | AK30: =ROUND(AW54, 2) -> 0
F31: zákl. přenesená | L31: 0.21 | W31: =ROUND(BB54, 2) -> 0 | AK31: 0
F32: sníž. přenesená | L32: 0.12 | W32: =ROUND(BC54, 2) -> 0 | AK32: 0
F33: nulová | L33: 0 | W33: =ROUND(BD54, 2) -> 0 | AK33: 0
D35: Cena s DPH | T35: v | X35: CZK | AK35: =SUM(AK26:AK33) -> 0
C42: REKAPITULACE OBJEKTŮ STAVBY A SOUPISŮ PRACÍ
C44: Kód: | L44: =K5 -> 1247-26/tp-P
C45: Stavba: | L45: =K6 -> Hanušovice - Holba - rámcový rozpočet úprav oblasti
C47: Místo: | L47: =IF(K8="","",K8) -> k.ú. Hanušovice | AI47: Datum: | AM47: =IF(AN8= "","",AN8) -> 4. 8. 2026
C49: Zadavatel: | L49: =IF(E11= "","",E11) -> Město Hanušovice | AI49: Projektant: | AM49: =IF(E17="","",E17) -> Cekr CZ s.r.o. | AS49: Informatívní údaje z listů zakázek
C50: Účastník: | L50: =IF(E14= "Vyplň údaj","",E14) | AI50: Zpracovatel: | AM50: =IF(E20="","",E20) -> Jan Zamykal, CS ÚRS 2026/I
C52: Kód | I52: Popis | AG52: Cena bez DPH [CZK] | AN52: Cena s DPH [CZK] | AQ52: Typ | AS52: z toho Ostat._x000D_ náklady [CZK] | AT52: DPH [CZK] | AU52: Normohodiny [h] | AV52: DPH základní [CZK] | AW52: DPH snížená [CZK] | AX52: DPH základní přenesená_x000D_ [CZK] | AY52: DPH snížená přenesená_x000D_ [CZK] | AZ52: Základna_x000D_ DPH základní | BA52: Základna_x000D_ DPH snížená | BB52: Základna_x000D_ DPH zákl. přenesená | BC52: Základna_x000D_ DPH sníž. přenesená | BD52: Základna_x000D_ DPH nulová
C54: Náklady stavby celkem | AG54: =ROUND(AG55+AG57+AG69+AG71,2) -> 0 | AN54: =SUM(AG54,AT54) -> 0 | AS54: =ROUND(AS55+AS57+AS69+AS71,2) -> 0 | AT54: =ROUND(SUM(AV54:AW54),2) -> 0 | AU54: =ROUND(AU55+AU57+AU69+AU71,5) -> 0 | AV54: =ROUND(AZ54*L29,2) -> 0 | AW54: =ROUND(BA54*L30,2) -> 0 | AX54: =ROUND(BB54*L29,2) -> 0 | AY54: =ROUND(BC54*L30,2) -> 0 | AZ54: =ROUND(AZ55+AZ57+AZ69+AZ71,2) -> 0 | BA54: =ROUND(BA55+BA57+BA69+BA71,2) -> 0 | BB54: =ROUND(BB55+BB57+BB69+BB71,2) -> 0 | BC54: =ROUND(BC55+BC57+BC69+BC71,2) -> 0 | BD54: =ROUND(BD55+BD57+BD69+BD71,2) -> 0 | BS54: D | BT54: 0 | BU54: ###NOIMPORT### | BV54: IMPORT | BW54: {5bad87a3-ad83-448b-bb67-bc5dc6202ef8} | BX54: {00000000-0000-0000-0000-000000000000}
D55: 000 | J55: Objekty přípravy staveniště | AG55: =ROUND(AG56,2) -> 0 | AN55: =SUM(AG55,AT55) -> 0 | AQ55: STA | AS55: =ROUND(AS56,2) -> 0 | AT55: =ROUND(SUM(AV55:AW55),2) -> 0 | AU55: =ROUND(AU56,5) -> 0 | AV55: =ROUND(AZ55*L29,2) -> 0 | AW55: =ROUND(BA55*L30,2) -> 0 | AX55: =ROUND(BB55*L29,2) -> 0 | AY55: =ROUND(BC55*L30,2) -> 0 | AZ55: =ROUND(AZ56,2) -> 0 | BA55: =ROUND(BA56,2) -> 0 | BB55: =ROUND(BB56,2) -> 0 | BC55: =ROUND(BC56,2) -> 0 | BD55: =ROUND(BD56,2) -> 0 | BS55: D | BT55: 1 | BU55: ###NOIMPORT### | BV55: IMPORT | BW55: {2deec942-6563-4c7d-8ab9-e29e64106373} | BX55: {5bad87a3-ad83-448b-bb67-bc5dc6202ef8} | CM55: 2
A56: / | E56: SO 001 | K56: Příprava staveniště, demolice - vnitroblok | AG56: ='SO 001 - Příprava staveni...'!J32 -> 0 | AN56: =SUM(AG56,AT56) -> 0 | AQ56: Soupis | AS56: 0 | AT56: =ROUND(SUM(AV56:AW56),2) -> 0 | AU56: ='SO 001 - Příprava staveni...'!P90 -> 0 | AV56: ='SO 001 - Příprava staveni...'!J35 -> 0 | AW56: ='SO 001 - Příprava staveni...'!J36 -> 0 | AX56: ='SO 001 - Příprava staveni...'!J37 -> 0 | AY56: ='SO 001 - Příprava staveni...'!J38 -> 0 | AZ56: ='SO 001 - Příprava staveni...'!F35 -> 0 | BA56: ='SO 001 - Příprava staveni...'!F36 -> 0 | BB56: ='SO 001 - Příprava staveni...'!F37 -> 0 | BC56: ='SO 001 - Příprava staveni...'!F38 -> 0 | BD56: ='SO 001 - Příprava staveni...'!F39 -> 0 | BT56: 2 | BV56: IMPORT | BW56: {d59b99a8-548d-4606-b1f8-436dda4c39e7} | BX56: {2deec942-6563-4c7d-8ab9-e29e64106373}
...

Sheet SO 001 - Příprava staveni...
AT2: {d59b99a8-548d-4606-b1f8-436dda4c39e7}
AT3: 2
D4: KRYCÍ LIST SOUPISU PRACÍ | M4: v --- níže se nacházejí doplnkové a pomocné údaje k sestavám --- v | AT4: False
D6: Stavba:
E7: ='Rekapitulace stavby'!K6 -> Hanušovice - Holba - rámcový rozpočet úprav oblasti
D8: Objekt:
E9: 000 - Objekty přípravy staveniště
D10: Soupis:
E11: SO 001 - Příprava staveniště, demolice - vnitroblok
D13: KSO: | I13: CC-CZ:
D14: Místo: | F14: k.ú. Hanušovice | I14: Datum: | J14: ='Rekapitulace stavby'!AN8 -> 4. 8. 2026
D16: Zadavatel: | I16: IČ: | J16: 00302546
E17: Město Hanušovice | I17: DIČ: | J17: CZ00302546
D19: Účastník: | I19: IČ: | J19: ='Rekapitulace stavby'!AN13 -> Vyplň údaj
E20: ='Rekapitulace stavby'!E14 -> Vyplň údaj | I20: DIČ: | J20: ='Rekapitulace stavby'!AN14 -> Vyplň údaj
D22: Projektant: | I22: IČ: | J22: 27821251
E23: Cekr CZ s.r.o. | I23: DIČ: | J23: CZ27821251
D25: Zpracovatel: | I25: IČ:
E26: Jan Zamykal, CS ÚRS 2026/I | I26: DIČ:
D28: Poznámka:
D32: Cena bez DPH | J32: =ROUND(J90, 2) -> 0
F34: Základ daně | I34: Sazba daně | J34: Výše daně
D35: DPH | E35: základní | F35: =ROUND((SUM(BE90:BE274)), 2) -> 0 | I35: 0.21 | J35: =ROUND(((SUM(BE90:BE274))*I35), 2) -> 0
E36: snížená | F36: =ROUND((SUM(BF90:BF274)), 2) -> 0 | I36: 0.12 | J36: =ROUND(((SUM(BF90:BF274))*I36), 2) -> 0
E37: zákl. přenesená | F37: =ROUND((SUM(BG90:BG274)), 2) -> 0 | I37: 0.21 | J37: =0 -> 0
E38: sníž. přenesená | F38: =ROUND((SUM(BH90:BH274)), 2) -> 0 | I38: 0.12 | J38: =0 -> 0
E39: nulová | F39: =ROUND((SUM(BI90:BI274)), 2) -> 0 | I39: 0 | J39: =0 -> 0
D41: Cena s DPH | G41: v | H41: CZK | J41: =SUM(J32:J39) -> 0
C47: REKAPITULACE ČLENĚNÍ SOUPISU PRACÍ
C49: Stavba:
E50: =E7 -> Hanušovice - Holba - rámcový rozpočet úprav oblasti
C51: Objekt:
E52: 000 - Objekty přípravy staveniště
C53: Soupis:
E54: =E11 -> SO 001 - Příprava staveniště, demolice - vnitroblok
C56: Místo: | F56: =F14 -> k.ú. Hanušovice | I56: Datum: | J56: =IF(J14="","",J14) -> 4. 8. 2026
C58: Zadavatel: | F58: =E17 -> Město Hanušovice | I58: Projektant: | J58: =E23 -> Cekr CZ s.r.o.
C59: Účastník: | F59: =IF(E20="","",E20) -> Vyplň údaj | I59: Zpracovatel: | J59: =E26 -> Jan Zamykal, CS ÚRS 2026/I
C61: Kód dílu - Popis | J61: Cena celkem [CZK]
C63: Náklady stavby celkem | J63: =J90 -> 0 | AU63: -1
...

Sheet SO 101 - Komunikace vozid...
AT2: {1ecbe3f3-69db-4de6-906f-b8ae858e51ed}
AT3: 2
D4: KRYCÍ LIST SOUPISU PRACÍ | M4: v --- níže se nacházejí doplnkové a pomocné údaje k sestavám --- v | AT4: False
D6: Stavba:
E7: ='Rekapitulace stavby'!K6 -> Hanušovice - Holba - rámcový rozpočet úprav oblasti
D8: Objekt:
E9: 100 - Komunikace
D10: Soupis:
E11: SO 101 - Komunikace vozidlová - MK 26c
D13: KSO: | I13: CC-CZ:
D14: Místo: | F14: k.ú. Hanušovice | I14: Datum: | J14: ='Rekapitulace stavby'!AN8 -> 4. 8. 2026
D16: Zadavatel: | I16: IČ: | J16: 00302546
E17: Město Hanušovice | I17: DIČ: | J17: CZ00302546
D19: Účastník: | I19: IČ: | J19: ='Rekapitulace stavby'!AN13 -> Vyplň údaj
E20: ='Rekapitulace stavby'!E14 -> Vyplň údaj | I20: DIČ: | J20: ='Rekapitulace stavby'!AN14 -> Vyplň údaj
D22: Projektant: | I22: IČ: | J22: 27821251
E23: Cekr CZ s.r.o. | I23: DIČ: | J23: CZ27821251
D25: Zpracovatel: | I25: IČ:
E26: Jan Zamykal, CS ÚRS 2026/I | I26: DIČ:
D28: Poznámka:
D32: Cena bez DPH | J32: =ROUND(J91, 2) -> 0
F34: Základ daně | I34: Sazba daně | J34: Výše daně
D35: DPH | E35: základní | F35: =ROUND((SUM(BE91:BE211)), 2) -> 0 | I35: 0.21 | J35: =ROUND(((SUM(BE91:BE211))*I35), 2) -> 0
E36: snížená | F36: =ROUND((SUM(BF91:BF211)), 2) -> 0 | I36: 0.12 | J36: =ROUND(((SUM(BF91:BF211))*I36), 2) -> 0
E37: zákl. přenesená | F37: =ROUND((SUM(BG91:BG211)), 2) -> 0 | I37: 0.21 | J37: =0 -> 0
E38: sníž. přenesená | F38: =ROUND((SUM(BH91:BH211)), 2) -> 0 | I38: 0.12 | J38: =0 -> 0
E39: nulová | F39: =ROUND((SUM(BI91:BI211)), 2) -> 0 | I39: 0 | J39: =0 -> 0
D41: Cena s DPH | G41: v | H41: CZK | J41: =SUM(J32:J39) -> 0
C47: REKAPITULACE ČLENĚNÍ SOUPISU PRACÍ
C49: Stavba:
E50: =E7 -> Hanušovice - Holba - rámcový rozpočet úprav oblasti
C51: Objekt:
E52: 100 - Komunikace
C53: Soupis:
E54: =E11 -> SO 101 - Komunikace vozidlová - MK 26c
C56: Místo: | F56: =F14 -> k.ú. Hanušovice | I56: Datum: | J56: =IF(J14="","",J14) -> 4. 8. 2026
C58: Zadavatel: | F58: =E17 -> Město Hanušovice | I58: Projektant: | J58: =E23 -> Cekr CZ s.r.o.
C59: Účastník: | F59: =IF(E20="","",E20) -> Vyplň údaj | I59: Zpracovatel: | J59: =E26 -> Jan Zamykal, CS ÚRS 2026/I
C61: Kód dílu - Popis | J61: Cena celkem [CZK]
C63: Náklady stavby celkem | J63: =J91 -> 0 | AU63: -1
...

Sheet SO 101.1 - Komunikace voz...
AT2: {1e9e3687-1a79-4efa-b902-f8e8048b201a}
AT3: 2
D4: KRYCÍ LIST SOUPISU PRACÍ | M4: v --- níže se nacházejí doplnkové a pomocné údaje k sestavám --- v | AT4: False
D6: Stavba:
E7: ='Rekapitulace stavby'!K6 -> Hanušovice - Holba - rámcový rozpočet úprav oblasti
D8: Objekt:
E9: 100 - Komunikace
D10: Soupis:
E11: SO 101.1 - Komunikace vozidlová - MK 2c
D13: KSO: | I13: CC-CZ:
D14: Místo: | F14: k.ú. Hanušovice | I14: Datum: | J14: ='Rekapitulace stavby'!AN8 -> 4. 8. 2026
D16: Zadavatel: | I16: IČ: | J16: 00302546
E17: Město Hanušovice | I17: DIČ: | J17: CZ00302546
D19: Účastník: | I19: IČ: | J19: ='Rekapitulace stavby'!AN13 -> Vyplň údaj
E20: ='Rekapitulace stavby'!E14 -> Vyplň údaj | I20: DIČ: | J20: ='Rekapitulace stavby'!AN14 -> Vyplň údaj
D22: Projektant: | I22: IČ: | J22: 27821251
E23: Cekr CZ s.r.o. | I23: DIČ: | J23: CZ27821251
D25: Zpracovatel: | I25: IČ:
E26: Jan Zamykal, CS ÚRS 2026/I | I26: DIČ:
D28: Poznámka:
D32: Cena bez DPH | J32: =ROUND(J91, 2) -> 0
F34: Základ daně | I34: Sazba daně | J34: Výše daně
D35: DPH | E35: základní | F35: =ROUND((SUM(BE91:BE225)), 2) -> 0 | I35: 0.21 | J35: =ROUND(((SUM(BE91:BE225))*I35), 2) -> 0
E36: snížená | F36: =ROUND((SUM(BF91:BF225)), 2) -> 0 | I36: 0.12 | J36: =ROUND(((SUM(BF91:BF225))*I36), 2) -> 0
E37: zákl. přenesená | F37: =ROUND((SUM(BG91:BG225)), 2) -> 0 | I37: 0.21 | J37: =0 -> 0
E38: sníž. přenesená | F38: =ROUND((SUM(BH91:BH225)), 2) -> 0 | I38: 0.12 | J38: =0 -> 0
E39: nulová | F39: =ROUND((SUM(BI91:BI225)), 2) -> 0 | I39: 0 | J39: =0 -> 0
D41: Cena s DPH | G41: v | H41: CZK | J41: =SUM(J32:J39) -> 0
C47: REKAPITULACE ČLENĚNÍ SOUPISU PRACÍ
C49: Stavba:
E50: =E7 -> Hanušovice - Holba - rámcový rozpočet úprav oblasti
C51: Objekt:
E52: 100 - Komunikace
C53: Soupis:
E54: =E11 -> SO 101.1 - Komunikace vozidlová - MK 2c
C56: Místo: | F56: =F14 -> k.ú. Hanušovice | I56: Datum: | J56: =IF(J14="","",J14) -> 4. 8. 2026
C58: Zadavatel: | F58: =E17 -> Město Hanušovice | I58: Projektant: | J58: =E23 -> Cekr CZ s.r.o.
C59: Účastník: | F59: =IF(E20="","",E20) -> Vyplň údaj | I59: Zpracovatel: | J59: =E26 -> Jan Zamykal, CS ÚRS 2026/I
C61: Kód dílu - Popis | J61: Cena celkem [CZK]
C63: Náklady stavby celkem | J63: =J91 -> 0 | AU63: -1
...

Sheet SO 101.2 - Komunikace voz...
AT2: {c1e42a41-45e9-487e-8068-2b7d9f21bf02}
AT3: 2
D4: KRYCÍ LIST SOUPISU PRACÍ | M4: v --- níže se nacházejí doplnkové a pomocné údaje k sestavám --- v | AT4: False
D6: Stavba:
E7: ='Rekapitulace stavby'!K6 -> Hanušovice - Holba - rámcový rozpočet úprav oblasti
D8: Objekt:
E9: 100 - Komunikace
D10: Soupis:
E11: SO 101.2 - Komunikace vozidlová - MK 28c
D13: KSO: | I13: CC-CZ:
D14: Místo: | F14: k.ú. Hanušovice | I14: Datum: | J14: ='Rekapitulace stavby'!AN8 -> 4. 8. 2026
D16: Zadavatel: | I16: IČ: | J16: 00302546
E17: Město Hanušovice | I17: DIČ: | J17: CZ00302546
D19: Účastník: | I19: IČ: | J19: ='Rekapitulace stavby'!AN13 -> Vyplň údaj
E20: ='Rekapitulace stavby'!E14 -> Vyplň údaj | I20: DIČ: | J20: ='Rekapitulace stavby'!AN14 -> Vyplň údaj
D22: Projektant: | I22: IČ: | J22: 27821251
E23: Cekr CZ s.r.o. | I23: DIČ: | J23: CZ27821251
D25: Zpracovatel: | I25: IČ:
E26: Jan Zamykal, CS ÚRS 2026/I | I26: DIČ:
D28: Poznámka:
D32: Cena bez DPH | J32: =ROUND(J92, 2) -> 0
F34: Základ daně | I34: Sazba daně | J34: Výše daně
D35: DPH | E35: základní | F35: =ROUND((SUM(BE92:BE230)), 2) -> 0 | I35: 0.21 | J35: =ROUND(((SUM(BE92:BE230))*I35), 2) -> 0
E36: snížená | F36: =ROUND((SUM(BF92:BF230)), 2) -> 0 | I36: 0.12 | J36: =ROUND(((SUM(BF92:BF230))*I36), 2) -> 0
E37: zákl. přenesená | F37: =ROUND((SUM(BG92:BG230)), 2) -> 0 | I37: 0.21 | J37: =0 -> 0
E38: sníž. přenesená | F38: =ROUND((SUM(BH92:BH230)), 2) -> 0 | I38: 0.12 | J38: =0 -> 0
E39: nulová | F39: =ROUND((SUM(BI92:BI230)), 2) -> 0 | I39: 0 | J39: =0 -> 0
D41: Cena s DPH | G41: v | H41: CZK | J41: =SUM(J32:J39) -> 0
C47: REKAPITULACE ČLENĚNÍ SOUPISU PRACÍ
C49: Stavba:
E50: =E7 -> Hanušovice - Holba - rámcový rozpočet úprav oblasti
C51: Objekt:
E52: 100 - Komunikace
C53: Soupis:
E54: =E11 -> SO 101.2 - Komunikace vozidlová - MK 28c
C56: Místo: | F56: =F14 -> k.ú. Hanušovice | I56: Datum: | J56: =IF(J14="","",J14) -> 4. 8. 2026
C58: Zadavatel: | F58: =E17 -> Město Hanušovice | I58: Projektant: | J58: =E23 -> Cekr CZ s.r.o.
C59: Účastník: | F59: =IF(E20="","",E20) -> Vyplň údaj | I59: Zpracovatel: | J59: =E26 -> Jan Zamykal, CS ÚRS 2026/I
C61: Kód dílu - Popis | J61: Cena celkem [CZK]
C63: Náklady stavby celkem | J63: =J92 -> 0 | AU63: -1
...

Sheet SO 101.3 - Komunikace voz...
AT2: {b98a2ae1-8358-4989-942a-95250cf173e4}
AT3: 2
D4: KRYCÍ LIST SOUPISU PRACÍ | M4: v --- níže se nacházejí doplnkové a pomocné údaje k sestavám --- v | AT4: False
D6: Stavba:
E7: ='Rekapitulace stavby'!K6 -> Hanušovice - Holba - rámcový rozpočet úprav oblasti
D8: Objekt:
E9: 100 - Komunikace
D10: Soupis:
E11: SO 101.3 - Komunikace vozidlová - UK 29u
D13: KSO: | I13: CC-CZ:
D14: Místo: | F14: k.ú. Hanušovice | I14: Datum: | J14: ='Rekapitulace stavby'!AN8 -> 4. 8. 2026
D16: Zadavatel: | I16: IČ: | J16: 00302546
E17: Město Hanušovice | I17: DIČ: | J17: CZ00302546
D19: Účastník: | I19: IČ: | J19: ='Rekapitulace stavby'!AN13 -> Vyplň údaj
E20: ='Rekapitulace stavby'!E14 -> Vyplň údaj | I20: DIČ: | J20: ='Rekapitulace stavby'!AN14 -> Vyplň údaj
D22: Projektant: | I22: IČ: | J22: 27821251
E23: Cekr CZ s.r.o. | I23: DIČ: | J23: CZ27821251
D25: Zpracovatel: | I25: IČ:
E26: Jan Zamykal, CS ÚRS 2026/I | I26: DIČ:
D28: Poznámka:
D32: Cena bez DPH | J32: =ROUND(J91, 2) -> 0
F34: Základ daně | I34: Sazba daně | J34: Výše daně
D35: DPH | E35: základní | F35: =ROUND((SUM(BE91:BE252)), 2) -> 0 | I35: 0.21 | J35: =ROUND(((SUM(BE91:BE252))*I35), 2) -> 0
E36: snížená | F36: =ROUND((SUM(BF91:BF252)), 2) -> 0 | I36: 0.12 | J36: =ROUND(((SUM(BF91:BF252))*I36), 2) -> 0
E37: zákl. přenesená | F37: =ROUND((SUM(BG91:BG252)), 2) -> 0 | I37: 0.21 | J37: =0 -> 0
E38: sníž. přenesená | F38: =ROUND((SUM(BH91:BH252)), 2) -> 0 | I38: 0.12 | J38: =0 -> 0
E39: nulová | F39: =ROUND((SUM(BI91:BI252)), 2) -> 0 | I39: 0 | J39: =0 -> 0
D41: Cena s DPH | G41: v | H41: CZK | J41: =SUM(J32:J39) -> 0
C47: REKAPITULACE ČLENĚNÍ SOUPISU PRACÍ
C49: Stavba:
E50: =E7 -> Hanušovice - Holba - rámcový rozpočet úprav oblasti
C51: Objekt:
E52: 100 - Komunikace
C53: Soupis:
E54: =E11 -> SO 101.3 - Komunikace vozidlová - UK 29u
C56: Místo: | F56: =F14 -> k.ú. Hanušovice | I56: Datum: | J56: =IF(J14="","",J14) -> 4. 8. 2026
C58: Zadavatel: | F58: =E17 -> Město Hanušovice | I58: Projektant: | J58: =E23 -> Cekr CZ s.r.o.
C59: Účastník: | F59: =IF(E20="","",E20) -> Vyplň údaj | I59: Zpracovatel: | J59: =E26 -> Jan Zamykal, CS ÚRS 2026/I
C61: Kód dílu - Popis | J61: Cena celkem [CZK]
C63: Náklady stavby celkem | J63: =J91 -> 0 | AU63: -1
...

Sheet SO 101.4 - Komunikace voz...
AT2: {de5ddde9-c4d8-47aa-89a2-b791e2c09488}
AT3: 2
D4: KRYCÍ LIST SOUPISU PRACÍ | M4: v --- níže se nacházejí doplnkové a pomocné údaje k sestavám --- v | AT4: False
D6: Stavba:
E7: ='Rekapitulace stavby'!K6 -> Hanušovice - Holba - rámcový rozpočet úprav oblasti
D8: Objekt:
E9: 100 - Komunikace
D10: Soupis:
E11: SO 101.4 - Komunikace vozidlová - MK 40c
D13: KSO: | I13: CC-CZ:
D14: Místo: | F14: k.ú. Hanušovice | I14: Datum: | J14: ='Rekapitulace stavby'!AN8 -> 4. 8. 2026
D16: Zadavatel: | I16: IČ: | J16: 00302546
E17: Město Hanušovice | I17: DIČ: | J17: CZ00302546
D19: Účastník: | I19: IČ: | J19: ='Rekapitulace stavby'!AN13 -> Vyplň údaj
E20: ='Rekapitulace stavby'!E14 -> Vyplň údaj | I20: DIČ: | J20: ='Rekapitulace stavby'!AN14 -> Vyplň údaj
D22: Projektant: | I22: IČ: | J22: 27821251
E23: Cekr CZ s.r.o. | I23: DIČ: | J23: CZ27821251
D25: Zpracovatel: | I25: IČ:
E26: Jan Zamykal, CS ÚRS 2026/I | I26: DIČ:
D28: Poznámka:
D32: Cena bez DPH | J32: =ROUND(J91, 2) -> 0
F34: Základ daně | I34: Sazba daně | J34: Výše daně
D35: DPH | E35: základní | F35: =ROUND((SUM(BE91:BE338)), 2) -> 0 | I35: 0.21 | J35: =ROUND(((SUM(BE91:BE338))*I35), 2) -> 0
E36: snížená | F36: =ROUND((SUM(BF91:BF338)), 2) -> 0 | I36: 0.12 | J36: =ROUND(((SUM(BF91:BF338))*I36), 2) -> 0
E37: zákl. přenesená | F37: =ROUND((SUM(BG91:BG338)), 2) -> 0 | I37: 0.21 | J37: =0 -> 0
E38: sníž. přenesená | F38: =ROUND((SUM(BH91:BH338)), 2) -> 0 | I38: 0.12 | J38: =0 -> 0
E39: nulová | F39: =ROUND((SUM(BI91:BI338)), 2) -> 0 | I39: 0 | J39: =0 -> 0
D41: Cena s DPH | G41: v | H41: CZK | J41: =SUM(J32:J39) -> 0
C47: REKAPITULACE ČLENĚNÍ SOUPISU PRACÍ
C49: Stavba:
E50: =E7 -> Hanušovice - Holba - rámcový rozpočet úprav oblasti
C51: Objekt:
E52: 100 - Komunikace
C53: Soupis:
E54: =E11 -> SO 101.4 - Komunikace vozidlová - MK 40c
C56: Místo: | F56: =F14 -> k.ú. Hanušovice | I56: Datum: | J56: =IF(J14="","",J14) -> 4. 8. 2026
C58: Zadavatel: | F58: =E17 -> Město Hanušovice | I58: Projektant: | J58: =E23 -> Cekr CZ s.r.o.
C59: Účastník: | F59: =IF(E20="","",E20) -> Vyplň údaj | I59: Zpracovatel: | J59: =E26 -> Jan Zamykal, CS ÚRS 2026/I
C61: Kód dílu - Popis | J61: Cena celkem [CZK]
C63: Náklady stavby celkem | J63: =J91 -> 0 | AU63: -1
...

Sheet SO 101.5 - Komunikace voz...
AT2: {2296a6b3-9dd6-4ffa-92a5-a701af109932}
AT3: 2
D4: KRYCÍ LIST SOUPISU PRACÍ | M4: v --- níže se nacházejí doplnkové a pomocné údaje k sestavám --- v | AT4: False
D6: Stavba:
E7: ='Rekapitulace stavby'!K6 -> Hanušovice - Holba - rámcový rozpočet úprav oblasti
D8: Objekt:
E9: 100 - Komunikace
D10: Soupis:
E11: SO 101.5 - Komunikace vozidlová - UK 39u
D13: KSO: | I13: CC-CZ:
D14: Místo: | F14: k.ú. Hanušovice | I14: Datum: | J14: ='Rekapitulace stavby'!AN8 -> 4. 8. 2026
D16: Zadavatel: | I16: IČ: | J16: 00302546
E17: Město Hanušovice | I17: DIČ: | J17: CZ00302546
D19: Účastník: | I19: IČ: | J19: ='Rekapitulace stavby'!AN13 -> Vyplň údaj
E20: ='Rekapitulace stavby'!E14 -> Vyplň údaj | I20: DIČ: | J20: ='Rekapitulace stavby'!AN14 -> Vyplň údaj
D22: Projektant: | I22: IČ: | J22: 27821251
E23: Cekr CZ s.r.o. | I23: DIČ: | J23: CZ27821251
D25: Zpracovatel: | I25: IČ:
E26: Jan Zamykal, CS ÚRS 2026/I | I26: DIČ:
D28: Poznámka:
D32: Cena bez DPH | J32: =ROUND(J91, 2) -> 0
F34: Základ daně | I34: Sazba daně | J34: Výše daně
D35: DPH | E35: základní | F35: =ROUND((SUM(BE91:BE310)), 2) -> 0 | I35: 0.21 | J35: =ROUND(((SUM(BE91:BE310))*I35), 2) -> 0
E36: snížená | F36: =ROUND((SUM(BF91:BF310)), 2) -> 0 | I36: 0.12 | J36: =ROUND(((SUM(BF91:BF310))*I36), 2) -> 0
E37: zákl. přenesená | F37: =ROUND((SUM(BG91:BG310)), 2) -> 0 | I37: 0.21 | J37: =0 -> 0
E38: sníž. přenesená | F38: =ROUND((SUM(BH91:BH310)), 2) -> 0 | I38: 0.12 | J38: =0 -> 0
E39: nulová | F39: =ROUND((SUM(BI91:BI310)), 2) -> 0 | I39: 0 | J39: =0 -> 0
D41: Cena s DPH | G41: v | H41: CZK | J41: =SUM(J32:J39) -> 0
C47: REKAPITULACE ČLENĚNÍ SOUPISU PRACÍ
C49: Stavba:
E50: =E7 -> Hanušovice - Holba - rámcový rozpočet úprav oblasti
C51: Objekt:
E52: 100 - Komunikace
C53: Soupis:
E54: =E11 -> SO 101.5 - Komunikace vozidlová - UK 39u
C56: Místo: | F56: =F14 -> k.ú. Hanušovice | I56: Datum: | J56: =IF(J14="","",J14) -> 4. 8. 2026
C58: Zadavatel: | F58: =E17 -> Město Hanušovice | I58: Projektant: | J58: =E23 -> Cekr CZ s.r.o.
C59: Účastník: | F59: =IF(E20="","",E20) -> Vyplň údaj | I59: Zpracovatel: | J59: =E26 -> Jan Zamykal, CS ÚRS 2026/I
C61: Kód dílu - Popis | J61: Cena celkem [CZK]
C63: Náklady stavby celkem | J63: =J91 -> 0 | AU63: -1
...

Sheet SO 102 - Odstavné plochy
AT2: {057062ea-d08c-4795-b402-21d4dc78cb19}
AT3: 2
D4: KRYCÍ LIST SOUPISU PRACÍ | M4: v --- níže se nacházejí doplnkové a pomocné údaje k sestavám --- v | AT4: False
D6: Stavba:
E7: ='Rekapitulace stavby'!K6 -> Hanušovice - Holba - rámcový rozpočet úprav oblasti
D8: Objekt:
E9: 100 - Komunikace
D10: Soupis:
E11: SO 102 - Odstavné plochy
D13: KSO: | I13: CC-CZ:
D14: Místo: | F14: k.ú. Hanušovice | I14: Datum: | J14: ='Rekapitulace stavby'!AN8 -> 4. 8. 2026
D16: Zadavatel: | I16: IČ: | J16: 00302546
E17: Město Hanušovice | I17: DIČ: | J17: CZ00302546
D19: Účastník: | I19: IČ: | J19: ='Rekapitulace stavby'!AN13 -> Vyplň údaj
E20: ='Rekapitulace stavby'!E14 -> Vyplň údaj | I20: DIČ: | J20: ='Rekapitulace stavby'!AN14 -> Vyplň údaj
D22: Projektant: | I22: IČ: | J22: 27821251
E23: Cekr CZ s.r.o. | I23: DIČ: | J23: CZ27821251
D25: Zpracovatel: | I25: IČ:
E26: Jan Zamykal, CS ÚRS 2026/I | I26: DIČ:
D28: Poznámka:
D32: Cena bez DPH | J32: =ROUND(J91, 2) -> 0
F34: Základ daně | I34: Sazba daně | J34: Výše daně
D35: DPH | E35: základní | F35: =ROUND((SUM(BE91:BE271)), 2) -> 0 | I35: 0.21 | J35: =ROUND(((SUM(BE91:BE271))*I35), 2) -> 0
E36: snížená | F36: =ROUND((SUM(BF91:BF271)), 2) -> 0 | I36: 0.12 | J36: =ROUND(((SUM(BF91:BF271))*I36), 2) -> 0
E37: zákl. přenesená | F37: =ROUND((SUM(BG91:BG271)), 2) -> 0 | I37: 0.21 | J37: =0 -> 0
E38: sníž. přenesená | F38: =ROUND((SUM(BH91:BH271)), 2) -> 0 | I38: 0.12 | J38: =0 -> 0
E39: nulová | F39: =ROUND((SUM(BI91:BI271)), 2) -> 0 | I39: 0 | J39: =0 -> 0
D41: Cena s DPH | G41: v | H41: CZK | J41: =SUM(J32:J39) -> 0
C47: REKAPITULACE ČLENĚNÍ SOUPISU PRACÍ
C49: Stavba:
E50: =E7 -> Hanušovice - Holba - rámcový rozpočet úprav oblasti
C51: Objekt:
E52: 100 - Komunikace
C53: Soupis:
E54: =E11 -> SO 102 - Odstavné plochy
C56: Místo: | F56: =F14 -> k.ú. Hanušovice | I56: Datum: | J56: =IF(J14="","",J14) -> 4. 8. 2026
C58: Zadavatel: | F58: =E17 -> Město Hanušovice | I58: Projektant: | J58: =E23 -> Cekr CZ s.r.o.
C59: Účastník: | F59: =IF(E20="","",E20) -> Vyplň údaj | I59: Zpracovatel: | J59: =E26 -> Jan Zamykal, CS ÚRS 2026/I
C61: Kód dílu - Popis | J61: Cena celkem [CZK]
C63: Náklady stavby celkem | J63: =J91 -> 0 | AU63: -1
...

Sheet SO 103 - Sjezdy
AT2: {09b2e1a6-e385-4243-b0bf-0f21c1c6b263}
AT3: 2
D4: KRYCÍ LIST SOUPISU PRACÍ | M4: v --- níže se nacházejí doplnkové a pomocné údaje k sestavám --- v | AT4: False
D6: Stavba:
E7: ='Rekapitulace stavby'!K6 -> Hanušovice - Holba - rámcový rozpočet úprav oblasti
D8: Objekt:
E9: 100 - Komunikace
D10: Soupis:
E11: SO 103 - Sjezdy
D13: KSO: | I13: CC-CZ:
D14: Místo: | F14: k.ú. Hanušovice | I14: Datum: | J14: ='Rekapitulace stavby'!AN8 -> 4. 8. 2026
D16: Zadavatel: | I16: IČ: | J16: 00302546
E17: Město Hanušovice | I17: DIČ: | J17: CZ00302546
D19: Účastník: | I19: IČ: | J19: ='Rekapitulace stavby'!AN13 -> Vyplň údaj
E20: ='Rekapitulace stavby'!E14 -> Vyplň údaj | I20: DIČ: | J20: ='Rekapitulace stavby'!AN14 -> Vyplň údaj
D22: Projektant: | I22: IČ: | J22: 27821251
E23: Cekr CZ s.r.o. | I23: DIČ: | J23: CZ27821251
D25: Zpracovatel: | I25: IČ:
E26: Jan Zamykal, CS ÚRS 2026/I | I26: DIČ:
D28: Poznámka:
D32: Cena bez DPH | J32: =ROUND(J90, 2) -> 0
F34: Základ daně | I34: Sazba daně | J34: Výše daně
D35: DPH | E35: základní | F35: =ROUND((SUM(BE90:BE255)), 2) -> 0 | I35: 0.21 | J35: =ROUND(((SUM(BE90:BE255))*I35), 2) -> 0
E36: snížená | F36: =ROUND((SUM(BF90:BF255)), 2) -> 0 | I36: 0.12 | J36: =ROUND(((SUM(BF90:BF255))*I36), 2) -> 0
E37: zákl. přenesená | F37: =ROUND((SUM(BG90:BG255)), 2) -> 0 | I37: 0.21 | J37: =0 -> 0
E38: sníž. přenesená | F38: =ROUND((SUM(BH90:BH255)), 2) -> 0 | I38: 0.12 | J38: =0 -> 0
E39: nulová | F39: =ROUND((SUM(BI90:BI255)), 2) -> 0 | I39: 0 | J39: =0 -> 0
D41: Cena s DPH | G41: v | H41: CZK | J41: =SUM(J32:J39) -> 0
C47: REKAPITULACE ČLENĚNÍ SOUPISU PRACÍ
C49: Stavba:
E50: =E7 -> Hanušovice - Holba - rámcový rozpočet úprav oblasti
C51: Objekt:
E52: 100 - Komunikace
C53: Soupis:
E54: =E11 -> SO 103 - Sjezdy
C56: Místo: | F56: =F14 -> k.ú. Hanušovice | I56: Datum: | J56: =IF(J14="","",J14) -> 4. 8. 2026
C58: Zadavatel: | F58: =E17 -> Město Hanušovice | I58: Projektant: | J58: =E23 -> Cekr CZ s.r.o.
C59: Účastník: | F59: =IF(E20="","",E20) -> Vyplň údaj | I59: Zpracovatel: | J59: =E26 -> Jan Zamykal, CS ÚRS 2026/I
C61: Kód dílu - Popis | J61: Cena celkem [CZK]
C63: Náklady stavby celkem | J63: =J90 -> 0 | AU63: -1
...

Sheet SO 110 - Komunikace pro p...
AT2: {138b5d37-ad09-4932-9e1d-49db7ee5c1d1}
AT3: 2
D4: KRYCÍ LIST SOUPISU PRACÍ | M4: v --- níže se nacházejí doplnkové a pomocné údaje k sestavám --- v | AT4: False
D6: Stavba:
E7: ='Rekapitulace stavby'!K6 -> Hanušovice - Holba - rámcový rozpočet úprav oblasti
D8: Objekt:
E9: 100 - Komunikace
D10: Soupis:
E11: SO 110 - Komunikace pro pěší - chodníky 15d, 48d a 49d
D13: KSO: | I13: CC-CZ:
D14: Místo: | F14: k.ú. Hanušovice | I14: Datum: | J14: ='Rekapitulace stavby'!AN8 -> 4. 8. 2026
D16: Zadavatel: | I16: IČ: | J16: 00302546
E17: Město Hanušovice | I17: DIČ: | J17: CZ00302546
D19: Účastník: | I19: IČ: | J19: ='Rekapitulace stavby'!AN13 -> Vyplň údaj
E20: ='Rekapitulace stavby'!E14 -> Vyplň údaj | I20: DIČ: | J20: ='Rekapitulace stavby'!AN14 -> Vyplň údaj
D22: Projektant: | I22: IČ: | J22: 27821251
E23: Cekr CZ s.r.o. | I23: DIČ: | J23: CZ27821251
D25: Zpracovatel: | I25: IČ:
E26: Jan Zamykal, CS ÚRS 2026/I | I26: DIČ:
D28: Poznámka:
D32: Cena bez DPH | J32: =ROUND(J91, 2) -> 0
F34: Základ daně | I34: Sazba daně | J34: Výše daně
D35: DPH | E35: základní | F35: =ROUND((SUM(BE91:BE327)), 2) -> 0 | I35: 0.21 | J35: =ROUND(((SUM(BE91:BE327))*I35), 2) -> 0
E36: snížená | F36: =ROUND((SUM(BF91:BF327)), 2) -> 0 | I36: 0.12 | J36: =ROUND(((SUM(BF91:BF327))*I36), 2) -> 0
E37: zákl. přenesená | F37: =ROUND((SUM(BG91:BG327)), 2) -> 0 | I37: 0.21 | J37: =0 -> 0
E38: sníž. přenesená | F38: =ROUND((SUM(BH91:BH327)), 2) -> 0 | I38: 0.12 | J38: =0 -> 0
E39: nulová | F39: =ROUND((SUM(BI91:BI327)), 2) -> 0 | I39: 0 | J39: =0 -> 0
D41: Cena s DPH | G41: v | H41: CZK | J41: =SUM(J32:J39) -> 0
C47: REKAPITULACE ČLENĚNÍ SOUPISU PRACÍ
C49: Stavba:
E50: =E7 -> Hanušovice - Holba - rámcový rozpočet úprav oblasti
C51: Objekt:
E52: 100 - Komunikace
C53: Soupis:
E54: =E11 -> SO 110 - Komunikace pro pěší - chodníky 15d, 48d a 49d
C56: Místo: | F56: =F14 -> k.ú. Hanušovice | I56: Datum: | J56: =IF(J14="","",J14) -> 4. 8. 2026
C58: Zadavatel: | F58: =E17 -> Město Hanušovice | I58: Projektant: | J58: =E23 -> Cekr CZ s.r.o.
C59: Účastník: | F59: =IF(E20="","",E20) -> Vyplň údaj | I59: Zpracovatel: | J59: =E26 -> Jan Zamykal, CS ÚRS 2026/I
C61: Kód dílu - Popis | J61: Cena celkem [CZK]
C63: Náklady stavby celkem | J63: =J91 -> 0 | AU63: -1
...

Sheet SO 110.1 - Komunikace pro...
AT2: {30756037-9ca2-433b-98b3-1f46c350355c}
AT3: 2
D4: KRYCÍ LIST SOUPISU PRACÍ | M4: v --- níže se nacházejí doplnkové a pomocné údaje k sestavám --- v | AT4: False
D6: Stavba:
E7: ='Rekapitulace stavby'!K6 -> Hanušovice - Holba - rámcový rozpočet úprav oblasti
D8: Objekt:
E9: 100 - Komunikace
D10: Soupis:
E11: SO 110.1 - Komunikace pro pěší - chodník 30d
D13: KSO: | I13: CC-CZ:
D14: Místo: | F14: k.ú. Hanušovice | I14: Datum: | J14: ='Rekapitulace stavby'!AN8 -> 4. 8. 2026
D16: Zadavatel: | I16: IČ: | J16: 00302546
E17: Město Hanušovice | I17: DIČ: | J17: CZ00302546
D19: Účastník: | I19: IČ: | J19: ='Rekapitulace stavby'!AN13 -> Vyplň údaj
E20: ='Rekapitulace stavby'!E14 -> Vyplň údaj | I20: DIČ: | J20: ='Rekapitulace stavby'!AN14 -> Vyplň údaj
D22: Projektant: | I22: IČ: | J22: 27821251
E23: Cekr CZ s.r.o. | I23: DIČ: | J23: CZ27821251
D25: Zpracovatel: | I25: IČ:
E26: Jan Zamykal, CS ÚRS 2026/I | I26: DIČ:
D28: Poznámka:
D32: Cena bez DPH | J32: =ROUND(J92, 2) -> 0
F34: Základ daně | I34: Sazba daně | J34: Výše daně
D35: DPH | E35: základní | F35: =ROUND((SUM(BE92:BE261)), 2) -> 0 | I35: 0.21 | J35: =ROUND(((SUM(BE92:BE261))*I35), 2) -> 0
E36: snížená | F36: =ROUND((SUM(BF92:BF261)), 2) -> 0 | I36: 0.12 | J36: =ROUND(((SUM(BF92:BF261))*I36), 2) -> 0
E37: zákl. přenesená | F37: =ROUND((SUM(BG92:BG261)), 2) -> 0 | I37: 0.21 | J37: =0 -> 0
E38: sníž. přenesená | F38: =ROUND((SUM(BH92:BH261)), 2) -> 0 | I38: 0.12 | J38: =0 -> 0
E39: nulová | F39: =ROUND((SUM(BI92:BI261)), 2) -> 0 | I39: 0 | J39: =0 -> 0
D41: Cena s DPH | G41: v | H41: CZK | J41: =SUM(J32:J39) -> 0
C47: REKAPITULACE ČLENĚNÍ SOUPISU PRACÍ
C49: Stavba:
E50: =E7 -> Hanušovice - Holba - rámcový rozpočet úprav oblasti
C51: Objekt:
E52: 100 - Komunikace
C53: Soupis:
E54: =E11 -> SO 110.1 - Komunikace pro pěší - chodník 30d
C56: Místo: | F56: =F14 -> k.ú. Hanušovice | I56: Datum: | J56: =IF(J14="","",J14) -> 4. 8. 2026
C58: Zadavatel: | F58: =E17 -> Město Hanušovice | I58: Projektant: | J58: =E23 -> Cekr CZ s.r.o.
C59: Účastník: | F59: =IF(E20="","",E20) -> Vyplň údaj | I59: Zpracovatel: | J59: =E26 -> Jan Zamykal, CS ÚRS 2026/I
C61: Kód dílu - Popis | J61: Cena celkem [CZK]
C63: Náklady stavby celkem | J63: =J92 -> 0 | AU63: -1
...

Sheet SO 191 - DIO
AT2: {ce1d551d-e133-410d-b542-e47bdfefa181}
AT3: 2
D4: KRYCÍ LIST SOUPISU PRACÍ | M4: v --- níže se nacházejí doplnkové a pomocné údaje k sestavám --- v | AT4: False
D6: Stavba:
E7: ='Rekapitulace stavby'!K6 -> Hanušovice - Holba - rámcový rozpočet úprav oblasti
D8: Objekt:
E9: 100 - Komunikace
D10: Soupis:
E11: SO 191 - DIO
D13: KSO: | I13: CC-CZ:
D14: Místo: | F14: k.ú. Hanušovice | I14: Datum: | J14: ='Rekapitulace stavby'!AN8 -> 4. 8. 2026
D16: Zadavatel: | I16: IČ: | J16: 00302546
E17: Město Hanušovice | I17: DIČ: | J17: CZ00302546
D19: Účastník: | I19: IČ: | J19: ='Rekapitulace stavby'!AN13 -> Vyplň údaj
E20: ='Rekapitulace stavby'!E14 -> Vyplň údaj | I20: DIČ: | J20: ='Rekapitulace stavby'!AN14 -> Vyplň údaj
D22: Projektant: | I22: IČ: | J22: 27821251
E23: Cekr CZ s.r.o. | I23: DIČ: | J23: CZ27821251
D25: Zpracovatel: | I25: IČ:
E26: Jan Zamykal, CS ÚRS 2026/I | I26: DIČ:
D28: Poznámka:
D32: Cena bez DPH | J32: =ROUND(J87, 2) -> 0
F34: Základ daně | I34: Sazba daně | J34: Výše daně
D35: DPH | E35: základní | F35: =ROUND((SUM(BE87:BE95)), 2) -> 0 | I35: 0.21 | J35: =ROUND(((SUM(BE87:BE95))*I35), 2) -> 0
E36: snížená | F36: =ROUND((SUM(BF87:BF95)), 2) -> 0 | I36: 0.12 | J36: =ROUND(((SUM(BF87:BF95))*I36), 2) -> 0
E37: zákl. přenesená | F37: =ROUND((SUM(BG87:BG95)), 2) -> 0 | I37: 0.21 | J37: =0 -> 0
E38: sníž. přenesená | F38: =ROUND((SUM(BH87:BH95)), 2) -> 0 | I38: 0.12 | J38: =0 -> 0
E39: nulová | F39: =ROUND((SUM(BI87:BI95)), 2) -> 0 | I39: 0 | J39: =0 -> 0
D41: Cena s DPH | G41: v | H41: CZK | J41: =SUM(J32:J39) -> 0
C47: REKAPITULACE ČLENĚNÍ SOUPISU PRACÍ
C49: Stavba:
E50: =E7 -> Hanušovice - Holba - rámcový rozpočet úprav oblasti
C51: Objekt:
E52: 100 - Komunikace
C53: Soupis:
E54: =E11 -> SO 191 - DIO
C56: Místo: | F56: =F14 -> k.ú. Hanušovice | I56: Datum: | J56: =IF(J14="","",J14) -> 4. 8. 2026
C58: Zadavatel: | F58: =E17 -> Město Hanušovice | I58: Projektant: | J58: =E23 -> Cekr CZ s.r.o.
C59: Účastník: | F59: =IF(E20="","",E20) -> Vyplň údaj | I59: Zpracovatel: | J59: =E26 -> Jan Zamykal, CS ÚRS 2026/I
C61: Kód dílu - Popis | J61: Cena celkem [CZK]
C63: Náklady stavby celkem | J63: =J87 -> 0 | AU63: -1
...

Sheet SO 801 - Sadové úpravy, J...
AT2: {4d6f68b2-625f-4c79-bdf8-f786e2d6013a}
AT3: 2
D4: KRYCÍ LIST SOUPISU PRACÍ | M4: v --- níže se nacházejí doplnkové a pomocné údaje k sestavám --- v | AT4: False
D6: Stavba:
E7: ='Rekapitulace stavby'!K6 -> Hanušovice - Holba - rámcový rozpočet úprav oblasti
D8: Objekt:
E9: 800 - Vegetační úpravy a rekultivace
D10: Soupis:
E11: SO 801 - Sadové úpravy, JTÚ a rekultivace
D13: KSO: | I13: CC-CZ:
D14: Místo: | F14: k.ú. Hanušovice | I14: Datum: | J14: ='Rekapitulace stavby'!AN8 -> 4. 8. 2026
D16: Zadavatel: | I16: IČ: | J16: 00302546
E17: Město Hanušovice | I17: DIČ: | J17: CZ00302546
D19: Účastník: | I19: IČ: | J19: ='Rekapitulace stavby'!AN13 -> Vyplň údaj
E20: ='Rekapitulace stavby'!E14 -> Vyplň údaj | I20: DIČ: | J20: ='Rekapitulace stavby'!AN14 -> Vyplň údaj
D22: Projektant: | I22: IČ: | J22: 27821251
E23: Cekr CZ s.r.o. | I23: DIČ: | J23: CZ27821251
D25: Zpracovatel: | I25: IČ:
E26: Jan Zamykal, CS ÚRS 2026/I | I26: DIČ:
D28: Poznámka:
D32: Cena bez DPH | J32: =ROUND(J87, 2) -> 0
F34: Základ daně | I34: Sazba daně | J34: Výše daně
D35: DPH | E35: základní | F35: =ROUND((SUM(BE87:BE160)), 2) -> 0 | I35: 0.21 | J35: =ROUND(((SUM(BE87:BE160))*I35), 2) -> 0
E36: snížená | F36: =ROUND((SUM(BF87:BF160)), 2) -> 0 | I36: 0.12 | J36: =ROUND(((SUM(BF87:BF160))*I36), 2) -> 0
E37: zákl. přenesená | F37: =ROUND((SUM(BG87:BG160)), 2) -> 0 | I37: 0.21 | J37: =0 -> 0
E38: sníž. přenesená | F38: =ROUND((SUM(BH87:BH160)), 2) -> 0 | I38: 0.12 | J38: =0 -> 0
E39: nulová | F39: =ROUND((SUM(BI87:BI160)), 2) -> 0 | I39: 0 | J39: =0 -> 0
D41: Cena s DPH | G41: v | H41: CZK | J41: =SUM(J32:J39) -> 0
C47: REKAPITULACE ČLENĚNÍ SOUPISU PRACÍ
C49: Stavba:
E50: =E7 -> Hanušovice - Holba - rámcový rozpočet úprav oblasti
C51: Objekt:
E52: 800 - Vegetační úpravy a rekultivace
C53: Soupis:
E54: =E11 -> SO 801 - Sadové úpravy, JTÚ a rekultivace
C56: Místo: | F56: =F14 -> k.ú. Hanušovice | I56: Datum: | J56: =IF(J14="","",J14) -> 4. 8. 2026
C58: Zadavatel: | F58: =E17 -> Město Hanušovice | I58: Projektant: | J58: =E23 -> Cekr CZ s.r.o.
C59: Účastník: | F59: =IF(E20="","",E20) -> Vyplň údaj | I59: Zpracovatel: | J59: =E26 -> Jan Zamykal, CS ÚRS 2026/I
C61: Kód dílu - Popis | J61: Cena celkem [CZK]
C63: Náklady stavby celkem | J63: =J87 -> 0 | AU63: -1
...

Sheet SO 901 - VRN
AT2: {01181896-6b1f-4fa7-a27c-2dae9f4c6158}
AT3: 2
D4: KRYCÍ LIST SOUPISU PRACÍ | M4: v --- níže se nacházejí doplnkové a pomocné údaje k sestavám --- v | AT4: False
D6: Stavba:
E7: ='Rekapitulace stavby'!K6 -> Hanušovice - Holba - rámcový rozpočet úprav oblasti
D8: Objekt:
E9: 900 - Volná řada objektů
D10: Soupis:
E11: SO 901 - VRN
D13: KSO: | I13: CC-CZ:
D14: Místo: | F14: k.ú. Hanušovice | I14: Datum: | J14: ='Rekapitulace stavby'!AN8 -> 4. 8. 2026
D16: Zadavatel: | I16: IČ: | J16: 00302546
E17: Město Hanušovice | I17: DIČ: | J17: CZ00302546
D19: Účastník: | I19: IČ: | J19: ='Rekapitulace stavby'!AN13 -> Vyplň údaj
E20: ='Rekapitulace stavby'!E14 -> Vyplň údaj | I20: DIČ: | J20: ='Rekapitulace stavby'!AN14 -> Vyplň údaj
D22: Projektant: | I22: IČ: | J22: 27821251
E23: Cekr CZ s.r.o. | I23: DIČ: | J23: CZ27821251
D25: Zpracovatel: | I25: IČ:
E26: Jan Zamykal, CS ÚRS 2026/I | I26: DIČ:
D28: Poznámka:
D32: Cena bez DPH | J32: =ROUND(J89, 2) -> 0
F34: Základ daně | I34: Sazba daně | J34: Výše daně
D35: DPH | E35: základní | F35: =ROUND((SUM(BE89:BE155)), 2) -> 0 | I35: 0.21 | J35: =ROUND(((SUM(BE89:BE155))*I35), 2) -> 0
E36: snížená | F36: =ROUND((SUM(BF89:BF155)), 2) -> 0 | I36: 0.12 | J36: =ROUND(((SUM(BF89:BF155))*I36), 2) -> 0
E37: zákl. přenesená | F37: =ROUND((SUM(BG89:BG155)), 2) -> 0 | I37: 0.21 | J37: =0 -> 0
E38: sníž. přenesená | F38: =ROUND((SUM(BH89:BH155)), 2) -> 0 | I38: 0.12 | J38: =0 -> 0
E39: nulová | F39: =ROUND((SUM(BI89:BI155)), 2) -> 0 | I39: 0 | J39: =0 -> 0
D41: Cena s DPH | G41: v | H41: CZK | J41: =SUM(J32:J39) -> 0
C47: REKAPITULACE ČLENĚNÍ SOUPISU PRACÍ
C49: Stavba:
E50: =E7 -> Hanušovice - Holba - rámcový rozpočet úprav oblasti
C51: Objekt:
E52: 900 - Volná řada objektů
C53: Soupis:
E54: =E11 -> SO 901 - VRN
C56: Místo: | F56: =F14 -> k.ú. Hanušovice | I56: Datum: | J56: =IF(J14="","",J14) -> 4. 8. 2026
C58: Zadavatel: | F58: =E17 -> Město Hanušovice | I58: Projektant: | J58: =E23 -> Cekr CZ s.r.o.
C59: Účastník: | F59: =IF(E20="","",E20) -> Vyplň údaj | I59: Zpracovatel: | J59: =E26 -> Jan Zamykal, CS ÚRS 2026/I
C61: Kód dílu - Popis | J61: Cena celkem [CZK]
C63: Náklady stavby celkem | J63: =J89 -> 0 | AU63: -1
...

Sheet Pokyny pro vyplnění
C3: Struktura údajů, formát souboru a metodika pro zpracování
C4: Struktura
C6: Soubor je složen ze záložky Rekapitulace stavby a záložek s názvem soupisu prací pro jednotlivé objekty ve formátu XLSX. Každá ze záložek přitom obsahuje
C7: ještě samostatné sestavy vymezené orámovaním a nadpisem sestavy.
C9: Rekapitulace stavby obsahuje sestavu Rekapitulace stavby a Rekapitulace objektů stavby a soupisů prací.
D10: V sestavě Rekapitulace stavby jsou uvedeny informace identifikující předmět veřejné zakázky na stavební práce, KSO, CC-CZ, CZ-CPV, CZ-CPA a rekapitulaci
D11: celkové nabídkové ceny účastníka.
D13: Termínem "učastník" (resp. zhotovitel) se myslí "účastník zadávacího řízení" ve smyslu zákona o zadávání veřejných zakázek.
D15: V sestavě Rekapitulace objektů stavby a soupisů prací je uvedena rekapitulace stavebních objektů, inženýrských objektů, provozních souborů,
D16: vedlejších a ostatních nákladů a ostatních nákladů s rekapitulací nabídkové ceny za jednotlivé soupisy prací. Na základě údaje Typ je možné
D17: identifikovat, zda se jedná o objekt nebo soupis prací pro daný objekt:
E18: STA | F18: Stavební objekt pozemní
E19: ING | F19: Stavební objekt inženýrský
E20: PRO | F20: Provozní soubor
E21: VON | F21: Vedlejší a ostatní náklady
E22: OST | F22: Ostatní
E23: Soupis | F23: Soupis prací pro daný typ objektu
C25: Soupis prací pro jednotlivé objekty obsahuje sestavy Krycí list soupisu prací, Rekapitulace členění soupisu prací, Soupis prací. Za soupis prací může být považován
C26: i objekt stavby v případě, že neobsahuje podřízenou zakázku.
D27: Krycí list soupisu obsahuje rekapitulaci informací o předmětu veřejné zakázky ze sestavy Rekapitulace stavby, informaci o zařazení objektu do KSO,
D28: CC-CZ, CZ-CPV, CZ-CPA a rekapitulaci celkové nabídkové ceny účastníka za aktuální soupis prací.
D30: Rekapitulace členění soupisu prací obsahuje rekapitulaci soupisu prací ve všech úrovních členění soupisu tak, jak byla tato členění použita (např.
D31: stavební díly, funkční díly, případně jiné členění) s rekapitulací nabídkové ceny.
D33: Soupis prací obsahuje položky veškerých stavebních nebo montážních prací, dodávek materiálů a služeb nezbytných pro zhotovení stavebního objektu,
D34: inženýrského objektu, provozního souboru, vedlejších a ostatních nákladů.
D35: Pro položky soupisu prací se zobrazují následující informace:
E36: PČ | G36: Pořadové číslo položky v aktuálním soupisu
E37: TYP | G37: Typ položky: K - konstrukce, M - materiál, PP - plný popis, PSC - poznámka k souboru cen, P - poznámka k položce, VV - výkaz výměr, FIG - rozpad figur
E38: Kód | G38: Kód položky
E39: Popis | G39: Zkrácený popis položky
E40: MJ | G40: Měrná jednotka položky
E41: Množství | G41: Množství v měrné jednotce
E42: J.cena | G42: Jednotková cena položky. Zadaní může obsahovat namísto J.ceny sloupce J.materiál a J.montáž, jejichž součet definuje
G43: J.cenu položky.
E44: Cena celkem | G44: Celková cena položky daná jako součin množství a j.ceny
E45: Cenová soustava | G45: Příslušnost položky do cenové soustavy
D47: Ke každé položce soupisu prací se na samostatných řádcích může zobrazovat:
E48: Plný popis položky
E49: Poznámka k souboru cen a poznámka zadavatele
E50: Výkaz výměr
...
