Workbook

Sheet Kr.List 
B1: KRYCÍ LIST ROZPOČTU
B3: Objekt : | D3: Název objektu : | E3: MŠ Studentská, Poděbrady | H3: JKSO :
B5: Stavba : | D5: Název stavby : | E5: =položky!A3 -> MŠ Studentská, Poděbrady | H5: SKP :
E6: =položky!#REF! -> #REF!
B7: Projektant : Jan Drašnar | F7: Počet měrných jednotek :
B8: Objednatel : | F8: Náklady na MJ :
B9: Počet listů : | E9: 6 | F9: Zakázkové číslo :
B10: Zpracovatel projektu : | F10: Zhotovitel :
D11: Jan Drašnar, Bachs s.r.o.
B12: ROZPOČTOVÉ NÁKLADY | G12: v Kč
B13: Rozpočtové náklady B.1.1.1
B14: ZRN | C14: Dodávka celkem | D14: ='rekap '!E17 -> 0 | E14: B.1.1.2 | F14: Nákl. na umělecká díla
C15: Montáž celkem | D15: ='rekap '!D17 -> 0 | F15: Vedlejší rozpočtové náklady
C16: HSV práce celkem | D16: ='rekap '!B17 -> 0 | E16: B.1.1.3 | F16: Zařízení staveniště
C17: PSV práce celkem | D17: ='rekap '!C17 -> 0 | E17: B.1.1.4 | F17: Ztíž. podmínky výstavby
B18: PRÁCE CELKEM | D18: =D15+D16+D17 -> 0 | E18: B.1.1.5 | F18: Geodetická činnost
B19: ZRN celkem(práce+dodávka) | D19: =D14+D18 -> 0 | E19: B.1.1.6 | F19: Koord. činnost zhotovitele
B20: HZS | D20: 0 | E20: B.1.1.7 | F20: Mezisoučet | H20: =položky!K68 -> 0
E21: B.1.1.8 | F21: Ostatní
B22: Rozpočtové náklady B 1.1.1 | D22: =D19+D20+D21 -> 0 | F22: VRN celkem | H22: =SUM(H14:H21) -> 0
C23: Uložení odpadů B.1.1.9 | E23: B.3.1 | F23: Stroje,zařízení,inventář
B24: Celkový náklad SO | D24: =SUM(D22:D23) -> 0 | E24: B.4 | F24: NIM
B25: Vypracoval | D25: Za zhotovitele | G25: Za objednatele
B26: Jméno : Jan Drašnar | D26: Jméno : | G26: Jméno :
B27: Datum : 10/2008 | C27: =#REF! -> #REF! | D27: Datum : | G27: Datum :
B28: Podpis | D28: Podpis | G28: Podpis
B31: Základ pro DPH | E31: 12 | F31: % činí : | G31: 0
B32: DPH | E32: 12 | F32: % činí : | G32: 0
B33: Základ pro DPH | E33: 21 | F33: % činí : | G33: =ROUND(SUM(D24),0) -> 0
B34: DPH | E34: 21 | F34: % činí : | G34: =ROUND(PRODUCT(G33,E33/100),1) -> 0
B35: CENA ZA OBJEKT CELKEM | G35: =CEILING(SUM(G31:G34),1) -> 0
G37: =G33*1.21 -> 0

Sheet rekap 
A1: Název stavby :
A2: MŠ Studentská, Poděbrady | D2: Datum zpracování : | F2: 05/2026
D4: Datum aktualizace:
A6: REKAPITULACE STAVEBNÍCH DÍLŮ A MONTÁŽNÍCH CENÍKU
A8: Stavební díl | B8: HSV | C8: PSV | D8: Montáž | E8: Dodávka | F8: Celkem
A10: =položky!C11 -> Materiál elektromontážní | D10: =položky!I56 -> 0 | E10: =položky!K56 -> 0 | F10: =SUM(B10:E10) -> 0
A12: =položky!C60 -> Doprava | D12: =položky!I61 -> 0 | E12: =položky!K61 -> 0 | F12: =SUM(B12:E12) -> 0
A14: Revize a ostatní | D14: =položky!I67 -> 0 | E14: =položky!K67 -> 0 | F14: =SUM(B14:E14) -> 0
A17: CELKEM OBJEKT | B17: =SUM(B9:B16) -> 0 | C17: =SUM(C9:C16) -> 0 | D17: =SUM(D9:D16) -> 0 | E17: =SUM(E9:E16) -> 0 | F17: =SUM(F9:F16) -> 0

Sheet položky
A1: Položkový rozpočet
A3: MŠ Studentská, Poděbrady
A5: Datum zpracování : | C5: 05/2026
A6: Poř. | H6: C E N A
A7: číslo | B7: Číslo | D7: měrná | F7: jednotková | G7: Celková | H7: dodávky | J7: montáže
A8: pol. | B8: položky | C8: Název položky | D8: jednotka | E8: množství | F8: hmotnost | G8: hmotnost | H8: jednotková | I8: celkem | J8: jednotková | K8: celkem
A9: 1 | B9: 2 | C9: 3 | D9: 4 | E9: 5 | F9: 7 | G9: 8 | H9: 6 | I9: 7 | J9: 8 | K9: 9
A11: Díl: | C11: Materiál elektromontážní
A13: 1 | C13: CYKY 4x16 | D13: m | E13: 6 | I13: =E13*H13 -> 0 | K13: =E13*J13 -> 0
A14: 2 | C14: CY10 | D14: m | E14: 45 | I14: =E14*H14 -> 0 | K14: =E14*J14 -> 0
A15: 3 | C15: CY 16 | D15: m | E15: 8 | I15: =E15*H15 -> 0 | K15: =E15*J15 -> 0
A16: 4 | C16: CYKKY J 5x10 | D16: m | E16: 45 | I16: =E16*H16 -> 0 | K16: =E16*J16 -> 0
A17: 5 | C17: CYKY J 3x1,5 | D17: m | E17: 750 | I17: =E17*H17 -> 0 | K17: =E17*J17 -> 0
A18: 6 | C18: CYKY O 3x1,5 | D18: m | E18: 160 | I18: =E18*H18 -> 0 | K18: =E18*J18 -> 0
A19: 7 | C19: CYKY J 3x2,5 | D19: m | E19: 880 | I19: =E19*H19 -> 0 | K19: =E19*J19 -> 0
A20: 8 | C20: SYKFY 10x2x0,5 | D20: m | E20: 50 | I20: =E20*H20 -> 0 | K20: =E20*J20 -> 0
A21: 9 | C21: Chránička 50 | D21: m | E21: 30 | I21: =E21*H21 -> 0 | K21: =E21*J21 -> 0
A22: 10 | C22: Drátěný žlab 100x50 | D22: m | E22: 300 | I22: =E22*H22 -> 0 | K22: =E22*J22 -> 0
A23: 11 | C23: UTP kat 6 | D23: m | E23: 200 | I23: =E23*H23 -> 0 | K23: =E23*J23 -> 0
A24: 12 | C24: Datová dvouzásuvka | D24: ks | E24: 2 | I24: =E24*H24 -> 0 | K24: =E24*J24 -> 0
... A48: 36 | C48: Pomocný materiál | D48: kpl | E48: 1 | I48: =E48*H48 -> 0 | K48: =E48*J48 -> 0
A49: 37 | B49: 468101412 | C49: Vysekání rýh pro montáž trubek a kabelů v cihelných zdech hl do 3 cm a š přes 3 do 5 cm | D49: bm | E49: 166 | I49: =E49*H49 -> 0 | K49: =E49*J49 -> 0
A50: 38 | B50: 460941213 | C50: Vyplnění a omítnutí rýh při elektroinstalacích stěnách do 3 cm a š 5-7cm | D50: bm | E50: 166 | I50: =E50*H50 -> 0 | K50: =E50*J50 -> 0
A51: 39 | B51: 763431001 | C51: Montáž minerálního podhledu s vyjímatelnými panely do 0,36m² na zavěšený viditelný rošt | D51: m2 | E51: 130 | I51: =E51*H51 -> 0 | K51: =E51*J51 -> 0
A52: 40 | B52: 763431201 | C52: Napojení minerál. podhledu na stěnu obvodovou lištou | D52: m | E52: 33 | I52: =E52*H52 -> 0 | K52: =E52*J52 -> 0
A53: 41 | B53: 59030570 | C53: Podhled kazetový bez děrování viditelný rastr 10mm 600x600mm | D53: m2 | E53: =130*1.05 -> 136.5 | I53: =E53*H53 -> 0 | K53: =E53*J53 -> 0
A54: 42 | B54: 59030636 | C54: Profil obvodový 19x24 mm | D54: m | E54: =33*1.05 -> 34.65 | I54: =E54*H54 -> 0 | K54: =E54*J54 -> 0
A55: 43 | B55: 998763401 | C55: Přesun hmot procentní pro sádrokart. konstrukce v objektech v do 6m | D55: % | E55: 1.42 | I55: =E55*H55 -> 0 | K55: =E55*J55 -> 0
B56: Celkem za | C56: Materiál elektromontážní | I56: =SUM(I29:I55) -> 0 | K56: =SUM(K13:K55) -> 0
A57: CELKEM | F57: =SUM(#REF!) -> #REF! | J57: =I56+K56 -> 0
A58: Díl: | C58: Elektromontáže
A59: 100 | C59: Režie | D59: kpl | E59: 1 | I59: =E59*H59 -> 0 | K59: =E59*J59 -> 0
A60: 101 | C60: Doprava | D60: kpl | E60: 1 | I60: =E60*H60 -> 0 | K60: =E60*J60 -> 0
B61: Celkem za | C61: Elektromontáže | I61: =SUM(I59:I60) -> 0 | K61: =SUM(K59:K60) -> 0
B62: CELKEM | G62: =SUM(#REF!) -> #REF! | J62: =I61+K61 -> 0
A63: Díl: | C63: Revize a ostatní
A64: 200 | B64: 214322903 | C64: Vypracování revize elektro | D64: ks | E64: 1 | I64: =E64*H64 -> 0 | K64: =E64*J64 -> 0
A65: 201 | C65: Měření úrovně osvětlenosti | D65: kpl | E65: 1 | I65: =E65*H65 -> 0 | K65: =E65*J65 -> 0
A66: 202 | C66: Projektová dokumentace – dokumentace skutečného stavu | D66: ks | E66: 1 | I66: =E66*H66 -> 0 | K66: =E66*J66 -> 0
B67: Celkem za | C67: Revize a ostatní | I67: =SUM(I64:I66) -> 0 | K67: =SUM(K64:K66) -> 0
...
