Workbook

Sheet Rekapitulace stavby
A1: Export Komplet | BA1: 2.0 | BT1: False | BU1: False | BV1: {e7789ce6-4191-44b0-9aec-54169f49e43d}
AR2: >> skryté sloupce << | BS2: 0,01 | BT2: 21
BS3: 0,01 | BT3: 15
D4: REKAPITULACE STAVBY | AS4: v --- níže se nacházejí doplnkové a pomocné údaje k sestavám --- v | BS4: 0,001
BS5: 0,01
D6: Stavba: | K6: Parkovací stání u objektu R1 - realizační část | BS6: 0,01
D7: Zadavatel: | AK7: IČ: | AN7: 47114321 | BS7: 0,01
E8: Oborová zdravotní pojišťovna zaměstnanců bank, pojišťoven a stavebnictví | AK8: DIČ: | AN8: CZ47114321 | BS8: 0,01
BS9: 0,01
D12: Celková cena Díla v Kč bez DPH (automatický dopočet) | AK12: =ROUND(AG26,2) -> 0
C18: REKAPITULACE OBJEKTŮ STAVBY A SOUPISŮ PRACÍ
C20: Stavba: | L20: =K6 -> Parkovací stání u objektu R1 - realizační část
C22: Zadavatel: | L22: =IF(E8= "","",E8) -> Oborová zdravotní pojišťovna zaměstnanců bank, pojišťoven a stavebnictví | AS22: Informatívní údaje z listů zakázek
C24: Kód | I24: Popis | AG24: Cena bez DPH [CZK] | AQ24: Typ | AS24: z toho Ostat._x000D_ náklady [CZK] | AT24: DPH [CZK] | AU24: Normohodiny [h] | AV24: DPH základní [CZK] | AW24: DPH snížená [CZK] | AX24: DPH základní přenesená_x000D_ [CZK] | AY24: DPH snížená přenesená_x000D_ [CZK] | AZ24: Základna_x000D_ DPH základní | BA24: Základna_x000D_ DPH snížená | BB24: Základna_x000D_ DPH zákl. přenesená | BC24: Základna_x000D_ DPH sníž. přenesená | BD24: Základna_x000D_ DPH nulová
C26: Náklady z rozpočtů | AG26: =ROUND(SUM(AG27:AG29),2) -> 0 | AS26: =ROUND(SUM(AS27:AS29),2) -> 0 | AT26: =ROUND(SUM(AV26:AW26),2) -> #REF! | AU26: =ROUND(SUM(AU27:AU29),5) -> 0 | AV26: =ROUND(AZ26*#REF!,2) -> #REF! | AW26: =ROUND(BA26*#REF!,2) -> #REF! | AX26: =ROUND(BB26*#REF!,2) -> #REF! | AY26: =ROUND(BC26*#REF!,2) -> #REF! | AZ26: =ROUND(SUM(AZ27:AZ29),2) -> #REF! | BA26: =ROUND(SUM(BA27:BA29),2) -> #REF! | BB26: =ROUND(SUM(BB27:BB29),2) -> 0 | BC26: =ROUND(SUM(BC27:BC29),2) -> 0 | BD26: =ROUND(SUM(BD27:BD29),2) -> 0 | BS26: D | BT26: 0 | BU26: ###NOIMPORT### | BV26: IMPORT | BW26: {e7789ce6-4191-44b0-9aec-54169f49e43d} | BX26: {00000000-0000-0000-0000-000000000000}
A27: / | D27: SO 000 | J27: Vedlejší rozpočtové náklady | AG27: ='SO 000 - Vedlejší rozpočt...'!J15 -> 0 | AQ27: STA | AS27: 0 | AT27: =ROUND(SUM(AV27:AW27),2) -> #REF! | AU27: ='SO 000 - Vedlejší rozpočt...'!P56 -> 0 | AV27: ='SO 000 - Vedlejší rozpočt...'!#REF! -> #REF! | AW27: ='SO 000 - Vedlejší rozpočt...'!#REF! -> #REF! | AX27: ='SO 000 - Vedlejší rozpočt...'!J17 -> 0 | AY27: ='SO 000 - Vedlejší rozpočt...'!J18 -> 0 | AZ27: ='SO 000 - Vedlejší rozpočt...'!#REF! -> #REF! | BA27: ='SO 000 - Vedlejší rozpočt...'!#REF! -> #REF! | BB27: ='SO 000 - Vedlejší rozpočt...'!F17 -> 0 | BC27: ='SO 000 - Vedlejší rozpočt...'!F18 -> 0 | BD27: ='SO 000 - Vedlejší rozpočt...'!F19 -> 0 | BT27: 1 | BV27: IMPORT | BW27: {ba0b56d9-e742-4af2-9add-c07dee842976} | BX27: {e7789ce6-4191-44b0-9aec-54169f49e43d} | CM27: 2
A28: / | D28: SO 101 | J28: Parkovací stání | AG28: ='SO 101 - Parkovací stání'!J15 -> 0 | AQ28: STA | AS28: 0 | AT28: =ROUND(SUM(AV28:AW28),2) -> #REF! | AU28: ='SO 101 - Parkovací stání'!P65 -> 0 | AV28: ='SO 101 - Parkovací stání'!#REF! -> #REF! | AW28: ='SO 101 - Parkovací stání'!#REF! -> #REF! | AX28: ='SO 101 - Parkovací stání'!J17 -> 0 | AY28: ='SO 101 - Parkovací stání'!J18 -> 0 | AZ28: ='SO 101 - Parkovací stání'!#REF! -> #REF! | BA28: ='SO 101 - Parkovací stání'!#REF! -> #REF! | BB28: ='SO 101 - Parkovací stání'!F17 -> 0 | BC28: ='SO 101 - Parkovací stání'!F18 -> 0 | BD28: ='SO 101 - Parkovací stání'!F19 -> 0 | BT28: 1 | BV28: IMPORT | BW28: {461136b7-66c1-41df-80ac-633cc4519218} | BX28: {e7789ce6-4191-44b0-9aec-54169f49e43d} | CM28: 2
A29: / | D29: SO 102 | J29: Parkovací stání | AG29: ='SO 102 - Parkovací stání'!J15 -> 0 | AQ29: STA | AS29: 0 | AT29: =ROUND(SUM(AV29:AW29),2) -> #REF! | AU29: ='SO 102 - Parkovací stání'!P64 -> 0 | AV29: ='SO 102 - Parkovací stání'!#REF! -> #REF! | AW29: ='SO 102 - Parkovací stání'!#REF! -> #REF! | AX29: ='SO 102 - Parkovací stání'!J17 -> 0 | AY29: ='SO 102 - Parkovací stání'!J18 -> 0 | AZ29: ='SO 102 - Parkovací stání'!#REF! -> #REF! | BA29: ='SO 102 - Parkovací stání'!#REF! -> #REF! | BB29: ='SO 102 - Parkovací stání'!F17 -> 0 | BC29: ='SO 102 - Parkovací stání'!F18 -> 0 | BD29: ='SO 102 - Parkovací stání'!F19 -> 0 | BT29: 1 | BV29: IMPORT | BW29: {6fa736a8-82ed-4d65-8c4d-8341f4677616} | BX29: {e7789ce6-4191-44b0-9aec-54169f49e43d} | CM29: 2

Sheet SO 000 - Vedlejší rozpočt...
L2: >> skryté sloupce << | AT2: {ba0b56d9-e742-4af2-9add-c07dee842976}
AT3: 2
D4: KRYCÍ LIST SOUPISU PRACÍ | M4: v --- níže se nacházejí doplnkové a pomocné údaje k sestavám --- v | AT4: False
D6: Stavba:
E7: ='Rekapitulace stavby'!K6 -> Parkovací stání u objektu R1 - realizační část
D8: Objekt:
E9: SO 000 - Vedlejší rozpočtové náklady
D11: Zadavatel: | I11: IČ: | J11: 47114321
E12: Oborová zdravotní pojišťovna zaměstnanců bank, pojišťoven a stavebnictví | I12: DIČ: | J12: CZ47114321
D15: Cena bez DPH | J15: =ROUND(J56, 2) -> 0
E17: zákl. přenesená | F17: =ROUND((SUM(BG56:BG95)), 2) -> 0 | I17: 0.21 | J17: =0 -> 0
E18: sníž. přenesená | F18: =ROUND((SUM(BH56:BH95)), 2) -> 0 | I18: 0.15 | J18: =0 -> 0
E19: nulová | F19: =ROUND((SUM(BI56:BI95)), 2) -> 0 | I19: 0 | J19: =0 -> 0
C25: REKAPITULACE ČLENĚNÍ SOUPISU PRACÍ
C27: Stavba:
E28: =E7 -> Parkovací stání u objektu R1 - realizační část
C29: Objekt:
E30: =E9 -> SO 000 - Vedlejší rozpočtové náklady
C33: Zadavatel: | F33: =E12 -> Oborová zdravotní pojišťovna zaměstnanců bank, pojišťoven a stavebnictví
C35: Kód dílu - Popis | J35: Cena celkem [CZK]
C37: Náklady ze soupisu prací | J37: =J56 -> 0 | AU37: -1
D38: OST - Ostatní | J38: =J57 -> 0
C45: SOUPIS PRACÍ
C47: Stavba:
E48: =E7 -> Parkovací stání u objektu R1 - realizační část
C49: Objekt:
E50: =E9 -> SO 000 - Vedlejší rozpočtové náklady
C53: Zadavatel: | F53: =E12 -> Oborová zdravotní pojišťovna zaměstnanců bank, pojišťoven a stavebnictví
C55: PČ | D55: Typ | E55: Kód | F55: Popis | G55: MJ | H55: Množství | I55: J.cena [CZK] | J55: Cena celkem [CZK] | K55: Cenová soustava | N55: DPH | O55: J. Nh [h] | P55: Nh celkem [h] | Q55: J. hmotnost [t] | R55: Hmotnost celkem [t] | S55: J. suť [t] | T55: Suť Celkem [t]
C56: Náklady soupisu celkem | J56: =BK56 -> 0 | P56: =P57 -> 0 | R56: =R57 -> 0 | T56: =T57 -> 0 | AT56: D | AU56: -1 | BK56: =BK57 -> 0
D57: D | E57: OST | F57: Ostatní | J57: =BK57 -> 0 | P57: =SUM(P62:P95) -> 0 | R57: =SUM(R62:R95) -> 0 | T57: =SUM(T62:T95) -> 0 | AR57: 4 | AT57: D | AU57: 0 | AY57: ROZPOCET | BK57: =SUM(BK58:BK95) -> 0
C58: 1 | D58: K | F58: ZAJIŠTĚNÍ ADMINISTRATIVNÍCH ZÁLEŽITOSTÍ VYPLÝVAJÍCÍCH ZE STAVEBNÍHO POVOLENÍ DLE ČL. IV. ODST. 4. SMLOUVY O DÍLO | G58: KPL | H58: 1 | J58: =ROUND(I58*H58,2) -> 0 | BK58: =ROUND(I58*H58,2) -> 0 | BL58: 4
D59: PP | F59: ZAJIŠTĚNÍ ADMINISTRATIVNÍCH ZÁLEŽITOSTÍ VYPLÝVAJÍCÍCH ZE STAVEBNÍHO POVOLENÍ DLE ČL. IV. ODST. 4. SMLOUVY O DÍLO
D60: PSC | F60: Poznámka k souboru cen: Položka zahrnuje: - veškeré náklady spojené se zajištěním administrativních záležitostí vyplývajících ze Stavebního povolení Položka nezahrnuje: - x
D61: VV | F61: "zajištění administrativních záležitostí"1 | H61: 1
C62: 2 | D62: K | E62: 02730 | F62: POMOC PRÁCE ZŘÍZ NEBO ZAJIŠŤ OCHRANU INŽENÝRSKÝCH SÍTÍ | G62: KPL | H62: 1 | J62: =ROUND(I62*H62,2) -> 0 | N62: základní | P62: =O62*H62 -> 0 | Q62: 0 | R62: =Q62*H62 -> 0 | S62: 0 | T62: =S62*H62 -> 0 | AR62: 4 | AT62: K | AU62: 1 | AY62: ROZPOCET | BE62: =IF(N62="základní",J62,0) -> 0 | BF62: =IF(N62="snížená",J62,0) -> 0 | BG62: =IF(N62="zákl. přenesená",J62,0) -> 0 | BH62: =IF(N62="sníž. přenesená",J62,0) -> 0 | BI62: =IF(N62="nulová",J62,0) -> 0 | BJ62: 1 | BK62: =ROUND(I62*H62,2) -> 0 | BL62: 4 | BM62: -1016456296
D63: PP | F63: POMOC PRÁCE ZŘÍZ NEBO ZAJIŠŤ OCHRANU INŽENÝRSKÝCH SÍTÍ | AT63: PP | AU63: 1
D64: PSC | F64: Poznámka k souboru cen:_x000D_ Položka zahrnuje: - veškeré náklady spojené s ochranou inženýrských sítí Položka nezahrnuje: - x | AT64: PSC | AU64: 1
D65: VV | F65: "zajištění vytyčení IS"1 | H65: 1 | AT65: VV | AU65: 1 | AV65: 2 | AW65: True | AX65: 1 | AY65: ROZPOCET
C66: 3 | D66: K | E66: 02910 | F66: OSTATNÍ POŽADAVKY - ZEMĚMĚŘICKÁ MĚŘENÍ VE VÝSTAVBĚ | G66: KPL | H66: 1 | J66: =ROUND(I66*H66,2) -> 0 | N66: základní | P66: =O66*H66 -> 0 | Q66: 0 | R66: =Q66*H66 -> 0 | S66: 0 | T66: =S66*H66 -> 0 | AR66: 512 | AT66: K | AU66: 1 | AY66: ROZPOCET | BE66: =IF(N66="základní",J66,0) -> 0 | BF66: =IF(N66="snížená",J66,0) -> 0 | BG66: =IF(N66="zákl. přenesená",J66,0) -> 0 | BH66: =IF(N66="sníž. přenesená",J66,0) -> 0 | BI66: =IF(N66="nulová",J66,0) -> 0 | BJ66: 1 | BK66: =ROUND(I66*H66,2) -> 0 | BL66: 512 | BM66: 730519079
D67: PP | F67: OSTATNÍ POŽADAVKY - ZEMĚMĚŘICKÁ MĚŘENÍ VE VÝSTAVBĚ | AT67: PP | AU67: 1
D68: PSC | F68: Poznámka k souboru cen:_x000D_ Položka zahrnuje: - náklady na veškeré zeměměřické práce, což jsou především všechny vytyčovací práce, včetně vytyčení stávajících podzemních vedení a vytyčení prostorové polohy a obvodu stavby, veškeré měřičské práce jako jsou kontrolní a ověřovací měření, měření pro výpočet kubatur, měření geometrických parametrů stavby, měření posunů a přetvoření, tvorba a údržba základních měřických a vytyčovacích sítí a mikrosítí. - veškeré náklady spojené s objednatelem požadovanými pracemi Položka nezahrnuje: - x Způsob stanovení: - pro stanovení orientační investorské ceny určete jednotkovou cenu jako 1% předpokládané ceny stavby | AT68: PSC | AU68: 1
D69: VV | F69: "geodetická činnost v průběhu provádění stavebních prací, vytyčení stavby, pomoc při realizaci"1 | H69: 1 | AT69: VV | AU69: 1 | AV69: 2 | AW69: True | AX69: 1 | AY69: ROZPOCET
C70: 4 | D70: K | E70: 02911 | F70: OSTATNÍ POŽADAVKY - ZEMĚMĚŘICKÉ ZAMĚŘENÍ | G70: KPL | H70: 1 | J70: =ROUND(I70*H70,2) -> 0 | N70: základní | P70: =O70*H70 -> 0 | Q70: 0 | R70: =Q70*H70 -> 0 | S70: 0 | T70: =S70*H70 -> 0 | AR70: 4 | AT70: K | AU70: 1 | AY70: ROZPOCET | BE70: =IF(N70="základní",J70,0) -> 0 | BF70: =IF(N70="snížená",J70,0) -> 0 | BG70: =IF(N70="zákl. přenesená",J70,0) -> 0 | BH70: =IF(N70="sníž. přenesená",J70,0) -> 0 | BI70: =IF(N70="nulová",J70,0) -> 0 | BJ70: 1 | BK70: =ROUND(I70*H70,2) -> 0 | BL70: 4 | BM70: 1775460981
D71: PP | F71: OSTATNÍ POŽADAVKY - ZEMĚMĚŘICKÉ ZAMĚŘENÍ | AT71: PP | AU71: 1
D72: PSC | F72: Poznámka k souboru cen:_x000D_ Položka zahrnuje: - veškeré náklady spojené s objednatelem požadovanými pracemi Položka nezahrnuje: - x | AT72: PSC | AU72: 1
D73: VV | F73: "skutečné zaměření se zápisem do DTM"1 | H73: 1 | AT73: VV | AU73: 1 | AV73: 2 | AW73: True | AX73: 1 | AY73: ROZPOCET
C74: 5 | D74: K | E74: 02943 | F74: OSTATNÍ POŽADAVKY - VYPRACOVÁNÍ RDS | G74: KPL | H74: 1 | J74: =ROUND(I74*H74,2) -> 0 | N74: základní | P74: =O74*H74 -> 0 | Q74: 0 | R74: =Q74*H74 -> 0 | S74: 0 | T74: =S74*H74 -> 0 | AR74: 512 | AT74: K | AU74: 1 | AY74: ROZPOCET | BE74: =IF(N74="základní",J74,0) -> 0 | BF74: =IF(N74="snížená",J74,0) -> 0 | BG74: =IF(N74="zákl. přenesená",J74,0) -> 0 | BH74: =IF(N74="sníž. přenesená",J74,0) -> 0 | BI74: =IF(N74="nulová",J74,0) -> 0 | BJ74: 1 | BK74: =ROUND(I74*H74,2) -> 0 | BL74: 512 | BM74: 1582681725
D75: PP | F75: OSTATNÍ POŽADAVKY - VYPRACOVÁNÍ RDS | AT75: PP | AU75: 1
D76: PSC | F76: Poznámka k souboru cen:_x000D_ Položka zahrnuje: - veškeré náklady spojené s objednatelem požadovanými pracemi Položka nezahrnuje: - x | AT76: PSC | AU76: 1
D77: VV | F77: "dokumentace v tištěné i v elektronické podobě"1 | H77: 1 | AT77: VV | AU77: 1 | AV77: 2 | AW77: True | AX77: 1 | AY77: ROZPOCET
C78: 6 | D78: K | E78: 02944 | F78: OSTAT POŽADAVKY - DOKUMENTACE SKUTEČ PROVEDENÍ V DIGIT FORMĚ | G78: KPL | H78: 1 | J78: =ROUND(I78*H78,2) -> 0 | N78: základní | P78: =O78*H78 -> 0 | Q78: 0 | R78: =Q78*H78 -> 0 | S78: 0 | T78: =S78*H78 -> 0 | AR78: 512 | AT78: K | AU78: 1 | AY78: ROZPOCET | BE78: =IF(N78="základní",J78,0) -> 0 | BF78: =IF(N78="snížená",J78,0) -> 0 | BG78: =IF(N78="zákl. přenesená",J78,0) -> 0 | BH78: =IF(N78="sníž. přenesená",J78,0) -> 0 | BI78: =IF(N78="nulová",J78,0) -> 0 | BJ78: 1 | BK78: =ROUND(I78*H78,2) -> 0 | BL78: 512 | BM78: -416293446
D79: PP | F79: OSTAT POŽADAVKY - DOKUMENTACE SKUTEČ PROVEDENÍ V DIGIT FORMĚ | AT79: PP | AU79: 1
D80: PSC | F80: Poznámka k souboru cen:_x000D_ Položka zahrnuje: - kompletní zeměměřičské práce a činnosti spojené se zaměřením a vyhotovením všech dokončených dílčích částí stavby, včetně po celkovém dokončení stavby zakrytých částí. Vyhotovení geodetické dokumentace skutečného provedení, svojí podrobností, obsahem, přesností, náležitostmi, formou prezentace musí být v souladu s požadavky, vycházející s aktuálně platné legislativy. Položka nezahrnuje: - x | AT80: PSC | AU80: 1
D81: VV | F81: "DSPS elektronicky + tisk v počtu paré určeném investorem"1 | H81: 1 | AT81: VV | AU81: 1 | AV81: 2 | AW81: True | AX81: 1 | AY81: ROZPOCET
C82: 7 | D82: K | E82: 02946 | F82: OSTAT POŽADAVKY - FOTODOKUMENTACE | G82: KPL | H82: 1 | J82: =ROUND(I82*H82,2) -> 0 | N82: základní | P82: =O82*H82 -> 0 | Q82: 0 | R82: =Q82*H82 -> 0 | S82: 0 | T82: =S82*H82 -> 0 | AR82: 512 | AT82: K | AU82: 1 | AY82: ROZPOCET | BE82: =IF(N82="základní",J82,0) -> 0 | BF82: =IF(N82="snížená",J82,0) -> 0 | BG82: =IF(N82="zákl. přenesená",J82,0) -> 0 | BH82: =IF(N82="sníž. přenesená",J82,0) -> 0 | BI82: =IF(N82="nulová",J82,0) -> 0 | BJ82: 1 | BK82: =ROUND(I82*H82,2) -> 0 | BL82: 512 | BM82: -1362056895
D83: PP | F83: OSTAT POŽADAVKY - FOTODOKUMENTACE | AT83: PP | AU83: 1
D84: PSC | F84: Poznámka k souboru cen:_x000D_ Položka zahrnuje: - fotodokumentaci zadavatelem požadovaného děje a konstrukcí v požadovaných časových intervalech - zadavatelem specifikované výstupy (fotografie v papírovém a digitálním formátu) v požadovaném počtu Položka nezahrnuje: - x | AT84: PSC | AU84: 1
D85: VV | F85: "pasportizace budov před výstavbou a po dokončení výstavby"1 | H85: 1 | AT85: VV | AU85: 1 | AV85: 2 | AW85: True | AX85: 1 | AY85: ROZPOCET
C86: 8 | D86: K | E86: 03100 | F86: ZAŘÍZENÍ STAVENIŠTĚ - ZŘÍZENÍ, PROVOZ, DEMONTÁŽ | G86: KPL | H86: 1 | J86: =ROUND(I86*H86,2) -> 0 | N86: základní | P86: =O86*H86 -> 0 | Q86: 0 | R86: =Q86*H86 -> 0 | S86: 0 | T86: =S86*H86 -> 0 | AR86: 512 | AT86: K | AU86: 1 | AY86: ROZPOCET | BE86: =IF(N86="základní",J86,0) -> 0 | BF86: =IF(N86="snížená",J86,0) -> 0 | BG86: =IF(N86="zákl. přenesená",J86,0) -> 0 | BH86: =IF(N86="sníž. přenesená",J86,0) -> 0 | BI86: =IF(N86="nulová",J86,0) -> 0 | BJ86: 1 | BK86: =ROUND(I86*H86,2) -> 0 | BL86: 512 | BM86: -1019219274
D87: PP | F87: ZAŘÍZENÍ STAVENIŠTĚ - ZŘÍZENÍ, PROVOZ, DEMONTÁŽ | AT87: PP | AU87: 1
D88: PSC | F88: Poznámka k souboru cen:_x000D_ Položka zahrnuje: objednatelem povolené náklady na pořízení (event. pronájem), provozování, udržování a likvidaci zhotovitelova zařízení Položka nezahrnuje: - x | AT88: PSC | AU88: 1
D89: P | F89: Poznámka k položce:_x000D_ Vzhledem k místu stavby je nutné dodržovat zejména: průběžný úklid staveniště, průběžné odstraňování a odvoz odpadů a zbytků materiálu, čištění znečištěných komunikací a okolních ploch, odstraňování bláta a nečistot způsobených staveništní dopravou, omezení prašnosti, konečný úklid a vyklizení staveniště._x000D_ | AT89: P | AU89: 1
D90: VV | F90: "zařízení staveniště po celou dobu stavby, včetně udržování pořádku a úklid staveniště"1 | H90: 1 | AT90: VV | AU90: 1 | AV90: 2 | AW90: True | AX90: 1 | AY90: ROZPOCET
C91: 9 | D91: K | E91: 03720 | F91: POMOC PRÁCE ZAJIŠŤ NEBO ZŘÍZ REGULACI A OCHRANU DOPRAVY | G91: KPL | H91: 1 | J91: =ROUND(I91*H91,2) -> 0 | N91: základní | P91: =O91*H91 -> 0 | Q91: 0 | R91: =Q91*H91 -> 0 | S91: 0 | T91: =S91*H91 -> 0 | AR91: 512 | AT91: K | AU91: 1 | AY91: ROZPOCET | BE91: =IF(N91="základní",J91,0) -> 0 | BF91: =IF(N91="snížená",J91,0) -> 0 | BG91: =IF(N91="zákl. přenesená",J91,0) -> 0 | BH91: =IF(N91="sníž. přenesená",J91,0) -> 0 | BI91: =IF(N91="nulová",J91,0) -> 0 | BJ91: 1 | BK91: =ROUND(I91*H91,2) -> 0 | BL91: 512 | BM91: 1855644939
D92: PP | F92: POMOC PRÁCE ZAJIŠŤ NEBO ZŘÍZ REGULACI A OCHRANU DOPRAVY | AT92: PP | AU92: 1
D93: PSC | F93: Poznámka k souboru cen:_x000D_ Položka zahrnuje: - objednatelem povolené náklady na požadovaná zařízení zhotovitele Položka nezahrnuje: - x | AT93: PSC | AU93: 1
D94: P | F94: Poznámka k položce:_x000D_ Zajištění DIO během výstavby včetně projektu a povolení. | AT94: P | AU94: 1
D95: VV | F95: "kompletní DIO"1 | H95: 1 | AT95: VV | AU95: 1 | AV95: 2 | AW95: True | AX95: 1 | AY95: ROZPOCET

Sheet SO 101 - Parkovací stání
L2: >> skryté sloupce << | AT2: {461136b7-66c1-41df-80ac-633cc4519218}
AT3: 2
D4: KRYCÍ LIST SOUPISU PRACÍ | M4: v --- níže se nacházejí doplnkové a pomocné údaje k sestavám --- v | AT4: False
D6: Stavba:
E7: ='Rekapitulace stavby'!K6 -> Parkovací stání u objektu R1 - realizační část
D8: Objekt:
E9: SO 101 - Parkovací stání
D11: Zadavatel: | I11: IČ: | J11: 47114321
E12: Oborová zdravotní pojišťovna zaměstnanců bank, pojišťoven a stavebnictví | I12: DIČ: | J12: CZ47114321
D15: Cena bez DPH | J15: =ROUND(J65, 2) -> 0
E17: zákl. přenesená | F17: =ROUND((SUM(BG65:BG293)), 2) -> 0 | I17: 0.21 | J17: =0 -> 0
E18: sníž. přenesená | F18: =ROUND((SUM(BH65:BH293)), 2) -> 0 | I18: 0.15 | J18: =0 -> 0
E19: nulová | F19: =ROUND((SUM(BI65:BI293)), 2) -> 0 | I19: 0 | J19: =0 -> 0
C25: REKAPITULACE ČLENĚNÍ SOUPISU PRACÍ
C27: Stavba:
E28: =E7 -> Parkovací stání u objektu R1 - realizační část
C29: Objekt:
E30: =E9 -> SO 101 - Parkovací stání
C33: Zadavatel: | F33: =E12 -> Oborová zdravotní pojišťovna zaměstnanců bank, pojišťoven a stavebnictví
C35: Kód dílu - Popis | J35: Cena celkem [CZK]
C37: Náklady ze soupisu prací | J37: =J65 -> 0 | AU37: -1
D38: HSV - Práce a dodávky HSV | J38: =J66 -> 0
D39: 1 - Zemní práce | J39: =J67 -> 0
D40: 2 - Zakládání | J40: =J141 -> 0
D41: 5 - Komunikace pozemní | J41: =J154 -> 0
D42: 8 - Trubní vedení | J42: =J200 -> 0
D43: 9 - Ostatní konstrukce a práce, bourání | J43: =J222 -> 0
D44: PSV - Práce a dodávky PSV | J44: =J257 -> 0
D45: 711 - Izolace proti vodě, vlhkosti a plynům | J45: =J258 -> 0
D46: 742 - Elektroinstalace - slaboproud | J46: =J263 -> 0
D47: OST - Ostatní | J47: =J276 -> 0
C54: SOUPIS PRACÍ
C56: Stavba:
E57: =E7 -> Parkovací stání u objektu R1 - realizační část
C58: Objekt:
E59: =E9 -> SO 101 - Parkovací stání
C62: Zadavatel: | F62: =E12 -> Oborová zdravotní pojišťovna zaměstnanců bank, pojišťoven a stavebnictví
C64: PČ | D64: Typ | E64: Kód | F64: Popis | G64: MJ | H64: Množství | I64: J.cena [CZK] | J64: Cena celkem [CZK] | K64: Cenová soustava | N64: DPH | O64: J. Nh [h] | P64: Nh celkem [h] | Q64: J. hmotnost [t] | R64: Hmotnost celkem [t] | S64: J. suť [t] | T64: Suť Celkem [t]
C65: Náklady soupisu celkem | J65: =BK65 -> 0 | P65: =P66+P257+P276 -> 0 | R65: =R66+R257+R276 -> 0 | T65: =T66+T257+T276 -> 0 | AT65: D | AU65: -1 | BK65: =BK66+BK257+BK276 -> 0
D66: D | E66: HSV | F66: Práce a dodávky HSV | J66: =BK66 -> 0 | P66: =P67+P141+P154+P200+P222 -> 0 | R66: =R67+R141+R154+R200+R222 -> 0 | T66: =T67+T141+T154+T200+T222 -> 0 | AR66: 1 | AT66: D | AU66: 0 | AY66: ROZPOCET | BK66: =BK67+BK141+BK154+BK200+BK222 -> 0
D67: D | E67: 1 | F67: Zemní práce | J67: =BK67 -> 0 | P67: =SUM(P68:P140) -> 0 | R67: =SUM(R68:R140) -> 0 | T67: =SUM(T68:T140) -> 0 | AR67: 1 | AT67: D | AU67: 1 | AY67: ROZPOCET | BK67: =SUM(BK68:BK140) -> 0
C68: 1 | D68: K | E68: 11120 | F68: ODSTRANĚNÍ KŘOVIN | G68: M2 | H68: 60 | J68: =ROUND(I68*H68,2) -> 0 | N68: základní | P68: =O68*H68 -> 0 | Q68: 0 | R68: =Q68*H68 -> 0 | S68: 0 | T68: =S68*H68 -> 0 | AR68: 4 | AT68: K | AU68: 2 | AY68: ROZPOCET | BE68: =IF(N68="základní",J68,0) -> 0 | BF68: =IF(N68="snížená",J68,0) -> 0 | BG68: =IF(N68="zákl. přenesená",J68,0) -> 0 | BH68: =IF(N68="sníž. přenesená",J68,0) -> 0 | BI68: =IF(N68="nulová",J68,0) -> 0 | BJ68: 1 | BK68: =ROUND(I68*H68,2) -> 0 | BL68: 4 | BM68: -960103732
D69: PP | F69: ODSTRANĚNÍ KŘOVIN | AT69: PP | AU69: 2
D70: PSC | F70: Poznámka k souboru cen:_x000D_ Položka zahrnuje: - odstranění křovin a stromů do průměru 100 mm - dopravu dřevin bez ohledu na vzdálenost - spálení na hromadách nebo štěpkování Položka nezahrnuje: - x | AT70: PSC | AU70: 2
D71: VV | F71: "odstranění keřů a souvislých porostů bránících stavbě"1+5+10+9+25+8+2 | H71: 60 | AT71: VV | AU71: 2 | AV71: 2 | AW71: True | AX71: 1 | AY71: ROZPOCET
C72: 2 | D72: K | E72: 11130 | F72: SEJMUTÍ DRNU | G72: M2 | H72: 135 | J72: =ROUND(I72*H72,2) -> 0 | N72: základní | P72: =O72*H72 -> 0 | Q72: 0 | R72: =Q72*H72 -> 0 | S72: 0 | T72: =S72*H72 -> 0 | AR72: 4 | AT72: K | AU72: 2 | AY72: ROZPOCET | BE72: =IF(N72="základní",J72,0) -> 0 | BF72: =IF(N72="snížená",J72,0) -> 0 | BG72: =IF(N72="zákl. přenesená",J72,0) -> 0 | BH72: =IF(N72="sníž. přenesená",J72,0) -> 0 | BI72: =IF(N72="nulová",J72,0) -> 0 | BJ72: 1 | BK72: =ROUND(I72*H72,2) -> 0 | BL72: 4 | BM72: -1972489385
D73: PP | F73: SEJMUTÍ DRNU | AT73: PP | AU73: 2
D74: PSC | F74: Poznámka k souboru cen:_x000D_ Položka zahrnuje: - vodorovnou dopravu a uložení na skládku Položka nezahrnuje: - x | AT74: PSC | AU74: 2
D75: VV | F75: "sejmutí drnu/ornice, tl. 200 mm"135 | H75: 135 | AT75: VV | AU75: 2 | AV75: 2 | AW75: True | AX75: 1 | AY75: ROZPOCET
C76: 3 | D76: K | E76: 11204 | F76: KÁCENÍ STROMŮ D KMENE DO 0,3M S ODSTRANĚNÍM PAŘEZŮ | G76: KUS | H76: 7 | J76: =ROUND(I76*H76,2) -> 0 | N76: základní | P76: =O76*H76 -> 0 | Q76: 0 | R76: =Q76*H76 -> 0 | S76: 0 | T76: =S76*H76 -> 0 | AR76: 4 | AT76: K | AU76: 2 | AY76: ROZPOCET | BE76: =IF(N76="základní",J76,0) -> 0 | BF76: =IF(N76="snížená",J76,0) -> 0 | BG76: =IF(N76="zákl. přenesená",J76,0) -> 0 | BH76: =IF(N76="sníž. přenesená",J76,0) -> 0 | BI76: =IF(N76="nulová",J76,0) -> 0 | BJ76: 1 | BK76: =ROUND(I76*H76,2) -> 0 | BL76: 4 | BM76: 1183843997
D77: PP | F77: KÁCENÍ STROMŮ D KMENE DO 0,3M S ODSTRANĚNÍM PAŘEZŮ | AT77: PP | AU77: 2
D78: PSC | F78: Poznámka k souboru cen:_x000D_ Položka zahrnuje: - poražení stromu a osekání větví - spálení větví na hromadách nebo štěpkování - dopravu a uložení kmenů, případné další práce s nimi dle pokynů zadávací dokumentace - vytrhání nebo vykopání pařezů - veškeré zemní práce spojené s odstraněním pařezů - dopravu a uložení pařezů, případně další práce s nimi dle pokynů zadávací dokumentace - zásyp jam po pařezech Položka nezahrnuje: - x Způsob měření: - kácení stromů se měří v [ks] poražených stromů (průměr stromů se měří ve výšce 1,3m nad terénem) | AT78: PSC | AU78: 2
D79: VV | F79: "kácení stromů"7 | H79: 7 | AT79: VV | AU79: 2 | AV79: 2 | AW79: True | AX79: 1 | AY79: ROZPOCET
C80: 4 | D80: K | E80: 113186 | F80: ODSTRANĚNÍ KRYTU ZPEVNĚNÝCH PLOCH Z DLAŽDIC, ODVOZ DO 12KM | G80: M3 | H80: 39.2 | J80: =ROUND(I80*H80,2) -> 0 | N80: základní | P80: =O80*H80 -> 0 | Q80: 0 | R80: =Q80*H80 -> 0 | S80: 0 | T80: =S80*H80 -> 0 | AR80: 4 | AT80: K | AU80: 2 | AY80: ROZPOCET | BE80: =IF(N80="základní",J80,0) -> 0 | BF80: =IF(N80="snížená",J80,0) -> 0 | BG80: =IF(N80="zákl. přenesená",J80,0) -> 0 | BH80: =IF(N80="sníž. přenesená",J80,0) -> 0 | BI80: =IF(N80="nulová",J80,0) -> 0 | BJ80: 1 | BK80: =ROUND(I80*H80,2) -> 0 | BL80: 4 | BM80: -826038426
D81: PP | F81: ODSTRANĚNÍ KRYTU ZPEVNĚNÝCH PLOCH Z DLAŽDIC, ODVOZ DO 12KM | AT81: PP | AU81: 2
D82: PSC | F82: Poznámka k souboru cen:_x000D_ Položka zahrnuje: - veškerou manipulaci s vybouranou sutí a s vybouranými hmotami vč. uložení na skládku. Položka nezahrnuje: - poplatek za skládku, který se vykazuje v položce 0141** (s výjimkou malého množství bouraného materiálu, kde je možné poplatek zahrnout do jednotkové ceny bourání – tento fakt musí být uveden v doplňujícím textu k položce). jednotkové ceny bourání – tento fakt musí být uveden v doplňujícím textu k položce). | AT82: PSC | AU82: 2
D83: VV | F83: "odstranění zámkové dlažby"(172+235+83)*0,08 | H83: 39.2 | AT83: VV | AU83: 2 | AV83: 2 | AW83: True | AX83: 1 | AY83: ROZPOCET
C84: 5 | D84: K | E84: 113324 | F84: ODSTRANĚNÍ PODKLADŮ ZPEVNĚNÝCH PLOCH Z KAMENIVA NESTMEL, ODVOZ DO 5KM | G84: M3 | H84: 175.81 | J84: =ROUND(I84*H84,2) -> 0 | N84: základní | P84: =O84*H84 -> 0 | Q84: 0 | R84: =Q84*H84 -> 0 | S84: 0 | T84: =S84*H84 -> 0 | AR84: 4 | AT84: K | AU84: 2 | AY84: ROZPOCET | BE84: =IF(N84="základní",J84,0) -> 0 | BF84: =IF(N84="snížená",J84,0) -> 0 | BG84: =IF(N84="zákl. přenesená",J84,0) -> 0 | BH84: =IF(N84="sníž. přenesená",J84,0) -> 0 | BI84: =IF(N84="nulová",J84,0) -> 0 | BJ84: 1 | BK84: =ROUND(I84*H84,2) -> 0 | BL84: 4 | BM84: 512510221
D85: PP | F85: ODSTRAN PODKL ZPEVNĚNÝCH PLOCH Z KAMENIVA NESTMEL, ODVOZ DO 5KM | AT85: PP | AU85: 2
D86: PSC | F86: Poznámka k souboru cen:_x000D_ Položka zahrnuje: - veškerou manipulaci s vybouranou sutí a s vybouranými hmotami vč. uložení na skládku. Položka nezahrnuje: - poplatek za skládku, který se vykazuje v položce 0141** (s výjimkou malého množství bouraného materiálu, kde je možné poplatek zahrnout do jednotkové ceny bourání – tento fakt musí být uveden v doplňujícím textu k položce). | AT86: PSC | AU86: 2
D87: VV | F87: "odstranění podkladních vrstev stávajícího parkoviště - pod vozovkou, hl. 390 mm"(172+82)*(0,39-0,08) | H87: 78.74 | AT87: VV | AU87: 2 | AV87: 2 | AW87: True | AX87: 0 | AY87: ROZPOCET
D88: VV | F88: "odstranění podkladních vrstev stávajícího chodníku, hl. 320 mm"235*(0,32-0,06) | H88: 61.1 | AT88: VV | AU88: 2 | AV88: 2 | AW88: True | AX88: 0 | AY88: ROZPOCET
D89: VV | F89: "odstranění podkladních vrstev nového parkoviště - pod vozovkou, hl. 390 mm"(54+55)*(0,39-0,06) | H89: 35.97 | AT89: VV | AU89: 2 | AV89: 2 | AW89: True | AX89: 0 | AY89: ROZPOCET
C90: 6 | D90: K | E90: 113324.1 | F90: ODSTRAN PODKL ZPEVNĚNÝCH PLOCH Z KAMENIVA NESTMEL, ODVOZ DO 5KM | G90: M3 | H90: 175.6 | J90: =ROUND(I90*H90,2) -> 0 | N90: základní | P90: =O90*H90 -> 0 | Q90: 0 | R90: =Q90*H90 -> 0 | S90: 0 | T90: =S90*H90 -> 0 | AR90: 4 | AT90: K | AU90: 2 | AY90: ROZPOCET | BE90: =IF(N90="základní",J90,0) -> 0 | BF90: =IF(N90="snížená",J90,0) -> 0 | BG90: =IF(N90="zákl. přenesená",J90,0) -> 0 | BH90: =IF(N90="sníž. přenesená",J90,0) -> 0 | BI90: =IF(N90="nulová",J90,0) -> 0 | BJ90: 1 | BK90: =ROUND(I90*H90,2) -> 0 | BL90: 4 | BM90: 1155877204
D91: PP | F91: ODSTRAN PODKL ZPEVNĚNÝCH PLOCH Z KAMENIVA NESTMEL, ODVOZ DO 5KM Čerpání položky se souhlasem investora a TDI. | AT91: PP | AU91: 2
D92: PSC | F92: Poznámka k souboru cen:_x000D_ Položka zahrnuje veškerou manipulaci s vybouranou sutí a s vybouranými hmotami vč. uložení na skládku. Nezahrnuje poplatek za skládku, který se vykazuje v položce 0141** (s výjimkou malého množství bouraného materiálu, kde je možné poplatek zahrnout do jednotkové ceny bourání – tento fakt musí být uveden v doplňujícím textu k položce). | AT92: PSC | AU92: 2
D93: VV | F93: "sanace AZ tl. 400 mm, odhad 100%" | AT93: VV | AU93: 2 | AV93: 1 | AW93: True | AX93: 0 | AY93: ROZPOCET
D94: VV | F94: "vozovka - ŠDA 0/63, tl. 400 mm"204*0,4 | H94: 81.6 | AT94: VV | AU94: 2 | AV94: 2 | AW94: True | AX94: 0 | AY94: ROZPOCET
D95: VV | F95: "parkovací stání - ŠDA 0/63, tl. 400 mm"(112+68+55)*0,4 | H95: 94 | AT95: VV | AU95: 2 | AV95: 2 | AW95: True | AX95: 0 | AY95: ROZPOCET
C96: 7 | D96: K | E96: 113514 | F96: ODSTRANĚNÍ ZÁHONOVÝCH OBRUBNÍKŮ, ODVOZ DO 5KM | G96: M | H96: 46 | J96: =ROUND(I96*H96,2) -> 0 | N96: základní | P96: =O96*H96 -> 0 | Q96: 0 | R96: =Q96*H96 -> 0 | S96: 0 | T96: =S96*H96 -> 0 | AR96: 4 | AT96: K | AU96: 2 | AY96: ROZPOCET | BE96: =IF(N96="základní",J96,0) -> 0 | BF96: =IF(N96="snížená",J96,0) -> 0 | BG96: =IF(N96="zákl. přenesená",J96,0) -> 0 | BH96: =IF(N96="sníž. přenesená",J96,0) -> 0 | BI96: =IF(N96="nulová",J96,0) -> 0 | BJ96: 1 | BK96: =ROUND(I96*H96,2) -> 0 | BL96: 4 | BM96: -1600453781
D97: PP | F97: ODSTRANĚNÍ ZÁHONOVÝCH OBRUBNÍKŮ, ODVOZ DO 5KM | AT97: PP | AU97: 2
D98: PSC | F98: Poznámka k souboru cen:_x000D_ Položka zahrnuje: - veškerou manipulaci s vybouranou sutí a s vybouranými hmotami vč. uložení na skládku. Položka nezahrnuje: - poplatek za skládku, který se vykazuje v položce 0141** (s výjimkou malého množství bouraného materiálu, kde je možné poplatek zahrnout do jednotkové ceny bourání – tento fakt musí být uveden v doplňujícím textu k položce). | AT98: PSC | AU98: 2
D99: VV | F99: "odstranění sadové obruby"24+14+8 | H99: 46 | AT99: VV | AU99: 2 | AV99: 2 | AW99: True | AX99: 1 | AY99: ROZPOCET
C100: 8 | D100: K | E100: 113524 | F100: ODSTRANĚNÍ CHODNÍKOVÝCH A SILNIČNÍCH OBRUBNÍKŮ BETONOVÝCH, ODVOZ DO 5KM | G100: M | H100: 141 | J100: =ROUND(I100*H100,2) -> 0 | N100: základní | P100: =O100*H100 -> 0 | Q100: 0 | R100: =Q100*H100 -> 0 | S100: 0 | T100: =S100*H100 -> 0 | AR100: 4 | AT100: K | AU100: 2 | AY100: ROZPOCET | BE100: =IF(N100="základní",J100,0) -> 0 | BF100: =IF(N100="snížená",J100,0) -> 0 | BG100: =IF(N100="zákl. přenesená",J100,0) -> 0 | BH100: =IF(N100="sníž. přenesená",J100,0) -> 0 | BI100: =IF(N100="nulová",J100,0) -> 0 | BJ100: 1 | BK100: =ROUND(I100*H100,2) -> 0 | BL100: 4 | BM100: -1865018435
D101: PP | F101: ODSTRANĚNÍ CHODNÍKOVÝCH A SILNIČNÍCH OBRUBNÍKŮ BETONOVÝCH, ODVOZ DO 5KM | AT101: PP | AU101: 2
D102: PSC | F102: Poznámka k souboru cen:_x000D_ Položka zahrnuje: - veškerou manipulaci s vybouranou sutí a s vybouranými hmotami vč. uložení na skládku. Položka nezahrnuje: - poplatek za skládku, který se vykazuje v položce 0141** (s výjimkou malého množství bouraného materiálu, kde je možné poplatek zahrnout do jednotkové ceny bourání – tento fakt musí být uveden v doplňujícím textu k položce). | AT102: PSC | AU102: 2
D103: VV | F103: "odstranění silniční obruby"55+46+40 | H103: 141 | AT103: VV | AU103: 2 | AV103: 2 | AW103: True | AX103: 1 | AY103: ROZPOCET
C104: 9 | D104: K | E104: 113724 | F104: FRÉZOVÁNÍ ZPEVNĚNÝCH PLOCH ASFALTOVÝCH, ODVOZ DO 5KM | G104: M3 | H104: 1.4 | J104: =ROUND(I104*H104,2) -> 0 | N104: základní | P104: =O104*H104 -> 0 | Q104: 0 | R104: =Q104*H104 -> 0 | S104: 0 | T104: =S104*H104 -> 0 | AR104: 4 | AT104: K | AU104: 2 | AY104: ROZPOCET | BE104: =IF(N104="základní",J104,0) -> 0 | BF104: =IF(N104="snížená",J104,0) -> 0 | BG104: =IF(N104="zákl. přenesená",J104,0) -> 0 | BH104: =IF(N104="sníž. přenesená",J104,0) -> 0 | BI104: =IF(N104="nulová",J104,0) -> 0 | BJ104: 1 | BK104: =ROUND(I104*H104,2) -> 0 | BL104: 4 | BM104: -415917914
D105: PP | F105: FRÉZOVÁNÍ ZPEVNĚNÝCH PLOCH ASFALTOVÝCH, ODVOZ DO 5KM | AT105: PP | AU105: 2
D106: PSC | F106: Poznámka k souboru cen:_x000D_ Položka zahrnuje: - veškerou manipulaci s vybouranou sutí a s vybouranými hmotami vč. uložení na skládku. Položka nezahrnuje: - poplatek za skládku, který se vykazuje v položce 0141** (s výjimkou malého množství bouraného materiálu, kde je možné poplatek zahrnout do jednotkové ceny bourání – tento fakt musí být uveden v doplňujícím textu k položce). | AT106: PSC | AU106: 2
D107: VV | F107: "fréza, tl. 40 mm - napojení"35*0,04 | H107: 1.4 | AT107: VV | AU107: 2 | AV107: 2 | AW107: True | AX107: 1 | AY107: ROZPOCET
C108: 10 | D108: K | E108: 122736 | F108: ODKOPÁVKY A PROKOPÁVKY OBECNÉ TŘ. I, ODVOZ DO 12KM | G108: M3 | H108: 114.75 | J108: =ROUND(I108*H108,2) -> 0 | N108: základní | P108: =O108*H108 -> 0 | Q108: 0 | R108: =Q108*H108 -> 0 | S108: 0 | T108: =S108*H108 -> 0 | AR108: 4 | AT108: K | AU108: 2 | AY108: ROZPOCET | BE108: =IF(N108="základní",J108,0) -> 0 | BF108: =IF(N108="snížená",J108,0) -> 0 | BG108: =IF(N108="zákl. přenesená",J108,0) -> 0 | BH108: =IF(N108="sníž. přenesená",J108,0) -> 0 | BI108: =IF(N108="nulová",J108,0) -> 0 | BJ108: 1 | BK108: =ROUND(I108*H108,2) -> 0 | BL108: 4 | BM108: 334487897
D109: PP | F109: ODKOPÁVKY A PROKOPÁVKY OBECNÉ TŘ. I, ODVOZ DO 12KM | AT109: PP | AU109: 2
D110: PSC | F110: Poznámka k souboru cen:_x000D_ Položka zahrnuje: - vodorovnou a svislou dopravu, přemístění, přeložení, manipulace s výkopkem - kompletní provedení vykopávky nezapažené i zapažené - ošetření výkopiště po celou dobu práce v něm vč. klimatických opatření - ztížení vykopávek v blízkosti podzemního vedení, konstrukcí a objektů vč. jejich dočasného zajištění - ztížení pod vodou, v okolí výbušnin, ve stísněných prostorech a pod. - příplatek za lepivost - těžení po vrstvách, pásech a po jiných nutných částech (figurách) - čerpání vody vč. čerpacích jímek, potrubí a pohotovostní čerpací soupravy (viz ustanovení k pol. 1151,2) - potřebné snížení hladiny podzemní vody - těžení a rozpojování jednotlivých balvanů - vytahování a nošení výkopku - svahování a přesvah. svahů do konečného tvaru, výměna hornin v podloží a v pláni znehodnocené klimatickými vlivy - ruční vykopávky, odstranění kořenů a napadávek - pažení, vzepření a rozepření vč. přepažování (vyjma pažení záporového a štětových stěn) - úpravu, ochranu a očištění dna, základové spáry, stěn a svahů - zhutnění podloží, případně i svahů vč. svahování - zřízení stupňů v podloží a lavic na svazích, není-li pro tyto práce zřízena samostatná položka - udržování výkopiště a jeho ochrana proti vodě - odvedení nebo obvedení vody v okolí výkopiště a ve výkopišti - třídění výkopku - veškeré pomocné konstrukce umožňující provedení vykopávky (příjezdy, sjezdy, nájezdy, lešení, podpěr. konstr., přemostění, zpevněné plochy, zakrytí a pod.) Položka nezahrnuje: - uložení zeminy (na skládku, do násypu) ani poplatky za skládku, vykazují se v položce č.0141** | AT110: PSC | AU110: 2
D111: VV | F111: "odkop pro podkladní vrstvy parkoviště"135*0,85 | H111: 114.75 | AT111: VV | AU111: 2 | AV111: 2 | AW111: True | AX111: 1 | AY111: ROZPOCET
C112: 11 | D112: K | E112: 122736.1 | F112: ODKOPÁVKY A PROKOPÁVKY OBECNÉ TŘ. I, ODVOZ DO 12KM | G112: M3 | H112: 54 | J112: =ROUND(I112*H112,2) -> 0 | N112: základní | P112: =O112*H112 -> 0 | Q112: 0 | R112: =Q112*H112 -> 0 | S112: 0 | T112: =S112*H112 -> 0 | AR112: 4 | AT112: K | AU112: 2 | AY112: ROZPOCET | BE112: =IF(N112="základní",J112,0) -> 0 | BF112: =IF(N112="snížená",J112,0) -> 0 | BG112: =IF(N112="zákl. přenesená",J112,0) -> 0 | BH112: =IF(N112="sníž. přenesená",J112,0) -> 0 | BI112: =IF(N112="nulová",J112,0) -> 0 | BJ112: 1 | BK112: =ROUND(I112*H112,2) -> 0 | BL112: 4 | BM112: -664803951
D113: PP | F113: ODKOPÁVKY A PROKOPÁVKY OBECNÉ TŘ. I, ODVOZ DO 12KM Čerpání položky se souhlasem investora a TDI. | AT113: PP | AU113: 2
D114: PSC | F114: Poznámka k souboru cen:_x000D_ Položka zahrnuje: - vodorovnou a svislou dopravu, přemístění, přeložení, manipulace s výkopkem - kompletní provedení vykopávky nezapažené i zapažené - ošetření výkopiště po celou dobu práce v něm vč. klimatických opatření - ztížení vykopávek v blízkosti podzemního vedení, konstrukcí a objektů vč. jejich dočasného zajištění - ztížení pod vodou, v okolí výbušnin, ve stísněných prostorech a pod. - příplatek za lepivost - těžení po vrstvách, pásech a po jiných nutných částech (figurách) - čerpání vody vč. čerpacích jímek, potrubí a pohotovostní čerpací soupravy (viz ustanovení k pol. 1151,2) - potřebné snížení hladiny podzemní vody - těžení a rozpojování jednotlivých balvanů - vytahování a nošení výkopku - svahování a přesvah. svahů do konečného tvaru, výměna hornin v podloží a v pláni znehodnocené klimatickými vlivy - ruční vykopávky, odstranění kořenů a napadávek - pažení, vzepření a rozepření vč. přepažování (vyjma pažení záporového a štětových stěn) - úpravu, ochranu a očištění dna, základové spáry, stěn a svahů - zhutnění podloží, případně i svahů vč. svahování - zřízení stupňů v podloží a lavic na svazích, není-li pro tyto práce zřízena samostatná položka - udržování výkopiště a jeho ochrana proti vodě - odvedení nebo obvedení vody v okolí výkopiště a ve výkopišti - třídění výkopku - veškeré pomocné konstrukce umožňující provedení vykopávky (příjezdy, sjezdy, nájezdy, lešení, podpěr. konstr., přemostění, zpevněné plochy, zakrytí a pod.) Položka nezahrnuje: - uložení zeminy (na skládku, do násypu) ani poplatky za skládku, vykazují se v položce č.0141** | AT114: PSC | AU114: 2
D115: VV | F115: "Sanace podkladních vrstev pod parkovištěm"135*0,4 | H115: 54 | AT115: VV | AU115: 2 | AV115: 2 | AW115: True | AX115: 1 | AY115: ROZPOCET
C116: 12 | D116: K | E116: 18241 | F116: ZALOŽENÍ TRÁVNÍKU RUČNÍM VÝSEVEM | G116: M2 | H116: 20 | J116: =ROUND(I116*H116,2) -> 0 | N116: základní | P116: =O116*H116 -> 0 | Q116: 0 | R116: =Q116*H116 -> 0 | S116: 0 | T116: =S116*H116 -> 0 | AR116: 4 | AT116: K | AU116: 2 | AY116: ROZPOCET | BE116: =IF(N116="základní",J116,0) -> 0 | BF116: =IF(N116="snížená",J116,0) -> 0 | BG116: =IF(N116="zákl. přenesená",J116,0) -> 0 | BH116: =IF(N116="sníž. přenesená",J116,0) -> 0 | BI116: =IF(N116="nulová",J116,0) -> 0 | BJ116: 1 | BK116: =ROUND(I116*H116,2) -> 0 | BL116: 4 | BM116: -340879989
D117: PP | F117: ZALOŽENÍ TRÁVNÍKU RUČNÍM VÝSEVEM | AT117: PP | AU117: 2
D118: PSC | F118: Poznámka k souboru cen:_x000D_ Položka zahrnuje: - dodání předepsané travní směsi, její výsev na ornici, zalévání, první pokosení, to vše bez ohledu na sklon terénu Položka nezahrnuje: - x | AT118: PSC | AU118: 2
D119: VV | F119: "založení trávníku - zelené plochy"6+10+4 | H119: 20 | AT119: VV | AU119: 2 | AV119: 2 | AW119: True | AX119: 1 | AY119: ROZPOCET
C120: 13 | D120: K | E120: 18247 | F120: OŠETŘOVÁNÍ TRÁVNÍKU | G120: M2 | H120: 40 | J120: =ROUND(I120*H120,2) -> 0 | N120: základní | P120: =O120*H120 -> 0 | Q120: 0 | R120: =Q120*H120 -> 0 | S120: 0 | T120: =S120*H120 -> 0 | AR120: 4 | AT120: K | AU120: 2 | AY120: ROZPOCET | BE120: =IF(N120="základní",J120,0) -> 0 | BF120: =IF(N120="snížená",J120,0) -> 0 | BG120: =IF(N120="zákl. přenesená",J120,0) -> 0 | BH120: =IF(N120="sníž. přenesená",J120,0) -> 0 | BI120: =IF(N120="nulová",J120,0) -> 0 | BJ120: 1 | BK120: =ROUND(I120*H120,2) -> 0 | BL120: 4 | BM120: 2034599695
D121: PP | F121: OŠETŘOVÁNÍ TRÁVNÍKU | AT121: PP | AU121: 2
D122: PSC | F122: Poznámka k souboru cen:_x000D_ Položka zahrnuje: - pokosení se shrabáním, naložení shrabků na dopravní prostředek, s odvozem a se složením, to vše bez ohledu na sklon terénu - nutné zalití a hnojení Položka nezahrnuje: - x | AT122: PSC | AU122: 2
D123: VV | F123: "viz pol. 18241 - ošetření trávníku 2x po výsadbě"(6+10+4)*2 | H123: 40 | AT123: VV | AU123: 2 | AV123: 2 | AW123: True | AX123: 1 | AY123: ROZPOCET
C124: 14 | D124: K | E124: 184A1 | F124: VYSAZOVÁNÍ KEŘŮ LISTNATÝCH S BALEM VČETNĚ VÝKOPU JAMKY | G124: KUS | H124: 78 | J124: =ROUND(I124*H124,2) -> 0 | N124: základní | P124: =O124*H124 -> 0 | Q124: 0 | R124: =Q124*H124 -> 0 | S124: 0 | T124: =S124*H124 -> 0 | AR124: 4 | AT124: K | AU124: 2 | AY124: ROZPOCET | BE124: =IF(N124="základní",J124,0) -> 0 | BF124: =IF(N124="snížená",J124,0) -> 0 | BG124: =IF(N124="zákl. přenesená",J124,0) -> 0 | BH124: =IF(N124="sníž. přenesená",J124,0) -> 0 | BI124: =IF(N124="nulová",J124,0) -> 0 | BJ124: 1 | BK124: =ROUND(I124*H124,2) -> 0 | BL124: 4 | BM124: 1941468386
D125: PP | F125: VYSAZOVÁNÍ KEŘŮ LISTNATÝCH S BALEM VČETNĚ VÝKOPU JAMKY | AT125: PP | AU125: 2
D126: PSC | F126: Poznámka k souboru cen:_x000D_ Položka zahrnuje: - dodávku projektem předepsaných keřů - hloubení jamek (min. rozměry pro keře 30/30/30cm) s event. výměnou půdy, s hnojením anorganickým hnojivem a přídavkem organického hnojiva dle PD, zálivku, a pod. - veškerý materiál, výrobky a polotovary, včetně mimostaveništní a vnitrostaveništní dopravy (rovněž přesuny), včetně naložení a složení, případně s uložením Položka nezahrnuje: - x | AT126: PSC | AU126: 2
...

Sheet SO 102 - Parkovací stání
L2: >> skryté sloupce << | AT2: {6fa736a8-82ed-4d65-8c4d-8341f4677616}
AT3: 2
D4: KRYCÍ LIST SOUPISU PRACÍ | M4: v --- níže se nacházejí doplnkové a pomocné údaje k sestavám --- v | AT4: False
D6: Stavba:
E7: ='Rekapitulace stavby'!K6 -> Parkovací stání u objektu R1 - realizační část
D8: Objekt:
E9: SO 102 - Parkovací stání
D11: Zadavatel: | I11: IČ: | J11: 47114321
E12: Oborová zdravotní pojišťovna zaměstnanců bank, pojišťoven a stavebnictví | I12: DIČ: | J12: CZ47114321
D15: Cena bez DPH | J15: =ROUND(J64, 2) -> 0
E17: zákl. přenesená | F17: =ROUND((SUM(BG64:BG252)), 2) -> 0 | I17: 0.21 | J17: =0 -> 0
E18: sníž. přenesená | F18: =ROUND((SUM(BH64:BH252)), 2) -> 0 | I18: 0.15 | J18: =0 -> 0
E19: nulová | F19: =ROUND((SUM(BI64:BI252)), 2) -> 0 | I19: 0 | J19: =0 -> 0
C25: REKAPITULACE ČLENĚNÍ SOUPISU PRACÍ
C27: Stavba:
E28: =E7 -> Parkovací stání u objektu R1 - realizační část
C29: Objekt:
E30: =E9 -> SO 102 - Parkovací stání
C33: Zadavatel: | F33: =E12 -> Oborová zdravotní pojišťovna zaměstnanců bank, pojišťoven a stavebnictví
C35: Kód dílu - Popis | J35: Cena celkem [CZK]
C37: Náklady ze soupisu prací | J37: =J64 -> 0 | AU37: -1
D38: HSV - Práce a dodávky HSV | J38: =J65 -> 0
D39: 1 - Zemní práce | J39: =J66 -> 0
D40: 2 - Zakládání | J40: =J115 -> 0
D41: 5 - Komunikace pozemní | J41: =J130 -> 0
D42: 8 - Trubní vedení | J42: =J175 -> 0
D43: 9 - Ostatní konstrukce a práce, bourání | J43: =J189 -> 0
D44: PSV - Práce a dodávky PSV | J44: =J231 -> 0
D45: 711 - Izolace proti vodě, vlhkosti a plynům | J45: =J232 -> 0
D46: OST - Ostatní | J46: =J237 -> 0
C53: SOUPIS PRACÍ
C55: Stavba:
E56: =E7 -> Parkovací stání u objektu R1 - realizační část
C57: Objekt:
E58: =E9 -> SO 102 - Parkovací stání
C61: Zadavatel: | F61: =E12 -> Oborová zdravotní pojišťovna zaměstnanců bank, pojišťoven a stavebnictví
C63: PČ | D63: Typ | E63: Kód | F63: Popis | G63: MJ | H63: Množství | I63: J.cena [CZK] | J63: Cena celkem [CZK] | K63: Cenová soustava | N63: DPH | O63: J. Nh [h] | P63: Nh celkem [h] | Q63: J. hmotnost [t] | R63: Hmotnost celkem [t] | S63: J. suť [t] | T63: Suť Celkem [t]
C64: Náklady soupisu celkem | J64: =BK64 -> 0 | P64: =P65+P231+P237 -> 0 | R64: =R65+R231+R237 -> 0 | T64: =T65+T231+T237 -> 0 | AT64: D | AU64: -1 | BK64: =BK65+BK231+BK237 -> 0
D65: D | E65: HSV | F65: Práce a dodávky HSV | J65: =BK65 -> 0 | P65: =P66+P115+P130+P175+P189 -> 0 | R65: =R66+R115+R130+R175+R189 -> 0 | T65: =T66+T115+T130+T175+T189 -> 0 | AR65: 1 | AT65: D | AU65: 0 | AY65: ROZPOCET | BK65: =BK66+BK115+BK130+BK175+BK189 -> 0
D66: D | E66: 1 | F66: Zemní práce | J66: =BK66 -> 0 | P66: =SUM(P67:P114) -> 0 | R66: =SUM(R67:R114) -> 0 | T66: =SUM(T67:T114) -> 0 | AR66: 1 | AT66: D | AU66: 1 | AY66: ROZPOCET | BK66: =SUM(BK67:BK114) -> 0
C67: 1 | D67: K | E67: 11120 | F67: ODSTRANĚNÍ KŘOVIN | G67: M2 | H67: 147 | J67: =ROUND(I67*H67,2) -> 0 | N67: základní | P67: =O67*H67 -> 0 | Q67: 0 | R67: =Q67*H67 -> 0 | S67: 0 | T67: =S67*H67 -> 0 | AR67: 4 | AT67: K | AU67: 2 | AY67: ROZPOCET | BE67: =IF(N67="základní",J67,0) -> 0 | BF67: =IF(N67="snížená",J67,0) -> 0 | BG67: =IF(N67="zákl. přenesená",J67,0) -> 0 | BH67: =IF(N67="sníž. přenesená",J67,0) -> 0 | BI67: =IF(N67="nulová",J67,0) -> 0 | BJ67: 1 | BK67: =ROUND(I67*H67,2) -> 0 | BL67: 4 | BM67: -879953622
D68: PP | F68: ODSTRANĚNÍ KŘOVIN | AT68: PP | AU68: 2
D69: PSC | F69: Poznámka k souboru cen:_x000D_ Položka zahrnuje: - odstranění křovin a stromů do průměru 100 mm - dopravu dřevin bez ohledu na vzdálenost - spálení na hromadách nebo štěpkování Položka nezahrnuje: - x | AT69: PSC | AU69: 2
D70: VV | F70: "odstranění keřů a souvislých porostů bránících stavbě"17+69+50+11 | H70: 147 | AT70: VV | AU70: 2 | AV70: 2 | AW70: True | AX70: 1 | AY70: ROZPOCET
C71: 2 | D71: K | E71: 11130 | F71: SEJMUTÍ DRNU | G71: M2 | H71: 253 | J71: =ROUND(I71*H71,2) -> 0 | N71: základní | P71: =O71*H71 -> 0 | Q71: 0 | R71: =Q71*H71 -> 0 | S71: 0 | T71: =S71*H71 -> 0 | AR71: 4 | AT71: K | AU71: 2 | AY71: ROZPOCET | BE71: =IF(N71="základní",J71,0) -> 0 | BF71: =IF(N71="snížená",J71,0) -> 0 | BG71: =IF(N71="zákl. přenesená",J71,0) -> 0 | BH71: =IF(N71="sníž. přenesená",J71,0) -> 0 | BI71: =IF(N71="nulová",J71,0) -> 0 | BJ71: 1 | BK71: =ROUND(I71*H71,2) -> 0 | BL71: 4 | BM71: 1097583222
D72: PP | F72: SEJMUTÍ DRNU | AT72: PP | AU72: 2
D73: PSC | F73: Poznámka k souboru cen:_x000D_ Položka zahrnuje: - vodorovnou dopravu a uložení na skládku Položka nezahrnuje: - x | AT73: PSC | AU73: 2
D74: VV | F74: "sejmutí drnu/ornice"(34+36+78+30)+(3,5+20,5+13+13)+25 | H74: 253 | AT74: VV | AU74: 2 | AV74: 2 | AW74: True | AX74: 1 | AY74: ROZPOCET
C75: 3 | D75: K | E75: 113186 | F75: ODSTRANĚNÍ KRYTU ZPEVNĚNÝCH PLOCH Z DLAŽDIC, ODVOZ DO 12KM | G75: M3 | H75: 1.56 | J75: =ROUND(I75*H75,2) -> 0 | N75: základní | P75: =O75*H75 -> 0 | Q75: 0 | R75: =Q75*H75 -> 0 | S75: 0 | T75: =S75*H75 -> 0 | AR75: 4 | AT75: K | AU75: 2 | AY75: ROZPOCET | BE75: =IF(N75="základní",J75,0) -> 0 | BF75: =IF(N75="snížená",J75,0) -> 0 | BG75: =IF(N75="zákl. přenesená",J75,0) -> 0 | BH75: =IF(N75="sníž. přenesená",J75,0) -> 0 | BI75: =IF(N75="nulová",J75,0) -> 0 | BJ75: 1 | BK75: =ROUND(I75*H75,2) -> 0 | BL75: 4 | BM75: 1275964110
D76: PP | F76: ODSTRANĚNÍ KRYTU ZPEVNĚNÝCH PLOCH Z DLAŽDIC, ODVOZ DO 12KM | AT76: PP | AU76: 2
D77: PSC | F77: Poznámka k souboru cen:_x000D_ Položka zahrnuje: - veškerou manipulaci s vybouranou sutí a s vybouranými hmotami vč. uložení na skládku. Položka nezahrnuje: - poplatek za skládku, který se vykazuje v položce 0141** (s výjimkou malého množství bouraného materiálu, kde je možné poplatek zahrnout do jednotkové ceny bourání – tento fakt musí být uveden v doplňujícím textu k položce). jednotkové ceny bourání – tento fakt musí být uveden v doplňujícím textu k položce). | AT77: PSC | AU77: 2
D78: VV | F78: "odstranění zámkové dlažby"26*0,06 | H78: 1.56 | AT78: VV | AU78: 2 | AV78: 2 | AW78: True | AX78: 1 | AY78: ROZPOCET
C79: 4 | D79: K | E79: 113324 | F79: ODSTRANĚNÍ PODKLADŮ ZPEVNĚNÝCH PLOCH Z KAMENIVA NESTMEL, ODVOZ DO 5KM | G79: M3 | H79: 4.68 | J79: =ROUND(I79*H79,2) -> 0 | N79: základní | P79: =O79*H79 -> 0 | Q79: 0 | R79: =Q79*H79 -> 0 | S79: 0 | T79: =S79*H79 -> 0 | AR79: 4 | AT79: K | AU79: 2 | AY79: ROZPOCET | BE79: =IF(N79="základní",J79,0) -> 0 | BF79: =IF(N79="snížená",J79,0) -> 0 | BG79: =IF(N79="zákl. přenesená",J79,0) -> 0 | BH79: =IF(N79="sníž. přenesená",J79,0) -> 0 | BI79: =IF(N79="nulová",J79,0) -> 0 | BJ79: 1 | BK79: =ROUND(I79*H79,2) -> 0 | BL79: 4 | BM79: -2124349633
D80: PP | F80: ODSTRAN PODKL ZPEVNĚNÝCH PLOCH Z KAMENIVA NESTMEL, ODVOZ DO 5KM | AT80: PP | AU80: 2
D81: PSC | F81: Poznámka k souboru cen:_x000D_ Položka zahrnuje: - veškerou manipulaci s vybouranou sutí a s vybouranými hmotami vč. uložení na skládku. Položka nezahrnuje: - poplatek za skládku, který se vykazuje v položce 0141** (s výjimkou malého množství bouraného materiálu, kde je možné poplatek zahrnout do jednotkové ceny bourání – tento fakt musí být uveden v doplňujícím textu k položce). | AT81: PSC | AU81: 2
D82: VV | F82: "odstranění podkladních vrstev stávajícího chodníku, hl. 240 mm"26*(0,24-0,06) | H82: 4.68 | AT82: VV | AU82: 2 | AV82: 2 | AW82: True | AX82: 1 | AY82: ROZPOCET
C83: 5 | D83: K | E83: 113514 | F83: ODSTRANĚNÍ ZÁHONOVÝCH OBRUBNÍKŮ, ODVOZ DO 5KM | G83: M | H83: 40 | J83: =ROUND(I83*H83,2) -> 0 | N83: základní | P83: =O83*H83 -> 0 | Q83: 0 | R83: =Q83*H83 -> 0 | S83: 0 | T83: =S83*H83 -> 0 | AR83: 4 | AT83: K | AU83: 2 | AY83: ROZPOCET | BE83: =IF(N83="základní",J83,0) -> 0 | BF83: =IF(N83="snížená",J83,0) -> 0 | BG83: =IF(N83="zákl. přenesená",J83,0) -> 0 | BH83: =IF(N83="sníž. přenesená",J83,0) -> 0 | BI83: =IF(N83="nulová",J83,0) -> 0 | BJ83: 1 | BK83: =ROUND(I83*H83,2) -> 0 | BL83: 4 | BM83: -1944558762
D84: PP | F84: ODSTRANĚNÍ ZÁHONOVÝCH OBRUBNÍKŮ, ODVOZ DO 5KM | AT84: PP | AU84: 2
D85: PSC | F85: Poznámka k souboru cen:_x000D_ Položka zahrnuje: - veškerou manipulaci s vybouranou sutí a s vybouranými hmotami vč. uložení na skládku. Položka nezahrnuje: - poplatek za skládku, který se vykazuje v položce 0141** (s výjimkou malého množství bouraného materiálu, kde je možné poplatek zahrnout do jednotkové ceny bourání – tento fakt musí být uveden v doplňujícím textu k položce). | AT85: PSC | AU85: 2
D86: VV | F86: "odstranění sadové obruby"19+21 | H86: 40 | AT86: VV | AU86: 2 | AV86: 2 | AW86: True | AX86: 1 | AY86: ROZPOCET
C87: 6 | D87: K | E87: 113524 | F87: ODSTRANĚNÍ CHODNÍKOVÝCH A SILNIČNÍCH OBRUBNÍKŮ BETONOVÝCH, ODVOZ DO 5KM | G87: M | H87: 29 | J87: =ROUND(I87*H87,2) -> 0 | N87: základní | P87: =O87*H87 -> 0 | Q87: 0 | R87: =Q87*H87 -> 0 | S87: 0 | T87: =S87*H87 -> 0 | AR87: 4 | AT87: K | AU87: 2 | AY87: ROZPOCET | BE87: =IF(N87="základní",J87,0) -> 0 | BF87: =IF(N87="snížená",J87,0) -> 0 | BG87: =IF(N87="zákl. přenesená",J87,0) -> 0 | BH87: =IF(N87="sníž. přenesená",J87,0) -> 0 | BI87: =IF(N87="nulová",J87,0) -> 0 | BJ87: 1 | BK87: =ROUND(I87*H87,2) -> 0 | BL87: 4 | BM87: -1219306093
D88: PP | F88: ODSTRANĚNÍ CHODNÍKOVÝCH A SILNIČNÍCH OBRUBNÍKŮ BETONOVÝCH, ODVOZ DO 5KM | AT88: PP | AU88: 2
D89: PSC | F89: Poznámka k souboru cen:_x000D_ Položka zahrnuje: - veškerou manipulaci s vybouranou sutí a s vybouranými hmotami vč. uložení na skládku. Položka nezahrnuje: - poplatek za skládku, který se vykazuje v položce 0141** (s výjimkou malého množství bouraného materiálu, kde je možné poplatek zahrnout do jednotkové ceny bourání – tento fakt musí být uveden v doplňujícím textu k položce). | AT89: PSC | AU89: 2
D90: VV | F90: "odstranění silniční obruby"6+2+21 | H90: 29 | AT90: VV | AU90: 2 | AV90: 2 | AW90: True | AX90: 1 | AY90: ROZPOCET
C91: 7 | D91: K | E91: 11353 | F91: ODSTRANĚNÍ CHODNÍKOVÝCH KAMENNÝCH OBRUBNÍKŮ | G91: M | H91: 7 | J91: =ROUND(I91*H91,2) -> 0 | N91: základní | P91: =O91*H91 -> 0 | Q91: 0 | R91: =Q91*H91 -> 0 | S91: 0 | T91: =S91*H91 -> 0 | AR91: 4 | AT91: K | AU91: 2 | AY91: ROZPOCET | BE91: =IF(N91="základní",J91,0) -> 0 | BF91: =IF(N91="snížená",J91,0) -> 0 | BG91: =IF(N91="zákl. přenesená",J91,0) -> 0 | BH91: =IF(N91="sníž. přenesená",J91,0) -> 0 | BI91: =IF(N91="nulová",J91,0) -> 0 | BJ91: 1 | BK91: =ROUND(I91*H91,2) -> 0 | BL91: 4 | BM91: -1512965551
D92: PP | F92: ODSTRANĚNÍ CHODNÍKOVÝCH KAMENNÝCH OBRUBNÍKŮ | AT92: PP | AU92: 2
D93: PSC | F93: Poznámka k souboru cen:_x000D_ Položka zahrnuje: - veškerou manipulaci s vybouranou sutí a s vybouranými hmotami vč. uložení na skládku. Položka nezahrnuje: - poplatek za skládku, který se vykazuje v položce 0141** (s výjimkou malého množství bouraného materiálu, kde je možné poplatek zahrnout do jednotkové ceny bourání – tento fakt musí být uveden v doplňujícím textu k položce). | AT93: PSC | AU93: 2
D94: P | F94: Poznámka k položce:_x000D_ Povinný odkup zhotovitelem. | AT94: P | AU94: 2
D95: VV | F95: "odstranění kamenné obruby"7 | H95: 7 | AT95: VV | AU95: 2 | AV95: 2 | AW95: True | AX95: 1 | AY95: ROZPOCET
C96: 8 | D96: K | E96: 122736 | F96: ODKOPÁVKY A PROKOPÁVKY OBECNÉ TŘ. I, ODVOZ DO 12KM | G96: M3 | H96: 76.46 | J96: =ROUND(I96*H96,2) -> 0 | N96: základní | P96: =O96*H96 -> 0 | Q96: 0 | R96: =Q96*H96 -> 0 | S96: 0 | T96: =S96*H96 -> 0 | AR96: 4 | AT96: K | AU96: 2 | AY96: ROZPOCET | BE96: =IF(N96="základní",J96,0) -> 0 | BF96: =IF(N96="snížená",J96,0) -> 0 | BG96: =IF(N96="zákl. přenesená",J96,0) -> 0 | BH96: =IF(N96="sníž. přenesená",J96,0) -> 0 | BI96: =IF(N96="nulová",J96,0) -> 0 | BJ96: 1 | BK96: =ROUND(I96*H96,2) -> 0 | BL96: 4 | BM96: 175175412
D97: PP | F97: ODKOPÁVKY A PROKOPÁVKY OBECNÉ TŘ. I, ODVOZ DO 12KM | AT97: PP | AU97: 2
D98: PSC | F98: Poznámka k souboru cen:_x000D_ Položka zahrnuje: - vodorovnou a svislou dopravu, přemístění, přeložení, manipulace s výkopkem - kompletní provedení vykopávky nezapažené i zapažené - ošetření výkopiště po celou dobu práce v něm vč. klimatických opatření - ztížení vykopávek v blízkosti podzemního vedení, konstrukcí a objektů vč. jejich dočasného zajištění - ztížení pod vodou, v okolí výbušnin, ve stísněných prostorech a pod. - příplatek za lepivost - těžení po vrstvách, pásech a po jiných nutných částech (figurách) - čerpání vody vč. čerpacích jímek, potrubí a pohotovostní čerpací soupravy (viz ustanovení k pol. 1151,2) - potřebné snížení hladiny podzemní vody - těžení a rozpojování jednotlivých balvanů - vytahování a nošení výkopku - svahování a přesvah. svahů do konečného tvaru, výměna hornin v podloží a v pláni znehodnocené klimatickými vlivy - ruční vykopávky, odstranění kořenů a napadávek - pažení, vzepření a rozepření vč. přepažování (vyjma pažení záporového a štětových stěn) - úpravu, ochranu a očištění dna, základové spáry, stěn a svahů - zhutnění podloží, případně i svahů vč. svahování - zřízení stupňů v podloží a lavic na svazích, není-li pro tyto práce zřízena samostatná položka - udržování výkopiště a jeho ochrana proti vodě - odvedení nebo obvedení vody v okolí výkopiště a ve výkopišti - třídění výkopku - veškeré pomocné konstrukce umožňující provedení vykopávky (příjezdy, sjezdy, nájezdy, lešení, podpěr. konstr., přemostění, zpevněné plochy, zakrytí a pod.) Položka nezahrnuje: - uložení zeminy (na skládku, do násypu) ani poplatky za skládku, vykazují se v položce č.0141** | AT98: PSC | AU98: 2
D99: VV | F99: "odkop pro podkladní vrstvy parkoviště"(34+36+78+30)*0,32 | H99: 56.96 | AT99: VV | AU99: 2 | AV99: 2 | AW99: True | AX99: 0 | AY99: ROZPOCET
D100: VV | F100: "odkop pro podkladní vrstvy vozovky"(3,5+20,5+13+13)*0,39 | H100: 19.5 | AT100: VV | AU100: 2 | AV100: 2 | AW100: True | AX100: 0 | AY100: ROZPOCET
C101: 9 | D101: K | E101: 122736.1 | F101: ODKOPÁVKY A PROKOPÁVKY OBECNÉ TŘ. I, ODVOZ DO 12KM | G101: M3 | H101: 91.2 | J101: =ROUND(I101*H101,2) -> 0 | N101: základní | P101: =O101*H101 -> 0 | Q101: 0 | R101: =Q101*H101 -> 0 | S101: 0 | T101: =S101*H101 -> 0 | AR101: 4 | AT101: K | AU101: 2 | AY101: ROZPOCET | BE101: =IF(N101="základní",J101,0) -> 0 | BF101: =IF(N101="snížená",J101,0) -> 0 | BG101: =IF(N101="zákl. přenesená",J101,0) -> 0 | BH101: =IF(N101="sníž. přenesená",J101,0) -> 0 | BI101: =IF(N101="nulová",J101,0) -> 0 | BJ101: 1 | BK101: =ROUND(I101*H101,2) -> 0 | BL101: 4 | BM101: 1095288969
D102: PP | F102: ODKOPÁVKY A PROKOPÁVKY OBECNÉ TŘ. I, ODVOZ DO 12KM | AT102: PP | AU102: 2
D103: PSC | F103: Poznámka k souboru cen:_x000D_ Položka zahrnuje: - vodorovnou a svislou dopravu, přemístění, přeložení, manipulace s výkopkem - kompletní provedení vykopávky nezapažené i zapažené - ošetření výkopiště po celou dobu práce v něm vč. klimatických opatření - ztížení vykopávek v blízkosti podzemního vedení, konstrukcí a objektů vč. jejich dočasného zajištění - ztížení pod vodou, v okolí výbušnin, ve stísněných prostorech a pod. - příplatek za lepivost - těžení po vrstvách, pásech a po jiných nutných částech (figurách) - čerpání vody vč. čerpacích jímek, potrubí a pohotovostní čerpací soupravy (viz ustanovení k pol. 1151,2) - potřebné snížení hladiny podzemní vody - těžení a rozpojování jednotlivých balvanů - vytahování a nošení výkopku - svahování a přesvah. svahů do konečného tvaru, výměna hornin v podloží a v pláni znehodnocené klimatickými vlivy - ruční vykopávky, odstranění kořenů a napadávek - pažení, vzepření a rozepření vč. přepažování (vyjma pažení záporového a štětových stěn) - úpravu, ochranu a očištění dna, základové spáry, stěn a svahů - zhutnění podloží, případně i svahů vč. svahování - zřízení stupňů v podloží a lavic na svazích, není-li pro tyto práce zřízena samostatná položka - udržování výkopiště a jeho ochrana proti vodě - odvedení nebo obvedení vody v okolí výkopiště a ve výkopišti - třídění výkopku - veškeré pomocné konstrukce umožňující provedení vykopávky (příjezdy, sjezdy, nájezdy, lešení, podpěr. konstr., přemostění, zpevněné plochy, zakrytí a pod.) Položka nezahrnuje: - uložení zeminy (na skládku, do násypu) ani poplatky za skládku, vykazují se v položce č.0141** | AT103: PSC | AU103: 2
D104: P | F104: Poznámka k položce:_x000D_ Čerpání položky se souhlasem investora a TDI. | AT104: P | AU104: 2
D105: VV | F105: "Sanace podkladních vrstev pod parkovištěm, tl. 400 mm"(34+36+78+30)*0,4 | H105: 71.2 | AT105: VV | AU105: 2 | AV105: 2 | AW105: True | AX105: 0 | AY105: ROZPOCET
D106: VV | F106: "Sanace podkladních vrstev pod vozovkou, tl. 400 mm"(3,5+20,5+13+13)*0,4 | H106: 20 | AT106: VV | AU106: 2 | AV106: 2 | AW106: True | AX106: 0 | AY106: ROZPOCET
C107: 10 | D107: K | E107: 18241 | F107: ZALOŽENÍ TRÁVNÍKU RUČNÍM VÝSEVEM | G107: M2 | H107: 72 | J107: =ROUND(I107*H107,2) -> 0 | N107: základní | P107: =O107*H107 -> 0 | Q107: 0 | R107: =Q107*H107 -> 0 | S107: 0 | T107: =S107*H107 -> 0 | AR107: 4 | AT107: K | AU107: 2 | AY107: ROZPOCET | BE107: =IF(N107="základní",J107,0) -> 0 | BF107: =IF(N107="snížená",J107,0) -> 0 | BG107: =IF(N107="zákl. přenesená",J107,0) -> 0 | BH107: =IF(N107="sníž. přenesená",J107,0) -> 0 | BI107: =IF(N107="nulová",J107,0) -> 0 | BJ107: 1 | BK107: =ROUND(I107*H107,2) -> 0 | BL107: 4 | BM107: 2062675248
D108: PP | F108: ZALOŽENÍ TRÁVNÍKU RUČNÍM VÝSEVEM | AT108: PP | AU108: 2
D109: PSC | F109: Poznámka k souboru cen:_x000D_ Položka zahrnuje: - dodání předepsané travní směsi, její výsev na ornici, zalévání, první pokosení, to vše bez ohledu na sklon terénu Položka nezahrnuje: - x | AT109: PSC | AU109: 2
D110: VV | F110: "založení trávníku - zelené plochy"72 | H110: 72 | AT110: VV | AU110: 2 | AV110: 2 | AW110: True | AX110: 1 | AY110: ROZPOCET
C111: 11 | D111: K | E111: 18247 | F111: OŠETŘOVÁNÍ TRÁVNÍKU | G111: M2 | H111: 144 | J111: =ROUND(I111*H111,2) -> 0 | N111: základní | P111: =O111*H111 -> 0 | Q111: 0 | R111: =Q111*H111 -> 0 | S111: 0 | T111: =S111*H111 -> 0 | AR111: 4 | AT111: K | AU111: 2 | AY111: ROZPOCET | BE111: =IF(N111="základní",J111,0) -> 0 | BF111: =IF(N111="snížená",J111,0) -> 0 | BG111: =IF(N111="zákl. přenesená",J111,0) -> 0 | BH111: =IF(N111="sníž. přenesená",J111,0) -> 0 | BI111: =IF(N111="nulová",J111,0) -> 0 | BJ111: 1 | BK111: =ROUND(I111*H111,2) -> 0 | BL111: 4 | BM111: -272069296
D112: PP | F112: OŠETŘOVÁNÍ TRÁVNÍKU | AT112: PP | AU112: 2
D113: PSC | F113: Poznámka k souboru cen:_x000D_ Položka zahrnuje: - pokosení se shrabáním, naložení shrabků na dopravní prostředek, s odvozem a se složením, to vše bez ohledu na sklon terénu - nutné zalití a hnojení Položka nezahrnuje: - x | AT113: PSC | AU113: 2
D114: VV | F114: "viz pol. 18241 - ošetření trávníku 2x po výsadbě"(72)*2 | H114: 144 | AT114: VV | AU114: 2 | AV114: 2 | AW114: True | AX114: 1 | AY114: ROZPOCET
D115: D | E115: 2 | F115: Zakládání | J115: =BK115 -> 0 | P115: =SUM(P116:P129) -> 0 | R115: =SUM(R116:R129) -> 0 | T115: =SUM(T116:T129) -> 0 | AR115: 1 | AT115: D | AU115: 1 | AY115: ROZPOCET | BK115: =SUM(BK116:BK129) -> 0
C116: 12 | D116: K | E116: 21452 | F116: SANAČNÍ VRSTVY Z KAMENIVA DRCENÉHO | G116: M3 | H116: 84.8 | J116: =ROUND(I116*H116,2) -> 0 | N116: základní | P116: =O116*H116 -> 0 | Q116: 0 | R116: =Q116*H116 -> 0 | S116: 0 | T116: =S116*H116 -> 0 | AR116: 4 | AT116: K | AU116: 2 | AY116: ROZPOCET | BE116: =IF(N116="základní",J116,0) -> 0 | BF116: =IF(N116="snížená",J116,0) -> 0 | BG116: =IF(N116="zákl. přenesená",J116,0) -> 0 | BH116: =IF(N116="sníž. přenesená",J116,0) -> 0 | BI116: =IF(N116="nulová",J116,0) -> 0 | BJ116: 1 | BK116: =ROUND(I116*H116,2) -> 0 | BL116: 4 | BM116: -588955005
D117: PP | F117: SANAČNÍ VRSTVY Z KAMENIVA DRCENÉHO | AT117: PP | AU117: 2
D118: PSC | F118: Poznámka k souboru cen:_x000D_ Položka zahrnuje: - dodávku předepsaného kameniva - mimostaveništní a vnitrostaveništní dopravu a jeho uložení - není-li v zadávací dokumentaci uvedeno jinak, jedná se o nakupovaný materiál Položka nezahrnuje: - x | AT118: PSC | AU118: 2
D119: P | F119: Poznámka k položce:_x000D_ Čerpání položky se souhlasem investora a TDI. | AT119: P | AU119: 2
D120: VV | F120: "sanace AZ tl. 400 mm, odhad 100%" | AT120: VV | AU120: 2 | AV120: 1 | AW120: True | AX120: 0 | AY120: ROZPOCET
D121: VV | F121: "vozovka - ŠDA 0/63, tl. 400 mm"(3,5+20,5+13+13)*0,4 | H121: 20 | AT121: VV | AU121: 2 | AV121: 2 | AW121: True | AX121: 0 | AY121: ROZPOCET
D122: VV | F122: "parkovací stání - ŠDA 0/63, tl. 400 mm"(30+32+73+27)*0,4 | H122: 64.8 | AT122: VV | AU122: 2 | AV122: 2 | AW122: True | AX122: 0 | AY122: ROZPOCET
C123: 13 | D123: K | E123: 214611 | F123: SEPARAČNÍ GEOTEXTILIE S1 S NEVÝZNAMNOU FILTRAČNÍ FUNKCÍ | G123: M2 | H123: 238.4 | J123: =ROUND(I123*H123,2) -> 0 | N123: základní | P123: =O123*H123 -> 0 | Q123: 0 | R123: =Q123*H123 -> 0 | S123: 0 | T123: =S123*H123 -> 0 | AR123: 4 | AT123: K | AU123: 2 | AY123: ROZPOCET | BE123: =IF(N123="základní",J123,0) -> 0 | BF123: =IF(N123="snížená",J123,0) -> 0 | BG123: =IF(N123="zákl. přenesená",J123,0) -> 0 | BH123: =IF(N123="sníž. přenesená",J123,0) -> 0 | BI123: =IF(N123="nulová",J123,0) -> 0 | BJ123: 1 | BK123: =ROUND(I123*H123,2) -> 0 | BL123: 4 | BM123: 2091912262
D124: PP | F124: SEPARAČNÍ GEOTEXTILIE S1 S NEVÝZNAMNOU FILTRAČNÍ FUNKCÍ | AT124: PP | AU124: 2
D125: PSC | F125: Poznámka k souboru cen:_x000D_ Položka zahrnuje: - dodávku předepsané geotextilie - úpravu, očištění a ochranu podkladu - přichycení k podkladu, případně zatížení - úpravy spojů a zajištění okrajů - úpravy pro odvodnění - nutné přesahy (nezapočítávají se do výměry) - mimostaveništní a vnitrostaveništní dopravu Položka nezahrnuje: - x | AT125: PSC | AU125: 2
D126: P | F126: Poznámka k položce:_x000D_ Čerpání položky se souhlasem investora a TDI. | AT126: P | AU126: 2
...
