Workbook

Sheet Rekapitulace stavby
A1: Export Komplet | BA1: 2.0 | BT1: False | BU1: False | BV1: {e7789ce6-4191-44b0-9aec-54169f49e43d}
AR2: >> skryté sloupce << | BS2: 0,01 | BT2: 21
BS3: 0,01 | BT3: 15
D4: REKAPITULACE STAVBY | AS4: v --- níže se nacházejí doplnkové a pomocné údaje k sestavám --- v | BS4: 0,001
BS5: 0,01
D6: Stavba: | K6: Parkovací stání u objektu R1 - realizační část | BS6: 0,01
D7: Zadavatel: | AK7: IČ: | AN7: 47114321 | BS7: 0,01
E8: Oborová zdravotní pojišťovna zaměstnanců bank, pojišťoven a stavebnictví | AK8: DIČ: | AN8: CZ47114321 | BS8: 0,01
BS9: 0,01
D12: Celková cena Díla v Kč bez DPH (automatický dopočet) | AK12: =ROUND(AG26,2) -> 0
C18: REKAPITULACE OBJEKTŮ STAVBY A SOUPISŮ PRACÍ
C20: Stavba: | L20: =K6 -> Parkovací stání u objektu R1 - realizační část
C22: Zadavatel: | L22: =IF(E8= "","",E8) -> Oborová zdravotní pojišťovna zaměstnanců bank, pojišťoven a stavebnictví | AS22: Informatívní údaje z listů zakázek
C24: Kód | I24: Popis | AG24: Cena bez DPH [CZK] | AQ24: Typ | AS24: z toho Ostat._x000D_ náklady [CZK] | AT24: DPH [CZK] | AU24: Normohodiny [h] | AV24: DPH základní [CZK] | AW24: DPH snížená [CZK] | AX24: DPH základní přenesená_x000D_ [CZK] | AY24: DPH snížená přenesená_x000D_ [CZK] | AZ24: Základna_x000D_ DPH základní | BA24: Základna_x000D_ DPH snížená | BB24: Základna_x000D_ DPH zákl. přenesená | BC24: Základna_x000D_ DPH sníž. přenesená | BD24: Základna_x000D_ DPH nulová
C26: Náklady z rozpočtů | AG26: =ROUND(SUM(AG27:AG29),2) -> 0 | AS26: =ROUND(SUM(AS27:AS29),2) -> 0 | AT26: =ROUND(SUM(AV26:AW26),2) -> #REF! | AU26: =ROUND(SUM(AU27:AU29),5) -> 0 | AV26: =ROUND(AZ26*#REF!,2) -> #REF! | AW26: =ROUND(BA26*#REF!,2) -> #REF! | AX26: =ROUND(BB26*#REF!,2) -> #REF! | AY26: =ROUND(BC26*#REF!,2) -> #REF! | AZ26: =ROUND(SUM(AZ27:AZ29),2) -> #REF! | BA26: =ROUND(SUM(BA27:BA29),2) -> #REF! | BB26: =ROUND(SUM(BB27:BB29),2) -> 0 | BC26: =ROUND(SUM(BC27:BC29),2) -> 0 | BD26: =ROUND(SUM(BD27:BD29),2) -> 0 | BS26: D | BT26: 0 | BU26: ###NOIMPORT### | BV26: IMPORT | BW26: {e7789ce6-4191-44b0-9aec-54169f49e43d} | BX26: {00000000-0000-0000-0000-000000000000}
A27: / | D27: SO 000 | J27: Vedlejší rozpočtové náklady | AG27: ='SO 000 - Vedlejší rozpočt...'!J15 -> 0 | AQ27: STA | AS27: 0 | AT27: =ROUND(SUM(AV27:AW27),2) -> #REF! | AU27: ='SO 000 - Vedlejší rozpočt...'!P56 -> 0 | AV27: ='SO 000 - Vedlejší rozpočt...'!#REF! -> #REF! | AW27: ='SO 000 - Vedlejší rozpočt...'!#REF! -> #REF! | AX27: ='SO 000 - Vedlejší rozpočt...'!J17 -> 0 | AY27: ='SO 000 - Vedlejší rozpočt...'!J18 -> 0 | AZ27: ='SO 000 - Vedlejší rozpočt...'!#REF! -> #REF! | BA27: ='SO 000 - Vedlejší rozpočt...'!#REF! -> #REF! | BB27: ='SO 000 - Vedlejší rozpočt...'!F17 -> 0 | BC27: ='SO 000 - Vedlejší rozpočt...'!F18 -> 0 | BD27: ='SO 000 - Vedlejší rozpočt...'!F19 -> 0 | BT27: 1 | BV27: IMPORT | BW27: {ba0b56d9-e742-4af2-9add-c07dee842976} | BX27: {e7789ce6-4191-44b0-9aec-54169f49e43d} | CM27: 2
A28: / | D28: SO 101 | J28: Parkovací stání | AG28: ='SO 101 - Parkovací stání'!J15 -> 0 | AQ28: STA | AS28: 0 | AT28: =ROUND(SUM(AV28:AW28),2) -> #REF! | AU28: ='SO 101 - Parkovací stání'!P65 -> 0 | AV28: ='SO 101 - Parkovací stání'!#REF! -> #REF! | AW28: ='SO 101 - Parkovací stání'!#REF! -> #REF! | AX28: ='SO 101 - Parkovací stání'!J17 -> 0 | AY28: ='SO 101 - Parkovací stání'!J18 -> 0 | AZ28: ='SO 101 - Parkovací stání'!#REF! -> #REF! | BA28: ='SO 101 - Parkovací stání'!#REF! -> #REF! | BB28: ='SO 101 - Parkovací stání'!F17 -> 0 | BC28: ='SO 101 - Parkovací stání'!F18 -> 0 | BD28: ='SO 101 - Parkovací stání'!F19 -> 0 | BT28: 1 | BV28: IMPORT | BW28: {461136b7-66c1-41df-80ac-633cc4519218} | BX28: {e7789ce6-4191-44b0-9aec-54169f49e43d} | CM28: 2
A29: / | D29: SO 102 | J29: Parkovací stání | AG29: ='SO 102 - Parkovací stání'!J15 -> 0 | AQ29: STA | AS29: 0 | AT29: =ROUND(SUM(AV29:AW29),2) -> #REF! | AU29: ='SO 102 - Parkovací stání'!P64 -> 0 | AV29: ='SO 102 - Parkovací stání'!#REF! -> #REF! | AW29: ='SO 102 - Parkovací stání'!#REF! -> #REF! | AX29: ='SO 102 - Parkovací stání'!J17 -> 0 | AY29: ='SO 102 - Parkovací stání'!J18 -> 0 | AZ29: ='SO 102 - Parkovací stání'!#REF! -> #REF! | BA29: ='SO 102 - Parkovací stání'!#REF! -> #REF! | BB29: ='SO 102 - Parkovací stání'!F17 -> 0 | BC29: ='SO 102 - Parkovací stání'!F18 -> 0 | BD29: ='SO 102 - Parkovací stání'!F19 -> 0 | BT29: 1 | BV29: IMPORT | BW29: {6fa736a8-82ed-4d65-8c4d-8341f4677616} | BX29: {e7789ce6-4191-44b0-9aec-54169f49e43d} | CM29: 2

Sheet SO 000 - Vedlejší rozpočt...
L2: >> skryté sloupce << | AT2: {ba0b56d9-e742-4af2-9add-c07dee842976}
AT3: 2
D4: KRYCÍ LIST SOUPISU PRACÍ | M4: v --- níže se nacházejí doplnkové a pomocné údaje k sestavám --- v | AT4: False
D6: Stavba:
E7: ='Rekapitulace stavby'!K6 -> Parkovací stání u objektu R1 - realizační část
D8: Objekt:
E9: SO 000 - Vedlejší rozpočtové náklady
D11: Zadavatel: | I11: IČ: | J11: 47114321
E12: Oborová zdravotní pojišťovna zaměstnanců bank, pojišťoven a stavebnictví | I12: DIČ: | J12: CZ47114321
D15: Cena bez DPH | J15: =ROUND(J56, 2) -> 0
E17: zákl. přenesená | F17: =ROUND((SUM(BG56:BG95)), 2) -> 0 | I17: 0.21 | J17: =0 -> 0
E18: sníž. přenesená | F18: =ROUND((SUM(BH56:BH95)), 2) -> 0 | I18: 0.15 | J18: =0 -> 0
E19: nulová | F19: =ROUND((SUM(BI56:BI95)), 2) -> 0 | I19: 0 | J19: =0 -> 0
C25: REKAPITULACE ČLENĚNÍ SOUPISU PRACÍ
C27: Stavba:
E28: =E7 -> Parkovací stání u objektu R1 - realizační část
C29: Objekt:
E30: =E9 -> SO 000 - Vedlejší rozpočtové náklady
C33: Zadavatel: | F33: =E12 -> Oborová zdravotní pojišťovna zaměstnanců bank, pojišťoven a stavebnictví
C35: Kód dílu - Popis | J35: Cena celkem [CZK]
C37: Náklady ze soupisu prací | J37: =J56 -> 0 | AU37: -1
D38: OST - Ostatní | J38: =J57 -> 0
C45: SOUPIS PRACÍ
C47: Stavba:
E48: =E7 -> Parkovací stání u objektu R1 - realizační část
C49: Objekt:
E50: =E9 -> SO 000 - Vedlejší rozpočtové náklady
C53: Zadavatel: | F53: =E12 -> Oborová zdravotní pojišťovna zaměstnanců bank, pojišťoven a stavebnictví
C55: PČ | D55: Typ | E55: Kód | F55: Popis | G55: MJ | H55: Množství | I55: J.cena [CZK] | J55: Cena celkem [CZK] | K55: Cenová soustava | N55: DPH | O55: J. Nh [h] | P55: Nh celkem [h] | Q55: J. hmotnost [t] | R55: Hmotnost celkem [t] | S55: J. suť [t] | T55: Suť Celkem [t]
C56: Náklady soupisu celkem | J56: =BK56 -> 0 | P56: =P57 -> 0 | R56: =R57 -> 0 | T56: =T57 -> 0 | AT56: D | AU56: -1 | BK56: =BK57 -> 0
D57: D | E57: OST | F57: Ostatní | J57: =BK57 -> 0 | P57: =SUM(P62:P95) -> 0 | R57: =SUM(R62:R95) -> 0 | T57: =SUM(T62:T95) -> 0 | AR57: 4 | AT57: D | AU57: 0 | AY57: ROZPOCET | BK57: =SUM(BK58:BK95) -> 0
C58: 1 | D58: K | F58: ZAJIŠTĚNÍ ADMINISTRATIVNÍCH ZÁLEŽITOSTÍ VYPLÝVAJÍCÍCH ZE STAVEBNÍHO POVOLENÍ DLE ČL. IV. ODST. 4. SMLOUVY O DÍLO | G58: KPL | H58: 1 | J58: =ROUND(I58*H58,2) -> 0 | BK58: =ROUND(I58*H58,2) -> 0 | BL58: 4
D59: PP | F59: ZAJIŠTĚNÍ ADMINISTRATIVNÍCH ZÁLEŽITOSTÍ VYPLÝVAJÍCÍCH ZE STAVEBNÍHO POVOLENÍ DLE ČL. IV. ODST. 4. SMLOUVY O DÍLO
D60: PSC | F60: Poznámka k souboru cen: Položka zahrnuje: - veškeré náklady spojené se zajištěním administrativních záležitostí vyplývajících ze Stavebního povolení Položka nezahrnuje: - x
D61: VV | F61: "zajištění administrativních záležitostí"1 | H61: 1
C62: 2 | D62: K | E62: 02730 | F62: POMOC PRÁCE ZŘÍZ NEBO ZAJIŠŤ OCHRANU INŽENÝRSKÝCH SÍTÍ | G62: KPL | H62: 1 | J62: =ROUND(I62*H62,2) -> 0 | N62: základní | P62: =O62*H62 -> 0 | Q62: 0 | R62: =Q62*H62 -> 0 | S62: 0 | T62: =S62*H62 -> 0 | AR62: 4 | AT62: K | AU62: 1 | AY62: ROZPOCET | BE62: =IF(N62="základní",J62,0) -> 0 | BF62: =IF(N62="snížená",J62,0) -> 0 | BG62: =IF(N62="zákl. přenesená",J62,0) -> 0 | BH62: =IF(N62="sníž. přenesená",J62,0) -> 0 | BI62: =IF(N62="nulová",J62,0) -> 0 | BJ62: 1 | BK62: =ROUND(I62*H62,2) -> 0 | BL62: 4 | BM62: -1016456296
D63: PP | F63: POMOC PRÁCE ZŘÍZ NEBO ZAJIŠŤ OCHRANU INŽENÝRSKÝCH SÍTÍ | AT63: PP | AU63: 1
D64: PSC | F64: Poznámka k souboru cen:_x000D_ Položka zahrnuje: - veškeré náklady spojené s ochranou inženýrských sítí Položka nezahrnuje: - x | AT64: PSC | AU64: 1
D65: VV | F65: "zajištění vytyčení IS"1 | H65: 1 | AT65: VV | AU65: 1 | AV65: 2 | AW65: True | AX65: 1 | AY65: ROZPOCET
C66: 3 | D66: K | E66: 02910 | F66: OSTATNÍ POŽADAVKY - ZEMĚMĚŘICKÁ MĚŘENÍ VE VÝSTAVBĚ | G66: KPL | H66: 1 | J66: =ROUND(I66*H66,2) -> 0 | N66: základní | P66: =O66*H66 -> 0 | Q66: 0 | R66: =Q66*H66 -> 0 | S66: 0 | T66: =S66*H66 -> 0 | AR66: 512 | AT66: K | AU66: 1 | AY66: ROZPOCET | BE66: =IF(N66="základní",J66,0) -> 0 | BF66: =IF(N66="snížená",J66,0) -> 0 | BG66: =IF(N66="zákl. přenesená",J66,0) -> 0 | BH66: =IF(N66="sníž. přenesená",J66,0) -> 0 | BI66: =IF(N66="nulová",J66,0) -> 0 | BJ66: 1 | BK66: =ROUND(I66*H66,2) -> 0 | BL66: 512 | BM66: 730519079
...

Sheet SO 101 - Parkovací stání
L2: >> skryté sloupce << | AT2: {461136b7-66c1-41df-80ac-633cc4519218}
AT3: 2
D4: KRYCÍ LIST SOUPISU PRACÍ | M4: v --- níže se nacházejí doplnkové a pomocné údaje k sestavám --- v | AT4: False
D6: Stavba:
E7: ='Rekapitulace stavby'!K6 -> Parkovací stání u objektu R1 - realizační část
D8: Objekt:
E9: SO 101 - Parkovací stání
D11: Zadavatel: | I11: IČ: | J11: 47114321
E12: Oborová zdravotní pojišťovna zaměstnanců bank, pojišťoven a stavebnictví | I12: DIČ: | J12: CZ47114321
D15: Cena bez DPH | J15: =ROUND(J65, 2) -> 0
E17: zákl. přenesená | F17: =ROUND((SUM(BG65:BG293)), 2) -> 0 | I17: 0.21 | J17: =0 -> 0
E18: sníž. přenesená | F18: =ROUND((SUM(BH65:BH293)), 2) -> 0 | I18: 0.15 | J18: =0 -> 0
E19: nulová | F19: =ROUND((SUM(BI65:BI293)), 2) -> 0 | I19: 0 | J19: =0 -> 0
C25: REKAPITULACE ČLENĚNÍ SOUPISU PRACÍ
C27: Stavba:
E28: =E7 -> Parkovací stání u objektu R1 - realizační část
C29: Objekt:
E30: =E9 -> SO 101 - Parkovací stání
C33: Zadavatel: | F33: =E12 -> Oborová zdravotní pojišťovna zaměstnanců bank, pojišťoven a stavebnictví
C35: Kód dílu - Popis | J35: Cena celkem [CZK]
C37: Náklady ze soupisu prací | J37: =J65 -> 0 | AU37: -1
D38: HSV - Práce a dodávky HSV | J38: =J66 -> 0
D39: 1 - Zemní práce | J39: =J67 -> 0
D40: 2 - Zakládání | J40: =J141 -> 0
D41: 5 - Komunikace pozemní | J41: =J154 -> 0
D42: 8 - Trubní vedení | J42: =J200 -> 0
D43: 9 - Ostatní konstrukce a práce, bourání | J43: =J222 -> 0
D44: PSV - Práce a dodávky PSV | J44: =J257 -> 0
D45: 711 - Izolace proti vodě, vlhkosti a plynům | J45: =J258 -> 0
D46: 742 - Elektroinstalace - slaboproud | J46: =J263 -> 0
D47: OST - Ostatní | J47: =J276 -> 0
C54: SOUPIS PRACÍ
C56: Stavba:
E57: =E7 -> Parkovací stání u objektu R1 - realizační část
C58: Objekt:
E59: =E9 -> SO 101 - Parkovací stání
C62: Zadavatel: | F62: =E12 -> Oborová zdravotní pojišťovna zaměstnanců bank, pojišťoven a stavebnictví
C64: PČ | D64: Typ | E64: Kód | F64: Popis | G64: MJ | H64: Množství | I64: J.cena [CZK] | J64: Cena celkem [CZK] | K64: Cenová soustava | N64: DPH | O64: J. Nh [h] | P64: Nh celkem [h] | Q64: J. hmotnost [t] | R64: Hmotnost celkem [t] | S64: J. suť [t] | T64: Suť Celkem [t]
C65: Náklady soupisu celkem | J65: =BK65 -> 0 | P65: =P66+P257+P276 -> 0 | R65: =R66+R257+R276 -> 0 | T65: =T66+T257+T276 -> 0 | AT65: D | AU65: -1 | BK65: =BK66+BK257+BK276 -> 0
D66: D | E66: HSV | F66: Práce a dodávky HSV | J66: =BK66 -> 0 | P66: =P67+P141+P154+P200+P222 -> 0 | R66: =R67+R141+R154+R200+R222 -> 0 | T66: =T67+T141+T154+T200+T222 -> 0 | AR66: 1 | AT66: D | AU66: 0 | AY66: ROZPOCET | BK66: =BK67+BK141+BK154+BK200+BK222 -> 0
...

Sheet SO 102 - Parkovací stání
L2: >> skryté sloupce << | AT2: {6fa736a8-82ed-4d65-8c4d-8341f4677616}
AT3: 2
D4: KRYCÍ LIST SOUPISU PRACÍ | M4: v --- níže se nacházejí doplnkové a pomocné údaje k sestavám --- v | AT4: False
D6: Stavba:
E7: ='Rekapitulace stavby'!K6 -> Parkovací stání u objektu R1 - realizační část
D8: Objekt:
E9: SO 102 - Parkovací stání
D11: Zadavatel: | I11: IČ: | J11: 47114321
E12: Oborová zdravotní pojišťovna zaměstnanců bank, pojišťoven a stavebnictví | I12: DIČ: | J12: CZ47114321
D15: Cena bez DPH | J15: =ROUND(J64, 2) -> 0
E17: zákl. přenesená | F17: =ROUND((SUM(BG64:BG252)), 2) -> 0 | I17: 0.21 | J17: =0 -> 0
E18: sníž. přenesená | F18: =ROUND((SUM(BH64:BH252)), 2) -> 0 | I18: 0.15 | J18: =0 -> 0
E19: nulová | F19: =ROUND((SUM(BI64:BI252)), 2) -> 0 | I19: 0 | J19: =0 -> 0
C25: REKAPITULACE ČLENĚNÍ SOUPISU PRACÍ
C27: Stavba:
E28: =E7 -> Parkovací stání u objektu R1 - realizační část
C29: Objekt:
E30: =E9 -> SO 102 - Parkovací stání
C33: Zadavatel: | F33: =E12 -> Oborová zdravotní pojišťovna zaměstnanců bank, pojišťoven a stavebnictví
C35: Kód dílu - Popis | J35: Cena celkem [CZK]
C37: Náklady ze soupisu prací | J37: =J64 -> 0 | AU37: -1
D38: HSV - Práce a dodávky HSV | J38: =J65 -> 0
D39: 1 - Zemní práce | J39: =J66 -> 0
D40: 2 - Zakládání | J40: =J115 -> 0
D41: 5 - Komunikace pozemní | J41: =J130 -> 0
D42: 8 - Trubní vedení | J42: =J175 -> 0
D43: 9 - Ostatní konstrukce a práce, bourání | J43: =J189 -> 0
D44: PSV - Práce a dodávky PSV | J44: =J231 -> 0
D45: 711 - Izolace proti vodě, vlhkosti a plynům | J45: =J232 -> 0
D46: OST - Ostatní | J46: =J237 -> 0
C53: SOUPIS PRACÍ
C55: Stavba:
E56: =E7 -> Parkovací stání u objektu R1 - realizační část
C57: Objekt:
E58: =E9 -> SO 102 - Parkovací stání
C61: Zadavatel: | F61: =E12 -> Oborová zdravotní pojišťovna zaměstnanců bank, pojišťoven a stavebnictví
C63: PČ | D63: Typ | E63: Kód | F63: Popis | G63: MJ | H63: Množství | I63: J.cena [CZK] | J63: Cena celkem [CZK] | K63: Cenová soustava | N63: DPH | O63: J. Nh [h] | P63: Nh celkem [h] | Q63: J. hmotnost [t] | R63: Hmotnost celkem [t] | S63: J. suť [t] | T63: Suť Celkem [t]
C64: Náklady soupisu celkem | J64: =BK64 -> 0 | P64: =P65+P231+P237 -> 0 | R64: =R65+R231+R237 -> 0 | T64: =T65+T231+T237 -> 0 | AT64: D | AU64: -1 | BK64: =BK65+BK231+BK237 -> 0
D65: D | E65: HSV | F65: Práce a dodávky HSV | J65: =BK65 -> 0 | P65: =P66+P115+P130+P175+P189 -> 0 | R65: =R66+R115+R130+R175+R189 -> 0 | T65: =T66+T115+T130+T175+T189 -> 0 | AR65: 1 | AT65: D | AU65: 0 | AY65: ROZPOCET | BK65: =BK66+BK115+BK130+BK175+BK189 -> 0
D66: D | E66: 1 | F66: Zemní práce | J66: =BK66 -> 0 | P66: =SUM(P67:P114) -> 0 | R66: =SUM(R67:R114) -> 0 | T66: =SUM(T67:T114) -> 0 | AR66: 1 | AT66: D | AU66: 1 | AY66: ROZPOCET | BK66: =SUM(BK67:BK114) -> 0
...
