Workbook

Sheet Rekapitulace stavby
A1: Export Komplet | BA1: 2.0 | BT1: False | BU1: False | BV1: {0459766a-1a35-4240-91ce-8d5e7c39c9ba}
AR2: >> skryté sloupce << | BS2: 0,01 | BT2: 21
BS3: 0,01 | BT3: 15
D4: REKAPITULACE STAVBY | AS4: v --- níže se nacházejí doplnkové a pomocné údaje k sestavám --- v | BS4: 0,001
D5: Kód: | K5: 2023-05-05 | BS5: 0,01
D6: Stavba: | K6: Stavební úpravy - školní jídelna Želetava | BS6: 0,01
D7: KSO: | AK7: CC-CZ: | BS7: 0,01
D8: Místo: | K8: Želetava | AK8: Datum: | AN8: 11. 5. 2023 | BS8: 0,01
BS9: 0,01
D10: Zadavatel: | AK10: IČ: | BS10: 0,01
E11: městys Želetava | AK11: DIČ: | BS11: 0,01
BS12: 0,01
D13: Zhotovitel: | AK13: IČ: | BS13: 0,01
AK14: DIČ: | BS14: 0,01
BS15: False
D16: Projektant: | AK16: IČ: | BS16: False
E17: TeS, spol. s r.o., David Myška | AK17: DIČ: | BS17: True
BS18: 1
D19: Zpracovatel: | AK19: IČ: | BS19: 1
E20: Martin Lang | AK20: DIČ: | BS20: False
D22: Poznámka:
D26: Cena bez DPH | AK26: =ROUND(AG94,0) -> #REF!
L28: Sazba daně | W28: Základ daně | AK28: Výše daně
D29: DPH | F29: základní | L29: 0.21 | W29: =ROUND(AZ94, 0) -> 0 | AK29: =ROUND(AV94, 0) -> 0
F30: snížená | L30: 0.15 | W30: =ROUND(BA94, 0) -> 0 | AK30: =ROUND(AW94, 0) -> 0
F31: zákl. přenesená | L31: 0.21 | W31: =ROUND(BB94, 0) -> 0 | AK31: 0
F32: sníž. přenesená | L32: 0.15 | W32: =ROUND(BC94, 0) -> 0 | AK32: 0
F33: nulová | L33: 0 | W33: =ROUND(BD94, 0) -> 0 | AK33: 0
D35: Cena s DPH | T35: v | X35: CZK | AK35: =SUM(AK26:AK33) -> #REF!
D49: Projektant | AH49: Zpracovatel
D60: Datum a podpis: | V60: Razítko | AH60: Datum a podpis: | AM60: Razítko
D64: Objednavatel | AH64: Zhotovitel
D75: Datum a podpis: | V75: Razítko | AH75: Datum a podpis: | AM75: Razítko
C82: REKAPITULACE OBJEKTŮ STAVBY A SOUPISŮ PRACÍ
C84: Kód: | L84: =K5 -> 2023-05-05
C85: Stavba: | L85: =K6 -> Stavební úpravy - školní jídelna Želetava
C87: Místo: | L87: =IF(K8="","",K8) -> Želetava | AI87: Datum: | AM87: =IF(AN8= "","",AN8) -> 11. 5. 2023
C89: Zadavatel: | L89: =IF(E11= "","",E11) -> městys Želetava | AI89: Projektant: | AM89: =IF(E17="","",E17) -> TeS, spol. s r.o., David Myška | AS89: Informatívní údaje z listů zakázek
C90: Zhotovitel: | L90: =IF(E14="","",E14) | AI90: Zpracovatel: | AM90: =IF(E20="","",E20) -> Martin Lang
C92: Kód | I92: Popis | AG92: Cena bez DPH [CZK] | AN92: Cena s DPH [CZK] | AQ92: Typ | AS92: z toho Ostat._x000D_ náklady [CZK] | AT92: DPH [CZK] | AU92: Normohodiny [h] | AV92: DPH základní [CZK] | AW92: DPH snížená [CZK] | AX92: DPH základní přenesená_x000D_ [CZK] | AY92: DPH snížená přenesená_x000D_ [CZK] | AZ92: Základna_x000D_ DPH základní | BA92: Základna_x000D_ DPH snížená | BB92: Základna_x000D_ DPH zákl. přenesená | BC92: Základna_x000D_ DPH sníž. přenesená | BD92: Základna_x000D_ DPH nulová
...

Sheet 01 - Stavební úpravy
L2: >> skryté sloupce << | AT2: {f8bfa993-27cd-4b89-beac-fc38c67d8b12}
AT3: 2
D4: KRYCÍ LIST SOUPISU PRACÍ | M4: v --- níže se nacházejí doplnkové a pomocné údaje k sestavám --- v | AT4: False
D6: Stavba:
E7: ='Rekapitulace stavby'!K6 -> Stavební úpravy - školní jídelna Želetava
D8: Objekt:
E9: 01 - Stavební úpravy
D11: KSO:
D12: Místo: | F12: Želetava | J12: ='Rekapitulace stavby'!AN8 -> 11. 5. 2023
D14: Zadavatel:
E15: městys Želetava
D17: Zhotovitel: | J17: ='Rekapitulace stavby'!AN13
E18: ='Rekapitulace stavby'!E14 | J18: ='Rekapitulace stavby'!AN14
D20: Projektant:
E21: TeS, spol. s r.o., David Myška
D23: Zpracovatel:
E24: Martin Lang
D26: Poznámka:
D30: Cena bez DPH | J30: =ROUND(J134, 0) -> 0
F32: Základ daně | J32: Výše daně
D33: DPH | E33: základní | F33: =ROUND((SUM(BE134:BE741)), 0) -> 0 | J33: =ROUND(((SUM(BE134:BE741))*I33), 0) -> 0
E34: snížená | F34: =ROUND((SUM(BF134:BF741)), 0) -> 0 | J34: =ROUND(((SUM(BF134:BF741))*I34), 0) -> 0
E35: zákl. přenesená | F35: =ROUND((SUM(BG134:BG741)), 0) -> 0 | J35: =0 -> 0
E36: sníž. přenesená | F36: =ROUND((SUM(BH134:BH741)), 0) -> 0 | J36: =0 -> 0
E37: nulová | F37: =ROUND((SUM(BI134:BI741)), 0) -> 0 | J37: =0 -> 0
D39: Cena s DPH | G39: v | H39: CZK | J39: =SUM(J30:J37) -> 0
D50: Projektant | G50: Zpracovatel
D61: Datum a podpis: | F61: Razítko | G61: Datum a podpis: | J61: Razítko
D65: Objednavatel | G65: Zhotovitel
D76: Datum a podpis: | F76: Razítko | G76: Datum a podpis: | J76: Razítko
C82: REKAPITULACE ČLENĚNÍ SOUPISU PRACÍ
C84: Stavba:
E85: =E7 -> Stavební úpravy - školní jídelna Želetava
C86: Objekt:
E87: =E9 -> 01 - Stavební úpravy
C89: Místo: | F89: =F12 -> Želetava | J89: =IF(J12="","",J12) -> 11. 5. 2023
C91: Zadavatel: | F91: =E15 -> městys Želetava | J91: =E21 -> TeS, spol. s r.o., David Myška
C92: Zhotovitel: | F92: =IF(E18="","",E18) | J92: =E24 -> Martin Lang
C94: Kód dílu - Popis | J94: Cena celkem [CZK]
C96: Náklady ze soupisu prací | J96: =J97+J103 -> 0 | AU96: -1
...

Sheet 02 - Zateplení - fasáda, ...
L2: >> skryté sloupce << | AT2: {7ee5baa0-6442-4f9c-a248-b29be3072820}
AT3: 2
D4: KRYCÍ LIST SOUPISU PRACÍ | M4: v --- níže se nacházejí doplnkové a pomocné údaje k sestavám --- v | AT4: False
D6: Stavba:
E7: ='Rekapitulace stavby'!K6 -> Stavební úpravy - školní jídelna Želetava
D8: Objekt:
E9: 02 - Zateplení - fasáda, střecha
D11: KSO:
D12: Místo: | F12: Želetava | J12: ='Rekapitulace stavby'!AN8 -> 11. 5. 2023
D14: Zadavatel:
E15: městys Želetava
D17: Zhotovitel: | J17: ='Rekapitulace stavby'!AN13
E18: ='Rekapitulace stavby'!E14 | J18: ='Rekapitulace stavby'!AN14
D20: Projektant:
E21: TeS, spol. s r.o., David Myška
D23: Zpracovatel:
E24: Martin Lang
D26: Poznámka:
D30: Cena bez DPH | J30: =ROUND(J130, 0) -> 0
F32: Základ daně | J32: Výše daně
D33: DPH | E33: základní | F33: =ROUND((SUM(BE130:BE327)), 0) -> 0 | J33: =ROUND(((SUM(BE130:BE327))*I33), 0) -> 0
E34: snížená | F34: =ROUND((SUM(BF130:BF327)), 0) -> 0 | J34: =ROUND(((SUM(BF130:BF327))*I34), 0) -> 0
E35: zákl. přenesená | F35: =ROUND((SUM(BG130:BG327)), 0) -> 0 | J35: =0 -> 0
E36: sníž. přenesená | F36: =ROUND((SUM(BH130:BH327)), 0) -> 0 | J36: =0 -> 0
E37: nulová | F37: =ROUND((SUM(BI130:BI327)), 0) -> 0 | J37: =0 -> 0
D39: Cena s DPH | G39: v | H39: CZK | J39: =SUM(J30:J37) -> 0
D50: Projektant | G50: Zpracovatel
D61: Datum a podpis: | F61: Razítko | G61: Datum a podpis: | J61: Razítko
D65: Objednavatel | G65: Zhotovitel
D76: Datum a podpis: | F76: Razítko | G76: Datum a podpis: | J76: Razítko
C82: REKAPITULACE ČLENĚNÍ SOUPISU PRACÍ
C84: Stavba:
E85: =E7 -> Stavební úpravy - školní jídelna Želetava
C86: Objekt:
E87: =E9 -> 02 - Zateplení - fasáda, střecha
C89: Místo: | F89: =F12 -> Želetava | J89: =IF(J12="","",J12) -> 11. 5. 2023
C91: Zadavatel: | F91: =E15 -> městys Želetava | J91: =E21 -> TeS, spol. s r.o., David Myška
C92: Zhotovitel: | F92: =IF(E18="","",E18) | J92: =E24 -> Martin Lang
C94: Kód dílu - Popis | J94: Cena celkem [CZK]
C96: Náklady ze soupisu prací | J96: =J130 -> 0 | AU96: -1
...

Sheet 03 - ZTI - vodovod
L2: >> skryté sloupce << | AT2: {7d763962-92b8-43fd-8d31-4426f2323fd4}
AT3: 2
D4: KRYCÍ LIST SOUPISU PRACÍ | M4: v --- níže se nacházejí doplnkové a pomocné údaje k sestavám --- v | AT4: False
D6: Stavba:
E7: ='Rekapitulace stavby'!K6 -> Stavební úpravy - školní jídelna Želetava
D8: Objekt:
E9: 03 - ZTI - vodovod
D11: KSO:
D12: Místo: | F12: Želetava | J12: ='Rekapitulace stavby'!AN8 -> 11. 5. 2023
D14: Zadavatel:
E15: městys Želetava
D17: Zhotovitel: | J17: ='Rekapitulace stavby'!AN13
E18: ='Rekapitulace stavby'!E14 | J18: ='Rekapitulace stavby'!AN14
D20: Projektant:
E21: TeS, spol. s r.o., David Myška
D23: Zpracovatel:
E24: Martin Lang
D26: Poznámka:
D30: Cena bez DPH | J30: =ROUND(J123, 0) -> 0
F32: Základ daně | J32: Výše daně
D33: DPH | E33: základní | F33: =ROUND((SUM(BE123:BE194)), 0) -> 0 | J33: =ROUND(((SUM(BE123:BE194))*I33), 0) -> 0
E34: snížená | F34: =ROUND((SUM(BF123:BF194)), 0) -> 0 | J34: =ROUND(((SUM(BF123:BF194))*I34), 0) -> 0
E35: zákl. přenesená | F35: =ROUND((SUM(BG123:BG194)), 0) -> 0 | J35: =0 -> 0
E36: sníž. přenesená | F36: =ROUND((SUM(BH123:BH194)), 0) -> 0 | J36: =0 -> 0
E37: nulová | F37: =ROUND((SUM(BI123:BI194)), 0) -> 0 | J37: =0 -> 0
D39: Cena s DPH | G39: v | H39: CZK | J39: =SUM(J30:J37) -> 0
D50: Projektant | G50: Zpracovatel
D61: Datum a podpis: | F61: Razítko | G61: Datum a podpis: | J61: Razítko
D65: Objednavatel | G65: Zhotovitel
D76: Datum a podpis: | F76: Razítko | G76: Datum a podpis: | J76: Razítko
C82: REKAPITULACE ČLENĚNÍ SOUPISU PRACÍ
C84: Stavba:
E85: =E7 -> Stavební úpravy - školní jídelna Želetava
C86: Objekt:
E87: =E9 -> 03 - ZTI - vodovod
C89: Místo: | F89: =F12 -> Želetava | J89: =IF(J12="","",J12) -> 11. 5. 2023
C91: Zadavatel: | F91: =E15 -> městys Želetava | J91: =E21 -> TeS, spol. s r.o., David Myška
C92: Zhotovitel: | F92: =IF(E18="","",E18) | J92: =E24 -> Martin Lang
C94: Kód dílu - Popis | J94: Cena celkem [CZK]
C96: Náklady ze soupisu prací | J96: =J123 -> 0 | AU96: -1
...

Sheet 04 - Plynovod
L2: >> skryté sloupce << | AT2: {853c5c0b-b6e5-4680-a7ce-99dc8c884c54}
AT3: 2
D4: KRYCÍ LIST SOUPISU PRACÍ | M4: v --- níže se nacházejí doplnkové a pomocné údaje k sestavám --- v | AT4: False
D6: Stavba:
E7: ='Rekapitulace stavby'!K6 -> Stavební úpravy - školní jídelna Želetava
D8: Objekt:
E9: 04 - Plynovod
D11: KSO:
D12: Místo: | F12: Želetava | J12: ='Rekapitulace stavby'!AN8 -> 11. 5. 2023
D14: Zadavatel:
E15: městys Želetava
D17: Zhotovitel: | J17: ='Rekapitulace stavby'!AN13
E18: ='Rekapitulace stavby'!E14 | J18: ='Rekapitulace stavby'!AN14
D20: Projektant:
E21: TeS, spol. s r.o., David Myška
D23: Zpracovatel:
E24: Martin Lang
D26: Poznámka:
D30: Cena bez DPH | J30: =ROUND(J121, 0) -> 0
F32: Základ daně | J32: Výše daně
D33: DPH | E33: základní | F33: =ROUND((SUM(BE121:BE147)), 0) -> 0 | J33: =ROUND(((SUM(BE121:BE147))*I33), 0) -> 0
E34: snížená | F34: =ROUND((SUM(BF121:BF147)), 0) -> 0 | J34: =ROUND(((SUM(BF121:BF147))*I34), 0) -> 0
E35: zákl. přenesená | F35: =ROUND((SUM(BG121:BG147)), 0) -> 0 | J35: =0 -> 0
E36: sníž. přenesená | F36: =ROUND((SUM(BH121:BH147)), 0) -> 0 | J36: =0 -> 0
E37: nulová | F37: =ROUND((SUM(BI121:BI147)), 0) -> 0 | J37: =0 -> 0
D39: Cena s DPH | G39: v | H39: CZK | J39: =SUM(J30:J37) -> 0
D50: Projektant | G50: Zpracovatel
D61: Datum a podpis: | F61: Razítko | G61: Datum a podpis: | J61: Razítko
D65: Objednavatel | G65: Zhotovitel
D76: Datum a podpis: | F76: Razítko | G76: Datum a podpis: | J76: Razítko
C82: REKAPITULACE ČLENĚNÍ SOUPISU PRACÍ
C84: Stavba:
E85: =E7 -> Stavební úpravy - školní jídelna Želetava
C86: Objekt:
E87: =E9 -> 04 - Plynovod
C89: Místo: | F89: =F12 -> Želetava | J89: =IF(J12="","",J12) -> 11. 5. 2023
C91: Zadavatel: | F91: =E15 -> městys Želetava | J91: =E21 -> TeS, spol. s r.o., David Myška
C92: Zhotovitel: | F92: =IF(E18="","",E18) | J92: =E24 -> Martin Lang
C94: Kód dílu - Popis | J94: Cena celkem [CZK]
C96: Náklady ze soupisu prací | J96: =J121 -> 0 | AU96: -1
...

Sheet 05 - Kanalizace, zařizova...
L2: >> skryté sloupce << | AT2: {6165c517-c37f-4db3-a3e9-3a1cfa05f30b}
AT3: 2
D4: KRYCÍ LIST SOUPISU PRACÍ | M4: v --- níže se nacházejí doplnkové a pomocné údaje k sestavám --- v | AT4: False
D6: Stavba:
E7: ='Rekapitulace stavby'!K6 -> Stavební úpravy - školní jídelna Želetava
D8: Objekt:
E9: 05 - Kanalizace, zařizovací předměty
D11: KSO:
D12: Místo: | F12: Želetava | J12: ='Rekapitulace stavby'!AN8 -> 11. 5. 2023
D14: Zadavatel:
E15: městys Želetava
D17: Zhotovitel: | J17: ='Rekapitulace stavby'!AN13
E18: ='Rekapitulace stavby'!E14 | J18: ='Rekapitulace stavby'!AN14
D20: Projektant:
E21: TeS, spol. s r.o., David Myška
D23: Zpracovatel:
E24: Martin Lang
D26: Poznámka:
D30: Cena bez DPH | J30: =ROUND(J121, 0) -> 0
F32: Základ daně | J32: Výše daně
D33: DPH | E33: základní | F33: =ROUND((SUM(BE121:BE163)), 0) -> 0 | J33: =ROUND(((SUM(BE121:BE163))*I33), 0) -> 0
E34: snížená | F34: =ROUND((SUM(BF121:BF163)), 0) -> 0 | J34: =ROUND(((SUM(BF121:BF163))*I34), 0) -> 0
E35: zákl. přenesená | F35: =ROUND((SUM(BG121:BG163)), 0) -> 0 | J35: =0 -> 0
E36: sníž. přenesená | F36: =ROUND((SUM(BH121:BH163)), 0) -> 0 | J36: =0 -> 0
E37: nulová | F37: =ROUND((SUM(BI121:BI163)), 0) -> 0 | J37: =0 -> 0
D39: Cena s DPH | G39: v | H39: CZK | J39: =SUM(J30:J37) -> 0
D50: Projektant | G50: Zpracovatel
D61: Datum a podpis: | F61: Razítko | G61: Datum a podpis: | J61: Razítko
D65: Objednavatel | G65: Zhotovitel
D76: Datum a podpis: | F76: Razítko | G76: Datum a podpis: | J76: Razítko
C82: REKAPITULACE ČLENĚNÍ SOUPISU PRACÍ
C84: Stavba:
E85: =E7 -> Stavební úpravy - školní jídelna Želetava
C86: Objekt:
E87: =E9 -> 05 - Kanalizace, zařizovací předměty
C89: Místo: | F89: =F12 -> Želetava | J89: =IF(J12="","",J12) -> 11. 5. 2023
C91: Zadavatel: | F91: =E15 -> městys Želetava | J91: =E21 -> TeS, spol. s r.o., David Myška
C92: Zhotovitel: | F92: =IF(E18="","",E18) | J92: =E24 -> Martin Lang
C94: Kód dílu - Popis | J94: Cena celkem [CZK]
C96: Náklady ze soupisu prací | J96: =J121 -> 0 | AU96: -1
...

Sheet 06 - Venkovní kanalizace
L2: >> skryté sloupce << | AT2: {443f8fa5-d1c0-41d9-997b-169523c5888f}
AT3: 2
D4: KRYCÍ LIST SOUPISU PRACÍ | M4: v --- níže se nacházejí doplnkové a pomocné údaje k sestavám --- v | AT4: False
D6: Stavba:
E7: ='Rekapitulace stavby'!K6 -> Stavební úpravy - školní jídelna Želetava
D8: Objekt:
E9: 06 - Venkovní kanalizace
D11: KSO:
D12: Místo: | F12: Želetava | J12: ='Rekapitulace stavby'!AN8 -> 11. 5. 2023
D14: Zadavatel:
E15: městys Želetava
D17: Zhotovitel: | J17: ='Rekapitulace stavby'!AN13
E18: ='Rekapitulace stavby'!E14 | J18: ='Rekapitulace stavby'!AN14
D20: Projektant:
E21: TeS, spol. s r.o., David Myška
D23: Zpracovatel:
E24: Martin Lang
D26: Poznámka:
D30: Cena bez DPH | J30: =ROUND(J122, 0) -> 0
F32: Základ daně | J32: Výše daně
D33: DPH | E33: základní | F33: =ROUND((SUM(BE122:BE206)), 0) -> 0 | J33: =ROUND(((SUM(BE122:BE206))*I33), 0) -> 0
E34: snížená | F34: =ROUND((SUM(BF122:BF206)), 0) -> 0 | J34: =ROUND(((SUM(BF122:BF206))*I34), 0) -> 0
E35: zákl. přenesená | F35: =ROUND((SUM(BG122:BG206)), 0) -> 0 | J35: =0 -> 0
E36: sníž. přenesená | F36: =ROUND((SUM(BH122:BH206)), 0) -> 0 | J36: =0 -> 0
E37: nulová | F37: =ROUND((SUM(BI122:BI206)), 0) -> 0 | J37: =0 -> 0
D39: Cena s DPH | G39: v | H39: CZK | J39: =SUM(J30:J37) -> 0
D50: Projektant | G50: Zpracovatel
D61: Datum a podpis: | F61: Razítko | G61: Datum a podpis: | J61: Razítko
D65: Objednavatel | G65: Zhotovitel
D76: Datum a podpis: | F76: Razítko | G76: Datum a podpis: | J76: Razítko
C82: REKAPITULACE ČLENĚNÍ SOUPISU PRACÍ
C84: Stavba:
E85: =E7 -> Stavební úpravy - školní jídelna Želetava
C86: Objekt:
E87: =E9 -> 06 - Venkovní kanalizace
C89: Místo: | F89: =F12 -> Želetava | J89: =IF(J12="","",J12) -> 11. 5. 2023
C91: Zadavatel: | F91: =E15 -> městys Želetava | J91: =E21 -> TeS, spol. s r.o., David Myška
C92: Zhotovitel: | F92: =IF(E18="","",E18) | J92: =E24 -> Martin Lang
C94: Kód dílu - Popis | J94: Cena celkem [CZK]
C96: Náklady ze soupisu prací | J96: =J122 -> 0 | AU96: -1
...

Sheet 07 - Ústřední vytápění
L2: >> skryté sloupce << | AT2: {a327eb2e-f5f2-4572-bfe1-6fdc5687594d}
AT3: 2
D4: KRYCÍ LIST SOUPISU PRACÍ | M4: v --- níže se nacházejí doplnkové a pomocné údaje k sestavám --- v | AT4: False
D6: Stavba:
E7: ='Rekapitulace stavby'!K6 -> Stavební úpravy - školní jídelna Želetava
D8: Objekt:
E9: 07 - Ústřední vytápění
D11: KSO:
D12: Místo: | F12: Želetava | J12: ='Rekapitulace stavby'!AN8 -> 11. 5. 2023
D14: Zadavatel:
E15: městys Želetava
D17: Zhotovitel: | J17: ='Rekapitulace stavby'!AN13
E18: ='Rekapitulace stavby'!E14 | J18: ='Rekapitulace stavby'!AN14
D20: Projektant:
E21: TeS, spol. s r.o., David Myška
D23: Zpracovatel:
E24: Martin Lang
D26: Poznámka:
D30: Cena bez DPH | J30: =ROUND(J124, 0) -> 0
F32: Základ daně | J32: Výše daně
D33: DPH | E33: základní | F33: =ROUND((SUM(BE124:BE174)), 0) -> 0 | J33: =ROUND(((SUM(BE124:BE174))*I33), 0) -> 0
E34: snížená | F34: =ROUND((SUM(BF124:BF174)), 0) -> 0 | J34: =ROUND(((SUM(BF124:BF174))*I34), 0) -> 0
E35: zákl. přenesená | F35: =ROUND((SUM(BG124:BG174)), 0) -> 0 | J35: =0 -> 0
E36: sníž. přenesená | F36: =ROUND((SUM(BH124:BH174)), 0) -> 0 | J36: =0 -> 0
E37: nulová | F37: =ROUND((SUM(BI124:BI174)), 0) -> 0 | J37: =0 -> 0
D39: Cena s DPH | G39: v | H39: CZK | J39: =SUM(J30:J37) -> 0
D50: Projektant | G50: Zpracovatel
D61: Datum a podpis: | F61: Razítko | G61: Datum a podpis: | J61: Razítko
D65: Objednavatel | G65: Zhotovitel
D76: Datum a podpis: | F76: Razítko | G76: Datum a podpis: | J76: Razítko
C82: REKAPITULACE ČLENĚNÍ SOUPISU PRACÍ
C84: Stavba:
E85: =E7 -> Stavební úpravy - školní jídelna Želetava
C86: Objekt:
E87: =E9 -> 07 - Ústřední vytápění
C89: Místo: | F89: =F12 -> Želetava | J89: =IF(J12="","",J12) -> 11. 5. 2023
C91: Zadavatel: | F91: =E15 -> městys Želetava | J91: =E21 -> TeS, spol. s r.o., David Myška
C92: Zhotovitel: | F92: =IF(E18="","",E18) | J92: =E24 -> Martin Lang
C94: Kód dílu - Popis | J94: Cena celkem [CZK]
C96: Náklady ze soupisu prací | J96: =J124 -> 0 | AU96: -1
...

Sheet 08 - Elektroinstalace
AT2: {45e013ef-7428-4c95-9c9e-c548daed7ed3}
AT3: 2
D4: KRYCÍ LIST SOUPISU PRACÍ | M4: v --- níže se nacházejí doplnkové a pomocné údaje k sestavám --- v | AT4: False
D6: Stavba:
E7: Stavební úpravy školní jídelny Želetava
D8: Objekt: Školní jídelna Želetava
E9: 006 - Elektroinstalace
D11: KSO:
D12: Místo: | J12: 45017
D14: Zadavatel: Městys Želetava
D17: Uchazeč:
D20: Projektant:
D23: Zpracovatel:
D26: Poznámka:
D30: Cena bez DPH | J30: =ROUND(J122, 2) -> 0
F32: Základ daně | J32: Výše daně
D33: DPH | E33: základní | F33: =ROUND((SUM(BE122:BE268)), 2) -> 0 | J33: =ROUND(((SUM(BE122:BE268))*I33), 2) -> 0
E34: snížená | F34: =ROUND((SUM(BF122:BF268)), 2) -> 0 | J34: =ROUND(((SUM(BF122:BF268))*I34), 2) -> 0
E35: zákl. přenesená | F35: =ROUND((SUM(BG122:BG268)), 2) -> 0 | J35: =0 -> 0
E36: sníž. přenesená | F36: =ROUND((SUM(BH122:BH268)), 2) -> 0 | J36: =0 -> 0
E37: nulová | F37: =ROUND((SUM(BI122:BI268)), 2) -> 0 | J37: =0 -> 0
D39: Cena s DPH | G39: v | H39: CZK | J39: =SUM(J30:J37) -> 0
D50: Projektant | G50: Zpracovatel
D61: Datum a podpis: | F61: Razítko | G61: Datum a podpis: | J61: Razítko
D65: Objednavatel | G65: Uchazeč
D76: Datum a podpis: | F76: Razítko | G76: Datum a podpis: | J76: Razítko
C82: REKAPITULACE ČLENĚNÍ SOUPISU PRACÍ
C84: Stavba:
E85: =E7 -> Stavební úpravy školní jídelny Želetava
C86: Objekt:
E87: =E9 -> 006 - Elektroinstalace
C89: Místo: | F89: =F12 | J89: =IF(J12="","",J12) -> 45017
C91: Zadavatel:
C92: Uchazeč:
C94: Kód dílu - Popis | J94: Cena celkem [CZK]
C96: Náklady ze soupisu prací | J96: =J122 -> 0 | AU96: -1
D97: D1 - Elektromontáže | J97: =J123 -> 0
D98: D2 - Stavební práce | J98: =J181 -> 0
D99: D3 - Materiály | J99: =J186 -> 0
D100: D4 - Dodávky zařízení (specifikace) | J100: =J254 -> 0
...

Sheet 09 - Vzduchotechnika
A3: POLOŽKOVÝ ROZPOČET
A5: Část : | D5: VZDUCHOTECHNIKA
A7: Stavba : | D7: Stavební úpravy školní jídelny Želetava
A9: Místo: | D9: Pražská 172, 675 26 Želetava
A10: Stavebník: | D10: Městys Želetava, nám. Míru 1, 675 26 Želetava
A12: Počet stran: | D12: 5
A15: Přep. | B15: Čís. | C15: Číslo | D15: Zkrácený popis | G15: Měr. | H15: Množ. | J15: Cena v Kč bez DPH
A16: na CÚ | B16: pol. | C16: položky | G16: jed. | I16: jednotková | J16: celkem
A17: 2022 | C17: ceníku | J17: dodávka | K17: montáž
C20: VC 7/78 | D20: VZDUCHOTECHNIKA
C21: VC 7/158 M
D23: CENÍKY ŘADY M
B25: 1.) | C25: VC 7/78 | D25: VZDUCHOTECHNIKA - DODÁVKA
B26: 2.) | C26: VC 7/158 M | D26: VZDUCHOTECHNIKA - MONTÁŽ
D28: VZDUCHOTECHNIKA CELKEM
D30: HZS
B32: 3.) | C32: Pravidla | D32: HODINOVÉ ZŮČTOVACÍ SAZBY
A39: Poznámka: | D39: „Obsahuje-li zadávací dokumentace odkazy na obchodní firmy, názvy nebo jména a příjmení, specifická označení zboží a služeb, které platí pro určitou osobu, popřípadě její organizační složku za příznačné, patenty na vynálezy, užitné vzory, průmyslové vzory, ochranné známky nebo označení původu, umožňuje zadavatel v takovém případě pro plnění veřejné zakázky použití i jiných, kvalitativně a technicky obdobných řešení.“
A42: Žďár nad Sázavou, 12/2022
A43: Vypracoval: Ing. Jiří Danihelka
A48: Přep. | B48: Čís. | C48: Číslo | D48: Zkrácený popis | G48: Měr. | H48: Množ. | J48: Cena v Kč bez DPH
A49: na CÚ | B49: pol. | C49: položky | G49: jed. | I49: jednotková | J49: celkem
A50: 2022 | C50: ceníku | J50: dodávka | K50: montáž
B51: 1.), 2.) | C51: VC 7/78 | D51: VZDUCHOTECHNIKA
C52: VC 7/158 M
D53: Zař. č. 1 - KUCHYŇ
B54: 1.1 | D54: Venkovní větrací, vytápěcí vzt jednotka s rekuperací tepla, filtrací, přímým chlazením
D55: s dvouokruhovým chladičem vzduchu (např. DUPLEX 7500 Multi Eco-N), včetně příslušenství a MaR (podrobněji viz. níže) | G55: kpl | H55: 1 | N55: 0.05
D56: dtto montáž | G56: kpl | H56: 1
D57: Jednotka splňuje ErP (Ecodesign) - nařízení EU 1253/2014, platné od 1.1.2016.
D58: Údaje elektro: (400V/50Hz, max.proud 2x5,4A, max.příkon 2x3,3kW, jištění 3x16A(char.C), nap.kabel CYKY 5Jx2,5, odvod kondenzátu 3x DN 32 mm, hmotnost 1263 kg)
D59: Vzduchotechnická část:
D60: Skříň jednotky sendvičové k-ce, složená z lakovaného plechu a 45 mm minerální izolace s koeficientem tepelné vodivosti (λ = 0,037 W/mK). Tep. izolace pláště (třída T2), potlačení tep. mostů (třída TB2).
D61: Přívodní ventilátor EC - 400V, 5,4A, 3,3 kW (6800 m3/h / ex.st.tlak 240 Pa, 8000 m3/h / 0 Pa)
D62: Odvodní ventilátor EC - 400V, 5,4A, 3,3 kW (6800 m3/h / ex.st.tlak 350 Pa, 8200 m3/h / 0 Pa)
D63: Rekuperační výměník S7.C s účinností 92,3%
D64: provedení parapetní 10
D65: konfigurace hrdel 0
D66: Fe.K5_filtr přívod kazetový třída M5
D67: Fi.K5_filtr odtah kazetový třída M5
...
