Workbook

Sheet Rekapitulace stavby
A1: Export Komplet | BA1: 2.0 | BT1: False | BU1: False | BV1: {0459766a-1a35-4240-91ce-8d5e7c39c9ba}
AR2: >> skryté sloupce << | BS2: 0,01 | BT2: 21
BS3: 0,01 | BT3: 15
D4: REKAPITULACE STAVBY | AS4: v --- níže se nacházejí doplnkové a pomocné údaje k sestavám --- v | BS4: 0,001
D5: Kód: | K5: 2023-05-05 | BS5: 0,01
D6: Stavba: | K6: Stavební úpravy - školní jídelna Želetava | BS6: 0,01
D7: KSO: | AK7: CC-CZ: | BS7: 0,01
D8: Místo: | K8: Želetava | AK8: Datum: | AN8: 11. 5. 2023 | BS8: 0,01
BS9: 0,01
D10: Zadavatel: | AK10: IČ: | BS10: 0,01
E11: městys Želetava | AK11: DIČ: | BS11: 0,01
BS12: 0,01
D13: Zhotovitel: | AK13: IČ: | BS13: 0,01
AK14: DIČ: | BS14: 0,01
BS15: False
D16: Projektant: | AK16: IČ: | BS16: False
E17: TeS, spol. s r.o., David Myška | AK17: DIČ: | BS17: True
BS18: 1
D19: Zpracovatel: | AK19: IČ: | BS19: 1
E20: Martin Lang | AK20: DIČ: | BS20: False
D22: Poznámka:
D26: Cena bez DPH | AK26: =ROUND(AG94,0) -> #REF!
L28: Sazba daně | W28: Základ daně | AK28: Výše daně
D29: DPH | F29: základní | L29: 0.21 | W29: =ROUND(AZ94, 0) -> 0 | AK29: =ROUND(AV94, 0) -> 0
F30: snížená | L30: 0.15 | W30: =ROUND(BA94, 0) -> 0 | AK30: =ROUND(AW94, 0) -> 0
F31: zákl. přenesená | L31: 0.21 | W31: =ROUND(BB94, 0) -> 0 | AK31: 0
F32: sníž. přenesená | L32: 0.15 | W32: =ROUND(BC94, 0) -> 0 | AK32: 0
F33: nulová | L33: 0 | W33: =ROUND(BD94, 0) -> 0 | AK33: 0
D35: Cena s DPH | T35: v | X35: CZK | AK35: =SUM(AK26:AK33) -> #REF!
D49: Projektant | AH49: Zpracovatel
D60: Datum a podpis: | V60: Razítko | AH60: Datum a podpis: | AM60: Razítko
D64: Objednavatel | AH64: Zhotovitel
D75: Datum a podpis: | V75: Razítko | AH75: Datum a podpis: | AM75: Razítko
C82: REKAPITULACE OBJEKTŮ STAVBY A SOUPISŮ PRACÍ
C84: Kód: | L84: =K5 -> 2023-05-05
C85: Stavba: | L85: =K6 -> Stavební úpravy - školní jídelna Želetava
C87: Místo: | L87: =IF(K8="","",K8) -> Želetava | AI87: Datum: | AM87: =IF(AN8= "","",AN8) -> 11. 5. 2023
C89: Zadavatel: | L89: =IF(E11= "","",E11) -> městys Želetava | AI89: Projektant: | AM89: =IF(E17="","",E17) -> TeS, spol. s r.o., David Myška | AS89: Informatívní údaje z listů zakázek
C90: Zhotovitel: | L90: =IF(E14="","",E14) | AI90: Zpracovatel: | AM90: =IF(E20="","",E20) -> Martin Lang
C92: Kód | I92: Popis | AG92: Cena bez DPH [CZK] | AN92: Cena s DPH [CZK] | AQ92: Typ | AS92: z toho Ostat._x000D_ náklady [CZK] | AT92: DPH [CZK] | AU92: Normohodiny [h] | AV92: DPH základní [CZK] | AW92: DPH snížená [CZK] | AX92: DPH základní přenesená_x000D_ [CZK] | AY92: DPH snížená přenesená_x000D_ [CZK] | AZ92: Základna_x000D_ DPH základní | BA92: Základna_x000D_ DPH snížená | BB92: Základna_x000D_ DPH zákl. přenesená | BC92: Základna_x000D_ DPH sníž. přenesená | BD92: Základna_x000D_ DPH nulová
C94: Náklady z rozpočtů | AG94: =ROUND(SUM(AG95:AG104),0) -> #REF! | AN94: =ROUND(SUM(AN95:AN104),0) -> #REF! | AS94: =ROUND(SUM(AS95:AS101),0) -> 0 | AT94: =ROUND(SUM(AV94:AW94),0) -> 0 | AU94: =ROUND(SUM(AU95:AU101),5) -> 5040.8208 | AV94: =ROUND(AZ94*L29,0) -> 0 | AW94: =ROUND(BA94*L30,0) -> 0 | AX94: =ROUND(BB94*L29,0) -> 0 | AY94: =ROUND(BC94*L30,0) -> 0 | AZ94: =ROUND(SUM(AZ95:AZ102),0) -> 0 | BA94: =ROUND(SUM(BA95:BA101),0) -> 0 | BB94: =ROUND(SUM(BB95:BB101),0) -> 0 | BC94: =ROUND(SUM(BC95:BC101),0) -> 0 | BD94: =ROUND(SUM(BD95:BD101),0) -> 0 | BS94: D | BT94: 0 | BU94: ###NOIMPORT### | BV94: IMPORT | BW94: {0459766a-1a35-4240-91ce-8d5e7c39c9ba} | BX94: {00000000-0000-0000-0000-000000000000}
A95: / | D95: 1 | J95: Stavební úpravy | AG95: ='01 - Stavební úpravy'!J30 -> 0 | AN95: =SUM(AG95,AT95) -> 0 | AQ95: STA | AS95: 0 | AT95: =ROUND(SUM(AV95:AW95),0) -> 0 | AU95: ='01 - Stavební úpravy'!P134 -> 2966.3952 | AV95: ='01 - Stavební úpravy'!J33 -> 0 | AW95: ='01 - Stavební úpravy'!J34 -> 0 | AX95: ='01 - Stavební úpravy'!J35 -> 0 | AY95: ='01 - Stavební úpravy'!J36 -> 0 | AZ95: ='01 - Stavební úpravy'!F33 -> 0 | BA95: ='01 - Stavební úpravy'!F34 -> 0 | BB95: ='01 - Stavební úpravy'!F35 -> 0 | BC95: ='01 - Stavební úpravy'!F36 -> 0 | BD95: ='01 - Stavební úpravy'!F37 -> 0 | BT95: 1 | BV95: IMPORT | BW95: {f8bfa993-27cd-4b89-beac-fc38c67d8b12} | BX95: {0459766a-1a35-4240-91ce-8d5e7c39c9ba} | CM95: 2
A96: / | D96: 2 | J96: Zateplení - fasáda, střecha | AG96: ='02 - Zateplení - fasáda, ...'!J30 -> 0 | AN96: =SUM(AG96,AT96) -> 0 | AQ96: STA | AS96: 0 | AT96: =ROUND(SUM(AV96:AW96),0) -> 0 | AU96: ='02 - Zateplení - fasáda, ...'!P130 -> 1432.9213 | AV96: ='02 - Zateplení - fasáda, ...'!J33 -> 0 | AW96: ='02 - Zateplení - fasáda, ...'!J34 -> 0 | AX96: ='02 - Zateplení - fasáda, ...'!J35 -> 0 | AY96: ='02 - Zateplení - fasáda, ...'!J36 -> 0 | AZ96: ='02 - Zateplení - fasáda, ...'!F33 -> 0 | BA96: ='02 - Zateplení - fasáda, ...'!F34 -> 0 | BB96: ='02 - Zateplení - fasáda, ...'!F35 -> 0 | BC96: ='02 - Zateplení - fasáda, ...'!F36 -> 0 | BD96: ='02 - Zateplení - fasáda, ...'!F37 -> 0 | BT96: 1 | BV96: IMPORT | BW96: {7ee5baa0-6442-4f9c-a248-b29be3072820} | BX96: {0459766a-1a35-4240-91ce-8d5e7c39c9ba} | CM96: 2
A97: / | D97: 3 | J97: ZTI - vodovod | AG97: ='03 - ZTI - vodovod'!J30 -> 0 | AN97: =SUM(AG97,AT97) -> 0 | AQ97: STA | AS97: 0 | AT97: =ROUND(SUM(AV97:AW97),0) -> 0 | AU97: ='03 - ZTI - vodovod'!P123 -> 265.31996 | AV97: ='03 - ZTI - vodovod'!J33 -> 0 | AW97: ='03 - ZTI - vodovod'!J34 -> 0 | AX97: ='03 - ZTI - vodovod'!J35 -> 0 | AY97: ='03 - ZTI - vodovod'!J36 -> 0 | AZ97: ='03 - ZTI - vodovod'!F33 -> 0 | BA97: ='03 - ZTI - vodovod'!F34 -> 0 | BB97: ='03 - ZTI - vodovod'!F35 -> 0 | BC97: ='03 - ZTI - vodovod'!F36 -> 0 | BD97: ='03 - ZTI - vodovod'!F37 -> 0 | BT97: 1 | BV97: IMPORT | BW97: {7d763962-92b8-43fd-8d31-4426f2323fd4} | BX97: {0459766a-1a35-4240-91ce-8d5e7c39c9ba} | CM97: 2
A98: / | D98: 4 | J98: Plynovod | AG98: ='04 - Plynovod'!J30 -> 0 | AN98: =SUM(AG98,AT98) -> 0 | AQ98: STA | AS98: 0 | AT98: =ROUND(SUM(AV98:AW98),0) -> 0 | AU98: ='04 - Plynovod'!P121 -> 19.080907 | AV98: ='04 - Plynovod'!J33 -> 0 | AW98: ='04 - Plynovod'!J34 -> 0 | AX98: ='04 - Plynovod'!J35 -> 0 | AY98: ='04 - Plynovod'!J36 -> 0 | AZ98: ='04 - Plynovod'!F33 -> 0 | BA98: ='04 - Plynovod'!F34 -> 0 | BB98: ='04 - Plynovod'!F35 -> 0 | BC98: ='04 - Plynovod'!F36 -> 0 | BD98: ='04 - Plynovod'!F37 -> 0 | BT98: 1 | BV98: IMPORT | BW98: {853c5c0b-b6e5-4680-a7ce-99dc8c884c54} | BX98: {0459766a-1a35-4240-91ce-8d5e7c39c9ba} | CM98: 2
A99: / | D99: 5 | J99: Kanalizace, zařizovací předměty | AG99: ='05 - Kanalizace, zařizova...'!J30 -> 0 | AN99: =SUM(AG99,AT99) -> 0 | AQ99: STA | AS99: 0 | AT99: =ROUND(SUM(AV99:AW99),0) -> 0 | AU99: ='05 - Kanalizace, zařizova...'!P121 -> 114.41395 | AV99: ='05 - Kanalizace, zařizova...'!J33 -> 0 | AW99: ='05 - Kanalizace, zařizova...'!J34 -> 0 | AX99: ='05 - Kanalizace, zařizova...'!J35 -> 0 | AY99: ='05 - Kanalizace, zařizova...'!J36 -> 0 | AZ99: ='05 - Kanalizace, zařizova...'!F33 -> 0 | BA99: ='05 - Kanalizace, zařizova...'!F34 -> 0 | BB99: ='05 - Kanalizace, zařizova...'!F35 -> 0 | BC99: ='05 - Kanalizace, zařizova...'!F36 -> 0 | BD99: ='05 - Kanalizace, zařizova...'!F37 -> 0 | BT99: 1 | BV99: IMPORT | BW99: {6165c517-c37f-4db3-a3e9-3a1cfa05f30b} | BX99: {0459766a-1a35-4240-91ce-8d5e7c39c9ba} | CM99: 2
A100: / | D100: 6 | J100: Venkovní kanalizace | AG100: ='06 - Venkovní kanalizace'!J30 -> 0 | AN100: =SUM(AG100,AT100) -> 0 | AQ100: STA | AS100: 0 | AT100: =ROUND(SUM(AV100:AW100),0) -> 0 | AU100: ='06 - Venkovní kanalizace'!P122 -> 110.86101 | AV100: ='06 - Venkovní kanalizace'!J33 -> 0 | AW100: ='06 - Venkovní kanalizace'!J34 -> 0 | AX100: ='06 - Venkovní kanalizace'!J35 -> 0 | AY100: ='06 - Venkovní kanalizace'!J36 -> 0 | AZ100: ='06 - Venkovní kanalizace'!F33 -> 0 | BA100: ='06 - Venkovní kanalizace'!F34 -> 0 | BB100: ='06 - Venkovní kanalizace'!F35 -> 0 | BC100: ='06 - Venkovní kanalizace'!F36 -> 0 | BD100: ='06 - Venkovní kanalizace'!F37 -> 0 | BT100: 1 | BV100: IMPORT | BW100: {443f8fa5-d1c0-41d9-997b-169523c5888f} | BX100: {0459766a-1a35-4240-91ce-8d5e7c39c9ba} | CM100: 2
A101: / | D101: 7 | J101: Ústřední vytápění | AG101: ='07 - Ústřední vytápění'!J30 -> 0 | AN101: =SUM(AG101,AT101) -> 0 | AQ101: STA | AS101: 0 | AT101: =ROUND(SUM(AV101:AW101),0) -> 0 | AU101: ='07 - Ústřední vytápění'!P124 -> 131.82846 | AV101: ='07 - Ústřední vytápění'!J33 -> 0 | AW101: ='07 - Ústřední vytápění'!J34 -> 0 | AX101: ='07 - Ústřední vytápění'!J35 -> 0 | AY101: ='07 - Ústřední vytápění'!J36 -> 0 | AZ101: ='07 - Ústřední vytápění'!F33 -> 0 | BA101: ='07 - Ústřední vytápění'!F34 -> 0 | BB101: ='07 - Ústřední vytápění'!F35 -> 0 | BC101: ='07 - Ústřední vytápění'!F36 -> 0 | BD101: ='07 - Ústřední vytápění'!F37 -> 0 | BT101: 1 | BV101: IMPORT | BW101: {a327eb2e-f5f2-4572-bfe1-6fdc5687594d} | BX101: {0459766a-1a35-4240-91ce-8d5e7c39c9ba} | CM101: 2
A102: / | D102: 8 | J102: Elektroinstalace | AG102: ='08 - Elektroinstalace'!J30 -> 0 | AN102: ='08 - Elektroinstalace'!J39 -> 0 | AQ102: STA | AS102: 0 | AT102: =ROUND(SUM(AV102:AW102),0) -> 0 | AU102: ='07 - Ústřední vytápění'!P125 -> 0 | AV102: ='08 - Elektroinstalace'!J33 -> 0 | AW102: ='07 - Ústřední vytápění'!J35 -> 0 | AX102: ='07 - Ústřední vytápění'!J36 -> 0 | AY102: ='07 - Ústřední vytápění'!J37 -> 0 | AZ102: =AG102 -> 0 | BA102: ='07 - Ústřední vytápění'!F35 -> 0 | BB102: ='07 - Ústřední vytápění'!F36 -> 0 | BC102: ='07 - Ústřední vytápění'!F37 -> 0 | BD102: ='07 - Ústřední vytápění'!F38 -> 0 | BT102: 1 | BV102: IMPORT | BW102: {a327eb2e-f5f2-4572-bfe1-6fdc5687594d} | BX102: {0459766a-1a35-4240-91ce-8d5e7c39c9ba} | CM102: 2
A103: / | D103: 9 | J103: Vzduchotechnika | AG103: ='09 - Vzduchotechnika'!J185 -> 0.069 | AN103: =AG103*1.21 -> 0.08349 | AQ103: STA | AS103: 0 | AT103: =ROUND(SUM(AV103:AW103),0) -> 0 | AU103: ='07 - Ústřední vytápění'!P126 -> 0 | AV103: ='08 - Elektroinstalace'!J34 -> 0 | AW103: ='07 - Ústřední vytápění'!J36 -> 0 | AX103: ='07 - Ústřední vytápění'!J37 -> 0 | AY103: ='07 - Ústřední vytápění'!J38 -> 0 | AZ103: =AG103 -> 0.069 | BA103: ='07 - Ústřední vytápění'!F36 -> 0 | BB103: ='07 - Ústřední vytápění'!F37 -> 0 | BC103: ='07 - Ústřední vytápění'!F38 -> 0 | BD103: ='07 - Ústřední vytápění'!F39 -> 0 | BT103: 1 | BV103: IMPORT | BW103: {a327eb2e-f5f2-4572-bfe1-6fdc5687594d} | BX103: {0459766a-1a35-4240-91ce-8d5e7c39c9ba} | CM103: 2
A104: / | D104: 10 | J104: Technologie stravování | AG104: =#REF! -> #REF! | AN104: =AG104*1.21 -> #REF! | AQ104: STA | AS104: 0 | AT104: =ROUND(SUM(AV104:AW104),0) -> 0 | AU104: ='07 - Ústřední vytápění'!P127 -> 0 | AV104: ='08 - Elektroinstalace'!J35 -> 0 | AW104: ='07 - Ústřední vytápění'!J37 -> 0 | AX104: ='07 - Ústřední vytápění'!J38 -> 0 | AY104: ='07 - Ústřední vytápění'!J39 -> 0 | AZ104: =AG104 -> #REF! | BA104: ='07 - Ústřední vytápění'!F37 -> 0 | BB104: ='07 - Ústřední vytápění'!F38 -> 0 | BC104: ='07 - Ústřední vytápění'!F39 -> 0 | BD104: ='07 - Ústřední vytápění'!F40 -> 0 | BT104: 1 | BV104: IMPORT | BW104: {a327eb2e-f5f2-4572-bfe1-6fdc5687594d} | BX104: {0459766a-1a35-4240-91ce-8d5e7c39c9ba} | CM104: 2

Sheet 01 - Stavební úpravy
L2: >> skryté sloupce << | AT2: {f8bfa993-27cd-4b89-beac-fc38c67d8b12}
AT3: 2
D4: KRYCÍ LIST SOUPISU PRACÍ | M4: v --- níže se nacházejí doplnkové a pomocné údaje k sestavám --- v | AT4: False
D6: Stavba:
E7: ='Rekapitulace stavby'!K6 -> Stavební úpravy - školní jídelna Želetava
D8: Objekt:
E9: 01 - Stavební úpravy
D11: KSO:
D12: Místo: | F12: Želetava | J12: ='Rekapitulace stavby'!AN8 -> 11. 5. 2023
D14: Zadavatel:
E15: městys Želetava
D17: Zhotovitel: | J17: ='Rekapitulace stavby'!AN13
E18: ='Rekapitulace stavby'!E14 | J18: ='Rekapitulace stavby'!AN14
D20: Projektant:
E21: TeS, spol. s r.o., David Myška
D23: Zpracovatel:
E24: Martin Lang
D26: Poznámka:
D30: Cena bez DPH | J30: =ROUND(J134, 0) -> 0
F32: Základ daně | J32: Výše daně
D33: DPH | E33: základní | F33: =ROUND((SUM(BE134:BE741)), 0) -> 0 | J33: =ROUND(((SUM(BE134:BE741))*I33), 0) -> 0
E34: snížená | F34: =ROUND((SUM(BF134:BF741)), 0) -> 0 | J34: =ROUND(((SUM(BF134:BF741))*I34), 0) -> 0
E35: zákl. přenesená | F35: =ROUND((SUM(BG134:BG741)), 0) -> 0 | J35: =0 -> 0
E36: sníž. přenesená | F36: =ROUND((SUM(BH134:BH741)), 0) -> 0 | J36: =0 -> 0
E37: nulová | F37: =ROUND((SUM(BI134:BI741)), 0) -> 0 | J37: =0 -> 0
D39: Cena s DPH | G39: v | H39: CZK | J39: =SUM(J30:J37) -> 0
D50: Projektant | G50: Zpracovatel
D61: Datum a podpis: | F61: Razítko | G61: Datum a podpis: | J61: Razítko
D65: Objednavatel | G65: Zhotovitel
D76: Datum a podpis: | F76: Razítko | G76: Datum a podpis: | J76: Razítko
C82: REKAPITULACE ČLENĚNÍ SOUPISU PRACÍ
C84: Stavba:
E85: =E7 -> Stavební úpravy - školní jídelna Želetava
C86: Objekt:
E87: =E9 -> 01 - Stavební úpravy
C89: Místo: | F89: =F12 -> Želetava | J89: =IF(J12="","",J12) -> 11. 5. 2023
C91: Zadavatel: | F91: =E15 -> městys Želetava | J91: =E21 -> TeS, spol. s r.o., David Myška
C92: Zhotovitel: | F92: =IF(E18="","",E18) | J92: =E24 -> Martin Lang
C94: Kód dílu - Popis | J94: Cena celkem [CZK]
C96: Náklady ze soupisu prací | J96: =J97+J103 -> 0 | AU96: -1
D97: HSV - Práce a dodávky HSV | J97: =J135 -> 0
D98: 3 - Svislé a kompletní konstrukce | J98: =J136 -> 0
D99: 6 - Úpravy povrchů, podlahy a osazování výplní | J99: =J182 -> 0
D100: 9 - Ostatní konstrukce a práce, bourání | J100: =J292 -> 0
D101: 997 - Přesun sutě | J101: =J393 -> 0
D102: 998 - Přesun hmot | J102: =J399 -> 0
D103: PSV - Práce a dodávky PSV | J103: =SUM(I104:J114) -> 0
D104: 711 - Izolace proti vodě, vlhkosti a plynům | J104: =J402 -> 0
D105: 712 - Povlakové krytiny | J105: =J435 -> 0
D106: 713 - Izolace tepelné | J106: =J440 -> 0
D107: 763 - Konstrukce suché výstavby | J107: =J469 -> 0
D108: 766 - Konstrukce truhlářské | J108: =J483 -> 0
D109: 767 - Konstrukce zámečnické | J109: =J511 -> 0
D110: 771 - Podlahy z dlaždic | J110: =J520 -> 0
D111: 776 - Podlahy povlakové | J111: =J587 -> 0
D112: 781 - Dokončovací práce - obklady | J112: =J623 -> 0
D113: 783 - Dokončovací práce - nátěry | J113: =J674 -> 0
D114: 784 - Dokončovací práce - malby a tapety | J114: =J698 -> 0
C121: SOUPIS PRACÍ
C123: Stavba:
E124: =E7 -> Stavební úpravy - školní jídelna Želetava
C125: Objekt:
E126: =E9 -> 01 - Stavební úpravy
C128: Místo: | F128: =F12 -> Želetava | J128: =IF(J12="","",J12) -> 11. 5. 2023
C130: Zadavatel: | F130: =E15 -> městys Želetava | J130: =E21 -> TeS, spol. s r.o., David Myška
C131: Zhotovitel: | F131: =IF(E18="","",E18) | J131: =E24 -> Martin Lang
C133: PČ | D133: Typ | E133: Kód | F133: Popis | G133: MJ | H133: Množství | J133: Cena celkem [CZK] | K133: Cenová soustava | N133: DPH | O133: J. Nh [h] | P133: Nh celkem [h] | Q133: J. hmotnost [t] | R133: Hmotnost celkem [t] | S133: J. suť [t] | T133: Suť Celkem [t]
C134: Náklady soupisu celkem | J134: =BK134 -> 0 | P134: =P135+P401 -> 2966.3952 | R134: =R135+R401 -> 71.907546 | T134: =T135+T401 -> 121.36279 | AT134: D | AU134: -1 | BK134: =BK135+BK401 -> 0
D135: D | E135: HSV | F135: Práce a dodávky HSV | J135: =BK135 -> 0 | P135: =P136+P182+P292+P393+P399 -> 1804.0477 | R135: =R136+R182+R292+R393+R399 -> 54.599456 | T135: =T136+T182+T292+T393+T399 -> 115.8215 | AR135: 1 | AT135: D | AU135: 0 | AY135: ROZPOCET | BK135: =BK136+BK182+BK292+BK393+BK399 -> 0
D136: D | E136: 3 | F136: Svislé a kompletní konstrukce | J136: =BK136 -> 0 | P136: =SUM(P137:P181) -> 134.03385 | R136: =SUM(R137:R181) -> 11.71205 | T136: =SUM(T137:T181) -> 0 | AR136: 1 | AT136: D | AU136: 1 | AY136: ROZPOCET | BK136: =SUM(BK137:BK181) -> 0
C137: 1 | D137: K | E137: 310278842 | F137: Zazdívka otvorů ve zdivu nadzákladovém nepálenými tvárnicemi plochy přes 0,25 m2 do 1 m2 , ve zdi tl. do 300 mm | G137: m3 | H137: 0.093 | J137: =ROUND(I137*H137,2) -> 0 | K137: CS ÚRS 2023 01 | N137: základní | O137: 4.342 | P137: =O137*H137 -> 0.403806 | Q137: 1.32715 | R137: =Q137*H137 -> 0.12342495 | S137: 0 | T137: =S137*H137 -> 0 | AR137: 4 | AT137: K | AU137: 2 | AY137: ROZPOCET | BE137: =IF(N137="základní",J137,0) -> 0 | BF137: =IF(N137="snížená",J137,0) -> 0 | BG137: =IF(N137="zákl. přenesená",J137,0) -> 0 | BH137: =IF(N137="sníž. přenesená",J137,0) -> 0 | BI137: =IF(N137="nulová",J137,0) -> 0 | BJ137: 1 | BK137: =ROUND(I137*H137,2) -> 0 | BL137: 4 | BM137: -145479428
D138: VV | F138: zazdívka komínového průduchu | AT138: VV | AU138: 2 | AV138: 1 | AW138: True | AX138: 0 | AY138: ROZPOCET
D139: VV | F139: 0,15*0,20*3,10 | H139: 0.093 | AT139: VV | AU139: 2 | AV139: 2 | AW139: True | AX139: 0 | AY139: ROZPOCET
D140: VV | F140: Součet | H140: 0.093 | AT140: VV | AU140: 2 | AV140: 4 | AW140: True | AX140: 1 | AY140: ROZPOCET
C141: 2 | D141: K | E141: 311272311 | F141: Zdivo z pórobetonových tvárnic na tenké maltové lože, tl. zdiva 375 mm pevnost tvárnic do P2, objemová hmotnost do 450 kg/m3 hladkých | G141: m2 | H141: 2.17 | J141: =ROUND(I141*H141,2) -> 0 | K141: CS ÚRS 2023 01 | N141: základní | O141: 0.798 | P141: =O141*H141 -> 1.73166 | Q141: 0.18415 | R141: =Q141*H141 -> 0.3996055 | S141: 0 | T141: =S141*H141 -> 0 | AR141: 4 | AT141: K | AU141: 2 | AY141: ROZPOCET | BE141: =IF(N141="základní",J141,0) -> 0 | BF141: =IF(N141="snížená",J141,0) -> 0 | BG141: =IF(N141="zákl. přenesená",J141,0) -> 0 | BH141: =IF(N141="sníž. přenesená",J141,0) -> 0 | BI141: =IF(N141="nulová",J141,0) -> 0 | BJ141: 1 | BK141: =ROUND(I141*H141,2) -> 0 | BL141: 4 | BM141: 289686177
D142: VV | F142: 0,30*3,10+0,40*3,10 | H142: 2.17 | AT142: VV | AU142: 2 | AV142: 2 | AW142: True | AX142: 0 | AY142: ROZPOCET
D143: VV | F143: Součet | H143: 2.17 | AT143: VV | AU143: 2 | AV143: 4 | AW143: True | AX143: 1 | AY143: ROZPOCET
C144: 3 | D144: K | E144: 317142422 | F144: Překlady nenosné z pórobetonu osazené do tenkého maltového lože, výšky do 250 mm, šířky překladu 100 mm, délky překladu přes 1000 do 1250 mm | G144: kus | H144: 1 | J144: =ROUND(I144*H144,2) -> 0 | K144: CS ÚRS 2023 01 | N144: základní | O144: 0.192 | P144: =O144*H144 -> 0.192 | Q144: 0.02628 | R144: =Q144*H144 -> 0.02628 | S144: 0 | T144: =S144*H144 -> 0 | AR144: 4 | AT144: K | AU144: 2 | AY144: ROZPOCET | BE144: =IF(N144="základní",J144,0) -> 0 | BF144: =IF(N144="snížená",J144,0) -> 0 | BG144: =IF(N144="zákl. přenesená",J144,0) -> 0 | BH144: =IF(N144="sníž. přenesená",J144,0) -> 0 | BI144: =IF(N144="nulová",J144,0) -> 0 | BJ144: 1 | BK144: =ROUND(I144*H144,2) -> 0 | BL144: 4 | BM144: 554957781
C145: 4 | D145: K | E145: 317142426 | F145: Překlady nenosné z pórobetonu osazené do tenkého maltového lože, výšky do 250 mm, šířky překladu 100 mm, délky překladu přes 1500 do 2000 mm | G145: kus | H145: 1 | J145: =ROUND(I145*H145,2) -> 0 | K145: CS ÚRS 2023 01 | N145: základní | O145: 0.23 | P145: =O145*H145 -> 0.23 | Q145: 0.03428 | R145: =Q145*H145 -> 0.03428 | S145: 0 | T145: =S145*H145 -> 0 | AR145: 4 | AT145: K | AU145: 2 | AY145: ROZPOCET | BE145: =IF(N145="základní",J145,0) -> 0 | BF145: =IF(N145="snížená",J145,0) -> 0 | BG145: =IF(N145="zákl. přenesená",J145,0) -> 0 | BH145: =IF(N145="sníž. přenesená",J145,0) -> 0 | BI145: =IF(N145="nulová",J145,0) -> 0 | BJ145: 1 | BK145: =ROUND(I145*H145,2) -> 0 | BL145: 4 | BM145: -1134219743
C146: 5 | D146: K | E146: 317142442 | F146: Překlady nenosné z pórobetonu osazené do tenkého maltového lože, výšky do 250 mm, šířky překladu 150 mm, délky překladu přes 1000 do 1250 mm | G146: kus | H146: 1 | J146: =ROUND(I146*H146,2) -> 0 | K146: CS ÚRS 2023 01 | N146: základní | O146: 0.246 | P146: =O146*H146 -> 0.246 | Q146: 0.03963 | R146: =Q146*H146 -> 0.03963 | S146: 0 | T146: =S146*H146 -> 0 | AR146: 4 | AT146: K | AU146: 2 | AY146: ROZPOCET | BE146: =IF(N146="základní",J146,0) -> 0 | BF146: =IF(N146="snížená",J146,0) -> 0 | BG146: =IF(N146="zákl. přenesená",J146,0) -> 0 | BH146: =IF(N146="sníž. přenesená",J146,0) -> 0 | BI146: =IF(N146="nulová",J146,0) -> 0 | BJ146: 1 | BK146: =ROUND(I146*H146,2) -> 0 | BL146: 4 | BM146: 1616298932
C147: 6 | D147: K | E147: 317234410 | F147: Vyzdívka mezi nosníky cihlami pálenými na maltu cementovou | G147: m3 | H147: 1.431 | J147: =ROUND(I147*H147,2) -> 0 | K147: CS ÚRS 2023 01 | N147: základní | O147: 6.77 | P147: =O147*H147 -> 9.68787 | Q147: 1.94302 | R147: =Q147*H147 -> 2.7804616 | S147: 0 | T147: =S147*H147 -> 0 | AR147: 4 | AT147: K | AU147: 2 | AY147: ROZPOCET | BE147: =IF(N147="základní",J147,0) -> 0 | BF147: =IF(N147="snížená",J147,0) -> 0 | BG147: =IF(N147="zákl. přenesená",J147,0) -> 0 | BH147: =IF(N147="sníž. přenesená",J147,0) -> 0 | BI147: =IF(N147="nulová",J147,0) -> 0 | BJ147: 1 | BK147: =ROUND(I147*H147,2) -> 0 | BL147: 4 | BM147: 451374205
D148: VV | F148: 0,35*1,25*7*0,25+0,35*2,90*0,25+0,35*0,25*2,10+0,35*0,25*2,60 | H148: 1.431 | AT148: VV | AU148: 2 | AV148: 2 | AW148: True | AX148: 0 | AY148: ROZPOCET
D149: VV | F149: Součet | H149: 1.431 | AT149: VV | AU149: 2 | AV149: 4 | AW149: True | AX149: 1 | AY149: ROZPOCET
C150: 7 | D150: K | E150: 317944323 | F150: Válcované nosníky dodatečně osazované do připravených otvorů bez zazdění hlav č. 14 až 22 | G150: t | H150: 1.419 | J150: =ROUND(I150*H150,2) -> 0 | K150: CS ÚRS 2023 01 | N150: základní | O150: 36.9 | P150: =O150*H150 -> 52.3611 | Q150: 1.09 | R150: =Q150*H150 -> 1.54671 | S150: 0 | T150: =S150*H150 -> 0 | AR150: 4 | AT150: K | AU150: 2 | AY150: ROZPOCET | BE150: =IF(N150="základní",J150,0) -> 0 | BF150: =IF(N150="snížená",J150,0) -> 0 | BG150: =IF(N150="zákl. přenesená",J150,0) -> 0 | BH150: =IF(N150="sníž. přenesená",J150,0) -> 0 | BI150: =IF(N150="nulová",J150,0) -> 0 | BJ150: 1 | BK150: =ROUND(I150*H150,2) -> 0 | BL150: 4 | BM150: -1783047086
D151: VV | F151: (3*7*1,25+3*1*2,90+3*1*2,60+3*1*2,10)*26,30*1,1*1/1000 | H151: 1.419 | AT151: VV | AU151: 2 | AV151: 2 | AW151: True | AX151: 0 | AY151: ROZPOCET
D152: VV | F152: Součet | H152: 1.419 | AT152: VV | AU152: 2 | AV152: 4 | AW152: True | AX152: 1 | AY152: ROZPOCET
C153: 8 | D153: K | E153: 340271021 | F153: Zazdívka otvorů v příčkách nebo stěnách pórobetonovými tvárnicemi plochy přes 0,025 m2 do 1 m2, objemová hmotnost 500 kg/m3, tloušťka příčky 100 mm | G153: m2 | H153: 2 | J153: =ROUND(I153*H153,2) -> 0 | K153: CS ÚRS 2023 01 | N153: základní | O153: 0.68 | P153: =O153*H153 -> 1.36 | Q153: 0.06307 | R153: =Q153*H153 -> 0.12614 | S153: 0 | T153: =S153*H153 -> 0 | AR153: 4 | AT153: K | AU153: 2 | AY153: ROZPOCET | BE153: =IF(N153="základní",J153,0) -> 0 | BF153: =IF(N153="snížená",J153,0) -> 0 | BG153: =IF(N153="zákl. přenesená",J153,0) -> 0 | BH153: =IF(N153="sníž. přenesená",J153,0) -> 0 | BI153: =IF(N153="nulová",J153,0) -> 0 | BJ153: 1 | BK153: =ROUND(I153*H153,2) -> 0 | BL153: 4 | BM153: -1807869999
C154: 9 | D154: K | E154: 340271041 | F154: Zazdívka otvorů v příčkách nebo stěnách pórobetonovými tvárnicemi plochy přes 0,025 m2 do 1 m2, objemová hmotnost 500 kg/m3, tloušťka příčky 150 mm | G154: m2 | H154: 2 | J154: =ROUND(I154*H154,2) -> 0 | K154: CS ÚRS 2023 01 | N154: základní | O154: 0.724 | P154: =O154*H154 -> 1.448 | Q154: 0.08061 | R154: =Q154*H154 -> 0.16122 | S154: 0 | T154: =S154*H154 -> 0 | AR154: 4 | AT154: K | AU154: 2 | AY154: ROZPOCET | BE154: =IF(N154="základní",J154,0) -> 0 | BF154: =IF(N154="snížená",J154,0) -> 0 | BG154: =IF(N154="zákl. přenesená",J154,0) -> 0 | BH154: =IF(N154="sníž. přenesená",J154,0) -> 0 | BI154: =IF(N154="nulová",J154,0) -> 0 | BJ154: 1 | BK154: =ROUND(I154*H154,2) -> 0 | BL154: 4 | BM154: 548130396
C155: 10 | D155: K | E155: 342272225 | F155: Příčky z pórobetonových tvárnic hladkých na tenké maltové lože objemová hmotnost do 500 kg/m3, tloušťka příčky 100 mm | G155: m2 | H155: 60.689 | J155: =ROUND(I155*H155,2) -> 0 | K155: CS ÚRS 2023 01 | N155: základní | O155: 0.52 | P155: =O155*H155 -> 31.55828 | Q155: 0.06172 | R155: =Q155*H155 -> 3.7457251 | S155: 0 | T155: =S155*H155 -> 0 | AR155: 4 | AT155: K | AU155: 2 | AY155: ROZPOCET | BE155: =IF(N155="základní",J155,0) -> 0 | BF155: =IF(N155="snížená",J155,0) -> 0 | BG155: =IF(N155="zákl. přenesená",J155,0) -> 0 | BH155: =IF(N155="sníž. přenesená",J155,0) -> 0 | BI155: =IF(N155="nulová",J155,0) -> 0 | BJ155: 1 | BK155: =ROUND(I155*H155,2) -> 0 | BL155: 4 | BM155: -753168453
D156: VV | F156: 3,10*(0,70+1,50+1,763+1,40+1,839+1,70+3,90+1,50+3,10+1,60+1,00+1,20+1,40) | H156: 70.066 | AT156: VV | AU156: 2 | AV156: 2 | AW156: True | AX156: 0 | AY156: ROZPOCET
D157: VV | F157: -1*(1,40*1,84*2+1,00*2,00+2,50*0,89) | H157: -9.377 | AT157: VV | AU157: 2 | AV157: 2 | AW157: True | AX157: 0 | AY157: ROZPOCET
D158: VV | F158: Součet | H158: 60.689 | AT158: VV | AU158: 2 | AV158: 4 | AW158: True | AX158: 1 | AY158: ROZPOCET
C159: 11 | D159: K | E159: 342272245 | F159: Příčky z pórobetonových tvárnic hladkých na tenké maltové lože objemová hmotnost do 500 kg/m3, tloušťka příčky 150 mm | G159: m2 | H159: 8.21 | J159: =ROUND(I159*H159,2) -> 0 | K159: CS ÚRS 2023 01 | N159: základní | O159: 0.546 | P159: =O159*H159 -> 4.48266 | Q159: 0.07921 | R159: =Q159*H159 -> 0.6503141 | S159: 0 | T159: =S159*H159 -> 0 | AR159: 4 | AT159: K | AU159: 2 | AY159: ROZPOCET | BE159: =IF(N159="základní",J159,0) -> 0 | BF159: =IF(N159="snížená",J159,0) -> 0 | BG159: =IF(N159="zákl. přenesená",J159,0) -> 0 | BH159: =IF(N159="sníž. přenesená",J159,0) -> 0 | BI159: =IF(N159="nulová",J159,0) -> 0 | BJ159: 1 | BK159: =ROUND(I159*H159,2) -> 0 | BL159: 4 | BM159: 1913569570
D160: VV | F160: 3,10*3,10 | H160: 9.61 | AT160: VV | AU160: 2 | AV160: 2 | AW160: True | AX160: 0 | AY160: ROZPOCET
D161: VV | F161: -0,70*2,00 | H161: -1.4 | AT161: VV | AU161: 2 | AV161: 2 | AW161: True | AX161: 0 | AY161: ROZPOCET
D162: VV | F162: Součet | H162: 8.21 | AT162: VV | AU162: 2 | AV162: 4 | AW162: True | AX162: 1 | AY162: ROZPOCET
C163: 12 | D163: K | E163: 342291112 | F163: Ukotvení příček polyuretanovou pěnou, tl. příčky přes 100 mm | G163: m | H163: 25.702 | J163: =ROUND(I163*H163,2) -> 0 | K163: CS ÚRS 2023 01 | N163: základní | O163: 0.18 | P163: =O163*H163 -> 4.62636 | Q163: 0.00012 | R163: =Q163*H163 -> 0.00308424 | S163: 0 | T163: =S163*H163 -> 0 | AR163: 4 | AT163: K | AU163: 2 | AY163: ROZPOCET | BE163: =IF(N163="základní",J163,0) -> 0 | BF163: =IF(N163="snížená",J163,0) -> 0 | BG163: =IF(N163="zákl. přenesená",J163,0) -> 0 | BH163: =IF(N163="sníž. přenesená",J163,0) -> 0 | BI163: =IF(N163="nulová",J163,0) -> 0 | BJ163: 1 | BK163: =ROUND(I163*H163,2) -> 0 | BL163: 4 | BM163: 1653710643
D164: VV | F164: 0,70+1,50+1,763+1,40+1,839+1,70+3,90+1,50+3,10+1,60+1,00+1,20+1,40+3,10 | H164: 25.702 | AT164: VV | AU164: 2 | AV164: 2 | AW164: True | AX164: 0 | AY164: ROZPOCET
D165: VV | F165: Součet | H165: 25.702 | AT165: VV | AU165: 2 | AV165: 4 | AW165: True | AX165: 1 | AY165: ROZPOCET
C166: 13 | D166: K | E166: 342291121 | F166: Ukotvení příček plochými kotvami, do konstrukce cihelné | G166: m | H166: 49.6 | J166: =ROUND(I166*H166,2) -> 0 | K166: CS ÚRS 2023 01 | N166: základní | O166: 0.2 | P166: =O166*H166 -> 9.92 | Q166: 0.00013 | R166: =Q166*H166 -> 0.006448 | S166: 0 | T166: =S166*H166 -> 0 | AR166: 4 | AT166: K | AU166: 2 | AY166: ROZPOCET | BE166: =IF(N166="základní",J166,0) -> 0 | BF166: =IF(N166="snížená",J166,0) -> 0 | BG166: =IF(N166="zákl. přenesená",J166,0) -> 0 | BH166: =IF(N166="sníž. přenesená",J166,0) -> 0 | BI166: =IF(N166="nulová",J166,0) -> 0 | BJ166: 1 | BK166: =ROUND(I166*H166,2) -> 0 | BL166: 4 | BM166: 1622367525
...

Sheet 02 - Zateplení - fasáda, ...
L2: >> skryté sloupce << | AT2: {7ee5baa0-6442-4f9c-a248-b29be3072820}
AT3: 2
D4: KRYCÍ LIST SOUPISU PRACÍ | M4: v --- níže se nacházejí doplnkové a pomocné údaje k sestavám --- v | AT4: False
D6: Stavba:
E7: ='Rekapitulace stavby'!K6 -> Stavební úpravy - školní jídelna Želetava
D8: Objekt:
E9: 02 - Zateplení - fasáda, střecha
D11: KSO:
D12: Místo: | F12: Želetava | J12: ='Rekapitulace stavby'!AN8 -> 11. 5. 2023
D14: Zadavatel:
E15: městys Želetava
D17: Zhotovitel: | J17: ='Rekapitulace stavby'!AN13
E18: ='Rekapitulace stavby'!E14 | J18: ='Rekapitulace stavby'!AN14
D20: Projektant:
E21: TeS, spol. s r.o., David Myška
D23: Zpracovatel:
E24: Martin Lang
D26: Poznámka:
D30: Cena bez DPH | J30: =ROUND(J130, 0) -> 0
F32: Základ daně | J32: Výše daně
D33: DPH | E33: základní | F33: =ROUND((SUM(BE130:BE327)), 0) -> 0 | J33: =ROUND(((SUM(BE130:BE327))*I33), 0) -> 0
E34: snížená | F34: =ROUND((SUM(BF130:BF327)), 0) -> 0 | J34: =ROUND(((SUM(BF130:BF327))*I34), 0) -> 0
E35: zákl. přenesená | F35: =ROUND((SUM(BG130:BG327)), 0) -> 0 | J35: =0 -> 0
E36: sníž. přenesená | F36: =ROUND((SUM(BH130:BH327)), 0) -> 0 | J36: =0 -> 0
E37: nulová | F37: =ROUND((SUM(BI130:BI327)), 0) -> 0 | J37: =0 -> 0
D39: Cena s DPH | G39: v | H39: CZK | J39: =SUM(J30:J37) -> 0
D50: Projektant | G50: Zpracovatel
D61: Datum a podpis: | F61: Razítko | G61: Datum a podpis: | J61: Razítko
D65: Objednavatel | G65: Zhotovitel
D76: Datum a podpis: | F76: Razítko | G76: Datum a podpis: | J76: Razítko
C82: REKAPITULACE ČLENĚNÍ SOUPISU PRACÍ
C84: Stavba:
E85: =E7 -> Stavební úpravy - školní jídelna Želetava
C86: Objekt:
E87: =E9 -> 02 - Zateplení - fasáda, střecha
C89: Místo: | F89: =F12 -> Želetava | J89: =IF(J12="","",J12) -> 11. 5. 2023
C91: Zadavatel: | F91: =E15 -> městys Želetava | J91: =E21 -> TeS, spol. s r.o., David Myška
C92: Zhotovitel: | F92: =IF(E18="","",E18) | J92: =E24 -> Martin Lang
C94: Kód dílu - Popis | J94: Cena celkem [CZK]
C96: Náklady ze soupisu prací | J96: =J130 -> 0 | AU96: -1
D97: HSV - Práce a dodávky HSV | J97: =J131 -> 0
D98: 3 - Svislé a kompletní konstrukce | J98: =J132 -> 0
D99: 4 - Vodorovné konstrukce | J99: =J140 -> 0
D100: 6 - Úpravy povrchů, podlahy a osazování výplní | J100: =J144 -> 0
D101: 9 - Ostatní konstrukce a práce, bourání | J101: =J227 -> 0
D102: 997 - Přesun sutě | J102: =J238 -> 0
D103: 998 - Přesun hmot | J103: =J244 -> 0
D104: PSV - Práce a dodávky PSV | J104: =J246 -> 0
D105: 712 - Povlakové krytiny | J105: =J247 -> 0
D106: 713 - Izolace tepelné | J106: =J267 -> 0
D107: 721 - Zdravotechnika - vnitřní kanalizace | J107: =J294 -> 0
D108: 762 - Konstrukce tesařské | J108: =J302 -> 0
D109: 764 - Konstrukce klempířské | J109: =J306 -> 0
D110: 767 - Konstrukce zámečnické | J110: =J321 -> 0
C117: SOUPIS PRACÍ
C119: Stavba:
E120: =E7 -> Stavební úpravy - školní jídelna Želetava
C121: Objekt:
E122: =E9 -> 02 - Zateplení - fasáda, střecha
C124: Místo: | F124: =F12 -> Želetava | J124: =IF(J12="","",J12) -> 11. 5. 2023
C126: Zadavatel: | F126: =E15 -> městys Želetava | J126: =E21 -> TeS, spol. s r.o., David Myška
C127: Zhotovitel: | F127: =IF(E18="","",E18) | J127: =E24 -> Martin Lang
C129: PČ | D129: Typ | E129: Kód | F129: Popis | G129: MJ | H129: Množství | J129: Cena celkem [CZK] | K129: Cenová soustava | N129: DPH | O129: J. Nh [h] | P129: Nh celkem [h] | Q129: J. hmotnost [t] | R129: Hmotnost celkem [t] | S129: J. suť [t] | T129: Suť Celkem [t]
C130: Náklady soupisu celkem | J130: =BK130 -> 0 | P130: =P131+P246 -> 1432.9213 | R130: =R131+R246 -> 33.504255 | T130: =T131+T246 -> 0.19149314 | AT130: D | AU130: -1 | BK130: =BK131+BK246 -> 0
D131: D | E131: HSV | F131: Práce a dodávky HSV | J131: =BK131 -> 0 | P131: =P132+P140+P144+P227+P238+P244 -> 896.70507 | R131: =R132+R140+R144+R227+R238+R244 -> 25.469591 | T131: =T132+T140+T144+T227+T238+T244 -> 0 | AR131: 1 | AT131: D | AU131: 0 | AY131: ROZPOCET | BK131: =BK132+BK140+BK144+BK227+BK238+BK244 -> 0
D132: D | E132: 3 | F132: Svislé a kompletní konstrukce | J132: =BK132 -> 0 | P132: =SUM(P133:P139) -> 39.170055 | R132: =SUM(R133:R139) -> 11.245203 | T132: =SUM(T133:T139) -> 0 | AR132: 1 | AT132: D | AU132: 1 | AY132: ROZPOCET | BK132: =SUM(BK133:BK139) -> 0
C133: 1 | D133: K | E133: 311231117 | F133: Zdivo z cihel pálených nosné z cihel plných dl. 290 mm P 7 až 15, na maltu ze suché směsi 10 MPa | G133: m3 | H133: 2.52 | J133: =ROUND(I133*H133,2) -> 0 | K133: CS ÚRS 2023 01 | N133: základní | O133: 3.88 | P133: =O133*H133 -> 9.7776 | Q133: 1.6627 | R133: =Q133*H133 -> 4.190004 | S133: 0 | T133: =S133*H133 -> 0 | AR133: 4 | AT133: K | AU133: 2 | AY133: ROZPOCET | BE133: =IF(N133="základní",J133,0) -> 0 | BF133: =IF(N133="snížená",J133,0) -> 0 | BG133: =IF(N133="zákl. přenesená",J133,0) -> 0 | BH133: =IF(N133="sníž. přenesená",J133,0) -> 0 | BI133: =IF(N133="nulová",J133,0) -> 0 | BJ133: 1 | BK133: =ROUND(I133*H133,2) -> 0 | BL133: 4 | BM133: 825479855
D134: VV | F134: podezdívka pod VZT | AT134: VV | AU134: 2 | AV134: 1 | AW134: True | AX134: 0 | AY134: ROZPOCET
D135: VV | F135: 0,30*1,00*2*4,20 | H135: 2.52 | AT135: VV | AU135: 2 | AV135: 2 | AW135: True | AX135: 0 | AY135: ROZPOCET
D136: VV | F136: Součet | H136: 2.52 | AT136: VV | AU136: 2 | AV136: 4 | AW136: True | AX136: 1 | AY136: ROZPOCET
C137: 2 | D137: K | E137: 311235211 | F137: Zdivo jednovrstvé z cihel děrovaných broušených na celoplošnou tenkovrstvou maltu, pevnost cihel do P10, tl. zdiva 440 mm | G137: m2 | H137: 20.201 | J137: =ROUND(I137*H137,2) -> 0 | K137: CS ÚRS 2023 01 | N137: základní | O137: 1.455 | P137: =O137*H137 -> 29.392455 | Q137: 0.34925 | R137: =Q137*H137 -> 7.0551993 | S137: 0 | T137: =S137*H137 -> 0 | AR137: 4 | AT137: K | AU137: 2 | AY137: ROZPOCET | BE137: =IF(N137="základní",J137,0) -> 0 | BF137: =IF(N137="snížená",J137,0) -> 0 | BG137: =IF(N137="zákl. přenesená",J137,0) -> 0 | BH137: =IF(N137="sníž. přenesená",J137,0) -> 0 | BI137: =IF(N137="nulová",J137,0) -> 0 | BJ137: 1 | BK137: =ROUND(I137*H137,2) -> 0 | BL137: 4 | BM137: -421697244
D138: VV | F138: 2*(15,35+25,052)*0,25 | H138: 20.201 | AT138: VV | AU138: 2 | AV138: 2 | AW138: True | AX138: 0 | AY138: ROZPOCET
D139: VV | F139: Součet | H139: 20.201 | AT139: VV | AU139: 2 | AV139: 4 | AW139: True | AX139: 1 | AY139: ROZPOCET
D140: D | E140: 4 | F140: Vodorovné konstrukce | J140: =BK140 -> 0 | P140: =SUM(P141:P143) -> 5.717624 | R140: =SUM(R141:R143) -> 0.82896432 | T140: =SUM(T141:T143) -> 0 | AR140: 1 | AT140: D | AU140: 1 | AY140: ROZPOCET | BK140: =SUM(BK141:BK143) -> 0
C141: 3 | D141: K | E141: 411388531 | F141: Zabetonování otvorů ve stropech nebo v klenbách včetně lešení, bednění, odbednění a výztuže (materiál v ceně) ve stropech železobetonových, tvárnicových a prefabrikovaných | G141: m3 | H141: 0.344 | J141: =ROUND(I141*H141,2) -> 0 | K141: CS ÚRS 2023 01 | N141: základní | O141: 16.621 | P141: =O141*H141 -> 5.717624 | Q141: 2.40978 | R141: =Q141*H141 -> 0.82896432 | S141: 0 | T141: =S141*H141 -> 0 | AR141: 4 | AT141: K | AU141: 2 | AY141: ROZPOCET | BE141: =IF(N141="základní",J141,0) -> 0 | BF141: =IF(N141="snížená",J141,0) -> 0 | BG141: =IF(N141="zákl. přenesená",J141,0) -> 0 | BH141: =IF(N141="sníž. přenesená",J141,0) -> 0 | BI141: =IF(N141="nulová",J141,0) -> 0 | BJ141: 1 | BK141: =ROUND(I141*H141,2) -> 0 | BL141: 4 | BM141: 32545297
D142: VV | F142: 0,20*(0,60*1,80+0,40*1,60) | H142: 0.344 | AT142: VV | AU142: 2 | AV142: 2 | AW142: True | AX142: 0 | AY142: ROZPOCET
D143: VV | F143: Součet | H143: 0.344 | AT143: VV | AU143: 2 | AV143: 4 | AW143: True | AX143: 1 | AY143: ROZPOCET
D144: D | E144: 6 | F144: Úpravy povrchů, podlahy a osazování výplní | J144: =BK144 -> 0 | P144: =SUM(P145:P226) -> 664.57431 | R144: =SUM(R145:R226) -> 13.395424 | T144: =SUM(T145:T226) -> 0 | AR144: 1 | AT144: D | AU144: 1 | AY144: ROZPOCET | BK144: =SUM(BK145:BK226) -> 0
C145: 4 | D145: K | E145: 622131101 | F145: Podkladní a spojovací vrstva vnějších omítaných ploch cementový postřik nanášený ručně celoplošně stěn | G145: m2 | H145: 24.36 | J145: =ROUND(I145*H145,2) -> 0 | K145: CS ÚRS 2023 01 | N145: základní | O145: 0.087 | P145: =O145*H145 -> 2.11932 | Q145: 0.00735 | R145: =Q145*H145 -> 0.179046 | S145: 0 | T145: =S145*H145 -> 0 | AR145: 4 | AT145: K | AU145: 2 | AY145: ROZPOCET | BE145: =IF(N145="základní",J145,0) -> 0 | BF145: =IF(N145="snížená",J145,0) -> 0 | BG145: =IF(N145="zákl. přenesená",J145,0) -> 0 | BH145: =IF(N145="sníž. přenesená",J145,0) -> 0 | BI145: =IF(N145="nulová",J145,0) -> 0 | BJ145: 1 | BK145: =ROUND(I145*H145,2) -> 0 | BL145: 4 | BM145: 82988416
D146: VV | F146: podezdívka pod VZT | AT146: VV | AU146: 2 | AV146: 1 | AW146: True | AX146: 0 | AY146: ROZPOCET
D147: VV | F147: 2*(0,30+1,00)*2*4,20+0,30*2*4,20 | H147: 24.36 | AT147: VV | AU147: 2 | AV147: 2 | AW147: True | AX147: 0 | AY147: ROZPOCET
D148: VV | F148: Součet | H148: 24.36 | AT148: VV | AU148: 2 | AV148: 4 | AW148: True | AX148: 1 | AY148: ROZPOCET
C149: 5 | D149: K | E149: 622142001 | F149: Potažení vnějších ploch pletivem v ploše nebo pruzích, na plném podkladu sklovláknitým vtlačením do tmelu stěn | G149: m2 | H149: 26.88 | J149: =ROUND(I149*H149,2) -> 0 | K149: CS ÚRS 2023 01 | N149: základní | O149: 0.33 | P149: =O149*H149 -> 8.8704 | Q149: 0.00438 | R149: =Q149*H149 -> 0.1177344 | S149: 0 | T149: =S149*H149 -> 0 | AR149: 4 | AT149: K | AU149: 2 | AY149: ROZPOCET | BE149: =IF(N149="základní",J149,0) -> 0 | BF149: =IF(N149="snížená",J149,0) -> 0 | BG149: =IF(N149="zákl. přenesená",J149,0) -> 0 | BH149: =IF(N149="sníž. přenesená",J149,0) -> 0 | BI149: =IF(N149="nulová",J149,0) -> 0 | BJ149: 1 | BK149: =ROUND(I149*H149,2) -> 0 | BL149: 4 | BM149: -562032361
D150: VV | F150: (2*(1,40+2*1,44)+9*(0,55+2*0,94)+10*(1,45+2*1,44))*0,30 | H150: 22.119 | AT150: VV | AU150: 2 | AV150: 2 | AW150: True | AX150: 0 | AY150: ROZPOCET
D151: VV | F151: (1*(0,90+2*2,07)+1*(1,40+2*2,07))*0,45 | H151: 4.761 | AT151: VV | AU151: 2 | AV151: 2 | AW151: True | AX151: 0 | AY151: ROZPOCET
D152: VV | F152: Součet | H152: 26.88 | AT152: VV | AU152: 2 | AV152: 4 | AW152: True | AX152: 1 | AY152: ROZPOCET
C153: 6 | D153: K | E153: 622151011 | F153: Penetrační nátěr vnějších pastovitých tenkovrstvých omítek silikátový stěn | G153: m2 | H153: 348.249 | J153: =ROUND(I153*H153,2) -> 0 | K153: CS ÚRS 2023 01 | N153: základní | O153: 0.075 | P153: =O153*H153 -> 26.118675 | Q153: 0.0002 | R153: =Q153*H153 -> 0.0696498 | S153: 0 | T153: =S153*H153 -> 0 | AR153: 4 | AT153: K | AU153: 2 | AY153: ROZPOCET | BE153: =IF(N153="základní",J153,0) -> 0 | BF153: =IF(N153="snížená",J153,0) -> 0 | BG153: =IF(N153="zákl. přenesená",J153,0) -> 0 | BH153: =IF(N153="sníž. přenesená",J153,0) -> 0 | BI153: =IF(N153="nulová",J153,0) -> 0 | BJ153: 1 | BK153: =ROUND(I153*H153,2) -> 0 | BL153: 4 | BM153: 789939606
D154: VV | F154: 2*(25,30+15,60+0,61)*4,25+1,00*2*(0,80+0,63) | H154: 355.695 | AT154: VV | AU154: 2 | AV154: 2 | AW154: True | AX154: 0 | AY154: ROZPOCET
D155: VV | F155: odpočet okna | AT155: VV | AU155: 2 | AV155: 1 | AW155: True | AX155: 0 | AY155: ROZPOCET
D156: VV | F156: -1*(2*1,40*1,44+9*0,55*0,94+10*1,45*1,44) | H156: -29.565 | AT156: VV | AU156: 2 | AV156: 2 | AW156: True | AX156: 0 | AY156: ROZPOCET
D157: VV | F157: -1*(0,90*2,07+1,40*2,07) | H157: -4.761 | AT157: VV | AU157: 2 | AV157: 2 | AW157: True | AX157: 0 | AY157: ROZPOCET
D158: VV | F158: přípočet ostění | AT158: VV | AU158: 2 | AV158: 1 | AW158: True | AX158: 0 | AY158: ROZPOCET
D159: VV | F159: (2*(1,40+2*1,44)+9*(0,55+2*0,94)+10*(1,45+2*1,44))*0,30 | H159: 22.119 | AT159: VV | AU159: 2 | AV159: 2 | AW159: True | AX159: 0 | AY159: ROZPOCET
D160: VV | F160: (1*(0,90+2*2,07)+1*(1,40+2*2,07))*0,45 | H160: 4.761 | AT160: VV | AU160: 2 | AV160: 2 | AW160: True | AX160: 0 | AY160: ROZPOCET
D161: VV | F161: Součet | H161: 348.249 | AT161: VV | AU161: 2 | AV161: 4 | AW161: True | AX161: 1 | AY161: ROZPOCET
C162: 7 | D162: K | E162: 622151021 | F162: Penetrační nátěr vnějších pastovitých tenkovrstvých omítek mozaikových akrylátový stěn | G162: m2 | H162: 44.46 | J162: =ROUND(I162*H162,2) -> 0 | K162: CS ÚRS 2023 01 | N162: základní | O162: 0.075 | P162: =O162*H162 -> 3.3345 | Q162: 0.00018 | R162: =Q162*H162 -> 0.0080028 | S162: 0 | T162: =S162*H162 -> 0 | AR162: 4 | AT162: K | AU162: 2 | AY162: ROZPOCET | BE162: =IF(N162="základní",J162,0) -> 0 | BF162: =IF(N162="snížená",J162,0) -> 0 | BG162: =IF(N162="zákl. přenesená",J162,0) -> 0 | BH162: =IF(N162="sníž. přenesená",J162,0) -> 0 | BI162: =IF(N162="nulová",J162,0) -> 0 | BJ162: 1 | BK162: =ROUND(I162*H162,2) -> 0 | BL162: 4 | BM162: 1863568105
D163: VV | F163: sokl | AT163: VV | AU163: 2 | AV163: 1 | AW163: True | AX163: 0 | AY163: ROZPOCET
D164: VV | F164: 1,00*(15,60+2*0,63)+1,00*25,30/2+1,00*25,30/2+1,00*2,30 | H164: 44.46 | AT164: VV | AU164: 2 | AV164: 2 | AW164: True | AX164: 0 | AY164: ROZPOCET
D165: VV | F165: Součet | H165: 44.46 | AT165: VV | AU165: 2 | AV165: 4 | AW165: True | AX165: 1 | AY165: ROZPOCET
C166: 8 | D166: K | E166: 622211031 | F166: Montáž kontaktního zateplení lepením a mechanickým kotvením z polystyrenových desek na vnější stěny, na podklad betonový nebo z lehčeného betonu, z tvárnic keramických nebo vápenopískových, tloušťky desek přes 120 do 160 mm | G166: m2 | H166: 321.369 | J166: =ROUND(I166*H166,2) -> 0 | K166: CS ÚRS 2023 01 | N166: základní | O166: 1.06 | P166: =O166*H166 -> 340.65114 | Q166: 0.0086 | R166: =Q166*H166 -> 2.7637734 | S166: 0 | T166: =S166*H166 -> 0 | AR166: 4 | AT166: K | AU166: 2 | AY166: ROZPOCET | BE166: =IF(N166="základní",J166,0) -> 0 | BF166: =IF(N166="snížená",J166,0) -> 0 | BG166: =IF(N166="zákl. přenesená",J166,0) -> 0 | BH166: =IF(N166="sníž. přenesená",J166,0) -> 0 | BI166: =IF(N166="nulová",J166,0) -> 0 | BJ166: 1 | BK166: =ROUND(I166*H166,2) -> 0 | BL166: 4 | BM166: -891094843
...

Sheet 03 - ZTI - vodovod
L2: >> skryté sloupce << | AT2: {7d763962-92b8-43fd-8d31-4426f2323fd4}
AT3: 2
D4: KRYCÍ LIST SOUPISU PRACÍ | M4: v --- níže se nacházejí doplnkové a pomocné údaje k sestavám --- v | AT4: False
D6: Stavba:
E7: ='Rekapitulace stavby'!K6 -> Stavební úpravy - školní jídelna Želetava
D8: Objekt:
E9: 03 - ZTI - vodovod
D11: KSO:
D12: Místo: | F12: Želetava | J12: ='Rekapitulace stavby'!AN8 -> 11. 5. 2023
D14: Zadavatel:
E15: městys Želetava
D17: Zhotovitel: | J17: ='Rekapitulace stavby'!AN13
E18: ='Rekapitulace stavby'!E14 | J18: ='Rekapitulace stavby'!AN14
D20: Projektant:
E21: TeS, spol. s r.o., David Myška
D23: Zpracovatel:
E24: Martin Lang
D26: Poznámka:
D30: Cena bez DPH | J30: =ROUND(J123, 0) -> 0
F32: Základ daně | J32: Výše daně
D33: DPH | E33: základní | F33: =ROUND((SUM(BE123:BE194)), 0) -> 0 | J33: =ROUND(((SUM(BE123:BE194))*I33), 0) -> 0
E34: snížená | F34: =ROUND((SUM(BF123:BF194)), 0) -> 0 | J34: =ROUND(((SUM(BF123:BF194))*I34), 0) -> 0
E35: zákl. přenesená | F35: =ROUND((SUM(BG123:BG194)), 0) -> 0 | J35: =0 -> 0
E36: sníž. přenesená | F36: =ROUND((SUM(BH123:BH194)), 0) -> 0 | J36: =0 -> 0
E37: nulová | F37: =ROUND((SUM(BI123:BI194)), 0) -> 0 | J37: =0 -> 0
D39: Cena s DPH | G39: v | H39: CZK | J39: =SUM(J30:J37) -> 0
D50: Projektant | G50: Zpracovatel
D61: Datum a podpis: | F61: Razítko | G61: Datum a podpis: | J61: Razítko
D65: Objednavatel | G65: Zhotovitel
D76: Datum a podpis: | F76: Razítko | G76: Datum a podpis: | J76: Razítko
C82: REKAPITULACE ČLENĚNÍ SOUPISU PRACÍ
C84: Stavba:
E85: =E7 -> Stavební úpravy - školní jídelna Želetava
C86: Objekt:
E87: =E9 -> 03 - ZTI - vodovod
C89: Místo: | F89: =F12 -> Želetava | J89: =IF(J12="","",J12) -> 11. 5. 2023
C91: Zadavatel: | F91: =E15 -> městys Želetava | J91: =E21 -> TeS, spol. s r.o., David Myška
C92: Zhotovitel: | F92: =IF(E18="","",E18) | J92: =E24 -> Martin Lang
C94: Kód dílu - Popis | J94: Cena celkem [CZK]
C96: Náklady ze soupisu prací | J96: =J123 -> 0 | AU96: -1
D97: HSV - Práce a dodávky HSV | J97: =J124 -> 0
D98: 9 - Ostatní konstrukce a práce, bourání | J98: =J125 -> 0
D99: PSV - Práce a dodávky PSV | J99: =J127 -> 0
D100: 722 - Zdravotechnika - vnitřní vodovod | J100: =J128 -> 0
D101: 724 - Zdravotechnika - strojní vybavení | J101: =J182 -> 0
D102: 725 - Zdravotechnika - zařizovací předměty | J102: =J187 -> 0
D103: 732 - Ústřední vytápění - strojovny | J103: =J191 -> 0
C110: SOUPIS PRACÍ
C112: Stavba:
E113: =E7 -> Stavební úpravy - školní jídelna Želetava
C114: Objekt:
E115: =E9 -> 03 - ZTI - vodovod
C117: Místo: | F117: =F12 -> Želetava | J117: =IF(J12="","",J12) -> 11. 5. 2023
C119: Zadavatel: | F119: =E15 -> městys Želetava | J119: =E21 -> TeS, spol. s r.o., David Myška
C120: Zhotovitel: | F120: =IF(E18="","",E18) | J120: =E24 -> Martin Lang
C122: PČ | D122: Typ | E122: Kód | F122: Popis | G122: MJ | H122: Množství | J122: Cena celkem [CZK] | K122: Cenová soustava | N122: DPH | O122: J. Nh [h] | P122: Nh celkem [h] | Q122: J. hmotnost [t] | R122: Hmotnost celkem [t] | S122: J. suť [t] | T122: Suť Celkem [t]
C123: Náklady soupisu celkem | J123: =BK123 -> 0 | P123: =P124+P127 -> 265.31996 | R123: =R124+R127 -> 0.434495 | T123: =T124+T127 -> 0 | AT123: D | AU123: -1 | BK123: =BK124+BK127 -> 0
D124: D | E124: HSV | F124: Práce a dodávky HSV | J124: =BK124 -> 0 | P124: =P125 -> 0 | R124: =R125 -> 0 | T124: =T125 -> 0 | AR124: 1 | AT124: D | AU124: 0 | AY124: ROZPOCET | BK124: =BK125 -> 0
D125: D | E125: 9 | F125: Ostatní konstrukce a práce, bourání | J125: =BK125 -> 0 | P125: =P126 -> 0 | R125: =R126 -> 0 | T125: =T126 -> 0 | AR125: 1 | AT125: D | AU125: 1 | AY125: ROZPOCET | BK125: =BK126 -> 0
C126: 1 | D126: K | E126: 900900100 | F126: Stavební přípomoce pro rozvod vody | G126: kpl | H126: 1 | J126: =ROUND(I126*H126,2) -> 0 | N126: základní | O126: 0 | P126: =O126*H126 -> 0 | Q126: 0 | R126: =Q126*H126 -> 0 | S126: 0 | T126: =S126*H126 -> 0 | AR126: 4 | AT126: K | AU126: 2 | AY126: ROZPOCET | BE126: =IF(N126="základní",J126,0) -> 0 | BF126: =IF(N126="snížená",J126,0) -> 0 | BG126: =IF(N126="zákl. přenesená",J126,0) -> 0 | BH126: =IF(N126="sníž. přenesená",J126,0) -> 0 | BI126: =IF(N126="nulová",J126,0) -> 0 | BJ126: 1 | BK126: =ROUND(I126*H126,2) -> 0 | BL126: 4 | BM126: 700709416
D127: D | E127: PSV | F127: Práce a dodávky PSV | J127: =BK127 -> 0 | P127: =P128+P182+P187+P191 -> 265.31996 | R127: =R128+R182+R187+R191 -> 0.434495 | T127: =T128+T182+T187+T191 -> 0 | AR127: 2 | AT127: D | AU127: 0 | AY127: ROZPOCET | BK127: =BK128+BK182+BK187+BK191 -> 0
D128: D | E128: 722 | F128: Zdravotechnika - vnitřní vodovod | J128: =BK128 -> 0 | P128: =SUM(P129:P181) -> 261.60544 | R128: =SUM(R129:R181) -> 0.419915 | T128: =SUM(T129:T181) -> 0 | AR128: 2 | AT128: D | AU128: 1 | AY128: ROZPOCET | BK128: =SUM(BK129:BK181) -> 0
C129: 2 | D129: K | E129: 722174021 | F129: Potrubí z plastových trubek z polypropylenu PPR svařovaných polyfúzně PN 20 (SDR 6) D 16 x 2,7 | G129: m | H129: 61 | J129: =ROUND(I129*H129,2) -> 0 | K129: CS ÚRS 2023 01 | N129: základní | O129: 0.556 | P129: =O129*H129 -> 33.916 | Q129: 0.00084 | R129: =Q129*H129 -> 0.05124 | S129: 0 | T129: =S129*H129 -> 0 | AR129: 16 | AT129: K | AU129: 2 | AY129: ROZPOCET | BE129: =IF(N129="základní",J129,0) -> 0 | BF129: =IF(N129="snížená",J129,0) -> 0 | BG129: =IF(N129="zákl. přenesená",J129,0) -> 0 | BH129: =IF(N129="sníž. přenesená",J129,0) -> 0 | BI129: =IF(N129="nulová",J129,0) -> 0 | BJ129: 1 | BK129: =ROUND(I129*H129,2) -> 0 | BL129: 16 | BM129: -1815421989
D130: VV | F130: "SV" 14,50 | H130: 14.5 | AT130: VV | AU130: 2 | AV130: 2 | AW130: True | AX130: 0 | AY130: ROZPOCET
D131: VV | F131: "TV" 6,00 | H131: 6 | AT131: VV | AU131: 2 | AV131: 2 | AW131: True | AX131: 0 | AY131: ROZPOCET
D132: VV | F132: "CV" 40,50 | H132: 40.5 | AT132: VV | AU132: 2 | AV132: 2 | AW132: True | AX132: 0 | AY132: ROZPOCET
D133: VV | F133: Součet | H133: 61 | AT133: VV | AU133: 2 | AV133: 4 | AW133: True | AX133: 1 | AY133: ROZPOCET
C134: 3 | D134: K | E134: 722174022 | F134: Potrubí z plastových trubek z polypropylenu PPR svařovaných polyfúzně PN 20 (SDR 6) D 20 x 3,4 | G134: m | H134: 148.5 | J134: =ROUND(I134*H134,2) -> 0 | K134: CS ÚRS 2023 01 | N134: základní | O134: 0.529 | P134: =O134*H134 -> 78.5565 | Q134: 0.00098 | R134: =Q134*H134 -> 0.14553 | S134: 0 | T134: =S134*H134 -> 0 | AR134: 16 | AT134: K | AU134: 2 | AY134: ROZPOCET | BE134: =IF(N134="základní",J134,0) -> 0 | BF134: =IF(N134="snížená",J134,0) -> 0 | BG134: =IF(N134="zákl. přenesená",J134,0) -> 0 | BH134: =IF(N134="sníž. přenesená",J134,0) -> 0 | BI134: =IF(N134="nulová",J134,0) -> 0 | BJ134: 1 | BK134: =ROUND(I134*H134,2) -> 0 | BL134: 16 | BM134: 1672387785
D135: VV | F135: "SV" 56,50 | H135: 56.5 | AT135: VV | AU135: 2 | AV135: 2 | AW135: True | AX135: 0 | AY135: ROZPOCET
D136: VV | F136: "TV" 73,00 | H136: 73 | AT136: VV | AU136: 2 | AV136: 2 | AW136: True | AX136: 0 | AY136: ROZPOCET
D137: VV | F137: "CV" 14,00 | H137: 14 | AT137: VV | AU137: 2 | AV137: 2 | AW137: True | AX137: 0 | AY137: ROZPOCET
D138: VV | F138: "ZV" 5,00 | H138: 5 | AT138: VV | AU138: 2 | AV138: 2 | AW138: True | AX138: 0 | AY138: ROZPOCET
D139: VV | F139: Součet | H139: 148.5 | AT139: VV | AU139: 2 | AV139: 4 | AW139: True | AX139: 1 | AY139: ROZPOCET
C140: 4 | D140: K | E140: 722174023 | F140: Potrubí z plastových trubek z polypropylenu PPR svařovaných polyfúzně PN 20 (SDR 6) D 25 x 4,2 | G140: m | H140: 43 | J140: =ROUND(I140*H140,2) -> 0 | K140: CS ÚRS 2023 01 | N140: základní | O140: 0.616 | P140: =O140*H140 -> 26.488 | Q140: 0.00126 | R140: =Q140*H140 -> 0.05418 | S140: 0 | T140: =S140*H140 -> 0 | AR140: 16 | AT140: K | AU140: 2 | AY140: ROZPOCET | BE140: =IF(N140="základní",J140,0) -> 0 | BF140: =IF(N140="snížená",J140,0) -> 0 | BG140: =IF(N140="zákl. přenesená",J140,0) -> 0 | BH140: =IF(N140="sníž. přenesená",J140,0) -> 0 | BI140: =IF(N140="nulová",J140,0) -> 0 | BJ140: 1 | BK140: =ROUND(I140*H140,2) -> 0 | BL140: 16 | BM140: -1684212121
D141: VV | F141: "SV" 12,50 | H141: 12.5 | AT141: VV | AU141: 2 | AV141: 2 | AW141: True | AX141: 0 | AY141: ROZPOCET
D142: VV | F142: "TV" 10,50 | H142: 10.5 | AT142: VV | AU142: 2 | AV142: 2 | AW142: True | AX142: 0 | AY142: ROZPOCET
D143: VV | F143: "ZV" 20,00 | H143: 20 | AT143: VV | AU143: 2 | AV143: 2 | AW143: True | AX143: 0 | AY143: ROZPOCET
D144: VV | F144: Součet | H144: 43 | AT144: VV | AU144: 2 | AV144: 4 | AW144: True | AX144: 1 | AY144: ROZPOCET
C145: 5 | D145: K | E145: 722174024 | F145: Potrubí z plastových trubek z polypropylenu PPR svařovaných polyfúzně PN 20 (SDR 6) D 32 x 5,4 | G145: m | H145: 46 | J145: =ROUND(I145*H145,2) -> 0 | K145: CS ÚRS 2023 01 | N145: základní | O145: 0.696 | P145: =O145*H145 -> 32.016 | Q145: 0.00153 | R145: =Q145*H145 -> 0.07038 | S145: 0 | T145: =S145*H145 -> 0 | AR145: 16 | AT145: K | AU145: 2 | AY145: ROZPOCET | BE145: =IF(N145="základní",J145,0) -> 0 | BF145: =IF(N145="snížená",J145,0) -> 0 | BG145: =IF(N145="zákl. přenesená",J145,0) -> 0 | BH145: =IF(N145="sníž. přenesená",J145,0) -> 0 | BI145: =IF(N145="nulová",J145,0) -> 0 | BJ145: 1 | BK145: =ROUND(I145*H145,2) -> 0 | BL145: 16 | BM145: 686315111
D146: VV | F146: "SV" 35,00 | H146: 35 | AT146: VV | AU146: 2 | AV146: 2 | AW146: True | AX146: 0 | AY146: ROZPOCET
D147: VV | F147: "TV" 11,00 | H147: 11 | AT147: VV | AU147: 2 | AV147: 2 | AW147: True | AX147: 0 | AY147: ROZPOCET
D148: VV | F148: Součet | H148: 46 | AT148: VV | AU148: 2 | AV148: 4 | AW148: True | AX148: 1 | AY148: ROZPOCET
C149: 6 | D149: K | E149: 722181221 | F149: Ochrana potrubí termoizolačními trubicemi z pěnového polyetylenu PE přilepenými v příčných a podélných spojích, tloušťky izolace přes 6 do 9 mm, vnitřního průměru izolace DN do 22 mm | G149: m | H149: 76 | J149: =ROUND(I149*H149,2) -> 0 | K149: CS ÚRS 2023 01 | N149: základní | O149: 0.103 | P149: =O149*H149 -> 7.828 | Q149: 5e-05 | R149: =Q149*H149 -> 0.0038 | S149: 0 | T149: =S149*H149 -> 0 | AR149: 16 | AT149: K | AU149: 2 | AY149: ROZPOCET | BE149: =IF(N149="základní",J149,0) -> 0 | BF149: =IF(N149="snížená",J149,0) -> 0 | BG149: =IF(N149="zákl. přenesená",J149,0) -> 0 | BH149: =IF(N149="sníž. přenesená",J149,0) -> 0 | BI149: =IF(N149="nulová",J149,0) -> 0 | BJ149: 1 | BK149: =ROUND(I149*H149,2) -> 0 | BL149: 16 | BM149: 1590736114
D150: VV | F150: "SV" 14,50 | H150: 14.5 | AT150: VV | AU150: 2 | AV150: 2 | AW150: True | AX150: 0 | AY150: ROZPOCET
D151: VV | F151: "SV" 56,50 | H151: 56.5 | AT151: VV | AU151: 2 | AV151: 2 | AW151: True | AX151: 0 | AY151: ROZPOCET
D152: VV | F152: "ZV" 5,00 | H152: 5 | AT152: VV | AU152: 2 | AV152: 2 | AW152: True | AX152: 0 | AY152: ROZPOCET
D153: VV | F153: Součet | H153: 76 | AT153: VV | AU153: 2 | AV153: 4 | AW153: True | AX153: 1 | AY153: ROZPOCET
C154: 7 | D154: K | E154: 722181222 | F154: Ochrana potrubí termoizolačními trubicemi z pěnového polyetylenu PE přilepenými v příčných a podélných spojích, tloušťky izolace přes 6 do 9 mm, vnitřního průměru izolace DN přes 22 do 45 mm | G154: m | H154: 67.5 | J154: =ROUND(I154*H154,2) -> 0 | K154: CS ÚRS 2023 01 | N154: základní | O154: 0.103 | P154: =O154*H154 -> 6.9525 | Q154: 7e-05 | R154: =Q154*H154 -> 0.004725 | S154: 0 | T154: =S154*H154 -> 0 | AR154: 16 | AT154: K | AU154: 2 | AY154: ROZPOCET | BE154: =IF(N154="základní",J154,0) -> 0 | BF154: =IF(N154="snížená",J154,0) -> 0 | BG154: =IF(N154="zákl. přenesená",J154,0) -> 0 | BH154: =IF(N154="sníž. přenesená",J154,0) -> 0 | BI154: =IF(N154="nulová",J154,0) -> 0 | BJ154: 1 | BK154: =ROUND(I154*H154,2) -> 0 | BL154: 16 | BM154: -956496043
D155: VV | F155: "SV" 12,50 | H155: 12.5 | AT155: VV | AU155: 2 | AV155: 2 | AW155: True | AX155: 0 | AY155: ROZPOCET
D156: VV | F156: "ZV" 20,00 | H156: 20 | AT156: VV | AU156: 2 | AV156: 2 | AW156: True | AX156: 0 | AY156: ROZPOCET
D157: VV | F157: "SV" 35,00 | H157: 35 | AT157: VV | AU157: 2 | AV157: 2 | AW157: True | AX157: 0 | AY157: ROZPOCET
D158: VV | F158: Součet | H158: 67.5 | AT158: VV | AU158: 2 | AV158: 4 | AW158: True | AX158: 1 | AY158: ROZPOCET
C159: 8 | D159: K | E159: 722181241 | F159: Ochrana potrubí termoizolačními trubicemi z pěnového polyetylenu PE přilepenými v příčných a podélných spojích, tloušťky izolace přes 13 do 20 mm, vnitřního průměru izolace DN do 22 mm | G159: m | H159: 133.5 | J159: =ROUND(I159*H159,2) -> 0 | K159: CS ÚRS 2023 01 | N159: základní | O159: 0.113 | P159: =O159*H159 -> 15.0855 | Q159: 0.00012 | R159: =Q159*H159 -> 0.01602 | S159: 0 | T159: =S159*H159 -> 0 | AR159: 16 | AT159: K | AU159: 2 | AY159: ROZPOCET | BE159: =IF(N159="základní",J159,0) -> 0 | BF159: =IF(N159="snížená",J159,0) -> 0 | BG159: =IF(N159="zákl. přenesená",J159,0) -> 0 | BH159: =IF(N159="sníž. přenesená",J159,0) -> 0 | BI159: =IF(N159="nulová",J159,0) -> 0 | BJ159: 1 | BK159: =ROUND(I159*H159,2) -> 0 | BL159: 16 | BM159: -767175694
D160: VV | F160: "TV" 6,00 | H160: 6 | AT160: VV | AU160: 2 | AV160: 2 | AW160: True | AX160: 0 | AY160: ROZPOCET
D161: VV | F161: "CV" 40,50 | H161: 40.5 | AT161: VV | AU161: 2 | AV161: 2 | AW161: True | AX161: 0 | AY161: ROZPOCET
D162: VV | F162: "TV" 73,00 | H162: 73 | AT162: VV | AU162: 2 | AV162: 2 | AW162: True | AX162: 0 | AY162: ROZPOCET
D163: VV | F163: "CV" 14,00 | H163: 14 | AT163: VV | AU163: 2 | AV163: 2 | AW163: True | AX163: 0 | AY163: ROZPOCET
D164: VV | F164: Součet | H164: 133.5 | AT164: VV | AU164: 2 | AV164: 4 | AW164: True | AX164: 1 | AY164: ROZPOCET
C165: 9 | D165: K | E165: 722181242 | F165: Ochrana potrubí termoizolačními trubicemi z pěnového polyetylenu PE přilepenými v příčných a podélných spojích, tloušťky izolace přes 13 do 20 mm, vnitřního průměru izolace DN přes 22 do 45 mm | G165: m | H165: 21.5 | J165: =ROUND(I165*H165,2) -> 0 | K165: CS ÚRS 2023 01 | N165: základní | O165: 0.113 | P165: =O165*H165 -> 2.4295 | Q165: 0.00016 | R165: =Q165*H165 -> 0.00344 | S165: 0 | T165: =S165*H165 -> 0 | AR165: 16 | AT165: K | AU165: 2 | AY165: ROZPOCET | BE165: =IF(N165="základní",J165,0) -> 0 | BF165: =IF(N165="snížená",J165,0) -> 0 | BG165: =IF(N165="zákl. přenesená",J165,0) -> 0 | BH165: =IF(N165="sníž. přenesená",J165,0) -> 0 | BI165: =IF(N165="nulová",J165,0) -> 0 | BJ165: 1 | BK165: =ROUND(I165*H165,2) -> 0 | BL165: 16 | BM165: -1763802270
D166: VV | F166: "TV" 10,50 | H166: 10.5 | AT166: VV | AU166: 2 | AV166: 2 | AW166: True | AX166: 0 | AY166: ROZPOCET
...

Sheet 04 - Plynovod
L2: >> skryté sloupce << | AT2: {853c5c0b-b6e5-4680-a7ce-99dc8c884c54}
AT3: 2
D4: KRYCÍ LIST SOUPISU PRACÍ | M4: v --- níže se nacházejí doplnkové a pomocné údaje k sestavám --- v | AT4: False
D6: Stavba:
E7: ='Rekapitulace stavby'!K6 -> Stavební úpravy - školní jídelna Želetava
D8: Objekt:
E9: 04 - Plynovod
D11: KSO:
D12: Místo: | F12: Želetava | J12: ='Rekapitulace stavby'!AN8 -> 11. 5. 2023
D14: Zadavatel:
E15: městys Želetava
D17: Zhotovitel: | J17: ='Rekapitulace stavby'!AN13
E18: ='Rekapitulace stavby'!E14 | J18: ='Rekapitulace stavby'!AN14
D20: Projektant:
E21: TeS, spol. s r.o., David Myška
D23: Zpracovatel:
E24: Martin Lang
D26: Poznámka:
D30: Cena bez DPH | J30: =ROUND(J121, 0) -> 0
F32: Základ daně | J32: Výše daně
D33: DPH | E33: základní | F33: =ROUND((SUM(BE121:BE147)), 0) -> 0 | J33: =ROUND(((SUM(BE121:BE147))*I33), 0) -> 0
E34: snížená | F34: =ROUND((SUM(BF121:BF147)), 0) -> 0 | J34: =ROUND(((SUM(BF121:BF147))*I34), 0) -> 0
E35: zákl. přenesená | F35: =ROUND((SUM(BG121:BG147)), 0) -> 0 | J35: =0 -> 0
E36: sníž. přenesená | F36: =ROUND((SUM(BH121:BH147)), 0) -> 0 | J36: =0 -> 0
E37: nulová | F37: =ROUND((SUM(BI121:BI147)), 0) -> 0 | J37: =0 -> 0
D39: Cena s DPH | G39: v | H39: CZK | J39: =SUM(J30:J37) -> 0
D50: Projektant | G50: Zpracovatel
D61: Datum a podpis: | F61: Razítko | G61: Datum a podpis: | J61: Razítko
D65: Objednavatel | G65: Zhotovitel
D76: Datum a podpis: | F76: Razítko | G76: Datum a podpis: | J76: Razítko
C82: REKAPITULACE ČLENĚNÍ SOUPISU PRACÍ
C84: Stavba:
E85: =E7 -> Stavební úpravy - školní jídelna Želetava
C86: Objekt:
E87: =E9 -> 04 - Plynovod
C89: Místo: | F89: =F12 -> Želetava | J89: =IF(J12="","",J12) -> 11. 5. 2023
C91: Zadavatel: | F91: =E15 -> městys Želetava | J91: =E21 -> TeS, spol. s r.o., David Myška
C92: Zhotovitel: | F92: =IF(E18="","",E18) | J92: =E24 -> Martin Lang
C94: Kód dílu - Popis | J94: Cena celkem [CZK]
C96: Náklady ze soupisu prací | J96: =J121 -> 0 | AU96: -1
D97: HSV - Práce a dodávky HSV | J97: =J122 -> 0
D98: 9 - Ostatní konstrukce a práce, bourání | J98: =J123 -> 0
D99: PSV - Práce a dodávky PSV | J99: =J125 -> 0
D100: 723 - Zdravotechnika - vnitřní plynovod | J100: =J126 -> 0
D101: 725 - Zdravotechnika - zařizovací předměty | J101: =J141 -> 0
C108: SOUPIS PRACÍ
C110: Stavba:
E111: =E7 -> Stavební úpravy - školní jídelna Želetava
C112: Objekt:
E113: =E9 -> 04 - Plynovod
C115: Místo: | F115: =F12 -> Želetava | J115: =IF(J12="","",J12) -> 11. 5. 2023
C117: Zadavatel: | F117: =E15 -> městys Želetava | J117: =E21 -> TeS, spol. s r.o., David Myška
C118: Zhotovitel: | F118: =IF(E18="","",E18) | J118: =E24 -> Martin Lang
C120: PČ | D120: Typ | E120: Kód | F120: Popis | G120: MJ | H120: Množství | J120: Cena celkem [CZK] | K120: Cenová soustava | N120: DPH | O120: J. Nh [h] | P120: Nh celkem [h] | Q120: J. hmotnost [t] | R120: Hmotnost celkem [t] | S120: J. suť [t] | T120: Suť Celkem [t]
C121: Náklady soupisu celkem | J121: =BK121 -> 0 | P121: =P122+P125 -> 19.080907 | R121: =R122+R125 -> 0.26432484 | T121: =T122+T125 -> 0 | AT121: D | AU121: -1 | BK121: =BK122+BK125 -> 0
D122: D | E122: HSV | F122: Práce a dodávky HSV | J122: =BK122 -> 0 | P122: =P123 -> 0 | R122: =R123 -> 0 | T122: =T123 -> 0 | AR122: 1 | AT122: D | AU122: 0 | AY122: ROZPOCET | BK122: =BK123 -> 0
D123: D | E123: 9 | F123: Ostatní konstrukce a práce, bourání | J123: =BK123 -> 0 | P123: =P124 -> 0 | R123: =R124 -> 0 | T123: =T124 -> 0 | AR123: 1 | AT123: D | AU123: 1 | AY123: ROZPOCET | BK123: =BK124 -> 0
C124: 1 | D124: K | E124: 900900100 | F124: Stavební přípomoce pro rozvod plynu | G124: kus | H124: 1 | J124: =ROUND(I124*H124,2) -> 0 | N124: základní | O124: 0 | P124: =O124*H124 -> 0 | Q124: 0 | R124: =Q124*H124 -> 0 | S124: 0 | T124: =S124*H124 -> 0 | AR124: 4 | AT124: K | AU124: 2 | AY124: ROZPOCET | BE124: =IF(N124="základní",J124,0) -> 0 | BF124: =IF(N124="snížená",J124,0) -> 0 | BG124: =IF(N124="zákl. přenesená",J124,0) -> 0 | BH124: =IF(N124="sníž. přenesená",J124,0) -> 0 | BI124: =IF(N124="nulová",J124,0) -> 0 | BJ124: 1 | BK124: =ROUND(I124*H124,2) -> 0 | BL124: 4 | BM124: 449458464
D125: D | E125: PSV | F125: Práce a dodávky PSV | J125: =BK125 -> 0 | P125: =P126+P141 -> 19.080907 | R125: =R126+R141 -> 0.26432484 | T125: =T126+T141 -> 0 | AR125: 2 | AT125: D | AU125: 0 | AY125: ROZPOCET | BK125: =BK126+BK141 -> 0
D126: D | E126: 723 | F126: Zdravotechnika - vnitřní plynovod | J126: =BK126 -> 0 | P126: =SUM(P127:P140) -> 13.554663 | R126: =SUM(R127:R140) -> 0.051 | T126: =SUM(T127:T140) -> 0 | AR126: 2 | AT126: D | AU126: 1 | AY126: ROZPOCET | BK126: =SUM(BK127:BK140) -> 0
C127: 2 | D127: K | E127: 723150365 | F127: Potrubí z ocelových trubek hladkých černých spojovaných chráničky Ø 38/2,6 | G127: m | H127: 2 | J127: =ROUND(I127*H127,2) -> 0 | K127: CS ÚRS 2023 01 | N127: základní | O127: 0.269 | P127: =O127*H127 -> 0.538 | Q127: 0.00256 | R127: =Q127*H127 -> 0.00512 | S127: 0 | T127: =S127*H127 -> 0 | AR127: 16 | AT127: K | AU127: 2 | AY127: ROZPOCET | BE127: =IF(N127="základní",J127,0) -> 0 | BF127: =IF(N127="snížená",J127,0) -> 0 | BG127: =IF(N127="zákl. přenesená",J127,0) -> 0 | BH127: =IF(N127="sníž. přenesená",J127,0) -> 0 | BI127: =IF(N127="nulová",J127,0) -> 0 | BJ127: 1 | BK127: =ROUND(I127*H127,2) -> 0 | BL127: 16 | BM127: -776269520
C128: 3 | D128: K | E128: 723181021 | F128: Potrubí z měděných trubek tvrdých, spojovaných lisováním Ø 15/1 | G128: m | H128: 4.5 | J128: =ROUND(I128*H128,2) -> 0 | K128: CS ÚRS 2023 01 | N128: základní | O128: 0.207 | P128: =O128*H128 -> 0.9315 | Q128: 0.00046 | R128: =Q128*H128 -> 0.00207 | S128: 0 | T128: =S128*H128 -> 0 | AR128: 16 | AT128: K | AU128: 2 | AY128: ROZPOCET | BE128: =IF(N128="základní",J128,0) -> 0 | BF128: =IF(N128="snížená",J128,0) -> 0 | BG128: =IF(N128="zákl. přenesená",J128,0) -> 0 | BH128: =IF(N128="sníž. přenesená",J128,0) -> 0 | BI128: =IF(N128="nulová",J128,0) -> 0 | BJ128: 1 | BK128: =ROUND(I128*H128,2) -> 0 | BL128: 16 | BM128: -1863636463
C129: 4 | D129: K | E129: 723181022 | F129: Potrubí z měděných trubek tvrdých, spojovaných lisováním Ø 18/1 | G129: m | H129: 10 | J129: =ROUND(I129*H129,2) -> 0 | K129: CS ÚRS 2023 01 | N129: základní | O129: 0.212 | P129: =O129*H129 -> 2.12 | Q129: 0.00046 | R129: =Q129*H129 -> 0.0046 | S129: 0 | T129: =S129*H129 -> 0 | AR129: 16 | AT129: K | AU129: 2 | AY129: ROZPOCET | BE129: =IF(N129="základní",J129,0) -> 0 | BF129: =IF(N129="snížená",J129,0) -> 0 | BG129: =IF(N129="zákl. přenesená",J129,0) -> 0 | BH129: =IF(N129="sníž. přenesená",J129,0) -> 0 | BI129: =IF(N129="nulová",J129,0) -> 0 | BJ129: 1 | BK129: =ROUND(I129*H129,2) -> 0 | BL129: 16 | BM129: 1589785435
C130: 5 | D130: K | E130: 723181023 | F130: Potrubí z měděných trubek tvrdých, spojovaných lisováním Ø 22/1 | G130: m | H130: 8.5 | J130: =ROUND(I130*H130,2) -> 0 | K130: CS ÚRS 2023 01 | N130: základní | O130: 0.215 | P130: =O130*H130 -> 1.8275 | Q130: 0.00071 | R130: =Q130*H130 -> 0.006035 | S130: 0 | T130: =S130*H130 -> 0 | AR130: 16 | AT130: K | AU130: 2 | AY130: ROZPOCET | BE130: =IF(N130="základní",J130,0) -> 0 | BF130: =IF(N130="snížená",J130,0) -> 0 | BG130: =IF(N130="zákl. přenesená",J130,0) -> 0 | BH130: =IF(N130="sníž. přenesená",J130,0) -> 0 | BI130: =IF(N130="nulová",J130,0) -> 0 | BJ130: 1 | BK130: =ROUND(I130*H130,2) -> 0 | BL130: 16 | BM130: 1436803445
C131: 6 | D131: K | E131: 723181024 | F131: Potrubí z měděných trubek tvrdých, spojovaných lisováním Ø 28/1,5 | G131: m | H131: 24.5 | J131: =ROUND(I131*H131,2) -> 0 | K131: CS ÚRS 2023 01 | N131: základní | O131: 0.219 | P131: =O131*H131 -> 5.3655 | Q131: 0.00125 | R131: =Q131*H131 -> 0.030625 | S131: 0 | T131: =S131*H131 -> 0 | AR131: 16 | AT131: K | AU131: 2 | AY131: ROZPOCET | BE131: =IF(N131="základní",J131,0) -> 0 | BF131: =IF(N131="snížená",J131,0) -> 0 | BG131: =IF(N131="zákl. přenesená",J131,0) -> 0 | BH131: =IF(N131="sníž. přenesená",J131,0) -> 0 | BI131: =IF(N131="nulová",J131,0) -> 0 | BJ131: 1 | BK131: =ROUND(I131*H131,2) -> 0 | BL131: 16 | BM131: 1427247879
C132: 7 | D132: K | E132: 723190251 | F132: Přípojky plynovodní ke strojům a zařízením z trubek vyvedení a upevnění plynovodních výpustek na potrubí DN 15 | G132: kus | H132: 3 | J132: =ROUND(I132*H132,2) -> 0 | K132: CS ÚRS 2023 01 | N132: základní | O132: 0.424 | P132: =O132*H132 -> 1.272 | Q132: 0.00013 | R132: =Q132*H132 -> 0.00039 | S132: 0 | T132: =S132*H132 -> 0 | AR132: 16 | AT132: K | AU132: 2 | AY132: ROZPOCET | BE132: =IF(N132="základní",J132,0) -> 0 | BF132: =IF(N132="snížená",J132,0) -> 0 | BG132: =IF(N132="zákl. přenesená",J132,0) -> 0 | BH132: =IF(N132="sníž. přenesená",J132,0) -> 0 | BI132: =IF(N132="nulová",J132,0) -> 0 | BJ132: 1 | BK132: =ROUND(I132*H132,2) -> 0 | BL132: 16 | BM132: 512477415
C133: 8 | D133: K | E133: 723190909 | F133: Opravy plynovodního potrubí neúřední zkouška těsnosti dosavadního potrubí | G133: kus | H133: 1 | J133: =ROUND(I133*H133,2) -> 0 | K133: CS ÚRS 2023 01 | N133: základní | O133: 0.482 | P133: =O133*H133 -> 0.482 | Q133: 0 | R133: =Q133*H133 -> 0 | S133: 0 | T133: =S133*H133 -> 0 | AR133: 16 | AT133: K | AU133: 2 | AY133: ROZPOCET | BE133: =IF(N133="základní",J133,0) -> 0 | BF133: =IF(N133="snížená",J133,0) -> 0 | BG133: =IF(N133="zákl. přenesená",J133,0) -> 0 | BH133: =IF(N133="sníž. přenesená",J133,0) -> 0 | BI133: =IF(N133="nulová",J133,0) -> 0 | BJ133: 1 | BK133: =ROUND(I133*H133,2) -> 0 | BL133: 16 | BM133: -1292425900
C134: 9 | D134: K | E134: 723231162 | F134: Armatury se dvěma závity kohouty kulové PN 42 do 185°C plnoprůtokové vnitřní závit těžká řada G 1/2" | G134: kus | H134: 2 | J134: =ROUND(I134*H134,2) -> 0 | K134: CS ÚRS 2023 01 | N134: základní | O134: 0.166 | P134: =O134*H134 -> 0.332 | Q134: 0.00024 | R134: =Q134*H134 -> 0.00048 | S134: 0 | T134: =S134*H134 -> 0 | AR134: 16 | AT134: K | AU134: 2 | AY134: ROZPOCET | BE134: =IF(N134="základní",J134,0) -> 0 | BF134: =IF(N134="snížená",J134,0) -> 0 | BG134: =IF(N134="zákl. přenesená",J134,0) -> 0 | BH134: =IF(N134="sníž. přenesená",J134,0) -> 0 | BI134: =IF(N134="nulová",J134,0) -> 0 | BJ134: 1 | BK134: =ROUND(I134*H134,2) -> 0 | BL134: 16 | BM134: 22439543
C135: 10 | D135: K | E135: 723231163 | F135: Armatury se dvěma závity kohouty kulové PN 42 do 185°C plnoprůtokové vnitřní závit těžká řada G 3/4" | G135: kus | H135: 1 | J135: =ROUND(I135*H135,2) -> 0 | K135: CS ÚRS 2023 01 | N135: základní | O135: 0.206 | P135: =O135*H135 -> 0.206 | Q135: 0.00038 | R135: =Q135*H135 -> 0.00038 | S135: 0 | T135: =S135*H135 -> 0 | AR135: 16 | AT135: K | AU135: 2 | AY135: ROZPOCET | BE135: =IF(N135="základní",J135,0) -> 0 | BF135: =IF(N135="snížená",J135,0) -> 0 | BG135: =IF(N135="zákl. přenesená",J135,0) -> 0 | BH135: =IF(N135="sníž. přenesená",J135,0) -> 0 | BI135: =IF(N135="nulová",J135,0) -> 0 | BJ135: 1 | BK135: =ROUND(I135*H135,2) -> 0 | BL135: 16 | BM135: 497712809
C136: 11 | D136: K | E136: 723231166 | F136: Armatury se dvěma závity kohouty kulové PN 42 do 185°C plnoprůtokové vnitřní závit těžká řada G 1 1/2" | G136: kus | H136: 1 | J136: =ROUND(I136*H136,2) -> 0 | K136: CS ÚRS 2023 01 | N136: základní | O136: 0.352 | P136: =O136*H136 -> 0.352 | Q136: 0.0013 | R136: =Q136*H136 -> 0.0013 | S136: 0 | T136: =S136*H136 -> 0 | AR136: 16 | AT136: K | AU136: 2 | AY136: ROZPOCET | BE136: =IF(N136="základní",J136,0) -> 0 | BF136: =IF(N136="snížená",J136,0) -> 0 | BG136: =IF(N136="zákl. přenesená",J136,0) -> 0 | BH136: =IF(N136="sníž. přenesená",J136,0) -> 0 | BI136: =IF(N136="nulová",J136,0) -> 0 | BJ136: 1 | BK136: =ROUND(I136*H136,2) -> 0 | BL136: 16 | BM136: -281748816
C137: 12 | D137: K | E137: 723900100 | F137: Napojení na stávající rozvod | G137: kus | H137: 1 | J137: =ROUND(I137*H137,2) -> 0 | N137: základní | O137: 0 | P137: =O137*H137 -> 0 | Q137: 0 | R137: =Q137*H137 -> 0 | S137: 0 | T137: =S137*H137 -> 0 | AR137: 16 | AT137: K | AU137: 2 | AY137: ROZPOCET | BE137: =IF(N137="základní",J137,0) -> 0 | BF137: =IF(N137="snížená",J137,0) -> 0 | BG137: =IF(N137="zákl. přenesená",J137,0) -> 0 | BH137: =IF(N137="sníž. přenesená",J137,0) -> 0 | BI137: =IF(N137="nulová",J137,0) -> 0 | BJ137: 1 | BK137: =ROUND(I137*H137,2) -> 0 | BL137: 16 | BM137: 663275960
C138: 13 | D138: K | E138: 723900200 | F138: Revize plynovodu | G138: kus | H138: 1 | J138: =ROUND(I138*H138,2) -> 0 | N138: základní | O138: 0 | P138: =O138*H138 -> 0 | Q138: 0 | R138: =Q138*H138 -> 0 | S138: 0 | T138: =S138*H138 -> 0 | AR138: 16 | AT138: K | AU138: 2 | AY138: ROZPOCET | BE138: =IF(N138="základní",J138,0) -> 0 | BF138: =IF(N138="snížená",J138,0) -> 0 | BG138: =IF(N138="zákl. přenesená",J138,0) -> 0 | BH138: =IF(N138="sníž. přenesená",J138,0) -> 0 | BI138: =IF(N138="nulová",J138,0) -> 0 | BJ138: 1 | BK138: =ROUND(I138*H138,2) -> 0 | BL138: 16 | BM138: -1179384779
C139: 14 | D139: K | E139: 998723101 | F139: Přesun hmot pro vnitřní plynovod stanovený z hmotnosti přesunovaného materiálu vodorovná dopravní vzdálenost do 50 m v objektech výšky do 6 m | G139: t | H139: 0.051 | J139: =ROUND(I139*H139,2) -> 0 | K139: CS ÚRS 2023 01 | N139: základní | O139: 1.333 | P139: =O139*H139 -> 0.067983 | Q139: 0 | R139: =Q139*H139 -> 0 | S139: 0 | T139: =S139*H139 -> 0 | AR139: 16 | AT139: K | AU139: 2 | AY139: ROZPOCET | BE139: =IF(N139="základní",J139,0) -> 0 | BF139: =IF(N139="snížená",J139,0) -> 0 | BG139: =IF(N139="zákl. přenesená",J139,0) -> 0 | BH139: =IF(N139="sníž. přenesená",J139,0) -> 0 | BI139: =IF(N139="nulová",J139,0) -> 0 | BJ139: 1 | BK139: =ROUND(I139*H139,2) -> 0 | BL139: 16 | BM139: 1671149676
C140: 15 | D140: K | E140: 998723181 | F140: Přesun hmot pro vnitřní plynovod stanovený z hmotnosti přesunovaného materiálu Příplatek k ceně za přesun prováděný bez použití mechanizace pro jakoukoliv výšku objektu | G140: t | H140: 0.051 | J140: =ROUND(I140*H140,2) -> 0 | K140: CS ÚRS 2023 01 | N140: základní | O140: 1.18 | P140: =O140*H140 -> 0.06018 | Q140: 0 | R140: =Q140*H140 -> 0 | S140: 0 | T140: =S140*H140 -> 0 | AR140: 16 | AT140: K | AU140: 2 | AY140: ROZPOCET | BE140: =IF(N140="základní",J140,0) -> 0 | BF140: =IF(N140="snížená",J140,0) -> 0 | BG140: =IF(N140="zákl. přenesená",J140,0) -> 0 | BH140: =IF(N140="sníž. přenesená",J140,0) -> 0 | BI140: =IF(N140="nulová",J140,0) -> 0 | BJ140: 1 | BK140: =ROUND(I140*H140,2) -> 0 | BL140: 16 | BM140: -107462252
D141: D | E141: 725 | F141: Zdravotechnika - zařizovací předměty | J141: =BK141 -> 0 | P141: =SUM(P142:P147) -> 5.526244 | R141: =SUM(R142:R147) -> 0.21332484 | T141: =SUM(T142:T147) -> 0 | AR141: 2 | AT141: D | AU141: 1 | AY141: ROZPOCET | BK141: =SUM(BK142:BK147) -> 0
C142: 16 | D142: K | E142: 725515246 | F142: Plynové ohřívače zásobníkové stacionární s přirozeným odtahem spalin do komína s intenzivním ohřevem vody objem nádrže/příkon 160 l/ 22 kW | G142: soubor | H142: 1 | J142: =ROUND(I142*H142,2) -> 0 | K142: CS ÚRS 2023 01 | N142: základní | O142: 3.5 | P142: =O142*H142 -> 3.5 | Q142: 0.1752 | R142: =Q142*H142 -> 0.1752 | S142: 0 | T142: =S142*H142 -> 0 | AR142: 16 | AT142: K | AU142: 2 | AY142: ROZPOCET | BE142: =IF(N142="základní",J142,0) -> 0 | BF142: =IF(N142="snížená",J142,0) -> 0 | BG142: =IF(N142="zákl. přenesená",J142,0) -> 0 | BH142: =IF(N142="sníž. přenesená",J142,0) -> 0 | BI142: =IF(N142="nulová",J142,0) -> 0 | BJ142: 1 | BK142: =ROUND(I142*H142,2) -> 0 | BL142: 16 | BM142: 651362386
C143: 17 | D143: K | E143: 731810312 | F143: Nucené odtahy spalin od kondenzačních kotlů soustředným potrubím vedeným vodorovně vnější stěnou, průměru 80/125 mm | G143: soubor | H143: 0.213 | J143: =ROUND(I143*H143,2) -> 0 | K143: CS ÚRS 2023 01 | N143: základní | O143: 0.821 | P143: =O143*H143 -> 0.174873 | Q143: 0.00068 | R143: =Q143*H143 -> 0.00014484 | S143: 0 | T143: =S143*H143 -> 0 | AR143: 16 | AT143: K | AU143: 2 | AY143: ROZPOCET | BE143: =IF(N143="základní",J143,0) -> 0 | BF143: =IF(N143="snížená",J143,0) -> 0 | BG143: =IF(N143="zákl. přenesená",J143,0) -> 0 | BH143: =IF(N143="sníž. přenesená",J143,0) -> 0 | BI143: =IF(N143="nulová",J143,0) -> 0 | BJ143: 1 | BK143: =ROUND(I143*H143,2) -> 0 | BL143: 16 | BM143: -282982634
C144: 18 | D144: K | E144: 725619101 | F144: Plynové sporáky a vařidlové desky bez regulátoru tlaku montáž sporáků na zemní plyn | G144: kus | H144: 1 | J144: =ROUND(I144*H144,2) -> 0 | K144: CS ÚRS 2023 01 | N144: základní | O144: 1.262 | P144: =O144*H144 -> 1.262 | Q144: 0.00198 | R144: =Q144*H144 -> 0.00198 | S144: 0 | T144: =S144*H144 -> 0 | AR144: 16 | AT144: K | AU144: 2 | AY144: ROZPOCET | BE144: =IF(N144="základní",J144,0) -> 0 | BF144: =IF(N144="snížená",J144,0) -> 0 | BG144: =IF(N144="zákl. přenesená",J144,0) -> 0 | BH144: =IF(N144="sníž. přenesená",J144,0) -> 0 | BI144: =IF(N144="nulová",J144,0) -> 0 | BJ144: 1 | BK144: =ROUND(I144*H144,2) -> 0 | BL144: 16 | BM144: 1217686612
C145: 19 | D145: M | E145: 54111971 | F145: sporák plynový dvouplotýnkový 16kW | G145: kus | H145: 1 | J145: =ROUND(I145*H145,2) -> 0 | K145: CS ÚRS 2023 01 | N145: základní | O145: 0 | P145: =O145*H145 -> 0 | Q145: 0.036 | R145: =Q145*H145 -> 0.036 | S145: 0 | T145: =S145*H145 -> 0 | AR145: 32 | AT145: M | AU145: 2 | AY145: ROZPOCET | BE145: =IF(N145="základní",J145,0) -> 0 | BF145: =IF(N145="snížená",J145,0) -> 0 | BG145: =IF(N145="zákl. přenesená",J145,0) -> 0 | BH145: =IF(N145="sníž. přenesená",J145,0) -> 0 | BI145: =IF(N145="nulová",J145,0) -> 0 | BJ145: 1 | BK145: =ROUND(I145*H145,2) -> 0 | BL145: 16 | BM145: 535629576
C146: 20 | D146: K | E146: 998725101 | F146: Přesun hmot pro zařizovací předměty stanovený z hmotnosti přesunovaného materiálu vodorovná dopravní vzdálenost do 50 m v objektech výšky do 6 m | G146: t | H146: 0.213 | J146: =ROUND(I146*H146,2) -> 0 | K146: CS ÚRS 2023 01 | N146: základní | O146: 1.517 | P146: =O146*H146 -> 0.323121 | Q146: 0 | R146: =Q146*H146 -> 0 | S146: 0 | T146: =S146*H146 -> 0 | AR146: 16 | AT146: K | AU146: 2 | AY146: ROZPOCET | BE146: =IF(N146="základní",J146,0) -> 0 | BF146: =IF(N146="snížená",J146,0) -> 0 | BG146: =IF(N146="zákl. přenesená",J146,0) -> 0 | BH146: =IF(N146="sníž. přenesená",J146,0) -> 0 | BI146: =IF(N146="nulová",J146,0) -> 0 | BJ146: 1 | BK146: =ROUND(I146*H146,2) -> 0 | BL146: 16 | BM146: 64228446
C147: 21 | D147: K | E147: 998725181 | F147: Přesun hmot pro zařizovací předměty stanovený z hmotnosti přesunovaného materiálu Příplatek k cenám za přesun prováděný bez použití mechanizace pro jakoukoliv výšku objektu | G147: t | H147: 0.213 | J147: =ROUND(I147*H147,2) -> 0 | K147: CS ÚRS 2023 01 | N147: základní | O147: 1.25 | P147: =O147*H147 -> 0.26625 | Q147: 0 | R147: =Q147*H147 -> 0 | S147: 0 | T147: =S147*H147 -> 0 | AR147: 16 | AT147: K | AU147: 2 | AY147: ROZPOCET | BE147: =IF(N147="základní",J147,0) -> 0 | BF147: =IF(N147="snížená",J147,0) -> 0 | BG147: =IF(N147="zákl. přenesená",J147,0) -> 0 | BH147: =IF(N147="sníž. přenesená",J147,0) -> 0 | BI147: =IF(N147="nulová",J147,0) -> 0 | BJ147: 1 | BK147: =ROUND(I147*H147,2) -> 0 | BL147: 16 | BM147: -1538192588

Sheet 05 - Kanalizace, zařizova...
L2: >> skryté sloupce << | AT2: {6165c517-c37f-4db3-a3e9-3a1cfa05f30b}
AT3: 2
D4: KRYCÍ LIST SOUPISU PRACÍ | M4: v --- níže se nacházejí doplnkové a pomocné údaje k sestavám --- v | AT4: False
D6: Stavba:
E7: ='Rekapitulace stavby'!K6 -> Stavební úpravy - školní jídelna Želetava
D8: Objekt:
E9: 05 - Kanalizace, zařizovací předměty
D11: KSO:
D12: Místo: | F12: Želetava | J12: ='Rekapitulace stavby'!AN8 -> 11. 5. 2023
D14: Zadavatel:
E15: městys Želetava
D17: Zhotovitel: | J17: ='Rekapitulace stavby'!AN13
E18: ='Rekapitulace stavby'!E14 | J18: ='Rekapitulace stavby'!AN14
D20: Projektant:
E21: TeS, spol. s r.o., David Myška
D23: Zpracovatel:
E24: Martin Lang
D26: Poznámka:
D30: Cena bez DPH | J30: =ROUND(J121, 0) -> 0
F32: Základ daně | J32: Výše daně
D33: DPH | E33: základní | F33: =ROUND((SUM(BE121:BE163)), 0) -> 0 | J33: =ROUND(((SUM(BE121:BE163))*I33), 0) -> 0
E34: snížená | F34: =ROUND((SUM(BF121:BF163)), 0) -> 0 | J34: =ROUND(((SUM(BF121:BF163))*I34), 0) -> 0
E35: zákl. přenesená | F35: =ROUND((SUM(BG121:BG163)), 0) -> 0 | J35: =0 -> 0
E36: sníž. přenesená | F36: =ROUND((SUM(BH121:BH163)), 0) -> 0 | J36: =0 -> 0
E37: nulová | F37: =ROUND((SUM(BI121:BI163)), 0) -> 0 | J37: =0 -> 0
D39: Cena s DPH | G39: v | H39: CZK | J39: =SUM(J30:J37) -> 0
D50: Projektant | G50: Zpracovatel
D61: Datum a podpis: | F61: Razítko | G61: Datum a podpis: | J61: Razítko
D65: Objednavatel | G65: Zhotovitel
D76: Datum a podpis: | F76: Razítko | G76: Datum a podpis: | J76: Razítko
C82: REKAPITULACE ČLENĚNÍ SOUPISU PRACÍ
C84: Stavba:
E85: =E7 -> Stavební úpravy - školní jídelna Želetava
C86: Objekt:
E87: =E9 -> 05 - Kanalizace, zařizovací předměty
C89: Místo: | F89: =F12 -> Želetava | J89: =IF(J12="","",J12) -> 11. 5. 2023
C91: Zadavatel: | F91: =E15 -> městys Želetava | J91: =E21 -> TeS, spol. s r.o., David Myška
C92: Zhotovitel: | F92: =IF(E18="","",E18) | J92: =E24 -> Martin Lang
C94: Kód dílu - Popis | J94: Cena celkem [CZK]
C96: Náklady ze soupisu prací | J96: =J121 -> 0 | AU96: -1
D97: HSV - Práce a dodávky HSV | J97: =J122 -> 0
D98: 9 - Ostatní konstrukce a práce, bourání | J98: =J123 -> 0
D99: PSV - Práce a dodávky PSV | J99: =J125 -> 0
D100: 721 - Zdravotechnika - vnitřní kanalizace | J100: =J126 -> 0
D101: 725 - Zdravotechnika - zařizovací předměty | J101: =J148 -> 0
C108: SOUPIS PRACÍ
C110: Stavba:
E111: =E7 -> Stavební úpravy - školní jídelna Želetava
C112: Objekt:
E113: =E9 -> 05 - Kanalizace, zařizovací předměty
C115: Místo: | F115: =F12 -> Želetava | J115: =IF(J12="","",J12) -> 11. 5. 2023
C117: Zadavatel: | F117: =E15 -> městys Želetava | J117: =E21 -> TeS, spol. s r.o., David Myška
C118: Zhotovitel: | F118: =IF(E18="","",E18) | J118: =E24 -> Martin Lang
C120: PČ | D120: Typ | E120: Kód | F120: Popis | G120: MJ | H120: Množství | J120: Cena celkem [CZK] | K120: Cenová soustava | N120: DPH | O120: J. Nh [h] | P120: Nh celkem [h] | Q120: J. hmotnost [t] | R120: Hmotnost celkem [t] | S120: J. suť [t] | T120: Suť Celkem [t]
C121: Náklady soupisu celkem | J121: =BK121 -> 0 | P121: =P122+P125 -> 114.41395 | R121: =R122+R125 -> 0.855855 | T121: =T122+T125 -> 0 | AT121: D | AU121: -1 | BK121: =BK122+BK125 -> 0
D122: D | E122: HSV | F122: Práce a dodávky HSV | J122: =BK122 -> 0 | P122: =P123 -> 0 | R122: =R123 -> 0 | T122: =T123 -> 0 | AR122: 1 | AT122: D | AU122: 0 | AY122: ROZPOCET | BK122: =BK123 -> 0
D123: D | E123: 9 | F123: Ostatní konstrukce a práce, bourání | J123: =BK123 -> 0 | P123: =P124 -> 0 | R123: =R124 -> 0 | T123: =T124 -> 0 | AR123: 1 | AT123: D | AU123: 1 | AY123: ROZPOCET | BK123: =BK124 -> 0
C124: 1 | D124: K | E124: 900100900 | F124: Stavební přípomoce pro vnitřní kanalizaci včt.zemních pro ležatou kanalizaci | G124: kus | H124: 1 | J124: =ROUND(I124*H124,2) -> 0 | N124: základní | O124: 0 | P124: =O124*H124 -> 0 | Q124: 0 | R124: =Q124*H124 -> 0 | S124: 0 | T124: =S124*H124 -> 0 | AR124: 4 | AT124: K | AU124: 2 | AY124: ROZPOCET | BE124: =IF(N124="základní",J124,0) -> 0 | BF124: =IF(N124="snížená",J124,0) -> 0 | BG124: =IF(N124="zákl. přenesená",J124,0) -> 0 | BH124: =IF(N124="sníž. přenesená",J124,0) -> 0 | BI124: =IF(N124="nulová",J124,0) -> 0 | BJ124: 1 | BK124: =ROUND(I124*H124,2) -> 0 | BL124: 4 | BM124: -1821919158
D125: D | E125: PSV | F125: Práce a dodávky PSV | J125: =BK125 -> 0 | P125: =P126+P148 -> 114.41395 | R125: =R126+R148 -> 0.855855 | T125: =T126+T148 -> 0 | AR125: 2 | AT125: D | AU125: 0 | AY125: ROZPOCET | BK125: =BK126+BK148 -> 0
D126: D | E126: 721 | F126: Zdravotechnika - vnitřní kanalizace | J126: =BK126 -> 0 | P126: =SUM(P127:P147) -> 96.22534 | R126: =SUM(R127:R147) -> 0.613425 | T126: =SUM(T127:T147) -> 0 | AR126: 2 | AT126: D | AU126: 1 | AY126: ROZPOCET | BK126: =SUM(BK127:BK147) -> 0
C127: 2 | D127: K | E127: 721173401 | F127: Potrubí z trub PVC SN4 svodné (ležaté) DN 110 | G127: m | H127: 56.5 | J127: =ROUND(I127*H127,2) -> 0 | K127: CS ÚRS 2023 01 | N127: základní | O127: 0.363 | P127: =O127*H127 -> 20.5095 | Q127: 0.00142 | R127: =Q127*H127 -> 0.08023 | S127: 0 | T127: =S127*H127 -> 0 | AR127: 16 | AT127: K | AU127: 2 | AY127: ROZPOCET | BE127: =IF(N127="základní",J127,0) -> 0 | BF127: =IF(N127="snížená",J127,0) -> 0 | BG127: =IF(N127="zákl. přenesená",J127,0) -> 0 | BH127: =IF(N127="sníž. přenesená",J127,0) -> 0 | BI127: =IF(N127="nulová",J127,0) -> 0 | BJ127: 1 | BK127: =ROUND(I127*H127,2) -> 0 | BL127: 16 | BM127: -1440816277
C128: 3 | D128: K | E128: 721173402 | F128: Potrubí z trub PVC SN4 svodné (ležaté) DN 125 | G128: m | H128: 44.5 | J128: =ROUND(I128*H128,2) -> 0 | K128: CS ÚRS 2023 01 | N128: základní | O128: 0.383 | P128: =O128*H128 -> 17.0435 | Q128: 0.00744 | R128: =Q128*H128 -> 0.33108 | S128: 0 | T128: =S128*H128 -> 0 | AR128: 16 | AT128: K | AU128: 2 | AY128: ROZPOCET | BE128: =IF(N128="základní",J128,0) -> 0 | BF128: =IF(N128="snížená",J128,0) -> 0 | BG128: =IF(N128="zákl. přenesená",J128,0) -> 0 | BH128: =IF(N128="sníž. přenesená",J128,0) -> 0 | BI128: =IF(N128="nulová",J128,0) -> 0 | BJ128: 1 | BK128: =ROUND(I128*H128,2) -> 0 | BL128: 16 | BM128: 1920506469
C129: 4 | D129: K | E129: 721173403 | F129: Potrubí z trub PVC SN4 svodné (ležaté) DN 160 | G129: m | H129: 11 | J129: =ROUND(I129*H129,2) -> 0 | K129: CS ÚRS 2023 01 | N129: základní | O129: 0.404 | P129: =O129*H129 -> 4.444 | Q129: 0.01232 | R129: =Q129*H129 -> 0.13552 | S129: 0 | T129: =S129*H129 -> 0 | AR129: 16 | AT129: K | AU129: 2 | AY129: ROZPOCET | BE129: =IF(N129="základní",J129,0) -> 0 | BF129: =IF(N129="snížená",J129,0) -> 0 | BG129: =IF(N129="zákl. přenesená",J129,0) -> 0 | BH129: =IF(N129="sníž. přenesená",J129,0) -> 0 | BI129: =IF(N129="nulová",J129,0) -> 0 | BJ129: 1 | BK129: =ROUND(I129*H129,2) -> 0 | BL129: 16 | BM129: 1519640783
C130: 5 | D130: K | E130: 721174025 | F130: Potrubí z trub polypropylenových odpadní (svislé) DN 110 | G130: m | H130: 12 | J130: =ROUND(I130*H130,2) -> 0 | K130: CS ÚRS 2023 01 | N130: základní | O130: 0.827 | P130: =O130*H130 -> 9.924 | Q130: 0.00201 | R130: =Q130*H130 -> 0.02412 | S130: 0 | T130: =S130*H130 -> 0 | AR130: 16 | AT130: K | AU130: 2 | AY130: ROZPOCET | BE130: =IF(N130="základní",J130,0) -> 0 | BF130: =IF(N130="snížená",J130,0) -> 0 | BG130: =IF(N130="zákl. přenesená",J130,0) -> 0 | BH130: =IF(N130="sníž. přenesená",J130,0) -> 0 | BI130: =IF(N130="nulová",J130,0) -> 0 | BJ130: 1 | BK130: =ROUND(I130*H130,2) -> 0 | BL130: 16 | BM130: -1277145994
C131: 6 | D131: K | E131: 721174042 | F131: Potrubí z trub polypropylenových připojovací DN 40 | G131: m | H131: 8.5 | J131: =ROUND(I131*H131,2) -> 0 | K131: CS ÚRS 2023 01 | N131: základní | O131: 0.659 | P131: =O131*H131 -> 5.6015 | Q131: 0.00041 | R131: =Q131*H131 -> 0.003485 | S131: 0 | T131: =S131*H131 -> 0 | AR131: 16 | AT131: K | AU131: 2 | AY131: ROZPOCET | BE131: =IF(N131="základní",J131,0) -> 0 | BF131: =IF(N131="snížená",J131,0) -> 0 | BG131: =IF(N131="zákl. přenesená",J131,0) -> 0 | BH131: =IF(N131="sníž. přenesená",J131,0) -> 0 | BI131: =IF(N131="nulová",J131,0) -> 0 | BJ131: 1 | BK131: =ROUND(I131*H131,2) -> 0 | BL131: 16 | BM131: -479946099
C132: 7 | D132: K | E132: 721174043 | F132: Potrubí z trub polypropylenových připojovací DN 50 | G132: m | H132: 18 | J132: =ROUND(I132*H132,2) -> 0 | K132: CS ÚRS 2023 01 | N132: základní | O132: 0.728 | P132: =O132*H132 -> 13.104 | Q132: 0.00048 | R132: =Q132*H132 -> 0.00864 | S132: 0 | T132: =S132*H132 -> 0 | AR132: 16 | AT132: K | AU132: 2 | AY132: ROZPOCET | BE132: =IF(N132="základní",J132,0) -> 0 | BF132: =IF(N132="snížená",J132,0) -> 0 | BG132: =IF(N132="zákl. přenesená",J132,0) -> 0 | BH132: =IF(N132="sníž. přenesená",J132,0) -> 0 | BI132: =IF(N132="nulová",J132,0) -> 0 | BJ132: 1 | BK132: =ROUND(I132*H132,2) -> 0 | BL132: 16 | BM132: -659684260
C133: 8 | D133: K | E133: 721174045 | F133: Potrubí z trub polypropylenových připojovací DN 110 | G133: m | H133: 7 | J133: =ROUND(I133*H133,2) -> 0 | K133: CS ÚRS 2023 01 | N133: základní | O133: 0.832 | P133: =O133*H133 -> 5.824 | Q133: 0.00224 | R133: =Q133*H133 -> 0.01568 | S133: 0 | T133: =S133*H133 -> 0 | AR133: 16 | AT133: K | AU133: 2 | AY133: ROZPOCET | BE133: =IF(N133="základní",J133,0) -> 0 | BF133: =IF(N133="snížená",J133,0) -> 0 | BG133: =IF(N133="zákl. přenesená",J133,0) -> 0 | BH133: =IF(N133="sníž. přenesená",J133,0) -> 0 | BI133: =IF(N133="nulová",J133,0) -> 0 | BJ133: 1 | BK133: =ROUND(I133*H133,2) -> 0 | BL133: 16 | BM133: 1432407912
C134: 9 | D134: K | E134: 721194104 | F134: Vyměření přípojek na potrubí vyvedení a upevnění odpadních výpustek DN 40 | G134: kus | H134: 7 | J134: =ROUND(I134*H134,2) -> 0 | K134: CS ÚRS 2023 01 | N134: základní | O134: 0.157 | P134: =O134*H134 -> 1.099 | Q134: 0 | R134: =Q134*H134 -> 0 | S134: 0 | T134: =S134*H134 -> 0 | AR134: 16 | AT134: K | AU134: 2 | AY134: ROZPOCET | BE134: =IF(N134="základní",J134,0) -> 0 | BF134: =IF(N134="snížená",J134,0) -> 0 | BG134: =IF(N134="zákl. přenesená",J134,0) -> 0 | BH134: =IF(N134="sníž. přenesená",J134,0) -> 0 | BI134: =IF(N134="nulová",J134,0) -> 0 | BJ134: 1 | BK134: =ROUND(I134*H134,2) -> 0 | BL134: 16 | BM134: 593182891
C135: 10 | D135: K | E135: 721194105 | F135: Vyměření přípojek na potrubí vyvedení a upevnění odpadních výpustek DN 50 | G135: kus | H135: 14 | J135: =ROUND(I135*H135,2) -> 0 | K135: CS ÚRS 2023 01 | N135: základní | O135: 0.174 | P135: =O135*H135 -> 2.436 | Q135: 0 | R135: =Q135*H135 -> 0 | S135: 0 | T135: =S135*H135 -> 0 | AR135: 16 | AT135: K | AU135: 2 | AY135: ROZPOCET | BE135: =IF(N135="základní",J135,0) -> 0 | BF135: =IF(N135="snížená",J135,0) -> 0 | BG135: =IF(N135="zákl. přenesená",J135,0) -> 0 | BH135: =IF(N135="sníž. přenesená",J135,0) -> 0 | BI135: =IF(N135="nulová",J135,0) -> 0 | BJ135: 1 | BK135: =ROUND(I135*H135,2) -> 0 | BL135: 16 | BM135: 1649303834
C136: 11 | D136: K | E136: 721194109 | F136: Vyměření přípojek na potrubí vyvedení a upevnění odpadních výpustek DN 110 | G136: kus | H136: 5 | J136: =ROUND(I136*H136,2) -> 0 | K136: CS ÚRS 2023 01 | N136: základní | O136: 0.259 | P136: =O136*H136 -> 1.295 | Q136: 0 | R136: =Q136*H136 -> 0 | S136: 0 | T136: =S136*H136 -> 0 | AR136: 16 | AT136: K | AU136: 2 | AY136: ROZPOCET | BE136: =IF(N136="základní",J136,0) -> 0 | BF136: =IF(N136="snížená",J136,0) -> 0 | BG136: =IF(N136="zákl. přenesená",J136,0) -> 0 | BH136: =IF(N136="sníž. přenesená",J136,0) -> 0 | BI136: =IF(N136="nulová",J136,0) -> 0 | BJ136: 1 | BK136: =ROUND(I136*H136,2) -> 0 | BL136: 16 | BM136: 181982107
C137: 12 | D137: K | E137: 721211422 | F137: Vpusť podlahová s vodorovným odtokem DN 50/75/110 mřížka nerez 138x138 | G137: kus | H137: 5 | J137: =ROUND(I137*H137,2) -> 0 | K137: CS ÚRS 2023 01 | N137: základní | O137: 0.465 | P137: =O137*H137 -> 2.325 | Q137: 0.00148 | R137: =Q137*H137 -> 0.0074 | S137: 0 | T137: =S137*H137 -> 0 | AR137: 16 | AT137: K | AU137: 2 | AY137: ROZPOCET | BE137: =IF(N137="základní",J137,0) -> 0 | BF137: =IF(N137="snížená",J137,0) -> 0 | BG137: =IF(N137="zákl. přenesená",J137,0) -> 0 | BH137: =IF(N137="sníž. přenesená",J137,0) -> 0 | BI137: =IF(N137="nulová",J137,0) -> 0 | BJ137: 1 | BK137: =ROUND(I137*H137,2) -> 0 | BL137: 16 | BM137: 1862739075
C138: 13 | D138: K | E138: 721211900 | F138: Nerzová podlahová vpusť 800x450mm | G138: kus | H138: 1 | J138: =ROUND(I138*H138,2) -> 0 | N138: základní | O138: 0 | P138: =O138*H138 -> 0 | Q138: 0 | R138: =Q138*H138 -> 0 | S138: 0 | T138: =S138*H138 -> 0 | AR138: 16 | AT138: K | AU138: 2 | AY138: ROZPOCET | BE138: =IF(N138="základní",J138,0) -> 0 | BF138: =IF(N138="snížená",J138,0) -> 0 | BG138: =IF(N138="zákl. přenesená",J138,0) -> 0 | BH138: =IF(N138="sníž. přenesená",J138,0) -> 0 | BI138: =IF(N138="nulová",J138,0) -> 0 | BJ138: 1 | BK138: =ROUND(I138*H138,2) -> 0 | BL138: 16 | BM138: -918665736
C139: 14 | D139: K | E139: 721212125 | F139: Odtokové sprchové žlaby se zápachovou uzávěrkou a krycím roštem délky 900 mm | G139: kus | H139: 1 | J139: =ROUND(I139*H139,2) -> 0 | K139: CS ÚRS 2023 01 | N139: základní | O139: 2.54 | P139: =O139*H139 -> 2.54 | Q139: 0.00595 | R139: =Q139*H139 -> 0.00595 | S139: 0 | T139: =S139*H139 -> 0 | AR139: 16 | AT139: K | AU139: 2 | AY139: ROZPOCET | BE139: =IF(N139="základní",J139,0) -> 0 | BF139: =IF(N139="snížená",J139,0) -> 0 | BG139: =IF(N139="zákl. přenesená",J139,0) -> 0 | BH139: =IF(N139="sníž. přenesená",J139,0) -> 0 | BI139: =IF(N139="nulová",J139,0) -> 0 | BJ139: 1 | BK139: =ROUND(I139*H139,2) -> 0 | BL139: 16 | BM139: 2085066331
C140: 15 | D140: K | E140: 721229111 | F140: Zápachové uzávěrky montáž zápachových uzávěrek ostatních typů do DN 50 | G140: kus | H140: 2 | J140: =ROUND(I140*H140,2) -> 0 | K140: CS ÚRS 2023 01 | N140: základní | O140: 0.113 | P140: =O140*H140 -> 0.226 | Q140: 6e-05 | R140: =Q140*H140 -> 0.00012 | S140: 0 | T140: =S140*H140 -> 0 | AR140: 16 | AT140: K | AU140: 2 | AY140: ROZPOCET | BE140: =IF(N140="základní",J140,0) -> 0 | BF140: =IF(N140="snížená",J140,0) -> 0 | BG140: =IF(N140="zákl. přenesená",J140,0) -> 0 | BH140: =IF(N140="sníž. přenesená",J140,0) -> 0 | BI140: =IF(N140="nulová",J140,0) -> 0 | BJ140: 1 | BK140: =ROUND(I140*H140,2) -> 0 | BL140: 16 | BM140: 1019260070
C141: 16 | D141: M | E141: HLE.HL136N | F141: Vodní ZU pro odvod kondenzátu DN40 s připojením DN32 popř. d 12-18 mm, s přídavnou mechanickou uzávěrkou a čistící vložkou, s otáčivým ramenem odtoku | G141: kus | H141: 2 | J141: =ROUND(I141*H141,2) -> 0 | N141: základní | O141: 0 | P141: =O141*H141 -> 0 | Q141: 0.00023 | R141: =Q141*H141 -> 0.00046 | S141: 0 | T141: =S141*H141 -> 0 | AR141: 32 | AT141: M | AU141: 2 | AY141: ROZPOCET | BE141: =IF(N141="základní",J141,0) -> 0 | BF141: =IF(N141="snížená",J141,0) -> 0 | BG141: =IF(N141="zákl. přenesená",J141,0) -> 0 | BH141: =IF(N141="sníž. přenesená",J141,0) -> 0 | BI141: =IF(N141="nulová",J141,0) -> 0 | BJ141: 1 | BK141: =ROUND(I141*H141,2) -> 0 | BL141: 16 | BM141: 823566726
C142: 17 | D142: K | E142: 721273152 | F142: Ventilační hlavice z polypropylenu (PP) DN 75 | G142: kus | H142: 1 | J142: =ROUND(I142*H142,2) -> 0 | K142: CS ÚRS 2023 01 | N142: základní | O142: 0.176 | P142: =O142*H142 -> 0.176 | Q142: 0.00016 | R142: =Q142*H142 -> 0.00016 | S142: 0 | T142: =S142*H142 -> 0 | AR142: 16 | AT142: K | AU142: 2 | AY142: ROZPOCET | BE142: =IF(N142="základní",J142,0) -> 0 | BF142: =IF(N142="snížená",J142,0) -> 0 | BG142: =IF(N142="zákl. přenesená",J142,0) -> 0 | BH142: =IF(N142="sníž. přenesená",J142,0) -> 0 | BI142: =IF(N142="nulová",J142,0) -> 0 | BJ142: 1 | BK142: =ROUND(I142*H142,2) -> 0 | BL142: 16 | BM142: 396126192
C143: 18 | D143: K | E143: 721273153 | F143: Ventilační hlavice z polypropylenu (PP) DN 110 | G143: kus | H143: 2 | J143: =ROUND(I143*H143,2) -> 0 | K143: CS ÚRS 2023 01 | N143: základní | O143: 0.177 | P143: =O143*H143 -> 0.354 | Q143: 0.00029 | R143: =Q143*H143 -> 0.00058 | S143: 0 | T143: =S143*H143 -> 0 | AR143: 16 | AT143: K | AU143: 2 | AY143: ROZPOCET | BE143: =IF(N143="základní",J143,0) -> 0 | BF143: =IF(N143="snížená",J143,0) -> 0 | BG143: =IF(N143="zákl. přenesená",J143,0) -> 0 | BH143: =IF(N143="sníž. přenesená",J143,0) -> 0 | BI143: =IF(N143="nulová",J143,0) -> 0 | BJ143: 1 | BK143: =ROUND(I143*H143,2) -> 0 | BL143: 16 | BM143: -2022288322
C144: 19 | D144: K | E144: 721290111 | F144: Zkouška těsnosti kanalizace v objektech vodou do DN 125 | G144: m | H144: 146.5 | J144: =ROUND(I144*H144,2) -> 0 | K144: CS ÚRS 2023 01 | N144: základní | O144: 0.048 | P144: =O144*H144 -> 7.032 | Q144: 0 | R144: =Q144*H144 -> 0 | S144: 0 | T144: =S144*H144 -> 0 | AR144: 16 | AT144: K | AU144: 2 | AY144: ROZPOCET | BE144: =IF(N144="základní",J144,0) -> 0 | BF144: =IF(N144="snížená",J144,0) -> 0 | BG144: =IF(N144="zákl. přenesená",J144,0) -> 0 | BH144: =IF(N144="sníž. přenesená",J144,0) -> 0 | BI144: =IF(N144="nulová",J144,0) -> 0 | BJ144: 1 | BK144: =ROUND(I144*H144,2) -> 0 | BL144: 16 | BM144: -205483605
C145: 20 | D145: K | E145: 721290112 | F145: Zkouška těsnosti kanalizace v objektech vodou DN 150 nebo DN 200 | G145: m | H145: 11 | J145: =ROUND(I145*H145,2) -> 0 | K145: CS ÚRS 2023 01 | N145: základní | O145: 0.059 | P145: =O145*H145 -> 0.649 | Q145: 0 | R145: =Q145*H145 -> 0 | S145: 0 | T145: =S145*H145 -> 0 | AR145: 16 | AT145: K | AU145: 2 | AY145: ROZPOCET | BE145: =IF(N145="základní",J145,0) -> 0 | BF145: =IF(N145="snížená",J145,0) -> 0 | BG145: =IF(N145="zákl. přenesená",J145,0) -> 0 | BH145: =IF(N145="sníž. přenesená",J145,0) -> 0 | BI145: =IF(N145="nulová",J145,0) -> 0 | BJ145: 1 | BK145: =ROUND(I145*H145,2) -> 0 | BL145: 16 | BM145: 251144882
C146: 21 | D146: K | E146: 998721101 | F146: Přesun hmot pro vnitřní kanalizace stanovený z hmotnosti přesunovaného materiálu vodorovná dopravní vzdálenost do 50 m v objektech výšky do 6 m | G146: t | H146: 0.613 | J146: =ROUND(I146*H146,2) -> 0 | K146: CS ÚRS 2023 01 | N146: základní | O146: 1.47 | P146: =O146*H146 -> 0.90111 | Q146: 0 | R146: =Q146*H146 -> 0 | S146: 0 | T146: =S146*H146 -> 0 | AR146: 16 | AT146: K | AU146: 2 | AY146: ROZPOCET | BE146: =IF(N146="základní",J146,0) -> 0 | BF146: =IF(N146="snížená",J146,0) -> 0 | BG146: =IF(N146="zákl. přenesená",J146,0) -> 0 | BH146: =IF(N146="sníž. přenesená",J146,0) -> 0 | BI146: =IF(N146="nulová",J146,0) -> 0 | BJ146: 1 | BK146: =ROUND(I146*H146,2) -> 0 | BL146: 16 | BM146: -1730172578
C147: 22 | D147: K | E147: 998721181 | F147: Přesun hmot pro vnitřní kanalizace stanovený z hmotnosti přesunovaného materiálu Příplatek k ceně za přesun prováděný bez použití mechanizace pro jakoukoliv výšku objektu | G147: t | H147: 0.613 | J147: =ROUND(I147*H147,2) -> 0 | K147: CS ÚRS 2023 01 | N147: základní | O147: 1.21 | P147: =O147*H147 -> 0.74173 | Q147: 0 | R147: =Q147*H147 -> 0 | S147: 0 | T147: =S147*H147 -> 0 | AR147: 16 | AT147: K | AU147: 2 | AY147: ROZPOCET | BE147: =IF(N147="základní",J147,0) -> 0 | BF147: =IF(N147="snížená",J147,0) -> 0 | BG147: =IF(N147="zákl. přenesená",J147,0) -> 0 | BH147: =IF(N147="sníž. přenesená",J147,0) -> 0 | BI147: =IF(N147="nulová",J147,0) -> 0 | BJ147: 1 | BK147: =ROUND(I147*H147,2) -> 0 | BL147: 16 | BM147: 1238708279
D148: D | E148: 725 | F148: Zdravotechnika - zařizovací předměty | J148: =BK148 -> 0 | P148: =SUM(P149:P163) -> 18.188614 | R148: =SUM(R149:R163) -> 0.24243 | T148: =SUM(T149:T163) -> 0 | AR148: 2 | AT148: D | AU148: 1 | AY148: ROZPOCET | BK148: =SUM(BK149:BK163) -> 0
C149: 23 | D149: K | E149: 725112171 | F149: Zařízení záchodů kombi klozety s hlubokým splachováním odpad vodorovný | G149: soubor | H149: 4 | J149: =ROUND(I149*H149,2) -> 0 | K149: CS ÚRS 2023 01 | N149: základní | O149: 1.4 | P149: =O149*H149 -> 5.6 | Q149: 0.02894 | R149: =Q149*H149 -> 0.11576 | S149: 0 | T149: =S149*H149 -> 0 | AR149: 16 | AT149: K | AU149: 2 | AY149: ROZPOCET | BE149: =IF(N149="základní",J149,0) -> 0 | BF149: =IF(N149="snížená",J149,0) -> 0 | BG149: =IF(N149="zákl. přenesená",J149,0) -> 0 | BH149: =IF(N149="sníž. přenesená",J149,0) -> 0 | BI149: =IF(N149="nulová",J149,0) -> 0 | BJ149: 1 | BK149: =ROUND(I149*H149,2) -> 0 | BL149: 16 | BM149: 1500503772
C150: 24 | D150: M | E150: 55167381 | F150: sedátko klozetové duroplastové bílé s poklopem | G150: kus | H150: 4 | J150: =ROUND(I150*H150,2) -> 0 | K150: CS ÚRS 2023 01 | N150: základní | O150: 0 | P150: =O150*H150 -> 0 | Q150: 0.0022 | R150: =Q150*H150 -> 0.0088 | S150: 0 | T150: =S150*H150 -> 0 | AR150: 32 | AT150: M | AU150: 2 | AY150: ROZPOCET | BE150: =IF(N150="základní",J150,0) -> 0 | BF150: =IF(N150="snížená",J150,0) -> 0 | BG150: =IF(N150="zákl. přenesená",J150,0) -> 0 | BH150: =IF(N150="sníž. přenesená",J150,0) -> 0 | BI150: =IF(N150="nulová",J150,0) -> 0 | BJ150: 1 | BK150: =ROUND(I150*H150,2) -> 0 | BL150: 16 | BM150: 1555352831
C151: 25 | D151: K | E151: 725121527 | F151: Pisoárové záchodky keramické automatické s integrovaným napájecím zdrojem | G151: soubor | H151: 1 | J151: =ROUND(I151*H151,2) -> 0 | K151: CS ÚRS 2023 01 | N151: základní | O151: 1.5 | P151: =O151*H151 -> 1.5 | Q151: 0.01908 | R151: =Q151*H151 -> 0.01908 | S151: 0 | T151: =S151*H151 -> 0 | AR151: 16 | AT151: K | AU151: 2 | AY151: ROZPOCET | BE151: =IF(N151="základní",J151,0) -> 0 | BF151: =IF(N151="snížená",J151,0) -> 0 | BG151: =IF(N151="zákl. přenesená",J151,0) -> 0 | BH151: =IF(N151="sníž. přenesená",J151,0) -> 0 | BI151: =IF(N151="nulová",J151,0) -> 0 | BJ151: 1 | BK151: =ROUND(I151*H151,2) -> 0 | BL151: 16 | BM151: -79389934
C152: 26 | D152: K | E152: 725211602 | F152: Umyvadla keramická bílá bez výtokových armatur připevněná na stěnu šrouby bez sloupu nebo krytu na sifon, šířka umyvadla 550 mm | G152: soubor | H152: 2 | J152: =ROUND(I152*H152,2) -> 0 | K152: CS ÚRS 2023 01 | N152: základní | O152: 1.1 | P152: =O152*H152 -> 2.2 | Q152: 0.01497 | R152: =Q152*H152 -> 0.02994 | S152: 0 | T152: =S152*H152 -> 0 | AR152: 16 | AT152: K | AU152: 2 | AY152: ROZPOCET | BE152: =IF(N152="základní",J152,0) -> 0 | BF152: =IF(N152="snížená",J152,0) -> 0 | BG152: =IF(N152="zákl. přenesená",J152,0) -> 0 | BH152: =IF(N152="sníž. přenesená",J152,0) -> 0 | BI152: =IF(N152="nulová",J152,0) -> 0 | BJ152: 1 | BK152: =ROUND(I152*H152,2) -> 0 | BL152: 16 | BM152: -1777304136
C153: 27 | D153: K | E153: 725211703 | F153: Umyvadla keramická bílá bez výtokových armatur připevněná na stěnu šrouby malá (umývátka) stěnová 450 mm | G153: soubor | H153: 1 | J153: =ROUND(I153*H153,2) -> 0 | K153: CS ÚRS 2023 01 | N153: základní | O153: 1.1 | P153: =O153*H153 -> 1.1 | Q153: 0.01047 | R153: =Q153*H153 -> 0.01047 | S153: 0 | T153: =S153*H153 -> 0 | AR153: 16 | AT153: K | AU153: 2 | AY153: ROZPOCET | BE153: =IF(N153="základní",J153,0) -> 0 | BF153: =IF(N153="snížená",J153,0) -> 0 | BG153: =IF(N153="zákl. přenesená",J153,0) -> 0 | BH153: =IF(N153="sníž. přenesená",J153,0) -> 0 | BI153: =IF(N153="nulová",J153,0) -> 0 | BJ153: 1 | BK153: =ROUND(I153*H153,2) -> 0 | BL153: 16 | BM153: -123710857
C154: 28 | D154: K | E154: 725244103 | F154: Sprchové dveře a zástěny dveře sprchové do niky rámové se skleněnou výplní tl. 5 mm otvíravé jednokřídlové, na vaničku šířky 900 mm | G154: soubor | H154: 1 | J154: =ROUND(I154*H154,2) -> 0 | K154: CS ÚRS 2023 01 | N154: základní | O154: 2.88 | P154: =O154*H154 -> 2.88 | Q154: 0.01937 | R154: =Q154*H154 -> 0.01937 | S154: 0 | T154: =S154*H154 -> 0 | AR154: 16 | AT154: K | AU154: 2 | AY154: ROZPOCET | BE154: =IF(N154="základní",J154,0) -> 0 | BF154: =IF(N154="snížená",J154,0) -> 0 | BG154: =IF(N154="zákl. přenesená",J154,0) -> 0 | BH154: =IF(N154="sníž. přenesená",J154,0) -> 0 | BI154: =IF(N154="nulová",J154,0) -> 0 | BJ154: 1 | BK154: =ROUND(I154*H154,2) -> 0 | BL154: 16 | BM154: -991268199
C155: 29 | D155: K | E155: 725331111 | F155: Výlevky bez výtokových armatur a splachovací nádrže keramické se sklopnou plastovou mřížkou 425 mm | G155: soubor | H155: 1 | J155: =ROUND(I155*H155,2) -> 0 | K155: CS ÚRS 2023 01 | N155: základní | O155: 1.5 | P155: =O155*H155 -> 1.5 | Q155: 0.01475 | R155: =Q155*H155 -> 0.01475 | S155: 0 | T155: =S155*H155 -> 0 | AR155: 16 | AT155: K | AU155: 2 | AY155: ROZPOCET | BE155: =IF(N155="základní",J155,0) -> 0 | BF155: =IF(N155="snížená",J155,0) -> 0 | BG155: =IF(N155="zákl. přenesená",J155,0) -> 0 | BH155: =IF(N155="sníž. přenesená",J155,0) -> 0 | BI155: =IF(N155="nulová",J155,0) -> 0 | BJ155: 1 | BK155: =ROUND(I155*H155,2) -> 0 | BL155: 16 | BM155: 1362368822
C156: 30 | D156: K | E156: 725821316 | F156: Baterie dřezové nástěnné pákové s otáčivým plochým ústím a délkou ramínka 300 mm | G156: soubor | H156: 5 | J156: =ROUND(I156*H156,2) -> 0 | K156: CS ÚRS 2023 01 | N156: základní | O156: 0.2 | P156: =O156*H156 -> 1 | Q156: 0.00196 | R156: =Q156*H156 -> 0.0098 | S156: 0 | T156: =S156*H156 -> 0 | AR156: 16 | AT156: K | AU156: 2 | AY156: ROZPOCET | BE156: =IF(N156="základní",J156,0) -> 0 | BF156: =IF(N156="snížená",J156,0) -> 0 | BG156: =IF(N156="zákl. přenesená",J156,0) -> 0 | BH156: =IF(N156="sníž. přenesená",J156,0) -> 0 | BI156: =IF(N156="nulová",J156,0) -> 0 | BJ156: 1 | BK156: =ROUND(I156*H156,2) -> 0 | BL156: 16 | BM156: -422496338
C157: 31 | D157: K | E157: 725821325 | F157: Baterie dřezové stojánkové pákové s otáčivým ústím a délkou ramínka 220 mm | G157: soubor | H157: 3 | J157: =ROUND(I157*H157,2) -> 0 | K157: CS ÚRS 2023 01 | N157: základní | O157: 0.2 | P157: =O157*H157 -> 0.6 | Q157: 0.0018 | R157: =Q157*H157 -> 0.0054 | S157: 0 | T157: =S157*H157 -> 0 | AR157: 16 | AT157: K | AU157: 2 | AY157: ROZPOCET | BE157: =IF(N157="základní",J157,0) -> 0 | BF157: =IF(N157="snížená",J157,0) -> 0 | BG157: =IF(N157="zákl. přenesená",J157,0) -> 0 | BH157: =IF(N157="sníž. přenesená",J157,0) -> 0 | BI157: =IF(N157="nulová",J157,0) -> 0 | BJ157: 1 | BK157: =ROUND(I157*H157,2) -> 0 | BL157: 16 | BM157: -1608169341
C158: 32 | D158: K | E158: 725822613 | F158: Baterie umyvadlové stojánkové pákové s výpustí | G158: soubor | H158: 3 | J158: =ROUND(I158*H158,2) -> 0 | K158: CS ÚRS 2023 01 | N158: základní | O158: 0.2 | P158: =O158*H158 -> 0.6 | Q158: 0.00184 | R158: =Q158*H158 -> 0.00552 | S158: 0 | T158: =S158*H158 -> 0 | AR158: 16 | AT158: K | AU158: 2 | AY158: ROZPOCET | BE158: =IF(N158="základní",J158,0) -> 0 | BF158: =IF(N158="snížená",J158,0) -> 0 | BG158: =IF(N158="zákl. přenesená",J158,0) -> 0 | BH158: =IF(N158="sníž. přenesená",J158,0) -> 0 | BI158: =IF(N158="nulová",J158,0) -> 0 | BJ158: 1 | BK158: =ROUND(I158*H158,2) -> 0 | BL158: 16 | BM158: -328614720
C159: 33 | D159: K | E159: 725841312 | F159: Baterie sprchové nástěnné pákové | G159: soubor | H159: 1 | J159: =ROUND(I159*H159,2) -> 0 | K159: CS ÚRS 2023 01 | N159: základní | O159: 0.2 | P159: =O159*H159 -> 0.2 | Q159: 0.00184 | R159: =Q159*H159 -> 0.00184 | S159: 0 | T159: =S159*H159 -> 0 | AR159: 16 | AT159: K | AU159: 2 | AY159: ROZPOCET | BE159: =IF(N159="základní",J159,0) -> 0 | BF159: =IF(N159="snížená",J159,0) -> 0 | BG159: =IF(N159="zákl. přenesená",J159,0) -> 0 | BH159: =IF(N159="sníž. přenesená",J159,0) -> 0 | BI159: =IF(N159="nulová",J159,0) -> 0 | BJ159: 1 | BK159: =ROUND(I159*H159,2) -> 0 | BL159: 16 | BM159: 1080998713
C160: 34 | D160: M | E160: 55145003 | F160: souprava sprchová komplet | G160: sada | H160: 1 | J160: =ROUND(I160*H160,2) -> 0 | K160: CS ÚRS 2023 01 | N160: základní | O160: 0 | P160: =O160*H160 -> 0 | Q160: 0.00098 | R160: =Q160*H160 -> 0.00098 | S160: 0 | T160: =S160*H160 -> 0 | AR160: 32 | AT160: M | AU160: 2 | AY160: ROZPOCET | BE160: =IF(N160="základní",J160,0) -> 0 | BF160: =IF(N160="snížená",J160,0) -> 0 | BG160: =IF(N160="zákl. přenesená",J160,0) -> 0 | BH160: =IF(N160="sníž. přenesená",J160,0) -> 0 | BI160: =IF(N160="nulová",J160,0) -> 0 | BJ160: 1 | BK160: =ROUND(I160*H160,2) -> 0 | BL160: 16 | BM160: -1917518020
... C163: 37 | D163: K | E163: 998725181 | F163: Přesun hmot pro zařizovací předměty stanovený z hmotnosti přesunovaného materiálu Příplatek k cenám za přesun prováděný bez použití mechanizace pro jakoukoliv výšku objektu | G163: t | H163: 0.242 | J163: =ROUND(I163*H163,2) -> 0 | K163: CS ÚRS 2023 01 | N163: základní | O163: 1.25 | P163: =O163*H163 -> 0.3025 | Q163: 0 | R163: =Q163*H163 -> 0 | S163: 0 | T163: =S163*H163 -> 0 | AR163: 16 | AT163: K | AU163: 2 | AY163: ROZPOCET | BE163: =IF(N163="základní",J163,0) -> 0 | BF163: =IF(N163="snížená",J163,0) -> 0 | BG163: =IF(N163="zákl. přenesená",J163,0) -> 0 | BH163: =IF(N163="sníž. přenesená",J163,0) -> 0 | BI163: =IF(N163="nulová",J163,0) -> 0 | BJ163: 1 | BK163: =ROUND(I163*H163,2) -> 0 | BL163: 16 | BM163: -625995530

Sheet 06 - Venkovní kanalizace
L2: >> skryté sloupce << | AT2: {443f8fa5-d1c0-41d9-997b-169523c5888f}
AT3: 2
D4: KRYCÍ LIST SOUPISU PRACÍ | M4: v --- níže se nacházejí doplnkové a pomocné údaje k sestavám --- v | AT4: False
D6: Stavba:
E7: ='Rekapitulace stavby'!K6 -> Stavební úpravy - školní jídelna Želetava
D8: Objekt:
E9: 06 - Venkovní kanalizace
D11: KSO:
D12: Místo: | F12: Želetava | J12: ='Rekapitulace stavby'!AN8 -> 11. 5. 2023
D14: Zadavatel:
E15: městys Želetava
D17: Zhotovitel: | J17: ='Rekapitulace stavby'!AN13
E18: ='Rekapitulace stavby'!E14 | J18: ='Rekapitulace stavby'!AN14
D20: Projektant:
E21: TeS, spol. s r.o., David Myška
D23: Zpracovatel:
E24: Martin Lang
D26: Poznámka:
D30: Cena bez DPH | J30: =ROUND(J122, 0) -> 0
F32: Základ daně | J32: Výše daně
D33: DPH | E33: základní | F33: =ROUND((SUM(BE122:BE206)), 0) -> 0 | J33: =ROUND(((SUM(BE122:BE206))*I33), 0) -> 0
E34: snížená | F34: =ROUND((SUM(BF122:BF206)), 0) -> 0 | J34: =ROUND(((SUM(BF122:BF206))*I34), 0) -> 0
E35: zákl. přenesená | F35: =ROUND((SUM(BG122:BG206)), 0) -> 0 | J35: =0 -> 0
E36: sníž. přenesená | F36: =ROUND((SUM(BH122:BH206)), 0) -> 0 | J36: =0 -> 0
E37: nulová | F37: =ROUND((SUM(BI122:BI206)), 0) -> 0 | J37: =0 -> 0
D39: Cena s DPH | G39: v | H39: CZK | J39: =SUM(J30:J37) -> 0
D50: Projektant | G50: Zpracovatel
D61: Datum a podpis: | F61: Razítko | G61: Datum a podpis: | J61: Razítko
D65: Objednavatel | G65: Zhotovitel
D76: Datum a podpis: | F76: Razítko | G76: Datum a podpis: | J76: Razítko
C82: REKAPITULACE ČLENĚNÍ SOUPISU PRACÍ
C84: Stavba:
E85: =E7 -> Stavební úpravy - školní jídelna Želetava
C86: Objekt:
E87: =E9 -> 06 - Venkovní kanalizace
C89: Místo: | F89: =F12 -> Želetava | J89: =IF(J12="","",J12) -> 11. 5. 2023
C91: Zadavatel: | F91: =E15 -> městys Želetava | J91: =E21 -> TeS, spol. s r.o., David Myška
C92: Zhotovitel: | F92: =IF(E18="","",E18) | J92: =E24 -> Martin Lang
C94: Kód dílu - Popis | J94: Cena celkem [CZK]
C96: Náklady ze soupisu prací | J96: =J122 -> 0 | AU96: -1
D97: HSV - Práce a dodávky HSV | J97: =J123 -> 0
D98: 1 - Zemní práce | J98: =J124 -> 0
D99: 3 - Svislé a kompletní konstrukce | J99: =J167 -> 0
D100: 4 - Vodorovné konstrukce | J100: =J170 -> 0
D101: 8 - Trubní vedení | J101: =J174 -> 0
D102: 998 - Přesun hmot | J102: =J205 -> 0
C109: SOUPIS PRACÍ
C111: Stavba:
E112: =E7 -> Stavební úpravy - školní jídelna Želetava
C113: Objekt:
E114: =E9 -> 06 - Venkovní kanalizace
C116: Místo: | F116: =F12 -> Želetava | J116: =IF(J12="","",J12) -> 11. 5. 2023
C118: Zadavatel: | F118: =E15 -> městys Želetava | J118: =E21 -> TeS, spol. s r.o., David Myška
C119: Zhotovitel: | F119: =IF(E18="","",E18) | J119: =E24 -> Martin Lang
C121: PČ | D121: Typ | E121: Kód | F121: Popis | G121: MJ | H121: Množství | J121: Cena celkem [CZK] | K121: Cenová soustava | N121: DPH | O121: J. Nh [h] | P121: Nh celkem [h] | Q121: J. hmotnost [t] | R121: Hmotnost celkem [t] | S121: J. suť [t] | T121: Suť Celkem [t]
C122: Náklady soupisu celkem | J122: =BK122 -> 0 | P122: =P123 -> 110.86101 | R122: =R123 -> 14.077005 | T122: =T123 -> 0 | AT122: D | AU122: -1 | BK122: =BK123 -> 0
D123: D | E123: HSV | F123: Práce a dodávky HSV | J123: =BK123 -> 0 | P123: =P124+P167+P170+P174+P205 -> 110.86101 | R123: =R124+R167+R170+R174+R205 -> 14.077005 | T123: =T124+T167+T170+T174+T205 -> 0 | AR123: 1 | AT123: D | AU123: 0 | AY123: ROZPOCET | BK123: =BK124+BK167+BK170+BK174+BK205 -> 0
D124: D | E124: 1 | F124: Zemní práce | J124: =BK124 -> 0 | P124: =SUM(P125:P166) -> 72.403425 | R124: =SUM(R125:R166) -> 9.84059 | T124: =SUM(T125:T166) -> 0 | AR124: 1 | AT124: D | AU124: 1 | AY124: ROZPOCET | BK124: =SUM(BK125:BK166) -> 0
C125: 1 | D125: K | E125: 121151103 | F125: Sejmutí ornice strojně při souvislé ploše do 100 m2, tl. vrstvy do 200 mm | G125: m2 | H125: 29.5 | J125: =ROUND(I125*H125,2) -> 0 | K125: CS ÚRS 2023 01 | N125: základní | O125: 0.076 | P125: =O125*H125 -> 2.242 | Q125: 0 | R125: =Q125*H125 -> 0 | S125: 0 | T125: =S125*H125 -> 0 | AR125: 4 | AT125: K | AU125: 2 | AY125: ROZPOCET | BE125: =IF(N125="základní",J125,0) -> 0 | BF125: =IF(N125="snížená",J125,0) -> 0 | BG125: =IF(N125="zákl. přenesená",J125,0) -> 0 | BH125: =IF(N125="sníž. přenesená",J125,0) -> 0 | BI125: =IF(N125="nulová",J125,0) -> 0 | BJ125: 1 | BK125: =ROUND(I125*H125,2) -> 0 | BL125: 4 | BM125: -234407401
D126: VV | F126: 1,00*20,50+3,00*3,00 | H126: 29.5 | AT126: VV | AU126: 2 | AV126: 2 | AW126: True | AX126: 0 | AY126: ROZPOCET
D127: VV | F127: Součet | H127: 29.5 | AT127: VV | AU127: 2 | AV127: 4 | AW127: True | AX127: 1 | AY127: ROZPOCET
C128: 2 | D128: K | E128: 131251102 | F128: Hloubení nezapažených jam a zářezů strojně s urovnáním dna do předepsaného profilu a spádu v hornině třídy těžitelnosti I skupiny 3 přes 20 do 50 m3 | G128: m3 | H128: 21.06 | J128: =ROUND(I128*H128,2) -> 0 | K128: CS ÚRS 2023 01 | N128: základní | O128: 0.61 | P128: =O128*H128 -> 12.8466 | Q128: 0 | R128: =Q128*H128 -> 0 | S128: 0 | T128: =S128*H128 -> 0 | AR128: 4 | AT128: K | AU128: 2 | AY128: ROZPOCET | BE128: =IF(N128="základní",J128,0) -> 0 | BF128: =IF(N128="snížená",J128,0) -> 0 | BG128: =IF(N128="zákl. přenesená",J128,0) -> 0 | BH128: =IF(N128="sníž. přenesená",J128,0) -> 0 | BI128: =IF(N128="nulová",J128,0) -> 0 | BJ128: 1 | BK128: =ROUND(I128*H128,2) -> 0 | BL128: 4 | BM128: -900105527
D129: VV | F129: 3,00*2,70*2,60 | H129: 21.06 | AT129: VV | AU129: 2 | AV129: 2 | AW129: True | AX129: 0 | AY129: ROZPOCET
D130: VV | F130: Součet | H130: 21.06 | AT130: VV | AU130: 2 | AV130: 4 | AW130: True | AX130: 1 | AY130: ROZPOCET
C131: 3 | D131: K | E131: 132251102 | F131: Hloubení nezapažených rýh šířky do 800 mm strojně s urovnáním dna do předepsaného profilu a spádu v hornině třídy těžitelnosti I skupiny 3 přes 20 do 50 m3 | G131: m3 | H131: 24.6 | J131: =ROUND(I131*H131,2) -> 0 | K131: CS ÚRS 2023 01 | N131: základní | O131: 1.122 | P131: =O131*H131 -> 27.6012 | Q131: 0 | R131: =Q131*H131 -> 0 | S131: 0 | T131: =S131*H131 -> 0 | AR131: 4 | AT131: K | AU131: 2 | AY131: ROZPOCET | BE131: =IF(N131="základní",J131,0) -> 0 | BF131: =IF(N131="snížená",J131,0) -> 0 | BG131: =IF(N131="zákl. přenesená",J131,0) -> 0 | BH131: =IF(N131="sníž. přenesená",J131,0) -> 0 | BI131: =IF(N131="nulová",J131,0) -> 0 | BJ131: 1 | BK131: =ROUND(I131*H131,2) -> 0 | BL131: 4 | BM131: 1381107614
D132: VV | F132: 20,50*0,80*1,50 | H132: 24.6 | AT132: VV | AU132: 2 | AV132: 2 | AW132: True | AX132: 0 | AY132: ROZPOCET
D133: VV | F133: Součet | H133: 24.6 | AT133: VV | AU133: 2 | AV133: 4 | AW133: True | AX133: 1 | AY133: ROZPOCET
C134: 4 | D134: K | E134: 162751117 | F134: Vodorovné přemístění výkopku nebo sypaniny po suchu na obvyklém dopravním prostředku, bez naložení výkopku, avšak se složením bez rozhrnutí z horniny třídy těžitelnosti I skupiny 1 až 3 na vzdálenost přes 9 000 do 10 000 m | G134: m3 | H134: 9.863 | J134: =ROUND(I134*H134,2) -> 0 | K134: CS ÚRS 2023 01 | N134: základní | O134: 0.087 | P134: =O134*H134 -> 0.858081 | Q134: 0 | R134: =Q134*H134 -> 0 | S134: 0 | T134: =S134*H134 -> 0 | AR134: 4 | AT134: K | AU134: 2 | AY134: ROZPOCET | BE134: =IF(N134="základní",J134,0) -> 0 | BF134: =IF(N134="snížená",J134,0) -> 0 | BG134: =IF(N134="zákl. přenesená",J134,0) -> 0 | BH134: =IF(N134="sníž. přenesená",J134,0) -> 0 | BI134: =IF(N134="nulová",J134,0) -> 0 | BJ134: 1 | BK134: =ROUND(I134*H134,2) -> 0 | BL134: 4 | BM134: 2016504522
D135: VV | F135: výkopy | AT135: VV | AU135: 2 | AV135: 1 | AW135: True | AX135: 0 | AY135: ROZPOCET
D136: VV | F136: 21,06+24,60 | H136: 45.66 | AT136: VV | AU136: 2 | AV136: 2 | AW136: True | AX136: 0 | AY136: ROZPOCET
D137: VV | F137: odpočet zásyp | AT137: VV | AU137: 2 | AV137: 1 | AW137: True | AX137: 0 | AY137: ROZPOCET
D138: VV | F138: -35,797 | H138: -35.797 | AT138: VV | AU138: 2 | AV138: 2 | AW138: True | AX138: 0 | AY138: ROZPOCET
D139: VV | F139: Součet | H139: 9.863 | AT139: VV | AU139: 2 | AV139: 4 | AW139: True | AX139: 1 | AY139: ROZPOCET
C140: 5 | D140: K | E140: 162751119 | F140: Vodorovné přemístění výkopku nebo sypaniny po suchu na obvyklém dopravním prostředku, bez naložení výkopku, avšak se složením bez rozhrnutí z horniny třídy těžitelnosti I skupiny 1 až 3 na vzdálenost Příplatek k ceně za každých dalších i započatých 1 000 m | G140: m3 | H140: 98.63 | J140: =ROUND(I140*H140,2) -> 0 | K140: CS ÚRS 2023 01 | N140: základní | O140: 0.005 | P140: =O140*H140 -> 0.49315 | Q140: 0 | R140: =Q140*H140 -> 0 | S140: 0 | T140: =S140*H140 -> 0 | AR140: 4 | AT140: K | AU140: 2 | AY140: ROZPOCET | BE140: =IF(N140="základní",J140,0) -> 0 | BF140: =IF(N140="snížená",J140,0) -> 0 | BG140: =IF(N140="zákl. přenesená",J140,0) -> 0 | BH140: =IF(N140="sníž. přenesená",J140,0) -> 0 | BI140: =IF(N140="nulová",J140,0) -> 0 | BJ140: 1 | BK140: =ROUND(I140*H140,2) -> 0 | BL140: 4 | BM140: 1101431793
D141: VV | F141: 9,863*10 'Přepočtené koeficientem množství | H141: 98.63 | AT141: VV | AU141: 2 | AV141: 2 | AW141: False | AX141: 1 | AY141: ROZPOCET
C142: 6 | D142: K | E142: 167151101 | F142: Nakládání, skládání a překládání neulehlého výkopku nebo sypaniny strojně nakládání, množství do 100 m3, z horniny třídy těžitelnosti I, skupiny 1 až 3 | G142: m3 | H142: 9.863 | J142: =ROUND(I142*H142,2) -> 0 | K142: CS ÚRS 2023 01 | N142: základní | O142: 0.197 | P142: =O142*H142 -> 1.943011 | Q142: 0 | R142: =Q142*H142 -> 0 | S142: 0 | T142: =S142*H142 -> 0 | AR142: 4 | AT142: K | AU142: 2 | AY142: ROZPOCET | BE142: =IF(N142="základní",J142,0) -> 0 | BF142: =IF(N142="snížená",J142,0) -> 0 | BG142: =IF(N142="zákl. přenesená",J142,0) -> 0 | BH142: =IF(N142="sníž. přenesená",J142,0) -> 0 | BI142: =IF(N142="nulová",J142,0) -> 0 | BJ142: 1 | BK142: =ROUND(I142*H142,2) -> 0 | BL142: 4 | BM142: -923650080
C143: 7 | D143: K | E143: 171201221 | F143: Poplatek za uložení stavebního odpadu na skládce (skládkovné) zeminy a kamení zatříděného do Katalogu odpadů pod kódem 17 05 04 | G143: t | H143: 17.753 | J143: =ROUND(I143*H143,2) -> 0 | K143: CS ÚRS 2023 01 | N143: základní | O143: 0 | P143: =O143*H143 -> 0 | Q143: 0 | R143: =Q143*H143 -> 0 | S143: 0 | T143: =S143*H143 -> 0 | AR143: 4 | AT143: K | AU143: 2 | AY143: ROZPOCET | BE143: =IF(N143="základní",J143,0) -> 0 | BF143: =IF(N143="snížená",J143,0) -> 0 | BG143: =IF(N143="zákl. přenesená",J143,0) -> 0 | BH143: =IF(N143="sníž. přenesená",J143,0) -> 0 | BI143: =IF(N143="nulová",J143,0) -> 0 | BJ143: 1 | BK143: =ROUND(I143*H143,2) -> 0 | BL143: 4 | BM143: 773117293
D144: VV | F144: 9,863*1,8 'Přepočtené koeficientem množství | H144: 17.753 | AT144: VV | AU144: 2 | AV144: 2 | AW144: False | AX144: 1 | AY144: ROZPOCET
C145: 8 | D145: K | E145: 171251201 | F145: Uložení sypaniny na skládky nebo meziskládky bez hutnění s upravením uložené sypaniny do předepsaného tvaru | G145: m3 | H145: 9.863 | J145: =ROUND(I145*H145,2) -> 0 | K145: CS ÚRS 2023 01 | N145: základní | O145: 0.009 | P145: =O145*H145 -> 0.088767 | Q145: 0 | R145: =Q145*H145 -> 0 | S145: 0 | T145: =S145*H145 -> 0 | AR145: 4 | AT145: K | AU145: 2 | AY145: ROZPOCET | BE145: =IF(N145="základní",J145,0) -> 0 | BF145: =IF(N145="snížená",J145,0) -> 0 | BG145: =IF(N145="zákl. přenesená",J145,0) -> 0 | BH145: =IF(N145="sníž. přenesená",J145,0) -> 0 | BI145: =IF(N145="nulová",J145,0) -> 0 | BJ145: 1 | BK145: =ROUND(I145*H145,2) -> 0 | BL145: 4 | BM145: 1407131193
C146: 9 | D146: K | E146: 174151101 | F146: Zásyp sypaninou z jakékoliv horniny strojně s uložením výkopku ve vrstvách se zhutněním jam, šachet, rýh nebo kolem objektů v těchto vykopávkách | G146: m3 | H146: 35.797 | J146: =ROUND(I146*H146,2) -> 0 | K146: CS ÚRS 2023 01 | N146: základní | O146: 0.328 | P146: =O146*H146 -> 11.741416 | Q146: 0 | R146: =Q146*H146 -> 0 | S146: 0 | T146: =S146*H146 -> 0 | AR146: 4 | AT146: K | AU146: 2 | AY146: ROZPOCET | BE146: =IF(N146="základní",J146,0) -> 0 | BF146: =IF(N146="snížená",J146,0) -> 0 | BG146: =IF(N146="zákl. přenesená",J146,0) -> 0 | BH146: =IF(N146="sníž. přenesená",J146,0) -> 0 | BI146: =IF(N146="nulová",J146,0) -> 0 | BJ146: 1 | BK146: =ROUND(I146*H146,2) -> 0 | BL146: 4 | BM146: 1867392368
D147: VV | F147: výkopy | AT147: VV | AU147: 2 | AV147: 1 | AW147: True | AX147: 0 | AY147: ROZPOCET
D148: VV | F148: 21,06+24,60 | H148: 45.66 | AT148: VV | AU148: 2 | AV148: 2 | AW148: True | AX148: 0 | AY148: ROZPOCET
D149: VV | F149: odpočet obsyp a lože potrubí | AT149: VV | AU149: 2 | AV149: 1 | AW149: True | AX149: 0 | AY149: ROZPOCET
D150: VV | F150: -1*(4,92+1,64) | H150: -6.56 | AT150: VV | AU150: 2 | AV150: 2 | AW150: True | AX150: 0 | AY150: ROZPOCET
D151: VV | F151: odpočet podkladové desky | AT151: VV | AU151: 2 | AV151: 1 | AW151: True | AX151: 0 | AY151: ROZPOCET
D152: VV | F152: -1*(0,123+0,324) | H152: -0.447 | AT152: VV | AU152: 2 | AV152: 2 | AW152: True | AX152: 0 | AY152: ROZPOCET
D153: VV | F153: odpočet objem lapáku | AT153: VV | AU153: 2 | AV153: 1 | AW153: True | AX153: 0 | AY153: ROZPOCET
D154: VV | F154: -2,10*1,36*1,00 | H154: -2.856 | AT154: VV | AU154: 2 | AV154: 2 | AW154: True | AX154: 0 | AY154: ROZPOCET
D155: VV | F155: Součet | H155: 35.797 | AT155: VV | AU155: 2 | AV155: 4 | AW155: True | AX155: 1 | AY155: ROZPOCET
C156: 10 | D156: K | E156: 175151101 | F156: Obsypání potrubí strojně sypaninou z vhodných třídy těžitelnosti I a II, skupiny 1 až 4 nebo materiálem připraveným podél výkopu ve vzdálenosti do 3 m od jeho kraje, pro jakoukoliv hloubku výkopu a míru zhutnění bez prohození sypaniny | G156: m3 | H156: 4.92 | J156: =ROUND(I156*H156,2) -> 0 | K156: CS ÚRS 2023 01 | N156: základní | O156: 0.435 | P156: =O156*H156 -> 2.1402 | Q156: 0 | R156: =Q156*H156 -> 0 | S156: 0 | T156: =S156*H156 -> 0 | AR156: 4 | AT156: K | AU156: 2 | AY156: ROZPOCET | BE156: =IF(N156="základní",J156,0) -> 0 | BF156: =IF(N156="snížená",J156,0) -> 0 | BG156: =IF(N156="zákl. přenesená",J156,0) -> 0 | BH156: =IF(N156="sníž. přenesená",J156,0) -> 0 | BI156: =IF(N156="nulová",J156,0) -> 0 | BJ156: 1 | BK156: =ROUND(I156*H156,2) -> 0 | BL156: 4 | BM156: 1722113919
D157: VV | F157: 20,50*0,30*0,80 | H157: 4.92 | AT157: VV | AU157: 2 | AV157: 2 | AW157: True | AX157: 0 | AY157: ROZPOCET
D158: VV | F158: Součet | H158: 4.92 | AT158: VV | AU158: 2 | AV158: 4 | AW158: True | AX158: 1 | AY158: ROZPOCET
C159: 11 | D159: M | E159: 58331200 | F159: štěrkopísek netříděný | G159: t | H159: 9.84 | J159: =ROUND(I159*H159,2) -> 0 | K159: CS ÚRS 2023 01 | N159: základní | O159: 0 | P159: =O159*H159 -> 0 | Q159: 1 | R159: =Q159*H159 -> 9.84 | S159: 0 | T159: =S159*H159 -> 0 | AR159: 8 | AT159: M | AU159: 2 | AY159: ROZPOCET | BE159: =IF(N159="základní",J159,0) -> 0 | BF159: =IF(N159="snížená",J159,0) -> 0 | BG159: =IF(N159="zákl. přenesená",J159,0) -> 0 | BH159: =IF(N159="sníž. přenesená",J159,0) -> 0 | BI159: =IF(N159="nulová",J159,0) -> 0 | BJ159: 1 | BK159: =ROUND(I159*H159,2) -> 0 | BL159: 4 | BM159: 397180372
D160: VV | F160: 4,92*2 'Přepočtené koeficientem množství | H160: 9.84 | AT160: VV | AU160: 2 | AV160: 2 | AW160: False | AX160: 1 | AY160: ROZPOCET
C161: 12 | D161: K | E161: 181111131 | F161: Plošná úprava terénu v zemině skupiny 1 až 4 s urovnáním povrchu bez doplnění ornice souvislé plochy do 500 m2 při nerovnostech terénu přes 150 do 200 mm v rovině nebo na svahu do 1:5 | G161: m2 | H161: 29.5 | J161: =ROUND(I161*H161,2) -> 0 | K161: CS ÚRS 2023 01 | N161: základní | O161: 0.153 | P161: =O161*H161 -> 4.5135 | Q161: 0 | R161: =Q161*H161 -> 0 | S161: 0 | T161: =S161*H161 -> 0 | AR161: 4 | AT161: K | AU161: 2 | AY161: ROZPOCET | BE161: =IF(N161="základní",J161,0) -> 0 | BF161: =IF(N161="snížená",J161,0) -> 0 | BG161: =IF(N161="zákl. přenesená",J161,0) -> 0 | BH161: =IF(N161="sníž. přenesená",J161,0) -> 0 | BI161: =IF(N161="nulová",J161,0) -> 0 | BJ161: 1 | BK161: =ROUND(I161*H161,2) -> 0 | BL161: 4 | BM161: -901032175
C162: 13 | D162: K | E162: 181351003 | F162: Rozprostření a urovnání ornice v rovině nebo ve svahu sklonu do 1:5 strojně při souvislé ploše do 100 m2, tl. vrstvy do 200 mm | G162: m2 | H162: 29.5 | J162: =ROUND(I162*H162,2) -> 0 | K162: CS ÚRS 2023 01 | N162: základní | O162: 0.114 | P162: =O162*H162 -> 3.363 | Q162: 0 | R162: =Q162*H162 -> 0 | S162: 0 | T162: =S162*H162 -> 0 | AR162: 4 | AT162: K | AU162: 2 | AY162: ROZPOCET | BE162: =IF(N162="základní",J162,0) -> 0 | BF162: =IF(N162="snížená",J162,0) -> 0 | BG162: =IF(N162="zákl. přenesená",J162,0) -> 0 | BH162: =IF(N162="sníž. přenesená",J162,0) -> 0 | BI162: =IF(N162="nulová",J162,0) -> 0 | BJ162: 1 | BK162: =ROUND(I162*H162,2) -> 0 | BL162: 4 | BM162: -699117925
C163: 14 | D163: K | E163: 181411131 | F163: Založení trávníku na půdě předem připravené plochy do 1000 m2 výsevem včetně utažení parkového v rovině nebo na svahu do 1:5 | G163: m2 | H163: 29.5 | J163: =ROUND(I163*H163,2) -> 0 | K163: CS ÚRS 2023 01 | N163: základní | O163: 0.058 | P163: =O163*H163 -> 1.711 | Q163: 0 | R163: =Q163*H163 -> 0 | S163: 0 | T163: =S163*H163 -> 0 | AR163: 4 | AT163: K | AU163: 2 | AY163: ROZPOCET | BE163: =IF(N163="základní",J163,0) -> 0 | BF163: =IF(N163="snížená",J163,0) -> 0 | BG163: =IF(N163="zákl. přenesená",J163,0) -> 0 | BH163: =IF(N163="sníž. přenesená",J163,0) -> 0 | BI163: =IF(N163="nulová",J163,0) -> 0 | BJ163: 1 | BK163: =ROUND(I163*H163,2) -> 0 | BL163: 4 | BM163: 176915758
C164: 15 | D164: M | E164: 00572410 | F164: osivo směs travní parková | G164: kg | H164: 0.59 | J164: =ROUND(I164*H164,2) -> 0 | K164: CS ÚRS 2023 01 | N164: základní | O164: 0 | P164: =O164*H164 -> 0 | Q164: 0.001 | R164: =Q164*H164 -> 0.00059 | S164: 0 | T164: =S164*H164 -> 0 | AR164: 8 | AT164: M | AU164: 2 | AY164: ROZPOCET | BE164: =IF(N164="základní",J164,0) -> 0 | BF164: =IF(N164="snížená",J164,0) -> 0 | BG164: =IF(N164="zákl. přenesená",J164,0) -> 0 | BH164: =IF(N164="sníž. přenesená",J164,0) -> 0 | BI164: =IF(N164="nulová",J164,0) -> 0 | BJ164: 1 | BK164: =ROUND(I164*H164,2) -> 0 | BL164: 4 | BM164: -1482305451
D165: VV | F165: 29,5*0,02 'Přepočtené koeficientem množství | H165: 0.59 | AT165: VV | AU165: 2 | AV165: 2 | AW165: False | AX165: 1 | AY165: ROZPOCET
C166: 16 | D166: K | E166: 181912111 | F166: Úprava pláně vyrovnáním výškových rozdílů ručně v hornině třídy těžitelnosti I skupiny 3 bez zhutnění | G166: m2 | H166: 29.5 | J166: =ROUND(I166*H166,2) -> 0 | K166: CS ÚRS 2023 01 | N166: základní | O166: 0.097 | P166: =O166*H166 -> 2.8615 | Q166: 0 | R166: =Q166*H166 -> 0 | S166: 0 | T166: =S166*H166 -> 0 | AR166: 4 | AT166: K | AU166: 2 | AY166: ROZPOCET | BE166: =IF(N166="základní",J166,0) -> 0 | BF166: =IF(N166="snížená",J166,0) -> 0 | BG166: =IF(N166="zákl. přenesená",J166,0) -> 0 | BH166: =IF(N166="sníž. přenesená",J166,0) -> 0 | BI166: =IF(N166="nulová",J166,0) -> 0 | BJ166: 1 | BK166: =ROUND(I166*H166,2) -> 0 | BL166: 4 | BM166: -2136490748
...

Sheet 07 - Ústřední vytápění
L2: >> skryté sloupce << | AT2: {a327eb2e-f5f2-4572-bfe1-6fdc5687594d}
AT3: 2
D4: KRYCÍ LIST SOUPISU PRACÍ | M4: v --- níže se nacházejí doplnkové a pomocné údaje k sestavám --- v | AT4: False
D6: Stavba:
E7: ='Rekapitulace stavby'!K6 -> Stavební úpravy - školní jídelna Želetava
D8: Objekt:
E9: 07 - Ústřední vytápění
D11: KSO:
D12: Místo: | F12: Želetava | J12: ='Rekapitulace stavby'!AN8 -> 11. 5. 2023
D14: Zadavatel:
E15: městys Želetava
D17: Zhotovitel: | J17: ='Rekapitulace stavby'!AN13
E18: ='Rekapitulace stavby'!E14 | J18: ='Rekapitulace stavby'!AN14
D20: Projektant:
E21: TeS, spol. s r.o., David Myška
D23: Zpracovatel:
E24: Martin Lang
D26: Poznámka:
D30: Cena bez DPH | J30: =ROUND(J124, 0) -> 0
F32: Základ daně | J32: Výše daně
D33: DPH | E33: základní | F33: =ROUND((SUM(BE124:BE174)), 0) -> 0 | J33: =ROUND(((SUM(BE124:BE174))*I33), 0) -> 0
E34: snížená | F34: =ROUND((SUM(BF124:BF174)), 0) -> 0 | J34: =ROUND(((SUM(BF124:BF174))*I34), 0) -> 0
E35: zákl. přenesená | F35: =ROUND((SUM(BG124:BG174)), 0) -> 0 | J35: =0 -> 0
E36: sníž. přenesená | F36: =ROUND((SUM(BH124:BH174)), 0) -> 0 | J36: =0 -> 0
E37: nulová | F37: =ROUND((SUM(BI124:BI174)), 0) -> 0 | J37: =0 -> 0
D39: Cena s DPH | G39: v | H39: CZK | J39: =SUM(J30:J37) -> 0
D50: Projektant | G50: Zpracovatel
D61: Datum a podpis: | F61: Razítko | G61: Datum a podpis: | J61: Razítko
D65: Objednavatel | G65: Zhotovitel
D76: Datum a podpis: | F76: Razítko | G76: Datum a podpis: | J76: Razítko
C82: REKAPITULACE ČLENĚNÍ SOUPISU PRACÍ
C84: Stavba:
E85: =E7 -> Stavební úpravy - školní jídelna Želetava
C86: Objekt:
E87: =E9 -> 07 - Ústřední vytápění
C89: Místo: | F89: =F12 -> Želetava | J89: =IF(J12="","",J12) -> 11. 5. 2023
C91: Zadavatel: | F91: =E15 -> městys Želetava | J91: =E21 -> TeS, spol. s r.o., David Myška
C92: Zhotovitel: | F92: =IF(E18="","",E18) | J92: =E24 -> Martin Lang
C94: Kód dílu - Popis | J94: Cena celkem [CZK]
C96: Náklady ze soupisu prací | J96: =J124 -> 0 | AU96: -1
D97: HSV - Práce a dodávky HSV | J97: =J125 -> 0
D98: 9 - Ostatní konstrukce a práce, bourání | J98: =J126 -> 0
D99: PSV - Práce a dodávky PSV | J99: =J128 -> 0
D100: 731 - Ústřední vytápění - kotelny | J100: =J129 -> 0
D101: 732 - Ústřední vytápění - strojovny | J101: =J136 -> 0
D102: 733 - Ústřední vytápění - rozvodné potrubí | J102: =J140 -> 0
D103: 734 - Ústřední vytápění - armatury | J103: =J149 -> 0
D104: 735 - Ústřední vytápění - otopná tělesa | J104: =J161 -> 0
C111: SOUPIS PRACÍ
C113: Stavba:
E114: =E7 -> Stavební úpravy - školní jídelna Želetava
C115: Objekt:
E116: =E9 -> 07 - Ústřední vytápění
C118: Místo: | F118: =F12 -> Želetava | J118: =IF(J12="","",J12) -> 11. 5. 2023
C120: Zadavatel: | F120: =E15 -> městys Želetava | J120: =E21 -> TeS, spol. s r.o., David Myška
C121: Zhotovitel: | F121: =IF(E18="","",E18) | J121: =E24 -> Martin Lang
C123: PČ | D123: Typ | E123: Kód | F123: Popis | G123: MJ | H123: Množství | J123: Cena celkem [CZK] | K123: Cenová soustava | N123: DPH | O123: J. Nh [h] | P123: Nh celkem [h] | Q123: J. hmotnost [t] | R123: Hmotnost celkem [t] | S123: J. suť [t] | T123: Suť Celkem [t]
C124: Náklady soupisu celkem | J124: =BK124 -> 0 | P124: =P125+P128 -> 131.82846 | R124: =R125+R128 -> 0.86969 | T124: =T125+T128 -> 0 | AT124: D | AU124: -1 | BK124: =BK125+BK128 -> 0
D125: D | E125: HSV | F125: Práce a dodávky HSV | J125: =BK125 -> 0 | P125: =P126 -> 0 | R125: =R126 -> 0 | T125: =T126 -> 0 | AR125: 1 | AT125: D | AU125: 0 | AY125: ROZPOCET | BK125: =BK126 -> 0
D126: D | E126: 9 | F126: Ostatní konstrukce a práce, bourání | J126: =BK126 -> 0 | P126: =P127 -> 0 | R126: =R127 -> 0 | T126: =T127 -> 0 | AR126: 1 | AT126: D | AU126: 1 | AY126: ROZPOCET | BK126: =BK127 -> 0
C127: 1 | D127: K | E127: 900100900 | F127: Stavební přípomoce pro ústřední vytápění | G127: kus | H127: 1 | J127: =ROUND(I127*H127,2) -> 0 | N127: základní | O127: 0 | P127: =O127*H127 -> 0 | Q127: 0 | R127: =Q127*H127 -> 0 | S127: 0 | T127: =S127*H127 -> 0 | AR127: 4 | AT127: K | AU127: 2 | AY127: ROZPOCET | BE127: =IF(N127="základní",J127,0) -> 0 | BF127: =IF(N127="snížená",J127,0) -> 0 | BG127: =IF(N127="zákl. přenesená",J127,0) -> 0 | BH127: =IF(N127="sníž. přenesená",J127,0) -> 0 | BI127: =IF(N127="nulová",J127,0) -> 0 | BJ127: 1 | BK127: =ROUND(I127*H127,2) -> 0 | BL127: 4 | BM127: 1254234358
D128: D | E128: PSV | F128: Práce a dodávky PSV | J128: =BK128 -> 0 | P128: =P129+P136+P140+P149+P161 -> 131.82846 | R128: =R129+R136+R140+R149+R161 -> 0.86969 | T128: =T129+T136+T140+T149+T161 -> 0 | AR128: 2 | AT128: D | AU128: 0 | AY128: ROZPOCET | BK128: =BK129+BK136+BK140+BK149+BK161 -> 0
D129: D | E129: 731 | F129: Ústřední vytápění - kotelny | J129: =BK129 -> 0 | P129: =SUM(P130:P135) -> 7.785016 | R129: =SUM(R130:R135) -> 0.05789 | T129: =SUM(T130:T135) -> 0 | AR129: 2 | AT129: D | AU129: 1 | AY129: ROZPOCET | BK129: =SUM(BK130:BK135) -> 0
C130: 2 | D130: K | E130: 731244494 | F130: Kotle ocelové teplovodní plynové stacionární kondenzační montáž kotlů kondenzačních ostatních typů o výkonu přes 28 do 50 kW | G130: soubor | H130: 1 | J130: =ROUND(I130*H130,2) -> 0 | K130: CS ÚRS 2023 01 | N130: základní | O130: 6.236 | P130: =O130*H130 -> 6.236 | Q130: 0.00249 | R130: =Q130*H130 -> 0.00249 | S130: 0 | T130: =S130*H130 -> 0 | AR130: 16 | AT130: K | AU130: 2 | AY130: ROZPOCET | BE130: =IF(N130="základní",J130,0) -> 0 | BF130: =IF(N130="snížená",J130,0) -> 0 | BG130: =IF(N130="zákl. přenesená",J130,0) -> 0 | BH130: =IF(N130="sníž. přenesená",J130,0) -> 0 | BI130: =IF(N130="nulová",J130,0) -> 0 | BJ130: 1 | BK130: =ROUND(I130*H130,2) -> 0 | BL130: 16 | BM130: -1163410623
C131: 3 | D131: M | E131: 48417606 | F131: kotel ocelový plynový kondenzační závěsný pro vytápění 6,6-49,9kW | G131: kus | H131: 1 | J131: =ROUND(I131*H131,2) -> 0 | K131: CS ÚRS 2023 01 | N131: základní | O131: 0 | P131: =O131*H131 -> 0 | Q131: 0.05472 | R131: =Q131*H131 -> 0.05472 | S131: 0 | T131: =S131*H131 -> 0 | AR131: 32 | AT131: M | AU131: 2 | AY131: ROZPOCET | BE131: =IF(N131="základní",J131,0) -> 0 | BF131: =IF(N131="snížená",J131,0) -> 0 | BG131: =IF(N131="zákl. přenesená",J131,0) -> 0 | BH131: =IF(N131="sníž. přenesená",J131,0) -> 0 | BI131: =IF(N131="nulová",J131,0) -> 0 | BJ131: 1 | BK131: =ROUND(I131*H131,2) -> 0 | BL131: 16 | BM131: 2054933246
C132: 4 | D132: K | E132: 731810312 | F132: Nucené odtahy spalin od kondenzačních kotlů soustředným potrubím vedeným vodorovně vnější stěnou, průměru 80/125 mm | G132: soubor | H132: 1 | J132: =ROUND(I132*H132,2) -> 0 | K132: CS ÚRS 2023 01 | N132: základní | O132: 0.821 | P132: =O132*H132 -> 0.821 | Q132: 0.00068 | R132: =Q132*H132 -> 0.00068 | S132: 0 | T132: =S132*H132 -> 0 | AR132: 16 | AT132: K | AU132: 2 | AY132: ROZPOCET | BE132: =IF(N132="základní",J132,0) -> 0 | BF132: =IF(N132="snížená",J132,0) -> 0 | BG132: =IF(N132="zákl. přenesená",J132,0) -> 0 | BH132: =IF(N132="sníž. přenesená",J132,0) -> 0 | BI132: =IF(N132="nulová",J132,0) -> 0 | BJ132: 1 | BK132: =ROUND(I132*H132,2) -> 0 | BL132: 16 | BM132: 1447672045
C133: 5 | D133: K | E133: 731900100 | F133: Spuštění kotle, uvedení do provozu, zaškolení obsluhy, napuštění syystému | G133: kus | H133: 1 | J133: =ROUND(I133*H133,2) -> 0 | N133: základní | O133: 0 | P133: =O133*H133 -> 0 | Q133: 0 | R133: =Q133*H133 -> 0 | S133: 0 | T133: =S133*H133 -> 0 | AR133: 16 | AT133: K | AU133: 2 | AY133: ROZPOCET | BE133: =IF(N133="základní",J133,0) -> 0 | BF133: =IF(N133="snížená",J133,0) -> 0 | BG133: =IF(N133="zákl. přenesená",J133,0) -> 0 | BH133: =IF(N133="sníž. přenesená",J133,0) -> 0 | BI133: =IF(N133="nulová",J133,0) -> 0 | BJ133: 1 | BK133: =ROUND(I133*H133,2) -> 0 | BL133: 16 | BM133: -613828553
C134: 6 | D134: K | E134: 998731101 | F134: Přesun hmot pro kotelny stanovený z hmotnosti přesunovaného materiálu vodorovná dopravní vzdálenost do 50 m v objektech výšky do 6 m | G134: t | H134: 0.058 | J134: =ROUND(I134*H134,2) -> 0 | K134: CS ÚRS 2023 01 | N134: základní | O134: 10.582 | P134: =O134*H134 -> 0.613756 | Q134: 0 | R134: =Q134*H134 -> 0 | S134: 0 | T134: =S134*H134 -> 0 | AR134: 16 | AT134: K | AU134: 2 | AY134: ROZPOCET | BE134: =IF(N134="základní",J134,0) -> 0 | BF134: =IF(N134="snížená",J134,0) -> 0 | BG134: =IF(N134="zákl. přenesená",J134,0) -> 0 | BH134: =IF(N134="sníž. přenesená",J134,0) -> 0 | BI134: =IF(N134="nulová",J134,0) -> 0 | BJ134: 1 | BK134: =ROUND(I134*H134,2) -> 0 | BL134: 16 | BM134: 1581744231
C135: 7 | D135: K | E135: 998731181 | F135: Přesun hmot pro kotelny stanovený z hmotnosti přesunovaného materiálu Příplatek k cenám za přesun prováděný bez použití mechanizace pro jakoukoliv výšku objektu | G135: t | H135: 0.058 | J135: =ROUND(I135*H135,2) -> 0 | K135: CS ÚRS 2023 01 | N135: základní | O135: 1.97 | P135: =O135*H135 -> 0.11426 | Q135: 0 | R135: =Q135*H135 -> 0 | S135: 0 | T135: =S135*H135 -> 0 | AR135: 16 | AT135: K | AU135: 2 | AY135: ROZPOCET | BE135: =IF(N135="základní",J135,0) -> 0 | BF135: =IF(N135="snížená",J135,0) -> 0 | BG135: =IF(N135="zákl. přenesená",J135,0) -> 0 | BH135: =IF(N135="sníž. přenesená",J135,0) -> 0 | BI135: =IF(N135="nulová",J135,0) -> 0 | BJ135: 1 | BK135: =ROUND(I135*H135,2) -> 0 | BL135: 16 | BM135: 1847763424
D136: D | E136: 732 | F136: Ústřední vytápění - strojovny | J136: =BK136 -> 0 | P136: =SUM(P137:P139) -> 0.529065 | R136: =SUM(R137:R139) -> 0.00532 | T136: =SUM(T137:T139) -> 0 | AR136: 2 | AT136: D | AU136: 1 | AY136: ROZPOCET | BK136: =SUM(BK137:BK139) -> 0
C137: 8 | D137: K | E137: 732331104 | F137: Nádoby expanzní tlakové pro solární, topné a chladicí soustavy s membránou bez pojistného ventilu se závitovým připojením PN 1,0 o objemu 25 l | G137: soubor | H137: 1 | J137: =ROUND(I137*H137,2) -> 0 | K137: CS ÚRS 2023 01 | N137: základní | O137: 0.5 | P137: =O137*H137 -> 0.5 | Q137: 0.00532 | R137: =Q137*H137 -> 0.00532 | S137: 0 | T137: =S137*H137 -> 0 | AR137: 16 | AT137: K | AU137: 2 | AY137: ROZPOCET | BE137: =IF(N137="základní",J137,0) -> 0 | BF137: =IF(N137="snížená",J137,0) -> 0 | BG137: =IF(N137="zákl. přenesená",J137,0) -> 0 | BH137: =IF(N137="sníž. přenesená",J137,0) -> 0 | BI137: =IF(N137="nulová",J137,0) -> 0 | BJ137: 1 | BK137: =ROUND(I137*H137,2) -> 0 | BL137: 16 | BM137: -1173869864
C138: 9 | D138: K | E138: 998732101 | F138: Přesun hmot pro strojovny stanovený z hmotnosti přesunovaného materiálu vodorovná dopravní vzdálenost do 50 m v objektech výšky do 6 m | G138: t | H138: 0.005 | J138: =ROUND(I138*H138,2) -> 0 | K138: CS ÚRS 2023 01 | N138: základní | O138: 4.043 | P138: =O138*H138 -> 0.020215 | Q138: 0 | R138: =Q138*H138 -> 0 | S138: 0 | T138: =S138*H138 -> 0 | AR138: 16 | AT138: K | AU138: 2 | AY138: ROZPOCET | BE138: =IF(N138="základní",J138,0) -> 0 | BF138: =IF(N138="snížená",J138,0) -> 0 | BG138: =IF(N138="zákl. přenesená",J138,0) -> 0 | BH138: =IF(N138="sníž. přenesená",J138,0) -> 0 | BI138: =IF(N138="nulová",J138,0) -> 0 | BJ138: 1 | BK138: =ROUND(I138*H138,2) -> 0 | BL138: 16 | BM138: -922069752
C139: 10 | D139: K | E139: 998732181 | F139: Přesun hmot pro strojovny stanovený z hmotnosti přesunovaného materiálu Příplatek k cenám za přesun prováděný bez použití mechanizace pro jakoukoliv výšku objektu | G139: t | H139: 0.005 | J139: =ROUND(I139*H139,2) -> 0 | K139: CS ÚRS 2023 01 | N139: základní | O139: 1.77 | P139: =O139*H139 -> 0.00885 | Q139: 0 | R139: =Q139*H139 -> 0 | S139: 0 | T139: =S139*H139 -> 0 | AR139: 16 | AT139: K | AU139: 2 | AY139: ROZPOCET | BE139: =IF(N139="základní",J139,0) -> 0 | BF139: =IF(N139="snížená",J139,0) -> 0 | BG139: =IF(N139="zákl. přenesená",J139,0) -> 0 | BH139: =IF(N139="sníž. přenesená",J139,0) -> 0 | BI139: =IF(N139="nulová",J139,0) -> 0 | BJ139: 1 | BK139: =ROUND(I139*H139,2) -> 0 | BL139: 16 | BM139: 319347248
D140: D | E140: 733 | F140: Ústřední vytápění - rozvodné potrubí | J140: =BK140 -> 0 | P140: =SUM(P141:P148) -> 108.77617 | R140: =SUM(R141:R148) -> 0.18744 | T140: =SUM(T141:T148) -> 0 | AR140: 2 | AT140: D | AU140: 1 | AY140: ROZPOCET | BK140: =SUM(BK141:BK148) -> 0
C141: 11 | D141: K | E141: 733223102 | F141: Potrubí z trubek měděných tvrdých spojovaných měkkým pájením Ø 15/1 | G141: m | H141: 84 | J141: =ROUND(I141*H141,2) -> 0 | K141: CS ÚRS 2023 01 | N141: základní | O141: 0.411 | P141: =O141*H141 -> 34.524 | Q141: 0.00047 | R141: =Q141*H141 -> 0.03948 | S141: 0 | T141: =S141*H141 -> 0 | AR141: 16 | AT141: K | AU141: 2 | AY141: ROZPOCET | BE141: =IF(N141="základní",J141,0) -> 0 | BF141: =IF(N141="snížená",J141,0) -> 0 | BG141: =IF(N141="zákl. přenesená",J141,0) -> 0 | BH141: =IF(N141="sníž. přenesená",J141,0) -> 0 | BI141: =IF(N141="nulová",J141,0) -> 0 | BJ141: 1 | BK141: =ROUND(I141*H141,2) -> 0 | BL141: 16 | BM141: -1298473539
C142: 12 | D142: K | E142: 733223103 | F142: Potrubí z trubek měděných tvrdých spojovaných měkkým pájením Ø 18/1 | G142: m | H142: 48 | J142: =ROUND(I142*H142,2) -> 0 | K142: CS ÚRS 2023 01 | N142: základní | O142: 0.421 | P142: =O142*H142 -> 20.208 | Q142: 0.00058 | R142: =Q142*H142 -> 0.02784 | S142: 0 | T142: =S142*H142 -> 0 | AR142: 16 | AT142: K | AU142: 2 | AY142: ROZPOCET | BE142: =IF(N142="základní",J142,0) -> 0 | BF142: =IF(N142="snížená",J142,0) -> 0 | BG142: =IF(N142="zákl. přenesená",J142,0) -> 0 | BH142: =IF(N142="sníž. přenesená",J142,0) -> 0 | BI142: =IF(N142="nulová",J142,0) -> 0 | BJ142: 1 | BK142: =ROUND(I142*H142,2) -> 0 | BL142: 16 | BM142: -713775400
C143: 13 | D143: K | E143: 733223104 | F143: Potrubí z trubek měděných tvrdých spojovaných měkkým pájením Ø 22/1 | G143: m | H143: 21 | J143: =ROUND(I143*H143,2) -> 0 | K143: CS ÚRS 2023 01 | N143: základní | O143: 0.426 | P143: =O143*H143 -> 8.946 | Q143: 0.00073 | R143: =Q143*H143 -> 0.01533 | S143: 0 | T143: =S143*H143 -> 0 | AR143: 16 | AT143: K | AU143: 2 | AY143: ROZPOCET | BE143: =IF(N143="základní",J143,0) -> 0 | BF143: =IF(N143="snížená",J143,0) -> 0 | BG143: =IF(N143="zákl. přenesená",J143,0) -> 0 | BH143: =IF(N143="sníž. přenesená",J143,0) -> 0 | BI143: =IF(N143="nulová",J143,0) -> 0 | BJ143: 1 | BK143: =ROUND(I143*H143,2) -> 0 | BL143: 16 | BM143: -927121245
C144: 14 | D144: K | E144: 733223105 | F144: Potrubí z trubek měděných tvrdých spojovaných měkkým pájením Ø 28/1,5 | G144: m | H144: 75 | J144: =ROUND(I144*H144,2) -> 0 | K144: CS ÚRS 2023 01 | N144: základní | O144: 0.435 | P144: =O144*H144 -> 32.625 | Q144: 0.00127 | R144: =Q144*H144 -> 0.09525 | S144: 0 | T144: =S144*H144 -> 0 | AR144: 16 | AT144: K | AU144: 2 | AY144: ROZPOCET | BE144: =IF(N144="základní",J144,0) -> 0 | BF144: =IF(N144="snížená",J144,0) -> 0 | BG144: =IF(N144="zákl. přenesená",J144,0) -> 0 | BH144: =IF(N144="sníž. přenesená",J144,0) -> 0 | BI144: =IF(N144="nulová",J144,0) -> 0 | BJ144: 1 | BK144: =ROUND(I144*H144,2) -> 0 | BL144: 16 | BM144: -2111079236
C145: 15 | D145: K | E145: 733223106 | F145: Potrubí z trubek měděných tvrdých spojovaných měkkým pájením Ø 35/1,5 | G145: m | H145: 6 | J145: =ROUND(I145*H145,2) -> 0 | K145: CS ÚRS 2023 01 | N145: základní | O145: 0.44 | P145: =O145*H145 -> 2.64 | Q145: 0.00159 | R145: =Q145*H145 -> 0.00954 | S145: 0 | T145: =S145*H145 -> 0 | AR145: 16 | AT145: K | AU145: 2 | AY145: ROZPOCET | BE145: =IF(N145="základní",J145,0) -> 0 | BF145: =IF(N145="snížená",J145,0) -> 0 | BG145: =IF(N145="zákl. přenesená",J145,0) -> 0 | BH145: =IF(N145="sníž. přenesená",J145,0) -> 0 | BI145: =IF(N145="nulová",J145,0) -> 0 | BJ145: 1 | BK145: =ROUND(I145*H145,2) -> 0 | BL145: 16 | BM145: -1810213586
C146: 16 | D146: K | E146: 733291101 | F146: Zkoušky těsnosti potrubí z trubek měděných Ø do 35/1,5 | G146: m | H146: 234 | J146: =ROUND(I146*H146,2) -> 0 | K146: CS ÚRS 2023 01 | N146: základní | O146: 0.038 | P146: =O146*H146 -> 8.892 | Q146: 0 | R146: =Q146*H146 -> 0 | S146: 0 | T146: =S146*H146 -> 0 | AR146: 16 | AT146: K | AU146: 2 | AY146: ROZPOCET | BE146: =IF(N146="základní",J146,0) -> 0 | BF146: =IF(N146="snížená",J146,0) -> 0 | BG146: =IF(N146="zákl. přenesená",J146,0) -> 0 | BH146: =IF(N146="sníž. přenesená",J146,0) -> 0 | BI146: =IF(N146="nulová",J146,0) -> 0 | BJ146: 1 | BK146: =ROUND(I146*H146,2) -> 0 | BL146: 16 | BM146: 546375065
C147: 17 | D147: K | E147: 998733101 | F147: Přesun hmot pro rozvody potrubí stanovený z hmotnosti přesunovaného materiálu vodorovná dopravní vzdálenost do 50 m v objektech výšky do 6 m | G147: t | H147: 0.187 | J147: =ROUND(I147*H147,2) -> 0 | K147: CS ÚRS 2023 01 | N147: základní | O147: 3.463 | P147: =O147*H147 -> 0.647581 | Q147: 0 | R147: =Q147*H147 -> 0 | S147: 0 | T147: =S147*H147 -> 0 | AR147: 16 | AT147: K | AU147: 2 | AY147: ROZPOCET | BE147: =IF(N147="základní",J147,0) -> 0 | BF147: =IF(N147="snížená",J147,0) -> 0 | BG147: =IF(N147="zákl. přenesená",J147,0) -> 0 | BH147: =IF(N147="sníž. přenesená",J147,0) -> 0 | BI147: =IF(N147="nulová",J147,0) -> 0 | BJ147: 1 | BK147: =ROUND(I147*H147,2) -> 0 | BL147: 16 | BM147: 946711846
C148: 18 | D148: K | E148: 998733181 | F148: Přesun hmot pro rozvody potrubí stanovený z hmotnosti přesunovaného materiálu Příplatek k cenám za přesun prováděný bez použití mechanizace pro jakoukoliv výšku objektu | G148: t | H148: 0.187 | J148: =ROUND(I148*H148,2) -> 0 | K148: CS ÚRS 2023 01 | N148: základní | O148: 1.57 | P148: =O148*H148 -> 0.29359 | Q148: 0 | R148: =Q148*H148 -> 0 | S148: 0 | T148: =S148*H148 -> 0 | AR148: 16 | AT148: K | AU148: 2 | AY148: ROZPOCET | BE148: =IF(N148="základní",J148,0) -> 0 | BF148: =IF(N148="snížená",J148,0) -> 0 | BG148: =IF(N148="zákl. přenesená",J148,0) -> 0 | BH148: =IF(N148="sníž. přenesená",J148,0) -> 0 | BI148: =IF(N148="nulová",J148,0) -> 0 | BJ148: 1 | BK148: =ROUND(I148*H148,2) -> 0 | BL148: 16 | BM148: -1109364130
D149: D | E149: 734 | F149: Ústřední vytápění - armatury | J149: =BK149 -> 0 | P149: =SUM(P150:P160) -> 6.82591 | R149: =SUM(R150:R160) -> 0.02094 | T149: =SUM(T150:T160) -> 0 | AR149: 2 | AT149: D | AU149: 1 | AY149: ROZPOCET | BK149: =SUM(BK150:BK160) -> 0
C150: 19 | D150: K | E150: 734211113 | F150: Ventily odvzdušňovací závitové otopných těles PN 6 do 120°C G 3/8 | G150: kus | H150: 18 | J150: =ROUND(I150*H150,2) -> 0 | K150: CS ÚRS 2023 01 | N150: základní | O150: 0.062 | P150: =O150*H150 -> 1.116 | Q150: 6e-05 | R150: =Q150*H150 -> 0.00108 | S150: 0 | T150: =S150*H150 -> 0 | AR150: 16 | AT150: K | AU150: 2 | AY150: ROZPOCET | BE150: =IF(N150="základní",J150,0) -> 0 | BF150: =IF(N150="snížená",J150,0) -> 0 | BG150: =IF(N150="zákl. přenesená",J150,0) -> 0 | BH150: =IF(N150="sníž. přenesená",J150,0) -> 0 | BI150: =IF(N150="nulová",J150,0) -> 0 | BJ150: 1 | BK150: =ROUND(I150*H150,2) -> 0 | BL150: 16 | BM150: -43988026
C151: 20 | D151: K | E151: 734211120 | F151: Ventily odvzdušňovací závitové automatické PN 14 do 120°C G 1/2 | G151: kus | H151: 2 | J151: =ROUND(I151*H151,2) -> 0 | K151: CS ÚRS 2023 01 | N151: základní | O151: 0.103 | P151: =O151*H151 -> 0.206 | Q151: 0.00024 | R151: =Q151*H151 -> 0.00048 | S151: 0 | T151: =S151*H151 -> 0 | AR151: 16 | AT151: K | AU151: 2 | AY151: ROZPOCET | BE151: =IF(N151="základní",J151,0) -> 0 | BF151: =IF(N151="snížená",J151,0) -> 0 | BG151: =IF(N151="zákl. přenesená",J151,0) -> 0 | BH151: =IF(N151="sníž. přenesená",J151,0) -> 0 | BI151: =IF(N151="nulová",J151,0) -> 0 | BJ151: 1 | BK151: =ROUND(I151*H151,2) -> 0 | BL151: 16 | BM151: 1223001719
C152: 21 | D152: K | E152: 734221686 | F152: Ventily regulační závitové hlavice termostatické, pro ovládání ventilů PN 10 do 110°C voskové otopných těles VK | G152: kus | H152: 18 | J152: =ROUND(I152*H152,2) -> 0 | K152: CS ÚRS 2023 01 | N152: základní | O152: 0.035 | P152: =O152*H152 -> 0.63 | Q152: 0.00011 | R152: =Q152*H152 -> 0.00198 | S152: 0 | T152: =S152*H152 -> 0 | AR152: 16 | AT152: K | AU152: 2 | AY152: ROZPOCET | BE152: =IF(N152="základní",J152,0) -> 0 | BF152: =IF(N152="snížená",J152,0) -> 0 | BG152: =IF(N152="zákl. přenesená",J152,0) -> 0 | BH152: =IF(N152="sníž. přenesená",J152,0) -> 0 | BI152: =IF(N152="nulová",J152,0) -> 0 | BJ152: 1 | BK152: =ROUND(I152*H152,2) -> 0 | BL152: 16 | BM152: -111277505
C153: 22 | D153: K | E153: 734251212 | F153: Ventily pojistné závitové a čepové rohové provozní tlak od 2,5 do 6 bar G 3/4 | G153: kus | H153: 1 | J153: =ROUND(I153*H153,2) -> 0 | K153: CS ÚRS 2023 01 | N153: základní | O153: 0.206 | P153: =O153*H153 -> 0.206 | Q153: 0.00036 | R153: =Q153*H153 -> 0.00036 | S153: 0 | T153: =S153*H153 -> 0 | AR153: 16 | AT153: K | AU153: 2 | AY153: ROZPOCET | BE153: =IF(N153="základní",J153,0) -> 0 | BF153: =IF(N153="snížená",J153,0) -> 0 | BG153: =IF(N153="zákl. přenesená",J153,0) -> 0 | BH153: =IF(N153="sníž. přenesená",J153,0) -> 0 | BI153: =IF(N153="nulová",J153,0) -> 0 | BJ153: 1 | BK153: =ROUND(I153*H153,2) -> 0 | BL153: 16 | BM153: -958613738
C154: 23 | D154: K | E154: 734261402 | F154: Šroubení připojovací armatury radiátorů VK PN 10 do 110°C, regulační uzavíratelné rohové G 1/2 x 18 | G154: kus | H154: 18 | J154: =ROUND(I154*H154,2) -> 0 | K154: CS ÚRS 2023 01 | N154: základní | O154: 0.165 | P154: =O154*H154 -> 2.97 | Q154: 0.0007 | R154: =Q154*H154 -> 0.0126 | S154: 0 | T154: =S154*H154 -> 0 | AR154: 16 | AT154: K | AU154: 2 | AY154: ROZPOCET | BE154: =IF(N154="základní",J154,0) -> 0 | BF154: =IF(N154="snížená",J154,0) -> 0 | BG154: =IF(N154="zákl. přenesená",J154,0) -> 0 | BH154: =IF(N154="sníž. přenesená",J154,0) -> 0 | BI154: =IF(N154="nulová",J154,0) -> 0 | BJ154: 1 | BK154: =ROUND(I154*H154,2) -> 0 | BL154: 16 | BM154: -158229724
C155: 24 | D155: K | E155: 734291274 | F155: Ostatní armatury separátor nečistot s vnitřními závity a integrovaným magnetem G 1 | G155: kus | H155: 1 | J155: =ROUND(I155*H155,2) -> 0 | K155: CS ÚRS 2023 01 | N155: základní | O155: 0.227 | P155: =O155*H155 -> 0.227 | Q155: 0.00057 | R155: =Q155*H155 -> 0.00057 | S155: 0 | T155: =S155*H155 -> 0 | AR155: 16 | AT155: K | AU155: 2 | AY155: ROZPOCET | BE155: =IF(N155="základní",J155,0) -> 0 | BF155: =IF(N155="snížená",J155,0) -> 0 | BG155: =IF(N155="zákl. přenesená",J155,0) -> 0 | BH155: =IF(N155="sníž. přenesená",J155,0) -> 0 | BI155: =IF(N155="nulová",J155,0) -> 0 | BJ155: 1 | BK155: =ROUND(I155*H155,2) -> 0 | BL155: 16 | BM155: 214971066
C156: 25 | D156: K | E156: 734292715 | F156: Ostatní armatury kulové kohouty PN 42 do 185°C přímé vnitřní závit G 1 | G156: kus | H156: 2 | J156: =ROUND(I156*H156,2) -> 0 | K156: CS ÚRS 2023 01 | N156: základní | O156: 0.22 | P156: =O156*H156 -> 0.44 | Q156: 0.0005 | R156: =Q156*H156 -> 0.001 | S156: 0 | T156: =S156*H156 -> 0 | AR156: 16 | AT156: K | AU156: 2 | AY156: ROZPOCET | BE156: =IF(N156="základní",J156,0) -> 0 | BF156: =IF(N156="snížená",J156,0) -> 0 | BG156: =IF(N156="zákl. přenesená",J156,0) -> 0 | BH156: =IF(N156="sníž. přenesená",J156,0) -> 0 | BI156: =IF(N156="nulová",J156,0) -> 0 | BJ156: 1 | BK156: =ROUND(I156*H156,2) -> 0 | BL156: 16 | BM156: -1852179671
C157: 26 | D157: K | E157: 734292716 | F157: Ostatní armatury kulové kohouty PN 42 do 185°C přímé vnitřní závit G 1 1/4 | G157: kus | H157: 2 | J157: =ROUND(I157*H157,2) -> 0 | K157: CS ÚRS 2023 01 | N157: základní | O157: 0.26 | P157: =O157*H157 -> 0.52 | Q157: 0.0007 | R157: =Q157*H157 -> 0.0014 | S157: 0 | T157: =S157*H157 -> 0 | AR157: 16 | AT157: K | AU157: 2 | AY157: ROZPOCET | BE157: =IF(N157="základní",J157,0) -> 0 | BF157: =IF(N157="snížená",J157,0) -> 0 | BG157: =IF(N157="zákl. přenesená",J157,0) -> 0 | BH157: =IF(N157="sníž. přenesená",J157,0) -> 0 | BI157: =IF(N157="nulová",J157,0) -> 0 | BJ157: 1 | BK157: =ROUND(I157*H157,2) -> 0 | BL157: 16 | BM157: 2095127137
C158: 27 | D158: K | E158: 734421102 | F158: Tlakoměry s pevným stonkem a zpětnou klapkou spodní připojení (radiální) tlaku 0–16 bar průměru 63 mm | G158: kus | H158: 1 | J158: =ROUND(I158*H158,2) -> 0 | K158: CS ÚRS 2023 01 | N158: základní | O158: 0.433 | P158: =O158*H158 -> 0.433 | Q158: 0.00147 | R158: =Q158*H158 -> 0.00147 | S158: 0 | T158: =S158*H158 -> 0 | AR158: 16 | AT158: K | AU158: 2 | AY158: ROZPOCET | BE158: =IF(N158="základní",J158,0) -> 0 | BF158: =IF(N158="snížená",J158,0) -> 0 | BG158: =IF(N158="zákl. přenesená",J158,0) -> 0 | BH158: =IF(N158="sníž. přenesená",J158,0) -> 0 | BI158: =IF(N158="nulová",J158,0) -> 0 | BJ158: 1 | BK158: =ROUND(I158*H158,2) -> 0 | BL158: 16 | BM158: 1031953052
C159: 28 | D159: K | E159: 998734101 | F159: Přesun hmot pro armatury stanovený z hmotnosti přesunovaného materiálu vodorovná dopravní vzdálenost do 50 m v objektech výšky do 6 m | G159: t | H159: 0.021 | J159: =ROUND(I159*H159,2) -> 0 | K159: CS ÚRS 2023 01 | N159: základní | O159: 2.5 | P159: =O159*H159 -> 0.0525 | Q159: 0 | R159: =Q159*H159 -> 0 | S159: 0 | T159: =S159*H159 -> 0 | AR159: 16 | AT159: K | AU159: 2 | AY159: ROZPOCET | BE159: =IF(N159="základní",J159,0) -> 0 | BF159: =IF(N159="snížená",J159,0) -> 0 | BG159: =IF(N159="zákl. přenesená",J159,0) -> 0 | BH159: =IF(N159="sníž. přenesená",J159,0) -> 0 | BI159: =IF(N159="nulová",J159,0) -> 0 | BJ159: 1 | BK159: =ROUND(I159*H159,2) -> 0 | BL159: 16 | BM159: -1441311302
C160: 29 | D160: K | E160: 998734181 | F160: Přesun hmot pro armatury stanovený z hmotnosti přesunovaného materiálu Příplatek k cenám za přesun prováděný bez použití mechanizace pro jakoukoliv výšku objektu | G160: t | H160: 0.021 | J160: =ROUND(I160*H160,2) -> 0 | K160: CS ÚRS 2023 01 | N160: základní | O160: 1.21 | P160: =O160*H160 -> 0.02541 | Q160: 0 | R160: =Q160*H160 -> 0 | S160: 0 | T160: =S160*H160 -> 0 | AR160: 16 | AT160: K | AU160: 2 | AY160: ROZPOCET | BE160: =IF(N160="základní",J160,0) -> 0 | BF160: =IF(N160="snížená",J160,0) -> 0 | BG160: =IF(N160="zákl. přenesená",J160,0) -> 0 | BH160: =IF(N160="sníž. přenesená",J160,0) -> 0 | BI160: =IF(N160="nulová",J160,0) -> 0 | BJ160: 1 | BK160: =ROUND(I160*H160,2) -> 0 | BL160: 16 | BM160: -2001000196
D161: D | E161: 735 | F161: Ústřední vytápění - otopná tělesa | J161: =BK161 -> 0 | P161: =SUM(P162:P174) -> 7.9123 | R161: =SUM(R162:R174) -> 0.5981 | T161: =SUM(T162:T174) -> 0 | AR161: 2 | AT161: D | AU161: 1 | AY161: ROZPOCET | BK161: =SUM(BK162:BK174) -> 0
C162: 30 | D162: K | E162: 735152271 | F162: Otopná tělesa panelová VK jednodesková PN 1,0 MPa, T do 110°C s jednou přídavnou přestupní plochou výšky tělesa 600 mm stavební délky / výkonu 400 mm / 401 W | G162: kus | H162: 5 | J162: =ROUND(I162*H162,2) -> 0 | K162: CS ÚRS 2023 01 | N162: základní | O162: 0.226 | P162: =O162*H162 -> 1.13 | Q162: 0.01035 | R162: =Q162*H162 -> 0.05175 | S162: 0 | T162: =S162*H162 -> 0 | AR162: 16 | AT162: K | AU162: 2 | AY162: ROZPOCET | BE162: =IF(N162="základní",J162,0) -> 0 | BF162: =IF(N162="snížená",J162,0) -> 0 | BG162: =IF(N162="zákl. přenesená",J162,0) -> 0 | BH162: =IF(N162="sníž. přenesená",J162,0) -> 0 | BI162: =IF(N162="nulová",J162,0) -> 0 | BJ162: 1 | BK162: =ROUND(I162*H162,2) -> 0 | BL162: 16 | BM162: 87800141
C163: 31 | D163: K | E163: 735152272 | F163: Otopná tělesa panelová VKM jednodesková PN 1,0 MPa, T do 110°C s jednou přídavnou přestupní plochou výšky tělesa 600 mm stavební délky / výkonu 500 mm / 501 W | G163: kus | H163: 1 | J163: =ROUND(I163*H163,2) -> 0 | K163: CS ÚRS 2023 01 | N163: základní | O163: 0.233 | P163: =O163*H163 -> 0.233 | Q163: 0.01245 | R163: =Q163*H163 -> 0.01245 | S163: 0 | T163: =S163*H163 -> 0 | AR163: 16 | AT163: K | AU163: 2 | AY163: ROZPOCET | BE163: =IF(N163="základní",J163,0) -> 0 | BF163: =IF(N163="snížená",J163,0) -> 0 | BG163: =IF(N163="zákl. přenesená",J163,0) -> 0 | BH163: =IF(N163="sníž. přenesená",J163,0) -> 0 | BI163: =IF(N163="nulová",J163,0) -> 0 | BJ163: 1 | BK163: =ROUND(I163*H163,2) -> 0 | BL163: 16 | BM163: 1101141391
C164: 32 | D164: K | E164: 735152273 | F164: Otopná tělesa panelová VKM jednodesková PN 1,0 MPa, T do 110°C s jednou přídavnou přestupní plochou výšky tělesa 600 mm stavební délky / výkonu 600 mm / 601 W | G164: kus | H164: 1 | J164: =ROUND(I164*H164,2) -> 0 | K164: CS ÚRS 2023 01 | N164: základní | O164: 0.239 | P164: =O164*H164 -> 0.239 | Q164: 0.0145 | R164: =Q164*H164 -> 0.0145 | S164: 0 | T164: =S164*H164 -> 0 | AR164: 16 | AT164: K | AU164: 2 | AY164: ROZPOCET | BE164: =IF(N164="základní",J164,0) -> 0 | BF164: =IF(N164="snížená",J164,0) -> 0 | BG164: =IF(N164="zákl. přenesená",J164,0) -> 0 | BH164: =IF(N164="sníž. přenesená",J164,0) -> 0 | BI164: =IF(N164="nulová",J164,0) -> 0 | BJ164: 1 | BK164: =ROUND(I164*H164,2) -> 0 | BL164: 16 | BM164: 1718252367
C165: 33 | D165: K | E165: 735152278 | F165: Otopná tělesa panelová VKM jednodesková PN 1,0 MPa, T do 110°C s jednou přídavnou přestupní plochou výšky tělesa 600 mm stavební délky / výkonu 1100 mm / 1102 W | G165: kus | H165: 1 | J165: =ROUND(I165*H165,2) -> 0 | K165: CS ÚRS 2023 01 | N165: základní | O165: 0.269 | P165: =O165*H165 -> 0.269 | Q165: 0.0247 | R165: =Q165*H165 -> 0.0247 | S165: 0 | T165: =S165*H165 -> 0 | AR165: 16 | AT165: K | AU165: 2 | AY165: ROZPOCET | BE165: =IF(N165="základní",J165,0) -> 0 | BF165: =IF(N165="snížená",J165,0) -> 0 | BG165: =IF(N165="zákl. přenesená",J165,0) -> 0 | BH165: =IF(N165="sníž. přenesená",J165,0) -> 0 | BI165: =IF(N165="nulová",J165,0) -> 0 | BJ165: 1 | BK165: =ROUND(I165*H165,2) -> 0 | BL165: 16 | BM165: 1551929539
C166: 34 | D166: K | E166: 735152280 | F166: Otopná tělesa panelová VKM jednodesková PN 1,0 MPa, T do 110°C s jednou přídavnou přestupní plochou výšky tělesa 600 mm stavební délky / výkonu 1400 mm / 1403 W | G166: kus | H166: 1 | J166: =ROUND(I166*H166,2) -> 0 | K166: CS ÚRS 2023 01 | N166: základní | O166: 0.288 | P166: =O166*H166 -> 0.288 | Q166: 0.0309 | R166: =Q166*H166 -> 0.0309 | S166: 0 | T166: =S166*H166 -> 0 | AR166: 16 | AT166: K | AU166: 2 | AY166: ROZPOCET | BE166: =IF(N166="základní",J166,0) -> 0 | BF166: =IF(N166="snížená",J166,0) -> 0 | BG166: =IF(N166="zákl. přenesená",J166,0) -> 0 | BH166: =IF(N166="sníž. přenesená",J166,0) -> 0 | BI166: =IF(N166="nulová",J166,0) -> 0 | BJ166: 1 | BK166: =ROUND(I166*H166,2) -> 0 | BL166: 16 | BM166: 1725805395
...

Sheet 08 - Elektroinstalace
AT2: {45e013ef-7428-4c95-9c9e-c548daed7ed3}
AT3: 2
D4: KRYCÍ LIST SOUPISU PRACÍ | M4: v --- níže se nacházejí doplnkové a pomocné údaje k sestavám --- v | AT4: False
D6: Stavba:
E7: Stavební úpravy školní jídelny Želetava
D8: Objekt: Školní jídelna Želetava
E9: 006 - Elektroinstalace
D11: KSO:
D12: Místo: | J12: 45017
D14: Zadavatel: Městys Želetava
D17: Uchazeč:
D20: Projektant:
D23: Zpracovatel:
D26: Poznámka:
D30: Cena bez DPH | J30: =ROUND(J122, 2) -> 0
F32: Základ daně | J32: Výše daně
D33: DPH | E33: základní | F33: =ROUND((SUM(BE122:BE268)), 2) -> 0 | J33: =ROUND(((SUM(BE122:BE268))*I33), 2) -> 0
E34: snížená | F34: =ROUND((SUM(BF122:BF268)), 2) -> 0 | J34: =ROUND(((SUM(BF122:BF268))*I34), 2) -> 0
E35: zákl. přenesená | F35: =ROUND((SUM(BG122:BG268)), 2) -> 0 | J35: =0 -> 0
E36: sníž. přenesená | F36: =ROUND((SUM(BH122:BH268)), 2) -> 0 | J36: =0 -> 0
E37: nulová | F37: =ROUND((SUM(BI122:BI268)), 2) -> 0 | J37: =0 -> 0
D39: Cena s DPH | G39: v | H39: CZK | J39: =SUM(J30:J37) -> 0
D50: Projektant | G50: Zpracovatel
D61: Datum a podpis: | F61: Razítko | G61: Datum a podpis: | J61: Razítko
D65: Objednavatel | G65: Uchazeč
D76: Datum a podpis: | F76: Razítko | G76: Datum a podpis: | J76: Razítko
C82: REKAPITULACE ČLENĚNÍ SOUPISU PRACÍ
C84: Stavba:
E85: =E7 -> Stavební úpravy školní jídelny Želetava
C86: Objekt:
E87: =E9 -> 006 - Elektroinstalace
C89: Místo: | F89: =F12 | J89: =IF(J12="","",J12) -> 45017
C91: Zadavatel:
C92: Uchazeč:
C94: Kód dílu - Popis | J94: Cena celkem [CZK]
C96: Náklady ze soupisu prací | J96: =J122 -> 0 | AU96: -1
D97: D1 - Elektromontáže | J97: =J123 -> 0
D98: D2 - Stavební práce | J98: =J181 -> 0
D99: D3 - Materiály | J99: =J186 -> 0
D100: D4 - Dodávky zařízení (specifikace) | J100: =J254 -> 0
D101: D5 - HZS | J101: =J258 -> 0
D102: D6 - HZS | J102: =J263 -> 0
C109: SOUPIS PRACÍ
C111: Stavba:
E112: =E7 -> Stavební úpravy školní jídelny Želetava
C113: Objekt:
E114: =E9 -> 006 - Elektroinstalace
C116: Místo: | F116: =F12 | J116: =IF(J12="","",J12) -> 45017
C118: Zadavatel: | F118: =E15 -> 0 | J118: =E21 -> 0
C119: Uchazeč: | F119: =IF(E18="","",E18) | J119: =E24 -> 0
C121: PČ | D121: Typ | E121: Kód | F121: Popis | G121: MJ | H121: Množství | J121: Cena celkem [CZK] | K121: Cenová soustava | N121: DPH | O121: J. Nh [h] | P121: Nh celkem [h] | Q121: J. hmotnost [t] | R121: Hmotnost celkem [t] | S121: J. suť [t] | T121: Suť Celkem [t]
C122: Náklady soupisu celkem | J122: =BK122 -> 0 | P122: =P123+P181+P186+P254+P258+P263 -> 0 | R122: =R123+R181+R186+R254+R258+R263 -> 0 | T122: =T123+T181+T186+T254+T258+T263 -> 0 | AT122: D | AU122: -1 | BK122: =BK123+BK181+BK186+BK254+BK258+BK263 -> 0
D123: D | E123: D1 | F123: Elektromontáže | J123: =BK123 -> 0 | AR123: 1 | AT123: D | AU123: 0 | AY123: ROZPOCET | BK123: =SUM(BK124:BK180) -> 0
C124: 1 | D124: K | E124: 222 26-0532.R00 | F124: Trubka 23 volně/pod omítku | G124: m | H124: 200 | J124: =ROUND(I124*H124,2) -> 0 | AR124: 4 | AT124: K | AU124: 1 | AY124: ROZPOCET | BE124: =IF(N124="základní",J124,0) -> 0 | BF124: =IF(N124="snížená",J124,0) -> 0 | BG124: =IF(N124="zákl. přenesená",J124,0) -> 0 | BH124: =IF(N124="sníž. přenesená",J124,0) -> 0 | BI124: =IF(N124="nulová",J124,0) -> 0 | BJ124: 1 | BK124: =ROUND(I124*H124,2) -> 0 | BL124: 4 | BM124: 4
C125: =C124+1 -> 2 | D125: K | E125: 650 14-1119.R00 | F125: Ukončení vodiče v rozvaděči + zapojení do 35 mm2 | G125: ks | H125: 153 | J125: =ROUND(I125*H125,2) -> 0 | N125: základní | P125: =O125*H125 -> 0 | Q125: 0 | R125: =Q125*H125 -> 0 | S125: 0 | T125: =S125*H125 -> 0 | AR125: 4 | AT125: K | AU125: 1 | AY125: ROZPOCET | BE125: =IF(N125="základní",J125,0) -> 0 | BF125: =IF(N125="snížená",J125,0) -> 0 | BG125: =IF(N125="zákl. přenesená",J125,0) -> 0 | BH125: =IF(N125="sníž. přenesená",J125,0) -> 0 | BI125: =IF(N125="nulová",J125,0) -> 0 | BJ125: 1 | BK125: =ROUND(I125*H125,2) -> 0 | BL125: 4 | BM125: 8
C126: =C125+1 -> 3 | D126: K | E126: 650 14-2615.R00 | F126: Ukončení celoplast. kabelů zákl./pás.do 4x50 mm2 | G126: ks | H126: 1 | J126: =ROUND(I126*H126,2) -> 0 | N126: základní | P126: =O126*H126 -> 0 | Q126: 0 | R126: =Q126*H126 -> 0 | S126: 0 | T126: =S126*H126 -> 0 | AR126: 4 | AT126: K | AU126: 1 | AY126: ROZPOCET | BE126: =IF(N126="základní",J126,0) -> 0 | BF126: =IF(N126="snížená",J126,0) -> 0 | BG126: =IF(N126="zákl. přenesená",J126,0) -> 0 | BH126: =IF(N126="sníž. přenesená",J126,0) -> 0 | BI126: =IF(N126="nulová",J126,0) -> 0 | BJ126: 1 | BK126: =ROUND(I126*H126,2) -> 0 | BL126: 4 | BM126: 14
C127: =C126+1 -> 4 | D127: K | E127: 650 11-1851.R00 | F127: Přemístění betonového podstavce do výšky 6m, nošením a usazení podstavce | G127: ks | H127: 71 | J127: =ROUND(I127*H127,2) -> 0 | N127: základní | P127: =O127*H127 -> 0 | Q127: 0 | R127: =Q127*H127 -> 0 | S127: 0 | T127: =S127*H127 -> 0 | AR127: 4 | AT127: K | AU127: 1 | AY127: ROZPOCET | BE127: =IF(N127="základní",J127,0) -> 0 | BF127: =IF(N127="snížená",J127,0) -> 0 | BG127: =IF(N127="zákl. přenesená",J127,0) -> 0 | BH127: =IF(N127="sníž. přenesená",J127,0) -> 0 | BI127: =IF(N127="nulová",J127,0) -> 0 | BJ127: 1 | BK127: =ROUND(I127*H127,2) -> 0 | BL127: 4 | BM127: 28
C128: =C127+1 -> 5 | D128: K | E128: 650 11-1711.R00 | F128: Montáž podpěry/svorky - do 2 šroubů | G128: ks | H128: 154 | J128: =ROUND(I128*H128,2) -> 0 | N128: základní | P128: =O128*H128 -> 0 | Q128: 0 | R128: =Q128*H128 -> 0 | S128: 0 | T128: =S128*H128 -> 0 | AR128: 4 | AT128: K | AU128: 1 | AY128: ROZPOCET | BE128: =IF(N128="základní",J128,0) -> 0 | BF128: =IF(N128="snížená",J128,0) -> 0 | BG128: =IF(N128="zákl. přenesená",J128,0) -> 0 | BH128: =IF(N128="sníž. přenesená",J128,0) -> 0 | BI128: =IF(N128="nulová",J128,0) -> 0 | BJ128: 1 | BK128: =ROUND(I128*H128,2) -> 0 | BL128: 4 | BM128: 30
C129: =C128+1 -> 6 | D129: K | E129: 650 11-1713.R00 | F129: Montáž podpěry/svorky - nad 2 šrouby | G129: ks | H129: 39 | J129: =ROUND(I129*H129,2) -> 0 | N129: základní | P129: =O129*H129 -> 0 | Q129: 0 | R129: =Q129*H129 -> 0 | S129: 0 | T129: =S129*H129 -> 0 | AR129: 4 | AT129: K | AU129: 1 | AY129: ROZPOCET | BE129: =IF(N129="základní",J129,0) -> 0 | BF129: =IF(N129="snížená",J129,0) -> 0 | BG129: =IF(N129="zákl. přenesená",J129,0) -> 0 | BH129: =IF(N129="sníž. přenesená",J129,0) -> 0 | BI129: =IF(N129="nulová",J129,0) -> 0 | BJ129: 1 | BK129: =ROUND(I129*H129,2) -> 0 | BL129: 4 | BM129: 30
C130: =C129+1 -> 7 | D130: K | E130: 650 11-1963.R00 | F130: Montáž jímací tyče nad 3m, na stojan | G130: ks | H130: 4 | J130: =ROUND(I130*H130,2) -> 0 | N130: základní | P130: =O130*H130 -> 0 | Q130: 0 | R130: =Q130*H130 -> 0 | S130: 0 | T130: =S130*H130 -> 0 | AR130: 4 | AT130: K | AU130: 1 | AY130: ROZPOCET | BE130: =IF(N130="základní",J130,0) -> 0 | BF130: =IF(N130="snížená",J130,0) -> 0 | BG130: =IF(N130="zákl. přenesená",J130,0) -> 0 | BH130: =IF(N130="sníž. přenesená",J130,0) -> 0 | BI130: =IF(N130="nulová",J130,0) -> 0 | BJ130: 1 | BK130: =ROUND(I130*H130,2) -> 0 | BL130: 4 | BM130: 32
C131: =C130+1 -> 8 | D131: K | E131: 650 11-1913.R00 | F131: Montáž jímací tyče do 3m, na stojan | G131: ks | H131: 2 | J131: =ROUND(I131*H131,2) -> 0 | N131: základní | P131: =O131*H131 -> 0 | Q131: 0 | R131: =Q131*H131 -> 0 | S131: 0 | T131: =S131*H131 -> 0 | AR131: 4 | AT131: K | AU131: 1 | AY131: ROZPOCET | BE131: =IF(N131="základní",J131,0) -> 0 | BF131: =IF(N131="snížená",J131,0) -> 0 | BG131: =IF(N131="zákl. přenesená",J131,0) -> 0 | BH131: =IF(N131="sníž. přenesená",J131,0) -> 0 | BI131: =IF(N131="nulová",J131,0) -> 0 | BJ131: 1 | BK131: =ROUND(I131*H131,2) -> 0 | BL131: 4 | BM131: 32
C132: =C131+1 -> 9 | D132: K | E132: 650 11-2111.R00 | F132: Montáž tříramenného stojanu do betonových podstavců | G132: ks | H132: 4 | J132: =ROUND(I132*H132,2) -> 0 | N132: základní | P132: =O132*H132 -> 0 | Q132: 0 | R132: =Q132*H132 -> 0 | S132: 0 | T132: =S132*H132 -> 0 | AR132: 4 | AT132: K | AU132: 1 | AY132: ROZPOCET | BE132: =IF(N132="základní",J132,0) -> 0 | BF132: =IF(N132="snížená",J132,0) -> 0 | BG132: =IF(N132="zákl. přenesená",J132,0) -> 0 | BH132: =IF(N132="sníž. přenesená",J132,0) -> 0 | BI132: =IF(N132="nulová",J132,0) -> 0 | BJ132: 1 | BK132: =ROUND(I132*H132,2) -> 0 | BL132: 4 | BM132: 36
C133: =C132+1 -> 10 | D133: K | E133: D1-001 | F133: Montáž stříšky ochranné | G133: ks | H133: 6 | J133: =ROUND(I133*H133,2) -> 0 | N133: základní | P133: =O133*H133 -> 0 | Q133: 0 | R133: =Q133*H133 -> 0 | S133: 0 | T133: =S133*H133 -> 0 | AR133: 4 | AT133: K | AU133: 1 | AY133: ROZPOCET | BE133: =IF(N133="základní",J133,0) -> 0 | BF133: =IF(N133="snížená",J133,0) -> 0 | BG133: =IF(N133="zákl. přenesená",J133,0) -> 0 | BH133: =IF(N133="sníž. přenesená",J133,0) -> 0 | BI133: =IF(N133="nulová",J133,0) -> 0 | BJ133: 1 | BK133: =ROUND(I133*H133,2) -> 0 | BL133: 4 | BM133: 38
C134: =C133+1 -> 11 | D134: K | E134: 650 11-1116.R00 | F134: Uložení uzem. drátu na povrchu do 10 mm | G134: m | H134: 260 | J134: =ROUND(I134*H134,2) -> 0 | N134: základní | P134: =O134*H134 -> 0 | Q134: 0 | R134: =Q134*H134 -> 0 | S134: 0 | T134: =S134*H134 -> 0 | AR134: 4 | AT134: K | AU134: 1 | AY134: ROZPOCET | BE134: =IF(N134="základní",J134,0) -> 0 | BF134: =IF(N134="snížená",J134,0) -> 0 | BG134: =IF(N134="zákl. přenesená",J134,0) -> 0 | BH134: =IF(N134="sníž. přenesená",J134,0) -> 0 | BI134: =IF(N134="nulová",J134,0) -> 0 | BJ134: 1 | BK134: =ROUND(I134*H134,2) -> 0 | BL134: 4 | BM134: 40
C135: =C134+1 -> 12 | D135: K | E135: 650 11-1616.R00 | F135: Montáž svodového vodiče D nad 10 mm včetně podpěr | G135: m | H135: 21 | J135: =ROUND(I135*H135,2) -> 0 | N135: základní | P135: =O135*H135 -> 0 | Q135: 0 | R135: =Q135*H135 -> 0 | S135: 0 | T135: =S135*H135 -> 0 | AR135: 4 | AT135: K | AU135: 1 | AY135: ROZPOCET | BE135: =IF(N135="základní",J135,0) -> 0 | BF135: =IF(N135="snížená",J135,0) -> 0 | BG135: =IF(N135="zákl. přenesená",J135,0) -> 0 | BH135: =IF(N135="sníž. přenesená",J135,0) -> 0 | BI135: =IF(N135="nulová",J135,0) -> 0 | BJ135: 1 | BK135: =ROUND(I135*H135,2) -> 0 | BL135: 4 | BM135: 42
C136: =C135+1 -> 13 | D136: K | E136: 650 11-1761.R00 | F136: Montáž ochran. úhelníku / trubky s držáky do zdiva | G136: ks | H136: 4 | J136: =ROUND(I136*H136,2) -> 0 | N136: základní | P136: =O136*H136 -> 0 | Q136: 0 | R136: =Q136*H136 -> 0 | S136: 0 | T136: =S136*H136 -> 0 | AR136: 4 | AT136: K | AU136: 1 | AY136: ROZPOCET | BE136: =IF(N136="základní",J136,0) -> 0 | BF136: =IF(N136="snížená",J136,0) -> 0 | BG136: =IF(N136="zákl. přenesená",J136,0) -> 0 | BH136: =IF(N136="sníž. přenesená",J136,0) -> 0 | BI136: =IF(N136="nulová",J136,0) -> 0 | BJ136: 1 | BK136: =ROUND(I136*H136,2) -> 0 | BL136: 4 | BM136: 44
... C140: =C139+1 -> 17 | D140: K | E140: 650 12-4143.R00 | F140: Uložení kabelu Cu 3 x 2,5 mm2 | G140: m | H140: 450 | J140: =ROUND(I140*H140,2) -> 0 | N140: základní | P140: =O140*H140 -> 0 | Q140: 0 | R140: =Q140*H140 -> 0 | S140: 0 | T140: =S140*H140 -> 0 | AR140: 4 | AT140: K | AU140: 1 | AY140: ROZPOCET | BE140: =IF(N140="základní",J140,0) -> 0 | BF140: =IF(N140="snížená",J140,0) -> 0 | BG140: =IF(N140="zákl. přenesená",J140,0) -> 0 | BH140: =IF(N140="sníž. přenesená",J140,0) -> 0 | BI140: =IF(N140="nulová",J140,0) -> 0 | BJ140: 1 | BK140: =ROUND(I140*H140,2) -> 0 | BL140: 4 | BM140: 50
C141: =C140+1 -> 18 | D141: K | E141: 650 12-4263.R00 | F141: Uložení kabelu Cu 5 x 2,5 mm2 | G141: m | H141: 180 | J141: =ROUND(I141*H141,2) -> 0 | AR141: 4 | AT141: K | AU141: 1 | AY141: ROZPOCET | BE141: =IF(N141="základní",J141,0) -> 0 | BF141: =IF(N141="snížená",J141,0) -> 0 | BG141: =IF(N141="zákl. přenesená",J141,0) -> 0 | BH141: =IF(N141="sníž. přenesená",J141,0) -> 0 | BI141: =IF(N141="nulová",J141,0) -> 0 | BJ141: 1 | BK141: =ROUND(I141*H141,2) -> 0 | BL141: 4 | BM141: 50
C142: =C141+1 -> 19 | D142: K | E142: 650 12-4265.R00 | F142: Uložení kabelu Cu 5 x 4 mm2 | G142: m | H142: 60 | J142: =ROUND(I142*H142,2) -> 0 | N142: základní | P142: =O142*H142 -> 0 | Q142: 0 | R142: =Q142*H142 -> 0 | S142: 0 | T142: =S142*H142 -> 0 | AR142: 4 | AT142: K | AU142: 1 | AY142: ROZPOCET | BE142: =IF(N142="základní",J142,0) -> 0 | BF142: =IF(N142="snížená",J142,0) -> 0 | BG142: =IF(N142="zákl. přenesená",J142,0) -> 0 | BH142: =IF(N142="sníž. přenesená",J142,0) -> 0 | BI142: =IF(N142="nulová",J142,0) -> 0 | BJ142: 1 | BK142: =ROUND(I142*H142,2) -> 0 | BL142: 4 | BM142: 52
C143: =C142+1 -> 20 | D143: K | E143: 650 12-4267.R00 | F143: Uložení kabelu Cu 5 x 6 mm2 | G143: m | H143: 25 | J143: =ROUND(I143*H143,2) -> 0 | N143: základní | P143: =O143*H143 -> 0 | Q143: 0 | R143: =Q143*H143 -> 0 | S143: 0 | T143: =S143*H143 -> 0 | AR143: 4 | AT143: K | AU143: 1 | AY143: ROZPOCET | BE143: =IF(N143="základní",J143,0) -> 0 | BF143: =IF(N143="snížená",J143,0) -> 0 | BG143: =IF(N143="zákl. přenesená",J143,0) -> 0 | BH143: =IF(N143="sníž. přenesená",J143,0) -> 0 | BI143: =IF(N143="nulová",J143,0) -> 0 | BJ143: 1 | BK143: =ROUND(I143*H143,2) -> 0 | BL143: 4 | BM143: 54
C144: =C143+1 -> 21 | D144: K | E144: 650 12-4269.R00 | F144: Uložení kabelu Cu 5 x 10 mm2 | G144: m | H144: 25 | J144: =ROUND(I144*H144,2) -> 0 | N144: základní | P144: =O144*H144 -> 0 | Q144: 0 | R144: =Q144*H144 -> 0 | S144: 0 | T144: =S144*H144 -> 0 | AR144: 4 | AT144: K | AU144: 1 | AY144: ROZPOCET | BE144: =IF(N144="základní",J144,0) -> 0 | BF144: =IF(N144="snížená",J144,0) -> 0 | BG144: =IF(N144="zákl. přenesená",J144,0) -> 0 | BH144: =IF(N144="sníž. přenesená",J144,0) -> 0 | BI144: =IF(N144="nulová",J144,0) -> 0 | BJ144: 1 | BK144: =ROUND(I144*H144,2) -> 0 | BL144: 4 | BM144: 56
C145: =C144+1 -> 22 | D145: K | E145: 650 12-4227.R00 | F145: Uložení kabelu Cu 4 x 50 mm2 | G145: m | H145: 25 | J145: =ROUND(I145*H145,2) -> 0 | N145: základní | P145: =O145*H145 -> 0 | Q145: 0 | R145: =Q145*H145 -> 0 | S145: 0 | T145: =S145*H145 -> 0 | AR145: 4 | AT145: K | AU145: 1 | AY145: ROZPOCET | BE145: =IF(N145="základní",J145,0) -> 0 | BF145: =IF(N145="snížená",J145,0) -> 0 | BG145: =IF(N145="zákl. přenesená",J145,0) -> 0 | BH145: =IF(N145="sníž. přenesená",J145,0) -> 0 | BI145: =IF(N145="nulová",J145,0) -> 0 | BJ145: 1 | BK145: =ROUND(I145*H145,2) -> 0 | BL145: 4 | BM145: 58
C146: =C145+1 -> 23 | D146: K | E146: 210 80-0626.R00 | F146: Vodič H07V-K (CYA) 6mm2 uložený volně | G146: m | H146: 200 | J146: =ROUND(I146*H146,2) -> 0 | N146: základní | P146: =O146*H146 -> 0 | Q146: 0 | R146: =Q146*H146 -> 0 | S146: 0 | T146: =S146*H146 -> 0 | AR146: 4 | AT146: K | AU146: 1 | AY146: ROZPOCET | BE146: =IF(N146="základní",J146,0) -> 0 | BF146: =IF(N146="snížená",J146,0) -> 0 | BG146: =IF(N146="zákl. přenesená",J146,0) -> 0 | BH146: =IF(N146="sníž. přenesená",J146,0) -> 0 | BI146: =IF(N146="nulová",J146,0) -> 0 | BJ146: 1 | BK146: =ROUND(I146*H146,2) -> 0 | BL146: 4 | BM146: 56
C147: =C146+1 -> 24 | D147: K | E147: 210 80-0628.R00 | F147: Vodič H07V-K (CYA) 16mm2 uložený volně | G147: m | H147: 40 | J147: =ROUND(I147*H147,2) -> 0 | N147: základní | P147: =O147*H147 -> 0 | Q147: 0 | R147: =Q147*H147 -> 0 | S147: 0 | T147: =S147*H147 -> 0 | AR147: 4 | AT147: K | AU147: 1 | AY147: ROZPOCET | BE147: =IF(N147="základní",J147,0) -> 0 | BF147: =IF(N147="snížená",J147,0) -> 0 | BG147: =IF(N147="zákl. přenesená",J147,0) -> 0 | BH147: =IF(N147="sníž. přenesená",J147,0) -> 0 | BI147: =IF(N147="nulová",J147,0) -> 0 | BJ147: 1 | BK147: =ROUND(I147*H147,2) -> 0 | BL147: 4 | BM147: 56
C148: =C147+1 -> 25 | D148: K | E148: 210 80-0629.R00 | F148: Vodič H07V-K (CYA) 25mm2 uložený volně | G148: m | H148: 20 | J148: =ROUND(I148*H148,2) -> 0 | N148: základní | P148: =O148*H148 -> 0 | Q148: 0 | R148: =Q148*H148 -> 0 | S148: 0 | T148: =S148*H148 -> 0 | AR148: 4 | AT148: K | AU148: 1 | AY148: ROZPOCET | BE148: =IF(N148="základní",J148,0) -> 0 | BF148: =IF(N148="snížená",J148,0) -> 0 | BG148: =IF(N148="zákl. přenesená",J148,0) -> 0 | BH148: =IF(N148="sníž. přenesená",J148,0) -> 0 | BI148: =IF(N148="nulová",J148,0) -> 0 | BJ148: 1 | BK148: =ROUND(I148*H148,2) -> 0 | BL148: 4 | BM148: 56
C149: =C148+1 -> 26 | D149: K | E149: 222 28-0214.R00 | F149: Kabel UTP/FTP jat 5e uložení | G149: m | H149: 200 | J149: =ROUND(I149*H149,2) -> 0 | N149: základní | P149: =O149*H149 -> 0 | Q149: 0 | R149: =Q149*H149 -> 0 | S149: 0 | T149: =S149*H149 -> 0 | AR149: 4 | AT149: K | AU149: 1 | AY149: ROZPOCET | BE149: =IF(N149="základní",J149,0) -> 0 | BF149: =IF(N149="snížená",J149,0) -> 0 | BG149: =IF(N149="zákl. přenesená",J149,0) -> 0 | BH149: =IF(N149="sníž. přenesená",J149,0) -> 0 | BI149: =IF(N149="nulová",J149,0) -> 0 | BJ149: 1 | BK149: =ROUND(I149*H149,2) -> 0 | BL149: 4 | BM149: 60
C150: =C149+1 -> 27 | D150: K | E150: 650 05-1111.R00 | F150: Montáž spínače nástěnného, řaz. 1 | G150: ks | H150: 7 | J150: =ROUND(I150*H150,2) -> 0 | AR150: 4 | AT150: K | AU150: 1 | AY150: ROZPOCET | BE150: =IF(N150="základní",J150,0) -> 0 | BF150: =IF(N150="snížená",J150,0) -> 0 | BG150: =IF(N150="zákl. přenesená",J150,0) -> 0 | BH150: =IF(N150="sníž. přenesená",J150,0) -> 0 | BI150: =IF(N150="nulová",J150,0) -> 0 | BJ150: 1 | BK150: =ROUND(I150*H150,2) -> 0 | BL150: 4 | BM150: 56
C151: =C150+1 -> 28 | D151: K | E151: 650 05-1311.R00 | F151: Montáž spínače zapuštěného, řaz. 1 | G151: ks | H151: 13 | J151: =ROUND(I151*H151,2) -> 0 | AR151: 4 | AT151: K | AU151: 1 | AY151: ROZPOCET | BE151: =IF(N151="základní",J151,0) -> 0 | BF151: =IF(N151="snížená",J151,0) -> 0 | BG151: =IF(N151="zákl. přenesená",J151,0) -> 0 | BH151: =IF(N151="sníž. přenesená",J151,0) -> 0 | BI151: =IF(N151="nulová",J151,0) -> 0 | BJ151: 1 | BK151: =ROUND(I151*H151,2) -> 0 | BL151: 4 | BM151: 56
C152: =C151+1 -> 29 | D152: K | E152: 650 05-1331.R00 | F152: Montáž spínače zapuštěného, řaz. 5 | G152: ks | H152: 1 | J152: =ROUND(I152*H152,2) -> 0 | AR152: 4 | AT152: K | AU152: 1 | AY152: ROZPOCET | BE152: =IF(N152="základní",J152,0) -> 0 | BF152: =IF(N152="snížená",J152,0) -> 0 | BG152: =IF(N152="zákl. přenesená",J152,0) -> 0 | BH152: =IF(N152="sníž. přenesená",J152,0) -> 0 | BI152: =IF(N152="nulová",J152,0) -> 0 | BJ152: 1 | BK152: =ROUND(I152*H152,2) -> 0 | BL152: 4 | BM152: 60
C153: =C152+1 -> 30 | D153: K | E153: 650 05-1341.R00 | F153: Montáž spínače zapuštěného, řaz. 6 | G153: ks | H153: 8 | J153: =ROUND(I153*H153,2) -> 0 | AR153: 4 | AT153: K | AU153: 1 | AY153: ROZPOCET | BE153: =IF(N153="základní",J153,0) -> 0 | BF153: =IF(N153="snížená",J153,0) -> 0 | BG153: =IF(N153="zákl. přenesená",J153,0) -> 0 | BH153: =IF(N153="sníž. přenesená",J153,0) -> 0 | BI153: =IF(N153="nulová",J153,0) -> 0 | BJ153: 1 | BK153: =ROUND(I153*H153,2) -> 0 | BL153: 4 | BM153: 4
C154: =C153+1 -> 31 | D154: K | E154: 650 05-1361.R00 | F154: Montáž spínače zapuštěného, řaz. 7 | G154: ks | H154: 5 | J154: =ROUND(I154*H154,2) -> 0 | N154: základní | P154: =O154*H154 -> 0 | Q154: 0 | R154: =Q154*H154 -> 0 | S154: 0 | T154: =S154*H154 -> 0 | AR154: 4 | AT154: K | AU154: 1 | AY154: ROZPOCET | BE154: =IF(N154="základní",J154,0) -> 0 | BF154: =IF(N154="snížená",J154,0) -> 0 | BG154: =IF(N154="zákl. přenesená",J154,0) -> 0 | BH154: =IF(N154="sníž. přenesená",J154,0) -> 0 | BI154: =IF(N154="nulová",J154,0) -> 0 | BJ154: 1 | BK154: =ROUND(I154*H154,2) -> 0 | BL154: 4 | BM154: 6
C155: =C154+1 -> 32 | D155: K | E155: 650 07-2611.R00 | F155: Montáž čidla pohybu | G155: ks | H155: 6 | J155: =ROUND(I155*H155,2) -> 0 | N155: základní | P155: =O155*H155 -> 0 | Q155: 0 | R155: =Q155*H155 -> 0 | S155: 0 | T155: =S155*H155 -> 0 | AR155: 4 | AT155: K | AU155: 1 | AY155: ROZPOCET | BE155: =IF(N155="základní",J155,0) -> 0 | BF155: =IF(N155="snížená",J155,0) -> 0 | BG155: =IF(N155="zákl. přenesená",J155,0) -> 0 | BH155: =IF(N155="sníž. přenesená",J155,0) -> 0 | BI155: =IF(N155="nulová",J155,0) -> 0 | BJ155: 1 | BK155: =ROUND(I155*H155,2) -> 0 | BL155: 4 | BM155: 8
C156: =C155+1 -> 33 | D156: K | E156: 650 05-2652.R00 | F156: Montáž zásuvky nástěnné 3P+N+PE | G156: ks | H156: 2 | J156: =ROUND(I156*H156,2) -> 0 | AR156: 4 | AT156: K | AU156: 1 | AY156: ROZPOCET | BE156: =IF(N156="základní",J156,0) -> 0 | BF156: =IF(N156="snížená",J156,0) -> 0 | BG156: =IF(N156="zákl. přenesená",J156,0) -> 0 | BH156: =IF(N156="sníž. přenesená",J156,0) -> 0 | BI156: =IF(N156="nulová",J156,0) -> 0 | BJ156: 1 | BK156: =ROUND(I156*H156,2) -> 0 | BL156: 4 | BM156: 56
C157: =C156+1 -> 34 | D157: K | E157: 650 05-2711.R00 | F157: Montáž zásuvky zapuštěné 2P+PE | G157: ks | H157: 54 | J157: =ROUND(I157*H157,2) -> 0 | AR157: 4 | AT157: K | AU157: 1 | AY157: ROZPOCET | BE157: =IF(N157="základní",J157,0) -> 0 | BF157: =IF(N157="snížená",J157,0) -> 0 | BG157: =IF(N157="zákl. přenesená",J157,0) -> 0 | BH157: =IF(N157="sníž. přenesená",J157,0) -> 0 | BI157: =IF(N157="nulová",J157,0) -> 0 | BJ157: 1 | BK157: =ROUND(I157*H157,2) -> 0 | BL157: 4 | BM157: 56
C158: =C157+1 -> 35 | D158: K | E158: D1-101 | F158: Montáž datové zásuvky 1xRJ45 | G158: ks | H158: 3 | J158: =ROUND(I158*H158,2) -> 0 | AR158: 4 | AT158: K | AU158: 1 | AY158: ROZPOCET | BE158: =IF(N158="základní",J158,0) -> 0 | BF158: =IF(N158="snížená",J158,0) -> 0 | BG158: =IF(N158="zákl. přenesená",J158,0) -> 0 | BH158: =IF(N158="sníž. přenesená",J158,0) -> 0 | BI158: =IF(N158="nulová",J158,0) -> 0 | BJ158: 1 | BK158: =ROUND(I158*H158,2) -> 0 | BL158: 4 | BM158: 60
C159: =C158+1 -> 36 | D159: K | E159: D1-102 | F159: Montáž datové zásuvky 2xRJ45 | G159: ks | H159: 2 | J159: =ROUND(I159*H159,2) -> 0 | N159: základní | P159: =O159*H159 -> 0 | Q159: 0 | R159: =Q159*H159 -> 0 | S159: 0 | T159: =S159*H159 -> 0 | AR159: 4 | AT159: K | AU159: 1 | AY159: ROZPOCET | BE159: =IF(N159="základní",J159,0) -> 0 | BF159: =IF(N159="snížená",J159,0) -> 0 | BG159: =IF(N159="zákl. přenesená",J159,0) -> 0 | BH159: =IF(N159="sníž. přenesená",J159,0) -> 0 | BI159: =IF(N159="nulová",J159,0) -> 0 | BJ159: 1 | BK159: =ROUND(I159*H159,2) -> 0 | BL159: 4 | BM159: 12
C160: =C159+1 -> 37 | D160: K | E160: D1-103 | F160: Montáž telefonní zásuvky | G160: ks | H160: 1 | J160: =ROUND(I160*H160,2) -> 0 | N160: základní | P160: =O160*H160 -> 0 | Q160: 0 | R160: =Q160*H160 -> 0 | S160: 0 | T160: =S160*H160 -> 0 | AR160: 4 | AT160: K | AU160: 1 | AY160: ROZPOCET | BE160: =IF(N160="základní",J160,0) -> 0 | BF160: =IF(N160="snížená",J160,0) -> 0 | BG160: =IF(N160="zákl. přenesená",J160,0) -> 0 | BH160: =IF(N160="sníž. přenesená",J160,0) -> 0 | BI160: =IF(N160="nulová",J160,0) -> 0 | BJ160: 1 | BK160: =ROUND(I160*H160,2) -> 0 | BL160: 4 | BM160: 14
C161: =C160+1 -> 38 | D161: K | E161: 650 05-2652.R00 | F161: Montáž zásuvky nástěnné 3P+N+PE | G161: ks | H161: 9 | J161: =ROUND(I161*H161,2) -> 0 | BK161: =ROUND(I161*H161,2) -> 0
C162: =C161+1 -> 39 | D162: K | E162: 650 05-2611.R00 | F162: Montáž zásuvky nástěnné 2P+PE | G162: ks | H162: 3 | J162: =ROUND(I162*H162,2) -> 0 | N162: základní | P162: =O162*H162 -> 0 | Q162: 0 | R162: =Q162*H162 -> 0 | S162: 0 | T162: =S162*H162 -> 0 | AR162: 4 | AT162: K | AU162: 1 | AY162: ROZPOCET | BE162: =IF(N162="základní",J162,0) -> 0 | BF162: =IF(N162="snížená",J162,0) -> 0 | BG162: =IF(N162="zákl. přenesená",J162,0) -> 0 | BH162: =IF(N162="sníž. přenesená",J162,0) -> 0 | BI162: =IF(N162="nulová",J162,0) -> 0 | BJ162: 1 | BK162: =ROUND(I162*H162,2) -> 0 | BL162: 4 | BM162: 16
C163: =C162+1 -> 40 | D163: K | E163: D1-104 | F163: Instalace kabelu topného včetně připojení | G163: ks | H163: 2 | J163: =ROUND(I163*H163,2) -> 0 | BK163: =ROUND(I163*H163,2) -> 0
C164: =C163+1 -> 41 | D164: K | E164: D1-105 | F164: Instalace topného registru do VZT komory včetně dopojení | G164: soub | H164: 1 | J164: =ROUND(I164*H164,2) -> 0 | BK164: =ROUND(I164*H164,2) -> 0
C165: =C164+1 -> 42 | D165: K | E165: 974 05-4208.R00 | F165: Vyvrtání kapsy pro krabici do pr.80 mm, cihla plná | G165: ks | H165: 110 | J165: =ROUND(I165*H165,2) -> 0 | BK165: =ROUND(I165*H165,2) -> 0
C166: =C165+1 -> 43 | D166: K | E166: 974 05-4215.R00 | F166: Vyvrtání kapsy pro krabici do pr.150 mm,cihla plná | G166: ks | H166: 20 | J166: =ROUND(I166*H166,2) -> 0 | BK166: =ROUND(I166*H166,2) -> 0
C167: =C166+1 -> 44 | D167: K | E167: 650 01-2111.R00 | F167: Uložení krabice kruhové pod omítku bez zapojení | G167: ks | H167: 130 | J167: =ROUND(I167*H167,2) -> 0 | BK167: =ROUND(I167*H167,2) -> 0
C168: =C167+1 -> 45 | D168: K | E168: D1-106 | F168: Instalace záložního zdroje s akumulátorem | G168: soub | H168: 1 | J168: =ROUND(I168*H168,2) -> 0 | BK168: =ROUND(I168*H168,2) -> 0
C169: =C168+1 -> 46 | D169: K | E169: 650 07-1623.R00 | F169: Montáž relé časového | G169: ks | H169: 3 | J169: =ROUND(I169*H169,2) -> 0 | N169: základní | P169: =O169*H169 -> 0 | Q169: 0 | R169: =Q169*H169 -> 0 | S169: 0 | T169: =S169*H169 -> 0 | AR169: 4 | AT169: K | AU169: 1 | AY169: ROZPOCET | BE169: =IF(N169="základní",J169,0) -> 0 | BF169: =IF(N169="snížená",J169,0) -> 0 | BG169: =IF(N169="zákl. přenesená",J169,0) -> 0 | BH169: =IF(N169="sníž. přenesená",J169,0) -> 0 | BI169: =IF(N169="nulová",J169,0) -> 0 | BJ169: 1 | BK169: =ROUND(I169*H169,2) -> 0 | BL169: 4 | BM169: 18
C170: =C169+1 -> 47 | D170: K | E170: D1-107 | F170: Demontáž pojistkové skříně | G170: soub | H170: 1 | J170: =ROUND(I170*H170,2) -> 0 | BK170: =ROUND(I170*H170,2) -> 0
C171: =C170+1 -> 48 | D171: K | E171: D1-111 | F171: Osazení rozvodnice do výklenku, pl. do 1,5 m2 | G171: ks | H171: 1 | J171: =ROUND(I171*H171,2) -> 0 | BK171: =ROUND(I171*H171,2) -> 0
C172: =C171+1 -> 49 | D172: K | E172: D1-108 | F172: Osazení elektroměrového rozváděče a dopojení přívodů | G172: soub | H172: 1 | J172: =ROUND(I172*H172,2) -> 0 | BK172: =ROUND(I172*H172,2) -> 0
C173: =C172+1 -> 50 | D173: K | E173: 650 03-1631.R00 | F173: Montáž rozváděče do váhy 300 kg | G173: ks | H173: 1 | J173: =ROUND(I173*H173,2) -> 0 | BK173: =ROUND(I173*H173,2) -> 0
...

Sheet 09 - Vzduchotechnika
A3: POLOŽKOVÝ ROZPOČET
A5: Část : | D5: VZDUCHOTECHNIKA
A7: Stavba : | D7: Stavební úpravy školní jídelny Želetava
A9: Místo: | D9: Pražská 172, 675 26 Želetava
A10: Stavebník: | D10: Městys Želetava, nám. Míru 1, 675 26 Želetava
A12: Počet stran: | D12: 5
A15: Přep. | B15: Čís. | C15: Číslo | D15: Zkrácený popis | G15: Měr. | H15: Množ. | J15: Cena v Kč bez DPH
A16: na CÚ | B16: pol. | C16: položky | G16: jed. | I16: jednotková | J16: celkem
A17: 2022 | C17: ceníku | J17: dodávka | K17: montáž
C20: VC 7/78 | D20: VZDUCHOTECHNIKA
C21: VC 7/158 M
D23: CENÍKY ŘADY M
B25: 1.) | C25: VC 7/78 | D25: VZDUCHOTECHNIKA - DODÁVKA
B26: 2.) | C26: VC 7/158 M | D26: VZDUCHOTECHNIKA - MONTÁŽ
D28: VZDUCHOTECHNIKA CELKEM
D30: HZS
B32: 3.) | C32: Pravidla | D32: HODINOVÉ ZŮČTOVACÍ SAZBY
A39: Poznámka: | D39: „Obsahuje-li zadávací dokumentace odkazy na obchodní firmy, názvy nebo jména a příjmení, specifická označení zboží a služeb, které platí pro určitou osobu, popřípadě její organizační složku za příznačné, patenty na vynálezy, užitné vzory, průmyslové vzory, ochranné známky nebo označení původu, umožňuje zadavatel v takovém případě pro plnění veřejné zakázky použití i jiných, kvalitativně a technicky obdobných řešení.“
A42: Žďár nad Sázavou, 12/2022
A43: Vypracoval: Ing. Jiří Danihelka
A48: Přep. | B48: Čís. | C48: Číslo | D48: Zkrácený popis | G48: Měr. | H48: Množ. | J48: Cena v Kč bez DPH
A49: na CÚ | B49: pol. | C49: položky | G49: jed. | I49: jednotková | J49: celkem
A50: 2022 | C50: ceníku | J50: dodávka | K50: montáž
B51: 1.), 2.) | C51: VC 7/78 | D51: VZDUCHOTECHNIKA
C52: VC 7/158 M
D53: Zař. č. 1 - KUCHYŇ
B54: 1.1 | D54: Venkovní větrací, vytápěcí vzt jednotka s rekuperací tepla, filtrací, přímým chlazením
D55: s dvouokruhovým chladičem vzduchu (např. DUPLEX 7500 Multi Eco-N), včetně příslušenství a MaR (podrobněji viz. níže) | G55: kpl | H55: 1 | N55: 0.05
D56: dtto montáž | G56: kpl | H56: 1
D57: Jednotka splňuje ErP (Ecodesign) - nařízení EU 1253/2014, platné od 1.1.2016.
D58: Údaje elektro: (400V/50Hz, max.proud 2x5,4A, max.příkon 2x3,3kW, jištění 3x16A(char.C), nap.kabel CYKY 5Jx2,5, odvod kondenzátu 3x DN 32 mm, hmotnost 1263 kg)
D59: Vzduchotechnická část:
D60: Skříň jednotky sendvičové k-ce, složená z lakovaného plechu a 45 mm minerální izolace s koeficientem tepelné vodivosti (λ = 0,037 W/mK). Tep. izolace pláště (třída T2), potlačení tep. mostů (třída TB2).
D61: Přívodní ventilátor EC - 400V, 5,4A, 3,3 kW (6800 m3/h / ex.st.tlak 240 Pa, 8000 m3/h / 0 Pa)
D62: Odvodní ventilátor EC - 400V, 5,4A, 3,3 kW (6800 m3/h / ex.st.tlak 350 Pa, 8200 m3/h / 0 Pa)
D63: Rekuperační výměník S7.C s účinností 92,3%
D64: provedení parapetní 10
D65: konfigurace hrdel 0
D66: Fe.K5_filtr přívod kazetový třída M5
D67: Fi.K5_filtr odtah kazetový třída M5
D68: B.x_by-pass
... D97: ADS čidlo teploty - 4 ks
B99: 1.2 | D99: Venkovní inverterová jednotka (např. AOYG60LATT) | G99: ks | H99: 2 | N99: 0.05
D100: dtto montáž | G100: ks | H100: 2
D101: Tech. parametry: hmotnost 104 kg, pro R410 A, 400V, příkon 5,15kW, proud jmen./max. 6,9/12,5A, dop.jištění 16A, nap.kabel 5x2,5, chladící výkon 15 kW, topný výkon 18,8kW, připojovací Cu potrubí f9,52/15,88 mm
D102: Příslušenství: Komunik. modul pro venkovní jednotku - Ovládání inverteru typ UTI-INV-U | G102: ks | H102: 2 | N102: 0.1
D103: dtto montáž | G103: ks | H103: 2
B104: 1.3 | D104: Volná pozice
B105: 1.4 | D105: Kuchyňská nerezová digestoř (např. GRANDE-1R) 3200x1200 mm s LED osvětlením 2x44W, | G105: ks | H105: 1 | N105: 0.1
D106: včetně 6 ks cyklonového odlučovače 400x400 mm
D107: dtto montáž | G107: ks | H107: 1
B108: 1.5 | D108: Kuchyňská nerezová digestoř (např. GRANDE-1R) 1500x1550 mm s LED osvětlením 1x44W, | G108: ks | H108: 1 | N108: 0.1
D109: včetně 1 ks cyklonového odlučovače 400x400 mm
D110: dtto montáž | G110: ks | H110: 1
B111: 1.6 | D111: Odvodní talířový ventil plastový ELF 160 | G111: ks | H111: 5 | N111: 0.1
D112: dtto montáž | G112: ks | H112: 5
B113: 1.7 | D113: Půlkruhová textilní vyústka PD.PT V - H710/7200 SB/PMS-8AL/LG + DSH500x350-710/350 F/WOUT | G113: ks | H113: 1 | N113: 0.1
D114: dtto montáž | G114: ks | H114: 1
D115: Tvar Půlkruhový, Rozměr 710 mm, Celková délka 7200 mm, První konec Začátek, Druhý konec Zaslepení, 1ks Zip 710, Průtok 3600 m3/h, Použitelný přetlak 100 Pa, Tlaková ztráta třením = 13,3 Pa, Přechod na Čtyřhranný 500x350/350, Začátek, Tkanina PMS - 100 % polyester, nekonečné vlákno (multifilament), hmotnost 214 g/m2, tloušťka 0,30 mm, prodyšnost 15 ±5 m3/h/m2 při 120 Pa, pevnost (osnova/útek) 1830/1020 N (ČSN EN ISO 13934-1), požární odolnost - třída B-s1, d0 dle ČSN EN 13501-1+A1:2010, teplotní odolnost -60 až +110°C, srážlivost (osnova/útek) 0,5/0,5 % při 40°C dle ČSN EN ISO 6330-2000, vhodná pro čisté prostory - třída č. 4 (ČSN EN ISO 14644-1), pratelná v pračce, Barva Světle šedá, Seznam montážního materiálu: 6ks 2000mm Hliníkový profil, 2ks 700mm Hliníkový profil, 6ks Hliníková spojka profilů přímá, 4ks Napínač v profilu, 1ks Čtyřhranný 500x350 mm Nerez příruba, Mikroperforace S1 6700mm, 3505m3/h, Rovnoměrná | N115: 0.1
B116: 1.8 | D116: Půlkruhová textilní vyústka PD.PT V - H600/7000 SB/PMS-8AL/LG + DSH500x250-600/350 F/WOUT | G116: ks | H116: 1 | N116: 0.1
D117: dtto montáž | G117: ks | H117: 1
D118: Tvar Půlkruhový, Rozměr 600 mm, Celková délka 7000 mm, První konec Začátek, Druhý konec Zaslepení, 1ks Zip 600, Průtok 2500 m3/h, Použitelný přetlak 100 Pa, Tlaková ztráta třením = 8,7 Pa, Přechod na Čtyřhranný 500x250/350, Začátek, Tkanina PMS - 100 % polyester, nekonečné vlákno (multifilament), hmotnost 214 g/m2, tloušťka 0,30 mm, prodyšnost 15 ±5 m3/h/m2 při 120 Pa, pevnost (osnova/útek) 1830/1020 N (ČSN EN ISO 13934-1), požární odolnost - třída B-s1, d0 dle ČSN EN 13501-1+A1:2010, teplotní odolnost -60 až +110°C, srážlivost (osnova/útek) 0,5/0,5 % při 40°C dle ČSN EN ISO 6330-2000, vhodná pro čisté prostory - třída č. 4 (ČSN EN ISO 14644-1), pratelná v pračce, Barva Světle šedá, Seznam montážního materiálu: 6ks 2000mm Hliníkový profil, 2ks 500mm Hliníkový profil, 6ks Hliníková spojka profilů přímá, 4ks Napínač v profilu, 1ks Čtyřhranný 500x250 mm Nerez příruba, Mikroperforace S1 6500mm, 2219m3/h, Rovnoměrná | N118: 0.1
B119: 1.9 | D119: Buňkový tlumič hluku GH 200x500x1000.1, v hyg. prov. (útlum od 125Hz-9,15,26,28,24,18,10 dB) | G119: ks | H119: 5 | N119: 0.1
D120: dtto montáž | G120: ks | H120: 5
B121: 1.10 | D121: Buňkový tlumič hluku GH 200x500x2000.1, v hyg. prov.(útlum od 125Hz-15,28,36,40,37,28,20 dB) | G121: ks | H121: 5 | N121: 0.1
D122: dtto montáž | G122: ks | H122: 5
B123: 1.11 | D123: Buňkový tlumič hluku GH 200x400x1500.1, v hyg. prov.(útlum od 125Hz-12,21,30,33,30,20,12 dB),ATYP výška | G123: ks | H123: 8 | N123: 0.1
D124: dtto montáž | G124: ks | H124: 8
B125: 1.12 | D125: Regulační klapka ruční RK-500x350-R (délka 106 mm) | G125: ks | H125: 1 | N125: 0.1
D126: dtto montáž | G126: ks | H126: 1
B127: 1.13 | D127: Regulační klapka ruční RK-250x200-R (délka 106 mm) | G127: ks | H127: 1 | N127: 0.1
D128: dtto montáž | G128: ks | H128: 1
B129: 1.14 | D129: Regulační klapka ruční těsná RKT-300x250-R (délka 106 mm) | G129: ks | H129: 1 | N129: 0.1
D130: dtto montáž | G130: ks | H130: 1
B131: 1.15 | D131: Regulační klapka kruhová ruční průměr 180 | G131: ks | H131: 1 | N131: 0.1
D132: dtto montáž | G132: ks | H132: 1
B133: 1.16 | D133: Čtyřhranné potrubí z tepelně izolačních panelů z tvrzené polyuretanové pěny, z obou stran potažený hliníkovou folii. Na vnější straně s reliéfním vzorem (gofrovaným) a na vnitřní straně hladký povrch. Hliníková vrstva je z vnější stany opatřena ochranným lakem (3 g/m2 +/- 0,5) •hustota izolační pěny: 48 kg/m³•součinitel tepelné vodivosti: 0,0200 W/m.K•součinitel prostupu tepla: 0,93 W/m².K•tepelná odolnost: - 35 °C až +110 °C Standardní tloušťka je 20,5
D134: vnitřní rozvody tl. 20 mm do obvodu 2800 mm / 60% tvarovek | G134: m2 | H134: 52 | N134: 0.25
D135: dtto montáž | G135: m2 | H135: 52
D136: venkovní rozvody tl. 30 mm se zesílenou Al folií do obvodu 3600 mm / 40% tvarovek | G136: m2 | H136: 96 | N136: 0.25
D137: dtto montáž | G137: m2 | H137: 96
D138: Kruhové ocelové potrubí sk. I, z pozinkovaného plechu, včetně tvarovek (Lindab Safe Click - třída těsnosti D)
B139: 1.17 | D139: do průměru 180/50% tvarovek | G139: bm | H139: 3 | N139: 0.25
D140: dtto montáž | G140: bm | H140: 3
D141: Propojovací Cu potrubí | N141: 0.1
B142: 1.18 | D142: průměr 9,52/15,88 mm mezi vzt jednotkou a venkovními jednotkami, včetně izolace a chladiva R 410 A | G142: bm | H142: 15 | N142: 0.25
D143: dtto montáž | G143: bm | H143: 15
B144: 1.19 | D144: Oc.pozink. podstavec pod kondenzační jednotku | G144: ks | H144: 2 | N144: 0.25
D145: dtto montáž | G145: ks | H145: 2
B146: 1.20 | D146: Kompletní demontáž a likvidace stávajícího vzt zařízení v kuchyni (nástěnné axiální ventilátory), včetně potrubí a příslušné elektroinstalace (rozsah možno zjistit na místě) | G146: kpl | H146: 1 | N146: 0
B147: 1.21 | D147: Kompletní prokabelování MaR vzt jednotky, včetně el.žlabů a kabeláže dle schema zapojení vzt a venkovních jednotek s komunikačními moduly, dále propojení řídící jednotky s dig. ovládacím panelem a jednoduchým ovladačem, včetně teplotních čidel v digestořích a prostoru (vyjma napájení - zajistí profese elektro). | G147: kpl | H147: 1 | N147: 0
B148: 1.22 | D148: Instalační plastová elektrokrabice s DIN lištou pro dva komunikační moduly ve venk. provedení | G148: ks | H148: 1 | N148: 0.1
D149: dtto montáž | G149: ks | H149: 1
B150: 1.23 | D150: Spojovací, těsnící, nosný a kotvící materiál pro zavěšení potrubí, tlumičů apod. | G150: kg | H150: 90 | N150: 0.25
D151: dtto montáž | G151: kg | H151: 90
D153: Zař. č. 2 - Větrání sociálního a hyg. zázemí a místností bez možnosti přirozeného větrání okny | N153: 0.1
B154: 2.1 | D154: Malý radiální ventilátor (např. SILENT 100 CRZ), se zpětnou klapkou a nast.doběhem, Údaje elektro: 230V/50Hz, max.příkon 8W, hmotnost 0,57 kg | G154: ks | H154: 4 | N154: 0.1
D155: dtto montáž | G155: ks | H155: 4
B156: 2.2 | D156: Malý radiální ventilátor (např. SILENT 200 CZ), se zpětnou klapkou, Údaje elektro: 230V/50Hz, max.příkon 16W, hmotnost 0,77 kg | G156: ks | H156: 1 | N156: 0.1
D157: dtto montáž | G157: ks | H157: 1
...
