Workbook

Sheet Rekapitulace stavby
A1: Export Komplet | BA1: 2.0 | BB1: ZAMOK | BT1: False | BU1: False | BV1: {c3e5e5c1-cfb6-4cbc-8b90-37410807f8f8}
BS2: 0,01 | BT2: 21
BS3: 0,01 | BT3: 12
D4: REKAPITULACE STAVBY | AS4: v --- níže se nacházejí doplnkové a pomocné údaje k sestavám --- v | BE4: Návod na vyplnění | BS4: 0
D5: Kód: | K5: Policky103-2 | BE5: Měnit lze pouze buňky se žlutým podbarvením!_x000d_ _x000d_ 1) na prvním listu Rekapitulace stavby vyplňte v sestavě_x000d_ _x000d_ a) Souhrnný list_x000d_ - údaje o Uchazeči_x000d_ (přenesou se do ostatních sestav i v jiných listech)_x000d_ _x000d_ b) Rekapitulace objektů_x000d_ - potřebné Ostatní náklady_x000d_ _x000d_ 2) na vybraných listech vyplňte v sestavě_x000d_ _x000d_ a) Krycí list_x000d_ - údaje o Uchazeči, pokud se liší od údajů o Uchazeči na Souhrnném listu_x000d_ (údaje se přenesou do ostatních sestav v daném listu)_x000d_ _x000d_ b) Rekapitulace rozpočtu_x000d_ - potřebné Ostatní náklady_x000d_ _x000d_ c) Celkové náklady za stavbu_x000d_ - ceny u položek_x000d_ - množství, pokud má žluté podbarvení_x000d_ - a v případě potřeby poznámku (ta je ve skrytém sloupci) | BS5: 0,01
D6: Stavba: | K6: Našiměřice - Splašková kanalizace - ÚRS I/2026-úprava po připomínkách uchazečů | BS6: 0,01
D7: KSO: | AK7: CC-CZ: | BS7: 0,01
D8: Místo: | K8: Našiměřice | AK8: Datum: | AN8: 19. 6. 2026 | BS8: 0,01
BS9: 0,01
D10: Zadavatel: | AK10: IČ: | BS10: 0,01
AK11: DIČ: | BS11: 0,01
BS12: 0,01
D13: Uchazeč: | AK13: IČ: | AN13: Vyplň údaj | BS13: 0,01
E14: Vyplň údaj | AK14: DIČ: | AN14: Vyplň údaj | BS14: 0,01
BS15: False
D16: Projektant: | AK16: IČ: | BS16: False
AK17: DIČ: | BS17: True
BS18: 0,01
D19: Zpracovatel: | AK19: IČ: | BS19: 0,01
AK20: DIČ: | BS20: True
D22: Poznámka:
D26: Cena bez DPH | AK26: =ROUND(AG94,2) -> 0
L28: Sazba daně | W28: Základ daně | AK28: Výše daně
D29: DPH | F29: základní | L29: 0.21 | W29: =ROUND(AZ94, 2) -> 0 | AK29: =ROUND(AV94, 2) -> 0
F30: snížená | L30: 0.12 | W30: =ROUND(BA94, 2) -> 0 | AK30: =ROUND(AW94, 2) -> 0
F31: zákl. přenesená | L31: 0.21 | W31: =ROUND(BB94, 2) -> 0 | AK31: 0
F32: sníž. přenesená | L32: 0.12 | W32: =ROUND(BC94, 2) -> 0 | AK32: 0
F33: nulová | L33: 0 | W33: =ROUND(BD94, 2) -> 0 | AK33: 0
D35: Cena s DPH | T35: v | X35: CZK | AK35: =SUM(AK26:AK33) -> 0
D49: Projektant | AH49: Zpracovatel
D60: Datum a podpis: | V60: Razítko | AH60: Datum a podpis: | AM60: Razítko
D64: Objednavatel | AH64: Uchazeč
D75: Datum a podpis: | V75: Razítko | AH75: Datum a podpis: | AM75: Razítko
C82: REKAPITULACE OBJEKTŮ STAVBY A SOUPISŮ PRACÍ
C84: Kód: | L84: =K5 -> Policky103-2
C85: Stavba: | L85: =K6 -> Našiměřice - Splašková kanalizace - ÚRS I/2026-úprava po připomínkách uchazečů
C87: Místo: | L87: =IF(K8="","",K8) -> Našiměřice | AI87: Datum: | AM87: =IF(AN8= "","",AN8) -> 19. 6. 2026
C89: Zadavatel: | L89: =IF(E11= "","",E11) | AI89: Projektant: | AM89: =IF(E17="","",E17) | AS89: Informatívní údaje z listů zakázek
C90: Uchazeč: | L90: =IF(E14= "Vyplň údaj","",E14) | AI90: Zpracovatel: | AM90: =IF(E20="","",E20)
C92: Kód | I92: Popis | AG92: Cena bez DPH [CZK] | AN92: Cena s DPH [CZK] | AQ92: Typ | AS92: z toho Ostat._x000d_ náklady [CZK] | AT92: DPH [CZK] | AU92: Normohodiny [h] | AV92: DPH základní [CZK] | AW92: DPH snížená [CZK] | AX92: DPH základní přenesená_x000d_ [CZK] | AY92: DPH snížená přenesená_x000d_ [CZK] | AZ92: Základna_x000d_ DPH základní | BA92: Základna_x000d_ DPH snížená | BB92: Základna_x000d_ DPH zákl. přenesená | BC92: Základna_x000d_ DPH sníž. přenesená | BD92: Základna_x000d_ DPH nulová
...

Sheet D.1 SO 01 - Splašková kan...
AT2: {4205f01a-207a-4df0-beae-24ea0213f993}
AT3: 2
D4: KRYCÍ LIST SOUPISU PRACÍ | M4: v --- níže se nacházejí doplnkové a pomocné údaje k sestavám --- v | AT4: False
D6: Stavba:
E7: ='Rekapitulace stavby'!K6 -> Našiměřice - Splašková kanalizace - ÚRS I/2026-úprava po připomínkách uchazečů
D8: Objekt:
E9: D.1 SO 01 - Splašková kanalizace gravitační
D11: KSO: | I11: CC-CZ:
D12: Místo: | F12: Našiměřice | I12: Datum: | J12: ='Rekapitulace stavby'!AN8 -> 19. 6. 2026
D14: Zadavatel: | I14: IČ: | J14: =IF('Rekapitulace stavby'!AN10="","",'Rekapitulace stavby'!AN10)
E15: =IF('Rekapitulace stavby'!E11="","",'Rekapitulace stavby'!E11) | I15: DIČ: | J15: =IF('Rekapitulace stavby'!AN11="","",'Rekapitulace stavby'!AN11)
D17: Uchazeč: | I17: IČ: | J17: ='Rekapitulace stavby'!AN13 -> Vyplň údaj
E18: ='Rekapitulace stavby'!E14 -> Vyplň údaj | I18: DIČ: | J18: ='Rekapitulace stavby'!AN14 -> Vyplň údaj
D20: Projektant: | I20: IČ: | J20: =IF('Rekapitulace stavby'!AN16="","",'Rekapitulace stavby'!AN16)
E21: =IF('Rekapitulace stavby'!E17="","",'Rekapitulace stavby'!E17) | I21: DIČ: | J21: =IF('Rekapitulace stavby'!AN17="","",'Rekapitulace stavby'!AN17)
D23: Zpracovatel: | I23: IČ: | J23: =IF('Rekapitulace stavby'!AN19="","",'Rekapitulace stavby'!AN19)
E24: =IF('Rekapitulace stavby'!E20="","",'Rekapitulace stavby'!E20) | I24: DIČ: | J24: =IF('Rekapitulace stavby'!AN20="","",'Rekapitulace stavby'!AN20)
D26: Poznámka:
D30: Cena bez DPH | J30: =ROUND(J125, 2) -> 0
F32: Základ daně | I32: Sazba daně | J32: Výše daně
D33: DPH | E33: základní | F33: =ROUND((SUM(BE125:BE1204)), 2) -> 0 | I33: 0.21 | J33: =ROUND(((SUM(BE125:BE1204))*I33), 2) -> 0
E34: snížená | F34: =ROUND((SUM(BF125:BF1204)), 2) -> 0 | I34: 0.12 | J34: =ROUND(((SUM(BF125:BF1204))*I34), 2) -> 0
E35: zákl. přenesená | F35: =ROUND((SUM(BG125:BG1204)), 2) -> 0 | I35: 0.21 | J35: =0 -> 0
E36: sníž. přenesená | F36: =ROUND((SUM(BH125:BH1204)), 2) -> 0 | I36: 0.12 | J36: =0 -> 0
E37: nulová | F37: =ROUND((SUM(BI125:BI1204)), 2) -> 0 | I37: 0 | J37: =0 -> 0
D39: Cena s DPH | G39: v | H39: CZK | J39: =SUM(J30:J37) -> 0
D50: Projektant | G50: Zpracovatel
D61: Datum a podpis: | F61: Razítko | G61: Datum a podpis: | J61: Razítko
D65: Objednavatel | G65: Uchazeč
D76: Datum a podpis: | F76: Razítko | G76: Datum a podpis: | J76: Razítko
C82: REKAPITULACE ČLENĚNÍ SOUPISU PRACÍ
C84: Stavba:
E85: =E7 -> Našiměřice - Splašková kanalizace - ÚRS I/2026-úprava po připomínkách uchazečů
C86: Objekt:
E87: =E9 -> D.1 SO 01 - Splašková kanalizace gravitační
C89: Místo: | F89: =F12 -> Našiměřice | I89: Datum: | J89: =IF(J12="","",J12) -> 19. 6. 2026
C91: Zadavatel: | F91: =E15 | I91: Projektant: | J91: =E21
C92: Uchazeč: | F92: =IF(E18="","",E18) -> Vyplň údaj | I92: Zpracovatel: | J92: =E24
C94: Kód dílu - Popis | J94: Cena celkem [CZK]
C96: Náklady ze soupisu prací | J96: =J125 -> 0 | AU96: -1
...

Sheet D.2 SO 02 - Výtlak splašk...
AT2: {00bf89c2-c112-4315-be03-8b871735e131}
AT3: 2
D4: KRYCÍ LIST SOUPISU PRACÍ | M4: v --- níže se nacházejí doplnkové a pomocné údaje k sestavám --- v | AT4: False
D6: Stavba:
E7: ='Rekapitulace stavby'!K6 -> Našiměřice - Splašková kanalizace - ÚRS I/2026-úprava po připomínkách uchazečů
D8: Objekt:
E9: D.2 SO 02 - Výtlak splaškové kanalizace
D11: KSO: | I11: CC-CZ:
D12: Místo: | F12: Našiměřice | I12: Datum: | J12: ='Rekapitulace stavby'!AN8 -> 19. 6. 2026
D14: Zadavatel: | I14: IČ: | J14: =IF('Rekapitulace stavby'!AN10="","",'Rekapitulace stavby'!AN10)
E15: =IF('Rekapitulace stavby'!E11="","",'Rekapitulace stavby'!E11) | I15: DIČ: | J15: =IF('Rekapitulace stavby'!AN11="","",'Rekapitulace stavby'!AN11)
D17: Uchazeč: | I17: IČ: | J17: ='Rekapitulace stavby'!AN13 -> Vyplň údaj
E18: ='Rekapitulace stavby'!E14 -> Vyplň údaj | I18: DIČ: | J18: ='Rekapitulace stavby'!AN14 -> Vyplň údaj
D20: Projektant: | I20: IČ: | J20: =IF('Rekapitulace stavby'!AN16="","",'Rekapitulace stavby'!AN16)
E21: =IF('Rekapitulace stavby'!E17="","",'Rekapitulace stavby'!E17) | I21: DIČ: | J21: =IF('Rekapitulace stavby'!AN17="","",'Rekapitulace stavby'!AN17)
D23: Zpracovatel: | I23: IČ: | J23: =IF('Rekapitulace stavby'!AN19="","",'Rekapitulace stavby'!AN19)
E24: =IF('Rekapitulace stavby'!E20="","",'Rekapitulace stavby'!E20) | I24: DIČ: | J24: =IF('Rekapitulace stavby'!AN20="","",'Rekapitulace stavby'!AN20)
D26: Poznámka:
D30: Cena bez DPH | J30: =ROUND(J125, 2) -> 0
F32: Základ daně | I32: Sazba daně | J32: Výše daně
D33: DPH | E33: základní | F33: =ROUND((SUM(BE125:BE1086)), 2) -> 0 | I33: 0.21 | J33: =ROUND(((SUM(BE125:BE1086))*I33), 2) -> 0
E34: snížená | F34: =ROUND((SUM(BF125:BF1086)), 2) -> 0 | I34: 0.12 | J34: =ROUND(((SUM(BF125:BF1086))*I34), 2) -> 0
E35: zákl. přenesená | F35: =ROUND((SUM(BG125:BG1086)), 2) -> 0 | I35: 0.21 | J35: =0 -> 0
E36: sníž. přenesená | F36: =ROUND((SUM(BH125:BH1086)), 2) -> 0 | I36: 0.12 | J36: =0 -> 0
E37: nulová | F37: =ROUND((SUM(BI125:BI1086)), 2) -> 0 | I37: 0 | J37: =0 -> 0
D39: Cena s DPH | G39: v | H39: CZK | J39: =SUM(J30:J37) -> 0
D50: Projektant | G50: Zpracovatel
D61: Datum a podpis: | F61: Razítko | G61: Datum a podpis: | J61: Razítko
D65: Objednavatel | G65: Uchazeč
D76: Datum a podpis: | F76: Razítko | G76: Datum a podpis: | J76: Razítko
C82: REKAPITULACE ČLENĚNÍ SOUPISU PRACÍ
C84: Stavba:
E85: =E7 -> Našiměřice - Splašková kanalizace - ÚRS I/2026-úprava po připomínkách uchazečů
C86: Objekt:
E87: =E9 -> D.2 SO 02 - Výtlak splaškové kanalizace
C89: Místo: | F89: =F12 -> Našiměřice | I89: Datum: | J89: =IF(J12="","",J12) -> 19. 6. 2026
C91: Zadavatel: | F91: =E15 | I91: Projektant: | J91: =E21
C92: Uchazeč: | F92: =IF(E18="","",E18) -> Vyplň údaj | I92: Zpracovatel: | J92: =E24
C94: Kód dílu - Popis | J94: Cena celkem [CZK]
C96: Náklady ze soupisu prací | J96: =J125 -> 0 | AU96: -1
...

Sheet D.3 SO 03 - Odbočení pro ...
AT2: {e7d6bd5d-36b9-42ce-8408-4831b73b3919}
AT3: 2
D4: KRYCÍ LIST SOUPISU PRACÍ | M4: v --- níže se nacházejí doplnkové a pomocné údaje k sestavám --- v | AT4: False
D6: Stavba:
E7: ='Rekapitulace stavby'!K6 -> Našiměřice - Splašková kanalizace - ÚRS I/2026-úprava po připomínkách uchazečů
D8: Objekt:
E9: D.3 SO 03 - Odbočení pro napojení přípojek
D11: KSO: | I11: CC-CZ:
D12: Místo: | F12: Našiměřice | I12: Datum: | J12: ='Rekapitulace stavby'!AN8 -> 19. 6. 2026
D14: Zadavatel: | I14: IČ: | J14: =IF('Rekapitulace stavby'!AN10="","",'Rekapitulace stavby'!AN10)
E15: =IF('Rekapitulace stavby'!E11="","",'Rekapitulace stavby'!E11) | I15: DIČ: | J15: =IF('Rekapitulace stavby'!AN11="","",'Rekapitulace stavby'!AN11)
D17: Uchazeč: | I17: IČ: | J17: ='Rekapitulace stavby'!AN13 -> Vyplň údaj
E18: ='Rekapitulace stavby'!E14 -> Vyplň údaj | I18: DIČ: | J18: ='Rekapitulace stavby'!AN14 -> Vyplň údaj
D20: Projektant: | I20: IČ: | J20: =IF('Rekapitulace stavby'!AN16="","",'Rekapitulace stavby'!AN16)
E21: =IF('Rekapitulace stavby'!E17="","",'Rekapitulace stavby'!E17) | I21: DIČ: | J21: =IF('Rekapitulace stavby'!AN17="","",'Rekapitulace stavby'!AN17)
D23: Zpracovatel: | I23: IČ: | J23: =IF('Rekapitulace stavby'!AN19="","",'Rekapitulace stavby'!AN19)
E24: =IF('Rekapitulace stavby'!E20="","",'Rekapitulace stavby'!E20) | I24: DIČ: | J24: =IF('Rekapitulace stavby'!AN20="","",'Rekapitulace stavby'!AN20)
D26: Poznámka:
D30: Cena bez DPH | J30: =ROUND(J124, 2) -> 0
F32: Základ daně | I32: Sazba daně | J32: Výše daně
D33: DPH | E33: základní | F33: =ROUND((SUM(BE124:BE610)), 2) -> 0 | I33: 0.21 | J33: =ROUND(((SUM(BE124:BE610))*I33), 2) -> 0
E34: snížená | F34: =ROUND((SUM(BF124:BF610)), 2) -> 0 | I34: 0.12 | J34: =ROUND(((SUM(BF124:BF610))*I34), 2) -> 0
E35: zákl. přenesená | F35: =ROUND((SUM(BG124:BG610)), 2) -> 0 | I35: 0.21 | J35: =0 -> 0
E36: sníž. přenesená | F36: =ROUND((SUM(BH124:BH610)), 2) -> 0 | I36: 0.12 | J36: =0 -> 0
E37: nulová | F37: =ROUND((SUM(BI124:BI610)), 2) -> 0 | I37: 0 | J37: =0 -> 0
D39: Cena s DPH | G39: v | H39: CZK | J39: =SUM(J30:J37) -> 0
D50: Projektant | G50: Zpracovatel
D61: Datum a podpis: | F61: Razítko | G61: Datum a podpis: | J61: Razítko
D65: Objednavatel | G65: Uchazeč
D76: Datum a podpis: | F76: Razítko | G76: Datum a podpis: | J76: Razítko
C82: REKAPITULACE ČLENĚNÍ SOUPISU PRACÍ
C84: Stavba:
E85: =E7 -> Našiměřice - Splašková kanalizace - ÚRS I/2026-úprava po připomínkách uchazečů
C86: Objekt:
E87: =E9 -> D.3 SO 03 - Odbočení pro napojení přípojek
C89: Místo: | F89: =F12 -> Našiměřice | I89: Datum: | J89: =IF(J12="","",J12) -> 19. 6. 2026
C91: Zadavatel: | F91: =E15 | I91: Projektant: | J91: =E21
C92: Uchazeč: | F92: =IF(E18="","",E18) -> Vyplň údaj | I92: Zpracovatel: | J92: =E24
C94: Kód dílu - Popis | J94: Cena celkem [CZK]
C96: Náklady ze soupisu prací | J96: =J124 -> 0 | AU96: -1
...

Sheet D.4 SO 04 - Čerpací stani...
AT2: {84532d78-8970-4461-83c6-f975c98fe712}
AT3: 2
D4: KRYCÍ LIST SOUPISU PRACÍ | M4: v --- níže se nacházejí doplnkové a pomocné údaje k sestavám --- v | AT4: False
D6: Stavba:
E7: ='Rekapitulace stavby'!K6 -> Našiměřice - Splašková kanalizace - ÚRS I/2026-úprava po připomínkách uchazečů
D8: Objekt:
E9: D.4 SO 04 - Čerpací stanice KČS 01 Našiměřice
D11: KSO: | I11: CC-CZ:
D12: Místo: | F12: Našiměřice | I12: Datum: | J12: ='Rekapitulace stavby'!AN8 -> 19. 6. 2026
D14: Zadavatel: | I14: IČ: | J14: =IF('Rekapitulace stavby'!AN10="","",'Rekapitulace stavby'!AN10)
E15: =IF('Rekapitulace stavby'!E11="","",'Rekapitulace stavby'!E11) | I15: DIČ: | J15: =IF('Rekapitulace stavby'!AN11="","",'Rekapitulace stavby'!AN11)
D17: Uchazeč: | I17: IČ: | J17: ='Rekapitulace stavby'!AN13 -> Vyplň údaj
E18: ='Rekapitulace stavby'!E14 -> Vyplň údaj | I18: DIČ: | J18: ='Rekapitulace stavby'!AN14 -> Vyplň údaj
D20: Projektant: | I20: IČ: | J20: =IF('Rekapitulace stavby'!AN16="","",'Rekapitulace stavby'!AN16)
E21: =IF('Rekapitulace stavby'!E17="","",'Rekapitulace stavby'!E17) | I21: DIČ: | J21: =IF('Rekapitulace stavby'!AN17="","",'Rekapitulace stavby'!AN17)
D23: Zpracovatel: | I23: IČ: | J23: =IF('Rekapitulace stavby'!AN19="","",'Rekapitulace stavby'!AN19)
E24: =IF('Rekapitulace stavby'!E20="","",'Rekapitulace stavby'!E20) | I24: DIČ: | J24: =IF('Rekapitulace stavby'!AN20="","",'Rekapitulace stavby'!AN20)
D26: Poznámka:
D30: Cena bez DPH | J30: =ROUND(J131, 2) -> 0
F32: Základ daně | I32: Sazba daně | J32: Výše daně
D33: DPH | E33: základní | F33: =ROUND((SUM(BE131:BE282)), 2) -> 0 | I33: 0.21 | J33: =ROUND(((SUM(BE131:BE282))*I33), 2) -> 0
E34: snížená | F34: =ROUND((SUM(BF131:BF282)), 2) -> 0 | I34: 0.12 | J34: =ROUND(((SUM(BF131:BF282))*I34), 2) -> 0
E35: zákl. přenesená | F35: =ROUND((SUM(BG131:BG282)), 2) -> 0 | I35: 0.21 | J35: =0 -> 0
E36: sníž. přenesená | F36: =ROUND((SUM(BH131:BH282)), 2) -> 0 | I36: 0.12 | J36: =0 -> 0
E37: nulová | F37: =ROUND((SUM(BI131:BI282)), 2) -> 0 | I37: 0 | J37: =0 -> 0
D39: Cena s DPH | G39: v | H39: CZK | J39: =SUM(J30:J37) -> 0
D50: Projektant | G50: Zpracovatel
D61: Datum a podpis: | F61: Razítko | G61: Datum a podpis: | J61: Razítko
D65: Objednavatel | G65: Uchazeč
D76: Datum a podpis: | F76: Razítko | G76: Datum a podpis: | J76: Razítko
C82: REKAPITULACE ČLENĚNÍ SOUPISU PRACÍ
C84: Stavba:
E85: =E7 -> Našiměřice - Splašková kanalizace - ÚRS I/2026-úprava po připomínkách uchazečů
C86: Objekt:
E87: =E9 -> D.4 SO 04 - Čerpací stanice KČS 01 Našiměřice
C89: Místo: | F89: =F12 -> Našiměřice | I89: Datum: | J89: =IF(J12="","",J12) -> 19. 6. 2026
C91: Zadavatel: | F91: =E15 | I91: Projektant: | J91: =E21
C92: Uchazeč: | F92: =IF(E18="","",E18) -> Vyplň údaj | I92: Zpracovatel: | J92: =E24
C94: Kód dílu - Popis | J94: Cena celkem [CZK]
C96: Náklady ze soupisu prací | J96: =J131 -> 0 | AU96: -1
...

Sheet D.5 SO 05 - Přípojka vody...
AT2: {f05a290b-4c63-44e3-84c8-6fc9d3c2bcbf}
AT3: 2
D4: KRYCÍ LIST SOUPISU PRACÍ | M4: v --- níže se nacházejí doplnkové a pomocné údaje k sestavám --- v | AT4: False
D6: Stavba:
E7: ='Rekapitulace stavby'!K6 -> Našiměřice - Splašková kanalizace - ÚRS I/2026-úprava po připomínkách uchazečů
D8: Objekt:
E9: D.5 SO 05 - Přípojka vody ke KČS 01
D11: KSO: | I11: CC-CZ:
D12: Místo: | F12: Našiměřice | I12: Datum: | J12: ='Rekapitulace stavby'!AN8 -> 19. 6. 2026
D14: Zadavatel: | I14: IČ: | J14: =IF('Rekapitulace stavby'!AN10="","",'Rekapitulace stavby'!AN10)
E15: =IF('Rekapitulace stavby'!E11="","",'Rekapitulace stavby'!E11) | I15: DIČ: | J15: =IF('Rekapitulace stavby'!AN11="","",'Rekapitulace stavby'!AN11)
D17: Uchazeč: | I17: IČ: | J17: ='Rekapitulace stavby'!AN13 -> Vyplň údaj
E18: ='Rekapitulace stavby'!E14 -> Vyplň údaj | I18: DIČ: | J18: ='Rekapitulace stavby'!AN14 -> Vyplň údaj
D20: Projektant: | I20: IČ: | J20: =IF('Rekapitulace stavby'!AN16="","",'Rekapitulace stavby'!AN16)
E21: =IF('Rekapitulace stavby'!E17="","",'Rekapitulace stavby'!E17) | I21: DIČ: | J21: =IF('Rekapitulace stavby'!AN17="","",'Rekapitulace stavby'!AN17)
D23: Zpracovatel: | I23: IČ: | J23: =IF('Rekapitulace stavby'!AN19="","",'Rekapitulace stavby'!AN19)
E24: =IF('Rekapitulace stavby'!E20="","",'Rekapitulace stavby'!E20) | I24: DIČ: | J24: =IF('Rekapitulace stavby'!AN20="","",'Rekapitulace stavby'!AN20)
D26: Poznámka:
D30: Cena bez DPH | J30: =ROUND(J127, 2) -> 0
F32: Základ daně | I32: Sazba daně | J32: Výše daně
D33: DPH | E33: základní | F33: =ROUND((SUM(BE127:BE355)), 2) -> 0 | I33: 0.21 | J33: =ROUND(((SUM(BE127:BE355))*I33), 2) -> 0
E34: snížená | F34: =ROUND((SUM(BF127:BF355)), 2) -> 0 | I34: 0.12 | J34: =ROUND(((SUM(BF127:BF355))*I34), 2) -> 0
E35: zákl. přenesená | F35: =ROUND((SUM(BG127:BG355)), 2) -> 0 | I35: 0.21 | J35: =0 -> 0
E36: sníž. přenesená | F36: =ROUND((SUM(BH127:BH355)), 2) -> 0 | I36: 0.12 | J36: =0 -> 0
E37: nulová | F37: =ROUND((SUM(BI127:BI355)), 2) -> 0 | I37: 0 | J37: =0 -> 0
D39: Cena s DPH | G39: v | H39: CZK | J39: =SUM(J30:J37) -> 0
D50: Projektant | G50: Zpracovatel
D61: Datum a podpis: | F61: Razítko | G61: Datum a podpis: | J61: Razítko
D65: Objednavatel | G65: Uchazeč
D76: Datum a podpis: | F76: Razítko | G76: Datum a podpis: | J76: Razítko
C82: REKAPITULACE ČLENĚNÍ SOUPISU PRACÍ
C84: Stavba:
E85: =E7 -> Našiměřice - Splašková kanalizace - ÚRS I/2026-úprava po připomínkách uchazečů
C86: Objekt:
E87: =E9 -> D.5 SO 05 - Přípojka vody ke KČS 01
C89: Místo: | F89: =F12 -> Našiměřice | I89: Datum: | J89: =IF(J12="","",J12) -> 19. 6. 2026
C91: Zadavatel: | F91: =E15 | I91: Projektant: | J91: =E21
C92: Uchazeč: | F92: =IF(E18="","",E18) -> Vyplň údaj | I92: Zpracovatel: | J92: =E24
C94: Kód dílu - Popis | J94: Cena celkem [CZK]
C96: Náklady ze soupisu prací | J96: =J127 -> 0 | AU96: -1
...

Sheet D.6 SO 06 - Přípojka NN k...
AT2: {480c2e52-2a0e-4571-ab4b-af084a78353f}
AT3: 2
D4: KRYCÍ LIST SOUPISU PRACÍ | M4: v --- níže se nacházejí doplnkové a pomocné údaje k sestavám --- v | AT4: False
D6: Stavba:
E7: ='Rekapitulace stavby'!K6 -> Našiměřice - Splašková kanalizace - ÚRS I/2026-úprava po připomínkách uchazečů
D8: Objekt:
E9: D.6 SO 06 - Přípojka NN ke KČS 01
D11: KSO: | I11: CC-CZ:
D12: Místo: | F12: Našiměřice | I12: Datum: | J12: ='Rekapitulace stavby'!AN8 -> 19. 6. 2026
D14: Zadavatel: | I14: IČ: | J14: =IF('Rekapitulace stavby'!AN10="","",'Rekapitulace stavby'!AN10)
E15: =IF('Rekapitulace stavby'!E11="","",'Rekapitulace stavby'!E11) | I15: DIČ: | J15: =IF('Rekapitulace stavby'!AN11="","",'Rekapitulace stavby'!AN11)
D17: Uchazeč: | I17: IČ: | J17: ='Rekapitulace stavby'!AN13 -> Vyplň údaj
E18: ='Rekapitulace stavby'!E14 -> Vyplň údaj | I18: DIČ: | J18: ='Rekapitulace stavby'!AN14 -> Vyplň údaj
D20: Projektant: | I20: IČ: | J20: =IF('Rekapitulace stavby'!AN16="","",'Rekapitulace stavby'!AN16)
E21: =IF('Rekapitulace stavby'!E17="","",'Rekapitulace stavby'!E17) | I21: DIČ: | J21: =IF('Rekapitulace stavby'!AN17="","",'Rekapitulace stavby'!AN17)
D23: Zpracovatel: | I23: IČ: | J23: =IF('Rekapitulace stavby'!AN19="","",'Rekapitulace stavby'!AN19)
E24: =IF('Rekapitulace stavby'!E20="","",'Rekapitulace stavby'!E20) | I24: DIČ: | J24: =IF('Rekapitulace stavby'!AN20="","",'Rekapitulace stavby'!AN20)
D26: Poznámka:
D30: Cena bez DPH | J30: =ROUND(J121, 2) -> 0
F32: Základ daně | I32: Sazba daně | J32: Výše daně
D33: DPH | E33: základní | F33: =ROUND((SUM(BE121:BE157)), 2) -> 0 | I33: 0.21 | J33: =ROUND(((SUM(BE121:BE157))*I33), 2) -> 0
E34: snížená | F34: =ROUND((SUM(BF121:BF157)), 2) -> 0 | I34: 0.12 | J34: =ROUND(((SUM(BF121:BF157))*I34), 2) -> 0
E35: zákl. přenesená | F35: =ROUND((SUM(BG121:BG157)), 2) -> 0 | I35: 0.21 | J35: =0 -> 0
E36: sníž. přenesená | F36: =ROUND((SUM(BH121:BH157)), 2) -> 0 | I36: 0.12 | J36: =0 -> 0
E37: nulová | F37: =ROUND((SUM(BI121:BI157)), 2) -> 0 | I37: 0 | J37: =0 -> 0
D39: Cena s DPH | G39: v | H39: CZK | J39: =SUM(J30:J37) -> 0
D50: Projektant | G50: Zpracovatel
D61: Datum a podpis: | F61: Razítko | G61: Datum a podpis: | J61: Razítko
D65: Objednavatel | G65: Uchazeč
D76: Datum a podpis: | F76: Razítko | G76: Datum a podpis: | J76: Razítko
C82: REKAPITULACE ČLENĚNÍ SOUPISU PRACÍ
C84: Stavba:
E85: =E7 -> Našiměřice - Splašková kanalizace - ÚRS I/2026-úprava po připomínkách uchazečů
C86: Objekt:
E87: =E9 -> D.6 SO 06 - Přípojka NN ke KČS 01
C89: Místo: | F89: =F12 -> Našiměřice | I89: Datum: | J89: =IF(J12="","",J12) -> 19. 6. 2026
C91: Zadavatel: | F91: =E15 | I91: Projektant: | J91: =E21
C92: Uchazeč: | F92: =IF(E18="","",E18) -> Vyplň údaj | I92: Zpracovatel: | J92: =E24
C94: Kód dílu - Popis | J94: Cena celkem [CZK]
C96: Náklady ze soupisu prací | J96: =J121 -> 0 | AU96: -1
...

Sheet D.7 SO 07 - Příjezdová ko...
AT2: {3ca657b0-bea4-4a5b-8076-6d7e8b9c91c0}
AT3: 2
D4: KRYCÍ LIST SOUPISU PRACÍ | M4: v --- níže se nacházejí doplnkové a pomocné údaje k sestavám --- v | AT4: False
D6: Stavba:
E7: ='Rekapitulace stavby'!K6 -> Našiměřice - Splašková kanalizace - ÚRS I/2026-úprava po připomínkách uchazečů
D8: Objekt:
E9: D.7 SO 07 - Příjezdová komunikace ke KČS 01
D11: KSO: | I11: CC-CZ:
D12: Místo: | F12: Našiměřice | I12: Datum: | J12: ='Rekapitulace stavby'!AN8 -> 19. 6. 2026
D14: Zadavatel: | I14: IČ: | J14: =IF('Rekapitulace stavby'!AN10="","",'Rekapitulace stavby'!AN10)
E15: =IF('Rekapitulace stavby'!E11="","",'Rekapitulace stavby'!E11) | I15: DIČ: | J15: =IF('Rekapitulace stavby'!AN11="","",'Rekapitulace stavby'!AN11)
D17: Uchazeč: | I17: IČ: | J17: ='Rekapitulace stavby'!AN13 -> Vyplň údaj
E18: ='Rekapitulace stavby'!E14 -> Vyplň údaj | I18: DIČ: | J18: ='Rekapitulace stavby'!AN14 -> Vyplň údaj
D20: Projektant: | I20: IČ: | J20: =IF('Rekapitulace stavby'!AN16="","",'Rekapitulace stavby'!AN16)
E21: =IF('Rekapitulace stavby'!E17="","",'Rekapitulace stavby'!E17) | I21: DIČ: | J21: =IF('Rekapitulace stavby'!AN17="","",'Rekapitulace stavby'!AN17)
D23: Zpracovatel: | I23: IČ: | J23: =IF('Rekapitulace stavby'!AN19="","",'Rekapitulace stavby'!AN19)
E24: =IF('Rekapitulace stavby'!E20="","",'Rekapitulace stavby'!E20) | I24: DIČ: | J24: =IF('Rekapitulace stavby'!AN20="","",'Rekapitulace stavby'!AN20)
D26: Poznámka:
D30: Cena bez DPH | J30: =ROUND(J122, 2) -> 0
F32: Základ daně | I32: Sazba daně | J32: Výše daně
D33: DPH | E33: základní | F33: =ROUND((SUM(BE122:BE158)), 2) -> 0 | I33: 0.21 | J33: =ROUND(((SUM(BE122:BE158))*I33), 2) -> 0
E34: snížená | F34: =ROUND((SUM(BF122:BF158)), 2) -> 0 | I34: 0.12 | J34: =ROUND(((SUM(BF122:BF158))*I34), 2) -> 0
E35: zákl. přenesená | F35: =ROUND((SUM(BG122:BG158)), 2) -> 0 | I35: 0.21 | J35: =0 -> 0
E36: sníž. přenesená | F36: =ROUND((SUM(BH122:BH158)), 2) -> 0 | I36: 0.12 | J36: =0 -> 0
E37: nulová | F37: =ROUND((SUM(BI122:BI158)), 2) -> 0 | I37: 0 | J37: =0 -> 0
D39: Cena s DPH | G39: v | H39: CZK | J39: =SUM(J30:J37) -> 0
D50: Projektant | G50: Zpracovatel
D61: Datum a podpis: | F61: Razítko | G61: Datum a podpis: | J61: Razítko
D65: Objednavatel | G65: Uchazeč
D76: Datum a podpis: | F76: Razítko | G76: Datum a podpis: | J76: Razítko
C82: REKAPITULACE ČLENĚNÍ SOUPISU PRACÍ
C84: Stavba:
E85: =E7 -> Našiměřice - Splašková kanalizace - ÚRS I/2026-úprava po připomínkách uchazečů
C86: Objekt:
E87: =E9 -> D.7 SO 07 - Příjezdová komunikace ke KČS 01
C89: Místo: | F89: =F12 -> Našiměřice | I89: Datum: | J89: =IF(J12="","",J12) -> 19. 6. 2026
C91: Zadavatel: | F91: =E15 | I91: Projektant: | J91: =E21
C92: Uchazeč: | F92: =IF(E18="","",E18) -> Vyplň údaj | I92: Zpracovatel: | J92: =E24
C94: Kód dílu - Popis | J94: Cena celkem [CZK]
C96: Náklady ze soupisu prací | J96: =J122 -> 0 | AU96: -1
...

Sheet D.8 SO 08 - Přeložky vodo...
AT2: {e3b33a05-00af-4557-b66d-7ae2159bd827}
AT3: 2
D4: KRYCÍ LIST SOUPISU PRACÍ | M4: v --- níže se nacházejí doplnkové a pomocné údaje k sestavám --- v | AT4: False
D6: Stavba:
E7: ='Rekapitulace stavby'!K6 -> Našiměřice - Splašková kanalizace - ÚRS I/2026-úprava po připomínkách uchazečů
D8: Objekt:
E9: D.8 SO 08 - Přeložky vodovodu
D11: KSO: | I11: CC-CZ:
D12: Místo: | F12: Našiměřice | I12: Datum: | J12: ='Rekapitulace stavby'!AN8 -> 19. 6. 2026
D14: Zadavatel: | I14: IČ: | J14: =IF('Rekapitulace stavby'!AN10="","",'Rekapitulace stavby'!AN10)
E15: =IF('Rekapitulace stavby'!E11="","",'Rekapitulace stavby'!E11) | I15: DIČ: | J15: =IF('Rekapitulace stavby'!AN11="","",'Rekapitulace stavby'!AN11)
D17: Uchazeč: | I17: IČ: | J17: ='Rekapitulace stavby'!AN13 -> Vyplň údaj
E18: ='Rekapitulace stavby'!E14 -> Vyplň údaj | I18: DIČ: | J18: ='Rekapitulace stavby'!AN14 -> Vyplň údaj
D20: Projektant: | I20: IČ: | J20: =IF('Rekapitulace stavby'!AN16="","",'Rekapitulace stavby'!AN16)
E21: =IF('Rekapitulace stavby'!E17="","",'Rekapitulace stavby'!E17) | I21: DIČ: | J21: =IF('Rekapitulace stavby'!AN17="","",'Rekapitulace stavby'!AN17)
D23: Zpracovatel: | I23: IČ: | J23: =IF('Rekapitulace stavby'!AN19="","",'Rekapitulace stavby'!AN19)
E24: =IF('Rekapitulace stavby'!E20="","",'Rekapitulace stavby'!E20) | I24: DIČ: | J24: =IF('Rekapitulace stavby'!AN20="","",'Rekapitulace stavby'!AN20)
D26: Poznámka:
D30: Cena bez DPH | J30: =ROUND(J124, 2) -> 0
F32: Základ daně | I32: Sazba daně | J32: Výše daně
D33: DPH | E33: základní | F33: =ROUND((SUM(BE124:BE569)), 2) -> 0 | I33: 0.21 | J33: =ROUND(((SUM(BE124:BE569))*I33), 2) -> 0
E34: snížená | F34: =ROUND((SUM(BF124:BF569)), 2) -> 0 | I34: 0.12 | J34: =ROUND(((SUM(BF124:BF569))*I34), 2) -> 0
E35: zákl. přenesená | F35: =ROUND((SUM(BG124:BG569)), 2) -> 0 | I35: 0.21 | J35: =0 -> 0
E36: sníž. přenesená | F36: =ROUND((SUM(BH124:BH569)), 2) -> 0 | I36: 0.12 | J36: =0 -> 0
E37: nulová | F37: =ROUND((SUM(BI124:BI569)), 2) -> 0 | I37: 0 | J37: =0 -> 0
D39: Cena s DPH | G39: v | H39: CZK | J39: =SUM(J30:J37) -> 0
D50: Projektant | G50: Zpracovatel
D61: Datum a podpis: | F61: Razítko | G61: Datum a podpis: | J61: Razítko
D65: Objednavatel | G65: Uchazeč
D76: Datum a podpis: | F76: Razítko | G76: Datum a podpis: | J76: Razítko
C82: REKAPITULACE ČLENĚNÍ SOUPISU PRACÍ
C84: Stavba:
E85: =E7 -> Našiměřice - Splašková kanalizace - ÚRS I/2026-úprava po připomínkách uchazečů
C86: Objekt:
E87: =E9 -> D.8 SO 08 - Přeložky vodovodu
C89: Místo: | F89: =F12 -> Našiměřice | I89: Datum: | J89: =IF(J12="","",J12) -> 19. 6. 2026
C91: Zadavatel: | F91: =E15 | I91: Projektant: | J91: =E21
C92: Uchazeč: | F92: =IF(E18="","",E18) -> Vyplň údaj | I92: Zpracovatel: | J92: =E24
C94: Kód dílu - Popis | J94: Cena celkem [CZK]
C96: Náklady ze soupisu prací | J96: =J124 -> 0 | AU96: -1
...

Sheet D.9.1 SO 09.1 - Zkapacitn...
AT2: {45ddfcac-37c3-4057-b815-c2fb872e58aa}
AT3: 2
D4: KRYCÍ LIST SOUPISU PRACÍ | M4: v --- níže se nacházejí doplnkové a pomocné údaje k sestavám --- v | AT4: False
D6: Stavba:
E7: ='Rekapitulace stavby'!K6 -> Našiměřice - Splašková kanalizace - ÚRS I/2026-úprava po připomínkách uchazečů
D8: Objekt:
E9: D.9 SO 09 - Zkapacitnění čerpací stanice KČS 01 Suchohrdly u Miroslavi
D10: Soupis:
E11: D.9.1 SO 09.1 - Zkapacitnění čerpací stanice KČS 01 - Suchohrdly u Miroslavi
D13: KSO: | I13: CC-CZ:
D14: Místo: | F14: Našiměřice | I14: Datum: | J14: ='Rekapitulace stavby'!AN8 -> 19. 6. 2026
D16: Zadavatel: | I16: IČ: | J16: =IF('Rekapitulace stavby'!AN10="","",'Rekapitulace stavby'!AN10)
E17: =IF('Rekapitulace stavby'!E11="","",'Rekapitulace stavby'!E11) | I17: DIČ: | J17: =IF('Rekapitulace stavby'!AN11="","",'Rekapitulace stavby'!AN11)
D19: Uchazeč: | I19: IČ: | J19: ='Rekapitulace stavby'!AN13 -> Vyplň údaj
E20: ='Rekapitulace stavby'!E14 -> Vyplň údaj | I20: DIČ: | J20: ='Rekapitulace stavby'!AN14 -> Vyplň údaj
D22: Projektant: | I22: IČ: | J22: =IF('Rekapitulace stavby'!AN16="","",'Rekapitulace stavby'!AN16)
E23: =IF('Rekapitulace stavby'!E17="","",'Rekapitulace stavby'!E17) | I23: DIČ: | J23: =IF('Rekapitulace stavby'!AN17="","",'Rekapitulace stavby'!AN17)
D25: Zpracovatel: | I25: IČ: | J25: =IF('Rekapitulace stavby'!AN19="","",'Rekapitulace stavby'!AN19)
E26: =IF('Rekapitulace stavby'!E20="","",'Rekapitulace stavby'!E20) | I26: DIČ: | J26: =IF('Rekapitulace stavby'!AN20="","",'Rekapitulace stavby'!AN20)
D28: Poznámka:
D32: Cena bez DPH | J32: =ROUND(J129, 2) -> 0
F34: Základ daně | I34: Sazba daně | J34: Výše daně
D35: DPH | E35: základní | F35: =ROUND((SUM(BE129:BE207)), 2) -> 0 | I35: 0.21 | J35: =ROUND(((SUM(BE129:BE207))*I35), 2) -> 0
E36: snížená | F36: =ROUND((SUM(BF129:BF207)), 2) -> 0 | I36: 0.12 | J36: =ROUND(((SUM(BF129:BF207))*I36), 2) -> 0
E37: zákl. přenesená | F37: =ROUND((SUM(BG129:BG207)), 2) -> 0 | I37: 0.21 | J37: =0 -> 0
E38: sníž. přenesená | F38: =ROUND((SUM(BH129:BH207)), 2) -> 0 | I38: 0.12 | J38: =0 -> 0
E39: nulová | F39: =ROUND((SUM(BI129:BI207)), 2) -> 0 | I39: 0 | J39: =0 -> 0
D41: Cena s DPH | G41: v | H41: CZK | J41: =SUM(J32:J39) -> 0
D50: Projektant | G50: Zpracovatel
D61: Datum a podpis: | F61: Razítko | G61: Datum a podpis: | J61: Razítko
D65: Objednavatel | G65: Uchazeč
D76: Datum a podpis: | F76: Razítko | G76: Datum a podpis: | J76: Razítko
C82: REKAPITULACE ČLENĚNÍ SOUPISU PRACÍ
C84: Stavba:
E85: =E7 -> Našiměřice - Splašková kanalizace - ÚRS I/2026-úprava po připomínkách uchazečů
C86: Objekt:
E87: D.9 SO 09 - Zkapacitnění čerpací stanice KČS 01 Suchohrdly u Miroslavi
C88: Soupis:
E89: =E11 -> D.9.1 SO 09.1 - Zkapacitnění čerpací stanice KČS 01 - Suchohrdly u Miroslavi
C91: Místo: | F91: =F14 -> Našiměřice | I91: Datum: | J91: =IF(J14="","",J14) -> 19. 6. 2026
...

Sheet D.9.1 SO 09.2 - Propojova...
AT2: {1ed7491b-b7e0-4fa7-89f8-7926141fb6c0}
AT3: 2
D4: KRYCÍ LIST SOUPISU PRACÍ | M4: v --- níže se nacházejí doplnkové a pomocné údaje k sestavám --- v | AT4: False
D6: Stavba:
E7: ='Rekapitulace stavby'!K6 -> Našiměřice - Splašková kanalizace - ÚRS I/2026-úprava po připomínkách uchazečů
D8: Objekt:
E9: D.9 SO 09 - Zkapacitnění čerpací stanice KČS 01 Suchohrdly u Miroslavi
D10: Soupis:
E11: D.9.1 SO 09.2 - Propojovací potrubí
D13: KSO: | I13: CC-CZ:
D14: Místo: | F14: Našiměřice | I14: Datum: | J14: ='Rekapitulace stavby'!AN8 -> 19. 6. 2026
D16: Zadavatel: | I16: IČ: | J16: =IF('Rekapitulace stavby'!AN10="","",'Rekapitulace stavby'!AN10)
E17: =IF('Rekapitulace stavby'!E11="","",'Rekapitulace stavby'!E11) | I17: DIČ: | J17: =IF('Rekapitulace stavby'!AN11="","",'Rekapitulace stavby'!AN11)
D19: Uchazeč: | I19: IČ: | J19: ='Rekapitulace stavby'!AN13 -> Vyplň údaj
E20: ='Rekapitulace stavby'!E14 -> Vyplň údaj | I20: DIČ: | J20: ='Rekapitulace stavby'!AN14 -> Vyplň údaj
D22: Projektant: | I22: IČ: | J22: =IF('Rekapitulace stavby'!AN16="","",'Rekapitulace stavby'!AN16)
E23: =IF('Rekapitulace stavby'!E17="","",'Rekapitulace stavby'!E17) | I23: DIČ: | J23: =IF('Rekapitulace stavby'!AN17="","",'Rekapitulace stavby'!AN17)
D25: Zpracovatel: | I25: IČ: | J25: =IF('Rekapitulace stavby'!AN19="","",'Rekapitulace stavby'!AN19)
E26: =IF('Rekapitulace stavby'!E20="","",'Rekapitulace stavby'!E20) | I26: DIČ: | J26: =IF('Rekapitulace stavby'!AN20="","",'Rekapitulace stavby'!AN20)
D28: Poznámka:
D32: Cena bez DPH | J32: =ROUND(J127, 2) -> 0
F34: Základ daně | I34: Sazba daně | J34: Výše daně
D35: DPH | E35: základní | F35: =ROUND((SUM(BE127:BE200)), 2) -> 0 | I35: 0.21 | J35: =ROUND(((SUM(BE127:BE200))*I35), 2) -> 0
E36: snížená | F36: =ROUND((SUM(BF127:BF200)), 2) -> 0 | I36: 0.12 | J36: =ROUND(((SUM(BF127:BF200))*I36), 2) -> 0
E37: zákl. přenesená | F37: =ROUND((SUM(BG127:BG200)), 2) -> 0 | I37: 0.21 | J37: =0 -> 0
E38: sníž. přenesená | F38: =ROUND((SUM(BH127:BH200)), 2) -> 0 | I38: 0.12 | J38: =0 -> 0
E39: nulová | F39: =ROUND((SUM(BI127:BI200)), 2) -> 0 | I39: 0 | J39: =0 -> 0
D41: Cena s DPH | G41: v | H41: CZK | J41: =SUM(J32:J39) -> 0
D50: Projektant | G50: Zpracovatel
D61: Datum a podpis: | F61: Razítko | G61: Datum a podpis: | J61: Razítko
D65: Objednavatel | G65: Uchazeč
D76: Datum a podpis: | F76: Razítko | G76: Datum a podpis: | J76: Razítko
C82: REKAPITULACE ČLENĚNÍ SOUPISU PRACÍ
C84: Stavba:
E85: =E7 -> Našiměřice - Splašková kanalizace - ÚRS I/2026-úprava po připomínkách uchazečů
C86: Objekt:
E87: D.9 SO 09 - Zkapacitnění čerpací stanice KČS 01 Suchohrdly u Miroslavi
C88: Soupis:
E89: =E11 -> D.9.1 SO 09.2 - Propojovací potrubí
C91: Místo: | F91: =F14 -> Našiměřice | I91: Datum: | J91: =IF(J14="","",J14) -> 19. 6. 2026
...

Sheet D.10.1 DPS 01.1 - Strojně...
AT2: {f44a7c88-df93-4f3b-856f-0bddd138149b}
AT3: 2
D4: KRYCÍ LIST SOUPISU PRACÍ | M4: v --- níže se nacházejí doplnkové a pomocné údaje k sestavám --- v | AT4: False
D6: Stavba:
E7: ='Rekapitulace stavby'!K6 -> Našiměřice - Splašková kanalizace - ÚRS I/2026-úprava po připomínkách uchazečů
D8: Objekt:
E9: D.10 PS 01 - Čerpací stanice KČS 01 Našiměřice
D10: Soupis:
E11: D.10.1 DPS 01.1 - Strojně technologická část
D13: KSO: | I13: CC-CZ:
D14: Místo: | F14: Našiměřice | I14: Datum: | J14: ='Rekapitulace stavby'!AN8 -> 19. 6. 2026
D16: Zadavatel: | I16: IČ: | J16: =IF('Rekapitulace stavby'!AN10="","",'Rekapitulace stavby'!AN10)
E17: =IF('Rekapitulace stavby'!E11="","",'Rekapitulace stavby'!E11) | I17: DIČ: | J17: =IF('Rekapitulace stavby'!AN11="","",'Rekapitulace stavby'!AN11)
D19: Uchazeč: | I19: IČ: | J19: ='Rekapitulace stavby'!AN13 -> Vyplň údaj
E20: ='Rekapitulace stavby'!E14 -> Vyplň údaj | I20: DIČ: | J20: ='Rekapitulace stavby'!AN14 -> Vyplň údaj
D22: Projektant: | I22: IČ: | J22: =IF('Rekapitulace stavby'!AN16="","",'Rekapitulace stavby'!AN16)
E23: =IF('Rekapitulace stavby'!E17="","",'Rekapitulace stavby'!E17) | I23: DIČ: | J23: =IF('Rekapitulace stavby'!AN17="","",'Rekapitulace stavby'!AN17)
D25: Zpracovatel: | I25: IČ: | J25: =IF('Rekapitulace stavby'!AN19="","",'Rekapitulace stavby'!AN19)
E26: =IF('Rekapitulace stavby'!E20="","",'Rekapitulace stavby'!E20) | I26: DIČ: | J26: =IF('Rekapitulace stavby'!AN20="","",'Rekapitulace stavby'!AN20)
D28: Poznámka:
D32: Cena bez DPH | J32: =ROUND(J124, 2) -> 0
F34: Základ daně | I34: Sazba daně | J34: Výše daně
D35: DPH | E35: základní | F35: =ROUND((SUM(BE124:BE174)), 2) -> 0 | I35: 0.21 | J35: =ROUND(((SUM(BE124:BE174))*I35), 2) -> 0
E36: snížená | F36: =ROUND((SUM(BF124:BF174)), 2) -> 0 | I36: 0.12 | J36: =ROUND(((SUM(BF124:BF174))*I36), 2) -> 0
E37: zákl. přenesená | F37: =ROUND((SUM(BG124:BG174)), 2) -> 0 | I37: 0.21 | J37: =0 -> 0
E38: sníž. přenesená | F38: =ROUND((SUM(BH124:BH174)), 2) -> 0 | I38: 0.12 | J38: =0 -> 0
E39: nulová | F39: =ROUND((SUM(BI124:BI174)), 2) -> 0 | I39: 0 | J39: =0 -> 0
D41: Cena s DPH | G41: v | H41: CZK | J41: =SUM(J32:J39) -> 0
D50: Projektant | G50: Zpracovatel
D61: Datum a podpis: | F61: Razítko | G61: Datum a podpis: | J61: Razítko
D65: Objednavatel | G65: Uchazeč
D76: Datum a podpis: | F76: Razítko | G76: Datum a podpis: | J76: Razítko
C82: REKAPITULACE ČLENĚNÍ SOUPISU PRACÍ
C84: Stavba:
E85: =E7 -> Našiměřice - Splašková kanalizace - ÚRS I/2026-úprava po připomínkách uchazečů
C86: Objekt:
E87: D.10 PS 01 - Čerpací stanice KČS 01 Našiměřice
C88: Soupis:
E89: =E11 -> D.10.1 DPS 01.1 - Strojně technologická část
C91: Místo: | F91: =F14 -> Našiměřice | I91: Datum: | J91: =IF(J14="","",J14) -> 19. 6. 2026
...

Sheet D.10.2 DPS 01.2 - Elektro...
AT2: {544e72c0-4b9c-4bbf-8ce5-397c1051c87c}
AT3: 2
D4: KRYCÍ LIST SOUPISU PRACÍ | M4: v --- níže se nacházejí doplnkové a pomocné údaje k sestavám --- v | AT4: False
D6: Stavba:
E7: ='Rekapitulace stavby'!K6 -> Našiměřice - Splašková kanalizace - ÚRS I/2026-úprava po připomínkách uchazečů
D8: Objekt:
E9: D.10 PS 01 - Čerpací stanice KČS 01 Našiměřice
D10: Soupis:
E11: D.10.2 DPS 01.2 - Elektrotechnologická část a přenos dat
D13: KSO: | I13: CC-CZ:
D14: Místo: | F14: Našiměřice | I14: Datum: | J14: ='Rekapitulace stavby'!AN8 -> 19. 6. 2026
D16: Zadavatel: | I16: IČ: | J16: =IF('Rekapitulace stavby'!AN10="","",'Rekapitulace stavby'!AN10)
E17: =IF('Rekapitulace stavby'!E11="","",'Rekapitulace stavby'!E11) | I17: DIČ: | J17: =IF('Rekapitulace stavby'!AN11="","",'Rekapitulace stavby'!AN11)
D19: Uchazeč: | I19: IČ: | J19: ='Rekapitulace stavby'!AN13 -> Vyplň údaj
E20: ='Rekapitulace stavby'!E14 -> Vyplň údaj | I20: DIČ: | J20: ='Rekapitulace stavby'!AN14 -> Vyplň údaj
D22: Projektant: | I22: IČ: | J22: =IF('Rekapitulace stavby'!AN16="","",'Rekapitulace stavby'!AN16)
E23: =IF('Rekapitulace stavby'!E17="","",'Rekapitulace stavby'!E17) | I23: DIČ: | J23: =IF('Rekapitulace stavby'!AN17="","",'Rekapitulace stavby'!AN17)
D25: Zpracovatel: | I25: IČ: | J25: =IF('Rekapitulace stavby'!AN19="","",'Rekapitulace stavby'!AN19)
E26: =IF('Rekapitulace stavby'!E20="","",'Rekapitulace stavby'!E20) | I26: DIČ: | J26: =IF('Rekapitulace stavby'!AN20="","",'Rekapitulace stavby'!AN20)
D28: Poznámka:
D32: Cena bez DPH | J32: =ROUND(J127, 2) -> 0
F34: Základ daně | I34: Sazba daně | J34: Výše daně
D35: DPH | E35: základní | F35: =ROUND((SUM(BE127:BE226)), 2) -> 0 | I35: 0.21 | J35: =ROUND(((SUM(BE127:BE226))*I35), 2) -> 0
E36: snížená | F36: =ROUND((SUM(BF127:BF226)), 2) -> 0 | I36: 0.12 | J36: =ROUND(((SUM(BF127:BF226))*I36), 2) -> 0
E37: zákl. přenesená | F37: =ROUND((SUM(BG127:BG226)), 2) -> 0 | I37: 0.21 | J37: =0 -> 0
E38: sníž. přenesená | F38: =ROUND((SUM(BH127:BH226)), 2) -> 0 | I38: 0.12 | J38: =0 -> 0
E39: nulová | F39: =ROUND((SUM(BI127:BI226)), 2) -> 0 | I39: 0 | J39: =0 -> 0
D41: Cena s DPH | G41: v | H41: CZK | J41: =SUM(J32:J39) -> 0
D50: Projektant | G50: Zpracovatel
D61: Datum a podpis: | F61: Razítko | G61: Datum a podpis: | J61: Razítko
D65: Objednavatel | G65: Uchazeč
D76: Datum a podpis: | F76: Razítko | G76: Datum a podpis: | J76: Razítko
C82: REKAPITULACE ČLENĚNÍ SOUPISU PRACÍ
C84: Stavba:
E85: =E7 -> Našiměřice - Splašková kanalizace - ÚRS I/2026-úprava po připomínkách uchazečů
C86: Objekt:
E87: D.10 PS 01 - Čerpací stanice KČS 01 Našiměřice
C88: Soupis:
E89: =E11 -> D.10.2 DPS 01.2 - Elektrotechnologická část a přenos dat
C91: Místo: | F91: =F14 -> Našiměřice | I91: Datum: | J91: =IF(J14="","",J14) -> 19. 6. 2026
...

Sheet D.11.1 DPS 02.1 - Strojně...
AT2: {efb65a0d-ae72-4f4b-b4cc-40ef274baf6b}
AT3: 2
D4: KRYCÍ LIST SOUPISU PRACÍ | M4: v --- níže se nacházejí doplnkové a pomocné údaje k sestavám --- v | AT4: False
D6: Stavba:
E7: ='Rekapitulace stavby'!K6 -> Našiměřice - Splašková kanalizace - ÚRS I/2026-úprava po připomínkách uchazečů
D8: Objekt:
E9: D.11 PS 02 - Zkapacitnění čerpací stanice KČS 01 Suchohrdly u Miroslavi
D10: Soupis:
E11: D.11.1 DPS 02.1 - Strojně technologická část
D13: KSO: | I13: CC-CZ:
D14: Místo: | F14: Našiměřice | I14: Datum: | J14: ='Rekapitulace stavby'!AN8 -> 19. 6. 2026
D16: Zadavatel: | I16: IČ: | J16: =IF('Rekapitulace stavby'!AN10="","",'Rekapitulace stavby'!AN10)
E17: =IF('Rekapitulace stavby'!E11="","",'Rekapitulace stavby'!E11) | I17: DIČ: | J17: =IF('Rekapitulace stavby'!AN11="","",'Rekapitulace stavby'!AN11)
D19: Uchazeč: | I19: IČ: | J19: ='Rekapitulace stavby'!AN13 -> Vyplň údaj
E20: ='Rekapitulace stavby'!E14 -> Vyplň údaj | I20: DIČ: | J20: ='Rekapitulace stavby'!AN14 -> Vyplň údaj
D22: Projektant: | I22: IČ: | J22: =IF('Rekapitulace stavby'!AN16="","",'Rekapitulace stavby'!AN16)
E23: =IF('Rekapitulace stavby'!E17="","",'Rekapitulace stavby'!E17) | I23: DIČ: | J23: =IF('Rekapitulace stavby'!AN17="","",'Rekapitulace stavby'!AN17)
D25: Zpracovatel: | I25: IČ: | J25: =IF('Rekapitulace stavby'!AN19="","",'Rekapitulace stavby'!AN19)
E26: =IF('Rekapitulace stavby'!E20="","",'Rekapitulace stavby'!E20) | I26: DIČ: | J26: =IF('Rekapitulace stavby'!AN20="","",'Rekapitulace stavby'!AN20)
D28: Poznámka:
D32: Cena bez DPH | J32: =ROUND(J124, 2) -> 0
F34: Základ daně | I34: Sazba daně | J34: Výše daně
D35: DPH | E35: základní | F35: =ROUND((SUM(BE124:BE160)), 2) -> 0 | I35: 0.21 | J35: =ROUND(((SUM(BE124:BE160))*I35), 2) -> 0
E36: snížená | F36: =ROUND((SUM(BF124:BF160)), 2) -> 0 | I36: 0.12 | J36: =ROUND(((SUM(BF124:BF160))*I36), 2) -> 0
E37: zákl. přenesená | F37: =ROUND((SUM(BG124:BG160)), 2) -> 0 | I37: 0.21 | J37: =0 -> 0
E38: sníž. přenesená | F38: =ROUND((SUM(BH124:BH160)), 2) -> 0 | I38: 0.12 | J38: =0 -> 0
E39: nulová | F39: =ROUND((SUM(BI124:BI160)), 2) -> 0 | I39: 0 | J39: =0 -> 0
D41: Cena s DPH | G41: v | H41: CZK | J41: =SUM(J32:J39) -> 0
D50: Projektant | G50: Zpracovatel
D61: Datum a podpis: | F61: Razítko | G61: Datum a podpis: | J61: Razítko
D65: Objednavatel | G65: Uchazeč
D76: Datum a podpis: | F76: Razítko | G76: Datum a podpis: | J76: Razítko
C82: REKAPITULACE ČLENĚNÍ SOUPISU PRACÍ
C84: Stavba:
E85: =E7 -> Našiměřice - Splašková kanalizace - ÚRS I/2026-úprava po připomínkách uchazečů
C86: Objekt:
E87: D.11 PS 02 - Zkapacitnění čerpací stanice KČS 01 Suchohrdly u Miroslavi
C88: Soupis:
E89: =E11 -> D.11.1 DPS 02.1 - Strojně technologická část
C91: Místo: | F91: =F14 -> Našiměřice | I91: Datum: | J91: =IF(J14="","",J14) -> 19. 6. 2026
...

Sheet D.11.2 DPS 02.2 - Elektro...
AT2: {1399aade-01da-4ec7-b979-a17f2ad25d1f}
AT3: 2
D4: KRYCÍ LIST SOUPISU PRACÍ | M4: v --- níže se nacházejí doplnkové a pomocné údaje k sestavám --- v | AT4: False
D6: Stavba:
E7: ='Rekapitulace stavby'!K6 -> Našiměřice - Splašková kanalizace - ÚRS I/2026-úprava po připomínkách uchazečů
D8: Objekt:
E9: D.11 PS 02 - Zkapacitnění čerpací stanice KČS 01 Suchohrdly u Miroslavi
D10: Soupis:
E11: D.11.2 DPS 02.2 - Elektrotechnologická část a přenos dat
D13: KSO: | I13: CC-CZ:
D14: Místo: | F14: Našiměřice | I14: Datum: | J14: ='Rekapitulace stavby'!AN8 -> 19. 6. 2026
D16: Zadavatel: | I16: IČ: | J16: =IF('Rekapitulace stavby'!AN10="","",'Rekapitulace stavby'!AN10)
E17: =IF('Rekapitulace stavby'!E11="","",'Rekapitulace stavby'!E11) | I17: DIČ: | J17: =IF('Rekapitulace stavby'!AN11="","",'Rekapitulace stavby'!AN11)
D19: Uchazeč: | I19: IČ: | J19: ='Rekapitulace stavby'!AN13 -> Vyplň údaj
E20: ='Rekapitulace stavby'!E14 -> Vyplň údaj | I20: DIČ: | J20: ='Rekapitulace stavby'!AN14 -> Vyplň údaj
D22: Projektant: | I22: IČ: | J22: =IF('Rekapitulace stavby'!AN16="","",'Rekapitulace stavby'!AN16)
E23: =IF('Rekapitulace stavby'!E17="","",'Rekapitulace stavby'!E17) | I23: DIČ: | J23: =IF('Rekapitulace stavby'!AN17="","",'Rekapitulace stavby'!AN17)
D25: Zpracovatel: | I25: IČ: | J25: =IF('Rekapitulace stavby'!AN19="","",'Rekapitulace stavby'!AN19)
E26: =IF('Rekapitulace stavby'!E20="","",'Rekapitulace stavby'!E20) | I26: DIČ: | J26: =IF('Rekapitulace stavby'!AN20="","",'Rekapitulace stavby'!AN20)
D28: Poznámka:
D32: Cena bez DPH | J32: =ROUND(J127, 2) -> 0
F34: Základ daně | I34: Sazba daně | J34: Výše daně
D35: DPH | E35: základní | F35: =ROUND((SUM(BE127:BE220)), 2) -> 0 | I35: 0.21 | J35: =ROUND(((SUM(BE127:BE220))*I35), 2) -> 0
E36: snížená | F36: =ROUND((SUM(BF127:BF220)), 2) -> 0 | I36: 0.12 | J36: =ROUND(((SUM(BF127:BF220))*I36), 2) -> 0
E37: zákl. přenesená | F37: =ROUND((SUM(BG127:BG220)), 2) -> 0 | I37: 0.21 | J37: =0 -> 0
E38: sníž. přenesená | F38: =ROUND((SUM(BH127:BH220)), 2) -> 0 | I38: 0.12 | J38: =0 -> 0
E39: nulová | F39: =ROUND((SUM(BI127:BI220)), 2) -> 0 | I39: 0 | J39: =0 -> 0
D41: Cena s DPH | G41: v | H41: CZK | J41: =SUM(J32:J39) -> 0
D50: Projektant | G50: Zpracovatel
D61: Datum a podpis: | F61: Razítko | G61: Datum a podpis: | J61: Razítko
D65: Objednavatel | G65: Uchazeč
D76: Datum a podpis: | F76: Razítko | G76: Datum a podpis: | J76: Razítko
C82: REKAPITULACE ČLENĚNÍ SOUPISU PRACÍ
C84: Stavba:
E85: =E7 -> Našiměřice - Splašková kanalizace - ÚRS I/2026-úprava po připomínkách uchazečů
C86: Objekt:
E87: D.11 PS 02 - Zkapacitnění čerpací stanice KČS 01 Suchohrdly u Miroslavi
C88: Soupis:
E89: =E11 -> D.11.2 DPS 02.2 - Elektrotechnologická část a přenos dat
C91: Místo: | F91: =F14 -> Našiměřice | I91: Datum: | J91: =IF(J14="","",J14) -> 19. 6. 2026
...

Sheet D.12 - VRN
AT2: {fc2a4155-3724-43a2-9947-03b95b2ff378}
AT3: 2
D4: KRYCÍ LIST SOUPISU PRACÍ | M4: v --- níže se nacházejí doplnkové a pomocné údaje k sestavám --- v | AT4: False
D6: Stavba:
E7: ='Rekapitulace stavby'!K6 -> Našiměřice - Splašková kanalizace - ÚRS I/2026-úprava po připomínkách uchazečů
D8: Objekt:
E9: D.12 - VRN
D11: KSO: | I11: CC-CZ:
D12: Místo: | F12: Našiměřice | I12: Datum: | J12: ='Rekapitulace stavby'!AN8 -> 19. 6. 2026
D14: Zadavatel: | I14: IČ: | J14: =IF('Rekapitulace stavby'!AN10="","",'Rekapitulace stavby'!AN10)
E15: =IF('Rekapitulace stavby'!E11="","",'Rekapitulace stavby'!E11) | I15: DIČ: | J15: =IF('Rekapitulace stavby'!AN11="","",'Rekapitulace stavby'!AN11)
D17: Uchazeč: | I17: IČ: | J17: ='Rekapitulace stavby'!AN13 -> Vyplň údaj
E18: ='Rekapitulace stavby'!E14 -> Vyplň údaj | I18: DIČ: | J18: ='Rekapitulace stavby'!AN14 -> Vyplň údaj
D20: Projektant: | I20: IČ: | J20: =IF('Rekapitulace stavby'!AN16="","",'Rekapitulace stavby'!AN16)
E21: =IF('Rekapitulace stavby'!E17="","",'Rekapitulace stavby'!E17) | I21: DIČ: | J21: =IF('Rekapitulace stavby'!AN17="","",'Rekapitulace stavby'!AN17)
D23: Zpracovatel: | I23: IČ: | J23: =IF('Rekapitulace stavby'!AN19="","",'Rekapitulace stavby'!AN19)
E24: =IF('Rekapitulace stavby'!E20="","",'Rekapitulace stavby'!E20) | I24: DIČ: | J24: =IF('Rekapitulace stavby'!AN20="","",'Rekapitulace stavby'!AN20)
D26: Poznámka:
D30: Cena bez DPH | J30: =ROUND(J121, 2) -> 0
F32: Základ daně | I32: Sazba daně | J32: Výše daně
D33: DPH | E33: základní | F33: =ROUND((SUM(BE121:BE144)), 2) -> 0 | I33: 0.21 | J33: =ROUND(((SUM(BE121:BE144))*I33), 2) -> 0
E34: snížená | F34: =ROUND((SUM(BF121:BF144)), 2) -> 0 | I34: 0.12 | J34: =ROUND(((SUM(BF121:BF144))*I34), 2) -> 0
E35: zákl. přenesená | F35: =ROUND((SUM(BG121:BG144)), 2) -> 0 | I35: 0.21 | J35: =0 -> 0
E36: sníž. přenesená | F36: =ROUND((SUM(BH121:BH144)), 2) -> 0 | I36: 0.12 | J36: =0 -> 0
E37: nulová | F37: =ROUND((SUM(BI121:BI144)), 2) -> 0 | I37: 0 | J37: =0 -> 0
D39: Cena s DPH | G39: v | H39: CZK | J39: =SUM(J30:J37) -> 0
D50: Projektant | G50: Zpracovatel
D61: Datum a podpis: | F61: Razítko | G61: Datum a podpis: | J61: Razítko
D65: Objednavatel | G65: Uchazeč
D76: Datum a podpis: | F76: Razítko | G76: Datum a podpis: | J76: Razítko
C82: REKAPITULACE ČLENĚNÍ SOUPISU PRACÍ
C84: Stavba:
E85: =E7 -> Našiměřice - Splašková kanalizace - ÚRS I/2026-úprava po připomínkách uchazečů
C86: Objekt:
E87: =E9 -> D.12 - VRN
C89: Místo: | F89: =F12 -> Našiměřice | I89: Datum: | J89: =IF(J12="","",J12) -> 19. 6. 2026
C91: Zadavatel: | F91: =E15 | I91: Projektant: | J91: =E21
C92: Uchazeč: | F92: =IF(E18="","",E18) -> Vyplň údaj | I92: Zpracovatel: | J92: =E24
C94: Kód dílu - Popis | J94: Cena celkem [CZK]
C96: Náklady ze soupisu prací | J96: =J121 -> 0 | AU96: -1
...
