Workbook

Sheet Rekapitulace stavby
A1: Export Komplet | BA1: 2.0 | BB1: ZAMOK | BT1: False | BU1: False | BV1: {c3e5e5c1-cfb6-4cbc-8b90-37410807f8f8}
BS2: 0,01 | BT2: 21
BS3: 0,01 | BT3: 12
D4: REKAPITULACE STAVBY | AS4: v --- níže se nacházejí doplnkové a pomocné údaje k sestavám --- v | BE4: Návod na vyplnění | BS4: 0
D5: Kód: | K5: Policky103-2 | BE5: Měnit lze pouze buňky se žlutým podbarvením!_x000d_ _x000d_ 1) na prvním listu Rekapitulace stavby vyplňte v sestavě_x000d_ _x000d_ a) Souhrnný list_x000d_ - údaje o Uchazeči_x000d_ (přenesou se do ostatních sestav i v jiných listech)_x000d_ _x000d_ b) Rekapitulace objektů_x000d_ - potřebné Ostatní náklady_x000d_ _x000d_ 2) na vybraných listech vyplňte v sestavě_x000d_ _x000d_ a) Krycí list_x000d_ - údaje o Uchazeči, pokud se liší od údajů o Uchazeči na Souhrnném listu_x000d_ (údaje se přenesou do ostatních sestav v daném listu)_x000d_ _x000d_ b) Rekapitulace rozpočtu_x000d_ - potřebné Ostatní náklady_x000d_ _x000d_ c) Celkové náklady za stavbu_x000d_ - ceny u položek_x000d_ - množství, pokud má žluté podbarvení_x000d_ - a v případě potřeby poznámku (ta je ve skrytém sloupci) | BS5: 0,01
D6: Stavba: | K6: Našiměřice - Splašková kanalizace - ÚRS I/2026-úprava po připomínkách uchazečů | BS6: 0,01
D7: KSO: | AK7: CC-CZ: | BS7: 0,01
D8: Místo: | K8: Našiměřice | AK8: Datum: | AN8: 19. 6. 2026 | BS8: 0,01
BS9: 0,01
D10: Zadavatel: | AK10: IČ: | BS10: 0,01
AK11: DIČ: | BS11: 0,01
BS12: 0,01
D13: Uchazeč: | AK13: IČ: | AN13: Vyplň údaj | BS13: 0,01
E14: Vyplň údaj | AK14: DIČ: | AN14: Vyplň údaj | BS14: 0,01
BS15: False
D16: Projektant: | AK16: IČ: | BS16: False
AK17: DIČ: | BS17: True
BS18: 0,01
D19: Zpracovatel: | AK19: IČ: | BS19: 0,01
AK20: DIČ: | BS20: True
D22: Poznámka:
D26: Cena bez DPH | AK26: =ROUND(AG94,2) -> 0
L28: Sazba daně | W28: Základ daně | AK28: Výše daně
D29: DPH | F29: základní | L29: 0.21 | W29: =ROUND(AZ94, 2) -> 0 | AK29: =ROUND(AV94, 2) -> 0
F30: snížená | L30: 0.12 | W30: =ROUND(BA94, 2) -> 0 | AK30: =ROUND(AW94, 2) -> 0
F31: zákl. přenesená | L31: 0.21 | W31: =ROUND(BB94, 2) -> 0 | AK31: 0
F32: sníž. přenesená | L32: 0.12 | W32: =ROUND(BC94, 2) -> 0 | AK32: 0
F33: nulová | L33: 0 | W33: =ROUND(BD94, 2) -> 0 | AK33: 0
D35: Cena s DPH | T35: v | X35: CZK | AK35: =SUM(AK26:AK33) -> 0
D49: Projektant | AH49: Zpracovatel
D60: Datum a podpis: | V60: Razítko | AH60: Datum a podpis: | AM60: Razítko
D64: Objednavatel | AH64: Uchazeč
D75: Datum a podpis: | V75: Razítko | AH75: Datum a podpis: | AM75: Razítko
C82: REKAPITULACE OBJEKTŮ STAVBY A SOUPISŮ PRACÍ
C84: Kód: | L84: =K5 -> Policky103-2
C85: Stavba: | L85: =K6 -> Našiměřice - Splašková kanalizace - ÚRS I/2026-úprava po připomínkách uchazečů
C87: Místo: | L87: =IF(K8="","",K8) -> Našiměřice | AI87: Datum: | AM87: =IF(AN8= "","",AN8) -> 19. 6. 2026
C89: Zadavatel: | L89: =IF(E11= "","",E11) | AI89: Projektant: | AM89: =IF(E17="","",E17) | AS89: Informatívní údaje z listů zakázek
C90: Uchazeč: | L90: =IF(E14= "Vyplň údaj","",E14) | AI90: Zpracovatel: | AM90: =IF(E20="","",E20)
C92: Kód | I92: Popis | AG92: Cena bez DPH [CZK] | AN92: Cena s DPH [CZK] | AQ92: Typ | AS92: z toho Ostat._x000d_ náklady [CZK] | AT92: DPH [CZK] | AU92: Normohodiny [h] | AV92: DPH základní [CZK] | AW92: DPH snížená [CZK] | AX92: DPH základní přenesená_x000d_ [CZK] | AY92: DPH snížená přenesená_x000d_ [CZK] | AZ92: Základna_x000d_ DPH základní | BA92: Základna_x000d_ DPH snížená | BB92: Základna_x000d_ DPH zákl. přenesená | BC92: Základna_x000d_ DPH sníž. přenesená | BD92: Základna_x000d_ DPH nulová
C94: Náklady z rozpočtů | AG94: =ROUND(AG95+SUM(AG96:AG103)+AG106+AG109+AG112,2) -> 0 | AN94: =SUM(AG94,AT94) -> 0 | AS94: =ROUND(AS95+SUM(AS96:AS103)+AS106+AS109+AS112,2) -> 0 | AT94: =ROUND(SUM(AV94:AW94),2) -> 0 | AU94: =ROUND(AU95+SUM(AU96:AU103)+AU106+AU109+AU112,5) -> 0 | AV94: =ROUND(AZ94*L29,2) -> 0 | AW94: =ROUND(BA94*L30,2) -> 0 | AX94: =ROUND(BB94*L29,2) -> 0 | AY94: =ROUND(BC94*L30,2) -> 0 | AZ94: =ROUND(AZ95+SUM(AZ96:AZ103)+AZ106+AZ109+AZ112,2) -> 0 | BA94: =ROUND(BA95+SUM(BA96:BA103)+BA106+BA109+BA112,2) -> 0 | BB94: =ROUND(BB95+SUM(BB96:BB103)+BB106+BB109+BB112,2) -> 0 | BC94: =ROUND(BC95+SUM(BC96:BC103)+BC106+BC109+BC112,2) -> 0 | BD94: =ROUND(BD95+SUM(BD96:BD103)+BD106+BD109+BD112,2) -> 0 | BS94: D | BT94: 0 | BU94: ###NOIMPORT### | BV94: IMPORT | BW94: {c3e5e5c1-cfb6-4cbc-8b90-37410807f8f8} | BX94: {00000000-0000-0000-0000-000000000000}
A95: / | D95: D.1 SO 01 | J95: Splašková kanalizace gravitační | AG95: ='D.1 SO 01 - Splašková kan...'!J30 -> 0 | AN95: =SUM(AG95,AT95) -> 0 | AQ95: STA | AS95: 0 | AT95: =ROUND(SUM(AV95:AW95),2) -> 0 | AU95: ='D.1 SO 01 - Splašková kan...'!P125 -> 0 | AV95: ='D.1 SO 01 - Splašková kan...'!J33 -> 0 | AW95: ='D.1 SO 01 - Splašková kan...'!J34 -> 0 | AX95: ='D.1 SO 01 - Splašková kan...'!J35 -> 0 | AY95: ='D.1 SO 01 - Splašková kan...'!J36 -> 0 | AZ95: ='D.1 SO 01 - Splašková kan...'!F33 -> 0 | BA95: ='D.1 SO 01 - Splašková kan...'!F34 -> 0 | BB95: ='D.1 SO 01 - Splašková kan...'!F35 -> 0 | BC95: ='D.1 SO 01 - Splašková kan...'!F36 -> 0 | BD95: ='D.1 SO 01 - Splašková kan...'!F37 -> 0 | BT95: 1 | BV95: IMPORT | BW95: {4205f01a-207a-4df0-beae-24ea0213f993} | BX95: {c3e5e5c1-cfb6-4cbc-8b90-37410807f8f8} | CM95: 2
A96: / | D96: D.2 SO 02 | J96: Výtlak splaškové kanalizace | AG96: ='D.2 SO 02 - Výtlak splašk...'!J30 -> 0 | AN96: =SUM(AG96,AT96) -> 0 | AQ96: STA | AS96: 0 | AT96: =ROUND(SUM(AV96:AW96),2) -> 0 | AU96: ='D.2 SO 02 - Výtlak splašk...'!P125 -> 0 | AV96: ='D.2 SO 02 - Výtlak splašk...'!J33 -> 0 | AW96: ='D.2 SO 02 - Výtlak splašk...'!J34 -> 0 | AX96: ='D.2 SO 02 - Výtlak splašk...'!J35 -> 0 | AY96: ='D.2 SO 02 - Výtlak splašk...'!J36 -> 0 | AZ96: ='D.2 SO 02 - Výtlak splašk...'!F33 -> 0 | BA96: ='D.2 SO 02 - Výtlak splašk...'!F34 -> 0 | BB96: ='D.2 SO 02 - Výtlak splašk...'!F35 -> 0 | BC96: ='D.2 SO 02 - Výtlak splašk...'!F36 -> 0 | BD96: ='D.2 SO 02 - Výtlak splašk...'!F37 -> 0 | BT96: 1 | BV96: IMPORT | BW96: {00bf89c2-c112-4315-be03-8b871735e131} | BX96: {c3e5e5c1-cfb6-4cbc-8b90-37410807f8f8} | CM96: 2
A97: / | D97: D.3 SO 03 | J97: Odbočení pro napojení přípojek | AG97: ='D.3 SO 03 - Odbočení pro ...'!J30 -> 0 | AN97: =SUM(AG97,AT97) -> 0 | AQ97: STA | AS97: 0 | AT97: =ROUND(SUM(AV97:AW97),2) -> 0 | AU97: ='D.3 SO 03 - Odbočení pro ...'!P124 -> 0 | AV97: ='D.3 SO 03 - Odbočení pro ...'!J33 -> 0 | AW97: ='D.3 SO 03 - Odbočení pro ...'!J34 -> 0 | AX97: ='D.3 SO 03 - Odbočení pro ...'!J35 -> 0 | AY97: ='D.3 SO 03 - Odbočení pro ...'!J36 -> 0 | AZ97: ='D.3 SO 03 - Odbočení pro ...'!F33 -> 0 | BA97: ='D.3 SO 03 - Odbočení pro ...'!F34 -> 0 | BB97: ='D.3 SO 03 - Odbočení pro ...'!F35 -> 0 | BC97: ='D.3 SO 03 - Odbočení pro ...'!F36 -> 0 | BD97: ='D.3 SO 03 - Odbočení pro ...'!F37 -> 0 | BT97: 1 | BV97: IMPORT | BW97: {e7d6bd5d-36b9-42ce-8408-4831b73b3919} | BX97: {c3e5e5c1-cfb6-4cbc-8b90-37410807f8f8} | CM97: 2
A98: / | D98: D.4 SO 04 | J98: Čerpací stanice KČS 01 Našiměřice | AG98: ='D.4 SO 04 - Čerpací stani...'!J30 -> 0 | AN98: =SUM(AG98,AT98) -> 0 | AQ98: STA | AS98: 0 | AT98: =ROUND(SUM(AV98:AW98),2) -> 0 | AU98: ='D.4 SO 04 - Čerpací stani...'!P131 -> 0 | AV98: ='D.4 SO 04 - Čerpací stani...'!J33 -> 0 | AW98: ='D.4 SO 04 - Čerpací stani...'!J34 -> 0 | AX98: ='D.4 SO 04 - Čerpací stani...'!J35 -> 0 | AY98: ='D.4 SO 04 - Čerpací stani...'!J36 -> 0 | AZ98: ='D.4 SO 04 - Čerpací stani...'!F33 -> 0 | BA98: ='D.4 SO 04 - Čerpací stani...'!F34 -> 0 | BB98: ='D.4 SO 04 - Čerpací stani...'!F35 -> 0 | BC98: ='D.4 SO 04 - Čerpací stani...'!F36 -> 0 | BD98: ='D.4 SO 04 - Čerpací stani...'!F37 -> 0 | BT98: 1 | BV98: IMPORT | BW98: {84532d78-8970-4461-83c6-f975c98fe712} | BX98: {c3e5e5c1-cfb6-4cbc-8b90-37410807f8f8} | CM98: 2
A99: / | D99: D.5 SO 05 | J99: Přípojka vody ke KČS 01 | AG99: ='D.5 SO 05 - Přípojka vody...'!J30 -> 0 | AN99: =SUM(AG99,AT99) -> 0 | AQ99: STA | AS99: 0 | AT99: =ROUND(SUM(AV99:AW99),2) -> 0 | AU99: ='D.5 SO 05 - Přípojka vody...'!P127 -> 0 | AV99: ='D.5 SO 05 - Přípojka vody...'!J33 -> 0 | AW99: ='D.5 SO 05 - Přípojka vody...'!J34 -> 0 | AX99: ='D.5 SO 05 - Přípojka vody...'!J35 -> 0 | AY99: ='D.5 SO 05 - Přípojka vody...'!J36 -> 0 | AZ99: ='D.5 SO 05 - Přípojka vody...'!F33 -> 0 | BA99: ='D.5 SO 05 - Přípojka vody...'!F34 -> 0 | BB99: ='D.5 SO 05 - Přípojka vody...'!F35 -> 0 | BC99: ='D.5 SO 05 - Přípojka vody...'!F36 -> 0 | BD99: ='D.5 SO 05 - Přípojka vody...'!F37 -> 0 | BT99: 1 | BV99: IMPORT | BW99: {f05a290b-4c63-44e3-84c8-6fc9d3c2bcbf} | BX99: {c3e5e5c1-cfb6-4cbc-8b90-37410807f8f8} | CM99: 2
A100: / | D100: D.6 SO 06 | J100: Přípojka NN ke KČS 01 | AG100: ='D.6 SO 06 - Přípojka NN k...'!J30 -> 0 | AN100: =SUM(AG100,AT100) -> 0 | AQ100: STA | AS100: 0 | AT100: =ROUND(SUM(AV100:AW100),2) -> 0 | AU100: ='D.6 SO 06 - Přípojka NN k...'!P121 -> 0 | AV100: ='D.6 SO 06 - Přípojka NN k...'!J33 -> 0 | AW100: ='D.6 SO 06 - Přípojka NN k...'!J34 -> 0 | AX100: ='D.6 SO 06 - Přípojka NN k...'!J35 -> 0 | AY100: ='D.6 SO 06 - Přípojka NN k...'!J36 -> 0 | AZ100: ='D.6 SO 06 - Přípojka NN k...'!F33 -> 0 | BA100: ='D.6 SO 06 - Přípojka NN k...'!F34 -> 0 | BB100: ='D.6 SO 06 - Přípojka NN k...'!F35 -> 0 | BC100: ='D.6 SO 06 - Přípojka NN k...'!F36 -> 0 | BD100: ='D.6 SO 06 - Přípojka NN k...'!F37 -> 0 | BT100: 1 | BV100: IMPORT | BW100: {480c2e52-2a0e-4571-ab4b-af084a78353f} | BX100: {c3e5e5c1-cfb6-4cbc-8b90-37410807f8f8} | CM100: 2
A101: / | D101: D.7 SO 07 | J101: Příjezdová komunikace ke KČS 01 | AG101: ='D.7 SO 07 - Příjezdová ko...'!J30 -> 0 | AN101: =SUM(AG101,AT101) -> 0 | AQ101: STA | AS101: 0 | AT101: =ROUND(SUM(AV101:AW101),2) -> 0 | AU101: ='D.7 SO 07 - Příjezdová ko...'!P122 -> 0 | AV101: ='D.7 SO 07 - Příjezdová ko...'!J33 -> 0 | AW101: ='D.7 SO 07 - Příjezdová ko...'!J34 -> 0 | AX101: ='D.7 SO 07 - Příjezdová ko...'!J35 -> 0 | AY101: ='D.7 SO 07 - Příjezdová ko...'!J36 -> 0 | AZ101: ='D.7 SO 07 - Příjezdová ko...'!F33 -> 0 | BA101: ='D.7 SO 07 - Příjezdová ko...'!F34 -> 0 | BB101: ='D.7 SO 07 - Příjezdová ko...'!F35 -> 0 | BC101: ='D.7 SO 07 - Příjezdová ko...'!F36 -> 0 | BD101: ='D.7 SO 07 - Příjezdová ko...'!F37 -> 0 | BT101: 1 | BV101: IMPORT | BW101: {3ca657b0-bea4-4a5b-8076-6d7e8b9c91c0} | BX101: {c3e5e5c1-cfb6-4cbc-8b90-37410807f8f8} | CM101: 2
A102: / | D102: D.8 SO 08 | J102: Přeložky vodovodu | AG102: ='D.8 SO 08 - Přeložky vodo...'!J30 -> 0 | AN102: =SUM(AG102,AT102) -> 0 | AQ102: STA | AS102: 0 | AT102: =ROUND(SUM(AV102:AW102),2) -> 0 | AU102: ='D.8 SO 08 - Přeložky vodo...'!P124 -> 0 | AV102: ='D.8 SO 08 - Přeložky vodo...'!J33 -> 0 | AW102: ='D.8 SO 08 - Přeložky vodo...'!J34 -> 0 | AX102: ='D.8 SO 08 - Přeložky vodo...'!J35 -> 0 | AY102: ='D.8 SO 08 - Přeložky vodo...'!J36 -> 0 | AZ102: ='D.8 SO 08 - Přeložky vodo...'!F33 -> 0 | BA102: ='D.8 SO 08 - Přeložky vodo...'!F34 -> 0 | BB102: ='D.8 SO 08 - Přeložky vodo...'!F35 -> 0 | BC102: ='D.8 SO 08 - Přeložky vodo...'!F36 -> 0 | BD102: ='D.8 SO 08 - Přeložky vodo...'!F37 -> 0 | BT102: 1 | BV102: IMPORT | BW102: {e3b33a05-00af-4557-b66d-7ae2159bd827} | BX102: {c3e5e5c1-cfb6-4cbc-8b90-37410807f8f8} | CM102: 2
D103: D.9 SO 09 | J103: Zkapacitnění čerpací stanice KČS 01 Suchohrdly u Miroslavi | AG103: =ROUND(SUM(AG104:AG105),2) -> 0 | AN103: =SUM(AG103,AT103) -> 0 | AQ103: STA | AS103: =ROUND(SUM(AS104:AS105),2) -> 0 | AT103: =ROUND(SUM(AV103:AW103),2) -> 0 | AU103: =ROUND(SUM(AU104:AU105),5) -> 0 | AV103: =ROUND(AZ103*L29,2) -> 0 | AW103: =ROUND(BA103*L30,2) -> 0 | AX103: =ROUND(BB103*L29,2) -> 0 | AY103: =ROUND(BC103*L30,2) -> 0 | AZ103: =ROUND(SUM(AZ104:AZ105),2) -> 0 | BA103: =ROUND(SUM(BA104:BA105),2) -> 0 | BB103: =ROUND(SUM(BB104:BB105),2) -> 0 | BC103: =ROUND(SUM(BC104:BC105),2) -> 0 | BD103: =ROUND(SUM(BD104:BD105),2) -> 0 | BS103: D | BT103: 1 | BU103: ###NOIMPORT### | BV103: IMPORT | BW103: {3c994999-7fbf-45df-9f7d-d7f4cba350f4} | BX103: {c3e5e5c1-cfb6-4cbc-8b90-37410807f8f8} | CM103: 2
A104: / | E104: D.9.1 SO 09.1 | K104: Zkapacitnění čerpací stanice KČS 01 - Suchohrdly u Miroslavi | AG104: ='D.9.1 SO 09.1 - Zkapacitn...'!J32 -> 0 | AN104: =SUM(AG104,AT104) -> 0 | AQ104: Soupis | AS104: 0 | AT104: =ROUND(SUM(AV104:AW104),2) -> 0 | AU104: ='D.9.1 SO 09.1 - Zkapacitn...'!P129 -> 0 | AV104: ='D.9.1 SO 09.1 - Zkapacitn...'!J35 -> 0 | AW104: ='D.9.1 SO 09.1 - Zkapacitn...'!J36 -> 0 | AX104: ='D.9.1 SO 09.1 - Zkapacitn...'!J37 -> 0 | AY104: ='D.9.1 SO 09.1 - Zkapacitn...'!J38 -> 0 | AZ104: ='D.9.1 SO 09.1 - Zkapacitn...'!F35 -> 0 | BA104: ='D.9.1 SO 09.1 - Zkapacitn...'!F36 -> 0 | BB104: ='D.9.1 SO 09.1 - Zkapacitn...'!F37 -> 0 | BC104: ='D.9.1 SO 09.1 - Zkapacitn...'!F38 -> 0 | BD104: ='D.9.1 SO 09.1 - Zkapacitn...'!F39 -> 0 | BT104: 2 | BV104: IMPORT | BW104: {45ddfcac-37c3-4057-b815-c2fb872e58aa} | BX104: {3c994999-7fbf-45df-9f7d-d7f4cba350f4}
A105: / | E105: D.9.1 SO 09.2 | K105: Propojovací potrubí | AG105: ='D.9.1 SO 09.2 - Propojova...'!J32 -> 0 | AN105: =SUM(AG105,AT105) -> 0 | AQ105: Soupis | AS105: 0 | AT105: =ROUND(SUM(AV105:AW105),2) -> 0 | AU105: ='D.9.1 SO 09.2 - Propojova...'!P127 -> 0 | AV105: ='D.9.1 SO 09.2 - Propojova...'!J35 -> 0 | AW105: ='D.9.1 SO 09.2 - Propojova...'!J36 -> 0 | AX105: ='D.9.1 SO 09.2 - Propojova...'!J37 -> 0 | AY105: ='D.9.1 SO 09.2 - Propojova...'!J38 -> 0 | AZ105: ='D.9.1 SO 09.2 - Propojova...'!F35 -> 0 | BA105: ='D.9.1 SO 09.2 - Propojova...'!F36 -> 0 | BB105: ='D.9.1 SO 09.2 - Propojova...'!F37 -> 0 | BC105: ='D.9.1 SO 09.2 - Propojova...'!F38 -> 0 | BD105: ='D.9.1 SO 09.2 - Propojova...'!F39 -> 0 | BT105: 2 | BV105: IMPORT | BW105: {1ed7491b-b7e0-4fa7-89f8-7926141fb6c0} | BX105: {3c994999-7fbf-45df-9f7d-d7f4cba350f4}
D106: D.10 PS 01 | J106: Čerpací stanice KČS 01 Našiměřice | AG106: =ROUND(SUM(AG107:AG108),2) -> 0 | AN106: =SUM(AG106,AT106) -> 0 | AQ106: STA | AS106: =ROUND(SUM(AS107:AS108),2) -> 0 | AT106: =ROUND(SUM(AV106:AW106),2) -> 0 | AU106: =ROUND(SUM(AU107:AU108),5) -> 0 | AV106: =ROUND(AZ106*L29,2) -> 0 | AW106: =ROUND(BA106*L30,2) -> 0 | AX106: =ROUND(BB106*L29,2) -> 0 | AY106: =ROUND(BC106*L30,2) -> 0 | AZ106: =ROUND(SUM(AZ107:AZ108),2) -> 0 | BA106: =ROUND(SUM(BA107:BA108),2) -> 0 | BB106: =ROUND(SUM(BB107:BB108),2) -> 0 | BC106: =ROUND(SUM(BC107:BC108),2) -> 0 | BD106: =ROUND(SUM(BD107:BD108),2) -> 0 | BS106: D | BT106: 1 | BU106: ###NOIMPORT### | BV106: IMPORT | BW106: {cf12bdf7-c77a-482b-ae6c-aa1f55b78920} | BX106: {c3e5e5c1-cfb6-4cbc-8b90-37410807f8f8} | CM106: 2
A107: / | E107: D.10.1 DPS 01.1 | K107: Strojně technologická část | AG107: ='D.10.1 DPS 01.1 - Strojně...'!J32 -> 0 | AN107: =SUM(AG107,AT107) -> 0 | AQ107: Soupis | AS107: 0 | AT107: =ROUND(SUM(AV107:AW107),2) -> 0 | AU107: ='D.10.1 DPS 01.1 - Strojně...'!P124 -> 0 | AV107: ='D.10.1 DPS 01.1 - Strojně...'!J35 -> 0 | AW107: ='D.10.1 DPS 01.1 - Strojně...'!J36 -> 0 | AX107: ='D.10.1 DPS 01.1 - Strojně...'!J37 -> 0 | AY107: ='D.10.1 DPS 01.1 - Strojně...'!J38 -> 0 | AZ107: ='D.10.1 DPS 01.1 - Strojně...'!F35 -> 0 | BA107: ='D.10.1 DPS 01.1 - Strojně...'!F36 -> 0 | BB107: ='D.10.1 DPS 01.1 - Strojně...'!F37 -> 0 | BC107: ='D.10.1 DPS 01.1 - Strojně...'!F38 -> 0 | BD107: ='D.10.1 DPS 01.1 - Strojně...'!F39 -> 0 | BT107: 2 | BV107: IMPORT | BW107: {f44a7c88-df93-4f3b-856f-0bddd138149b} | BX107: {cf12bdf7-c77a-482b-ae6c-aa1f55b78920}
A108: / | E108: D.10.2 DPS 01.2 | K108: Elektrotechnologická část a přenos dat | AG108: ='D.10.2 DPS 01.2 - Elektro...'!J32 -> 0 | AN108: =SUM(AG108,AT108) -> 0 | AQ108: Soupis | AS108: 0 | AT108: =ROUND(SUM(AV108:AW108),2) -> 0 | AU108: ='D.10.2 DPS 01.2 - Elektro...'!P127 -> 0 | AV108: ='D.10.2 DPS 01.2 - Elektro...'!J35 -> 0 | AW108: ='D.10.2 DPS 01.2 - Elektro...'!J36 -> 0 | AX108: ='D.10.2 DPS 01.2 - Elektro...'!J37 -> 0 | AY108: ='D.10.2 DPS 01.2 - Elektro...'!J38 -> 0 | AZ108: ='D.10.2 DPS 01.2 - Elektro...'!F35 -> 0 | BA108: ='D.10.2 DPS 01.2 - Elektro...'!F36 -> 0 | BB108: ='D.10.2 DPS 01.2 - Elektro...'!F37 -> 0 | BC108: ='D.10.2 DPS 01.2 - Elektro...'!F38 -> 0 | BD108: ='D.10.2 DPS 01.2 - Elektro...'!F39 -> 0 | BT108: 2 | BV108: IMPORT | BW108: {544e72c0-4b9c-4bbf-8ce5-397c1051c87c} | BX108: {cf12bdf7-c77a-482b-ae6c-aa1f55b78920}
D109: D.11 PS 02 | J109: Zkapacitnění čerpací stanice KČS 01 Suchohrdly u Miroslavi | AG109: =ROUND(SUM(AG110:AG111),2) -> 0 | AN109: =SUM(AG109,AT109) -> 0 | AQ109: STA | AS109: =ROUND(SUM(AS110:AS111),2) -> 0 | AT109: =ROUND(SUM(AV109:AW109),2) -> 0 | AU109: =ROUND(SUM(AU110:AU111),5) -> 0 | AV109: =ROUND(AZ109*L29,2) -> 0 | AW109: =ROUND(BA109*L30,2) -> 0 | AX109: =ROUND(BB109*L29,2) -> 0 | AY109: =ROUND(BC109*L30,2) -> 0 | AZ109: =ROUND(SUM(AZ110:AZ111),2) -> 0 | BA109: =ROUND(SUM(BA110:BA111),2) -> 0 | BB109: =ROUND(SUM(BB110:BB111),2) -> 0 | BC109: =ROUND(SUM(BC110:BC111),2) -> 0 | BD109: =ROUND(SUM(BD110:BD111),2) -> 0 | BS109: D | BT109: 1 | BU109: ###NOIMPORT### | BV109: IMPORT | BW109: {34226e86-c27d-4718-bcdb-f639f328df20} | BX109: {c3e5e5c1-cfb6-4cbc-8b90-37410807f8f8} | CM109: 2
A110: / | E110: D.11.1 DPS 02.1 | K110: Strojně technologická část | AG110: ='D.11.1 DPS 02.1 - Strojně...'!J32 -> 0 | AN110: =SUM(AG110,AT110) -> 0 | AQ110: Soupis | AS110: 0 | AT110: =ROUND(SUM(AV110:AW110),2) -> 0 | AU110: ='D.11.1 DPS 02.1 - Strojně...'!P124 -> 0 | AV110: ='D.11.1 DPS 02.1 - Strojně...'!J35 -> 0 | AW110: ='D.11.1 DPS 02.1 - Strojně...'!J36 -> 0 | AX110: ='D.11.1 DPS 02.1 - Strojně...'!J37 -> 0 | AY110: ='D.11.1 DPS 02.1 - Strojně...'!J38 -> 0 | AZ110: ='D.11.1 DPS 02.1 - Strojně...'!F35 -> 0 | BA110: ='D.11.1 DPS 02.1 - Strojně...'!F36 -> 0 | BB110: ='D.11.1 DPS 02.1 - Strojně...'!F37 -> 0 | BC110: ='D.11.1 DPS 02.1 - Strojně...'!F38 -> 0 | BD110: ='D.11.1 DPS 02.1 - Strojně...'!F39 -> 0 | BT110: 2 | BV110: IMPORT | BW110: {efb65a0d-ae72-4f4b-b4cc-40ef274baf6b} | BX110: {34226e86-c27d-4718-bcdb-f639f328df20}
A111: / | E111: D.11.2 DPS 02.2 | K111: Elektrotechnologická část a přenos dat | AG111: ='D.11.2 DPS 02.2 - Elektro...'!J32 -> 0 | AN111: =SUM(AG111,AT111) -> 0 | AQ111: Soupis | AS111: 0 | AT111: =ROUND(SUM(AV111:AW111),2) -> 0 | AU111: ='D.11.2 DPS 02.2 - Elektro...'!P127 -> 0 | AV111: ='D.11.2 DPS 02.2 - Elektro...'!J35 -> 0 | AW111: ='D.11.2 DPS 02.2 - Elektro...'!J36 -> 0 | AX111: ='D.11.2 DPS 02.2 - Elektro...'!J37 -> 0 | AY111: ='D.11.2 DPS 02.2 - Elektro...'!J38 -> 0 | AZ111: ='D.11.2 DPS 02.2 - Elektro...'!F35 -> 0 | BA111: ='D.11.2 DPS 02.2 - Elektro...'!F36 -> 0 | BB111: ='D.11.2 DPS 02.2 - Elektro...'!F37 -> 0 | BC111: ='D.11.2 DPS 02.2 - Elektro...'!F38 -> 0 | BD111: ='D.11.2 DPS 02.2 - Elektro...'!F39 -> 0 | BT111: 2 | BV111: IMPORT | BW111: {1399aade-01da-4ec7-b979-a17f2ad25d1f} | BX111: {34226e86-c27d-4718-bcdb-f639f328df20}
A112: / | D112: D.12 | J112: VRN | AG112: ='D.12 - VRN'!J30 -> 0 | AN112: =SUM(AG112,AT112) -> 0 | AQ112: STA | AS112: 0 | AT112: =ROUND(SUM(AV112:AW112),2) -> 0 | AU112: ='D.12 - VRN'!P121 -> 0 | AV112: ='D.12 - VRN'!J33 -> 0 | AW112: ='D.12 - VRN'!J34 -> 0 | AX112: ='D.12 - VRN'!J35 -> 0 | AY112: ='D.12 - VRN'!J36 -> 0 | AZ112: ='D.12 - VRN'!F33 -> 0 | BA112: ='D.12 - VRN'!F34 -> 0 | BB112: ='D.12 - VRN'!F35 -> 0 | BC112: ='D.12 - VRN'!F36 -> 0 | BD112: ='D.12 - VRN'!F37 -> 0 | BT112: 1 | BV112: IMPORT | BW112: {fc2a4155-3724-43a2-9947-03b95b2ff378} | BX112: {c3e5e5c1-cfb6-4cbc-8b90-37410807f8f8} | CM112: 2

Sheet D.1 SO 01 - Splašková kan...
AT2: {4205f01a-207a-4df0-beae-24ea0213f993}
AT3: 2
D4: KRYCÍ LIST SOUPISU PRACÍ | M4: v --- níže se nacházejí doplnkové a pomocné údaje k sestavám --- v | AT4: False
D6: Stavba:
E7: ='Rekapitulace stavby'!K6 -> Našiměřice - Splašková kanalizace - ÚRS I/2026-úprava po připomínkách uchazečů
D8: Objekt:
E9: D.1 SO 01 - Splašková kanalizace gravitační
D11: KSO: | I11: CC-CZ:
D12: Místo: | F12: Našiměřice | I12: Datum: | J12: ='Rekapitulace stavby'!AN8 -> 19. 6. 2026
D14: Zadavatel: | I14: IČ: | J14: =IF('Rekapitulace stavby'!AN10="","",'Rekapitulace stavby'!AN10)
E15: =IF('Rekapitulace stavby'!E11="","",'Rekapitulace stavby'!E11) | I15: DIČ: | J15: =IF('Rekapitulace stavby'!AN11="","",'Rekapitulace stavby'!AN11)
D17: Uchazeč: | I17: IČ: | J17: ='Rekapitulace stavby'!AN13 -> Vyplň údaj
E18: ='Rekapitulace stavby'!E14 -> Vyplň údaj | I18: DIČ: | J18: ='Rekapitulace stavby'!AN14 -> Vyplň údaj
D20: Projektant: | I20: IČ: | J20: =IF('Rekapitulace stavby'!AN16="","",'Rekapitulace stavby'!AN16)
E21: =IF('Rekapitulace stavby'!E17="","",'Rekapitulace stavby'!E17) | I21: DIČ: | J21: =IF('Rekapitulace stavby'!AN17="","",'Rekapitulace stavby'!AN17)
D23: Zpracovatel: | I23: IČ: | J23: =IF('Rekapitulace stavby'!AN19="","",'Rekapitulace stavby'!AN19)
E24: =IF('Rekapitulace stavby'!E20="","",'Rekapitulace stavby'!E20) | I24: DIČ: | J24: =IF('Rekapitulace stavby'!AN20="","",'Rekapitulace stavby'!AN20)
D26: Poznámka:
D30: Cena bez DPH | J30: =ROUND(J125, 2) -> 0
F32: Základ daně | I32: Sazba daně | J32: Výše daně
D33: DPH | E33: základní | F33: =ROUND((SUM(BE125:BE1204)), 2) -> 0 | I33: 0.21 | J33: =ROUND(((SUM(BE125:BE1204))*I33), 2) -> 0
E34: snížená | F34: =ROUND((SUM(BF125:BF1204)), 2) -> 0 | I34: 0.12 | J34: =ROUND(((SUM(BF125:BF1204))*I34), 2) -> 0
E35: zákl. přenesená | F35: =ROUND((SUM(BG125:BG1204)), 2) -> 0 | I35: 0.21 | J35: =0 -> 0
E36: sníž. přenesená | F36: =ROUND((SUM(BH125:BH1204)), 2) -> 0 | I36: 0.12 | J36: =0 -> 0
E37: nulová | F37: =ROUND((SUM(BI125:BI1204)), 2) -> 0 | I37: 0 | J37: =0 -> 0
D39: Cena s DPH | G39: v | H39: CZK | J39: =SUM(J30:J37) -> 0
D50: Projektant | G50: Zpracovatel
D61: Datum a podpis: | F61: Razítko | G61: Datum a podpis: | J61: Razítko
D65: Objednavatel | G65: Uchazeč
D76: Datum a podpis: | F76: Razítko | G76: Datum a podpis: | J76: Razítko
C82: REKAPITULACE ČLENĚNÍ SOUPISU PRACÍ
C84: Stavba:
E85: =E7 -> Našiměřice - Splašková kanalizace - ÚRS I/2026-úprava po připomínkách uchazečů
C86: Objekt:
E87: =E9 -> D.1 SO 01 - Splašková kanalizace gravitační
C89: Místo: | F89: =F12 -> Našiměřice | I89: Datum: | J89: =IF(J12="","",J12) -> 19. 6. 2026
C91: Zadavatel: | F91: =E15 | I91: Projektant: | J91: =E21
C92: Uchazeč: | F92: =IF(E18="","",E18) -> Vyplň údaj | I92: Zpracovatel: | J92: =E24
C94: Kód dílu - Popis | J94: Cena celkem [CZK]
C96: Náklady ze soupisu prací | J96: =J125 -> 0 | AU96: -1
D97: HSV - Práce a dodávky HSV | J97: =J126 -> 0
D98: 1 - Zemní práce | J98: =J127 -> 0
D99: 2 - Zakládání | J99: =J626 -> 0
D100: 4 - Vodorovné konstrukce | J100: =J684 -> 0
D101: 5 - Komunikace | J101: =J763 -> 0
D102: 8 - Trubní vedení | J102: =J852 -> 0
D103: 9 - Ostatní konstrukce a práce, bourání | J103: =J1108 -> 0
D104: 997 - Přesun sutě | J104: =J1178 -> 0
D105: 998 - Přesun hmot | J105: =J1195 -> 0
C112: SOUPIS PRACÍ
C114: Stavba:
E115: =E7 -> Našiměřice - Splašková kanalizace - ÚRS I/2026-úprava po připomínkách uchazečů
C116: Objekt:
E117: =E9 -> D.1 SO 01 - Splašková kanalizace gravitační
C119: Místo: | F119: =F12 -> Našiměřice | I119: Datum: | J119: =IF(J12="","",J12) -> 19. 6. 2026
C121: Zadavatel: | F121: =E15 | I121: Projektant: | J121: =E21
C122: Uchazeč: | F122: =IF(E18="","",E18) -> Vyplň údaj | I122: Zpracovatel: | J122: =E24
C124: PČ | D124: Typ | E124: Kód | F124: Popis | G124: MJ | H124: Množství | I124: J.cena [CZK] | J124: Cena celkem [CZK] | K124: Cenová soustava | N124: DPH | O124: J. Nh [h] | P124: Nh celkem [h] | Q124: J. hmotnost [t] | R124: Hmotnost celkem [t] | S124: J. suť [t] | T124: Suť Celkem [t]
C125: Náklady soupisu celkem | J125: =BK125 -> 0 | P125: =P126 -> 0 | R125: =R126 -> 5467.6798 | T125: =T126 -> 1836.4665 | AT125: D | AU125: -1 | BK125: =BK126 -> 0
D126: D | E126: HSV | F126: Práce a dodávky HSV | J126: =BK126 -> 0 | P126: =P127+P626+P684+P763+P852+P1108+P1178+P1195 -> 0 | R126: =R127+R626+R684+R763+R852+R1108+R1178+R1195 -> 5467.6798 | T126: =T127+T626+T684+T763+T852+T1108+T1178+T1195 -> 1836.4665 | AR126: 1 | AT126: D | AU126: 0 | AY126: ROZPOCET | BK126: =BK127+BK626+BK684+BK763+BK852+BK1108+BK1178+BK1195 -> 0
D127: D | E127: 1 | F127: Zemní práce | J127: =BK127 -> 0 | P127: =SUM(P128:P625) -> 0 | R127: =SUM(R128:R625) -> 2074.6966 | T127: =SUM(T128:T625) -> 1836.4665 | AR127: 1 | AT127: D | AU127: 1 | AY127: ROZPOCET | BK127: =SUM(BK128:BK625) -> 0
C128: 1 | D128: K | E128: 111251101 | F128: Odstranění křovin a stromů průměru kmene do 100 mm i s kořeny sklonu terénu do 1:5 z celkové plochy do 100 m2 strojně | G128: m2 | H128: 40 | J128: =ROUND(I128*H128,2) -> 0 | N128: základní | P128: =O128*H128 -> 0 | Q128: 0 | R128: =Q128*H128 -> 0 | S128: 0 | T128: =S128*H128 -> 0 | AR128: 4 | AT128: K | AU128: 2 | AY128: ROZPOCET | BE128: =IF(N128="základní",J128,0) -> 0 | BF128: =IF(N128="snížená",J128,0) -> 0 | BG128: =IF(N128="zákl. přenesená",J128,0) -> 0 | BH128: =IF(N128="sníž. přenesená",J128,0) -> 0 | BI128: =IF(N128="nulová",J128,0) -> 0 | BJ128: 1 | BK128: =ROUND(I128*H128,2) -> 0 | BL128: 4 | BM128: -1801475985
D129: VV | F129: 80/2 | H129: 40 | AT129: VV | AU129: 2 | AV129: 2 | AW129: True | AX129: 1 | AY129: ROZPOCET
C130: 2 | D130: K | E130: 113106121 | F130: Rozebrání dlažeb z betonových nebo kamenných dlaždic komunikací pro pěší ručně | G130: m2 | H130: 21.84 | J130: =ROUND(I130*H130,2) -> 0 | N130: základní | P130: =O130*H130 -> 0 | Q130: 0 | R130: =Q130*H130 -> 0 | S130: 0 | T130: =S130*H130 -> 0 | AR130: 4 | AT130: K | AU130: 2 | AY130: ROZPOCET | BE130: =IF(N130="základní",J130,0) -> 0 | BF130: =IF(N130="snížená",J130,0) -> 0 | BG130: =IF(N130="zákl. přenesená",J130,0) -> 0 | BH130: =IF(N130="sníž. přenesená",J130,0) -> 0 | BI130: =IF(N130="nulová",J130,0) -> 0 | BJ130: 1 | BK130: =ROUND(I130*H130,2) -> 0 | BL130: 4 | BM130: 1098108014
D131: VV | F131: Dlažba betonová | AT131: VV | AU131: 2 | AV131: 1 | AW131: True | AX131: 0 | AY131: ROZPOCET
D132: VV | F132: viz tabulka L133 | AT132: VV | AU132: 2 | AV132: 1 | AW132: True | AX132: 0 | AY132: ROZPOCET
D133: VV | F133: 21,84 | H133: 21.84 | AT133: VV | AU133: 2 | AV133: 2 | AW133: True | AX133: 0 | AY133: ROZPOCET
D134: VV | F134: Součet | H134: 21.84 | AT134: VV | AU134: 2 | AV134: 4 | AW134: True | AX134: 1 | AY134: ROZPOCET
C135: 3 | D135: K | E135: 113106123 | F135: Rozebrání dlažeb ze zámkových dlaždic komunikací pro pěší ručně | G135: m2 | H135: 30.96 | J135: =ROUND(I135*H135,2) -> 0 | N135: základní | P135: =O135*H135 -> 0 | Q135: 0 | R135: =Q135*H135 -> 0 | S135: 0 | T135: =S135*H135 -> 0 | AR135: 4 | AT135: K | AU135: 2 | AY135: ROZPOCET | BE135: =IF(N135="základní",J135,0) -> 0 | BF135: =IF(N135="snížená",J135,0) -> 0 | BG135: =IF(N135="zákl. přenesená",J135,0) -> 0 | BH135: =IF(N135="sníž. přenesená",J135,0) -> 0 | BI135: =IF(N135="nulová",J135,0) -> 0 | BJ135: 1 | BK135: =ROUND(I135*H135,2) -> 0 | BL135: 4 | BM135: -136465567
D136: VV | F136: Dlažba zámková | AT136: VV | AU136: 2 | AV136: 1 | AW136: True | AX136: 0 | AY136: ROZPOCET
D137: VV | F137: viz tabulka K133 | AT137: VV | AU137: 2 | AV137: 1 | AW137: True | AX137: 0 | AY137: ROZPOCET
D138: VV | F138: 30,96 | H138: 30.96 | AT138: VV | AU138: 2 | AV138: 2 | AW138: True | AX138: 0 | AY138: ROZPOCET
D139: VV | F139: Součet | H139: 30.96 | AT139: VV | AU139: 2 | AV139: 4 | AW139: True | AX139: 1 | AY139: ROZPOCET
C140: 4 | D140: K | E140: 113106190 | F140: Rozebrání vozovek ze silničních dílců se spárami vyplněnými kamenivem strojně pl do 50 m2 | G140: m2 | H140: 45 | J140: =ROUND(I140*H140,2) -> 0 | N140: základní | P140: =O140*H140 -> 0 | Q140: 0 | R140: =Q140*H140 -> 0 | S140: 0 | T140: =S140*H140 -> 0 | AR140: 4 | AT140: K | AU140: 2 | AY140: ROZPOCET | BE140: =IF(N140="základní",J140,0) -> 0 | BF140: =IF(N140="snížená",J140,0) -> 0 | BG140: =IF(N140="zákl. přenesená",J140,0) -> 0 | BH140: =IF(N140="sníž. přenesená",J140,0) -> 0 | BI140: =IF(N140="nulová",J140,0) -> 0 | BJ140: 1 | BK140: =ROUND(I140*H140,2) -> 0 | BL140: 4 | BM140: -1551968803
D141: VV | F141: Betonové panely | AT141: VV | AU141: 2 | AV141: 1 | AW141: True | AX141: 0 | AY141: ROZPOCET
D142: VV | F142: viz tabulka K157 | AT142: VV | AU142: 2 | AV142: 1 | AW142: True | AX142: 0 | AY142: ROZPOCET
D143: VV | F143: 45 | H143: 45 | AT143: VV | AU143: 2 | AV143: 2 | AW143: True | AX143: 0 | AY143: ROZPOCET
D144: VV | F144: Součet | H144: 45 | AT144: VV | AU144: 2 | AV144: 4 | AW144: True | AX144: 1 | AY144: ROZPOCET
C145: 5 | D145: K | E145: 113107161 | F145: Odstranění podkladu z kameniva drceného tl do 100 mm strojně pl přes 50 do 200 m2 | G145: m2 | H145: 175.24 | J145: =ROUND(I145*H145,2) -> 0 | N145: základní | P145: =O145*H145 -> 0 | Q145: 0 | R145: =Q145*H145 -> 0 | S145: 0.17 | T145: =S145*H145 -> 29.7908 | AR145: 4 | AT145: K | AU145: 2 | AY145: ROZPOCET | BE145: =IF(N145="základní",J145,0) -> 0 | BF145: =IF(N145="snížená",J145,0) -> 0 | BG145: =IF(N145="zákl. přenesená",J145,0) -> 0 | BH145: =IF(N145="sníž. přenesená",J145,0) -> 0 | BI145: =IF(N145="nulová",J145,0) -> 0 | BJ145: 1 | BK145: =ROUND(I145*H145,2) -> 0 | BL145: 4 | BM145: 1489858775
D146: VV | F146: Betonová komunikace | AT146: VV | AU146: 2 | AV146: 1 | AW146: True | AX146: 0 | AY146: ROZPOCET
D147: VV | F147: viz tabulka L78 | AT147: VV | AU147: 2 | AV147: 1 | AW147: True | AX147: 0 | AY147: ROZPOCET
D148: VV | F148: 175,24 | H148: 175.24 | AT148: VV | AU148: 2 | AV148: 2 | AW148: True | AX148: 0 | AY148: ROZPOCET
D149: VV | F149: Součet | H149: 175.24 | AT149: VV | AU149: 2 | AV149: 4 | AW149: True | AX149: 1 | AY149: ROZPOCET
C150: 6 | D150: K | E150: 113107222 | F150: Odstranění podkladu z kameniva drceného tl přes 100 do 200 mm strojně pl přes 200 m2 | G150: m2 | H150: 3517.17 | J150: =ROUND(I150*H150,2) -> 0 | N150: základní | P150: =O150*H150 -> 0 | Q150: 0 | R150: =Q150*H150 -> 0 | S150: 0.29 | T150: =S150*H150 -> 1019.9793 | AR150: 4 | AT150: K | AU150: 2 | AY150: ROZPOCET | BE150: =IF(N150="základní",J150,0) -> 0 | BF150: =IF(N150="snížená",J150,0) -> 0 | BG150: =IF(N150="zákl. přenesená",J150,0) -> 0 | BH150: =IF(N150="sníž. přenesená",J150,0) -> 0 | BI150: =IF(N150="nulová",J150,0) -> 0 | BJ150: 1 | BK150: =ROUND(I150*H150,2) -> 0 | BL150: 4 | BM150: -1619081764
D151: VV | F151: Štěrk | AT151: VV | AU151: 2 | AV151: 1 | AW151: True | AX151: 0 | AY151: ROZPOCET
D152: VV | F152: viz tabulka I37 | AT152: VV | AU152: 2 | AV152: 1 | AW152: True | AX152: 0 | AY152: ROZPOCET
D153: VV | F153: 104,78 | H153: 104.78 | AT153: VV | AU153: 2 | AV153: 2 | AW153: True | AX153: 0 | AY153: ROZPOCET
D154: VV | F154: Asfalt | AT154: VV | AU154: 2 | AV154: 1 | AW154: True | AX154: 0 | AY154: ROZPOCET
D155: VV | F155: viz tabulka L57 | AT155: VV | AU155: 2 | AV155: 1 | AW155: True | AX155: 0 | AY155: ROZPOCET
D156: VV | F156: 2*1192,36 | H156: 2384.72 | AT156: VV | AU156: 2 | AV156: 2 | AW156: True | AX156: 0 | AY156: ROZPOCET
D157: VV | F157: Dlažba betonová | AT157: VV | AU157: 2 | AV157: 1 | AW157: True | AX157: 0 | AY157: ROZPOCET
D158: VV | F158: viz tabulka L133 | AT158: VV | AU158: 2 | AV158: 1 | AW158: True | AX158: 0 | AY158: ROZPOCET
D159: VV | F159: 21,84 | H159: 21.84 | AT159: VV | AU159: 2 | AV159: 2 | AW159: True | AX159: 0 | AY159: ROZPOCET
D160: VV | F160: Dlažba zámková | AT160: VV | AU160: 2 | AV160: 1 | AW160: True | AX160: 0 | AY160: ROZPOCET
D161: VV | F161: viz tabulka K133 | AT161: VV | AU161: 2 | AV161: 1 | AW161: True | AX161: 0 | AY161: ROZPOCET
D162: VV | F162: 30,96 | H162: 30.96 | AT162: VV | AU162: 2 | AV162: 2 | AW162: True | AX162: 0 | AY162: ROZPOCET
D163: VV | F163: Betonová komunikace | AT163: VV | AU163: 2 | AV163: 1 | AW163: True | AX163: 0 | AY163: ROZPOCET
D164: VV | F164: viz tabulka L78 | AT164: VV | AU164: 2 | AV164: 1 | AW164: True | AX164: 0 | AY164: ROZPOCET
D165: VV | F165: 175,24 | H165: 175.24 | AT165: VV | AU165: 2 | AV165: 2 | AW165: True | AX165: 0 | AY165: ROZPOCET
D166: VV | F166: Betonové panely | AT166: VV | AU166: 2 | AV166: 1 | AW166: True | AX166: 0 | AY166: ROZPOCET
...

Sheet D.2 SO 02 - Výtlak splašk...
AT2: {00bf89c2-c112-4315-be03-8b871735e131}
AT3: 2
D4: KRYCÍ LIST SOUPISU PRACÍ | M4: v --- níže se nacházejí doplnkové a pomocné údaje k sestavám --- v | AT4: False
D6: Stavba:
E7: ='Rekapitulace stavby'!K6 -> Našiměřice - Splašková kanalizace - ÚRS I/2026-úprava po připomínkách uchazečů
D8: Objekt:
E9: D.2 SO 02 - Výtlak splaškové kanalizace
D11: KSO: | I11: CC-CZ:
D12: Místo: | F12: Našiměřice | I12: Datum: | J12: ='Rekapitulace stavby'!AN8 -> 19. 6. 2026
D14: Zadavatel: | I14: IČ: | J14: =IF('Rekapitulace stavby'!AN10="","",'Rekapitulace stavby'!AN10)
E15: =IF('Rekapitulace stavby'!E11="","",'Rekapitulace stavby'!E11) | I15: DIČ: | J15: =IF('Rekapitulace stavby'!AN11="","",'Rekapitulace stavby'!AN11)
D17: Uchazeč: | I17: IČ: | J17: ='Rekapitulace stavby'!AN13 -> Vyplň údaj
E18: ='Rekapitulace stavby'!E14 -> Vyplň údaj | I18: DIČ: | J18: ='Rekapitulace stavby'!AN14 -> Vyplň údaj
D20: Projektant: | I20: IČ: | J20: =IF('Rekapitulace stavby'!AN16="","",'Rekapitulace stavby'!AN16)
E21: =IF('Rekapitulace stavby'!E17="","",'Rekapitulace stavby'!E17) | I21: DIČ: | J21: =IF('Rekapitulace stavby'!AN17="","",'Rekapitulace stavby'!AN17)
D23: Zpracovatel: | I23: IČ: | J23: =IF('Rekapitulace stavby'!AN19="","",'Rekapitulace stavby'!AN19)
E24: =IF('Rekapitulace stavby'!E20="","",'Rekapitulace stavby'!E20) | I24: DIČ: | J24: =IF('Rekapitulace stavby'!AN20="","",'Rekapitulace stavby'!AN20)
D26: Poznámka:
D30: Cena bez DPH | J30: =ROUND(J125, 2) -> 0
F32: Základ daně | I32: Sazba daně | J32: Výše daně
D33: DPH | E33: základní | F33: =ROUND((SUM(BE125:BE1086)), 2) -> 0 | I33: 0.21 | J33: =ROUND(((SUM(BE125:BE1086))*I33), 2) -> 0
E34: snížená | F34: =ROUND((SUM(BF125:BF1086)), 2) -> 0 | I34: 0.12 | J34: =ROUND(((SUM(BF125:BF1086))*I34), 2) -> 0
E35: zákl. přenesená | F35: =ROUND((SUM(BG125:BG1086)), 2) -> 0 | I35: 0.21 | J35: =0 -> 0
E36: sníž. přenesená | F36: =ROUND((SUM(BH125:BH1086)), 2) -> 0 | I36: 0.12 | J36: =0 -> 0
E37: nulová | F37: =ROUND((SUM(BI125:BI1086)), 2) -> 0 | I37: 0 | J37: =0 -> 0
D39: Cena s DPH | G39: v | H39: CZK | J39: =SUM(J30:J37) -> 0
D50: Projektant | G50: Zpracovatel
D61: Datum a podpis: | F61: Razítko | G61: Datum a podpis: | J61: Razítko
D65: Objednavatel | G65: Uchazeč
D76: Datum a podpis: | F76: Razítko | G76: Datum a podpis: | J76: Razítko
C82: REKAPITULACE ČLENĚNÍ SOUPISU PRACÍ
C84: Stavba:
E85: =E7 -> Našiměřice - Splašková kanalizace - ÚRS I/2026-úprava po připomínkách uchazečů
C86: Objekt:
E87: =E9 -> D.2 SO 02 - Výtlak splaškové kanalizace
C89: Místo: | F89: =F12 -> Našiměřice | I89: Datum: | J89: =IF(J12="","",J12) -> 19. 6. 2026
C91: Zadavatel: | F91: =E15 | I91: Projektant: | J91: =E21
C92: Uchazeč: | F92: =IF(E18="","",E18) -> Vyplň údaj | I92: Zpracovatel: | J92: =E24
C94: Kód dílu - Popis | J94: Cena celkem [CZK]
C96: Náklady ze soupisu prací | J96: =J125 -> 0 | AU96: -1
D97: HSV - Práce a dodávky HSV | J97: =J126 -> 0
D98: 1 - Zemní práce | J98: =J127 -> 0
D99: 2 - Zakládání | J99: =J458 -> 0
D100: 4 - Vodorovné konstrukce | J100: =J487 -> 0
D101: 5 - Komunikace | J101: =J590 -> 0
D102: 8 - Trubní vedení | J102: =J645 -> 0
D103: 9 - Ostatní konstrukce a práce, bourání | J103: =J1001 -> 0
D104: 997 - Přesun sutě | J104: =J1063 -> 0
D105: 998 - Přesun hmot | J105: =J1077 -> 0
C112: SOUPIS PRACÍ
C114: Stavba:
E115: =E7 -> Našiměřice - Splašková kanalizace - ÚRS I/2026-úprava po připomínkách uchazečů
C116: Objekt:
E117: =E9 -> D.2 SO 02 - Výtlak splaškové kanalizace
C119: Místo: | F119: =F12 -> Našiměřice | I119: Datum: | J119: =IF(J12="","",J12) -> 19. 6. 2026
C121: Zadavatel: | F121: =E15 | I121: Projektant: | J121: =E21
C122: Uchazeč: | F122: =IF(E18="","",E18) -> Vyplň údaj | I122: Zpracovatel: | J122: =E24
C124: PČ | D124: Typ | E124: Kód | F124: Popis | G124: MJ | H124: Množství | I124: J.cena [CZK] | J124: Cena celkem [CZK] | K124: Cenová soustava | N124: DPH | O124: J. Nh [h] | P124: Nh celkem [h] | Q124: J. hmotnost [t] | R124: Hmotnost celkem [t] | S124: J. suť [t] | T124: Suť Celkem [t]
C125: Náklady soupisu celkem | J125: =BK125 -> 0 | P125: =P126 -> 0 | R125: =R126 -> 4718.9982 | T125: =T126 -> 2286.4125 | AT125: D | AU125: -1 | BK125: =BK126 -> 0
D126: D | E126: HSV | F126: Práce a dodávky HSV | J126: =BK126 -> 0 | P126: =P127+P458+P487+P590+P645+P1001+P1063+P1077 -> 0 | R126: =R127+R458+R487+R590+R645+R1001+R1063+R1077 -> 4718.9982 | T126: =T127+T458+T487+T590+T645+T1001+T1063+T1077 -> 2286.4125 | AR126: 1 | AT126: D | AU126: 0 | AY126: ROZPOCET | BK126: =BK127+BK458+BK487+BK590+BK645+BK1001+BK1063+BK1077 -> 0
D127: D | E127: 1 | F127: Zemní práce | J127: =BK127 -> 0 | P127: =SUM(P128:P457) -> 0 | R127: =SUM(R128:R457) -> 1722.3303 | T127: =SUM(T128:T457) -> 2286.4112 | AR127: 1 | AT127: D | AU127: 1 | AY127: ROZPOCET | BK127: =SUM(BK128:BK457) -> 0
C128: 1 | D128: K | E128: 111251101 | F128: Odstranění křovin a stromů průměru kmene do 100 mm i s kořeny sklonu terénu do 1:5 z celkové plochy do 100 m2 strojně | G128: m2 | H128: 40 | J128: =ROUND(I128*H128,2) -> 0 | N128: základní | P128: =O128*H128 -> 0 | Q128: 0 | R128: =Q128*H128 -> 0 | S128: 0 | T128: =S128*H128 -> 0 | AR128: 4 | AT128: K | AU128: 2 | AY128: ROZPOCET | BE128: =IF(N128="základní",J128,0) -> 0 | BF128: =IF(N128="snížená",J128,0) -> 0 | BG128: =IF(N128="zákl. přenesená",J128,0) -> 0 | BH128: =IF(N128="sníž. přenesená",J128,0) -> 0 | BI128: =IF(N128="nulová",J128,0) -> 0 | BJ128: 1 | BK128: =ROUND(I128*H128,2) -> 0 | BL128: 4 | BM128: 185710866
D129: VV | F129: 80/2 | H129: 40 | AT129: VV | AU129: 2 | AV129: 2 | AW129: True | AX129: 1 | AY129: ROZPOCET
C130: 2 | D130: K | E130: 113106123 | F130: Rozebrání dlažeb ze zámkových dlaždic komunikací pro pěší ručně | G130: m2 | H130: 28.44 | J130: =ROUND(I130*H130,2) -> 0 | N130: základní | P130: =O130*H130 -> 0 | Q130: 0 | R130: =Q130*H130 -> 0 | S130: 0 | T130: =S130*H130 -> 0 | AR130: 4 | AT130: K | AU130: 2 | AY130: ROZPOCET | BE130: =IF(N130="základní",J130,0) -> 0 | BF130: =IF(N130="snížená",J130,0) -> 0 | BG130: =IF(N130="zákl. přenesená",J130,0) -> 0 | BH130: =IF(N130="sníž. přenesená",J130,0) -> 0 | BI130: =IF(N130="nulová",J130,0) -> 0 | BJ130: 1 | BK130: =ROUND(I130*H130,2) -> 0 | BL130: 4 | BM130: 413893429
D131: VV | F131: Dlažba zámková | AT131: VV | AU131: 2 | AV131: 1 | AW131: True | AX131: 0 | AY131: ROZPOCET
D132: VV | F132: viz tabulka K134 | AT132: VV | AU132: 2 | AV132: 1 | AW132: True | AX132: 0 | AY132: ROZPOCET
D133: VV | F133: 28,44 | H133: 28.44 | AT133: VV | AU133: 2 | AV133: 2 | AW133: True | AX133: 0 | AY133: ROZPOCET
D134: VV | F134: Součet | H134: 28.44 | AT134: VV | AU134: 2 | AV134: 4 | AW134: True | AX134: 1 | AY134: ROZPOCET
C135: 3 | D135: K | E135: 113107161 | F135: Odstranění podkladu z kameniva drceného tl do 100 mm strojně pl přes 50 do 200 m2 | G135: m2 | H135: 134.61 | J135: =ROUND(I135*H135,2) -> 0 | N135: základní | P135: =O135*H135 -> 0 | Q135: 0 | R135: =Q135*H135 -> 0 | S135: 0.17 | T135: =S135*H135 -> 22.8837 | AR135: 4 | AT135: K | AU135: 2 | AY135: ROZPOCET | BE135: =IF(N135="základní",J135,0) -> 0 | BF135: =IF(N135="snížená",J135,0) -> 0 | BG135: =IF(N135="zákl. přenesená",J135,0) -> 0 | BH135: =IF(N135="sníž. přenesená",J135,0) -> 0 | BI135: =IF(N135="nulová",J135,0) -> 0 | BJ135: 1 | BK135: =ROUND(I135*H135,2) -> 0 | BL135: 4 | BM135: 1085259787
D136: VV | F136: Betonová komunikace | AT136: VV | AU136: 2 | AV136: 1 | AW136: True | AX136: 0 | AY136: ROZPOCET
D137: VV | F137: J79 | AT137: VV | AU137: 2 | AV137: 1 | AW137: True | AX137: 0 | AY137: ROZPOCET
D138: VV | F138: 134,61 | H138: 134.61 | AT138: VV | AU138: 2 | AV138: 2 | AW138: True | AX138: 0 | AY138: ROZPOCET
D139: VV | F139: Součet | H139: 134.61 | AT139: VV | AU139: 2 | AV139: 4 | AW139: True | AX139: 1 | AY139: ROZPOCET
C140: 4 | D140: K | E140: 113107222 | F140: Odstranění podkladu z kameniva drceného tl přes 100 do 200 mm strojně pl přes 200 m2 | G140: m2 | H140: 4641.01 | J140: =ROUND(I140*H140,2) -> 0 | N140: základní | P140: =O140*H140 -> 0 | Q140: 0 | R140: =Q140*H140 -> 0 | S140: 0.29 | T140: =S140*H140 -> 1345.8929 | AR140: 4 | AT140: K | AU140: 2 | AY140: ROZPOCET | BE140: =IF(N140="základní",J140,0) -> 0 | BF140: =IF(N140="snížená",J140,0) -> 0 | BG140: =IF(N140="zákl. přenesená",J140,0) -> 0 | BH140: =IF(N140="sníž. přenesená",J140,0) -> 0 | BI140: =IF(N140="nulová",J140,0) -> 0 | BJ140: 1 | BK140: =ROUND(I140*H140,2) -> 0 | BL140: 4 | BM140: 63027400
D141: VV | F141: Štěrk | AT141: VV | AU141: 2 | AV141: 1 | AW141: True | AX141: 0 | AY141: ROZPOCET
D142: VV | F142: viz tabulka I38 | AT142: VV | AU142: 2 | AV142: 1 | AW142: True | AX142: 0 | AY142: ROZPOCET
D143: VV | F143: 51,00 | H143: 51 | AT143: VV | AU143: 2 | AV143: 2 | AW143: True | AX143: 0 | AY143: ROZPOCET
D144: VV | F144: Asfalt | AT144: VV | AU144: 2 | AV144: 1 | AW144: True | AX144: 0 | AY144: ROZPOCET
D145: VV | F145: viz tabulka J58 | AT145: VV | AU145: 2 | AV145: 1 | AW145: True | AX145: 0 | AY145: ROZPOCET
D146: VV | F146: 2*89,84 | H146: 179.68 | AT146: VV | AU146: 2 | AV146: 2 | AW146: True | AX146: 0 | AY146: ROZPOCET
D147: VV | F147: Dlažba zámková | AT147: VV | AU147: 2 | AV147: 1 | AW147: True | AX147: 0 | AY147: ROZPOCET
D148: VV | F148: viz tabulka K134 | AT148: VV | AU148: 2 | AV148: 1 | AW148: True | AX148: 0 | AY148: ROZPOCET
D149: VV | F149: 28,44 | H149: 28.44 | AT149: VV | AU149: 2 | AV149: 2 | AW149: True | AX149: 0 | AY149: ROZPOCET
D150: VV | F150: Betonová komunikace | AT150: VV | AU150: 2 | AV150: 1 | AW150: True | AX150: 0 | AY150: ROZPOCET
D151: VV | F151: viz tabulka J79 | AT151: VV | AU151: 2 | AV151: 1 | AW151: True | AX151: 0 | AY151: ROZPOCET
D152: VV | F152: 134,61 | H152: 134.61 | AT152: VV | AU152: 2 | AV152: 2 | AW152: True | AX152: 0 | AY152: ROZPOCET
D153: VV | F153: Penetrační makadam | AT153: VV | AU153: 2 | AV153: 1 | AW153: True | AX153: 0 | AY153: ROZPOCET
D154: VV | F154: viz tabulka J108 | AT154: VV | AU154: 2 | AV154: 1 | AW154: True | AX154: 0 | AY154: ROZPOCET
D155: VV | F155: 2*2123,64 | H155: 4247.28 | AT155: VV | AU155: 2 | AV155: 2 | AW155: True | AX155: 0 | AY155: ROZPOCET
D156: VV | F156: Součet | H156: 4641.01 | AT156: VV | AU156: 2 | AV156: 4 | AW156: True | AX156: 1 | AY156: ROZPOCET
C157: 5 | D157: K | E157: 113107232 | F157: Odstranění podkladu z betonu prostého tl přes 150 do 300 mm strojně pl přes 200 m2 | G157: m2 | H157: 212.48 | J157: =ROUND(I157*H157,2) -> 0 | N157: základní | P157: =O157*H157 -> 0 | Q157: 0 | R157: =Q157*H157 -> 0 | S157: 0.625 | T157: =S157*H157 -> 132.8 | AR157: 4 | AT157: K | AU157: 2 | AY157: ROZPOCET | BE157: =IF(N157="základní",J157,0) -> 0 | BF157: =IF(N157="snížená",J157,0) -> 0 | BG157: =IF(N157="zákl. přenesená",J157,0) -> 0 | BH157: =IF(N157="sníž. přenesená",J157,0) -> 0 | BI157: =IF(N157="nulová",J157,0) -> 0 | BJ157: 1 | BK157: =ROUND(I157*H157,2) -> 0 | BL157: 4 | BM157: -969717763
D158: VV | F158: Betonová komunikace | AT158: VV | AU158: 2 | AV158: 1 | AW158: True | AX158: 0 | AY158: ROZPOCET
D159: VV | F159: viz tabulka I79 | AT159: VV | AU159: 2 | AV159: 1 | AW159: True | AX159: 0 | AY159: ROZPOCET
D160: VV | F160: 212,48 | H160: 212.48 | AT160: VV | AU160: 2 | AV160: 2 | AW160: True | AX160: 0 | AY160: ROZPOCET
D161: VV | F161: Součet | H161: 212.48 | AT161: VV | AU161: 2 | AV161: 4 | AW161: True | AX161: 1 | AY161: ROZPOCET
C162: 6 | D162: K | E162: 113107242 | F162: Odstranění podkladu živičného tl přes 50 do 100 mm strojně pl přes 200 m2 | G162: m2 | H162: 3567.43 | J162: =ROUND(I162*H162,2) -> 0 | N162: základní | P162: =O162*H162 -> 0 | Q162: 0 | R162: =Q162*H162 -> 0 | S162: 0.22 | T162: =S162*H162 -> 784.8346 | AR162: 4 | AT162: K | AU162: 2 | AY162: ROZPOCET | BE162: =IF(N162="základní",J162,0) -> 0 | BF162: =IF(N162="snížená",J162,0) -> 0 | BG162: =IF(N162="zákl. přenesená",J162,0) -> 0 | BH162: =IF(N162="sníž. přenesená",J162,0) -> 0 | BI162: =IF(N162="nulová",J162,0) -> 0 | BJ162: 1 | BK162: =ROUND(I162*H162,2) -> 0 | BL162: 4 | BM162: -933813986
D163: VV | F163: Asfalt | AT163: VV | AU163: 2 | AV163: 1 | AW163: True | AX163: 0 | AY163: ROZPOCET
D164: VV | F164: viz tabulka I58 | AT164: VV | AU164: 2 | AV164: 1 | AW164: True | AX164: 0 | AY164: ROZPOCET
D165: VV | F165: 163,89 | H165: 163.89 | AT165: VV | AU165: 2 | AV165: 2 | AW165: True | AX165: 0 | AY165: ROZPOCET
D166: VV | F166: Penetrační makadam | AT166: VV | AU166: 2 | AV166: 1 | AW166: True | AX166: 0 | AY166: ROZPOCET
...

Sheet D.3 SO 03 - Odbočení pro ...
AT2: {e7d6bd5d-36b9-42ce-8408-4831b73b3919}
AT3: 2
D4: KRYCÍ LIST SOUPISU PRACÍ | M4: v --- níže se nacházejí doplnkové a pomocné údaje k sestavám --- v | AT4: False
D6: Stavba:
E7: ='Rekapitulace stavby'!K6 -> Našiměřice - Splašková kanalizace - ÚRS I/2026-úprava po připomínkách uchazečů
D8: Objekt:
E9: D.3 SO 03 - Odbočení pro napojení přípojek
D11: KSO: | I11: CC-CZ:
D12: Místo: | F12: Našiměřice | I12: Datum: | J12: ='Rekapitulace stavby'!AN8 -> 19. 6. 2026
D14: Zadavatel: | I14: IČ: | J14: =IF('Rekapitulace stavby'!AN10="","",'Rekapitulace stavby'!AN10)
E15: =IF('Rekapitulace stavby'!E11="","",'Rekapitulace stavby'!E11) | I15: DIČ: | J15: =IF('Rekapitulace stavby'!AN11="","",'Rekapitulace stavby'!AN11)
D17: Uchazeč: | I17: IČ: | J17: ='Rekapitulace stavby'!AN13 -> Vyplň údaj
E18: ='Rekapitulace stavby'!E14 -> Vyplň údaj | I18: DIČ: | J18: ='Rekapitulace stavby'!AN14 -> Vyplň údaj
D20: Projektant: | I20: IČ: | J20: =IF('Rekapitulace stavby'!AN16="","",'Rekapitulace stavby'!AN16)
E21: =IF('Rekapitulace stavby'!E17="","",'Rekapitulace stavby'!E17) | I21: DIČ: | J21: =IF('Rekapitulace stavby'!AN17="","",'Rekapitulace stavby'!AN17)
D23: Zpracovatel: | I23: IČ: | J23: =IF('Rekapitulace stavby'!AN19="","",'Rekapitulace stavby'!AN19)
E24: =IF('Rekapitulace stavby'!E20="","",'Rekapitulace stavby'!E20) | I24: DIČ: | J24: =IF('Rekapitulace stavby'!AN20="","",'Rekapitulace stavby'!AN20)
D26: Poznámka:
D30: Cena bez DPH | J30: =ROUND(J124, 2) -> 0
F32: Základ daně | I32: Sazba daně | J32: Výše daně
D33: DPH | E33: základní | F33: =ROUND((SUM(BE124:BE610)), 2) -> 0 | I33: 0.21 | J33: =ROUND(((SUM(BE124:BE610))*I33), 2) -> 0
E34: snížená | F34: =ROUND((SUM(BF124:BF610)), 2) -> 0 | I34: 0.12 | J34: =ROUND(((SUM(BF124:BF610))*I34), 2) -> 0
E35: zákl. přenesená | F35: =ROUND((SUM(BG124:BG610)), 2) -> 0 | I35: 0.21 | J35: =0 -> 0
E36: sníž. přenesená | F36: =ROUND((SUM(BH124:BH610)), 2) -> 0 | I36: 0.12 | J36: =0 -> 0
E37: nulová | F37: =ROUND((SUM(BI124:BI610)), 2) -> 0 | I37: 0 | J37: =0 -> 0
D39: Cena s DPH | G39: v | H39: CZK | J39: =SUM(J30:J37) -> 0
D50: Projektant | G50: Zpracovatel
D61: Datum a podpis: | F61: Razítko | G61: Datum a podpis: | J61: Razítko
D65: Objednavatel | G65: Uchazeč
D76: Datum a podpis: | F76: Razítko | G76: Datum a podpis: | J76: Razítko
C82: REKAPITULACE ČLENĚNÍ SOUPISU PRACÍ
C84: Stavba:
E85: =E7 -> Našiměřice - Splašková kanalizace - ÚRS I/2026-úprava po připomínkách uchazečů
C86: Objekt:
E87: =E9 -> D.3 SO 03 - Odbočení pro napojení přípojek
C89: Místo: | F89: =F12 -> Našiměřice | I89: Datum: | J89: =IF(J12="","",J12) -> 19. 6. 2026
C91: Zadavatel: | F91: =E15 | I91: Projektant: | J91: =E21
C92: Uchazeč: | F92: =IF(E18="","",E18) -> Vyplň údaj | I92: Zpracovatel: | J92: =E24
C94: Kód dílu - Popis | J94: Cena celkem [CZK]
C96: Náklady ze soupisu prací | J96: =J124 -> 0 | AU96: -1
D97: HSV - Práce a dodávky HSV | J97: =J125 -> 0
D98: 1 - Zemní práce | J98: =J126 -> 0
D99: 4 - Vodorovné konstrukce | J99: =J425 -> 0
D100: 5 - Komunikace | J100: =J430 -> 0
D101: 8 - Trubní vedení | J101: =J507 -> 0
D102: 9 - Ostatní konstrukce a práce-bourání | J102: =J532 -> 0
D103: 997 - Přesun sutě | J103: =J587 -> 0
D104: 998 - Přesun hmot | J104: =J601 -> 0
C111: SOUPIS PRACÍ
C113: Stavba:
E114: =E7 -> Našiměřice - Splašková kanalizace - ÚRS I/2026-úprava po připomínkách uchazečů
C115: Objekt:
E116: =E9 -> D.3 SO 03 - Odbočení pro napojení přípojek
C118: Místo: | F118: =F12 -> Našiměřice | I118: Datum: | J118: =IF(J12="","",J12) -> 19. 6. 2026
C120: Zadavatel: | F120: =E15 | I120: Projektant: | J120: =E21
C121: Uchazeč: | F121: =IF(E18="","",E18) -> Vyplň údaj | I121: Zpracovatel: | J121: =E24
C123: PČ | D123: Typ | E123: Kód | F123: Popis | G123: MJ | H123: Množství | I123: J.cena [CZK] | J123: Cena celkem [CZK] | K123: Cenová soustava | N123: DPH | O123: J. Nh [h] | P123: Nh celkem [h] | Q123: J. hmotnost [t] | R123: Hmotnost celkem [t] | S123: J. suť [t] | T123: Suť Celkem [t]
C124: Náklady soupisu celkem | J124: =BK124 -> 0 | P124: =P125 -> 0 | R124: =R125 -> 909.88131 | T124: =T125 -> 274.8037 | AT124: D | AU124: -1 | BK124: =BK125 -> 0
D125: D | E125: HSV | F125: Práce a dodávky HSV | J125: =BK125 -> 0 | P125: =P126+P425+P430+P507+P532+P587+P601 -> 0 | R125: =R126+R425+R430+R507+R532+R587+R601 -> 909.88131 | T125: =T126+T425+T430+T507+T532+T587+T601 -> 274.8037 | AR125: 1 | AT125: D | AU125: 0 | AY125: ROZPOCET | BK125: =BK126+BK425+BK430+BK507+BK532+BK587+BK601 -> 0
D126: D | E126: 1 | F126: Zemní práce | J126: =BK126 -> 0 | P126: =SUM(P127:P424) -> 0 | R126: =SUM(R127:R424) -> 430.61207 | T126: =SUM(T127:T424) -> 274.8037 | AR126: 1 | AT126: D | AU126: 1 | AY126: ROZPOCET | BK126: =SUM(BK127:BK424) -> 0
C127: 1 | D127: K | E127: 113106121 | F127: Rozebrání dlažeb z betonových nebo kamenných dlaždic komunikací pro pěší ručně | G127: m2 | H127: 86.02 | J127: =ROUND(I127*H127,2) -> 0 | N127: základní | P127: =O127*H127 -> 0 | Q127: 0 | R127: =Q127*H127 -> 0 | S127: 0 | T127: =S127*H127 -> 0 | AR127: 4 | AT127: K | AU127: 2 | AY127: ROZPOCET | BE127: =IF(N127="základní",J127,0) -> 0 | BF127: =IF(N127="snížená",J127,0) -> 0 | BG127: =IF(N127="zákl. přenesená",J127,0) -> 0 | BH127: =IF(N127="sníž. přenesená",J127,0) -> 0 | BI127: =IF(N127="nulová",J127,0) -> 0 | BJ127: 1 | BK127: =ROUND(I127*H127,2) -> 0 | BL127: 4 | BM127: 934194416
D128: VV | F128: Dlažba betonová | AT128: VV | AU128: 2 | AV128: 1 | AW128: True | AX128: 0 | AY128: ROZPOCET
D129: VV | F129: viz tabulka O111 | AT129: VV | AU129: 2 | AV129: 1 | AW129: True | AX129: 0 | AY129: ROZPOCET
D130: VV | F130: 86,02 | H130: 86.02 | AT130: VV | AU130: 2 | AV130: 2 | AW130: True | AX130: 0 | AY130: ROZPOCET
D131: VV | F131: Součet | H131: 86.02 | AT131: VV | AU131: 2 | AV131: 4 | AW131: True | AX131: 1 | AY131: ROZPOCET
C132: 2 | D132: K | E132: 113106123 | F132: Rozebrání dlažeb ze zámkových dlaždic komunikací pro pěší ručně | G132: m2 | H132: 44.39 | J132: =ROUND(I132*H132,2) -> 0 | N132: základní | P132: =O132*H132 -> 0 | Q132: 0 | R132: =Q132*H132 -> 0 | S132: 0 | T132: =S132*H132 -> 0 | AR132: 4 | AT132: K | AU132: 2 | AY132: ROZPOCET | BE132: =IF(N132="základní",J132,0) -> 0 | BF132: =IF(N132="snížená",J132,0) -> 0 | BG132: =IF(N132="zákl. přenesená",J132,0) -> 0 | BH132: =IF(N132="sníž. přenesená",J132,0) -> 0 | BI132: =IF(N132="nulová",J132,0) -> 0 | BJ132: 1 | BK132: =ROUND(I132*H132,2) -> 0 | BL132: 4 | BM132: -493059895
D133: VV | F133: Dlažba zámková | AT133: VV | AU133: 2 | AV133: 1 | AW133: True | AX133: 0 | AY133: ROZPOCET
D134: VV | F134: viz tabulka N111 | AT134: VV | AU134: 2 | AV134: 1 | AW134: True | AX134: 0 | AY134: ROZPOCET
D135: VV | F135: 44,39 | H135: 44.39 | AT135: VV | AU135: 2 | AV135: 2 | AW135: True | AX135: 0 | AY135: ROZPOCET
D136: VV | F136: Součet | H136: 44.39 | AT136: VV | AU136: 2 | AV136: 4 | AW136: True | AX136: 1 | AY136: ROZPOCET
C137: 3 | D137: K | E137: 113106151 | F137: Rozebrání dlažeb vozovek z velkých kostek s ložem z kameniva ručně | G137: m2 | H137: 10.12 | J137: =ROUND(I137*H137,2) -> 0 | N137: základní | P137: =O137*H137 -> 0 | Q137: 0 | R137: =Q137*H137 -> 0 | S137: 0 | T137: =S137*H137 -> 0 | AR137: 4 | AT137: K | AU137: 2 | AY137: ROZPOCET | BE137: =IF(N137="základní",J137,0) -> 0 | BF137: =IF(N137="snížená",J137,0) -> 0 | BG137: =IF(N137="zákl. přenesená",J137,0) -> 0 | BH137: =IF(N137="sníž. přenesená",J137,0) -> 0 | BI137: =IF(N137="nulová",J137,0) -> 0 | BJ137: 1 | BK137: =ROUND(I137*H137,2) -> 0 | BL137: 4 | BM137: 486226976
D138: VV | F138: Dlažba - kostky | AT138: VV | AU138: 2 | AV138: 1 | AW138: True | AX138: 0 | AY138: ROZPOCET
D139: VV | F139: viz tabulka P111 | AT139: VV | AU139: 2 | AV139: 1 | AW139: True | AX139: 0 | AY139: ROZPOCET
D140: VV | F140: 10,12 | H140: 10.12 | AT140: VV | AU140: 2 | AV140: 2 | AW140: True | AX140: 0 | AY140: ROZPOCET
D141: VV | F141: Součet | H141: 10.12 | AT141: VV | AU141: 2 | AV141: 4 | AW141: True | AX141: 1 | AY141: ROZPOCET
C142: 4 | D142: K | E142: 113106190 | F142: Rozebrání vozovek ze silničních dílců se spárami vyplněnými kamenivem strojně pl do 50 m2 | G142: m2 | H142: 13.5 | J142: =ROUND(I142*H142,2) -> 0 | N142: základní | P142: =O142*H142 -> 0 | Q142: 0 | R142: =Q142*H142 -> 0 | S142: 0 | T142: =S142*H142 -> 0 | AR142: 4 | AT142: K | AU142: 2 | AY142: ROZPOCET | BE142: =IF(N142="základní",J142,0) -> 0 | BF142: =IF(N142="snížená",J142,0) -> 0 | BG142: =IF(N142="zákl. přenesená",J142,0) -> 0 | BH142: =IF(N142="sníž. přenesená",J142,0) -> 0 | BI142: =IF(N142="nulová",J142,0) -> 0 | BJ142: 1 | BK142: =ROUND(I142*H142,2) -> 0 | BL142: 4 | BM142: -5524729
D143: VV | F143: Betonové panely | AT143: VV | AU143: 2 | AV143: 1 | AW143: True | AX143: 0 | AY143: ROZPOCET
D144: VV | F144: viz tabulka I129 | AT144: VV | AU144: 2 | AV144: 1 | AW144: True | AX144: 0 | AY144: ROZPOCET
D145: VV | F145: 13,50 | H145: 13.5 | AT145: VV | AU145: 2 | AV145: 2 | AW145: True | AX145: 0 | AY145: ROZPOCET
D146: VV | F146: Součet | H146: 13.5 | AT146: VV | AU146: 2 | AV146: 4 | AW146: True | AX146: 1 | AY146: ROZPOCET
C147: 5 | D147: K | E147: 113107312 | F147: Odstranění podkladu z kameniva těženého tl přes 100 do 200 mm strojně pl do 50 m2 | G147: m2 | H147: 5.06 | J147: =ROUND(I147*H147,2) -> 0 | N147: základní | P147: =O147*H147 -> 0 | Q147: 0 | R147: =Q147*H147 -> 0 | S147: 0.3 | T147: =S147*H147 -> 1.518 | AR147: 4 | AT147: K | AU147: 2 | AY147: ROZPOCET | BE147: =IF(N147="základní",J147,0) -> 0 | BF147: =IF(N147="snížená",J147,0) -> 0 | BG147: =IF(N147="zákl. přenesená",J147,0) -> 0 | BH147: =IF(N147="sníž. přenesená",J147,0) -> 0 | BI147: =IF(N147="nulová",J147,0) -> 0 | BJ147: 1 | BK147: =ROUND(I147*H147,2) -> 0 | BL147: 4 | BM147: -523801184
D148: VV | F148: Kačírek | AT148: VV | AU148: 2 | AV148: 1 | AW148: True | AX148: 0 | AY148: ROZPOCET
D149: VV | F149: viz tabulka N19 * šířka 2,3m | AT149: VV | AU149: 2 | AV149: 1 | AW149: True | AX149: 0 | AY149: ROZPOCET
D150: VV | F150: 2,20*2,3 | H150: 5.06 | AT150: VV | AU150: 2 | AV150: 2 | AW150: True | AX150: 1 | AY150: ROZPOCET
C151: 6 | D151: K | E151: 113107321 | F151: Odstranění podkladu z kameniva drceného tl do 100 mm strojně pl do 50 m2 | G151: m2 | H151: 6.5 | J151: =ROUND(I151*H151,2) -> 0 | N151: základní | P151: =O151*H151 -> 0 | Q151: 0 | R151: =Q151*H151 -> 0 | S151: 0.17 | T151: =S151*H151 -> 1.105 | AR151: 4 | AT151: K | AU151: 2 | AY151: ROZPOCET | BE151: =IF(N151="základní",J151,0) -> 0 | BF151: =IF(N151="snížená",J151,0) -> 0 | BG151: =IF(N151="zákl. přenesená",J151,0) -> 0 | BH151: =IF(N151="sníž. přenesená",J151,0) -> 0 | BI151: =IF(N151="nulová",J151,0) -> 0 | BJ151: 1 | BK151: =ROUND(I151*H151,2) -> 0 | BL151: 4 | BM151: -2139243227
D152: VV | F152: Betonová komunikace | AT152: VV | AU152: 2 | AV152: 1 | AW152: True | AX152: 0 | AY152: ROZPOCET
D153: VV | F153: viz tabulka L94 | AT153: VV | AU153: 2 | AV153: 1 | AW153: True | AX153: 0 | AY153: ROZPOCET
D154: VV | F154: 6,50 | H154: 6.5 | AT154: VV | AU154: 2 | AV154: 2 | AW154: True | AX154: 0 | AY154: ROZPOCET
D155: VV | F155: Součet | H155: 6.5 | AT155: VV | AU155: 2 | AV155: 4 | AW155: True | AX155: 1 | AY155: ROZPOCET
C156: 7 | D156: K | E156: 113107322 | F156: Odstranění podkladu z kameniva drceného tl přes 100 do 200 mm strojně pl do 50 m2 | G156: m2 | H156: 591.5 | J156: =ROUND(I156*H156,2) -> 0 | N156: základní | P156: =O156*H156 -> 0 | Q156: 0 | R156: =Q156*H156 -> 0 | S156: 0.29 | T156: =S156*H156 -> 171.535 | AR156: 4 | AT156: K | AU156: 2 | AY156: ROZPOCET | BE156: =IF(N156="základní",J156,0) -> 0 | BF156: =IF(N156="snížená",J156,0) -> 0 | BG156: =IF(N156="zákl. přenesená",J156,0) -> 0 | BH156: =IF(N156="sníž. přenesená",J156,0) -> 0 | BI156: =IF(N156="nulová",J156,0) -> 0 | BJ156: 1 | BK156: =ROUND(I156*H156,2) -> 0 | BL156: 4 | BM156: 876804644
D157: VV | F157: Štěrk | AT157: VV | AU157: 2 | AV157: 1 | AW157: True | AX157: 0 | AY157: ROZPOCET
D158: VV | F158: viz tabulka H38 | AT158: VV | AU158: 2 | AV158: 1 | AW158: True | AX158: 0 | AY158: ROZPOCET
D159: VV | F159: 18,98 | H159: 18.98 | AT159: VV | AU159: 2 | AV159: 2 | AW159: True | AX159: 0 | AY159: ROZPOCET
D160: VV | F160: Asfalt | AT160: VV | AU160: 2 | AV160: 1 | AW160: True | AX160: 0 | AY160: ROZPOCET
D161: VV | F161: viz tabulka J55 | AT161: VV | AU161: 2 | AV161: 1 | AW161: True | AX161: 0 | AY161: ROZPOCET
D162: VV | F162: 2*122,72 | H162: 245.44 | AT162: VV | AU162: 2 | AV162: 2 | AW162: True | AX162: 0 | AY162: ROZPOCET
D163: VV | F163: Dlažba | AT163: VV | AU163: 2 | AV163: 1 | AW163: True | AX163: 0 | AY163: ROZPOCET
D164: VV | F164: viz tabulka Q111 | AT164: VV | AU164: 2 | AV164: 1 | AW164: True | AX164: 0 | AY164: ROZPOCET
D165: VV | F165: 79,43 | H165: 79.43 | AT165: VV | AU165: 2 | AV165: 2 | AW165: True | AX165: 0 | AY165: ROZPOCET
D166: VV | F166: Betonová komunikace | AT166: VV | AU166: 2 | AV166: 1 | AW166: True | AX166: 0 | AY166: ROZPOCET
...

Sheet D.4 SO 04 - Čerpací stani...
AT2: {84532d78-8970-4461-83c6-f975c98fe712}
AT3: 2
D4: KRYCÍ LIST SOUPISU PRACÍ | M4: v --- níže se nacházejí doplnkové a pomocné údaje k sestavám --- v | AT4: False
D6: Stavba:
E7: ='Rekapitulace stavby'!K6 -> Našiměřice - Splašková kanalizace - ÚRS I/2026-úprava po připomínkách uchazečů
D8: Objekt:
E9: D.4 SO 04 - Čerpací stanice KČS 01 Našiměřice
D11: KSO: | I11: CC-CZ:
D12: Místo: | F12: Našiměřice | I12: Datum: | J12: ='Rekapitulace stavby'!AN8 -> 19. 6. 2026
D14: Zadavatel: | I14: IČ: | J14: =IF('Rekapitulace stavby'!AN10="","",'Rekapitulace stavby'!AN10)
E15: =IF('Rekapitulace stavby'!E11="","",'Rekapitulace stavby'!E11) | I15: DIČ: | J15: =IF('Rekapitulace stavby'!AN11="","",'Rekapitulace stavby'!AN11)
D17: Uchazeč: | I17: IČ: | J17: ='Rekapitulace stavby'!AN13 -> Vyplň údaj
E18: ='Rekapitulace stavby'!E14 -> Vyplň údaj | I18: DIČ: | J18: ='Rekapitulace stavby'!AN14 -> Vyplň údaj
D20: Projektant: | I20: IČ: | J20: =IF('Rekapitulace stavby'!AN16="","",'Rekapitulace stavby'!AN16)
E21: =IF('Rekapitulace stavby'!E17="","",'Rekapitulace stavby'!E17) | I21: DIČ: | J21: =IF('Rekapitulace stavby'!AN17="","",'Rekapitulace stavby'!AN17)
D23: Zpracovatel: | I23: IČ: | J23: =IF('Rekapitulace stavby'!AN19="","",'Rekapitulace stavby'!AN19)
E24: =IF('Rekapitulace stavby'!E20="","",'Rekapitulace stavby'!E20) | I24: DIČ: | J24: =IF('Rekapitulace stavby'!AN20="","",'Rekapitulace stavby'!AN20)
D26: Poznámka:
D30: Cena bez DPH | J30: =ROUND(J131, 2) -> 0
F32: Základ daně | I32: Sazba daně | J32: Výše daně
D33: DPH | E33: základní | F33: =ROUND((SUM(BE131:BE282)), 2) -> 0 | I33: 0.21 | J33: =ROUND(((SUM(BE131:BE282))*I33), 2) -> 0
E34: snížená | F34: =ROUND((SUM(BF131:BF282)), 2) -> 0 | I34: 0.12 | J34: =ROUND(((SUM(BF131:BF282))*I34), 2) -> 0
E35: zákl. přenesená | F35: =ROUND((SUM(BG131:BG282)), 2) -> 0 | I35: 0.21 | J35: =0 -> 0
E36: sníž. přenesená | F36: =ROUND((SUM(BH131:BH282)), 2) -> 0 | I36: 0.12 | J36: =0 -> 0
E37: nulová | F37: =ROUND((SUM(BI131:BI282)), 2) -> 0 | I37: 0 | J37: =0 -> 0
D39: Cena s DPH | G39: v | H39: CZK | J39: =SUM(J30:J37) -> 0
D50: Projektant | G50: Zpracovatel
D61: Datum a podpis: | F61: Razítko | G61: Datum a podpis: | J61: Razítko
D65: Objednavatel | G65: Uchazeč
D76: Datum a podpis: | F76: Razítko | G76: Datum a podpis: | J76: Razítko
C82: REKAPITULACE ČLENĚNÍ SOUPISU PRACÍ
C84: Stavba:
E85: =E7 -> Našiměřice - Splašková kanalizace - ÚRS I/2026-úprava po připomínkách uchazečů
C86: Objekt:
E87: =E9 -> D.4 SO 04 - Čerpací stanice KČS 01 Našiměřice
C89: Místo: | F89: =F12 -> Našiměřice | I89: Datum: | J89: =IF(J12="","",J12) -> 19. 6. 2026
C91: Zadavatel: | F91: =E15 | I91: Projektant: | J91: =E21
C92: Uchazeč: | F92: =IF(E18="","",E18) -> Vyplň údaj | I92: Zpracovatel: | J92: =E24
C94: Kód dílu - Popis | J94: Cena celkem [CZK]
C96: Náklady ze soupisu prací | J96: =J131 -> 0 | AU96: -1
D97: HSV - Práce a dodávky HSV | J97: =J132 -> 0
D98: 1 - Zemní práce | J98: =J133 -> 0
D99: 2 - Základy a zvláštní zakládání | J99: =J192 -> 0
D100: 4 - Vodorovné konstrukce | J100: =J201 -> 0
D101: 5 - Komunikace | J101: =J217 -> 0
D102: 61 - Úpravy povrchů vnitřní | J102: =J220 -> 0
D103: 8 - Trubní vedení | J103: =J223 -> 0
D104: 93 - Dokončovací práce inženýrských staveb | J104: =J238 -> 0
D105: 95 - Dokončovací konstrukce na pozemních stavbách | J105: =J249 -> 0
D106: 96 - Bourání konstrukcí | J106: =J258 -> 0
D107: 99 - Staveništní přesun hmot | J107: =J260 -> 0
D108: PSV - Práce a dodávky PSV | J108: =J263 -> 0
D109: 713 - Izolace tepelné | J109: =J264 -> 0
D110: 721 - Vnitřní kanalizace | J110: =J275 -> 0
D111: 767 - Konstrukce zámečnické | J111: =J277 -> 0
C118: SOUPIS PRACÍ
C120: Stavba:
E121: =E7 -> Našiměřice - Splašková kanalizace - ÚRS I/2026-úprava po připomínkách uchazečů
C122: Objekt:
E123: =E9 -> D.4 SO 04 - Čerpací stanice KČS 01 Našiměřice
C125: Místo: | F125: =F12 -> Našiměřice | I125: Datum: | J125: =IF(J12="","",J12) -> 19. 6. 2026
C127: Zadavatel: | F127: =E15 | I127: Projektant: | J127: =E21
C128: Uchazeč: | F128: =IF(E18="","",E18) -> Vyplň údaj | I128: Zpracovatel: | J128: =E24
C130: PČ | D130: Typ | E130: Kód | F130: Popis | G130: MJ | H130: Množství | I130: J.cena [CZK] | J130: Cena celkem [CZK] | K130: Cenová soustava | N130: DPH | O130: J. Nh [h] | P130: Nh celkem [h] | Q130: J. hmotnost [t] | R130: Hmotnost celkem [t] | S130: J. suť [t] | T130: Suť Celkem [t]
C131: Náklady soupisu celkem | J131: =BK131 -> 0 | P131: =P132+P263 -> 0 | R131: =R132+R263 -> 0 | T131: =T132+T263 -> 0 | AT131: D | AU131: -1 | BK131: =BK132+BK263 -> 0
D132: D | E132: HSV | F132: Práce a dodávky HSV | J132: =BK132 -> 0 | P132: =P133+P192+P201+P217+P220+P223+P238+P249+P258+P260 -> 0 | R132: =R133+R192+R201+R217+R220+R223+R238+R249+R258+R260 -> 0 | T132: =T133+T192+T201+T217+T220+T223+T238+T249+T258+T260 -> 0 | AR132: 1 | AT132: D | AU132: 0 | AY132: ROZPOCET | BK132: =BK133+BK192+BK201+BK217+BK220+BK223+BK238+BK249+BK258+BK260 -> 0
D133: D | E133: 1 | F133: Zemní práce | J133: =BK133 -> 0 | P133: =SUM(P134:P191) -> 0 | R133: =SUM(R134:R191) -> 0 | T133: =SUM(T134:T191) -> 0 | AR133: 1 | AT133: D | AU133: 1 | AY133: ROZPOCET | BK133: =SUM(BK134:BK191) -> 0
C134: 1 | D134: K | E134: 115101201R00 | F134: Čerpání vody na dopravní výšku do 10 m s uvažovaným průměrným přítokem do 500 l/min | G134: h | H134: 720 | J134: =ROUND(I134*H134,2) -> 0 | N134: základní | P134: =O134*H134 -> 0 | Q134: 0 | R134: =Q134*H134 -> 0 | S134: 0 | T134: =S134*H134 -> 0 | AR134: 4 | AT134: K | AU134: 2 | AY134: ROZPOCET | BE134: =IF(N134="základní",J134,0) -> 0 | BF134: =IF(N134="snížená",J134,0) -> 0 | BG134: =IF(N134="zákl. přenesená",J134,0) -> 0 | BH134: =IF(N134="sníž. přenesená",J134,0) -> 0 | BI134: =IF(N134="nulová",J134,0) -> 0 | BJ134: 1 | BK134: =ROUND(I134*H134,2) -> 0 | BL134: 4 | BM134: 2
D135: P | F135: Poznámka k položce:_x000d_ na vzdálenost od hladiny vody v jímce po výšku roviny proložené osou nejvyššího bodu výtlačného potrubí. Včetně odpadní potrubí v délce do 20 m. | AT135: P | AU135: 2
C136: 2 | D136: K | E136: 115101301R00 | F136: Pohotovost záložní čerpací soupravy na dopravní výšku do 10 m s uvažovaným průměrným přítokem do 500 l/min | G136: den | H136: 30 | J136: =ROUND(I136*H136,2) -> 0 | N136: základní | P136: =O136*H136 -> 0 | Q136: 0 | R136: =Q136*H136 -> 0 | S136: 0 | T136: =S136*H136 -> 0 | AR136: 4 | AT136: K | AU136: 2 | AY136: ROZPOCET | BE136: =IF(N136="základní",J136,0) -> 0 | BF136: =IF(N136="snížená",J136,0) -> 0 | BG136: =IF(N136="zákl. přenesená",J136,0) -> 0 | BH136: =IF(N136="sníž. přenesená",J136,0) -> 0 | BI136: =IF(N136="nulová",J136,0) -> 0 | BJ136: 1 | BK136: =ROUND(I136*H136,2) -> 0 | BL136: 4 | BM136: 4
D137: P | F137: Poznámka k položce:_x000d_ na vzdálenost (výšku) od hladiny vody v jímce po výšku roviny proložené osou nejvyššího bodu výtlačného potrubí. Včetně sacího a výtlačného potrubí, příp. odpadních žlabů, lešení pod čerpadlo a pod potrubí nebo pod odpadní žlaby a záložního zdroje energie. | AT137: P | AU137: 2
C138: 3 | D138: K | E138: 131201111R00 | F138: Hloubení nezapažených jam a zářezů do 100 m3, v hornině 3, hloubení strojně | G138: m3 | H138: 78.175 | J138: =ROUND(I138*H138,2) -> 0 | N138: základní | P138: =O138*H138 -> 0 | Q138: 0 | R138: =Q138*H138 -> 0 | S138: 0 | T138: =S138*H138 -> 0 | AR138: 4 | AT138: K | AU138: 2 | AY138: ROZPOCET | BE138: =IF(N138="základní",J138,0) -> 0 | BF138: =IF(N138="snížená",J138,0) -> 0 | BG138: =IF(N138="zákl. přenesená",J138,0) -> 0 | BH138: =IF(N138="sníž. přenesená",J138,0) -> 0 | BI138: =IF(N138="nulová",J138,0) -> 0 | BJ138: 1 | BK138: =ROUND(I138*H138,2) -> 0 | BL138: 4 | BM138: 6
D139: P | F139: Poznámka k položce:_x000d_ kromě zářezů se šikmými stěnami pro podzemní vedení, s urovnáním dna do předepsaného profilu a spádu, s případným nutným přemístěním ve výkopišti a dále buď s přemístěním výkopku na přilehlém terénu na vzdálenost do 3 m od okraje jámy nebo s naložením na dopravní prostředek, | AT139: P | AU139: 2
D140: VV | F140: Začátek provozního součtu | AT140: VV | AU140: 2 | AV140: 1 | AW140: True | AX140: 0 | AY140: ROZPOCET
D141: VV | F141: výkop jámy pro studnu spouštěnou hl.1m-viz popis statika : (3,20*3,20*3,14+4,70*4,70*3,14)/2*1,00 | AT141: VV | AU141: 2 | AV141: 1 | AW141: True | AX141: 0 | AY141: ROZPOCET
D142: VV | F142: výkop pro suchou jímku : (5,85*2,90+8,49*5,54)/2*3,30 | AT142: VV | AU142: 2 | AV142: 1 | AW142: True | AX142: 0 | AY142: ROZPOCET
D143: VV | F143: Konec provozního součtu | AT143: VV | AU143: 2 | AV143: 1 | AW143: True | AX143: 0 | AY143: ROZPOCET
D144: VV | F144: 156,35*0,5 | H144: 78.175 | AT144: VV | AU144: 2 | AV144: 2 | AW144: True | AX144: 0 | AY144: ROZPOCET
D145: VV | F145: Součet | H145: 78.175 | AT145: VV | AU145: 2 | AV145: 4 | AW145: True | AX145: 1 | AY145: ROZPOCET
C146: 4 | D146: K | E146: 131301111R00 | F146: Hloubení nezapažených jam a zářezů do 100 m3, v hornině 4, hloubení strojně | G146: m3 | H146: 78.175 | J146: =ROUND(I146*H146,2) -> 0 | N146: základní | P146: =O146*H146 -> 0 | Q146: 0 | R146: =Q146*H146 -> 0 | S146: 0 | T146: =S146*H146 -> 0 | AR146: 4 | AT146: K | AU146: 2 | AY146: ROZPOCET | BE146: =IF(N146="základní",J146,0) -> 0 | BF146: =IF(N146="snížená",J146,0) -> 0 | BG146: =IF(N146="zákl. přenesená",J146,0) -> 0 | BH146: =IF(N146="sníž. přenesená",J146,0) -> 0 | BI146: =IF(N146="nulová",J146,0) -> 0 | BJ146: 1 | BK146: =ROUND(I146*H146,2) -> 0 | BL146: 4 | BM146: 8
D147: P | F147: Poznámka k položce:_x000d_ kromě zářezů se šikmými stěnami pro podzemní vedení, s urovnáním dna do předepsaného profilu a spádu, s případným nutným přemístěním ve výkopišti a dále buď s přemístěním výkopku na přilehlém terénu na vzdálenost do 3 m od okraje jámy nebo s naložením na dopravní prostředek, | AT147: P | AU147: 2
D148: VV | F148: Začátek provozního součtu | AT148: VV | AU148: 2 | AV148: 1 | AW148: True | AX148: 0 | AY148: ROZPOCET
D149: VV | F149: výkop jámy pro studnu spouštěnou hl.1m-viz popis statika : (3,20*3,20*3,14+4,70*4,70*3,14)/2*1,00 | AT149: VV | AU149: 2 | AV149: 1 | AW149: True | AX149: 0 | AY149: ROZPOCET
D150: VV | F150: výkop pro suchou jímku : (5,85*2,90+8,49*5,54)/2*3,30 | AT150: VV | AU150: 2 | AV150: 1 | AW150: True | AX150: 0 | AY150: ROZPOCET
D151: VV | F151: Konec provozního součtu | AT151: VV | AU151: 2 | AV151: 1 | AW151: True | AX151: 0 | AY151: ROZPOCET
D152: VV | F152: 156,35*0,5 | H152: 78.175 | AT152: VV | AU152: 2 | AV152: 2 | AW152: True | AX152: 0 | AY152: ROZPOCET
D153: VV | F153: Součet | H153: 78.175 | AT153: VV | AU153: 2 | AV153: 4 | AW153: True | AX153: 1 | AY153: ROZPOCET
C154: 5 | D154: K | E154: 132201210R00 | F154: Hloubení rýh šířky přes 60 do 200 cm do 50 m3, v hornině 3, hloubení strojně | G154: m3 | H154: 5.04 | J154: =ROUND(I154*H154,2) -> 0 | N154: základní | P154: =O154*H154 -> 0 | Q154: 0 | R154: =Q154*H154 -> 0 | S154: 0 | T154: =S154*H154 -> 0 | AR154: 4 | AT154: K | AU154: 2 | AY154: ROZPOCET | BE154: =IF(N154="základní",J154,0) -> 0 | BF154: =IF(N154="snížená",J154,0) -> 0 | BG154: =IF(N154="zákl. přenesená",J154,0) -> 0 | BH154: =IF(N154="sníž. přenesená",J154,0) -> 0 | BI154: =IF(N154="nulová",J154,0) -> 0 | BJ154: 1 | BK154: =ROUND(I154*H154,2) -> 0 | BL154: 4 | BM154: 10
D155: P | F155: Poznámka k položce:_x000d_ zapažených i nezapažených, s urovnáním dna do předepsaného profilu a spádu, s případně nutným přehozením výkopku na vzdálenost do 3 m ve výkopišti, s přehozením výkopku na přilehlém terénu na vzdálenost do 5 m od podélné osy rýhy nebo s naložením výkopku na dopravní prostředek. | AT155: P | AU155: 2
D156: VV | F156: Začátek provozního součtu | AT156: VV | AU156: 2 | AV156: 1 | AW156: True | AX156: 0 | AY156: ROZPOCET
D157: VV | F157: pro větrací potrubí : 0,90*0,70*16,00 | AT157: VV | AU157: 2 | AV157: 1 | AW157: True | AX157: 0 | AY157: ROZPOCET
D158: VV | F158: Konec provozního součtu | AT158: VV | AU158: 2 | AV158: 1 | AW158: True | AX158: 0 | AY158: ROZPOCET
D159: VV | F159: 10,08*0,5 | H159: 5.04 | AT159: VV | AU159: 2 | AV159: 2 | AW159: True | AX159: 0 | AY159: ROZPOCET
D160: VV | F160: Součet | H160: 5.04 | AT160: VV | AU160: 2 | AV160: 4 | AW160: True | AX160: 1 | AY160: ROZPOCET
C161: 6 | D161: K | E161: 132301210R00 | F161: Hloubení rýh šířky přes 60 do 200 cm do 50 m3, v hornině 4, hloubení strojně | G161: m3 | H161: 5.04 | J161: =ROUND(I161*H161,2) -> 0 | N161: základní | P161: =O161*H161 -> 0 | Q161: 0 | R161: =Q161*H161 -> 0 | S161: 0 | T161: =S161*H161 -> 0 | AR161: 4 | AT161: K | AU161: 2 | AY161: ROZPOCET | BE161: =IF(N161="základní",J161,0) -> 0 | BF161: =IF(N161="snížená",J161,0) -> 0 | BG161: =IF(N161="zákl. přenesená",J161,0) -> 0 | BH161: =IF(N161="sníž. přenesená",J161,0) -> 0 | BI161: =IF(N161="nulová",J161,0) -> 0 | BJ161: 1 | BK161: =ROUND(I161*H161,2) -> 0 | BL161: 4 | BM161: 12
D162: P | F162: Poznámka k položce:_x000d_ zapažených i nezapažených, s urovnáním dna do předepsaného profilu a spádu, s případně nutným přehozením výkopku na vzdálenost do 3 m ve výkopišti, s přehozením výkopku na přilehlém terénu na vzdálenost do 5 m od podélné osy rýhy nebo s naložením výkopku na dopravní prostředek. | AT162: P | AU162: 2
D163: VV | F163: Začátek provozního součtu | AT163: VV | AU163: 2 | AV163: 1 | AW163: True | AX163: 0 | AY163: ROZPOCET
D164: VV | F164: pro větrací potrubí : 0,90*0,70*16,00 | AT164: VV | AU164: 2 | AV164: 1 | AW164: True | AX164: 0 | AY164: ROZPOCET
D165: VV | F165: Konec provozního součtu | AT165: VV | AU165: 2 | AV165: 1 | AW165: True | AX165: 0 | AY165: ROZPOCET
D166: VV | F166: 10,08*0,5 | H166: 5.04 | AT166: VV | AU166: 2 | AV166: 2 | AW166: True | AX166: 0 | AY166: ROZPOCET
...

Sheet D.5 SO 05 - Přípojka vody...
AT2: {f05a290b-4c63-44e3-84c8-6fc9d3c2bcbf}
AT3: 2
D4: KRYCÍ LIST SOUPISU PRACÍ | M4: v --- níže se nacházejí doplnkové a pomocné údaje k sestavám --- v | AT4: False
D6: Stavba:
E7: ='Rekapitulace stavby'!K6 -> Našiměřice - Splašková kanalizace - ÚRS I/2026-úprava po připomínkách uchazečů
D8: Objekt:
E9: D.5 SO 05 - Přípojka vody ke KČS 01
D11: KSO: | I11: CC-CZ:
D12: Místo: | F12: Našiměřice | I12: Datum: | J12: ='Rekapitulace stavby'!AN8 -> 19. 6. 2026
D14: Zadavatel: | I14: IČ: | J14: =IF('Rekapitulace stavby'!AN10="","",'Rekapitulace stavby'!AN10)
E15: =IF('Rekapitulace stavby'!E11="","",'Rekapitulace stavby'!E11) | I15: DIČ: | J15: =IF('Rekapitulace stavby'!AN11="","",'Rekapitulace stavby'!AN11)
D17: Uchazeč: | I17: IČ: | J17: ='Rekapitulace stavby'!AN13 -> Vyplň údaj
E18: ='Rekapitulace stavby'!E14 -> Vyplň údaj | I18: DIČ: | J18: ='Rekapitulace stavby'!AN14 -> Vyplň údaj
D20: Projektant: | I20: IČ: | J20: =IF('Rekapitulace stavby'!AN16="","",'Rekapitulace stavby'!AN16)
E21: =IF('Rekapitulace stavby'!E17="","",'Rekapitulace stavby'!E17) | I21: DIČ: | J21: =IF('Rekapitulace stavby'!AN17="","",'Rekapitulace stavby'!AN17)
D23: Zpracovatel: | I23: IČ: | J23: =IF('Rekapitulace stavby'!AN19="","",'Rekapitulace stavby'!AN19)
E24: =IF('Rekapitulace stavby'!E20="","",'Rekapitulace stavby'!E20) | I24: DIČ: | J24: =IF('Rekapitulace stavby'!AN20="","",'Rekapitulace stavby'!AN20)
D26: Poznámka:
D30: Cena bez DPH | J30: =ROUND(J127, 2) -> 0
F32: Základ daně | I32: Sazba daně | J32: Výše daně
D33: DPH | E33: základní | F33: =ROUND((SUM(BE127:BE355)), 2) -> 0 | I33: 0.21 | J33: =ROUND(((SUM(BE127:BE355))*I33), 2) -> 0
E34: snížená | F34: =ROUND((SUM(BF127:BF355)), 2) -> 0 | I34: 0.12 | J34: =ROUND(((SUM(BF127:BF355))*I34), 2) -> 0
E35: zákl. přenesená | F35: =ROUND((SUM(BG127:BG355)), 2) -> 0 | I35: 0.21 | J35: =0 -> 0
E36: sníž. přenesená | F36: =ROUND((SUM(BH127:BH355)), 2) -> 0 | I36: 0.12 | J36: =0 -> 0
E37: nulová | F37: =ROUND((SUM(BI127:BI355)), 2) -> 0 | I37: 0 | J37: =0 -> 0
D39: Cena s DPH | G39: v | H39: CZK | J39: =SUM(J30:J37) -> 0
D50: Projektant | G50: Zpracovatel
D61: Datum a podpis: | F61: Razítko | G61: Datum a podpis: | J61: Razítko
D65: Objednavatel | G65: Uchazeč
D76: Datum a podpis: | F76: Razítko | G76: Datum a podpis: | J76: Razítko
C82: REKAPITULACE ČLENĚNÍ SOUPISU PRACÍ
C84: Stavba:
E85: =E7 -> Našiměřice - Splašková kanalizace - ÚRS I/2026-úprava po připomínkách uchazečů
C86: Objekt:
E87: =E9 -> D.5 SO 05 - Přípojka vody ke KČS 01
C89: Místo: | F89: =F12 -> Našiměřice | I89: Datum: | J89: =IF(J12="","",J12) -> 19. 6. 2026
C91: Zadavatel: | F91: =E15 | I91: Projektant: | J91: =E21
C92: Uchazeč: | F92: =IF(E18="","",E18) -> Vyplň údaj | I92: Zpracovatel: | J92: =E24
C94: Kód dílu - Popis | J94: Cena celkem [CZK]
C96: Náklady ze soupisu prací | J96: =J127 -> 0 | AU96: -1
D97: HSV - Práce a dodávky HSV | J97: =J128 -> 0
D98: 1 - Zemní práce | J98: =J129 -> 0
D99: 2 - Zakládání | J99: =J254 -> 0
D100: 4 - Vodorovné konstrukce | J100: =J268 -> 0
D101: 5 - Komunikace | J101: =J272 -> 0
D102: 8 - Trubní vedení | J102: =J288 -> 0
D103: 9 - Ostatní konstrukce a práce, bourání | J103: =J322 -> 0
D104: 997 - Přesun sutě | J104: =J327 -> 0
D105: 998 - Přesun hmot | J105: =J338 -> 0
D106: PSV - Práce a dodávky PSV | J106: =J345 -> 0
D107: 722 - Zdravotechnika - vnitřní vodovod | J107: =J346 -> 0
C114: SOUPIS PRACÍ
C116: Stavba:
E117: =E7 -> Našiměřice - Splašková kanalizace - ÚRS I/2026-úprava po připomínkách uchazečů
C118: Objekt:
E119: =E9 -> D.5 SO 05 - Přípojka vody ke KČS 01
C121: Místo: | F121: =F12 -> Našiměřice | I121: Datum: | J121: =IF(J12="","",J12) -> 19. 6. 2026
C123: Zadavatel: | F123: =E15 | I123: Projektant: | J123: =E21
C124: Uchazeč: | F124: =IF(E18="","",E18) -> Vyplň údaj | I124: Zpracovatel: | J124: =E24
C126: PČ | D126: Typ | E126: Kód | F126: Popis | G126: MJ | H126: Množství | I126: J.cena [CZK] | J126: Cena celkem [CZK] | K126: Cenová soustava | N126: DPH | O126: J. Nh [h] | P126: Nh celkem [h] | Q126: J. hmotnost [t] | R126: Hmotnost celkem [t] | S126: J. suť [t] | T126: Suť Celkem [t]
C127: Náklady soupisu celkem | J127: =BK127 -> 0 | P127: =P128+P345 -> 0 | R127: =R128+R345 -> 48.662801 | T127: =T128+T345 -> 5.8192 | AT127: D | AU127: -1 | BK127: =BK128+BK345 -> 0
D128: D | E128: HSV | F128: Práce a dodávky HSV | J128: =BK128 -> 0 | P128: =P129+P254+P268+P272+P288+P322+P327+P338 -> 0 | R128: =R129+R254+R268+R272+R288+R322+R327+R338 -> 48.659415 | T128: =T129+T254+T268+T272+T288+T322+T327+T338 -> 5.8192 | AR128: 1 | AT128: D | AU128: 0 | AY128: ROZPOCET | BK128: =BK129+BK254+BK268+BK272+BK288+BK322+BK327+BK338 -> 0
D129: D | E129: 1 | F129: Zemní práce | J129: =BK129 -> 0 | P129: =SUM(P130:P253) -> 0 | R129: =SUM(R130:R253) -> 27.06079 | T129: =SUM(T130:T253) -> 5.8192 | AR129: 1 | AT129: D | AU129: 1 | AY129: ROZPOCET | BK129: =SUM(BK130:BK253) -> 0
C130: 1 | D130: K | E130: 113107321 | F130: Odstranění podkladu z kameniva drceného tl do 100 mm strojně pl do 50 m2 | G130: m2 | H130: 3.52 | J130: =ROUND(I130*H130,2) -> 0 | N130: základní | P130: =O130*H130 -> 0 | Q130: 0 | R130: =Q130*H130 -> 0 | S130: 0.17 | T130: =S130*H130 -> 0.5984 | AR130: 4 | AT130: K | AU130: 2 | AY130: ROZPOCET | BE130: =IF(N130="základní",J130,0) -> 0 | BF130: =IF(N130="snížená",J130,0) -> 0 | BG130: =IF(N130="zákl. přenesená",J130,0) -> 0 | BH130: =IF(N130="sníž. přenesená",J130,0) -> 0 | BI130: =IF(N130="nulová",J130,0) -> 0 | BJ130: 1 | BK130: =ROUND(I130*H130,2) -> 0 | BL130: 4 | BM130: 295080607
D131: VV | F131: Betonová komunikace | AT131: VV | AU131: 2 | AV131: 1 | AW131: True | AX131: 0 | AY131: ROZPOCET
D132: VV | F132: viz tabulka J82 | AT132: VV | AU132: 2 | AV132: 1 | AW132: True | AX132: 0 | AY132: ROZPOCET
D133: VV | F133: 3,52 | H133: 3.52 | AT133: VV | AU133: 2 | AV133: 2 | AW133: True | AX133: 0 | AY133: ROZPOCET
D134: VV | F134: Součet | H134: 3.52 | AT134: VV | AU134: 2 | AV134: 4 | AW134: True | AX134: 1 | AY134: ROZPOCET
C135: 2 | D135: K | E135: 113107322 | F135: Odstranění podkladu z kameniva drceného tl přes 100 do 200 mm strojně pl do 50 m2 | G135: m2 | H135: 3.52 | J135: =ROUND(I135*H135,2) -> 0 | N135: základní | P135: =O135*H135 -> 0 | Q135: 0 | R135: =Q135*H135 -> 0 | S135: 0.29 | T135: =S135*H135 -> 1.0208 | AR135: 4 | AT135: K | AU135: 2 | AY135: ROZPOCET | BE135: =IF(N135="základní",J135,0) -> 0 | BF135: =IF(N135="snížená",J135,0) -> 0 | BG135: =IF(N135="zákl. přenesená",J135,0) -> 0 | BH135: =IF(N135="sníž. přenesená",J135,0) -> 0 | BI135: =IF(N135="nulová",J135,0) -> 0 | BJ135: 1 | BK135: =ROUND(I135*H135,2) -> 0 | BL135: 4 | BM135: 2121952204
D136: VV | F136: Betonová komunikace | AT136: VV | AU136: 2 | AV136: 1 | AW136: True | AX136: 0 | AY136: ROZPOCET
D137: VV | F137: viz tabulka J82 | AT137: VV | AU137: 2 | AV137: 1 | AW137: True | AX137: 0 | AY137: ROZPOCET
D138: VV | F138: 3,52 | H138: 3.52 | AT138: VV | AU138: 2 | AV138: 2 | AW138: True | AX138: 0 | AY138: ROZPOCET
D139: VV | F139: Součet | H139: 3.52 | AT139: VV | AU139: 2 | AV139: 4 | AW139: True | AX139: 1 | AY139: ROZPOCET
C140: 3 | D140: K | E140: 113107332 | F140: Odstranění podkladu z betonu prostého tl přes 150 do 300 mm strojně pl do 50 m2 | G140: m2 | H140: 6.72 | J140: =ROUND(I140*H140,2) -> 0 | N140: základní | P140: =O140*H140 -> 0 | Q140: 0 | R140: =Q140*H140 -> 0 | S140: 0.625 | T140: =S140*H140 -> 4.2 | AR140: 4 | AT140: K | AU140: 2 | AY140: ROZPOCET | BE140: =IF(N140="základní",J140,0) -> 0 | BF140: =IF(N140="snížená",J140,0) -> 0 | BG140: =IF(N140="zákl. přenesená",J140,0) -> 0 | BH140: =IF(N140="sníž. přenesená",J140,0) -> 0 | BI140: =IF(N140="nulová",J140,0) -> 0 | BJ140: 1 | BK140: =ROUND(I140*H140,2) -> 0 | BL140: 4 | BM140: -1121617339
D141: VV | F141: Betonová komunikace | AT141: VV | AU141: 2 | AV141: 1 | AW141: True | AX141: 0 | AY141: ROZPOCET
D142: VV | F142: viz tabulka I82 | AT142: VV | AU142: 2 | AV142: 1 | AW142: True | AX142: 0 | AY142: ROZPOCET
D143: VV | F143: 6,72 | H143: 6.72 | AT143: VV | AU143: 2 | AV143: 2 | AW143: True | AX143: 0 | AY143: ROZPOCET
D144: VV | F144: Součet | H144: 6.72 | AT144: VV | AU144: 2 | AV144: 4 | AW144: True | AX144: 1 | AY144: ROZPOCET
C145: 4 | D145: K | E145: 115101201 | F145: Čerpání vody na dopravní výšku do 10 m průměrný přítok do 500 l/min | G145: hod | H145: 40 | J145: =ROUND(I145*H145,2) -> 0 | N145: základní | P145: =O145*H145 -> 0 | Q145: 3e-05 | R145: =Q145*H145 -> 0.0012 | S145: 0 | T145: =S145*H145 -> 0 | AR145: 4 | AT145: K | AU145: 2 | AY145: ROZPOCET | BE145: =IF(N145="základní",J145,0) -> 0 | BF145: =IF(N145="snížená",J145,0) -> 0 | BG145: =IF(N145="zákl. přenesená",J145,0) -> 0 | BH145: =IF(N145="sníž. přenesená",J145,0) -> 0 | BI145: =IF(N145="nulová",J145,0) -> 0 | BJ145: 1 | BK145: =ROUND(I145*H145,2) -> 0 | BL145: 4 | BM145: 948921368
D146: VV | F146: 5*8,0 | H146: 40 | AT146: VV | AU146: 2 | AV146: 2 | AW146: True | AX146: 1 | AY146: ROZPOCET
C147: 5 | D147: K | E147: 115101301 | F147: Pohotovost čerpací soupravy pro dopravní výšku do 10 m přítok do 500 l/min | G147: den | H147: 5 | J147: =ROUND(I147*H147,2) -> 0 | N147: základní | P147: =O147*H147 -> 0 | Q147: 0 | R147: =Q147*H147 -> 0 | S147: 0 | T147: =S147*H147 -> 0 | AR147: 4 | AT147: K | AU147: 2 | AY147: ROZPOCET | BE147: =IF(N147="základní",J147,0) -> 0 | BF147: =IF(N147="snížená",J147,0) -> 0 | BG147: =IF(N147="zákl. přenesená",J147,0) -> 0 | BH147: =IF(N147="sníž. přenesená",J147,0) -> 0 | BI147: =IF(N147="nulová",J147,0) -> 0 | BJ147: 1 | BK147: =ROUND(I147*H147,2) -> 0 | BL147: 4 | BM147: 1226596658
D148: VV | F148: 5 | H148: 5 | AT148: VV | AU148: 2 | AV148: 2 | AW148: True | AX148: 1 | AY148: ROZPOCET
C149: 6 | D149: K | E149: 132154203 | F149: Hloubení zapažených rýh š do 2000 mm v hornině třídy těžitelnosti I skupiny 1 a 2 objem do 100 m3 | G149: m3 | H149: 7.93416 | J149: =ROUND(I149*H149,2) -> 0 | N149: základní | P149: =O149*H149 -> 0 | Q149: 0 | R149: =Q149*H149 -> 0 | S149: 0 | T149: =S149*H149 -> 0 | AR149: 4 | AT149: K | AU149: 2 | AY149: ROZPOCET | BE149: =IF(N149="základní",J149,0) -> 0 | BF149: =IF(N149="snížená",J149,0) -> 0 | BG149: =IF(N149="zákl. přenesená",J149,0) -> 0 | BH149: =IF(N149="sníž. přenesená",J149,0) -> 0 | BI149: =IF(N149="nulová",J149,0) -> 0 | BJ149: 1 | BK149: =ROUND(I149*H149,2) -> 0 | BL149: 4 | BM149: -1816565649
D150: VV | F150: Předpoklad 10%-2.skupina | AT150: VV | AU150: 2 | AV150: 1 | AW150: True | AX150: 0 | AY150: ROZPOCET
D151: VV | F151: viz Zemní práce-přípojka vody | AT151: VV | AU151: 2 | AV151: 1 | AW151: True | AX151: 0 | AY151: ROZPOCET
D152: VV | F152: 80,82 | H152: 80.82 | AT152: VV | AU152: 2 | AV152: 2 | AW152: True | AX152: 0 | AY152: ROZPOCET
D153: VV | F153: odpočet skladeb | AT153: VV | AU153: 2 | AV153: 1 | AW153: True | AX153: 0 | AY153: ROZPOCET
D154: VV | F154: -3,2*1,1*0,42 | H154: -1.4784 | AT154: VV | AU154: 2 | AV154: 2 | AW154: True | AX154: 0 | AY154: ROZPOCET
D155: VV | F155: Součet | H155: 79.3416 | AT155: VV | AU155: 2 | AV155: 4 | AW155: True | AX155: 1 | AY155: ROZPOCET
D156: VV | F156: 79,3416*0,1 'Přepočtené koeficientem množství | H156: 7.93416 | AT156: VV | AU156: 2 | AV156: 2 | AW156: False | AX156: 1 | AY156: ROZPOCET
C157: 7 | D157: K | E157: 132254203 | F157: Hloubení zapažených rýh š do 2000 mm v hornině třídy těžitelnosti I skupiny 3 objem do 100 m3 | G157: m3 | H157: 31.73664 | J157: =ROUND(I157*H157,2) -> 0 | N157: základní | P157: =O157*H157 -> 0 | Q157: 0 | R157: =Q157*H157 -> 0 | S157: 0 | T157: =S157*H157 -> 0 | AR157: 4 | AT157: K | AU157: 2 | AY157: ROZPOCET | BE157: =IF(N157="základní",J157,0) -> 0 | BF157: =IF(N157="snížená",J157,0) -> 0 | BG157: =IF(N157="zákl. přenesená",J157,0) -> 0 | BH157: =IF(N157="sníž. přenesená",J157,0) -> 0 | BI157: =IF(N157="nulová",J157,0) -> 0 | BJ157: 1 | BK157: =ROUND(I157*H157,2) -> 0 | BL157: 4 | BM157: -474527448
D158: VV | F158: Předpoklad 40%-3.skupina | AT158: VV | AU158: 2 | AV158: 1 | AW158: True | AX158: 0 | AY158: ROZPOCET
D159: VV | F159: viz Zemní práce-přípojka vody | AT159: VV | AU159: 2 | AV159: 1 | AW159: True | AX159: 0 | AY159: ROZPOCET
D160: VV | F160: 80,82 | H160: 80.82 | AT160: VV | AU160: 2 | AV160: 2 | AW160: True | AX160: 0 | AY160: ROZPOCET
D161: VV | F161: odpočet skladeb | AT161: VV | AU161: 2 | AV161: 1 | AW161: True | AX161: 0 | AY161: ROZPOCET
D162: VV | F162: -3,2*1,1*0,42 | H162: -1.4784 | AT162: VV | AU162: 2 | AV162: 2 | AW162: True | AX162: 0 | AY162: ROZPOCET
D163: VV | F163: Součet | H163: 79.3416 | AT163: VV | AU163: 2 | AV163: 4 | AW163: True | AX163: 1 | AY163: ROZPOCET
D164: VV | F164: 79,3416*0,4 'Přepočtené koeficientem množství | H164: 31.73664 | AT164: VV | AU164: 2 | AV164: 2 | AW164: False | AX164: 1 | AY164: ROZPOCET
C165: 8 | D165: K | E165: 132354203 | F165: Hloubení zapažených rýh š do 2000 mm v hornině třídy těžitelnosti II skupiny 4 objem do 100 m3 | G165: m3 | H165: 39.6708 | J165: =ROUND(I165*H165,2) -> 0 | N165: základní | P165: =O165*H165 -> 0 | Q165: 0 | R165: =Q165*H165 -> 0 | S165: 0 | T165: =S165*H165 -> 0 | AR165: 4 | AT165: K | AU165: 2 | AY165: ROZPOCET | BE165: =IF(N165="základní",J165,0) -> 0 | BF165: =IF(N165="snížená",J165,0) -> 0 | BG165: =IF(N165="zákl. přenesená",J165,0) -> 0 | BH165: =IF(N165="sníž. přenesená",J165,0) -> 0 | BI165: =IF(N165="nulová",J165,0) -> 0 | BJ165: 1 | BK165: =ROUND(I165*H165,2) -> 0 | BL165: 4 | BM165: 991644217
D166: VV | F166: Předpoklad 50%-4.skupina | AT166: VV | AU166: 2 | AV166: 1 | AW166: True | AX166: 0 | AY166: ROZPOCET
...

Sheet D.6 SO 06 - Přípojka NN k...
AT2: {480c2e52-2a0e-4571-ab4b-af084a78353f}
AT3: 2
D4: KRYCÍ LIST SOUPISU PRACÍ | M4: v --- níže se nacházejí doplnkové a pomocné údaje k sestavám --- v | AT4: False
D6: Stavba:
E7: ='Rekapitulace stavby'!K6 -> Našiměřice - Splašková kanalizace - ÚRS I/2026-úprava po připomínkách uchazečů
D8: Objekt:
E9: D.6 SO 06 - Přípojka NN ke KČS 01
D11: KSO: | I11: CC-CZ:
D12: Místo: | F12: Našiměřice | I12: Datum: | J12: ='Rekapitulace stavby'!AN8 -> 19. 6. 2026
D14: Zadavatel: | I14: IČ: | J14: =IF('Rekapitulace stavby'!AN10="","",'Rekapitulace stavby'!AN10)
E15: =IF('Rekapitulace stavby'!E11="","",'Rekapitulace stavby'!E11) | I15: DIČ: | J15: =IF('Rekapitulace stavby'!AN11="","",'Rekapitulace stavby'!AN11)
D17: Uchazeč: | I17: IČ: | J17: ='Rekapitulace stavby'!AN13 -> Vyplň údaj
E18: ='Rekapitulace stavby'!E14 -> Vyplň údaj | I18: DIČ: | J18: ='Rekapitulace stavby'!AN14 -> Vyplň údaj
D20: Projektant: | I20: IČ: | J20: =IF('Rekapitulace stavby'!AN16="","",'Rekapitulace stavby'!AN16)
E21: =IF('Rekapitulace stavby'!E17="","",'Rekapitulace stavby'!E17) | I21: DIČ: | J21: =IF('Rekapitulace stavby'!AN17="","",'Rekapitulace stavby'!AN17)
D23: Zpracovatel: | I23: IČ: | J23: =IF('Rekapitulace stavby'!AN19="","",'Rekapitulace stavby'!AN19)
E24: =IF('Rekapitulace stavby'!E20="","",'Rekapitulace stavby'!E20) | I24: DIČ: | J24: =IF('Rekapitulace stavby'!AN20="","",'Rekapitulace stavby'!AN20)
D26: Poznámka:
D30: Cena bez DPH | J30: =ROUND(J121, 2) -> 0
F32: Základ daně | I32: Sazba daně | J32: Výše daně
D33: DPH | E33: základní | F33: =ROUND((SUM(BE121:BE157)), 2) -> 0 | I33: 0.21 | J33: =ROUND(((SUM(BE121:BE157))*I33), 2) -> 0
E34: snížená | F34: =ROUND((SUM(BF121:BF157)), 2) -> 0 | I34: 0.12 | J34: =ROUND(((SUM(BF121:BF157))*I34), 2) -> 0
E35: zákl. přenesená | F35: =ROUND((SUM(BG121:BG157)), 2) -> 0 | I35: 0.21 | J35: =0 -> 0
E36: sníž. přenesená | F36: =ROUND((SUM(BH121:BH157)), 2) -> 0 | I36: 0.12 | J36: =0 -> 0
E37: nulová | F37: =ROUND((SUM(BI121:BI157)), 2) -> 0 | I37: 0 | J37: =0 -> 0
D39: Cena s DPH | G39: v | H39: CZK | J39: =SUM(J30:J37) -> 0
D50: Projektant | G50: Zpracovatel
D61: Datum a podpis: | F61: Razítko | G61: Datum a podpis: | J61: Razítko
D65: Objednavatel | G65: Uchazeč
D76: Datum a podpis: | F76: Razítko | G76: Datum a podpis: | J76: Razítko
C82: REKAPITULACE ČLENĚNÍ SOUPISU PRACÍ
C84: Stavba:
E85: =E7 -> Našiměřice - Splašková kanalizace - ÚRS I/2026-úprava po připomínkách uchazečů
C86: Objekt:
E87: =E9 -> D.6 SO 06 - Přípojka NN ke KČS 01
C89: Místo: | F89: =F12 -> Našiměřice | I89: Datum: | J89: =IF(J12="","",J12) -> 19. 6. 2026
C91: Zadavatel: | F91: =E15 | I91: Projektant: | J91: =E21
C92: Uchazeč: | F92: =IF(E18="","",E18) -> Vyplň údaj | I92: Zpracovatel: | J92: =E24
C94: Kód dílu - Popis | J94: Cena celkem [CZK]
C96: Náklady ze soupisu prací | J96: =J121 -> 0 | AU96: -1
D97: M - Práce a dodávky M | J97: =J122 -> 0
D98: D1 - Kabelové napojení NN | J98: =J123 -> 0
D99: D2 - Zemní práce | J99: =J136 -> 0
D100: D3 - Vedlejší rozpočtové náklady | J100: =J151 -> 0
D101: D4 - Ostatní náklady | J101: =J154 -> 0
C108: SOUPIS PRACÍ
C110: Stavba:
E111: =E7 -> Našiměřice - Splašková kanalizace - ÚRS I/2026-úprava po připomínkách uchazečů
C112: Objekt:
E113: =E9 -> D.6 SO 06 - Přípojka NN ke KČS 01
C115: Místo: | F115: =F12 -> Našiměřice | I115: Datum: | J115: =IF(J12="","",J12) -> 19. 6. 2026
C117: Zadavatel: | F117: =E15 | I117: Projektant: | J117: =E21
C118: Uchazeč: | F118: =IF(E18="","",E18) -> Vyplň údaj | I118: Zpracovatel: | J118: =E24
C120: PČ | D120: Typ | E120: Kód | F120: Popis | G120: MJ | H120: Množství | I120: J.cena [CZK] | J120: Cena celkem [CZK] | K120: Cenová soustava | N120: DPH | O120: J. Nh [h] | P120: Nh celkem [h] | Q120: J. hmotnost [t] | R120: Hmotnost celkem [t] | S120: J. suť [t] | T120: Suť Celkem [t]
C121: Náklady soupisu celkem | J121: =BK121 -> 0 | P121: =P122 -> 0 | R121: =R122 -> 0 | T121: =T122 -> 0 | AT121: D | AU121: -1 | BK121: =BK122 -> 0
D122: D | E122: M | F122: Práce a dodávky M | J122: =BK122 -> 0 | P122: =P123+P136+P151+P154 -> 0 | R122: =R123+R136+R151+R154 -> 0 | T122: =T123+T136+T151+T154 -> 0 | AR122: 3 | AT122: D | AU122: 0 | AY122: ROZPOCET | BK122: =BK123+BK136+BK151+BK154 -> 0
D123: D | E123: D1 | F123: Kabelové napojení NN | J123: =BK123 -> 0 | P123: =SUM(P124:P135) -> 0 | R123: =SUM(R124:R135) -> 0 | T123: =SUM(T124:T135) -> 0 | AR123: 3 | AT123: D | AU123: 1 | AY123: ROZPOCET | BK123: =SUM(BK124:BK135) -> 0
C124: 1 | D124: K | E124: 01 | F124: kabel CYKY-J 4x25 - kabelová trasa + vývody ke skříním (trasa 1x 41,9m + vývody 3x 3m + 1 x 6m) | G124: m | H124: 56.9 | J124: =ROUND(I124*H124,2) -> 0 | N124: základní | P124: =O124*H124 -> 0 | Q124: 0 | R124: =Q124*H124 -> 0 | S124: 0 | T124: =S124*H124 -> 0 | AR124: 64 | AT124: K | AU124: 2 | AY124: ROZPOCET | BE124: =IF(N124="základní",J124,0) -> 0 | BF124: =IF(N124="snížená",J124,0) -> 0 | BG124: =IF(N124="zákl. přenesená",J124,0) -> 0 | BH124: =IF(N124="sníž. přenesená",J124,0) -> 0 | BI124: =IF(N124="nulová",J124,0) -> 0 | BJ124: 1 | BK124: =ROUND(I124*H124,2) -> 0 | BL124: 64 | BM124: 2
C125: 2 | D125: K | E125: 02 | F125: smršťovací hlavice rozdělovací 6-50mm2 | G125: ks | H125: 4 | J125: =ROUND(I125*H125,2) -> 0 | N125: základní | P125: =O125*H125 -> 0 | Q125: 0 | R125: =Q125*H125 -> 0 | S125: 0 | T125: =S125*H125 -> 0 | AR125: 64 | AT125: K | AU125: 2 | AY125: ROZPOCET | BE125: =IF(N125="základní",J125,0) -> 0 | BF125: =IF(N125="snížená",J125,0) -> 0 | BG125: =IF(N125="zákl. přenesená",J125,0) -> 0 | BH125: =IF(N125="sníž. přenesená",J125,0) -> 0 | BI125: =IF(N125="nulová",J125,0) -> 0 | BJ125: 1 | BK125: =ROUND(I125*H125,2) -> 0 | BL125: 64 | BM125: 4
C126: 3 | D126: K | E126: 03 | F126: ukončení kabelu do 4x25 mm2 | G126: ks | H126: 4 | J126: =ROUND(I126*H126,2) -> 0 | N126: základní | P126: =O126*H126 -> 0 | Q126: 0 | R126: =Q126*H126 -> 0 | S126: 0 | T126: =S126*H126 -> 0 | AR126: 64 | AT126: K | AU126: 2 | AY126: ROZPOCET | BE126: =IF(N126="základní",J126,0) -> 0 | BF126: =IF(N126="snížená",J126,0) -> 0 | BG126: =IF(N126="zákl. přenesená",J126,0) -> 0 | BH126: =IF(N126="sníž. přenesená",J126,0) -> 0 | BI126: =IF(N126="nulová",J126,0) -> 0 | BJ126: 1 | BK126: =ROUND(I126*H126,2) -> 0 | BL126: 64 | BM126: 6
C127: 4 | D127: K | E127: 04 | F127: zemnicí pásek FeZn 30 x 4 - trasa 42 m (1,0 m => 0,95kg) | G127: kg | H127: 41 | J127: =ROUND(I127*H127,2) -> 0 | N127: základní | P127: =O127*H127 -> 0 | Q127: 0 | R127: =Q127*H127 -> 0 | S127: 0 | T127: =S127*H127 -> 0 | AR127: 64 | AT127: K | AU127: 2 | AY127: ROZPOCET | BE127: =IF(N127="základní",J127,0) -> 0 | BF127: =IF(N127="snížená",J127,0) -> 0 | BG127: =IF(N127="zákl. přenesená",J127,0) -> 0 | BH127: =IF(N127="sníž. přenesená",J127,0) -> 0 | BI127: =IF(N127="nulová",J127,0) -> 0 | BJ127: 1 | BK127: =ROUND(I127*H127,2) -> 0 | BL127: 64 | BM127: 8
C128: 5 | D128: K | E128: 05 | F128: kulatina FeZn pr. 10 - vývody k elektroměrovému rozváděči 5 m (1,0 m => 0,62kg) | G128: kg | H128: 3.1 | J128: =ROUND(I128*H128,2) -> 0 | N128: základní | P128: =O128*H128 -> 0 | Q128: 0 | R128: =Q128*H128 -> 0 | S128: 0 | T128: =S128*H128 -> 0 | AR128: 64 | AT128: K | AU128: 2 | AY128: ROZPOCET | BE128: =IF(N128="základní",J128,0) -> 0 | BF128: =IF(N128="snížená",J128,0) -> 0 | BG128: =IF(N128="zákl. přenesená",J128,0) -> 0 | BH128: =IF(N128="sníž. přenesená",J128,0) -> 0 | BI128: =IF(N128="nulová",J128,0) -> 0 | BJ128: 1 | BK128: =ROUND(I128*H128,2) -> 0 | BL128: 64 | BM128: 10
C129: 6 | D129: K | E129: 06 | F129: svorka spojovací 2xSR 03 nebo svařovaný spoj | G129: ks | H129: 2 | J129: =ROUND(I129*H129,2) -> 0 | N129: základní | P129: =O129*H129 -> 0 | Q129: 0 | R129: =Q129*H129 -> 0 | S129: 0 | T129: =S129*H129 -> 0 | AR129: 64 | AT129: K | AU129: 2 | AY129: ROZPOCET | BE129: =IF(N129="základní",J129,0) -> 0 | BF129: =IF(N129="snížená",J129,0) -> 0 | BG129: =IF(N129="zákl. přenesená",J129,0) -> 0 | BH129: =IF(N129="sníž. přenesená",J129,0) -> 0 | BI129: =IF(N129="nulová",J129,0) -> 0 | BJ129: 1 | BK129: =ROUND(I129*H129,2) -> 0 | BL129: 64 | BM129: 12
C130: 7 | D130: K | E130: 07 | F130: antikorozní ochrana – izolace spojů a přechodů země - vzduch | G130: ks | H130: 2 | J130: =ROUND(I130*H130,2) -> 0 | N130: základní | P130: =O130*H130 -> 0 | Q130: 0 | R130: =Q130*H130 -> 0 | S130: 0 | T130: =S130*H130 -> 0 | AR130: 64 | AT130: K | AU130: 2 | AY130: ROZPOCET | BE130: =IF(N130="základní",J130,0) -> 0 | BF130: =IF(N130="snížená",J130,0) -> 0 | BG130: =IF(N130="zákl. přenesená",J130,0) -> 0 | BH130: =IF(N130="sníž. přenesená",J130,0) -> 0 | BI130: =IF(N130="nulová",J130,0) -> 0 | BJ130: 1 | BK130: =ROUND(I130*H130,2) -> 0 | BL130: 64 | BM130: 14
C131: 8 | D131: K | E131: 08 | F131: elektroměrová skříň – ER212/NKP7P/63A-QM-EON, IP 44, přívod i odvod dimenzovat na 4x25mm2 | G131: ks | H131: 1 | J131: =ROUND(I131*H131,2) -> 0 | N131: základní | P131: =O131*H131 -> 0 | Q131: 0 | R131: =Q131*H131 -> 0 | S131: 0 | T131: =S131*H131 -> 0 | AR131: 64 | AT131: K | AU131: 2 | AY131: ROZPOCET | BE131: =IF(N131="základní",J131,0) -> 0 | BF131: =IF(N131="snížená",J131,0) -> 0 | BG131: =IF(N131="zákl. přenesená",J131,0) -> 0 | BH131: =IF(N131="sníž. přenesená",J131,0) -> 0 | BI131: =IF(N131="nulová",J131,0) -> 0 | BJ131: 1 | BK131: =ROUND(I131*H131,2) -> 0 | BL131: 64 | BM131: 16
C132: 9 | D132: K | E132: 09 | F132: hlavní jistič 3x63A, char. "B", 10kA | G132: ks | H132: 1 | J132: =ROUND(I132*H132,2) -> 0 | N132: základní | P132: =O132*H132 -> 0 | Q132: 0 | R132: =Q132*H132 -> 0 | S132: 0 | T132: =S132*H132 -> 0 | AR132: 64 | AT132: K | AU132: 2 | AY132: ROZPOCET | BE132: =IF(N132="základní",J132,0) -> 0 | BF132: =IF(N132="snížená",J132,0) -> 0 | BG132: =IF(N132="zákl. přenesená",J132,0) -> 0 | BH132: =IF(N132="sníž. přenesená",J132,0) -> 0 | BI132: =IF(N132="nulová",J132,0) -> 0 | BJ132: 1 | BK132: =ROUND(I132*H132,2) -> 0 | BL132: 64 | BM132: 18
C133: 10 | D133: K | E133: 10 | F133: pojistka výkonová PN000gG 80A (doplnění do příp. skříně - do nápojného bodu) | G133: ks | H133: 3 | J133: =ROUND(I133*H133,2) -> 0 | N133: základní | P133: =O133*H133 -> 0 | Q133: 0 | R133: =Q133*H133 -> 0 | S133: 0 | T133: =S133*H133 -> 0 | AR133: 64 | AT133: K | AU133: 2 | AY133: ROZPOCET | BE133: =IF(N133="základní",J133,0) -> 0 | BF133: =IF(N133="snížená",J133,0) -> 0 | BG133: =IF(N133="zákl. přenesená",J133,0) -> 0 | BH133: =IF(N133="sníž. přenesená",J133,0) -> 0 | BI133: =IF(N133="nulová",J133,0) -> 0 | BJ133: 1 | BK133: =ROUND(I133*H133,2) -> 0 | BL133: 64 | BM133: 20
C134: 11 | D134: K | E134: 11 | F134: prořez kabelů a vodičů (z položky ROZVODY CELKEM) | G134: % | J134: =ROUND(I134*H134,2) -> 0 | N134: základní | P134: =O134*H134 -> 0 | Q134: 0 | R134: =Q134*H134 -> 0 | S134: 0 | T134: =S134*H134 -> 0 | AR134: 64 | AT134: K | AU134: 2 | AY134: ROZPOCET | BE134: =IF(N134="základní",J134,0) -> 0 | BF134: =IF(N134="snížená",J134,0) -> 0 | BG134: =IF(N134="zákl. přenesená",J134,0) -> 0 | BH134: =IF(N134="sníž. přenesená",J134,0) -> 0 | BI134: =IF(N134="nulová",J134,0) -> 0 | BJ134: 1 | BK134: =ROUND(I134*H134,2) -> 0 | BL134: 64 | BM134: 22
C135: 12 | D135: K | E135: 12 | F135: podružný materiál (z materiálu p.č. 1 - p.č. 10) | G135: % | J135: =ROUND(I135*H135,2) -> 0 | N135: základní | P135: =O135*H135 -> 0 | Q135: 0 | R135: =Q135*H135 -> 0 | S135: 0 | T135: =S135*H135 -> 0 | AR135: 64 | AT135: K | AU135: 2 | AY135: ROZPOCET | BE135: =IF(N135="základní",J135,0) -> 0 | BF135: =IF(N135="snížená",J135,0) -> 0 | BG135: =IF(N135="zákl. přenesená",J135,0) -> 0 | BH135: =IF(N135="sníž. přenesená",J135,0) -> 0 | BI135: =IF(N135="nulová",J135,0) -> 0 | BJ135: 1 | BK135: =ROUND(I135*H135,2) -> 0 | BL135: 64 | BM135: 24
D136: D | E136: D2 | F136: Zemní práce | J136: =BK136 -> 0 | P136: =SUM(P137:P150) -> 0 | R136: =SUM(R137:R150) -> 0 | T136: =SUM(T137:T150) -> 0 | AR136: 3 | AT136: D | AU136: 1 | AY136: ROZPOCET | BK136: =SUM(BK137:BK150) -> 0
C137: 13 | D137: K | E137: 13 | F137: náklady na vytyčení stávajících podzemních vedení | G137: sd | H137: 1 | J137: =ROUND(I137*H137,2) -> 0 | N137: základní | P137: =O137*H137 -> 0 | Q137: 0 | R137: =Q137*H137 -> 0 | S137: 0 | T137: =S137*H137 -> 0 | AR137: 64 | AT137: K | AU137: 2 | AY137: ROZPOCET | BE137: =IF(N137="základní",J137,0) -> 0 | BF137: =IF(N137="snížená",J137,0) -> 0 | BG137: =IF(N137="zákl. přenesená",J137,0) -> 0 | BH137: =IF(N137="sníž. přenesená",J137,0) -> 0 | BI137: =IF(N137="nulová",J137,0) -> 0 | BJ137: 1 | BK137: =ROUND(I137*H137,2) -> 0 | BL137: 64 | BM137: 28
C138: 14 | D138: K | E138: 14 | F138: vytyčení trati kabel. vedení v zastavěném terénu | G138: m | H138: 42 | J138: =ROUND(I138*H138,2) -> 0 | N138: základní | P138: =O138*H138 -> 0 | Q138: 0 | R138: =Q138*H138 -> 0 | S138: 0 | T138: =S138*H138 -> 0 | AR138: 64 | AT138: K | AU138: 2 | AY138: ROZPOCET | BE138: =IF(N138="základní",J138,0) -> 0 | BF138: =IF(N138="snížená",J138,0) -> 0 | BG138: =IF(N138="zákl. přenesená",J138,0) -> 0 | BH138: =IF(N138="sníž. přenesená",J138,0) -> 0 | BI138: =IF(N138="nulová",J138,0) -> 0 | BJ138: 1 | BK138: =ROUND(I138*H138,2) -> 0 | BL138: 64 | BM138: 30
C139: 15 | D139: K | E139: 15 | F139: výkop + zához kabel. rýhy 35 x 85 cm ručně | G139: m | H139: 35 | J139: =ROUND(I139*H139,2) -> 0 | N139: základní | P139: =O139*H139 -> 0 | Q139: 0 | R139: =Q139*H139 -> 0 | S139: 0 | T139: =S139*H139 -> 0 | AR139: 64 | AT139: K | AU139: 2 | AY139: ROZPOCET | BE139: =IF(N139="základní",J139,0) -> 0 | BF139: =IF(N139="snížená",J139,0) -> 0 | BG139: =IF(N139="zákl. přenesená",J139,0) -> 0 | BH139: =IF(N139="sníž. přenesená",J139,0) -> 0 | BI139: =IF(N139="nulová",J139,0) -> 0 | BJ139: 1 | BK139: =ROUND(I139*H139,2) -> 0 | BL139: 64 | BM139: 32
C140: 16 | D140: K | E140: 16 | F140: zřízení kabel. lože z kopaného písku š. 35cm, tl. vrstvy 20cm | G140: m | H140: 35 | J140: =ROUND(I140*H140,2) -> 0 | N140: základní | P140: =O140*H140 -> 0 | Q140: 0 | R140: =Q140*H140 -> 0 | S140: 0 | T140: =S140*H140 -> 0 | AR140: 64 | AT140: K | AU140: 2 | AY140: ROZPOCET | BE140: =IF(N140="základní",J140,0) -> 0 | BF140: =IF(N140="snížená",J140,0) -> 0 | BG140: =IF(N140="zákl. přenesená",J140,0) -> 0 | BH140: =IF(N140="sníž. přenesená",J140,0) -> 0 | BI140: =IF(N140="nulová",J140,0) -> 0 | BJ140: 1 | BK140: =ROUND(I140*H140,2) -> 0 | BL140: 64 | BM140: 34
C141: 17 | D141: K | E141: 17 | F141: překop potoka – dle správce vodního toku (hl. 1,2m, vč. kamenného záhozu dle ČSN 75 2130) | G141: m | H141: 7 | J141: =ROUND(I141*H141,2) -> 0 | N141: základní | P141: =O141*H141 -> 0 | Q141: 0 | R141: =Q141*H141 -> 0 | S141: 0 | T141: =S141*H141 -> 0 | AR141: 64 | AT141: K | AU141: 2 | AY141: ROZPOCET | BE141: =IF(N141="základní",J141,0) -> 0 | BF141: =IF(N141="snížená",J141,0) -> 0 | BG141: =IF(N141="zákl. přenesená",J141,0) -> 0 | BH141: =IF(N141="sníž. přenesená",J141,0) -> 0 | BI141: =IF(N141="nulová",J141,0) -> 0 | BJ141: 1 | BK141: =ROUND(I141*H141,2) -> 0 | BL141: 64 | BM141: 36
C142: 18 | D142: K | E142: 18 | F142: výkop pro betonový panel | G142: m3 | H142: 1.2 | J142: =ROUND(I142*H142,2) -> 0 | N142: základní | P142: =O142*H142 -> 0 | Q142: 0 | R142: =Q142*H142 -> 0 | S142: 0 | T142: =S142*H142 -> 0 | AR142: 64 | AT142: K | AU142: 2 | AY142: ROZPOCET | BE142: =IF(N142="základní",J142,0) -> 0 | BF142: =IF(N142="snížená",J142,0) -> 0 | BG142: =IF(N142="zákl. přenesená",J142,0) -> 0 | BH142: =IF(N142="sníž. přenesená",J142,0) -> 0 | BI142: =IF(N142="nulová",J142,0) -> 0 | BJ142: 1 | BK142: =ROUND(I142*H142,2) -> 0 | BL142: 64 | BM142: 38
C143: 19 | D143: K | E143: 19 | F143: označení místa přechodu potoka | G143: ks | H143: 2 | J143: =ROUND(I143*H143,2) -> 0 | N143: základní | P143: =O143*H143 -> 0 | Q143: 0 | R143: =Q143*H143 -> 0 | S143: 0 | T143: =S143*H143 -> 0 | AR143: 64 | AT143: K | AU143: 2 | AY143: ROZPOCET | BE143: =IF(N143="základní",J143,0) -> 0 | BF143: =IF(N143="snížená",J143,0) -> 0 | BG143: =IF(N143="zákl. přenesená",J143,0) -> 0 | BH143: =IF(N143="sníž. přenesená",J143,0) -> 0 | BI143: =IF(N143="nulová",J143,0) -> 0 | BJ143: 1 | BK143: =ROUND(I143*H143,2) -> 0 | BL143: 64 | BM143: 40
C144: 20 | D144: K | E144: 20 | F144: betonový silniční panel 2000 x 1000 x 150 mm | G144: ks | H144: 1 | J144: =ROUND(I144*H144,2) -> 0 | N144: základní | P144: =O144*H144 -> 0 | Q144: 0 | R144: =Q144*H144 -> 0 | S144: 0 | T144: =S144*H144 -> 0 | AR144: 64 | AT144: K | AU144: 2 | AY144: ROZPOCET | BE144: =IF(N144="základní",J144,0) -> 0 | BF144: =IF(N144="snížená",J144,0) -> 0 | BG144: =IF(N144="zákl. přenesená",J144,0) -> 0 | BH144: =IF(N144="sníž. přenesená",J144,0) -> 0 | BI144: =IF(N144="nulová",J144,0) -> 0 | BJ144: 1 | BK144: =ROUND(I144*H144,2) -> 0 | BL144: 64 | BM144: 42
C145: 21 | D145: K | E145: 21 | F145: ocelová chránička pr. 200mm | G145: m | H145: 7 | J145: =ROUND(I145*H145,2) -> 0 | N145: základní | P145: =O145*H145 -> 0 | Q145: 0 | R145: =Q145*H145 -> 0 | S145: 0 | T145: =S145*H145 -> 0 | AR145: 64 | AT145: K | AU145: 2 | AY145: ROZPOCET | BE145: =IF(N145="základní",J145,0) -> 0 | BF145: =IF(N145="snížená",J145,0) -> 0 | BG145: =IF(N145="zákl. přenesená",J145,0) -> 0 | BH145: =IF(N145="sníž. přenesená",J145,0) -> 0 | BI145: =IF(N145="nulová",J145,0) -> 0 | BJ145: 1 | BK145: =ROUND(I145*H145,2) -> 0 | BL145: 64 | BM145: 44
C146: 22 | D146: K | E146: 22 | F146: chránička pr. 63 mm | G146: m | H146: 50 | J146: =ROUND(I146*H146,2) -> 0 | N146: základní | P146: =O146*H146 -> 0 | Q146: 0 | R146: =Q146*H146 -> 0 | S146: 0 | T146: =S146*H146 -> 0 | AR146: 64 | AT146: K | AU146: 2 | AY146: ROZPOCET | BE146: =IF(N146="základní",J146,0) -> 0 | BF146: =IF(N146="snížená",J146,0) -> 0 | BG146: =IF(N146="zákl. přenesená",J146,0) -> 0 | BH146: =IF(N146="sníž. přenesená",J146,0) -> 0 | BI146: =IF(N146="nulová",J146,0) -> 0 | BJ146: 1 | BK146: =ROUND(I146*H146,2) -> 0 | BL146: 64 | BM146: 46
C147: 23 | D147: K | E147: 23 | F147: tuhá trubka pr.50 mm, ÚV odolná, vč. uchycení na betonový sloup | G147: m | H147: 3 | J147: =ROUND(I147*H147,2) -> 0 | N147: základní | P147: =O147*H147 -> 0 | Q147: 0 | R147: =Q147*H147 -> 0 | S147: 0 | T147: =S147*H147 -> 0 | AR147: 64 | AT147: K | AU147: 2 | AY147: ROZPOCET | BE147: =IF(N147="základní",J147,0) -> 0 | BF147: =IF(N147="snížená",J147,0) -> 0 | BG147: =IF(N147="zákl. přenesená",J147,0) -> 0 | BH147: =IF(N147="sníž. přenesená",J147,0) -> 0 | BI147: =IF(N147="nulová",J147,0) -> 0 | BJ147: 1 | BK147: =ROUND(I147*H147,2) -> 0 | BL147: 64 | BM147: 48
C148: 24 | D148: K | E148: 24 | F148: zemní práce k pilířovým skříním, vč. základu | G148: ks | H148: 1 | J148: =ROUND(I148*H148,2) -> 0 | N148: základní | P148: =O148*H148 -> 0 | Q148: 0 | R148: =Q148*H148 -> 0 | S148: 0 | T148: =S148*H148 -> 0 | AR148: 64 | AT148: K | AU148: 2 | AY148: ROZPOCET | BE148: =IF(N148="základní",J148,0) -> 0 | BF148: =IF(N148="snížená",J148,0) -> 0 | BG148: =IF(N148="zákl. přenesená",J148,0) -> 0 | BH148: =IF(N148="sníž. přenesená",J148,0) -> 0 | BI148: =IF(N148="nulová",J148,0) -> 0 | BJ148: 1 | BK148: =ROUND(I148*H148,2) -> 0 | BL148: 64 | BM148: 50
... C150: 26 | D150: K | E150: 26 | F150: odvoz zeminy, vč. uložení na skládce - délka x šířka výkopu x výška pískového lože (35,0m x 0,35m x 0,2m) | G150: m3 | H150: 2.45 | J150: =ROUND(I150*H150,2) -> 0 | N150: základní | P150: =O150*H150 -> 0 | Q150: 0 | R150: =Q150*H150 -> 0 | S150: 0 | T150: =S150*H150 -> 0 | AR150: 64 | AT150: K | AU150: 2 | AY150: ROZPOCET | BE150: =IF(N150="základní",J150,0) -> 0 | BF150: =IF(N150="snížená",J150,0) -> 0 | BG150: =IF(N150="zákl. přenesená",J150,0) -> 0 | BH150: =IF(N150="sníž. přenesená",J150,0) -> 0 | BI150: =IF(N150="nulová",J150,0) -> 0 | BJ150: 1 | BK150: =ROUND(I150*H150,2) -> 0 | BL150: 64 | BM150: 54
D151: D | E151: D3 | F151: Vedlejší rozpočtové náklady | J151: =BK151 -> 0 | P151: =SUM(P152:P153) -> 0 | R151: =SUM(R152:R153) -> 0 | T151: =SUM(T152:T153) -> 0 | AR151: 3 | AT151: D | AU151: 1 | AY151: ROZPOCET | BK151: =SUM(BK152:BK153) -> 0
C152: 27 | D152: K | E152: 27 | F152: výchozí revize | G152: h | H152: 5 | J152: =ROUND(I152*H152,2) -> 0 | N152: základní | P152: =O152*H152 -> 0 | Q152: 0 | R152: =Q152*H152 -> 0 | S152: 0 | T152: =S152*H152 -> 0 | AR152: 64 | AT152: K | AU152: 2 | AY152: ROZPOCET | BE152: =IF(N152="základní",J152,0) -> 0 | BF152: =IF(N152="snížená",J152,0) -> 0 | BG152: =IF(N152="zákl. přenesená",J152,0) -> 0 | BH152: =IF(N152="sníž. přenesená",J152,0) -> 0 | BI152: =IF(N152="nulová",J152,0) -> 0 | BJ152: 1 | BK152: =ROUND(I152*H152,2) -> 0 | BL152: 64 | BM152: 56
C153: 28 | D153: K | E153: 28 | F153: zařízení staveniště (z položky I. KABELOVÉ NAPOJENÍ NN) | G153: % | J153: =ROUND(I153*H153,2) -> 0 | N153: základní | P153: =O153*H153 -> 0 | Q153: 0 | R153: =Q153*H153 -> 0 | S153: 0 | T153: =S153*H153 -> 0 | AR153: 64 | AT153: K | AU153: 2 | AY153: ROZPOCET | BE153: =IF(N153="základní",J153,0) -> 0 | BF153: =IF(N153="snížená",J153,0) -> 0 | BG153: =IF(N153="zákl. přenesená",J153,0) -> 0 | BH153: =IF(N153="sníž. přenesená",J153,0) -> 0 | BI153: =IF(N153="nulová",J153,0) -> 0 | BJ153: 1 | BK153: =ROUND(I153*H153,2) -> 0 | BL153: 64 | BM153: 58
D154: D | E154: D4 | F154: Ostatní náklady | J154: =BK154 -> 0 | P154: =SUM(P155:P157) -> 0 | R154: =SUM(R155:R157) -> 0 | T154: =SUM(T155:T157) -> 0 | AR154: 3 | AT154: D | AU154: 1 | AY154: ROZPOCET | BK154: =SUM(BK155:BK157) -> 0
C155: 29 | D155: K | E155: 29 | F155: geodetické zaměření kabelové trasy | G155: m | H155: 42 | J155: =ROUND(I155*H155,2) -> 0 | N155: základní | P155: =O155*H155 -> 0 | Q155: 0 | R155: =Q155*H155 -> 0 | S155: 0 | T155: =S155*H155 -> 0 | AR155: 64 | AT155: K | AU155: 2 | AY155: ROZPOCET | BE155: =IF(N155="základní",J155,0) -> 0 | BF155: =IF(N155="snížená",J155,0) -> 0 | BG155: =IF(N155="zákl. přenesená",J155,0) -> 0 | BH155: =IF(N155="sníž. přenesená",J155,0) -> 0 | BI155: =IF(N155="nulová",J155,0) -> 0 | BJ155: 1 | BK155: =ROUND(I155*H155,2) -> 0 | BL155: 64 | BM155: 60
C156: 30 | D156: K | E156: 30 | F156: geodetické zaměření nových skříní (RE) | G156: ks | H156: 1 | J156: =ROUND(I156*H156,2) -> 0 | N156: základní | P156: =O156*H156 -> 0 | Q156: 0 | R156: =Q156*H156 -> 0 | S156: 0 | T156: =S156*H156 -> 0 | AR156: 64 | AT156: K | AU156: 2 | AY156: ROZPOCET | BE156: =IF(N156="základní",J156,0) -> 0 | BF156: =IF(N156="snížená",J156,0) -> 0 | BG156: =IF(N156="zákl. přenesená",J156,0) -> 0 | BH156: =IF(N156="sníž. přenesená",J156,0) -> 0 | BI156: =IF(N156="nulová",J156,0) -> 0 | BJ156: 1 | BK156: =ROUND(I156*H156,2) -> 0 | BL156: 64 | BM156: 62
C157: 31 | D157: K | E157: 31 | F157: dokumentace stávajícího stavu ( náklady na vyhotovení dokumentace skutečného provedení stavby a předání | G157: h | H157: 5 | J157: =ROUND(I157*H157,2) -> 0 | N157: základní | P157: =O157*H157 -> 0 | Q157: 0 | R157: =Q157*H157 -> 0 | S157: 0 | T157: =S157*H157 -> 0 | AR157: 64 | AT157: K | AU157: 2 | AY157: ROZPOCET | BE157: =IF(N157="základní",J157,0) -> 0 | BF157: =IF(N157="snížená",J157,0) -> 0 | BG157: =IF(N157="zákl. přenesená",J157,0) -> 0 | BH157: =IF(N157="sníž. přenesená",J157,0) -> 0 | BI157: =IF(N157="nulová",J157,0) -> 0 | BJ157: 1 | BK157: =ROUND(I157*H157,2) -> 0 | BL157: 64 | BM157: 64

Sheet D.7 SO 07 - Příjezdová ko...
AT2: {3ca657b0-bea4-4a5b-8076-6d7e8b9c91c0}
AT3: 2
D4: KRYCÍ LIST SOUPISU PRACÍ | M4: v --- níže se nacházejí doplnkové a pomocné údaje k sestavám --- v | AT4: False
D6: Stavba:
E7: ='Rekapitulace stavby'!K6 -> Našiměřice - Splašková kanalizace - ÚRS I/2026-úprava po připomínkách uchazečů
D8: Objekt:
E9: D.7 SO 07 - Příjezdová komunikace ke KČS 01
D11: KSO: | I11: CC-CZ:
D12: Místo: | F12: Našiměřice | I12: Datum: | J12: ='Rekapitulace stavby'!AN8 -> 19. 6. 2026
D14: Zadavatel: | I14: IČ: | J14: =IF('Rekapitulace stavby'!AN10="","",'Rekapitulace stavby'!AN10)
E15: =IF('Rekapitulace stavby'!E11="","",'Rekapitulace stavby'!E11) | I15: DIČ: | J15: =IF('Rekapitulace stavby'!AN11="","",'Rekapitulace stavby'!AN11)
D17: Uchazeč: | I17: IČ: | J17: ='Rekapitulace stavby'!AN13 -> Vyplň údaj
E18: ='Rekapitulace stavby'!E14 -> Vyplň údaj | I18: DIČ: | J18: ='Rekapitulace stavby'!AN14 -> Vyplň údaj
D20: Projektant: | I20: IČ: | J20: =IF('Rekapitulace stavby'!AN16="","",'Rekapitulace stavby'!AN16)
E21: =IF('Rekapitulace stavby'!E17="","",'Rekapitulace stavby'!E17) | I21: DIČ: | J21: =IF('Rekapitulace stavby'!AN17="","",'Rekapitulace stavby'!AN17)
D23: Zpracovatel: | I23: IČ: | J23: =IF('Rekapitulace stavby'!AN19="","",'Rekapitulace stavby'!AN19)
E24: =IF('Rekapitulace stavby'!E20="","",'Rekapitulace stavby'!E20) | I24: DIČ: | J24: =IF('Rekapitulace stavby'!AN20="","",'Rekapitulace stavby'!AN20)
D26: Poznámka:
D30: Cena bez DPH | J30: =ROUND(J122, 2) -> 0
F32: Základ daně | I32: Sazba daně | J32: Výše daně
D33: DPH | E33: základní | F33: =ROUND((SUM(BE122:BE158)), 2) -> 0 | I33: 0.21 | J33: =ROUND(((SUM(BE122:BE158))*I33), 2) -> 0
E34: snížená | F34: =ROUND((SUM(BF122:BF158)), 2) -> 0 | I34: 0.12 | J34: =ROUND(((SUM(BF122:BF158))*I34), 2) -> 0
E35: zákl. přenesená | F35: =ROUND((SUM(BG122:BG158)), 2) -> 0 | I35: 0.21 | J35: =0 -> 0
E36: sníž. přenesená | F36: =ROUND((SUM(BH122:BH158)), 2) -> 0 | I36: 0.12 | J36: =0 -> 0
E37: nulová | F37: =ROUND((SUM(BI122:BI158)), 2) -> 0 | I37: 0 | J37: =0 -> 0
D39: Cena s DPH | G39: v | H39: CZK | J39: =SUM(J30:J37) -> 0
D50: Projektant | G50: Zpracovatel
D61: Datum a podpis: | F61: Razítko | G61: Datum a podpis: | J61: Razítko
D65: Objednavatel | G65: Uchazeč
D76: Datum a podpis: | F76: Razítko | G76: Datum a podpis: | J76: Razítko
C82: REKAPITULACE ČLENĚNÍ SOUPISU PRACÍ
C84: Stavba:
E85: =E7 -> Našiměřice - Splašková kanalizace - ÚRS I/2026-úprava po připomínkách uchazečů
C86: Objekt:
E87: =E9 -> D.7 SO 07 - Příjezdová komunikace ke KČS 01
C89: Místo: | F89: =F12 -> Našiměřice | I89: Datum: | J89: =IF(J12="","",J12) -> 19. 6. 2026
C91: Zadavatel: | F91: =E15 | I91: Projektant: | J91: =E21
C92: Uchazeč: | F92: =IF(E18="","",E18) -> Vyplň údaj | I92: Zpracovatel: | J92: =E24
C94: Kód dílu - Popis | J94: Cena celkem [CZK]
C96: Náklady ze soupisu prací | J96: =J122 -> 0 | AU96: -1
D97: HSV - HSV | J97: =J123 -> 0
D98: 0 - Všeobecné konstrukce a přáce | J98: =J124 -> 0
D99: 1 - Zemní práce | J99: =J131 -> 0
D100: 5 - Komunikace pozemní | J100: =J145 -> 0
D101: 9 - Ostatní konstrukce a práce, bourání | J101: =J153 -> 0
D102: 99 - Přesun hmot a manipulace se sutí | J102: =J157 -> 0
C109: SOUPIS PRACÍ
C111: Stavba:
E112: =E7 -> Našiměřice - Splašková kanalizace - ÚRS I/2026-úprava po připomínkách uchazečů
C113: Objekt:
E114: =E9 -> D.7 SO 07 - Příjezdová komunikace ke KČS 01
C116: Místo: | F116: =F12 -> Našiměřice | I116: Datum: | J116: =IF(J12="","",J12) -> 19. 6. 2026
C118: Zadavatel: | F118: =E15 | I118: Projektant: | J118: =E21
C119: Uchazeč: | F119: =IF(E18="","",E18) -> Vyplň údaj | I119: Zpracovatel: | J119: =E24
C121: PČ | D121: Typ | E121: Kód | F121: Popis | G121: MJ | H121: Množství | I121: J.cena [CZK] | J121: Cena celkem [CZK] | K121: Cenová soustava | N121: DPH | O121: J. Nh [h] | P121: Nh celkem [h] | Q121: J. hmotnost [t] | R121: Hmotnost celkem [t] | S121: J. suť [t] | T121: Suť Celkem [t]
C122: Náklady soupisu celkem | J122: =BK122 -> 0 | P122: =P123 -> 0 | R122: =R123 -> 0 | T122: =T123 -> 0 | AT122: D | AU122: -1 | BK122: =BK123 -> 0
D123: D | E123: HSV | F123: HSV | J123: =BK123 -> 0 | P123: =P124+P131+P145+P153+P157 -> 0 | R123: =R124+R131+R145+R153+R157 -> 0 | T123: =T124+T131+T145+T153+T157 -> 0 | AR123: 1 | AT123: D | AU123: 0 | AY123: ROZPOCET | BK123: =BK124+BK131+BK145+BK153+BK157 -> 0
D124: D | E124: 0 | F124: Všeobecné konstrukce a přáce | J124: =BK124 -> 0 | P124: =SUM(P125:P130) -> 0 | R124: =SUM(R125:R130) -> 0 | T124: =SUM(T125:T130) -> 0 | AR124: 1 | AT124: D | AU124: 1 | AY124: ROZPOCET | BK124: =SUM(BK125:BK130) -> 0
C125: 1 | D125: K | E125: 012002000 | F125: Geodetické práce před výstavbou | G125: KPL | H125: 1 | J125: =ROUND(I125*H125,2) -> 0 | N125: základní | P125: =O125*H125 -> 0 | Q125: 0 | R125: =Q125*H125 -> 0 | S125: 0 | T125: =S125*H125 -> 0 | AR125: 4 | AT125: K | AU125: 2 | AY125: ROZPOCET | BE125: =IF(N125="základní",J125,0) -> 0 | BF125: =IF(N125="snížená",J125,0) -> 0 | BG125: =IF(N125="zákl. přenesená",J125,0) -> 0 | BH125: =IF(N125="sníž. přenesená",J125,0) -> 0 | BI125: =IF(N125="nulová",J125,0) -> 0 | BJ125: 1 | BK125: =ROUND(I125*H125,2) -> 0 | BL125: 4 | BM125: 2
C126: 2 | D126: K | E126: 012303000 | F126: Geodetické práce po výstavbě | G126: KPL | H126: 1 | J126: =ROUND(I126*H126,2) -> 0 | N126: základní | P126: =O126*H126 -> 0 | Q126: 0 | R126: =Q126*H126 -> 0 | S126: 0 | T126: =S126*H126 -> 0 | AR126: 4 | AT126: K | AU126: 2 | AY126: ROZPOCET | BE126: =IF(N126="základní",J126,0) -> 0 | BF126: =IF(N126="snížená",J126,0) -> 0 | BG126: =IF(N126="zákl. přenesená",J126,0) -> 0 | BH126: =IF(N126="sníž. přenesená",J126,0) -> 0 | BI126: =IF(N126="nulová",J126,0) -> 0 | BJ126: 1 | BK126: =ROUND(I126*H126,2) -> 0 | BL126: 4 | BM126: 4
C127: 3 | D127: K | E127: 034002000 | F127: Zařízení staveniště | G127: KPL | H127: 1 | J127: =ROUND(I127*H127,2) -> 0 | N127: základní | P127: =O127*H127 -> 0 | Q127: 0 | R127: =Q127*H127 -> 0 | S127: 0 | T127: =S127*H127 -> 0 | AR127: 4 | AT127: K | AU127: 2 | AY127: ROZPOCET | BE127: =IF(N127="základní",J127,0) -> 0 | BF127: =IF(N127="snížená",J127,0) -> 0 | BG127: =IF(N127="zákl. přenesená",J127,0) -> 0 | BH127: =IF(N127="sníž. přenesená",J127,0) -> 0 | BI127: =IF(N127="nulová",J127,0) -> 0 | BJ127: 1 | BK127: =ROUND(I127*H127,2) -> 0 | BL127: 4 | BM127: 6
C128: 4 | D128: K | E128: 012403000 | F128: Vytyčení stávajících sítí | G128: KPL | H128: 1 | J128: =ROUND(I128*H128,2) -> 0 | N128: základní | P128: =O128*H128 -> 0 | Q128: 0 | R128: =Q128*H128 -> 0 | S128: 0 | T128: =S128*H128 -> 0 | AR128: 4 | AT128: K | AU128: 2 | AY128: ROZPOCET | BE128: =IF(N128="základní",J128,0) -> 0 | BF128: =IF(N128="snížená",J128,0) -> 0 | BG128: =IF(N128="zákl. přenesená",J128,0) -> 0 | BH128: =IF(N128="sníž. přenesená",J128,0) -> 0 | BI128: =IF(N128="nulová",J128,0) -> 0 | BJ128: 1 | BK128: =ROUND(I128*H128,2) -> 0 | BL128: 4 | BM128: 8
C129: 5 | D129: K | E129: 072002000 | F129: Dopravně informační opatření | G129: KPL | H129: 1 | J129: =ROUND(I129*H129,2) -> 0 | N129: základní | P129: =O129*H129 -> 0 | Q129: 0 | R129: =Q129*H129 -> 0 | S129: 0 | T129: =S129*H129 -> 0 | AR129: 4 | AT129: K | AU129: 2 | AY129: ROZPOCET | BE129: =IF(N129="základní",J129,0) -> 0 | BF129: =IF(N129="snížená",J129,0) -> 0 | BG129: =IF(N129="zákl. přenesená",J129,0) -> 0 | BH129: =IF(N129="sníž. přenesená",J129,0) -> 0 | BI129: =IF(N129="nulová",J129,0) -> 0 | BJ129: 1 | BK129: =ROUND(I129*H129,2) -> 0 | BL129: 4 | BM129: 10
C130: 6 | D130: K | E130: 043103000 | F130: Zkoušky bez rozlišení | G130: KPL | H130: 1 | J130: =ROUND(I130*H130,2) -> 0 | N130: základní | P130: =O130*H130 -> 0 | Q130: 0 | R130: =Q130*H130 -> 0 | S130: 0 | T130: =S130*H130 -> 0 | AR130: 4 | AT130: K | AU130: 2 | AY130: ROZPOCET | BE130: =IF(N130="základní",J130,0) -> 0 | BF130: =IF(N130="snížená",J130,0) -> 0 | BG130: =IF(N130="zákl. přenesená",J130,0) -> 0 | BH130: =IF(N130="sníž. přenesená",J130,0) -> 0 | BI130: =IF(N130="nulová",J130,0) -> 0 | BJ130: 1 | BK130: =ROUND(I130*H130,2) -> 0 | BL130: 4 | BM130: 12
D131: D | E131: 1 | F131: Zemní práce | J131: =BK131 -> 0 | P131: =SUM(P132:P144) -> 0 | R131: =SUM(R132:R144) -> 0 | T131: =SUM(T132:T144) -> 0 | AR131: 1 | AT131: D | AU131: 1 | AY131: ROZPOCET | BK131: =SUM(BK132:BK144) -> 0
C132: 7 | D132: K | E132: 112101134R00 | F132: Kácení stromů listnatých průměru 500 mm, svah 1:2 | G132: KUS | H132: 1 | J132: =ROUND(I132*H132,2) -> 0 | N132: základní | P132: =O132*H132 -> 0 | Q132: 0 | R132: =Q132*H132 -> 0 | S132: 0 | T132: =S132*H132 -> 0 | AR132: 4 | AT132: K | AU132: 2 | AY132: ROZPOCET | BE132: =IF(N132="základní",J132,0) -> 0 | BF132: =IF(N132="snížená",J132,0) -> 0 | BG132: =IF(N132="zákl. přenesená",J132,0) -> 0 | BH132: =IF(N132="sníž. přenesená",J132,0) -> 0 | BI132: =IF(N132="nulová",J132,0) -> 0 | BJ132: 1 | BK132: =ROUND(I132*H132,2) -> 0 | BL132: 4 | BM132: 14
C133: 8 | D133: K | E133: 111200001RA0 | F133: Odstranění křovin a stromů do 100 mm, spálení | G133: m2 | H133: 80 | J133: =ROUND(I133*H133,2) -> 0 | N133: základní | P133: =O133*H133 -> 0 | Q133: 0 | R133: =Q133*H133 -> 0 | S133: 0 | T133: =S133*H133 -> 0 | AR133: 4 | AT133: K | AU133: 2 | AY133: ROZPOCET | BE133: =IF(N133="základní",J133,0) -> 0 | BF133: =IF(N133="snížená",J133,0) -> 0 | BG133: =IF(N133="zákl. přenesená",J133,0) -> 0 | BH133: =IF(N133="sníž. přenesená",J133,0) -> 0 | BI133: =IF(N133="nulová",J133,0) -> 0 | BJ133: 1 | BK133: =ROUND(I133*H133,2) -> 0 | BL133: 4 | BM133: 16
C134: 9 | D134: K | E134: 122202202R00 | F134: Odkopávky pro silnice v hor. 3 do 1000 m3 | G134: M3 | H134: 127 | J134: =ROUND(I134*H134,2) -> 0 | N134: základní | P134: =O134*H134 -> 0 | Q134: 0 | R134: =Q134*H134 -> 0 | S134: 0 | T134: =S134*H134 -> 0 | AR134: 4 | AT134: K | AU134: 2 | AY134: ROZPOCET | BE134: =IF(N134="základní",J134,0) -> 0 | BF134: =IF(N134="snížená",J134,0) -> 0 | BG134: =IF(N134="zákl. přenesená",J134,0) -> 0 | BH134: =IF(N134="sníž. přenesená",J134,0) -> 0 | BI134: =IF(N134="nulová",J134,0) -> 0 | BJ134: 1 | BK134: =ROUND(I134*H134,2) -> 0 | BL134: 4 | BM134: 18
C135: 10 | D135: K | E135: 122202209R00 | F135: Příplatek za lepivost - odkop. pro silnice v hor.3 | G135: M3 | H135: 127 | J135: =ROUND(I135*H135,2) -> 0 | N135: základní | P135: =O135*H135 -> 0 | Q135: 0 | R135: =Q135*H135 -> 0 | S135: 0 | T135: =S135*H135 -> 0 | AR135: 4 | AT135: K | AU135: 2 | AY135: ROZPOCET | BE135: =IF(N135="základní",J135,0) -> 0 | BF135: =IF(N135="snížená",J135,0) -> 0 | BG135: =IF(N135="zákl. přenesená",J135,0) -> 0 | BH135: =IF(N135="sníž. přenesená",J135,0) -> 0 | BI135: =IF(N135="nulová",J135,0) -> 0 | BJ135: 1 | BK135: =ROUND(I135*H135,2) -> 0 | BL135: 4 | BM135: 20
C136: 11 | D136: K | E136: 120001101R00 | F136: Příplatek za ztížení vykopávky v blízkosti vedení | G136: M3 | H136: 63.5 | J136: =ROUND(I136*H136,2) -> 0 | N136: základní | P136: =O136*H136 -> 0 | Q136: 0 | R136: =Q136*H136 -> 0 | S136: 0 | T136: =S136*H136 -> 0 | AR136: 4 | AT136: K | AU136: 2 | AY136: ROZPOCET | BE136: =IF(N136="základní",J136,0) -> 0 | BF136: =IF(N136="snížená",J136,0) -> 0 | BG136: =IF(N136="zákl. přenesená",J136,0) -> 0 | BH136: =IF(N136="sníž. přenesená",J136,0) -> 0 | BI136: =IF(N136="nulová",J136,0) -> 0 | BJ136: 1 | BK136: =ROUND(I136*H136,2) -> 0 | BL136: 4 | BM136: 22
C137: 12 | D137: K | E137: 162701105R00 | F137: Vodorovné přemístění výkopku z hor.1-4 do 10000 m | G137: M3 | H137: 127 | J137: =ROUND(I137*H137,2) -> 0 | N137: základní | P137: =O137*H137 -> 0 | Q137: 0 | R137: =Q137*H137 -> 0 | S137: 0 | T137: =S137*H137 -> 0 | AR137: 4 | AT137: K | AU137: 2 | AY137: ROZPOCET | BE137: =IF(N137="základní",J137,0) -> 0 | BF137: =IF(N137="snížená",J137,0) -> 0 | BG137: =IF(N137="zákl. přenesená",J137,0) -> 0 | BH137: =IF(N137="sníž. přenesená",J137,0) -> 0 | BI137: =IF(N137="nulová",J137,0) -> 0 | BJ137: 1 | BK137: =ROUND(I137*H137,2) -> 0 | BL137: 4 | BM137: 24
C138: 13 | D138: K | E138: 162701109R00 | F138: Příplatek k vod. přemístění hor.1-4 za další 1 km | G138: M3 | H138: 508 | J138: =ROUND(I138*H138,2) -> 0 | N138: základní | P138: =O138*H138 -> 0 | Q138: 0 | R138: =Q138*H138 -> 0 | S138: 0 | T138: =S138*H138 -> 0 | AR138: 4 | AT138: K | AU138: 2 | AY138: ROZPOCET | BE138: =IF(N138="základní",J138,0) -> 0 | BF138: =IF(N138="snížená",J138,0) -> 0 | BG138: =IF(N138="zákl. přenesená",J138,0) -> 0 | BH138: =IF(N138="sníž. přenesená",J138,0) -> 0 | BI138: =IF(N138="nulová",J138,0) -> 0 | BJ138: 1 | BK138: =ROUND(I138*H138,2) -> 0 | BL138: 4 | BM138: 26
D139: VV | F139: 4*127 | H139: 508 | AT139: VV | AU139: 2 | AV139: 2 | AW139: True | AX139: 1 | AY139: ROZPOCET
C140: 14 | D140: K | E140: 171101141R00 | F140: Násyp pro silnice a železnice v množství 0,75 m3/m | G140: M3 | H140: 5 | J140: =ROUND(I140*H140,2) -> 0 | N140: základní | P140: =O140*H140 -> 0 | Q140: 0 | R140: =Q140*H140 -> 0 | S140: 0 | T140: =S140*H140 -> 0 | AR140: 4 | AT140: K | AU140: 2 | AY140: ROZPOCET | BE140: =IF(N140="základní",J140,0) -> 0 | BF140: =IF(N140="snížená",J140,0) -> 0 | BG140: =IF(N140="zákl. přenesená",J140,0) -> 0 | BH140: =IF(N140="sníž. přenesená",J140,0) -> 0 | BI140: =IF(N140="nulová",J140,0) -> 0 | BJ140: 1 | BK140: =ROUND(I140*H140,2) -> 0 | BL140: 4 | BM140: 28
C141: 15 | D141: K | E141: 583320881 | F141: Materiál vhodný do násypu | G141: t | H141: 10 | J141: =ROUND(I141*H141,2) -> 0 | N141: základní | P141: =O141*H141 -> 0 | Q141: 0 | R141: =Q141*H141 -> 0 | S141: 0 | T141: =S141*H141 -> 0 | AR141: 4 | AT141: K | AU141: 2 | AY141: ROZPOCET | BE141: =IF(N141="základní",J141,0) -> 0 | BF141: =IF(N141="snížená",J141,0) -> 0 | BG141: =IF(N141="zákl. přenesená",J141,0) -> 0 | BH141: =IF(N141="sníž. přenesená",J141,0) -> 0 | BI141: =IF(N141="nulová",J141,0) -> 0 | BJ141: 1 | BK141: =ROUND(I141*H141,2) -> 0 | BL141: 4 | BM141: 30
C142: 16 | D142: K | E142: 171201201R00 | F142: Uložení sypaniny na skl.-sypanina na výšku přes 2m | G142: M3 | H142: 127 | J142: =ROUND(I142*H142,2) -> 0 | N142: základní | P142: =O142*H142 -> 0 | Q142: 0 | R142: =Q142*H142 -> 0 | S142: 0 | T142: =S142*H142 -> 0 | AR142: 4 | AT142: K | AU142: 2 | AY142: ROZPOCET | BE142: =IF(N142="základní",J142,0) -> 0 | BF142: =IF(N142="snížená",J142,0) -> 0 | BG142: =IF(N142="zákl. přenesená",J142,0) -> 0 | BH142: =IF(N142="sníž. přenesená",J142,0) -> 0 | BI142: =IF(N142="nulová",J142,0) -> 0 | BJ142: 1 | BK142: =ROUND(I142*H142,2) -> 0 | BL142: 4 | BM142: 32
C143: 17 | D143: K | E143: 199000005R00 | F143: Poplatek za skládku zeminy 1- 4, č. dle katal. odpadů 17 05 04 | G143: t | H143: 254 | J143: =ROUND(I143*H143,2) -> 0 | N143: základní | P143: =O143*H143 -> 0 | Q143: 0 | R143: =Q143*H143 -> 0 | S143: 0 | T143: =S143*H143 -> 0 | AR143: 4 | AT143: K | AU143: 2 | AY143: ROZPOCET | BE143: =IF(N143="základní",J143,0) -> 0 | BF143: =IF(N143="snížená",J143,0) -> 0 | BG143: =IF(N143="zákl. přenesená",J143,0) -> 0 | BH143: =IF(N143="sníž. přenesená",J143,0) -> 0 | BI143: =IF(N143="nulová",J143,0) -> 0 | BJ143: 1 | BK143: =ROUND(I143*H143,2) -> 0 | BL143: 4 | BM143: 34
C144: 18 | D144: K | E144: 181101102R00 | F144: Úprava pláně v zářezech v hor. 1-4, se zhutněním | G144: m2 | H144: 218 | J144: =ROUND(I144*H144,2) -> 0 | N144: základní | P144: =O144*H144 -> 0 | Q144: 0 | R144: =Q144*H144 -> 0 | S144: 0 | T144: =S144*H144 -> 0 | AR144: 4 | AT144: K | AU144: 2 | AY144: ROZPOCET | BE144: =IF(N144="základní",J144,0) -> 0 | BF144: =IF(N144="snížená",J144,0) -> 0 | BG144: =IF(N144="zákl. přenesená",J144,0) -> 0 | BH144: =IF(N144="sníž. přenesená",J144,0) -> 0 | BI144: =IF(N144="nulová",J144,0) -> 0 | BJ144: 1 | BK144: =ROUND(I144*H144,2) -> 0 | BL144: 4 | BM144: 36
D145: D | E145: 5 | F145: Komunikace pozemní | J145: =BK145 -> 0 | P145: =SUM(P146:P152) -> 0 | R145: =SUM(R146:R152) -> 0 | T145: =SUM(T146:T152) -> 0 | AR145: 1 | AT145: D | AU145: 1 | AY145: ROZPOCET | BK145: =SUM(BK146:BK152) -> 0
C146: 19 | D146: K | E146: 564112230R00 | F146: Podklad z bet.recyklátu fr.16-32 po zhutn.tl.30 cm - sanace | G146: m2 | H146: 171 | J146: =ROUND(I146*H146,2) -> 0 | N146: základní | P146: =O146*H146 -> 0 | Q146: 0 | R146: =Q146*H146 -> 0 | S146: 0 | T146: =S146*H146 -> 0 | AR146: 4 | AT146: K | AU146: 2 | AY146: ROZPOCET | BE146: =IF(N146="základní",J146,0) -> 0 | BF146: =IF(N146="snížená",J146,0) -> 0 | BG146: =IF(N146="zákl. přenesená",J146,0) -> 0 | BH146: =IF(N146="sníž. přenesená",J146,0) -> 0 | BI146: =IF(N146="nulová",J146,0) -> 0 | BJ146: 1 | BK146: =ROUND(I146*H146,2) -> 0 | BL146: 4 | BM146: 38
C147: 20 | D147: K | E147: 564851111R00 | F147: Podklad ze štěrkodrti po zhutnění tloušťky 15 cm - komunikace | G147: m2 | H147: 218 | J147: =ROUND(I147*H147,2) -> 0 | N147: základní | P147: =O147*H147 -> 0 | Q147: 0 | R147: =Q147*H147 -> 0 | S147: 0 | T147: =S147*H147 -> 0 | AR147: 4 | AT147: K | AU147: 2 | AY147: ROZPOCET | BE147: =IF(N147="základní",J147,0) -> 0 | BF147: =IF(N147="snížená",J147,0) -> 0 | BG147: =IF(N147="zákl. přenesená",J147,0) -> 0 | BH147: =IF(N147="sníž. přenesená",J147,0) -> 0 | BI147: =IF(N147="nulová",J147,0) -> 0 | BJ147: 1 | BK147: =ROUND(I147*H147,2) -> 0 | BL147: 4 | BM147: 40
C148: 21 | D148: K | E148: 564851111R00 | F148: Podklad ze štěrkodrti po zhutnění tloušťky 15 cm - komunikace | G148: m2 | H148: 171 | J148: =ROUND(I148*H148,2) -> 0 | N148: základní | P148: =O148*H148 -> 0 | Q148: 0 | R148: =Q148*H148 -> 0 | S148: 0 | T148: =S148*H148 -> 0 | AR148: 4 | AT148: K | AU148: 2 | AY148: ROZPOCET | BE148: =IF(N148="základní",J148,0) -> 0 | BF148: =IF(N148="snížená",J148,0) -> 0 | BG148: =IF(N148="zákl. přenesená",J148,0) -> 0 | BH148: =IF(N148="sníž. přenesená",J148,0) -> 0 | BI148: =IF(N148="nulová",J148,0) -> 0 | BJ148: 1 | BK148: =ROUND(I148*H148,2) -> 0 | BL148: 4 | BM148: 42
C149: 22 | D149: K | E149: 565151211R00 | F149: Podklad z obal kam.ACP 16+,ACP 22+,nad 3 m,tl.7 cm | G149: m2 | H149: 171 | J149: =ROUND(I149*H149,2) -> 0 | N149: základní | P149: =O149*H149 -> 0 | Q149: 0 | R149: =Q149*H149 -> 0 | S149: 0 | T149: =S149*H149 -> 0 | AR149: 4 | AT149: K | AU149: 2 | AY149: ROZPOCET | BE149: =IF(N149="základní",J149,0) -> 0 | BF149: =IF(N149="snížená",J149,0) -> 0 | BG149: =IF(N149="zákl. přenesená",J149,0) -> 0 | BH149: =IF(N149="sníž. přenesená",J149,0) -> 0 | BI149: =IF(N149="nulová",J149,0) -> 0 | BJ149: 1 | BK149: =ROUND(I149*H149,2) -> 0 | BL149: 4 | BM149: 44
C150: 23 | D150: K | E150: 573231111R00 | F150: Postřik živičný spojovací z emulze 0,5-0,7 kg/m2 | G150: m2 | H150: 171 | J150: =ROUND(I150*H150,2) -> 0 | N150: základní | P150: =O150*H150 -> 0 | Q150: 0 | R150: =Q150*H150 -> 0 | S150: 0 | T150: =S150*H150 -> 0 | AR150: 4 | AT150: K | AU150: 2 | AY150: ROZPOCET | BE150: =IF(N150="základní",J150,0) -> 0 | BF150: =IF(N150="snížená",J150,0) -> 0 | BG150: =IF(N150="zákl. přenesená",J150,0) -> 0 | BH150: =IF(N150="sníž. přenesená",J150,0) -> 0 | BI150: =IF(N150="nulová",J150,0) -> 0 | BJ150: 1 | BK150: =ROUND(I150*H150,2) -> 0 | BL150: 4 | BM150: 46
C151: 24 | D151: K | E151: 577132111R00 | F151: Beton asfalt. ACO 11+ obrusný, š.nad 3 m, tl. 4 cm | G151: m2 | H151: 171 | J151: =ROUND(I151*H151,2) -> 0 | N151: základní | P151: =O151*H151 -> 0 | Q151: 0 | R151: =Q151*H151 -> 0 | S151: 0 | T151: =S151*H151 -> 0 | AR151: 4 | AT151: K | AU151: 2 | AY151: ROZPOCET | BE151: =IF(N151="základní",J151,0) -> 0 | BF151: =IF(N151="snížená",J151,0) -> 0 | BG151: =IF(N151="zákl. přenesená",J151,0) -> 0 | BH151: =IF(N151="sníž. přenesená",J151,0) -> 0 | BI151: =IF(N151="nulová",J151,0) -> 0 | BJ151: 1 | BK151: =ROUND(I151*H151,2) -> 0 | BL151: 4 | BM151: 48
C152: 25 | D152: K | E152: 569851111R00 | F152: Zpevnění krajnic štěrkodrtí tl. 150 mm po zhutnění | G152: m2 | H152: 47 | J152: =ROUND(I152*H152,2) -> 0 | N152: základní | P152: =O152*H152 -> 0 | Q152: 0 | R152: =Q152*H152 -> 0 | S152: 0 | T152: =S152*H152 -> 0 | AR152: 4 | AT152: K | AU152: 2 | AY152: ROZPOCET | BE152: =IF(N152="základní",J152,0) -> 0 | BF152: =IF(N152="snížená",J152,0) -> 0 | BG152: =IF(N152="zákl. přenesená",J152,0) -> 0 | BH152: =IF(N152="sníž. přenesená",J152,0) -> 0 | BI152: =IF(N152="nulová",J152,0) -> 0 | BJ152: 1 | BK152: =ROUND(I152*H152,2) -> 0 | BL152: 4 | BM152: 50
D153: D | E153: 9 | F153: Ostatní konstrukce a práce, bourání | J153: =BK153 -> 0 | P153: =SUM(P154:P156) -> 0 | R153: =SUM(R154:R156) -> 0 | T153: =SUM(T154:T156) -> 0 | AR153: 1 | AT153: D | AU153: 1 | AY153: ROZPOCET | BK153: =SUM(BK154:BK156) -> 0
C154: 26 | D154: K | E154: 919735112R00 | F154: Řezání stávajícího živičného krytu tl. 5 - 10 cm | G154: m | H154: 11 | J154: =ROUND(I154*H154,2) -> 0 | N154: základní | P154: =O154*H154 -> 0 | Q154: 0 | R154: =Q154*H154 -> 0 | S154: 0 | T154: =S154*H154 -> 0 | AR154: 4 | AT154: K | AU154: 2 | AY154: ROZPOCET | BE154: =IF(N154="základní",J154,0) -> 0 | BF154: =IF(N154="snížená",J154,0) -> 0 | BG154: =IF(N154="zákl. přenesená",J154,0) -> 0 | BH154: =IF(N154="sníž. přenesená",J154,0) -> 0 | BI154: =IF(N154="nulová",J154,0) -> 0 | BJ154: 1 | BK154: =ROUND(I154*H154,2) -> 0 | BL154: 4 | BM154: 52
C155: 27 | D155: K | E155: 919731122R00 | F155: Zarovnání styčné plochy živičné tl. do 10 cm | G155: m | H155: 11 | J155: =ROUND(I155*H155,2) -> 0 | N155: základní | P155: =O155*H155 -> 0 | Q155: 0 | R155: =Q155*H155 -> 0 | S155: 0 | T155: =S155*H155 -> 0 | AR155: 4 | AT155: K | AU155: 2 | AY155: ROZPOCET | BE155: =IF(N155="základní",J155,0) -> 0 | BF155: =IF(N155="snížená",J155,0) -> 0 | BG155: =IF(N155="zákl. přenesená",J155,0) -> 0 | BH155: =IF(N155="sníž. přenesená",J155,0) -> 0 | BI155: =IF(N155="nulová",J155,0) -> 0 | BJ155: 1 | BK155: =ROUND(I155*H155,2) -> 0 | BL155: 4 | BM155: 54
C156: 28 | D156: K | E156: 928621011R00 | F156: Zálivka asfaltová | G156: m | H156: 11 | J156: =ROUND(I156*H156,2) -> 0 | N156: základní | P156: =O156*H156 -> 0 | Q156: 0 | R156: =Q156*H156 -> 0 | S156: 0 | T156: =S156*H156 -> 0 | AR156: 4 | AT156: K | AU156: 2 | AY156: ROZPOCET | BE156: =IF(N156="základní",J156,0) -> 0 | BF156: =IF(N156="snížená",J156,0) -> 0 | BG156: =IF(N156="zákl. přenesená",J156,0) -> 0 | BH156: =IF(N156="sníž. přenesená",J156,0) -> 0 | BI156: =IF(N156="nulová",J156,0) -> 0 | BJ156: 1 | BK156: =ROUND(I156*H156,2) -> 0 | BL156: 4 | BM156: 56
D157: D | E157: 99 | F157: Přesun hmot a manipulace se sutí | J157: =BK157 -> 0 | P157: =P158 -> 0 | R157: =R158 -> 0 | T157: =T158 -> 0 | AR157: 1 | AT157: D | AU157: 1 | AY157: ROZPOCET | BK157: =BK158 -> 0
C158: 29 | D158: K | E158: 998225111R00 | F158: Přesun hmot, pozemní komunikace, kryt živičný | G158: t | H158: 309.051 | J158: =ROUND(I158*H158,2) -> 0 | N158: základní | P158: =O158*H158 -> 0 | Q158: 0 | R158: =Q158*H158 -> 0 | S158: 0 | T158: =S158*H158 -> 0 | AR158: 4 | AT158: K | AU158: 2 | AY158: ROZPOCET | BE158: =IF(N158="základní",J158,0) -> 0 | BF158: =IF(N158="snížená",J158,0) -> 0 | BG158: =IF(N158="zákl. přenesená",J158,0) -> 0 | BH158: =IF(N158="sníž. přenesená",J158,0) -> 0 | BI158: =IF(N158="nulová",J158,0) -> 0 | BJ158: 1 | BK158: =ROUND(I158*H158,2) -> 0 | BL158: 4 | BM158: 58

Sheet D.8 SO 08 - Přeložky vodo...
AT2: {e3b33a05-00af-4557-b66d-7ae2159bd827}
AT3: 2
D4: KRYCÍ LIST SOUPISU PRACÍ | M4: v --- níže se nacházejí doplnkové a pomocné údaje k sestavám --- v | AT4: False
D6: Stavba:
E7: ='Rekapitulace stavby'!K6 -> Našiměřice - Splašková kanalizace - ÚRS I/2026-úprava po připomínkách uchazečů
D8: Objekt:
E9: D.8 SO 08 - Přeložky vodovodu
D11: KSO: | I11: CC-CZ:
D12: Místo: | F12: Našiměřice | I12: Datum: | J12: ='Rekapitulace stavby'!AN8 -> 19. 6. 2026
D14: Zadavatel: | I14: IČ: | J14: =IF('Rekapitulace stavby'!AN10="","",'Rekapitulace stavby'!AN10)
E15: =IF('Rekapitulace stavby'!E11="","",'Rekapitulace stavby'!E11) | I15: DIČ: | J15: =IF('Rekapitulace stavby'!AN11="","",'Rekapitulace stavby'!AN11)
D17: Uchazeč: | I17: IČ: | J17: ='Rekapitulace stavby'!AN13 -> Vyplň údaj
E18: ='Rekapitulace stavby'!E14 -> Vyplň údaj | I18: DIČ: | J18: ='Rekapitulace stavby'!AN14 -> Vyplň údaj
D20: Projektant: | I20: IČ: | J20: =IF('Rekapitulace stavby'!AN16="","",'Rekapitulace stavby'!AN16)
E21: =IF('Rekapitulace stavby'!E17="","",'Rekapitulace stavby'!E17) | I21: DIČ: | J21: =IF('Rekapitulace stavby'!AN17="","",'Rekapitulace stavby'!AN17)
D23: Zpracovatel: | I23: IČ: | J23: =IF('Rekapitulace stavby'!AN19="","",'Rekapitulace stavby'!AN19)
E24: =IF('Rekapitulace stavby'!E20="","",'Rekapitulace stavby'!E20) | I24: DIČ: | J24: =IF('Rekapitulace stavby'!AN20="","",'Rekapitulace stavby'!AN20)
D26: Poznámka:
D30: Cena bez DPH | J30: =ROUND(J124, 2) -> 0
F32: Základ daně | I32: Sazba daně | J32: Výše daně
D33: DPH | E33: základní | F33: =ROUND((SUM(BE124:BE569)), 2) -> 0 | I33: 0.21 | J33: =ROUND(((SUM(BE124:BE569))*I33), 2) -> 0
E34: snížená | F34: =ROUND((SUM(BF124:BF569)), 2) -> 0 | I34: 0.12 | J34: =ROUND(((SUM(BF124:BF569))*I34), 2) -> 0
E35: zákl. přenesená | F35: =ROUND((SUM(BG124:BG569)), 2) -> 0 | I35: 0.21 | J35: =0 -> 0
E36: sníž. přenesená | F36: =ROUND((SUM(BH124:BH569)), 2) -> 0 | I36: 0.12 | J36: =0 -> 0
E37: nulová | F37: =ROUND((SUM(BI124:BI569)), 2) -> 0 | I37: 0 | J37: =0 -> 0
D39: Cena s DPH | G39: v | H39: CZK | J39: =SUM(J30:J37) -> 0
D50: Projektant | G50: Zpracovatel
D61: Datum a podpis: | F61: Razítko | G61: Datum a podpis: | J61: Razítko
D65: Objednavatel | G65: Uchazeč
D76: Datum a podpis: | F76: Razítko | G76: Datum a podpis: | J76: Razítko
C82: REKAPITULACE ČLENĚNÍ SOUPISU PRACÍ
C84: Stavba:
E85: =E7 -> Našiměřice - Splašková kanalizace - ÚRS I/2026-úprava po připomínkách uchazečů
C86: Objekt:
E87: =E9 -> D.8 SO 08 - Přeložky vodovodu
C89: Místo: | F89: =F12 -> Našiměřice | I89: Datum: | J89: =IF(J12="","",J12) -> 19. 6. 2026
C91: Zadavatel: | F91: =E15 | I91: Projektant: | J91: =E21
C92: Uchazeč: | F92: =IF(E18="","",E18) -> Vyplň údaj | I92: Zpracovatel: | J92: =E24
C94: Kód dílu - Popis | J94: Cena celkem [CZK]
C96: Náklady ze soupisu prací | J96: =J124 -> 0 | AU96: -1
D97: HSV - Práce a dodávky HSV | J97: =J125 -> 0
D98: 1 - Zemní práce | J98: =J126 -> 0
D99: 4 - Vodorovné konstrukce | J99: =J341 -> 0
D100: 5 - Komunikace | J100: =J368 -> 0
D101: 8 - Trubní vedení | J101: =J392 -> 0
D102: 9 - Ostatní konstrukce a práce, bourání | J102: =J539 -> 0
D103: 997 - Přesun sutě | J103: =J552 -> 0
D104: 998 - Přesun hmot | J104: =J563 -> 0
C111: SOUPIS PRACÍ
C113: Stavba:
E114: =E7 -> Našiměřice - Splašková kanalizace - ÚRS I/2026-úprava po připomínkách uchazečů
C115: Objekt:
E116: =E9 -> D.8 SO 08 - Přeložky vodovodu
C118: Místo: | F118: =F12 -> Našiměřice | I118: Datum: | J118: =IF(J12="","",J12) -> 19. 6. 2026
C120: Zadavatel: | F120: =E15 | I120: Projektant: | J120: =E21
C121: Uchazeč: | F121: =IF(E18="","",E18) -> Vyplň údaj | I121: Zpracovatel: | J121: =E24
C123: PČ | D123: Typ | E123: Kód | F123: Popis | G123: MJ | H123: Množství | I123: J.cena [CZK] | J123: Cena celkem [CZK] | K123: Cenová soustava | N123: DPH | O123: J. Nh [h] | P123: Nh celkem [h] | Q123: J. hmotnost [t] | R123: Hmotnost celkem [t] | S123: J. suť [t] | T123: Suť Celkem [t]
C124: Náklady soupisu celkem | J124: =BK124 -> 0 | P124: =P125 -> 0 | R124: =R125 -> 355.22352 | T124: =T125 -> 148.5682 | AT124: D | AU124: -1 | BK124: =BK125 -> 0
D125: D | E125: HSV | F125: Práce a dodávky HSV | J125: =BK125 -> 0 | P125: =P126+P341+P368+P392+P539+P552+P563 -> 0 | R125: =R126+R341+R368+R392+R539+R552+R563 -> 355.22352 | T125: =T126+T341+T368+T392+T539+T552+T563 -> 148.5682 | AR125: 1 | AT125: D | AU125: 0 | AY125: ROZPOCET | BK125: =BK126+BK341+BK368+BK392+BK539+BK552+BK563 -> 0
D126: D | E126: 1 | F126: Zemní práce | J126: =BK126 -> 0 | P126: =SUM(P127:P340) -> 0 | R126: =SUM(R127:R340) -> 113.90069 | T126: =SUM(T127:T340) -> 148.5682 | AR126: 1 | AT126: D | AU126: 1 | AY126: ROZPOCET | BK126: =SUM(BK127:BK340) -> 0
C127: 1 | D127: K | E127: 113107222 | F127: Odstranění podkladu z kameniva drceného tl přes 100 do 200 mm strojně pl přes 200 m2 | G127: m2 | H127: 314.6 | J127: =ROUND(I127*H127,2) -> 0 | N127: základní | P127: =O127*H127 -> 0 | Q127: 0 | R127: =Q127*H127 -> 0 | S127: 0.29 | T127: =S127*H127 -> 91.234 | AR127: 4 | AT127: K | AU127: 2 | AY127: ROZPOCET | BE127: =IF(N127="základní",J127,0) -> 0 | BF127: =IF(N127="snížená",J127,0) -> 0 | BG127: =IF(N127="zákl. přenesená",J127,0) -> 0 | BH127: =IF(N127="sníž. přenesená",J127,0) -> 0 | BI127: =IF(N127="nulová",J127,0) -> 0 | BJ127: 1 | BK127: =ROUND(I127*H127,2) -> 0 | BL127: 4 | BM127: 2007715076
D128: VV | F128: Štěrk | AT128: VV | AU128: 2 | AV128: 1 | AW128: True | AX128: 0 | AY128: ROZPOCET
D129: VV | F129: viz tabulka I40 | AT129: VV | AU129: 2 | AV129: 1 | AW129: True | AX129: 0 | AY129: ROZPOCET
D130: VV | F130: 41,58 | H130: 41.58 | AT130: VV | AU130: 2 | AV130: 2 | AW130: True | AX130: 0 | AY130: ROZPOCET
D131: VV | F131: Asfalt | AT131: VV | AU131: 2 | AV131: 1 | AW131: True | AX131: 0 | AY131: ROZPOCET
D132: VV | F132: viz tabulka L60 | AT132: VV | AU132: 2 | AV132: 1 | AW132: True | AX132: 0 | AY132: ROZPOCET
D133: VV | F133: 2*136,51 | H133: 273.02 | AT133: VV | AU133: 2 | AV133: 2 | AW133: True | AX133: 0 | AY133: ROZPOCET
D134: VV | F134: Součet | H134: 314.6 | AT134: VV | AU134: 2 | AV134: 4 | AW134: True | AX134: 1 | AY134: ROZPOCET
C135: 2 | D135: K | E135: 113107242 | F135: Odstranění podkladu živičného tl přes 50 do 100 mm strojně pl přes 200 m2 | G135: m2 | H135: 260.61 | J135: =ROUND(I135*H135,2) -> 0 | N135: základní | P135: =O135*H135 -> 0 | Q135: 0 | R135: =Q135*H135 -> 0 | S135: 0.22 | T135: =S135*H135 -> 57.3342 | AR135: 4 | AT135: K | AU135: 2 | AY135: ROZPOCET | BE135: =IF(N135="základní",J135,0) -> 0 | BF135: =IF(N135="snížená",J135,0) -> 0 | BG135: =IF(N135="zákl. přenesená",J135,0) -> 0 | BH135: =IF(N135="sníž. přenesená",J135,0) -> 0 | BI135: =IF(N135="nulová",J135,0) -> 0 | BJ135: 1 | BK135: =ROUND(I135*H135,2) -> 0 | BL135: 4 | BM135: 364068973
D136: VV | F136: Asfalt | AT136: VV | AU136: 2 | AV136: 1 | AW136: True | AX136: 0 | AY136: ROZPOCET
D137: VV | F137: viz tabulka K60 | AT137: VV | AU137: 2 | AV137: 1 | AW137: True | AX137: 0 | AY137: ROZPOCET
D138: VV | F138: 260,61 | H138: 260.61 | AT138: VV | AU138: 2 | AV138: 2 | AW138: True | AX138: 0 | AY138: ROZPOCET
D139: VV | F139: Součet | H139: 260.61 | AT139: VV | AU139: 2 | AV139: 4 | AW139: True | AX139: 1 | AY139: ROZPOCET
C140: 3 | D140: K | E140: 115101201 | F140: Čerpání vody na dopravní výšku do 10 m průměrný přítok do 500 l/min | G140: hod | H140: 80 | J140: =ROUND(I140*H140,2) -> 0 | N140: základní | P140: =O140*H140 -> 0 | Q140: 3e-05 | R140: =Q140*H140 -> 0.0024 | S140: 0 | T140: =S140*H140 -> 0 | AR140: 4 | AT140: K | AU140: 2 | AY140: ROZPOCET | BE140: =IF(N140="základní",J140,0) -> 0 | BF140: =IF(N140="snížená",J140,0) -> 0 | BG140: =IF(N140="zákl. přenesená",J140,0) -> 0 | BH140: =IF(N140="sníž. přenesená",J140,0) -> 0 | BI140: =IF(N140="nulová",J140,0) -> 0 | BJ140: 1 | BK140: =ROUND(I140*H140,2) -> 0 | BL140: 4 | BM140: -2042501053
D141: VV | F141: 10*8,0 | H141: 80 | AT141: VV | AU141: 2 | AV141: 2 | AW141: True | AX141: 1 | AY141: ROZPOCET
C142: 4 | D142: K | E142: 115101301 | F142: Pohotovost čerpací soupravy pro dopravní výšku do 10 m přítok do 500 l/min | G142: den | H142: 10 | J142: =ROUND(I142*H142,2) -> 0 | N142: základní | P142: =O142*H142 -> 0 | Q142: 0 | R142: =Q142*H142 -> 0 | S142: 0 | T142: =S142*H142 -> 0 | AR142: 4 | AT142: K | AU142: 2 | AY142: ROZPOCET | BE142: =IF(N142="základní",J142,0) -> 0 | BF142: =IF(N142="snížená",J142,0) -> 0 | BG142: =IF(N142="zákl. přenesená",J142,0) -> 0 | BH142: =IF(N142="sníž. přenesená",J142,0) -> 0 | BI142: =IF(N142="nulová",J142,0) -> 0 | BJ142: 1 | BK142: =ROUND(I142*H142,2) -> 0 | BL142: 4 | BM142: -292279009
D143: VV | F143: 10 | H143: 10 | AT143: VV | AU143: 2 | AV143: 2 | AW143: True | AX143: 1 | AY143: ROZPOCET
C144: 5 | D144: K | E144: 129001101 | F144: Příplatek za ztížení odkopávky nebo prokopávky v blízkosti inženýrských sítí | G144: m3 | H144: 8.25 | J144: =ROUND(I144*H144,2) -> 0 | N144: základní | P144: =O144*H144 -> 0 | Q144: 0 | R144: =Q144*H144 -> 0 | S144: 0 | T144: =S144*H144 -> 0 | AR144: 4 | AT144: K | AU144: 2 | AY144: ROZPOCET | BE144: =IF(N144="základní",J144,0) -> 0 | BF144: =IF(N144="snížená",J144,0) -> 0 | BG144: =IF(N144="zákl. přenesená",J144,0) -> 0 | BH144: =IF(N144="sníž. přenesená",J144,0) -> 0 | BI144: =IF(N144="nulová",J144,0) -> 0 | BJ144: 1 | BK144: =ROUND(I144*H144,2) -> 0 | BL144: 4 | BM144: 522000062
D145: VV | F145: P1 | AT145: VV | AU145: 2 | AV145: 1 | AW145: True | AX145: 0 | AY145: ROZPOCET
D146: VV | F146: 1*1,10*1,00*1,50 | H146: 1.65 | AT146: VV | AU146: 2 | AV146: 2 | AW146: True | AX146: 0 | AY146: ROZPOCET
D147: VV | F147: P2 | AT147: VV | AU147: 2 | AV147: 1 | AW147: True | AX147: 0 | AY147: ROZPOCET
D148: VV | F148: 4*1,10*1,00*1,50 | H148: 6.6 | AT148: VV | AU148: 2 | AV148: 2 | AW148: True | AX148: 0 | AY148: ROZPOCET
D149: VV | F149: Součet | H149: 8.25 | AT149: VV | AU149: 2 | AV149: 4 | AW149: True | AX149: 1 | AY149: ROZPOCET
C150: 6 | D150: K | E150: 132154204 | F150: Hloubení zapažených rýh š do 2000 mm v hornině třídy těžitelnosti I skupiny 1 a 2 objem do 500 m3 | G150: m3 | H150: 28.45888 | J150: =ROUND(I150*H150,2) -> 0 | N150: základní | P150: =O150*H150 -> 0 | Q150: 0 | R150: =Q150*H150 -> 0 | S150: 0 | T150: =S150*H150 -> 0 | AR150: 4 | AT150: K | AU150: 2 | AY150: ROZPOCET | BE150: =IF(N150="základní",J150,0) -> 0 | BF150: =IF(N150="snížená",J150,0) -> 0 | BG150: =IF(N150="zákl. přenesená",J150,0) -> 0 | BH150: =IF(N150="sníž. přenesená",J150,0) -> 0 | BI150: =IF(N150="nulová",J150,0) -> 0 | BJ150: 1 | BK150: =ROUND(I150*H150,2) -> 0 | BL150: 4 | BM150: -418512009
D151: VV | F151: Předpoklad 10%-2.skupina | AT151: VV | AU151: 2 | AV151: 1 | AW151: True | AX151: 0 | AY151: ROZPOCET
D152: VV | F152: viz Zemní práce-P1 | AT152: VV | AU152: 2 | AV152: 1 | AW152: True | AX152: 0 | AY152: ROZPOCET
D153: VV | F153: 191,74 | H153: 191.74 | AT153: VV | AU153: 2 | AV153: 2 | AW153: True | AX153: 0 | AY153: ROZPOCET
D154: VV | F154: odpočet skladeb viz tabulka 19G | AT154: VV | AU154: 2 | AV154: 1 | AW154: True | AX154: 0 | AY154: ROZPOCET
D155: VV | F155: -114,10*1,1*0,42 | H155: -52.7142 | AT155: VV | AU155: 2 | AV155: 2 | AW155: True | AX155: 0 | AY155: ROZPOCET
D156: VV | F156: viz Zemní práce-P2 | AT156: VV | AU156: 2 | AV156: 1 | AW156: True | AX156: 0 | AY156: ROZPOCET
D157: VV | F157: 78,87 | H157: 78.87 | AT157: VV | AU157: 2 | AV157: 2 | AW157: True | AX157: 0 | AY157: ROZPOCET
D158: VV | F158: odpočet skladeb viz tabulka 20F + 20G | AT158: VV | AU158: 2 | AV158: 1 | AW158: True | AX158: 0 | AY158: ROZPOCET
D159: VV | F159: -37,80*1,1*0,15 | H159: -6.237 | AT159: VV | AU159: 2 | AV159: 2 | AW159: True | AX159: 0 | AY159: ROZPOCET
D160: VV | F160: -10,00*1,1*0,42 | H160: -4.62 | AT160: VV | AU160: 2 | AV160: 2 | AW160: True | AX160: 0 | AY160: ROZPOCET
D161: VV | F161: Přepojení přípojek | AT161: VV | AU161: 2 | AV161: 1 | AW161: True | AX161: 0 | AY161: ROZPOCET
D162: VV | F162: 7,0*1,1*1,50 | H162: 11.55 | AT162: VV | AU162: 2 | AV162: 2 | AW162: True | AX162: 0 | AY162: ROZPOCET
D163: VV | F163: Výkop - bourání stávajícího vodovodu | AT163: VV | AU163: 2 | AV163: 1 | AW163: True | AX163: 0 | AY163: ROZPOCET
D164: VV | F164: P1-v rámci výkopu kanalizace | AT164: VV | AU164: 2 | AV164: 1 | AW164: True | AX164: 0 | AY164: ROZPOCET
D165: VV | F165: P2 | AT165: VV | AU165: 2 | AV165: 1 | AW165: True | AX165: 0 | AY165: ROZPOCET
D166: VV | F166: 40,0*1,1*1,50 | H166: 66 | AT166: VV | AU166: 2 | AV166: 2 | AW166: True | AX166: 0 | AY166: ROZPOCET
...

Sheet D.9.1 SO 09.1 - Zkapacitn...
AT2: {45ddfcac-37c3-4057-b815-c2fb872e58aa}
AT3: 2
D4: KRYCÍ LIST SOUPISU PRACÍ | M4: v --- níže se nacházejí doplnkové a pomocné údaje k sestavám --- v | AT4: False
D6: Stavba:
E7: ='Rekapitulace stavby'!K6 -> Našiměřice - Splašková kanalizace - ÚRS I/2026-úprava po připomínkách uchazečů
D8: Objekt:
E9: D.9 SO 09 - Zkapacitnění čerpací stanice KČS 01 Suchohrdly u Miroslavi
D10: Soupis:
E11: D.9.1 SO 09.1 - Zkapacitnění čerpací stanice KČS 01 - Suchohrdly u Miroslavi
D13: KSO: | I13: CC-CZ:
D14: Místo: | F14: Našiměřice | I14: Datum: | J14: ='Rekapitulace stavby'!AN8 -> 19. 6. 2026
D16: Zadavatel: | I16: IČ: | J16: =IF('Rekapitulace stavby'!AN10="","",'Rekapitulace stavby'!AN10)
E17: =IF('Rekapitulace stavby'!E11="","",'Rekapitulace stavby'!E11) | I17: DIČ: | J17: =IF('Rekapitulace stavby'!AN11="","",'Rekapitulace stavby'!AN11)
D19: Uchazeč: | I19: IČ: | J19: ='Rekapitulace stavby'!AN13 -> Vyplň údaj
E20: ='Rekapitulace stavby'!E14 -> Vyplň údaj | I20: DIČ: | J20: ='Rekapitulace stavby'!AN14 -> Vyplň údaj
D22: Projektant: | I22: IČ: | J22: =IF('Rekapitulace stavby'!AN16="","",'Rekapitulace stavby'!AN16)
E23: =IF('Rekapitulace stavby'!E17="","",'Rekapitulace stavby'!E17) | I23: DIČ: | J23: =IF('Rekapitulace stavby'!AN17="","",'Rekapitulace stavby'!AN17)
D25: Zpracovatel: | I25: IČ: | J25: =IF('Rekapitulace stavby'!AN19="","",'Rekapitulace stavby'!AN19)
E26: =IF('Rekapitulace stavby'!E20="","",'Rekapitulace stavby'!E20) | I26: DIČ: | J26: =IF('Rekapitulace stavby'!AN20="","",'Rekapitulace stavby'!AN20)
D28: Poznámka:
D32: Cena bez DPH | J32: =ROUND(J129, 2) -> 0
F34: Základ daně | I34: Sazba daně | J34: Výše daně
D35: DPH | E35: základní | F35: =ROUND((SUM(BE129:BE207)), 2) -> 0 | I35: 0.21 | J35: =ROUND(((SUM(BE129:BE207))*I35), 2) -> 0
E36: snížená | F36: =ROUND((SUM(BF129:BF207)), 2) -> 0 | I36: 0.12 | J36: =ROUND(((SUM(BF129:BF207))*I36), 2) -> 0
E37: zákl. přenesená | F37: =ROUND((SUM(BG129:BG207)), 2) -> 0 | I37: 0.21 | J37: =0 -> 0
E38: sníž. přenesená | F38: =ROUND((SUM(BH129:BH207)), 2) -> 0 | I38: 0.12 | J38: =0 -> 0
E39: nulová | F39: =ROUND((SUM(BI129:BI207)), 2) -> 0 | I39: 0 | J39: =0 -> 0
D41: Cena s DPH | G41: v | H41: CZK | J41: =SUM(J32:J39) -> 0
D50: Projektant | G50: Zpracovatel
D61: Datum a podpis: | F61: Razítko | G61: Datum a podpis: | J61: Razítko
D65: Objednavatel | G65: Uchazeč
D76: Datum a podpis: | F76: Razítko | G76: Datum a podpis: | J76: Razítko
C82: REKAPITULACE ČLENĚNÍ SOUPISU PRACÍ
C84: Stavba:
E85: =E7 -> Našiměřice - Splašková kanalizace - ÚRS I/2026-úprava po připomínkách uchazečů
C86: Objekt:
E87: D.9 SO 09 - Zkapacitnění čerpací stanice KČS 01 Suchohrdly u Miroslavi
C88: Soupis:
E89: =E11 -> D.9.1 SO 09.1 - Zkapacitnění čerpací stanice KČS 01 - Suchohrdly u Miroslavi
C91: Místo: | F91: =F14 -> Našiměřice | I91: Datum: | J91: =IF(J14="","",J14) -> 19. 6. 2026
C93: Zadavatel: | F93: =E17 | I93: Projektant: | J93: =E23
C94: Uchazeč: | F94: =IF(E20="","",E20) -> Vyplň údaj | I94: Zpracovatel: | J94: =E26
C96: Kód dílu - Popis | J96: Cena celkem [CZK]
C98: Náklady ze soupisu prací | J98: =J129 -> 0 | AU98: -1
D99: HSV - Práce a dodávky HSV | J99: =J130 -> 0
D100: 1 - Zemní práce | J100: =J131 -> 0
D101: 2 - Základy a zvláštní zakládání | J101: =J171 -> 0
D102: 4 - Vodorovné konstrukce | J102: =J179 -> 0
D103: 61 - Úpravy povrchů vnitřní | J103: =J187 -> 0
D104: 93 - Dokončovací práce inženýrských staveb | J104: =J189 -> 0
D105: 95 - Dokončovací konstrukce na pozemních stavbách | J105: =J196 -> 0
D106: 96 - Bourání konstrukcí | J106: =J203 -> 0
D107: 99 - Staveništní přesun hmot | J107: =J205 -> 0
C114: SOUPIS PRACÍ
C116: Stavba:
E117: =E7 -> Našiměřice - Splašková kanalizace - ÚRS I/2026-úprava po připomínkách uchazečů
C118: Objekt:
E119: D.9 SO 09 - Zkapacitnění čerpací stanice KČS 01 Suchohrdly u Miroslavi
C120: Soupis:
E121: =E11 -> D.9.1 SO 09.1 - Zkapacitnění čerpací stanice KČS 01 - Suchohrdly u Miroslavi
C123: Místo: | F123: =F14 -> Našiměřice | I123: Datum: | J123: =IF(J14="","",J14) -> 19. 6. 2026
C125: Zadavatel: | F125: =E17 | I125: Projektant: | J125: =E23
C126: Uchazeč: | F126: =IF(E20="","",E20) -> Vyplň údaj | I126: Zpracovatel: | J126: =E26
C128: PČ | D128: Typ | E128: Kód | F128: Popis | G128: MJ | H128: Množství | I128: J.cena [CZK] | J128: Cena celkem [CZK] | K128: Cenová soustava | N128: DPH | O128: J. Nh [h] | P128: Nh celkem [h] | Q128: J. hmotnost [t] | R128: Hmotnost celkem [t] | S128: J. suť [t] | T128: Suť Celkem [t]
C129: Náklady soupisu celkem | J129: =BK129 -> 0 | P129: =P130 -> 0 | R129: =R130 -> 0 | T129: =T130 -> 0 | AT129: D | AU129: -1 | BK129: =BK130 -> 0
D130: D | E130: HSV | F130: Práce a dodávky HSV | J130: =BK130 -> 0 | P130: =P131+P171+P179+P187+P189+P196+P203+P205 -> 0 | R130: =R131+R171+R179+R187+R189+R196+R203+R205 -> 0 | T130: =T131+T171+T179+T187+T189+T196+T203+T205 -> 0 | AR130: 1 | AT130: D | AU130: 0 | AY130: ROZPOCET | BK130: =BK131+BK171+BK179+BK187+BK189+BK196+BK203+BK205 -> 0
D131: D | E131: 1 | F131: Zemní práce | J131: =BK131 -> 0 | P131: =SUM(P132:P170) -> 0 | R131: =SUM(R132:R170) -> 0 | T131: =SUM(T132:T170) -> 0 | AR131: 1 | AT131: D | AU131: 1 | AY131: ROZPOCET | BK131: =SUM(BK132:BK170) -> 0
C132: 1 | D132: K | E132: 115101201R00 | F132: Čerpání vody na dopravní výšku do 10 m s uvažovaným průměrným přítokem do 500 l/min | G132: h | H132: 720 | J132: =ROUND(I132*H132,2) -> 0 | N132: základní | P132: =O132*H132 -> 0 | Q132: 0 | R132: =Q132*H132 -> 0 | S132: 0 | T132: =S132*H132 -> 0 | AR132: 4 | AT132: K | AU132: 2 | AY132: ROZPOCET | BE132: =IF(N132="základní",J132,0) -> 0 | BF132: =IF(N132="snížená",J132,0) -> 0 | BG132: =IF(N132="zákl. přenesená",J132,0) -> 0 | BH132: =IF(N132="sníž. přenesená",J132,0) -> 0 | BI132: =IF(N132="nulová",J132,0) -> 0 | BJ132: 1 | BK132: =ROUND(I132*H132,2) -> 0 | BL132: 4 | BM132: 2
D133: P | F133: Poznámka k položce:_x000d_ na vzdálenost od hladiny vody v jímce po výšku roviny proložené osou nejvyššího bodu výtlačného potrubí. Včetně odpadní potrubí v délce do 20 m. | AT133: P | AU133: 2
C134: 2 | D134: K | E134: 115101301R00 | F134: Pohotovost záložní čerpací soupravy na dopravní výšku do 10 m s uvažovaným průměrným přítokem do 500 l/min | G134: den | H134: 30 | J134: =ROUND(I134*H134,2) -> 0 | N134: základní | P134: =O134*H134 -> 0 | Q134: 0 | R134: =Q134*H134 -> 0 | S134: 0 | T134: =S134*H134 -> 0 | AR134: 4 | AT134: K | AU134: 2 | AY134: ROZPOCET | BE134: =IF(N134="základní",J134,0) -> 0 | BF134: =IF(N134="snížená",J134,0) -> 0 | BG134: =IF(N134="zákl. přenesená",J134,0) -> 0 | BH134: =IF(N134="sníž. přenesená",J134,0) -> 0 | BI134: =IF(N134="nulová",J134,0) -> 0 | BJ134: 1 | BK134: =ROUND(I134*H134,2) -> 0 | BL134: 4 | BM134: 4
D135: P | F135: Poznámka k položce:_x000d_ na vzdálenost (výšku) od hladiny vody v jímce po výšku roviny proložené osou nejvyššího bodu výtlačného potrubí. Včetně sacího a výtlačného potrubí, příp. odpadních žlabů, lešení pod čerpadlo a pod potrubí nebo pod odpadní žlaby a záložního zdroje energie. | AT135: P | AU135: 2
C136: 3 | D136: K | E136: 131101111R00 | F136: Hloubení nezapažených jam a zářezů do 100 m3, v hornině 1-2, hloubení strojně | G136: m3 | H136: 47.515 | J136: =ROUND(I136*H136,2) -> 0 | N136: základní | P136: =O136*H136 -> 0 | Q136: 0 | R136: =Q136*H136 -> 0 | S136: 0 | T136: =S136*H136 -> 0 | AR136: 4 | AT136: K | AU136: 2 | AY136: ROZPOCET | BE136: =IF(N136="základní",J136,0) -> 0 | BF136: =IF(N136="snížená",J136,0) -> 0 | BG136: =IF(N136="zákl. přenesená",J136,0) -> 0 | BH136: =IF(N136="sníž. přenesená",J136,0) -> 0 | BI136: =IF(N136="nulová",J136,0) -> 0 | BJ136: 1 | BK136: =ROUND(I136*H136,2) -> 0 | BL136: 4 | BM136: 6
D137: P | F137: Poznámka k položce:_x000d_ kromě zářezů se šikmými stěnami pro podzemní vedení, s urovnáním dna do předepsaného profilu a spádu, s případným nutným přemístěním ve výkopišti a dále buď s přemístěním výkopku na přilehlém terénu na vzdálenost do 3 m od okraje jámy nebo s naložením na dopravní prostředek, | AT137: P | AU137: 2
D138: VV | F138: Začátek provozního součtu | AT138: VV | AU138: 2 | AV138: 1 | AW138: True | AX138: 0 | AY138: ROZPOCET
D139: VV | F139: výkop jámy pro studnu spouštěnou hl.1m-viz popis statika : (4,70*4,70*3,14+6,20*6,20*3,14)/2*1,00 | AT139: VV | AU139: 2 | AV139: 1 | AW139: True | AX139: 0 | AY139: ROZPOCET
D140: VV | F140: Konec provozního součtu | AT140: VV | AU140: 2 | AV140: 1 | AW140: True | AX140: 0 | AY140: ROZPOCET
D141: VV | F141: 95,03*0,5 | H141: 47.515 | AT141: VV | AU141: 2 | AV141: 2 | AW141: True | AX141: 0 | AY141: ROZPOCET
D142: VV | F142: Součet | H142: 47.515 | AT142: VV | AU142: 2 | AV142: 4 | AW142: True | AX142: 1 | AY142: ROZPOCET
C143: 4 | D143: K | E143: 131201111R00 | F143: Hloubení nezapažených jam a zářezů do 100 m3, v hornině 3, hloubení strojně | G143: m3 | H143: 19.006 | J143: =ROUND(I143*H143,2) -> 0 | N143: základní | P143: =O143*H143 -> 0 | Q143: 0 | R143: =Q143*H143 -> 0 | S143: 0 | T143: =S143*H143 -> 0 | AR143: 4 | AT143: K | AU143: 2 | AY143: ROZPOCET | BE143: =IF(N143="základní",J143,0) -> 0 | BF143: =IF(N143="snížená",J143,0) -> 0 | BG143: =IF(N143="zákl. přenesená",J143,0) -> 0 | BH143: =IF(N143="sníž. přenesená",J143,0) -> 0 | BI143: =IF(N143="nulová",J143,0) -> 0 | BJ143: 1 | BK143: =ROUND(I143*H143,2) -> 0 | BL143: 4 | BM143: 8
D144: P | F144: Poznámka k položce:_x000d_ kromě zářezů se šikmými stěnami pro podzemní vedení, s urovnáním dna do předepsaného profilu a spádu, s případným nutným přemístěním ve výkopišti a dále buď s přemístěním výkopku na přilehlém terénu na vzdálenost do 3 m od okraje jámy nebo s naložením na dopravní prostředek, | AT144: P | AU144: 2
D145: VV | F145: Začátek provozního součtu | AT145: VV | AU145: 2 | AV145: 1 | AW145: True | AX145: 0 | AY145: ROZPOCET
D146: VV | F146: výkop jámy pro studnu spouštěnou hl.1m-viz popis statika : (4,70*4,70*3,14+6,20*6,20*3,14)/2*1,00 | AT146: VV | AU146: 2 | AV146: 1 | AW146: True | AX146: 0 | AY146: ROZPOCET
D147: VV | F147: Konec provozního součtu | AT147: VV | AU147: 2 | AV147: 1 | AW147: True | AX147: 0 | AY147: ROZPOCET
D148: VV | F148: 95,03*0,2 | H148: 19.006 | AT148: VV | AU148: 2 | AV148: 2 | AW148: True | AX148: 0 | AY148: ROZPOCET
D149: VV | F149: Součet | H149: 19.006 | AT149: VV | AU149: 2 | AV149: 4 | AW149: True | AX149: 1 | AY149: ROZPOCET
C150: 5 | D150: K | E150: 131301111R00 | F150: Hloubení nezapažených jam a zářezů do 100 m3, v hornině 4, hloubení strojně | G150: m3 | H150: 28.509 | J150: =ROUND(I150*H150,2) -> 0 | N150: základní | P150: =O150*H150 -> 0 | Q150: 0 | R150: =Q150*H150 -> 0 | S150: 0 | T150: =S150*H150 -> 0 | AR150: 4 | AT150: K | AU150: 2 | AY150: ROZPOCET | BE150: =IF(N150="základní",J150,0) -> 0 | BF150: =IF(N150="snížená",J150,0) -> 0 | BG150: =IF(N150="zákl. přenesená",J150,0) -> 0 | BH150: =IF(N150="sníž. přenesená",J150,0) -> 0 | BI150: =IF(N150="nulová",J150,0) -> 0 | BJ150: 1 | BK150: =ROUND(I150*H150,2) -> 0 | BL150: 4 | BM150: 10
D151: P | F151: Poznámka k položce:_x000d_ kromě zářezů se šikmými stěnami pro podzemní vedení, s urovnáním dna do předepsaného profilu a spádu, s případným nutným přemístěním ve výkopišti a dále buď s přemístěním výkopku na přilehlém terénu na vzdálenost do 3 m od okraje jámy nebo s naložením na dopravní prostředek, | AT151: P | AU151: 2
D152: VV | F152: Začátek provozního součtu | AT152: VV | AU152: 2 | AV152: 1 | AW152: True | AX152: 0 | AY152: ROZPOCET
D153: VV | F153: výkop jámy pro studnu spouštěnou hl.1m-viz popis statika : (4,70*4,70*3,14+6,20*6,20*3,14)/2*1,00 | AT153: VV | AU153: 2 | AV153: 1 | AW153: True | AX153: 0 | AY153: ROZPOCET
D154: VV | F154: Konec provozního součtu | AT154: VV | AU154: 2 | AV154: 1 | AW154: True | AX154: 0 | AY154: ROZPOCET
D155: VV | F155: 95,03*0,3 | H155: 28.509 | AT155: VV | AU155: 2 | AV155: 2 | AW155: True | AX155: 0 | AY155: ROZPOCET
D156: VV | F156: Součet | H156: 28.509 | AT156: VV | AU156: 2 | AV156: 4 | AW156: True | AX156: 1 | AY156: ROZPOCET
C157: 6 | D157: K | E157: 134702421R00 | F157: Vykopávky pro vodárenskou studnu spouštěnou v horninách 1 až 4 mimo horniny kašovité konzistence a tekoucí, půdorysné plochy přes 4 do 20 m2, v hloubce do 10 m | G157: m3 | H157: 104.10513 | J157: =ROUND(I157*H157,2) -> 0 | N157: základní | P157: =O157*H157 -> 0 | Q157: 0 | R157: =Q157*H157 -> 0 | S157: 0 | T157: =S157*H157 -> 0 | AR157: 4 | AT157: K | AU157: 2 | AY157: ROZPOCET | BE157: =IF(N157="základní",J157,0) -> 0 | BF157: =IF(N157="snížená",J157,0) -> 0 | BG157: =IF(N157="zákl. přenesená",J157,0) -> 0 | BH157: =IF(N157="sníž. přenesená",J157,0) -> 0 | BI157: =IF(N157="nulová",J157,0) -> 0 | BJ157: 1 | BK157: =ROUND(I157*H157,2) -> 0 | BL157: 4 | BM157: 12
D158: P | F158: Poznámka k položce:_x000d_ a spouštění pláště studny pro jakýkoliv tvar studny, se svislým přemístěním výkopku na terén a s vodorovným přemístěním výkopku do 20 m od kraje výkopu, | AT158: P | AU158: 2
C159: 7 | D159: K | E159: 162701105R00 | F159: Vodorovné přemístění výkopku z horniny 1 až 4, na vzdálenost přes 9 000 do 10 000 m | G159: m3 | H159: 199.135 | J159: =ROUND(I159*H159,2) -> 0 | N159: základní | P159: =O159*H159 -> 0 | Q159: 0 | R159: =Q159*H159 -> 0 | S159: 0 | T159: =S159*H159 -> 0 | AR159: 4 | AT159: K | AU159: 2 | AY159: ROZPOCET | BE159: =IF(N159="základní",J159,0) -> 0 | BF159: =IF(N159="snížená",J159,0) -> 0 | BG159: =IF(N159="zákl. přenesená",J159,0) -> 0 | BH159: =IF(N159="sníž. přenesená",J159,0) -> 0 | BI159: =IF(N159="nulová",J159,0) -> 0 | BJ159: 1 | BK159: =ROUND(I159*H159,2) -> 0 | BL159: 4 | BM159: 14
D160: P | F160: Poznámka k položce:_x000d_ po suchu, bez naložení výkopku, avšak se složením bez rozhrnutí, zpáteční cesta vozidla. | AT160: P | AU160: 2
C161: 8 | D161: K | E161: 162701109R00 | F161: Vodorovné přemístění výkopku příplatek k ceně za každých dalších i započatých 1 000 m přes 10 000 m z horniny 1 až 4 | G161: m3 | H161: 796.52 | J161: =ROUND(I161*H161,2) -> 0 | N161: základní | P161: =O161*H161 -> 0 | Q161: 0 | R161: =Q161*H161 -> 0 | S161: 0 | T161: =S161*H161 -> 0 | AR161: 4 | AT161: K | AU161: 2 | AY161: ROZPOCET | BE161: =IF(N161="základní",J161,0) -> 0 | BF161: =IF(N161="snížená",J161,0) -> 0 | BG161: =IF(N161="zákl. přenesená",J161,0) -> 0 | BH161: =IF(N161="sníž. přenesená",J161,0) -> 0 | BI161: =IF(N161="nulová",J161,0) -> 0 | BJ161: 1 | BK161: =ROUND(I161*H161,2) -> 0 | BL161: 4 | BM161: 16
D162: P | F162: Poznámka k položce:_x000d_ po suchu, bez naložení výkopku, avšak se složením bez rozhrnutí, zpáteční cesta vozidla. | AT162: P | AU162: 2
D163: VV | F163: 199,13*4 | H163: 796.52 | AT163: VV | AU163: 2 | AV163: 2 | AW163: True | AX163: 0 | AY163: ROZPOCET
D164: VV | F164: Součet | H164: 796.52 | AT164: VV | AU164: 2 | AV164: 4 | AW164: True | AX164: 1 | AY164: ROZPOCET
...

Sheet D.9.1 SO 09.2 - Propojova...
AT2: {1ed7491b-b7e0-4fa7-89f8-7926141fb6c0}
AT3: 2
D4: KRYCÍ LIST SOUPISU PRACÍ | M4: v --- níže se nacházejí doplnkové a pomocné údaje k sestavám --- v | AT4: False
D6: Stavba:
E7: ='Rekapitulace stavby'!K6 -> Našiměřice - Splašková kanalizace - ÚRS I/2026-úprava po připomínkách uchazečů
D8: Objekt:
E9: D.9 SO 09 - Zkapacitnění čerpací stanice KČS 01 Suchohrdly u Miroslavi
D10: Soupis:
E11: D.9.1 SO 09.2 - Propojovací potrubí
D13: KSO: | I13: CC-CZ:
D14: Místo: | F14: Našiměřice | I14: Datum: | J14: ='Rekapitulace stavby'!AN8 -> 19. 6. 2026
D16: Zadavatel: | I16: IČ: | J16: =IF('Rekapitulace stavby'!AN10="","",'Rekapitulace stavby'!AN10)
E17: =IF('Rekapitulace stavby'!E11="","",'Rekapitulace stavby'!E11) | I17: DIČ: | J17: =IF('Rekapitulace stavby'!AN11="","",'Rekapitulace stavby'!AN11)
D19: Uchazeč: | I19: IČ: | J19: ='Rekapitulace stavby'!AN13 -> Vyplň údaj
E20: ='Rekapitulace stavby'!E14 -> Vyplň údaj | I20: DIČ: | J20: ='Rekapitulace stavby'!AN14 -> Vyplň údaj
D22: Projektant: | I22: IČ: | J22: =IF('Rekapitulace stavby'!AN16="","",'Rekapitulace stavby'!AN16)
E23: =IF('Rekapitulace stavby'!E17="","",'Rekapitulace stavby'!E17) | I23: DIČ: | J23: =IF('Rekapitulace stavby'!AN17="","",'Rekapitulace stavby'!AN17)
D25: Zpracovatel: | I25: IČ: | J25: =IF('Rekapitulace stavby'!AN19="","",'Rekapitulace stavby'!AN19)
E26: =IF('Rekapitulace stavby'!E20="","",'Rekapitulace stavby'!E20) | I26: DIČ: | J26: =IF('Rekapitulace stavby'!AN20="","",'Rekapitulace stavby'!AN20)
D28: Poznámka:
D32: Cena bez DPH | J32: =ROUND(J127, 2) -> 0
F34: Základ daně | I34: Sazba daně | J34: Výše daně
D35: DPH | E35: základní | F35: =ROUND((SUM(BE127:BE200)), 2) -> 0 | I35: 0.21 | J35: =ROUND(((SUM(BE127:BE200))*I35), 2) -> 0
E36: snížená | F36: =ROUND((SUM(BF127:BF200)), 2) -> 0 | I36: 0.12 | J36: =ROUND(((SUM(BF127:BF200))*I36), 2) -> 0
E37: zákl. přenesená | F37: =ROUND((SUM(BG127:BG200)), 2) -> 0 | I37: 0.21 | J37: =0 -> 0
E38: sníž. přenesená | F38: =ROUND((SUM(BH127:BH200)), 2) -> 0 | I38: 0.12 | J38: =0 -> 0
E39: nulová | F39: =ROUND((SUM(BI127:BI200)), 2) -> 0 | I39: 0 | J39: =0 -> 0
D41: Cena s DPH | G41: v | H41: CZK | J41: =SUM(J32:J39) -> 0
D50: Projektant | G50: Zpracovatel
D61: Datum a podpis: | F61: Razítko | G61: Datum a podpis: | J61: Razítko
D65: Objednavatel | G65: Uchazeč
D76: Datum a podpis: | F76: Razítko | G76: Datum a podpis: | J76: Razítko
C82: REKAPITULACE ČLENĚNÍ SOUPISU PRACÍ
C84: Stavba:
E85: =E7 -> Našiměřice - Splašková kanalizace - ÚRS I/2026-úprava po připomínkách uchazečů
C86: Objekt:
E87: D.9 SO 09 - Zkapacitnění čerpací stanice KČS 01 Suchohrdly u Miroslavi
C88: Soupis:
E89: =E11 -> D.9.1 SO 09.2 - Propojovací potrubí
C91: Místo: | F91: =F14 -> Našiměřice | I91: Datum: | J91: =IF(J14="","",J14) -> 19. 6. 2026
C93: Zadavatel: | F93: =E17 | I93: Projektant: | J93: =E23
C94: Uchazeč: | F94: =IF(E20="","",E20) -> Vyplň údaj | I94: Zpracovatel: | J94: =E26
C96: Kód dílu - Popis | J96: Cena celkem [CZK]
C98: Náklady ze soupisu prací | J98: =J127 -> 0 | AU98: -1
D99: HSV - Práce a dodávky HSV | J99: =J128 -> 0
D100: 1 - Zemní práce | J100: =J129 -> 0
D101: 4 - Vodorovné konstrukce | J101: =J179 -> 0
D102: 5 - Komunikace | J102: =J182 -> 0
D103: 8 - Trubní vedení | J103: =J186 -> 0
D104: 9 - Ostatní konstrukce, bourání | J104: =J196 -> 0
D105: 99 - Staveništní přesun hmot | J105: =J198 -> 0
C112: SOUPIS PRACÍ
C114: Stavba:
E115: =E7 -> Našiměřice - Splašková kanalizace - ÚRS I/2026-úprava po připomínkách uchazečů
C116: Objekt:
E117: D.9 SO 09 - Zkapacitnění čerpací stanice KČS 01 Suchohrdly u Miroslavi
C118: Soupis:
E119: =E11 -> D.9.1 SO 09.2 - Propojovací potrubí
C121: Místo: | F121: =F14 -> Našiměřice | I121: Datum: | J121: =IF(J14="","",J14) -> 19. 6. 2026
C123: Zadavatel: | F123: =E17 | I123: Projektant: | J123: =E23
C124: Uchazeč: | F124: =IF(E20="","",E20) -> Vyplň údaj | I124: Zpracovatel: | J124: =E26
C126: PČ | D126: Typ | E126: Kód | F126: Popis | G126: MJ | H126: Množství | I126: J.cena [CZK] | J126: Cena celkem [CZK] | K126: Cenová soustava | N126: DPH | O126: J. Nh [h] | P126: Nh celkem [h] | Q126: J. hmotnost [t] | R126: Hmotnost celkem [t] | S126: J. suť [t] | T126: Suť Celkem [t]
C127: Náklady soupisu celkem | J127: =BK127 -> 0 | P127: =P128 -> 0 | R127: =R128 -> 0 | T127: =T128 -> 0 | AT127: D | AU127: -1 | BK127: =BK128 -> 0
D128: D | E128: HSV | F128: Práce a dodávky HSV | J128: =BK128 -> 0 | P128: =P129+P179+P182+P186+P196+P198 -> 0 | R128: =R129+R179+R182+R186+R196+R198 -> 0 | T128: =T129+T179+T182+T186+T196+T198 -> 0 | AR128: 1 | AT128: D | AU128: 0 | AY128: ROZPOCET | BK128: =BK129+BK179+BK182+BK186+BK196+BK198 -> 0
D129: D | E129: 1 | F129: Zemní práce | J129: =BK129 -> 0 | P129: =SUM(P130:P178) -> 0 | R129: =SUM(R130:R178) -> 0 | T129: =SUM(T130:T178) -> 0 | AR129: 1 | AT129: D | AU129: 1 | AY129: ROZPOCET | BK129: =SUM(BK130:BK178) -> 0
C130: 1 | D130: K | E130: 115101201R00 | F130: Čerpání vody na dopravní výšku do 10 m s uvažovaným průměrným přítokem do 500 l/min | G130: h | H130: 360 | J130: =ROUND(I130*H130,2) -> 0 | N130: základní | P130: =O130*H130 -> 0 | Q130: 0 | R130: =Q130*H130 -> 0 | S130: 0 | T130: =S130*H130 -> 0 | AR130: 4 | AT130: K | AU130: 2 | AY130: ROZPOCET | BE130: =IF(N130="základní",J130,0) -> 0 | BF130: =IF(N130="snížená",J130,0) -> 0 | BG130: =IF(N130="zákl. přenesená",J130,0) -> 0 | BH130: =IF(N130="sníž. přenesená",J130,0) -> 0 | BI130: =IF(N130="nulová",J130,0) -> 0 | BJ130: 1 | BK130: =ROUND(I130*H130,2) -> 0 | BL130: 4 | BM130: 2
D131: P | F131: Poznámka k položce:_x000d_ na vzdálenost od hladiny vody v jímce po výšku roviny proložené osou nejvyššího bodu výtlačného potrubí. Včetně odpadní potrubí v délce do 20 m. | AT131: P | AU131: 2
D132: VV | F132: 15*24 | H132: 360 | AT132: VV | AU132: 2 | AV132: 2 | AW132: True | AX132: 0 | AY132: ROZPOCET
D133: VV | F133: Součet | H133: 360 | AT133: VV | AU133: 2 | AV133: 4 | AW133: True | AX133: 1 | AY133: ROZPOCET
C134: 2 | D134: K | E134: 115101301R00 | F134: Pohotovost záložní čerpací soupravy na dopravní výšku do 10 m s uvažovaným průměrným přítokem do 500 l/min | G134: den | H134: 15 | J134: =ROUND(I134*H134,2) -> 0 | N134: základní | P134: =O134*H134 -> 0 | Q134: 0 | R134: =Q134*H134 -> 0 | S134: 0 | T134: =S134*H134 -> 0 | AR134: 4 | AT134: K | AU134: 2 | AY134: ROZPOCET | BE134: =IF(N134="základní",J134,0) -> 0 | BF134: =IF(N134="snížená",J134,0) -> 0 | BG134: =IF(N134="zákl. přenesená",J134,0) -> 0 | BH134: =IF(N134="sníž. přenesená",J134,0) -> 0 | BI134: =IF(N134="nulová",J134,0) -> 0 | BJ134: 1 | BK134: =ROUND(I134*H134,2) -> 0 | BL134: 4 | BM134: 4
D135: P | F135: Poznámka k položce:_x000d_ na vzdálenost (výšku) od hladiny vody v jímce po výšku roviny proložené osou nejvyššího bodu výtlačného potrubí. Včetně sacího a výtlačného potrubí, příp. odpadních žlabů, lešení pod čerpadlo a pod potrubí nebo pod odpadní žlaby a záložního zdroje energie. | AT135: P | AU135: 2
C136: 3 | D136: K | E136: 132101211R00 | F136: Hloubení rýh šířky přes 60 do 200 cm do 100 m3, v hornině 1-2, hloubení strojně | G136: m3 | H136: 3.444 | J136: =ROUND(I136*H136,2) -> 0 | N136: základní | P136: =O136*H136 -> 0 | Q136: 0 | R136: =Q136*H136 -> 0 | S136: 0 | T136: =S136*H136 -> 0 | AR136: 4 | AT136: K | AU136: 2 | AY136: ROZPOCET | BE136: =IF(N136="základní",J136,0) -> 0 | BF136: =IF(N136="snížená",J136,0) -> 0 | BG136: =IF(N136="zákl. přenesená",J136,0) -> 0 | BH136: =IF(N136="sníž. přenesená",J136,0) -> 0 | BI136: =IF(N136="nulová",J136,0) -> 0 | BJ136: 1 | BK136: =ROUND(I136*H136,2) -> 0 | BL136: 4 | BM136: 6
D137: P | F137: Poznámka k položce:_x000d_ zapažených i nezapažených, s urovnáním dna do předepsaného profilu a spádu, s případně nutným přehozením výkopku na vzdálenost do 3 m ve výkopišti, s přehozením výkopku na přilehlém terénu na vzdálenost do 5 m od podélné osy rýhy nebo s naložením výkopku na dopravní prostředek. | AT137: P | AU137: 2
D138: VV | F138: Začátek provozního součtu | AT138: VV | AU138: 2 | AV138: 1 | AW138: True | AX138: 0 | AY138: ROZPOCET
D139: VV | F139: potrubí : 1,20*4,10*3,50 | AT139: VV | AU139: 2 | AV139: 1 | AW139: True | AX139: 0 | AY139: ROZPOCET
D140: VV | F140: Konec provozního součtu | AT140: VV | AU140: 2 | AV140: 1 | AW140: True | AX140: 0 | AY140: ROZPOCET
D141: VV | F141: 17,22*0,2 | H141: 3.444 | AT141: VV | AU141: 2 | AV141: 2 | AW141: True | AX141: 0 | AY141: ROZPOCET
D142: VV | F142: Součet | H142: 3.444 | AT142: VV | AU142: 2 | AV142: 4 | AW142: True | AX142: 1 | AY142: ROZPOCET
C143: 4 | D143: K | E143: 132201211R00 | F143: Hloubení rýh šířky přes 60 do 200 cm do 100 m3, v hornině 3, hloubení strojně | G143: m3 | H143: 8.61 | J143: =ROUND(I143*H143,2) -> 0 | N143: základní | P143: =O143*H143 -> 0 | Q143: 0 | R143: =Q143*H143 -> 0 | S143: 0 | T143: =S143*H143 -> 0 | AR143: 4 | AT143: K | AU143: 2 | AY143: ROZPOCET | BE143: =IF(N143="základní",J143,0) -> 0 | BF143: =IF(N143="snížená",J143,0) -> 0 | BG143: =IF(N143="zákl. přenesená",J143,0) -> 0 | BH143: =IF(N143="sníž. přenesená",J143,0) -> 0 | BI143: =IF(N143="nulová",J143,0) -> 0 | BJ143: 1 | BK143: =ROUND(I143*H143,2) -> 0 | BL143: 4 | BM143: 8
D144: P | F144: Poznámka k položce:_x000d_ zapažených i nezapažených, s urovnáním dna do předepsaného profilu a spádu, s případně nutným přehozením výkopku na vzdálenost do 3 m ve výkopišti, s přehozením výkopku na přilehlém terénu na vzdálenost do 5 m od podélné osy rýhy nebo s naložením výkopku na dopravní prostředek. | AT144: P | AU144: 2
D145: VV | F145: Začátek provozního součtu | AT145: VV | AU145: 2 | AV145: 1 | AW145: True | AX145: 0 | AY145: ROZPOCET
D146: VV | F146: potrubí : 1,20*4,10*3,50 | AT146: VV | AU146: 2 | AV146: 1 | AW146: True | AX146: 0 | AY146: ROZPOCET
D147: VV | F147: Konec provozního součtu | AT147: VV | AU147: 2 | AV147: 1 | AW147: True | AX147: 0 | AY147: ROZPOCET
D148: VV | F148: 17,22*0,5 | H148: 8.61 | AT148: VV | AU148: 2 | AV148: 2 | AW148: True | AX148: 0 | AY148: ROZPOCET
D149: VV | F149: Součet | H149: 8.61 | AT149: VV | AU149: 2 | AV149: 4 | AW149: True | AX149: 1 | AY149: ROZPOCET
C150: 5 | D150: K | E150: 132301211R00 | F150: Hloubení rýh šířky přes 60 do 200 cm do 100 m3, v hornině 4, hloubení strojně | G150: m3 | H150: 5.166 | J150: =ROUND(I150*H150,2) -> 0 | N150: základní | P150: =O150*H150 -> 0 | Q150: 0 | R150: =Q150*H150 -> 0 | S150: 0 | T150: =S150*H150 -> 0 | AR150: 4 | AT150: K | AU150: 2 | AY150: ROZPOCET | BE150: =IF(N150="základní",J150,0) -> 0 | BF150: =IF(N150="snížená",J150,0) -> 0 | BG150: =IF(N150="zákl. přenesená",J150,0) -> 0 | BH150: =IF(N150="sníž. přenesená",J150,0) -> 0 | BI150: =IF(N150="nulová",J150,0) -> 0 | BJ150: 1 | BK150: =ROUND(I150*H150,2) -> 0 | BL150: 4 | BM150: 10
D151: P | F151: Poznámka k položce:_x000d_ zapažených i nezapažených, s urovnáním dna do předepsaného profilu a spádu, s případně nutným přehozením výkopku na vzdálenost do 3 m ve výkopišti, s přehozením výkopku na přilehlém terénu na vzdálenost do 5 m od podélné osy rýhy nebo s naložením výkopku na dopravní prostředek. | AT151: P | AU151: 2
D152: VV | F152: Začátek provozního součtu | AT152: VV | AU152: 2 | AV152: 1 | AW152: True | AX152: 0 | AY152: ROZPOCET
D153: VV | F153: potrubí : 1,20*4,10*3,50 | AT153: VV | AU153: 2 | AV153: 1 | AW153: True | AX153: 0 | AY153: ROZPOCET
D154: VV | F154: Konec provozního součtu | AT154: VV | AU154: 2 | AV154: 1 | AW154: True | AX154: 0 | AY154: ROZPOCET
D155: VV | F155: 17,22*0,3 | H155: 5.166 | AT155: VV | AU155: 2 | AV155: 2 | AW155: True | AX155: 0 | AY155: ROZPOCET
D156: VV | F156: Součet | H156: 5.166 | AT156: VV | AU156: 2 | AV156: 4 | AW156: True | AX156: 1 | AY156: ROZPOCET
C157: 6 | D157: K | E157: 151101103R00 | F157: Zřízení pažení a rozepření stěn rýh příložné pro jakoukoliv mezerovitost, hloubky do 8 m | G157: m2 | H157: 29.4 | J157: =ROUND(I157*H157,2) -> 0 | N157: základní | P157: =O157*H157 -> 0 | Q157: 0 | R157: =Q157*H157 -> 0 | S157: 0 | T157: =S157*H157 -> 0 | AR157: 4 | AT157: K | AU157: 2 | AY157: ROZPOCET | BE157: =IF(N157="základní",J157,0) -> 0 | BF157: =IF(N157="snížená",J157,0) -> 0 | BG157: =IF(N157="zákl. přenesená",J157,0) -> 0 | BH157: =IF(N157="sníž. přenesená",J157,0) -> 0 | BI157: =IF(N157="nulová",J157,0) -> 0 | BJ157: 1 | BK157: =ROUND(I157*H157,2) -> 0 | BL157: 4 | BM157: 12
D158: P | F158: Poznámka k položce:_x000d_ pro podzemní vedení pro všechny šířky rýhy, | AT158: P | AU158: 2
C159: 7 | D159: K | E159: 151101113R00 | F159: Odstranění pažení a rozepření rýh příložné , hloubky do 8 m | G159: m2 | H159: 29.4 | J159: =ROUND(I159*H159,2) -> 0 | N159: základní | P159: =O159*H159 -> 0 | Q159: 0 | R159: =Q159*H159 -> 0 | S159: 0 | T159: =S159*H159 -> 0 | AR159: 4 | AT159: K | AU159: 2 | AY159: ROZPOCET | BE159: =IF(N159="základní",J159,0) -> 0 | BF159: =IF(N159="snížená",J159,0) -> 0 | BG159: =IF(N159="zákl. přenesená",J159,0) -> 0 | BH159: =IF(N159="sníž. přenesená",J159,0) -> 0 | BI159: =IF(N159="nulová",J159,0) -> 0 | BJ159: 1 | BK159: =ROUND(I159*H159,2) -> 0 | BL159: 4 | BM159: 14
D160: P | F160: Poznámka k položce:_x000d_ pro podzemní vedení s uložením materiálu na vzdálenost do 3 m od kraje výkopu, | AT160: P | AU160: 2
C161: 8 | D161: K | E161: 161101103R00 | F161: Svislé přemístění výkopku z horniny 1 až 4, při hloubce výkopu přes 4 do 6 m | G161: m3 | H161: 17.22 | J161: =ROUND(I161*H161,2) -> 0 | N161: základní | P161: =O161*H161 -> 0 | Q161: 0 | R161: =Q161*H161 -> 0 | S161: 0 | T161: =S161*H161 -> 0 | AR161: 4 | AT161: K | AU161: 2 | AY161: ROZPOCET | BE161: =IF(N161="základní",J161,0) -> 0 | BF161: =IF(N161="snížená",J161,0) -> 0 | BG161: =IF(N161="zákl. přenesená",J161,0) -> 0 | BH161: =IF(N161="sníž. přenesená",J161,0) -> 0 | BI161: =IF(N161="nulová",J161,0) -> 0 | BJ161: 1 | BK161: =ROUND(I161*H161,2) -> 0 | BL161: 4 | BM161: 16
D162: P | F162: Poznámka k položce:_x000d_ bez naložení do dopravní nádoby, ale s vyprázdněním dopravní nádoby na hromadu nebo na dopravní prostředek, | AT162: P | AU162: 2
D163: VV | F163: 17,22 | H163: 17.22 | AT163: VV | AU163: 2 | AV163: 2 | AW163: True | AX163: 0 | AY163: ROZPOCET
D164: VV | F164: Součet | H164: 17.22 | AT164: VV | AU164: 2 | AV164: 4 | AW164: True | AX164: 1 | AY164: ROZPOCET
...

Sheet D.10.1 DPS 01.1 - Strojně...
AT2: {f44a7c88-df93-4f3b-856f-0bddd138149b}
AT3: 2
D4: KRYCÍ LIST SOUPISU PRACÍ | M4: v --- níže se nacházejí doplnkové a pomocné údaje k sestavám --- v | AT4: False
D6: Stavba:
E7: ='Rekapitulace stavby'!K6 -> Našiměřice - Splašková kanalizace - ÚRS I/2026-úprava po připomínkách uchazečů
D8: Objekt:
E9: D.10 PS 01 - Čerpací stanice KČS 01 Našiměřice
D10: Soupis:
E11: D.10.1 DPS 01.1 - Strojně technologická část
D13: KSO: | I13: CC-CZ:
D14: Místo: | F14: Našiměřice | I14: Datum: | J14: ='Rekapitulace stavby'!AN8 -> 19. 6. 2026
D16: Zadavatel: | I16: IČ: | J16: =IF('Rekapitulace stavby'!AN10="","",'Rekapitulace stavby'!AN10)
E17: =IF('Rekapitulace stavby'!E11="","",'Rekapitulace stavby'!E11) | I17: DIČ: | J17: =IF('Rekapitulace stavby'!AN11="","",'Rekapitulace stavby'!AN11)
D19: Uchazeč: | I19: IČ: | J19: ='Rekapitulace stavby'!AN13 -> Vyplň údaj
E20: ='Rekapitulace stavby'!E14 -> Vyplň údaj | I20: DIČ: | J20: ='Rekapitulace stavby'!AN14 -> Vyplň údaj
D22: Projektant: | I22: IČ: | J22: =IF('Rekapitulace stavby'!AN16="","",'Rekapitulace stavby'!AN16)
E23: =IF('Rekapitulace stavby'!E17="","",'Rekapitulace stavby'!E17) | I23: DIČ: | J23: =IF('Rekapitulace stavby'!AN17="","",'Rekapitulace stavby'!AN17)
D25: Zpracovatel: | I25: IČ: | J25: =IF('Rekapitulace stavby'!AN19="","",'Rekapitulace stavby'!AN19)
E26: =IF('Rekapitulace stavby'!E20="","",'Rekapitulace stavby'!E20) | I26: DIČ: | J26: =IF('Rekapitulace stavby'!AN20="","",'Rekapitulace stavby'!AN20)
D28: Poznámka:
D32: Cena bez DPH | J32: =ROUND(J124, 2) -> 0
F34: Základ daně | I34: Sazba daně | J34: Výše daně
D35: DPH | E35: základní | F35: =ROUND((SUM(BE124:BE174)), 2) -> 0 | I35: 0.21 | J35: =ROUND(((SUM(BE124:BE174))*I35), 2) -> 0
E36: snížená | F36: =ROUND((SUM(BF124:BF174)), 2) -> 0 | I36: 0.12 | J36: =ROUND(((SUM(BF124:BF174))*I36), 2) -> 0
E37: zákl. přenesená | F37: =ROUND((SUM(BG124:BG174)), 2) -> 0 | I37: 0.21 | J37: =0 -> 0
E38: sníž. přenesená | F38: =ROUND((SUM(BH124:BH174)), 2) -> 0 | I38: 0.12 | J38: =0 -> 0
E39: nulová | F39: =ROUND((SUM(BI124:BI174)), 2) -> 0 | I39: 0 | J39: =0 -> 0
D41: Cena s DPH | G41: v | H41: CZK | J41: =SUM(J32:J39) -> 0
D50: Projektant | G50: Zpracovatel
D61: Datum a podpis: | F61: Razítko | G61: Datum a podpis: | J61: Razítko
D65: Objednavatel | G65: Uchazeč
D76: Datum a podpis: | F76: Razítko | G76: Datum a podpis: | J76: Razítko
C82: REKAPITULACE ČLENĚNÍ SOUPISU PRACÍ
C84: Stavba:
E85: =E7 -> Našiměřice - Splašková kanalizace - ÚRS I/2026-úprava po připomínkách uchazečů
C86: Objekt:
E87: D.10 PS 01 - Čerpací stanice KČS 01 Našiměřice
C88: Soupis:
E89: =E11 -> D.10.1 DPS 01.1 - Strojně technologická část
C91: Místo: | F91: =F14 -> Našiměřice | I91: Datum: | J91: =IF(J14="","",J14) -> 19. 6. 2026
C93: Zadavatel: | F93: =E17 | I93: Projektant: | J93: =E23
C94: Uchazeč: | F94: =IF(E20="","",E20) -> Vyplň údaj | I94: Zpracovatel: | J94: =E26
C96: Kód dílu - Popis | J96: Cena celkem [CZK]
C98: Náklady ze soupisu prací | J98: =J124 -> 0 | AU98: -1
D99: M - Práce a dodávky M | J99: =J125 -> 0
D100: 23-M - Montáže potrubí | J100: =J126 -> 0
D101: VRN - Vedlejší rozpočtové náklady | J101: =J172 -> 0
D102: VRN9 - Ostatní náklady | J102: =J173 -> 0
C109: SOUPIS PRACÍ
C111: Stavba:
E112: =E7 -> Našiměřice - Splašková kanalizace - ÚRS I/2026-úprava po připomínkách uchazečů
C113: Objekt:
E114: D.10 PS 01 - Čerpací stanice KČS 01 Našiměřice
C115: Soupis:
E116: =E11 -> D.10.1 DPS 01.1 - Strojně technologická část
C118: Místo: | F118: =F14 -> Našiměřice | I118: Datum: | J118: =IF(J14="","",J14) -> 19. 6. 2026
C120: Zadavatel: | F120: =E17 | I120: Projektant: | J120: =E23
C121: Uchazeč: | F121: =IF(E20="","",E20) -> Vyplň údaj | I121: Zpracovatel: | J121: =E26
C123: PČ | D123: Typ | E123: Kód | F123: Popis | G123: MJ | H123: Množství | I123: J.cena [CZK] | J123: Cena celkem [CZK] | K123: Cenová soustava | N123: DPH | O123: J. Nh [h] | P123: Nh celkem [h] | Q123: J. hmotnost [t] | R123: Hmotnost celkem [t] | S123: J. suť [t] | T123: Suť Celkem [t]
C124: Náklady soupisu celkem | J124: =BK124 -> 0 | P124: =P125+P172 -> 0 | R124: =R125+R172 -> 0 | T124: =T125+T172 -> 0 | AT124: D | AU124: -1 | BK124: =BK125+BK172 -> 0
D125: D | E125: M | F125: Práce a dodávky M | J125: =BK125 -> 0 | P125: =P126 -> 0 | R125: =R126 -> 0 | T125: =T126 -> 0 | AR125: 3 | AT125: D | AU125: 0 | AY125: ROZPOCET | BK125: =BK126 -> 0
D126: D | E126: 23-M | F126: Montáže potrubí | J126: =BK126 -> 0 | P126: =SUM(P127:P171) -> 0 | R126: =SUM(R127:R171) -> 0 | T126: =SUM(T127:T171) -> 0 | AR126: 3 | AT126: D | AU126: 1 | AY126: ROZPOCET | BK126: =SUM(BK127:BK171) -> 0
C127: 1 | D127: K | E127: 350000001R | F127: Ponorné kalové čerpadlo - montáž | G127: ks | H127: 2 | J127: =ROUND(I127*H127,2) -> 0 | N127: základní | P127: =O127*H127 -> 0 | Q127: 0 | R127: =Q127*H127 -> 0 | S127: 0 | T127: =S127*H127 -> 0 | AR127: 64 | AT127: K | AU127: 2 | AY127: ROZPOCET | BE127: =IF(N127="základní",J127,0) -> 0 | BF127: =IF(N127="snížená",J127,0) -> 0 | BG127: =IF(N127="zákl. přenesená",J127,0) -> 0 | BH127: =IF(N127="sníž. přenesená",J127,0) -> 0 | BI127: =IF(N127="nulová",J127,0) -> 0 | BJ127: 1 | BK127: =ROUND(I127*H127,2) -> 0 | BL127: 64 | BM127: 2
C128: 2 | D128: M | E128: 42600001R | F128: ponorné kalové čerpadlo - dodávka | G128: ks | H128: 2 | J128: =ROUND(I128*H128,2) -> 0 | N128: základní | P128: =O128*H128 -> 0 | Q128: 0 | R128: =Q128*H128 -> 0 | S128: 0 | T128: =S128*H128 -> 0 | AR128: 256 | AT128: M | AU128: 2 | AY128: ROZPOCET | BE128: =IF(N128="základní",J128,0) -> 0 | BF128: =IF(N128="snížená",J128,0) -> 0 | BG128: =IF(N128="zákl. přenesená",J128,0) -> 0 | BH128: =IF(N128="sníž. přenesená",J128,0) -> 0 | BI128: =IF(N128="nulová",J128,0) -> 0 | BJ128: 1 | BK128: =ROUND(I128*H128,2) -> 0 | BL128: 64 | BM128: 4
D129: P | F129: Poznámka k položce:_x000d_ Ponorné kalové čerpadlo se šroubovým oběžným kolem, kompletního s elektromotorem Pe = 15 kW, 400 V, 50 Hz, se zabudovanou tepelnou ochranou statoru, čidlem vlhkosti, 15 m kabelu a patkovým kolenem. Čerpadlo je instalováno ve vertikální poloze na patkovém koleně, vč. spouštěcího zařízení a pro manipulaci je opatřeno nerezovým řetězem. Čerpané množství Q = 5,5 l/s, dopravní výška H = 58 m v.sl., n = 2 960 1/min, průchod oběžným kolem 50 mm. Výtlačné hrdlo čerpadla je opatřeno kolenem, zakončené přírubou DN 80. Těleso čerpadla z šedé litiny, oběžné kolo z korozivzdorné CrNiMo oceli, hřídel, vodící tyče, kotevní šrouby, zvedací řetěz - nerez, vlhkostní relé. Pro rozběh a zastevení čerpadla pomocí FM otáček motoru. | AT129: P | AU129: 2
C130: 3 | D130: K | E130: 230000002R | F130: Česlicový koš - montáž | G130: ks | H130: 1 | J130: =ROUND(I130*H130,2) -> 0 | N130: základní | P130: =O130*H130 -> 0 | Q130: 0 | R130: =Q130*H130 -> 0 | S130: 0 | T130: =S130*H130 -> 0 | AR130: 64 | AT130: K | AU130: 2 | AY130: ROZPOCET | BE130: =IF(N130="základní",J130,0) -> 0 | BF130: =IF(N130="snížená",J130,0) -> 0 | BG130: =IF(N130="zákl. přenesená",J130,0) -> 0 | BH130: =IF(N130="sníž. přenesená",J130,0) -> 0 | BI130: =IF(N130="nulová",J130,0) -> 0 | BJ130: 1 | BK130: =ROUND(I130*H130,2) -> 0 | BL130: 64 | BM130: 6
C131: 4 | D131: M | E131: 42200002R | F131: česlicový koš - dodávka | G131: ks | H131: 1 | J131: =ROUND(I131*H131,2) -> 0 | N131: základní | P131: =O131*H131 -> 0 | Q131: 0 | R131: =Q131*H131 -> 0 | S131: 0 | T131: =S131*H131 -> 0 | AR131: 256 | AT131: M | AU131: 2 | AY131: ROZPOCET | BE131: =IF(N131="základní",J131,0) -> 0 | BF131: =IF(N131="snížená",J131,0) -> 0 | BG131: =IF(N131="zákl. přenesená",J131,0) -> 0 | BH131: =IF(N131="sníž. přenesená",J131,0) -> 0 | BI131: =IF(N131="nulová",J131,0) -> 0 | BJ131: 1 | BK131: =ROUND(I131*H131,2) -> 0 | BL131: 64 | BM131: 8
D132: P | F132: Poznámka k položce:_x000d_ Česlicový koš, velikost průlin 40 mm, pro potrubí DN 250, poklop 600 x 600, provedení nerez, vč. příslušenství a zvedacího přenosného zařízení, nosnost 100 kg, patka 2 ks, vč. příslušenství apod. | AT132: P | AU132: 2
C133: 5 | D133: K | E133: 230030003R | F133: Magneticko - indukční průtokoměr DN 80, PN 16 - montáž | G133: ks | H133: 1 | J133: =ROUND(I133*H133,2) -> 0 | N133: základní | P133: =O133*H133 -> 0 | Q133: 0 | R133: =Q133*H133 -> 0 | S133: 0 | T133: =S133*H133 -> 0 | AR133: 64 | AT133: K | AU133: 2 | AY133: ROZPOCET | BE133: =IF(N133="základní",J133,0) -> 0 | BF133: =IF(N133="snížená",J133,0) -> 0 | BG133: =IF(N133="zákl. přenesená",J133,0) -> 0 | BH133: =IF(N133="sníž. přenesená",J133,0) -> 0 | BI133: =IF(N133="nulová",J133,0) -> 0 | BJ133: 1 | BK133: =ROUND(I133*H133,2) -> 0 | BL133: 64 | BM133: 10
C134: 6 | D134: M | E134: 42200003R | F134: Magneticko - indukční průtokoměr DN 80, PN 16 - dodávka | G134: ks | H134: 1 | J134: =ROUND(I134*H134,2) -> 0 | N134: základní | P134: =O134*H134 -> 0 | Q134: 0 | R134: =Q134*H134 -> 0 | S134: 0 | T134: =S134*H134 -> 0 | AR134: 256 | AT134: M | AU134: 2 | AY134: ROZPOCET | BE134: =IF(N134="základní",J134,0) -> 0 | BF134: =IF(N134="snížená",J134,0) -> 0 | BG134: =IF(N134="zákl. přenesená",J134,0) -> 0 | BH134: =IF(N134="sníž. přenesená",J134,0) -> 0 | BI134: =IF(N134="nulová",J134,0) -> 0 | BJ134: 1 | BK134: =ROUND(I134*H134,2) -> 0 | BL134: 64 | BM134: 12
D135: P | F135: Poznámka k položce:_x000d_ Magneticko - indukční průtokoměr DN 80, PN 16 pro měření průtoku odpadní vody Q = 0 - 6 l/s, 0,6 Mpa, 20 °C, oddělené provedení | AT135: P | AU135: 2
C136: 7 | D136: K | E136: 230030004 | F136: Šoupátko kanallizační - nožové (deskové) DN 80, PN 10 - montáž | G136: ks | H136: 3 | J136: =ROUND(I136*H136,2) -> 0 | N136: základní | P136: =O136*H136 -> 0 | Q136: 0 | R136: =Q136*H136 -> 0 | S136: 0 | T136: =S136*H136 -> 0 | AR136: 64 | AT136: K | AU136: 2 | AY136: ROZPOCET | BE136: =IF(N136="základní",J136,0) -> 0 | BF136: =IF(N136="snížená",J136,0) -> 0 | BG136: =IF(N136="zákl. přenesená",J136,0) -> 0 | BH136: =IF(N136="sníž. přenesená",J136,0) -> 0 | BI136: =IF(N136="nulová",J136,0) -> 0 | BJ136: 1 | BK136: =ROUND(I136*H136,2) -> 0 | BL136: 64 | BM136: 14
C137: 8 | D137: M | E137: 42200004R | F137: šoupátko kanalizační - nožové (deskové) DN 80, PN10 - dodávka | G137: ks | H137: 3 | J137: =ROUND(I137*H137,2) -> 0 | N137: základní | P137: =O137*H137 -> 0 | Q137: 0 | R137: =Q137*H137 -> 0 | S137: 0 | T137: =S137*H137 -> 0 | AR137: 256 | AT137: M | AU137: 2 | AY137: ROZPOCET | BE137: =IF(N137="základní",J137,0) -> 0 | BF137: =IF(N137="snížená",J137,0) -> 0 | BG137: =IF(N137="zákl. přenesená",J137,0) -> 0 | BH137: =IF(N137="sníž. přenesená",J137,0) -> 0 | BI137: =IF(N137="nulová",J137,0) -> 0 | BJ137: 1 | BK137: =ROUND(I137*H137,2) -> 0 | BL137: 64 | BM137: 16
D138: P | F138: Poznámka k položce:_x000d_ Šoupátko kanalizační - nožové (deskové) DN 80, PN 10 Provedení - s nestoupavým vřetenem Připojovací rozměr - DN 80, PN 10 Prozní tlak - max. 6 bar Ovládání - ručním kolem Materiálové provedení : těleso - šedá litina vřeteno - nerez 17 243 těžká protikorozní ochrana - povrstvení vně i uvnitř epoxidovým práškem | AT138: P | AU138: 2
C139: 9 | D139: K | E139: 230030004.1 | F139: Klapka zpětná s koulí DN 80, PN 10 - montáž | G139: ks | H139: 2 | J139: =ROUND(I139*H139,2) -> 0 | N139: základní | P139: =O139*H139 -> 0 | Q139: 0 | R139: =Q139*H139 -> 0 | S139: 0 | T139: =S139*H139 -> 0 | AR139: 64 | AT139: K | AU139: 2 | AY139: ROZPOCET | BE139: =IF(N139="základní",J139,0) -> 0 | BF139: =IF(N139="snížená",J139,0) -> 0 | BG139: =IF(N139="zákl. přenesená",J139,0) -> 0 | BH139: =IF(N139="sníž. přenesená",J139,0) -> 0 | BI139: =IF(N139="nulová",J139,0) -> 0 | BJ139: 1 | BK139: =ROUND(I139*H139,2) -> 0 | BL139: 64 | BM139: 18
C140: 10 | D140: M | E140: 42200005R | F140: klapka zpětná s koulí DN 80, PN 10 - dodávka | G140: ks | H140: 2 | J140: =ROUND(I140*H140,2) -> 0 | N140: základní | P140: =O140*H140 -> 0 | Q140: 0 | R140: =Q140*H140 -> 0 | S140: 0 | T140: =S140*H140 -> 0 | AR140: 256 | AT140: M | AU140: 2 | AY140: ROZPOCET | BE140: =IF(N140="základní",J140,0) -> 0 | BF140: =IF(N140="snížená",J140,0) -> 0 | BG140: =IF(N140="zákl. přenesená",J140,0) -> 0 | BH140: =IF(N140="sníž. přenesená",J140,0) -> 0 | BI140: =IF(N140="nulová",J140,0) -> 0 | BJ140: 1 | BK140: =ROUND(I140*H140,2) -> 0 | BL140: 64 | BM140: 20
D141: P | F141: Poznámka k položce:_x000d_ Klapka zpětná s koulí DN 80, PN 10 Připojovací rozměr - příruby DN 80, PN 10 Prozní tlak - max. 6 bar Materiálové provedení : těleso - šedá litina koule - hliníková, s navulkanizovanou pryží EPDM těžká protikorozní ochrana - povrstvení vně i uvnitř epoxidovým práškem spojovací šrouby na víku klapky - nerez 17 346 | AT141: P | AU141: 2
C142: 11 | D142: K | E142: 230030004.2 | F142: Montážní vložka DN 80, PN 10 - montáž | G142: ks | H142: 2 | J142: =ROUND(I142*H142,2) -> 0 | N142: základní | P142: =O142*H142 -> 0 | Q142: 0 | R142: =Q142*H142 -> 0 | S142: 0 | T142: =S142*H142 -> 0 | AR142: 64 | AT142: K | AU142: 2 | AY142: ROZPOCET | BE142: =IF(N142="základní",J142,0) -> 0 | BF142: =IF(N142="snížená",J142,0) -> 0 | BG142: =IF(N142="zákl. přenesená",J142,0) -> 0 | BH142: =IF(N142="sníž. přenesená",J142,0) -> 0 | BI142: =IF(N142="nulová",J142,0) -> 0 | BJ142: 1 | BK142: =ROUND(I142*H142,2) -> 0 | BL142: 64 | BM142: 22
C143: 12 | D143: M | E143: 42200006R | F143: Montážní vložka DN 80, PN 10 - dodávka | G143: ks | H143: 2 | J143: =ROUND(I143*H143,2) -> 0 | N143: základní | P143: =O143*H143 -> 0 | Q143: 0 | R143: =Q143*H143 -> 0 | S143: 0 | T143: =S143*H143 -> 0 | AR143: 256 | AT143: M | AU143: 2 | AY143: ROZPOCET | BE143: =IF(N143="základní",J143,0) -> 0 | BF143: =IF(N143="snížená",J143,0) -> 0 | BG143: =IF(N143="zákl. přenesená",J143,0) -> 0 | BH143: =IF(N143="sníž. přenesená",J143,0) -> 0 | BI143: =IF(N143="nulová",J143,0) -> 0 | BJ143: 1 | BK143: =ROUND(I143*H143,2) -> 0 | BL143: 64 | BM143: 24
D144: P | F144: Poznámka k položce:_x000d_ Montážní vložka DN 80, PN 10 Připojovací rozměr - příruby DN80, PN 10 Prozní tlak - max. 6 bar Materiálové provedení : těleso - šedá litina Ucpávkové těsnění bez azbestu těžká protikorozní ochrana - povrstvení vně i uvnitř epoxidovým práškem spojovací šrouby - nerez 17 346 | AT144: P | AU144: 2
C145: 13 | D145: K | E145: 230140054 | F145: Potrubí DN 80 (86 x 3), mat. nerez - 17 240 - montáž | G145: m | H145: 24 | J145: =ROUND(I145*H145,2) -> 0 | N145: základní | P145: =O145*H145 -> 0 | Q145: 0 | R145: =Q145*H145 -> 0 | S145: 0 | T145: =S145*H145 -> 0 | AR145: 64 | AT145: K | AU145: 2 | AY145: ROZPOCET | BE145: =IF(N145="základní",J145,0) -> 0 | BF145: =IF(N145="snížená",J145,0) -> 0 | BG145: =IF(N145="zákl. přenesená",J145,0) -> 0 | BH145: =IF(N145="sníž. přenesená",J145,0) -> 0 | BI145: =IF(N145="nulová",J145,0) -> 0 | BJ145: 1 | BK145: =ROUND(I145*H145,2) -> 0 | BL145: 64 | BM145: 26
C146: 14 | D146: M | E146: 42200007R | F146: Potrubí DN 80 (86 x 3), mat. nerez - 17 240 - dodávka | G146: m | H146: 24 | J146: =ROUND(I146*H146,2) -> 0 | N146: základní | P146: =O146*H146 -> 0 | Q146: 0 | R146: =Q146*H146 -> 0 | S146: 0 | T146: =S146*H146 -> 0 | AR146: 256 | AT146: M | AU146: 2 | AY146: ROZPOCET | BE146: =IF(N146="základní",J146,0) -> 0 | BF146: =IF(N146="snížená",J146,0) -> 0 | BG146: =IF(N146="zákl. přenesená",J146,0) -> 0 | BH146: =IF(N146="sníž. přenesená",J146,0) -> 0 | BI146: =IF(N146="nulová",J146,0) -> 0 | BJ146: 1 | BK146: =ROUND(I146*H146,2) -> 0 | BL146: 64 | BM146: 28
C147: 15 | D147: K | E147: 230140177 | F147: Oblouk přivařovací DN 80 (86 x 3), 90°, mat. nerez - 17 240 - montáž | G147: ks | H147: 4 | J147: =ROUND(I147*H147,2) -> 0 | N147: základní | P147: =O147*H147 -> 0 | Q147: 0 | R147: =Q147*H147 -> 0 | S147: 0 | T147: =S147*H147 -> 0 | AR147: 64 | AT147: K | AU147: 2 | AY147: ROZPOCET | BE147: =IF(N147="základní",J147,0) -> 0 | BF147: =IF(N147="snížená",J147,0) -> 0 | BG147: =IF(N147="zákl. přenesená",J147,0) -> 0 | BH147: =IF(N147="sníž. přenesená",J147,0) -> 0 | BI147: =IF(N147="nulová",J147,0) -> 0 | BJ147: 1 | BK147: =ROUND(I147*H147,2) -> 0 | BL147: 64 | BM147: 30
C148: 16 | D148: M | E148: 42200008R | F148: oblouk přivařovací DN 80 (86 x 3), 90°, mat. nerez - 17 240 - dodávka | G148: ks | H148: 4 | J148: =ROUND(I148*H148,2) -> 0 | N148: základní | P148: =O148*H148 -> 0 | Q148: 0 | R148: =Q148*H148 -> 0 | S148: 0 | T148: =S148*H148 -> 0 | AR148: 256 | AT148: M | AU148: 2 | AY148: ROZPOCET | BE148: =IF(N148="základní",J148,0) -> 0 | BF148: =IF(N148="snížená",J148,0) -> 0 | BG148: =IF(N148="zákl. přenesená",J148,0) -> 0 | BH148: =IF(N148="sníž. přenesená",J148,0) -> 0 | BI148: =IF(N148="nulová",J148,0) -> 0 | BJ148: 1 | BK148: =ROUND(I148*H148,2) -> 0 | BL148: 64 | BM148: 32
C149: 17 | D149: K | E149: 230140177.1 | F149: T - kus přivařovací DN 80/80 (86/86 x 3), 90°, mat. nerez - 17 240 -montáž | G149: ks | H149: 2 | J149: =ROUND(I149*H149,2) -> 0 | N149: základní | P149: =O149*H149 -> 0 | Q149: 0 | R149: =Q149*H149 -> 0 | S149: 0 | T149: =S149*H149 -> 0 | AR149: 64 | AT149: K | AU149: 2 | AY149: ROZPOCET | BE149: =IF(N149="základní",J149,0) -> 0 | BF149: =IF(N149="snížená",J149,0) -> 0 | BG149: =IF(N149="zákl. přenesená",J149,0) -> 0 | BH149: =IF(N149="sníž. přenesená",J149,0) -> 0 | BI149: =IF(N149="nulová",J149,0) -> 0 | BJ149: 1 | BK149: =ROUND(I149*H149,2) -> 0 | BL149: 64 | BM149: 34
C150: 18 | D150: M | E150: 42200009R | F150: T - kus přivařovací DN 80/80 (86/86 x 3), 90°, mat. nerez - 17 240 - dodávka | G150: ks | H150: 2 | J150: =ROUND(I150*H150,2) -> 0 | N150: základní | P150: =O150*H150 -> 0 | Q150: 0 | R150: =Q150*H150 -> 0 | S150: 0 | T150: =S150*H150 -> 0 | AR150: 256 | AT150: M | AU150: 2 | AY150: ROZPOCET | BE150: =IF(N150="základní",J150,0) -> 0 | BF150: =IF(N150="snížená",J150,0) -> 0 | BG150: =IF(N150="zákl. přenesená",J150,0) -> 0 | BH150: =IF(N150="sníž. přenesená",J150,0) -> 0 | BI150: =IF(N150="nulová",J150,0) -> 0 | BJ150: 1 | BK150: =ROUND(I150*H150,2) -> 0 | BL150: 64 | BM150: 36
C151: 19 | D151: K | E151: 230140177.2 | F151: Příruba přivařovací DN 80, PN 10, mat. nerez - 17 240 - montáž | G151: ks | H151: 40 | J151: =ROUND(I151*H151,2) -> 0 | N151: základní | P151: =O151*H151 -> 0 | Q151: 0 | R151: =Q151*H151 -> 0 | S151: 0 | T151: =S151*H151 -> 0 | AR151: 64 | AT151: K | AU151: 2 | AY151: ROZPOCET | BE151: =IF(N151="základní",J151,0) -> 0 | BF151: =IF(N151="snížená",J151,0) -> 0 | BG151: =IF(N151="zákl. přenesená",J151,0) -> 0 | BH151: =IF(N151="sníž. přenesená",J151,0) -> 0 | BI151: =IF(N151="nulová",J151,0) -> 0 | BJ151: 1 | BK151: =ROUND(I151*H151,2) -> 0 | BL151: 64 | BM151: 38
C152: 20 | D152: M | E152: 42200010R | F152: příruba přivařovací DN 80, PN 10, mat. nerez - 17 240 - dodávka | G152: ks | H152: 40 | J152: =ROUND(I152*H152,2) -> 0 | N152: základní | P152: =O152*H152 -> 0 | Q152: 0 | R152: =Q152*H152 -> 0 | S152: 0 | T152: =S152*H152 -> 0 | AR152: 256 | AT152: M | AU152: 2 | AY152: ROZPOCET | BE152: =IF(N152="základní",J152,0) -> 0 | BF152: =IF(N152="snížená",J152,0) -> 0 | BG152: =IF(N152="zákl. přenesená",J152,0) -> 0 | BH152: =IF(N152="sníž. přenesená",J152,0) -> 0 | BI152: =IF(N152="nulová",J152,0) -> 0 | BJ152: 1 | BK152: =ROUND(I152*H152,2) -> 0 | BL152: 64 | BM152: 40
C153: 21 | D153: K | E153: 230032030 | F153: Spoj přírubový DN 80, PN 10, přemostěný (šrouby, matice, těsnění) - montáž | G153: ks | H153: 30 | J153: =ROUND(I153*H153,2) -> 0 | N153: základní | P153: =O153*H153 -> 0 | Q153: 0 | R153: =Q153*H153 -> 0 | S153: 0 | T153: =S153*H153 -> 0 | AR153: 64 | AT153: K | AU153: 2 | AY153: ROZPOCET | BE153: =IF(N153="základní",J153,0) -> 0 | BF153: =IF(N153="snížená",J153,0) -> 0 | BG153: =IF(N153="zákl. přenesená",J153,0) -> 0 | BH153: =IF(N153="sníž. přenesená",J153,0) -> 0 | BI153: =IF(N153="nulová",J153,0) -> 0 | BJ153: 1 | BK153: =ROUND(I153*H153,2) -> 0 | BL153: 64 | BM153: 42
C154: 22 | D154: M | E154: 42200011R | F154: spoj přírubový DN 80, PN 10, přemostěný - dodávka | G154: ks | H154: 30 | J154: =ROUND(I154*H154,2) -> 0 | N154: základní | P154: =O154*H154 -> 0 | Q154: 0 | R154: =Q154*H154 -> 0 | S154: 0 | T154: =S154*H154 -> 0 | AR154: 256 | AT154: M | AU154: 2 | AY154: ROZPOCET | BE154: =IF(N154="základní",J154,0) -> 0 | BF154: =IF(N154="snížená",J154,0) -> 0 | BG154: =IF(N154="zákl. přenesená",J154,0) -> 0 | BH154: =IF(N154="sníž. přenesená",J154,0) -> 0 | BI154: =IF(N154="nulová",J154,0) -> 0 | BJ154: 1 | BK154: =ROUND(I154*H154,2) -> 0 | BL154: 64 | BM154: 44
C155: 23 | D155: K | E155: 230032031 | F155: Prostupové těsnění pryžovými segmenty DN 80 do vrtaného otvoru o průměru 150 mm - montáž | G155: ks | H155: 3 | J155: =ROUND(I155*H155,2) -> 0 | N155: základní | P155: =O155*H155 -> 0 | Q155: 0 | R155: =Q155*H155 -> 0 | S155: 0 | T155: =S155*H155 -> 0 | AR155: 64 | AT155: K | AU155: 2 | AY155: ROZPOCET | BE155: =IF(N155="základní",J155,0) -> 0 | BF155: =IF(N155="snížená",J155,0) -> 0 | BG155: =IF(N155="zákl. přenesená",J155,0) -> 0 | BH155: =IF(N155="sníž. přenesená",J155,0) -> 0 | BI155: =IF(N155="nulová",J155,0) -> 0 | BJ155: 1 | BK155: =ROUND(I155*H155,2) -> 0 | BL155: 64 | BM155: 46
C156: 24 | D156: M | E156: 52200012R | F156: prostupové těsnění pryžovými segmenty DN 80 - dodávka | G156: ks | H156: 3 | J156: =ROUND(I156*H156,2) -> 0 | N156: základní | P156: =O156*H156 -> 0 | Q156: 0 | R156: =Q156*H156 -> 0 | S156: 0 | T156: =S156*H156 -> 0 | AR156: 256 | AT156: M | AU156: 2 | AY156: ROZPOCET | BE156: =IF(N156="základní",J156,0) -> 0 | BF156: =IF(N156="snížená",J156,0) -> 0 | BG156: =IF(N156="zákl. přenesená",J156,0) -> 0 | BH156: =IF(N156="sníž. přenesená",J156,0) -> 0 | BI156: =IF(N156="nulová",J156,0) -> 0 | BJ156: 1 | BK156: =ROUND(I156*H156,2) -> 0 | BL156: 64 | BM156: 48
... C171: 39 | D171: M | E171: 55200024R | F171: oleje pro přípravu strojní zařízení před komplexními zkouškami - dodávka | G171: l | H171: 10 | J171: =ROUND(I171*H171,2) -> 0 | N171: základní | P171: =O171*H171 -> 0 | Q171: 0 | R171: =Q171*H171 -> 0 | S171: 0 | T171: =S171*H171 -> 0 | AR171: 256 | AT171: M | AU171: 2 | AY171: ROZPOCET | BE171: =IF(N171="základní",J171,0) -> 0 | BF171: =IF(N171="snížená",J171,0) -> 0 | BG171: =IF(N171="zákl. přenesená",J171,0) -> 0 | BH171: =IF(N171="sníž. přenesená",J171,0) -> 0 | BI171: =IF(N171="nulová",J171,0) -> 0 | BJ171: 1 | BK171: =ROUND(I171*H171,2) -> 0 | BL171: 64 | BM171: 78
D172: D | E172: VRN | F172: Vedlejší rozpočtové náklady | J172: =BK172 -> 0 | P172: =P173 -> 0 | R172: =R173 -> 0 | T172: =T173 -> 0 | AR172: 5 | AT172: D | AU172: 0 | AY172: ROZPOCET | BK172: =BK173 -> 0
D173: D | E173: VRN9 | F173: Ostatní náklady | J173: =BK173 -> 0 | P173: =P174 -> 0 | R173: =R174 -> 0 | T173: =T174 -> 0 | AR173: 5 | AT173: D | AU173: 1 | AY173: ROZPOCET | BK173: =BK174 -> 0
C174: 40 | D174: K | E174: 350000020R | F174: Komplexní vyzkoušení kontrola - kontrola technického zařízení a kompletnosti technologických dodávek individuální vyzkoušení - zkouška strojů a zařízení, prověření funkce komplexní vyzkoušení - prověření technologického zařízení před zahájením zkušebn | G174: kpl. | H174: 1 | J174: =ROUND(I174*H174,2) -> 0 | N174: základní | P174: =O174*H174 -> 0 | Q174: 0 | R174: =Q174*H174 -> 0 | S174: 0 | T174: =S174*H174 -> 0 | AR174: 1024 | AT174: K | AU174: 2 | AY174: ROZPOCET | BE174: =IF(N174="základní",J174,0) -> 0 | BF174: =IF(N174="snížená",J174,0) -> 0 | BG174: =IF(N174="zákl. přenesená",J174,0) -> 0 | BH174: =IF(N174="sníž. přenesená",J174,0) -> 0 | BI174: =IF(N174="nulová",J174,0) -> 0 | BJ174: 1 | BK174: =ROUND(I174*H174,2) -> 0 | BL174: 1024 | BM174: 80

Sheet D.10.2 DPS 01.2 - Elektro...
AT2: {544e72c0-4b9c-4bbf-8ce5-397c1051c87c}
AT3: 2
D4: KRYCÍ LIST SOUPISU PRACÍ | M4: v --- níže se nacházejí doplnkové a pomocné údaje k sestavám --- v | AT4: False
D6: Stavba:
E7: ='Rekapitulace stavby'!K6 -> Našiměřice - Splašková kanalizace - ÚRS I/2026-úprava po připomínkách uchazečů
D8: Objekt:
E9: D.10 PS 01 - Čerpací stanice KČS 01 Našiměřice
D10: Soupis:
E11: D.10.2 DPS 01.2 - Elektrotechnologická část a přenos dat
D13: KSO: | I13: CC-CZ:
D14: Místo: | F14: Našiměřice | I14: Datum: | J14: ='Rekapitulace stavby'!AN8 -> 19. 6. 2026
D16: Zadavatel: | I16: IČ: | J16: =IF('Rekapitulace stavby'!AN10="","",'Rekapitulace stavby'!AN10)
E17: =IF('Rekapitulace stavby'!E11="","",'Rekapitulace stavby'!E11) | I17: DIČ: | J17: =IF('Rekapitulace stavby'!AN11="","",'Rekapitulace stavby'!AN11)
D19: Uchazeč: | I19: IČ: | J19: ='Rekapitulace stavby'!AN13 -> Vyplň údaj
E20: ='Rekapitulace stavby'!E14 -> Vyplň údaj | I20: DIČ: | J20: ='Rekapitulace stavby'!AN14 -> Vyplň údaj
D22: Projektant: | I22: IČ: | J22: =IF('Rekapitulace stavby'!AN16="","",'Rekapitulace stavby'!AN16)
E23: =IF('Rekapitulace stavby'!E17="","",'Rekapitulace stavby'!E17) | I23: DIČ: | J23: =IF('Rekapitulace stavby'!AN17="","",'Rekapitulace stavby'!AN17)
D25: Zpracovatel: | I25: IČ: | J25: =IF('Rekapitulace stavby'!AN19="","",'Rekapitulace stavby'!AN19)
E26: =IF('Rekapitulace stavby'!E20="","",'Rekapitulace stavby'!E20) | I26: DIČ: | J26: =IF('Rekapitulace stavby'!AN20="","",'Rekapitulace stavby'!AN20)
D28: Poznámka:
D32: Cena bez DPH | J32: =ROUND(J127, 2) -> 0
F34: Základ daně | I34: Sazba daně | J34: Výše daně
D35: DPH | E35: základní | F35: =ROUND((SUM(BE127:BE226)), 2) -> 0 | I35: 0.21 | J35: =ROUND(((SUM(BE127:BE226))*I35), 2) -> 0
E36: snížená | F36: =ROUND((SUM(BF127:BF226)), 2) -> 0 | I36: 0.12 | J36: =ROUND(((SUM(BF127:BF226))*I36), 2) -> 0
E37: zákl. přenesená | F37: =ROUND((SUM(BG127:BG226)), 2) -> 0 | I37: 0.21 | J37: =0 -> 0
E38: sníž. přenesená | F38: =ROUND((SUM(BH127:BH226)), 2) -> 0 | I38: 0.12 | J38: =0 -> 0
E39: nulová | F39: =ROUND((SUM(BI127:BI226)), 2) -> 0 | I39: 0 | J39: =0 -> 0
D41: Cena s DPH | G41: v | H41: CZK | J41: =SUM(J32:J39) -> 0
D50: Projektant | G50: Zpracovatel
D61: Datum a podpis: | F61: Razítko | G61: Datum a podpis: | J61: Razítko
D65: Objednavatel | G65: Uchazeč
D76: Datum a podpis: | F76: Razítko | G76: Datum a podpis: | J76: Razítko
C82: REKAPITULACE ČLENĚNÍ SOUPISU PRACÍ
C84: Stavba:
E85: =E7 -> Našiměřice - Splašková kanalizace - ÚRS I/2026-úprava po připomínkách uchazečů
C86: Objekt:
E87: D.10 PS 01 - Čerpací stanice KČS 01 Našiměřice
C88: Soupis:
E89: =E11 -> D.10.2 DPS 01.2 - Elektrotechnologická část a přenos dat
C91: Místo: | F91: =F14 -> Našiměřice | I91: Datum: | J91: =IF(J14="","",J14) -> 19. 6. 2026
C93: Zadavatel: | F93: =E17 | I93: Projektant: | J93: =E23
C94: Uchazeč: | F94: =IF(E20="","",E20) -> Vyplň údaj | I94: Zpracovatel: | J94: =E26
C96: Kód dílu - Popis | J96: Cena celkem [CZK]
C98: Náklady ze soupisu prací | J98: =J127 -> 0 | AU98: -1
D99: M - Práce a dodávky M | J99: =J128 -> 0
D100: D1 - Rozvaděče a skříně | J100: =J129 -> 0
D101: D2 - Kabeláž a trasy | J101: =J168 -> 0
D102: D3 - Stavební elektroinstalace | J102: =J185 -> 0
D103: D4 - Měření a regulace | J103: =J192 -> 0
D104: D5 - ASŘTP | J104: =J207 -> 0
D105: D6 - Přenosové zařízení | J105: =J224 -> 0
C112: SOUPIS PRACÍ
C114: Stavba:
E115: =E7 -> Našiměřice - Splašková kanalizace - ÚRS I/2026-úprava po připomínkách uchazečů
C116: Objekt:
E117: D.10 PS 01 - Čerpací stanice KČS 01 Našiměřice
C118: Soupis:
E119: =E11 -> D.10.2 DPS 01.2 - Elektrotechnologická část a přenos dat
C121: Místo: | F121: =F14 -> Našiměřice | I121: Datum: | J121: =IF(J14="","",J14) -> 19. 6. 2026
C123: Zadavatel: | F123: =E17 | I123: Projektant: | J123: =E23
C124: Uchazeč: | F124: =IF(E20="","",E20) -> Vyplň údaj | I124: Zpracovatel: | J124: =E26
C126: PČ | D126: Typ | E126: Kód | F126: Popis | G126: MJ | H126: Množství | I126: J.cena [CZK] | J126: Cena celkem [CZK] | K126: Cenová soustava | N126: DPH | O126: J. Nh [h] | P126: Nh celkem [h] | Q126: J. hmotnost [t] | R126: Hmotnost celkem [t] | S126: J. suť [t] | T126: Suť Celkem [t]
C127: Náklady soupisu celkem | J127: =BK127 -> 0 | P127: =P128 -> 0 | R127: =R128 -> 0 | T127: =T128 -> 0 | AT127: D | AU127: -1 | BK127: =BK128 -> 0
D128: D | E128: M | F128: Práce a dodávky M | J128: =BK128 -> 0 | P128: =P129+P168+P185+P192+P207+P224 -> 0 | R128: =R129+R168+R185+R192+R207+R224 -> 0 | T128: =T129+T168+T185+T192+T207+T224 -> 0 | AR128: 3 | AT128: D | AU128: 0 | AY128: ROZPOCET | BK128: =BK129+BK168+BK185+BK192+BK207+BK224 -> 0
D129: D | E129: D1 | F129: Rozvaděče a skříně | J129: =BK129 -> 0 | P129: =SUM(P130:P167) -> 0 | R129: =SUM(R130:R167) -> 0 | T129: =SUM(T130:T167) -> 0 | AR129: 1 | AT129: D | AU129: 1 | AY129: ROZPOCET | BK129: =SUM(BK130:BK167) -> 0
