Workbook

Sheet Check list KPI
A2: Checklist pro kontrolu KPI
A5: Objednatel: Ekonomický ústav AV ČR, v.v.i.,
A6: Adresa: Politických vězňů 936/7, Praha 1
A8: Zhotovitel:
A10: Datum a čas kontroly:
A12: Přítomni za objednatele: | G12: Přítomni za zhotovitele:
A22: Celkové kontrolní skóre KPI
D24: Přízemí | E24: 1. patro | F24: 2. patro | G24: 3. patro | H24: 4. patro | I24: Výtahy | J24: Celkem
A25: Počet možných získaných bodů: | D25: 7 | E25: 7 | F25: 6 | G25: 7 | H25: 7 | I25: 3 | J25: =SUM(D25:I25) -> 37
A26: Počet získaných bodů: | D26: =Přízemí!E12 -> 0 | E26: ='1. patro'!E12 -> 0 | F26: ='2. patro'!E11 -> 0 | G26: ='3. patro'!E12 -> 0 | H26: ='4. patro'!E12 -> 0 | I26: =Výtahy!E8 -> 0 | J26: =SUM(D26:I26) -> 0
A31: Celkové kontrolní skóre KPI za měsíc…….
A34: Datum kontroly | B34: Počet možných bodů | C34: Počet získaných bodů
A40: Celkem | B40: =SUM(B35:B39) -> 0 | C40: =SUM(C35:C39) -> 0
A41: Celkové kontrolní skóre: | C41: =ROUND(C40/B40, 2) -> #DIV/0!

Sheet Přízemí
A2: Přízemí Schebkova paláce
A4: č. položky | B4: Název: | C4: Popis parametru | D4: Počet možných bodů | E4: Počet získaných bodů
A5: 1 | B5: Kancelářské místnosti | C5: Plocha podlah musí být viditelně beze šmouh, skvrn, prachu a pevných částic. Plocha dveří včetně klik, skleněných ploch a zrcadel, stolů, židlí, nábytku a dalšího vybavení musí být beze šmouh, skvrn, ohmatů, souvislých ploch prachových částic a mrtvých živočichů, nelepí. Čalouněný nábytek je celkově bez usazeného prachu, pevných částic a skvrn. V prostorách nejsou pavučiny. | D5: 1
A6: 2 | B6: Výukové a odpočinkové místnosti | C6: Plocha podlah musí být viditelně beze šmouh, skvrn, prachu a pevných částic. Plocha koberců nesmí být s tmavými cestami a pruhy, nesmí se vyskytovat skvrny a viditelné pevné částice. Plocha dveří včetně klik, skleněných ploch, stolů, židlí, nábytku a dalšího vybavení musí být beze šmouh, skvrn, ohmatů, souvislých ploch prachových částic a mrtvých živočichů, nelepí. Čalouněný nábytek je celkově bez usazeného prachu, pevných částic a skvrn. V prostorách nejsou pavučiny. | D6: 1
A7: 3 | B7: Komunikační prostory | C7: Plocha podlah a schodišť musí být viditelně beze šmouh, skvrn, prachu a pevných částic. Plocha koberců a rohoží nesmí být s tmavými cestami a pruhy, nesmí se vyskytovat skvrny a viditelné pevné částice. Plocha dveří včetně klik, skleněných ploch, zábradlí a dalšího vybavení musí být beze šmouh, skvrn, ohmatů, souvislých ploch prachových částic a mrtvých živočichů, nelepí. Čalouněný nábytek je celkově bez usazeného prachu, pevných částic a skvrn. V prostorách nejsou pavučiny. | D7: 1
A8: 4 | B8: Odpadkové koše | C8: Odpadkové koše jsou čisté, bez skvrn i šmouh, nepáchnou, vnitřní části jsou suché a nevykazují známky plísní. Uvnitř jsou nepoškozené čisté sáčky. Naplnění odpovídá periodě úklidu. | D8: 1
A9: 5 | B9: Kuchyně | C9: Kuchyňské linky, skříňky, poličky, dřez, baterie, dveře lednice i spotřebiče jsou bez souvislého prachu, nelepí, jsou bez ohmatů, skvrn a prachových částic. Plocha podlah musí být viditelně beze šmouh, skvrn, prachu a pevných částic. Plocha dveří včetně klik, skleněných ploch a dalšího vybavení musí být beze šmouh, skvrn, ohmatů, souvislých ploch prachových částic a mrtvých živočichů, nelepí. V prostorách nejsou pavučiny. | D9: 1
A10: 6 | B10: Toalety | C10: Plocha podlah musí být viditelně beze šmouh, skvrn, prachu a pevných částic. Umyvadla, dřezy, toaletní mísy, pisoáry, sprchové kouty, obklady a dělící stěny kabinek jsou bez prachu, šmouh, zaschlých okapů, zaschlých kapek, vodního kamene na a u baterií. Zásobníky na ručníky a mýdlo jsou bez prachu (i uvnitř), jsou viditelně beze šmouh a skvrn, nevykazují známky zaschlého vodního kamene. | D10: 1
A11: 7 | B11: Hygienické potřeby | C11: Toaletní papír, skládané papírové utěrky, mýdlo a další hygienické potřeby jsou doplněny v dostatečném počtu. | D11: 1
B12: Celkový počet bodů | D12: =SUM(D5:D11) -> 7 | E12: =SUM(E5:E11) -> 0

Sheet 1. patro
A2: 1. patro Schebkova paláce
A4: č. položky | B4: Název: | C4: Popis parametru | D4: Počet možných bodů | E4: Počet získaných bodů
A5: 1 | B5: Kancelářské místnosti | C5: Plocha podlah musí být viditelně beze šmouh, skvrn, prachu a pevných částic. Plocha koberců nesmí být s tmavými cestami a pruhy, nesmí se vyskytovat skvrny a viditelné pevné částice. Plocha dveří včetně klik, skleněných ploch a zrcadel, stolů, židlí, nábytku a dalšího vybavení musí být beze šmouh, skvrn, ohmatů, souvislých ploch prachových částic a mrtvých živočichů, nelepí. Čalouněný nábytek je celkově bez usazeného prachu, pevných částic a skvrn. V prostorách nejsou pavučiny. | D5: 1
A6: 2 | B6: Výukové a odpočinkové místnosti | C6: Plocha podlah musí být viditelně beze šmouh, skvrn, prachu a pevných částic. Plocha koberců nesmí být s tmavými cestami a pruhy, nesmí se vyskytovat skvrny a viditelné pevné částice. Plocha dveří včetně klik, skleněných ploch, stolů, židlí, nábytku a dalšího vybavení musí být beze šmouh, skvrn, ohmatů, souvislých ploch prachových částic a mrtvých živočichů, nelepí. Čalouněný nábytek je celkově bez usazeného prachu, pevných částic a skvrn. V prostorách nejsou pavučiny. | D6: 1
A7: 3 | B7: Komunikační prostory | C7: Plocha podlah a schodišť musí být viditelně beze šmouh, skvrn, prachu a pevných částic. Plocha koberců a rohoží nesmí být s tmavými cestami a pruhy, nesmí se vyskytovat skvrny a viditelné pevné částice. Plocha dveří včetně klik, skleněných ploch, zábradlí a dalšího vybavení musí být beze šmouh, skvrn, ohmatů, souvislých ploch prachových částic a mrtvých živočichů, nelepí. Čalouněný nábytek je celkově bez usazeného prachu, pevných částic a skvrn. V prostorách nejsou pavučiny. | D7: 1
A8: 4 | B8: Odpadkové koše | C8: Odpadkové koše jsou čisté, bez skvrn i šmouh, nepáchnou, vnitřní části jsou suché a nevykazují známky plísní. Uvnitř jsou nepoškozené čisté sáčky. Naplnění odpovídá periodě úklidu. | D8: 1
A9: 5 | B9: Kuchyně | C9: Kuchyňské linky, skříňky, poličky, dřez, baterie, dveře lednice i spotřebiče jsou bez souvislého prachu, nelepí, jsou bez ohmatů, skvrn a prachových částic. Plocha podlah musí být viditelně beze šmouh, skvrn, prachu a pevných částic. Plocha dveří včetně klik, skleněných ploch a dalšího vybavení musí být beze šmouh, skvrn, ohmatů, souvislých ploch prachových částic a mrtvých živočichů, nelepí. V prostorách nejsou pavučiny. | D9: 1
A10: 6 | B10: Toalety | C10: Plocha podlah musí být viditelně beze šmouh, skvrn, prachu a pevných částic. Umyvadla, dřezy, toaletní mísy, pisoáry, sprchové kouty, obklady a dělící stěny kabinek jsou bez prachu, šmouh, zaschlých okapů, zaschlých kapek, vodního kamene na a u baterií. Zásobníky na ručníky a mýdlo jsou bez prachu (i uvnitř), jsou viditelně beze šmouh a skvrn, nevykazují známky zaschlého vodního kamene. | D10: 1
A11: 7 | B11: Hygienické potřeby | C11: Toaletní papír, skládané papírové utěrky, mýdlo a další hygienické potřeby jsou doplněny v dostatečném počtu. | D11: 1
B12: Celkový počet bodů | D12: =SUM(D5:D11) -> 7 | E12: =SUM(E5:E11) -> 0

Sheet 2. patro
A2: 2. patro Schebkova paláce
A4: č. položky | B4: Název: | C4: Popis parametru | D4: Počet možných bodů | E4: Počet získaných bodů
A5: 1 | B5: Výukové a odpočinkové místnosti | C5: Plocha podlah musí být viditelně beze šmouh, skvrn, prachu a pevných částic. Plocha koberců nesmí být s tmavými cestami a pruhy, nesmí se vyskytovat skvrny a viditelné pevné částice. Plocha dveří včetně klik, skleněných ploch, stolů, židlí, nábytku a dalšího vybavení musí být beze šmouh, skvrn, ohmatů, souvislých ploch prachových částic a mrtvých živočichů, nelepí. Čalouněný nábytek je celkově bez usazeného prachu, pevných částic a skvrn. V prostorách nejsou pavučiny. | D5: 1
A6: 2 | B6: Komunikační prostory | C6: Plocha podlah a schodišť musí být viditelně beze šmouh, skvrn, prachu a pevných částic. Plocha koberců a rohoží nesmí být s tmavými cestami a pruhy, nesmí se vyskytovat skvrny a viditelné pevné částice. Plocha dveří včetně klik, skleněných ploch, zábradlí a dalšího vybavení musí být beze šmouh, skvrn, ohmatů, souvislých ploch prachových částic a mrtvých živočichů, nelepí. Čalouněný nábytek je celkově bez usazeného prachu, pevných částic a skvrn. V prostorách nejsou pavučiny. | D6: 1
A7: 3 | B7: Odpadkové koše | C7: Odpadkové koše jsou čisté, bez skvrn i šmouh, nepáchnou, vnitřní části jsou suché a nevykazují známky plísní. Uvnitř jsou nepoškozené čisté sáčky. Naplnění odpovídá periodě úklidu. | D7: 1
A8: 4 | B8: Kuchyně | C8: Kuchyňské linky, skříňky, poličky, dřez, baterie, dveře lednice i spotřebiče jsou bez souvislého prachu, nelepí, jsou bez ohmatů, skvrn a prachových částic. Plocha podlah musí být viditelně beze šmouh, skvrn, prachu a pevných částic. Plocha dveří včetně klik, skleněných ploch a dalšího vybavení musí být beze šmouh, skvrn, ohmatů, souvislých ploch prachových částic a mrtvých živočichů, nelepí. V prostorách nejsou pavučiny. | D8: 1
A9: 5 | B9: Toalety | C9: Plocha podlah musí být viditelně beze šmouh, skvrn, prachu a pevných částic. Umyvadla, dřezy, toaletní mísy, pisoáry, obklady a dělící stěny kabinek jsou bez prachu, šmouh, zaschlých okapů, zaschlých kapek, vodního kamene na a u baterií. Zásobníky na ručníky a mýdlo jsou bez prachu (i uvnitř), jsou viditelně beze šmouh a skvrn, nevykazují známky zaschlého vodního kamene. | D9: 1
A10: 6 | B10: Hygienické potřeby | C10: Toaletní papír, skládané papírové utěrky, mýdlo a další hygienické potřeby jsou doplněny v dostatečném počtu. | D10: 1
B11: Celkový počet bodů | D11: =SUM(D5:D10) -> 6 | E11: =SUM(E5:E10) -> 0

Sheet 3. patro
A2: 3. patro Schebkova paláce
A4: č. položky | B4: Název: | C4: Popis parametru | D4: Počet možných bodů | E4: Počet získaných bodů
A5: 1 | B5: Kancelářské místnosti | C5: Plocha podlah musí být viditelně beze šmouh, skvrn, prachu a pevných částic. Plocha koberců nesmí být s tmavými cestami a pruhy, nesmí se vyskytovat skvrny a viditelné pevné částice. Plocha dveří včetně klik, skleněných ploch a zrcadel, stolů, židlí, nábytku a dalšího vybavení musí být beze šmouh, skvrn, ohmatů, souvislých ploch prachových částic a mrtvých živočichů, nelepí. Čalouněný nábytek je celkově bez usazeného prachu, pevných částic a skvrn. V prostorách nejsou pavučiny. | D5: 1
A6: 2 | B6: Výukové a odpočinkové místnosti | C6: Plocha podlah musí být viditelně beze šmouh, skvrn, prachu a pevných částic. Plocha koberců nesmí být s tmavými cestami a pruhy, nesmí se vyskytovat skvrny a viditelné pevné částice. Plocha dveří včetně klik, skleněných ploch, stolů, židlí, nábytku a dalšího vybavení musí být beze šmouh, skvrn, ohmatů, souvislých ploch prachových částic a mrtvých živočichů, nelepí. Čalouněný nábytek je celkově bez usazeného prachu, pevných částic a skvrn. V prostorách nejsou pavučiny. | D6: 1
A7: 3 | B7: Komunikační prostory | C7: Plocha podlah a schodišť musí být viditelně beze šmouh, skvrn, prachu a pevných částic. Plocha koberců a rohoží nesmí být s tmavými cestami a pruhy, nesmí se vyskytovat skvrny a viditelné pevné částice. Plocha dveří včetně klik, skleněných ploch, zábradlí a dalšího vybavení musí být beze šmouh, skvrn, ohmatů, souvislých ploch prachových částic a mrtvých živočichů, nelepí. Čalouněný nábytek je celkově bez usazeného prachu, pevných částic a skvrn. V prostorách nejsou pavučiny. | D7: 1
A8: 4 | B8: Odpadkové koše | C8: Odpadkové koše jsou čisté, bez skvrn i šmouh, nepáchnou, vnitřní části jsou suché a nevykazují známky plísní. Uvnitř jsou nepoškozené čisté sáčky. Naplnění odpovídá periodě úklidu. | D8: 1
A9: 5 | B9: Kuchyně | C9: Kuchyňské linky, skříňky, poličky, dřez, baterie, dveře lednice i spotřebiče jsou bez souvislého prachu, nelepí, jsou bez ohmatů, skvrn a prachových částic. Plocha podlah musí být viditelně beze šmouh, skvrn, prachu a pevných částic. Plocha dveří včetně klik, skleněných ploch a dalšího vybavení musí být beze šmouh, skvrn, ohmatů, souvislých ploch prachových částic a mrtvých živočichů, nelepí. V prostorách nejsou pavučiny. | D9: 1
A10: 6 | B10: Toalety | C10: Plocha podlah musí být viditelně beze šmouh, skvrn, prachu a pevných částic. Umyvadla, dřezy, toaletní mísy, pisoáry, obklady a dělící stěny kabinek jsou bez prachu, šmouh, zaschlých okapů, zaschlých kapek, vodního kamene na a u baterií. Zásobníky na ručníky a mýdlo jsou bez prachu (i uvnitř), jsou viditelně beze šmouh a skvrn, nevykazují známky zaschlého vodního kamene. | D10: 1
A11: 7 | B11: Hygienické potřeby | C11: Toaletní papír, skládané papírové utěrky, mýdlo a další hygienické potřeby jsou doplněny v dostatečném počtu. | D11: 1
B12: Celkový počet bodů | D12: =SUM(D5:D11) -> 7 | E12: =SUM(E5:E11) -> 0

Sheet 4. patro
A2: 4. patro Schebkova paláce
A4: č. položky | B4: Název: | C4: Popis parametru | D4: Počet možných bodů | E4: Počet získaných bodů
A5: 1 | B5: Kancelářské místnosti | C5: Plocha podlah musí být viditelně beze šmouh, skvrn, prachu a pevných částic. Plocha koberců nesmí být s tmavými cestami a pruhy, nesmí se vyskytovat skvrny a viditelné pevné částice. Plocha dveří včetně klik, skleněných ploch a zrcadel, stolů, židlí, nábytku a dalšího vybavení musí být beze šmouh, skvrn, ohmatů, souvislých ploch prachových částic a mrtvých živočichů, nelepí. Čalouněný nábytek je celkově bez usazeného prachu, pevných částic a skvrn. V prostorách nejsou pavučiny. | D5: 1
A6: 2 | B6: Výukové a odpočinkové místnosti | C6: Plocha podlah musí být viditelně beze šmouh, skvrn, prachu a pevných částic. Plocha koberců nesmí být s tmavými cestami a pruhy, nesmí se vyskytovat skvrny a viditelné pevné částice. Plocha dveří včetně klik, skleněných ploch, stolů, židlí, nábytku a dalšího vybavení musí být beze šmouh, skvrn, ohmatů, souvislých ploch prachových částic a mrtvých živočichů, nelepí. Čalouněný nábytek je celkově bez usazeného prachu, pevných částic a skvrn. V prostorách nejsou pavučiny. | D6: 1
A7: 3 | B7: Komunikační prostory | C7: Plocha podlah a schodišť musí být viditelně beze šmouh, skvrn, prachu a pevných částic. Plocha koberců a rohoží nesmí být s tmavými cestami a pruhy, nesmí se vyskytovat skvrny a viditelné pevné částice. Plocha dveří včetně klik, skleněných ploch, zábradlí a dalšího vybavení musí být beze šmouh, skvrn, ohmatů, souvislých ploch prachových částic a mrtvých živočichů, nelepí. Čalouněný nábytek je celkově bez usazeného prachu, pevných částic a skvrn. V prostorách nejsou pavučiny. | D7: 1
A8: 4 | B8: Odpadkové koše | C8: Odpadkové koše jsou čisté, bez skvrn i šmouh, nepáchnou, vnitřní části jsou suché a nevykazují známky plísní. Uvnitř jsou nepoškozené čisté sáčky. Naplnění odpovídá periodě úklidu. | D8: 1
A9: 5 | B9: Kuchyně | C9: Kuchyňské linky, skříňky, poličky, dřez, baterie, dveře lednice i spotřebiče jsou bez souvislého prachu, nelepí, jsou bez ohmatů, skvrn a prachových částic. Plocha podlah musí být viditelně beze šmouh, skvrn, prachu a pevných částic. Plocha dveří včetně klik, skleněných ploch a dalšího vybavení musí být beze šmouh, skvrn, ohmatů, souvislých ploch prachových částic a mrtvých živočichů, nelepí. Čalouněný nábytek je celkově bez usazeného prachu, pevných částic a skvrn. V prostorách nejsou pavučiny. | D9: 1
A10: 6 | B10: Toalety | C10: Plocha podlah musí být viditelně beze šmouh, skvrn, prachu a pevných částic. Umyvadla, dřezy, toaletní mísy, pisoáry, obklady a dělící stěny kabinek jsou bez prachu, šmouh, zaschlých okapů, zaschlých kapek, vodního kamene na a u baterií. Zásobníky na ručníky a mýdlo jsou bez prachu (i uvnitř), jsou viditelně beze šmouh a skvrn, nevykazují známky zaschlého vodního kamene. | D10: 1
A11: 7 | B11: Hygienické potřeby | C11: Toaletní papír, skládané papírové utěrky, mýdlo a další hygienické potřeby jsou doplněny v dostatečném počtu. | D11: 1
B12: Celkový počet bodů | D12: =SUM(D5:D11) -> 7 | E12: =SUM(E5:E11) -> 0

Sheet Výtahy
A2: Výtahy v Schebkově paláci
A4: č. položky | B4: Název: | C4: Popis parametru | D4: Počet možných bodů | E4: Počet získaných bodů
A5: 1 | B5: Levý osobní výtah | C5: Plocha podlahy musí být viditelně beze šmouh, skvrn, prachu a pevných částic. Na rohoži se nesmí vyskytovat skvrny a viditelné pevné částice. Plocha dveří včetně madla, skleněné plochy, zrcadla a venkovního oplechování musí být beze šmouh, skvrn, ohmatů, souvislých ploch prachových částic a mrtvých živočichů, nelepí. V prostoru nejsou pavučiny. | D5: 1
A6: 2 | B6: Pravý osobní výtah | C6: Plocha podlahy musí být viditelně beze šmouh, skvrn, prachu a pevných částic. Na rohoži se nesmí vyskytovat skvrny a viditelné pevné částice. Plocha dveří včetně madla, skleněné plochy, zrcadla a venkovního oplechování musí být beze šmouh, skvrn, ohmatů, souvislých ploch prachových částic a mrtvých živočichů, nelepí. V prostoru nejsou pavučiny. | D6: 1
A7: 3 | B7: Nákladní výtah | C7: Plocha podlahy musí být viditelně beze šmouh, skvrn, prachu a pevných částic. Plocha dveří včetně madla, skleněné plochy, zrcadla a venkovního oplechování musí být beze šmouh, skvrn, ohmatů, souvislých ploch prachových částic a mrtvých živočichů, nelepí. V prostoru nejsou pavučiny. | D7: 1
B8: Celkový počet bodů | D8: =SUM(D5:D7) -> 3 | E8: =SUM(E5:E7) -> 0
