Workbook

Sheet Rekapitulace stavby
A1: Export Komplet | AZ1: VZ | BA1: 2.0 | BT1: False | BU1: False | BV1: {1b1b2060-55c1-4268-8525-b42adcbb1733}
AR2: >> skryté sloupce << | BS2: 0,01 | BT2: 21
BS3: 0,01 | BT3: 12
D4: REKAPITULACE STAVBY | AS4: v --- níže se nacházejí doplnkové a pomocné údaje k sestavám --- v | BE4: Návod na vyplnění | BS4: 0,001
D5: Kód: | BE5: Měnit lze pouze buňky se žlutým podbarvením!_x000D_ _x000D_ 1) v Rekapitulaci stavby vyplňte údaje o Účastníkovi (přenesou se do ostatních sestav i v jiných listech)_x000D_ _x000D_ 2) na vybraných listech vyplňte v sestavě Soupis prací ceny u položek | BS5: 0,01
D6: Stavba: | K6: Přístavba přístřešku pro sněhovou rolbu | BS6: 0,01
D7: KSO: | AK7: CC-CZ: | BS7: 0,01
D8: Místo: | K8: par.č. 1572/1, st. 357, k.ú. Filipova Huť | AK8: Datum: | BS8: 0,01
BS9: 0,01
D10: Zadavatel: | AK10: IČ: | AN10: 00573418 | BS10: 0,01
E11: Obec Modrava | AK11: DIČ: | AN11: CZ00573418 | BS11: 0,01
BS12: 0,01
D13: Účastník: | AK13: IČ: | AN13: Vyplň údaj | BS13: 0,01
E14: Vyplň údaj | AK14: DIČ: | AN14: Vyplň údaj | BS14: 0,01
BS15: False
D16: Projektant: | AK16: IČ: | AN16: 05502683 | BS16: False
E17: Agin s.r.o., Ing. Dušan Říha, aut. ing. | AK17: DIČ: | AN17: CZ05502683 | BS17: True
BS18: 0,01
D19: Zpracovatel: | AK19: IČ: | BS19: 0,01
E20: Petr Lojík | AK20: DIČ: | BS20: True
D22: Poznámka:
E23: Soupis prací je sestaven s využitím Cenové soustavy ÚRS. Položky, které pochází z této cenové soustavy, jsou ve sloupci 'Cenová soustava' označeny popisem 'CS ÚRS' a úrovní příslušného kalendářního pololetí. Veškeré další informace vymezující popis a podmínky použití těchto položek z Cenové soustavy, které nejsou uvedeny přímo v soupisu prací, jsou neomezeně dálkově k dispozici na webu podminky.urs.cz.
D26: Cena bez DPH | AK26: =ROUND(AG54,2) -> 0
L28: Sazba daně | W28: Základ daně | AK28: Výše daně
D29: DPH | F29: základní | L29: 0.21 | W29: =ROUND(AZ54, 2) -> 0 | AK29: =ROUND(AV54, 2) -> 0
F30: snížená | L30: 0.12 | W30: =ROUND(BA54, 2) -> 0 | AK30: =ROUND(AW54, 2) -> 0
F31: zákl. přenesená | L31: 0.21 | W31: =ROUND(BB54, 2) -> 0 | AK31: 0
F32: sníž. přenesená | L32: 0.12 | W32: =ROUND(BC54, 2) -> 0 | AK32: 0
F33: nulová | L33: 0 | W33: =ROUND(BD54, 2) -> 0 | AK33: 0
D35: Cena s DPH | T35: v | X35: CZK | AK35: =SUM(AK26:AK33) -> 0
C42: REKAPITULACE OBJEKTŮ STAVBY A SOUPISŮ PRACÍ
C44: Kód: | L44: =K5 -> 0
C45: Stavba: | L45: =K6 -> Přístavba přístřešku pro sněhovou rolbu
C47: Místo: | L47: =IF(K8="","",K8) -> par.č. 1572/1, st. 357, k.ú. Filipova Huť | AI47: Datum: | AM47: =IF(AN8= "","",AN8)
C49: Zadavatel: | L49: =IF(E11= "","",E11) -> Obec Modrava | AI49: Projektant: | AM49: =IF(E17="","",E17) -> Agin s.r.o., Ing. Dušan Říha, aut. ing. | AS49: Informatívní údaje z listů zakázek
C50: Účastník: | L50: =IF(E14= "Vyplň údaj","",E14) | AI50: Zpracovatel: | AM50: =IF(E20="","",E20) -> Petr Lojík
C52: Kód | I52: Popis | AG52: Cena bez DPH [CZK] | AN52: Cena s DPH [CZK] | AQ52: Typ | AS52: z toho Ostat._x000D_ náklady [CZK] | AT52: DPH [CZK] | AU52: Normohodiny [h] | AV52: DPH základní [CZK] | AW52: DPH snížená [CZK] | AX52: DPH základní přenesená_x000D_ [CZK] | AY52: DPH snížená přenesená_x000D_ [CZK] | AZ52: Základna_x000D_ DPH základní | BA52: Základna_x000D_ DPH snížená | BB52: Základna_x000D_ DPH zákl. přenesená | BC52: Základna_x000D_ DPH sníž. přenesená | BD52: Základna_x000D_ DPH nulová
C54: Náklady stavby celkem | AG54: =ROUND(AG55,2) -> 0 | AN54: =SUM(AG54,AT54) -> 0 | AS54: =ROUND(AS55,2) -> 0 | AT54: =ROUND(SUM(AV54:AW54),2) -> 0 | AU54: =ROUND(AU55,5) -> 0 | AV54: =ROUND(AZ54*L29,2) -> 0 | AW54: =ROUND(BA54*L30,2) -> 0 | AX54: =ROUND(BB54*L29,2) -> 0 | AY54: =ROUND(BC54*L30,2) -> 0 | AZ54: =ROUND(AZ55,2) -> 0 | BA54: =ROUND(BA55,2) -> 0 | BB54: =ROUND(BB55,2) -> 0 | BC54: =ROUND(BC55,2) -> 0 | BD54: =ROUND(BD55,2) -> 0 | BS54: D | BT54: 0 | BU54: ###NOIMPORT### | BV54: IMPORT | BW54: {1b1b2060-55c1-4268-8525-b42adcbb1733} | BX54: {00000000-0000-0000-0000-000000000000}
A55: / | D55: 01 | J55: Objekt přístavby | AG55: ='01 - Objekt přístavby'!J30 -> 0 | AN55: =SUM(AG55,AT55) -> 0 | AQ55: STA | AS55: 0 | AT55: =ROUND(SUM(AV55:AW55),2) -> 0 | AU55: ='01 - Objekt přístavby'!P103 -> 0 | AV55: ='01 - Objekt přístavby'!J33 -> 0 | AW55: ='01 - Objekt přístavby'!J34 -> 0 | AX55: ='01 - Objekt přístavby'!J35 -> 0 | AY55: ='01 - Objekt přístavby'!J36 -> 0 | AZ55: ='01 - Objekt přístavby'!F33 -> 0 | BA55: ='01 - Objekt přístavby'!F34 -> 0 | BB55: ='01 - Objekt přístavby'!F35 -> 0 | BC55: ='01 - Objekt přístavby'!F36 -> 0 | BD55: ='01 - Objekt přístavby'!F37 -> 0 | BT55: 1 | BV55: IMPORT | BW55: {14cc905c-420d-40e6-887c-77ed431c5c4a} | BX55: {1b1b2060-55c1-4268-8525-b42adcbb1733} | CM55: 2

Sheet 01 - Objekt přístavby
L2: >> skryté sloupce << | AT2: {14cc905c-420d-40e6-887c-77ed431c5c4a}
AT3: 2
D4: KRYCÍ LIST SOUPISU PRACÍ | M4: v --- níže se nacházejí doplnkové a pomocné údaje k sestavám --- v | AT4: False
D6: Stavba:
E7: ='Rekapitulace stavby'!K6 -> Přístavba přístřešku pro sněhovou rolbu
D8: Objekt:
E9: 01 - Objekt přístavby
D11: KSO: | I11: CC-CZ:
D12: Místo: | F12: par.č. 1572/1, st. 357, k.ú. Filipova Huť | I12: Datum: | J12: ='Rekapitulace stavby'!AN8 -> 0
D14: Zadavatel: | I14: IČ: | J14: 00573418
E15: Obec Modrava | I15: DIČ: | J15: CZ00573418
D17: Účastník: | I17: IČ: | J17: ='Rekapitulace stavby'!AN13 -> Vyplň údaj
E18: ='Rekapitulace stavby'!E14 -> Vyplň údaj | I18: DIČ: | J18: ='Rekapitulace stavby'!AN14 -> Vyplň údaj
D20: Projektant: | I20: IČ: | J20: 05502683
E21: Agin s.r.o., Ing. Dušan Říha, aut. ing. | I21: DIČ: | J21: CZ05502683
D23: Zpracovatel: | I23: IČ:
E24: Petr Lojík | I24: DIČ:
D26: Poznámka:
E27: Soupis prací je sestaven s využitím Cenové soustavy ÚRS. Položky, které pochází z této cenové soustavy, jsou ve sloupci 'Cenová soustava' označeny popisem 'CS ÚRS' a úrovní příslušného kalendářního pololetí. Veškeré další informace vymezující popis a podmínky použití těchto položek z Cenové soustavy, které nejsou uvedeny přímo v soupisu prací, jsou neomezeně dálkově k dispozici na webu podminky.urs.cz.
D30: Cena bez DPH | J30: =ROUND(J103, 2) -> 0
F32: Základ daně | I32: Sazba daně | J32: Výše daně
D33: DPH | E33: základní | F33: =ROUND((SUM(BE103:BE906)), 2) -> 0 | I33: 0.21 | J33: =ROUND(((SUM(BE103:BE906))*I33), 2) -> 0
E34: snížená | F34: =ROUND((SUM(BF103:BF906)), 2) -> 0 | I34: 0.12 | J34: =ROUND(((SUM(BF103:BF906))*I34), 2) -> 0
E35: zákl. přenesená | F35: =ROUND((SUM(BG103:BG906)), 2) -> 0 | I35: 0.21 | J35: =0 -> 0
E36: sníž. přenesená | F36: =ROUND((SUM(BH103:BH906)), 2) -> 0 | I36: 0.12 | J36: =0 -> 0
E37: nulová | F37: =ROUND((SUM(BI103:BI906)), 2) -> 0 | I37: 0 | J37: =0 -> 0
D39: Cena s DPH | G39: v | H39: CZK | J39: =SUM(J30:J37) -> 0
C45: REKAPITULACE ČLENĚNÍ SOUPISU PRACÍ
C47: Stavba:
E48: =E7 -> Přístavba přístřešku pro sněhovou rolbu
C49: Objekt:
E50: =E9 -> 01 - Objekt přístavby
C52: Místo: | F52: =F12 -> par.č. 1572/1, st. 357, k.ú. Filipova Huť | I52: Datum: | J52: =IF(J12="","",J12) -> 0
C54: Zadavatel: | F54: =E15 -> Obec Modrava | I54: Projektant: | J54: =E21 -> Agin s.r.o., Ing. Dušan Říha, aut. ing.
C55: Účastník: | F55: =IF(E18="","",E18) -> Vyplň údaj | I55: Zpracovatel: | J55: =E24 -> Petr Lojík
C57: Kód dílu - Popis | J57: Cena celkem [CZK]
C59: Náklady stavby celkem | J59: =J103 -> 0 | AU59: -1
D60: HSV - Práce a dodávky HSV | J60: =J104 -> 0
D61: 1 - Zemní práce | J61: =J105 -> 0
D62: 2 - Zakládání | J62: =J187 -> 0
D63: 3 - Svislé a kompletní konstrukce | J63: =J223 -> 0
D64: 4 - Vodorovné konstrukce | J64: =J239 -> 0
D65: 5 - Komunikace pozemní | J65: =J255 -> 0
D66: 6 - Úpravy povrchů, podlahy a osazování výplní | J66: =J272 -> 0
D67: 9 - Ostatní konstrukce a práce, bourání | J67: =J331 -> 0
D68: 93 - Dokončovací konstrukce a práce inženýrských staveb | J68: =J361 -> 0
D69: 94 - Lešení a stavební výtahy | J69: =J369 -> 0
D70: 997 - Doprava suti a vybouraných hmot | J70: =J387 -> 0
D71: 998 - Přesun hmot | J71: =J402 -> 0
D72: PSV - Práce a dodávky PSV | J72: =J406 -> 0
D73: 711 - Izolace proti vodě, vlhkosti a plynům | J73: =J407 -> 0
D74: 762 - Konstrukce tesařské | J74: =J449 -> 0
D75: 764 - Konstrukce klempířské | J75: =J641 -> 0
D76: 765 - Krytina skládaná | J76: =J785 -> 0
D77: 766 - Konstrukce truhlářské | J77: =J826 -> 0
D78: 783 - Dokončovací práce - nátěry | J78: =J868 -> 0
D79: 784 - Dokončovací práce - malby a tapety | J79: =J879 -> 0
D80: VRN - Vedlejší rozpočtové náklady | J80: =J889 -> 0
D81: VRN1 - Průzkumné, zeměměřičské a projektové práce | J81: =J890 -> 0
D82: VRN2 - Příprava staveniště | J82: =J900 -> 0
D83: VRN3 - Zařízení staveniště | J83: =J904 -> 0
C90: SOUPIS PRACÍ
C92: Stavba:
E93: =E7 -> Přístavba přístřešku pro sněhovou rolbu
C94: Objekt:
E95: =E9 -> 01 - Objekt přístavby
C97: Místo: | F97: =F12 -> par.č. 1572/1, st. 357, k.ú. Filipova Huť | I97: Datum: | J97: =IF(J12="","",J12) -> 0
C99: Zadavatel: | F99: =E15 -> Obec Modrava | I99: Projektant: | J99: =E21 -> Agin s.r.o., Ing. Dušan Říha, aut. ing.
C100: Účastník: | F100: =IF(E18="","",E18) -> Vyplň údaj | I100: Zpracovatel: | J100: =E24 -> Petr Lojík
C102: PČ | D102: Typ | E102: Kód | F102: Popis | G102: MJ | H102: Množství | I102: J.cena [CZK] | J102: Cena celkem [CZK] | K102: Cenová soustava | N102: DPH | O102: J. Nh [h] | P102: Nh celkem [h] | Q102: J. hmotnost [t] | R102: Hmotnost celkem [t] | S102: J. suť [t] | T102: Suť Celkem [t]
C103: Náklady soupisu celkem | J103: =BK103 -> 0 | P103: =P104+P406+P889 -> 0 | R103: =R104+R406+R889 -> 250.76528 | T103: =T104+T406+T889 -> 0.5798276 | AT103: D | AU103: -1 | BK103: =BK104+BK406+BK889 -> 0
D104: D | E104: HSV | F104: Práce a dodávky HSV | J104: =BK104 -> 0 | P104: =P105+P187+P223+P239+P255+P272+P331+P361+P369+P387+P402 -> 0 | R104: =R105+R187+R223+R239+R255+R272+R331+R361+R369+R387+R402 -> 238.6748 | T104: =T105+T187+T223+T239+T255+T272+T331+T361+T369+T387+T402 -> 0.5458596 | AR104: 1 | AT104: D | AU104: 0 | AY104: ROZPOCET | BK104: =BK105+BK187+BK223+BK239+BK255+BK272+BK331+BK361+BK369+BK387+BK402 -> 0
D105: D | E105: 1 | F105: Zemní práce | J105: =BK105 -> 0 | P105: =SUM(P106:P186) -> 0 | R105: =SUM(R106:R186) -> 0.00144 | T105: =SUM(T106:T186) -> 0 | AR105: 1 | AT105: D | AU105: 1 | AY105: ROZPOCET | BK105: =SUM(BK106:BK186) -> 0
C106: 1 | D106: K | E106: 121151105 | F106: Sejmutí ornice plochy do 100 m2 tl vrstvy přes 250 do 300 mm strojně | G106: m2 | H106: 160 | J106: =ROUND(I106*H106,2) -> 0 | N106: základní | P106: =O106*H106 -> 0 | Q106: 0 | R106: =Q106*H106 -> 0 | S106: 0 | T106: =S106*H106 -> 0 | AR106: 4 | AT106: K | AU106: 2 | AY106: ROZPOCET | BE106: =IF(N106="základní",J106,0) -> 0 | BF106: =IF(N106="snížená",J106,0) -> 0 | BG106: =IF(N106="zákl. přenesená",J106,0) -> 0 | BH106: =IF(N106="sníž. přenesená",J106,0) -> 0 | BI106: =IF(N106="nulová",J106,0) -> 0 | BJ106: 1 | BK106: =ROUND(I106*H106,2) -> 0 | BL106: 4 | BM106: 1218748169
D107: PP | F107: Sejmutí ornice strojně při souvislé ploše do 100 m2, tl. vrstvy přes 250 do 300 mm | AT107: PP | AU107: 2
D108: Online PSC | F108: https://podminky.urs.cz/item/CS_URS_2025_01/121151105 | AT108: Online PSC | AU108: 2
D109: VV | F109: 8*20 | H109: 160 | AT109: VV | AU109: 2 | AV109: 2 | AW109: True | AX109: 0 | AY109: ROZPOCET
D110: VV | F110: Součet | H110: 160 | AT110: VV | AU110: 2 | AV110: 4 | AW110: True | AX110: 1 | AY110: ROZPOCET
C111: 2 | D111: K | E111: 131351100 | F111: Hloubení jam nezapažených v hornině třídy těžitelnosti II skupiny 4 objem do 20 m3 strojně | G111: m3 | H111: 26.612 | J111: =ROUND(I111*H111,2) -> 0 | N111: základní | P111: =O111*H111 -> 0 | Q111: 0 | R111: =Q111*H111 -> 0 | S111: 0 | T111: =S111*H111 -> 0 | AR111: 4 | AT111: K | AU111: 2 | AY111: ROZPOCET | BE111: =IF(N111="základní",J111,0) -> 0 | BF111: =IF(N111="snížená",J111,0) -> 0 | BG111: =IF(N111="zákl. přenesená",J111,0) -> 0 | BH111: =IF(N111="sníž. přenesená",J111,0) -> 0 | BI111: =IF(N111="nulová",J111,0) -> 0 | BJ111: 1 | BK111: =ROUND(I111*H111,2) -> 0 | BL111: 4 | BM111: 1837843329
D112: PP | F112: Hloubení nezapažených jam a zářezů strojně s urovnáním dna do předepsaného profilu a spádu v hornině třídy těžitelnosti II skupiny 4 do 20 m3 | AT112: PP | AU112: 2
D113: Online PSC | F113: https://podminky.urs.cz/item/CS_URS_2026_01/131351100 | AT113: Online PSC | AU113: 2
D114: VV | F114: 5,65*15,7*0,3 | H114: 26.612 | AT114: VV | AU114: 2 | AV114: 2 | AW114: True | AX114: 0 | AY114: ROZPOCET
D115: VV | F115: Součet | H115: 26.612 | AT115: VV | AU115: 2 | AV115: 4 | AW115: True | AX115: 1 | AY115: ROZPOCET
C116: 3 | D116: K | E116: 132351102 | F116: Hloubení rýh nezapažených š do 800 mm v hornině třídy těžitelnosti II skupiny 4 objem do 50 m3 strojně | G116: m3 | H116: 20.364 | J116: =ROUND(I116*H116,2) -> 0 | N116: základní | P116: =O116*H116 -> 0 | Q116: 0 | R116: =Q116*H116 -> 0 | S116: 0 | T116: =S116*H116 -> 0 | AR116: 4 | AT116: K | AU116: 2 | AY116: ROZPOCET | BE116: =IF(N116="základní",J116,0) -> 0 | BF116: =IF(N116="snížená",J116,0) -> 0 | BG116: =IF(N116="zákl. přenesená",J116,0) -> 0 | BH116: =IF(N116="sníž. přenesená",J116,0) -> 0 | BI116: =IF(N116="nulová",J116,0) -> 0 | BJ116: 1 | BK116: =ROUND(I116*H116,2) -> 0 | BL116: 4 | BM116: -1063565962
D117: PP | F117: Hloubení nezapažených rýh šířky do 800 mm strojně s urovnáním dna do předepsaného profilu a spádu v hornině třídy těžitelnosti II skupiny 4 přes 20 do 50 m3 | AT117: PP | AU117: 2
D118: Online PSC | F118: https://podminky.urs.cz/item/CS_URS_2026_01/132351102 | AT118: Online PSC | AU118: 2
D119: VV | F119: "přístřešek"1,315*0,6*(6,22+16,84+1,75+1) | H119: 20.364 | AT119: VV | AU119: 2 | AV119: 2 | AW119: True | AX119: 0 | AY119: ROZPOCET
D120: VV | F120: Součet | H120: 20.364 | AT120: VV | AU120: 2 | AV120: 4 | AW120: True | AX120: 1 | AY120: ROZPOCET
C121: 4 | D121: K | E121: 139001101 | F121: Příplatek za ztížení vykopávky v blízkosti podzemního vedení | G121: m3 | H121: 4.734 | J121: =ROUND(I121*H121,2) -> 0 | N121: základní | P121: =O121*H121 -> 0 | Q121: 0 | R121: =Q121*H121 -> 0 | S121: 0 | T121: =S121*H121 -> 0 | AR121: 4 | AT121: K | AU121: 2 | AY121: ROZPOCET | BE121: =IF(N121="základní",J121,0) -> 0 | BF121: =IF(N121="snížená",J121,0) -> 0 | BG121: =IF(N121="zákl. přenesená",J121,0) -> 0 | BH121: =IF(N121="sníž. přenesená",J121,0) -> 0 | BI121: =IF(N121="nulová",J121,0) -> 0 | BJ121: 1 | BK121: =ROUND(I121*H121,2) -> 0 | BL121: 4 | BM121: -1900490148
D122: PP | F122: Příplatek k cenám hloubených vykopávek za ztížení vykopávky v blízkosti podzemního vedení nebo výbušnin pro jakoukoliv třídu horniny | AT122: PP | AU122: 2
D123: Online PSC | F123: https://podminky.urs.cz/item/CS_URS_2026_01/139001101 | AT123: Online PSC | AU123: 2
D124: VV | F124: v místě kanalizace, vodovodu, el. vedení | AT124: VV | AU124: 2 | AV124: 1 | AW124: True | AX124: 0 | AY124: ROZPOCET
D125: VV | F125: 1*0,6*1,315*6 | H125: 4.734 | AT125: VV | AU125: 2 | AV125: 2 | AW125: True | AX125: 0 | AY125: ROZPOCET
D126: VV | F126: Součet | H126: 4.734 | AT126: VV | AU126: 2 | AV126: 4 | AW126: True | AX126: 1 | AY126: ROZPOCET
C127: 5 | D127: K | E127: 162751137 | F127: Vodorovné přemístění přes 9 000 do 10000 m výkopku/sypaniny z horniny třídy těžitelnosti II skupiny 4 a 5 | G127: m3 | H127: 46.976 | J127: =ROUND(I127*H127,2) -> 0 | N127: základní | P127: =O127*H127 -> 0 | Q127: 0 | R127: =Q127*H127 -> 0 | S127: 0 | T127: =S127*H127 -> 0 | AR127: 4 | AT127: K | AU127: 2 | AY127: ROZPOCET | BE127: =IF(N127="základní",J127,0) -> 0 | BF127: =IF(N127="snížená",J127,0) -> 0 | BG127: =IF(N127="zákl. přenesená",J127,0) -> 0 | BH127: =IF(N127="sníž. přenesená",J127,0) -> 0 | BI127: =IF(N127="nulová",J127,0) -> 0 | BJ127: 1 | BK127: =ROUND(I127*H127,2) -> 0 | BL127: 4 | BM127: -1159900140
D128: PP | F128: Vodorovné přemístění výkopku nebo sypaniny po suchu na obvyklém dopravním prostředku, bez naložení výkopku, avšak se složením bez rozhrnutí z horniny třídy těžitelnosti II skupiny 4 a 5 na vzdálenost přes 9 000 do 10 000 m | AT128: PP | AU128: 2
D129: Online PSC | F129: https://podminky.urs.cz/item/CS_URS_2026_01/162751137 | AT129: Online PSC | AU129: 2
D130: VV | F130: 20,364+26,612 | H130: 46.976 | AT130: VV | AU130: 2 | AV130: 2 | AW130: True | AX130: 0 | AY130: ROZPOCET
D131: VV | F131: Součet | H131: 46.976 | AT131: VV | AU131: 2 | AV131: 4 | AW131: True | AX131: 1 | AY131: ROZPOCET
C132: 6 | D132: K | E132: 162751139 | F132: Příplatek k vodorovnému přemístění výkopku/sypaniny z horniny třídy těžitelnosti II skupiny 4 a 5 ZKD 1000 m přes 10000 m | G132: m3 | H132: 1409.28 | J132: =ROUND(I132*H132,2) -> 0 | N132: základní | P132: =O132*H132 -> 0 | Q132: 0 | R132: =Q132*H132 -> 0 | S132: 0 | T132: =S132*H132 -> 0 | AR132: 4 | AT132: K | AU132: 2 | AY132: ROZPOCET | BE132: =IF(N132="základní",J132,0) -> 0 | BF132: =IF(N132="snížená",J132,0) -> 0 | BG132: =IF(N132="zákl. přenesená",J132,0) -> 0 | BH132: =IF(N132="sníž. přenesená",J132,0) -> 0 | BI132: =IF(N132="nulová",J132,0) -> 0 | BJ132: 1 | BK132: =ROUND(I132*H132,2) -> 0 | BL132: 4 | BM132: -2000055482
...

Sheet Pokyny pro vyplnění
C3: Struktura údajů, formát souboru a metodika pro zpracování
C4: Struktura
C6: Soubor je složen ze záložky Rekapitulace stavby a záložek s názvem soupisu prací pro jednotlivé objekty ve formátu XLSX. Každá ze záložek přitom obsahuje
C7: ještě samostatné sestavy vymezené orámovaním a nadpisem sestavy.
C9: Rekapitulace stavby obsahuje sestavu Rekapitulace stavby a Rekapitulace objektů stavby a soupisů prací.
D10: V sestavě Rekapitulace stavby jsou uvedeny informace identifikující předmět veřejné zakázky na stavební práce, KSO, CC-CZ, CZ-CPV, CZ-CPA a rekapitulaci
D11: celkové nabídkové ceny účastníka.
D13: Termínem "učastník" (resp. zhotovitel) se myslí "účastník zadávacího řízení" ve smyslu zákona o zadávání veřejných zakázek.
D15: V sestavě Rekapitulace objektů stavby a soupisů prací je uvedena rekapitulace stavebních objektů, inženýrských objektů, provozních souborů,
D16: vedlejších a ostatních nákladů a ostatních nákladů s rekapitulací nabídkové ceny za jednotlivé soupisy prací. Na základě údaje Typ je možné
D17: identifikovat, zda se jedná o objekt nebo soupis prací pro daný objekt:
E18: STA | F18: Stavební objekt pozemní
E19: ING | F19: Stavební objekt inženýrský
E20: PRO | F20: Provozní soubor
E21: VON | F21: Vedlejší a ostatní náklady
E22: OST | F22: Ostatní
E23: Soupis | F23: Soupis prací pro daný typ objektu
C25: Soupis prací pro jednotlivé objekty obsahuje sestavy Krycí list soupisu prací, Rekapitulace členění soupisu prací, Soupis prací. Za soupis prací může být považován
C26: i objekt stavby v případě, že neobsahuje podřízenou zakázku.
D27: Krycí list soupisu obsahuje rekapitulaci informací o předmětu veřejné zakázky ze sestavy Rekapitulace stavby, informaci o zařazení objektu do KSO,
D28: CC-CZ, CZ-CPV, CZ-CPA a rekapitulaci celkové nabídkové ceny účastníka za aktuální soupis prací.
D30: Rekapitulace členění soupisu prací obsahuje rekapitulaci soupisu prací ve všech úrovních členění soupisu tak, jak byla tato členění použita (např.
D31: stavební díly, funkční díly, případně jiné členění) s rekapitulací nabídkové ceny.
D33: Soupis prací obsahuje položky veškerých stavebních nebo montážních prací, dodávek materiálů a služeb nezbytných pro zhotovení stavebního objektu,
D34: inženýrského objektu, provozního souboru, vedlejších a ostatních nákladů.
D35: Pro položky soupisu prací se zobrazují následující informace:
E36: PČ | G36: Pořadové číslo položky v aktuálním soupisu
E37: TYP | G37: Typ položky: K - konstrukce, M - materiál, PP - plný popis, PSC - poznámka k souboru cen, P - poznámka k položce, VV - výkaz výměr, FIG - rozpad figur
E38: Kód | G38: Kód položky
E39: Popis | G39: Zkrácený popis položky
E40: MJ | G40: Měrná jednotka položky
E41: Množství | G41: Množství v měrné jednotce
E42: J.cena | G42: Jednotková cena položky. Zadaní může obsahovat namísto J.ceny sloupce J.materiál a J.montáž, jejichž součet definuje
G43: J.cenu položky.
E44: Cena celkem | G44: Celková cena položky daná jako součin množství a j.ceny
E45: Cenová soustava | G45: Příslušnost položky do cenové soustavy
D47: Ke každé položce soupisu prací se na samostatných řádcích může zobrazovat:
E48: Plný popis položky
E49: Poznámka k souboru cen a poznámka zadavatele
E50: Výkaz výměr
D51: Pokud je k řádku výkazu výměr evidovaný údaj ve sloupci Kód, jedná se o definovaný odkaz, na který se může odvolávat výkaz výměr z jiné položky.
C52: Metodika pro zpracování
C54: Jednotlivé sestavy jsou v souboru provázány. Editovatelné pole jsou zvýrazněny žlutým podbarvením, ostatní pole neslouží k editaci a nesmí být jakkoliv
C55: modifikovány.
C57: Účastník je pro podání nabídky povinen vyplnit žlutě podbarvená pole:
D58: Pole Účastník v sestavě Rekapitulace stavby - zde účastník vyplní svůj název (název subjektu)
D59: Pole IČ a DIČ v sestavě Rekapitulace stavby - zde účastník vyplní svoje IČ a DIČ
D60: Datum v sestavě Rekapitulace stavby - zde účastník vyplní datum vytvoření nabídky
D61: J.cena = jednotková cena v sestavě Soupis prací o maximálním počtu desetinných míst uvedených v poli
D62: - pokud sestavy soupisů prací obsahují pole J.cena, měla by být všechna tato pole vyplněna nenulovými
D63: Poznámka - nepovinný údaj pro položku soupisu
D65: V případě, že sestavy soupisů prací neobsahují pole J.cena, potom ve všech soupisech prací obsahují pole:
D66: - J.materiál - jednotková cena materiálu
D67: - J.montáž - jednotková cena montáže
D68: Účastník v tomto případě by měl vyplnit všechna pole J.materiál a pole J.montáž nenulovými kladnými číslicemi. V případech, kdy položka
D69: neobsahuje žádný materiál je přípustné, aby pole J.materiál bylo vyplněno nulou. V případech, kdy položka neobsahuje žádnou montáž je přípustné,
D70: aby pole J.montáž bylo vyplněno nulou. Obě pole - J.materiál, J.Montáž u jedné položky by však neměly být vyplněny nulou.
C75: Rekapitulace stavby
C76: Název | F76: Povinný | H76: Popis | I76: Typ | J76: Max. počet
C77: atributu | F77: (A/N) | J77: znaků
C79: Kód | F79: A | H79: Kód stavby | I79: String | J79: 20
C80: Stavba | F80: A | H80: Název stavby | I80: String | J80: 120
C81: Místo | F81: N | H81: Místo stavby | I81: String | J81: 50
C82: Datum | F82: A | H82: Datum vykonaného exportu | I82: Date
C83: KSO | F83: N | H83: Klasifikace stavebního objektu | I83: String | J83: 15
C84: CC-CZ | F84: N | H84: Klasifikace stavbeních děl | I84: String | J84: 15
C85: CZ-CPV | F85: N | H85: Společný slovník pro veřejné zakázky | I85: String | J85: 20
C86: CZ-CPA | F86: N | H86: Klasifikace produkce podle činností | I86: String | J86: 20
C87: Zadavatel | F87: N | H87: Zadavatel zadaní | I87: String | J87: 50
C88: IČ | F88: N | H88: IČ zadavatele zadaní | I88: String | J88: 20
C89: DIČ | F89: N | H89: DIČ zadavatele zadaní | I89: String | J89: 20
C90: Účastník | F90: N | H90: Účastník veřejné zakázky | I90: String | J90: 50
C91: Projektant | F91: N | H91: Projektant | I91: String | J91: 50
C92: Poznámka | F92: N | H92: Poznámka k zadání | I92: String | J92: 255
C93: Sazba DPH | F93: A | H93: Rekapitulace sazeb DPH u položek soupisů | I93: eGSazbaDph
C94: Základna DPH | F94: A | H94: Základna DPH určena součtem celkové ceny z položek soupisů | I94: Double
C95: Hodnota DPH | F95: A | H95: Hodnota DPH | I95: Double
C96: Cena bez DPH | F96: A | H96: Celková cena bez DPH za celou stavbu. Sčítává se ze všech listů. | I96: Double
C97: Cena s DPH | F97: A | H97: Celková cena s DPH za celou stavbu | I97: Double
C102: Rekapitulace objektů stavby a soupisů prací
C103: Název | F103: Povinný | H103: Popis | I103: Typ | J103: Max. počet
C104: atributu | F104: (A/N) | J104: znaků
C106: Kód | F106: A | H106: Přebírá se z Rekapitulace stavby | I106: String | J106: 20
C107: Stavba | F107: A | H107: Přebírá se z Rekapitulace stavby | I107: String | J107: 120
C108: Místo | F108: N | H108: Přebírá se z Rekapitulace stavby | I108: String | J108: 50
C109: Datum | F109: A | H109: Přebírá se z Rekapitulace stavby | I109: Date
C110: Zadavatel | F110: N | H110: Přebírá se z Rekapitulace stavby | I110: String | J110: 50
C111: Projektant | F111: N | H111: Přebírá se z Rekapitulace stavby | I111: String | J111: 50
C112: Účastník | F112: N | H112: Přebírá se z Rekapitulace stavby | I112: String | J112: 50
C113: Kód | F113: A | H113: Kód objektu | I113: String | J113: 20
C114: Objektu, Soupis prací | F114: A | H114: Název objektu | I114: String | J114: 120
C115: Cena bez DPH | F115: A | H115: Cena bez DPH za daný objekt | I115: Double
C116: Cena s DPH | F116: A | H116: Cena spolu s DPH za daný objekt | I116: Double
C117: Typ | F117: A | H117: Typ zakázky | I117: eGTypZakazky
C122: Krycí list soupisu
C123: Název | F123: Povinný | H123: Popis | I123: Typ | J123: Max. počet
C124: atributu | F124: (A/N) | J124: znaků
C126: Stavba | F126: A | H126: Přebírá se z Rekapitulace stavby | I126: String | J126: 120
C127: Objekt | F127: A | H127: Kód a název objektu | I127: String | J127: 20 + 120
C128: Soupis | F128: A | H128: Kód a název soupisu | I128: String | J128: 20 + 120
...
