Workbook

Sheet Rekapitulace stavby
A1: Export Komplet | AZ1: VZ | BA1: 2.0 | BB1: ZAMOK | BT1: False | BU1: False | BV1: {92944027-02ca-41fa-8f00-8a05a9844945}
BS2: 0,01 | BT2: 21
BS3: 0,01 | BT3: 12
D4: REKAPITULACE STAVBY | AS4: v --- níže se nacházejí doplnkové a pomocné údaje k sestavám --- v | BE4: Návod na vyplnění | BS4: 0,001
D5: Kód: | K5: 25_11_01 | BE5: Měnit lze pouze buňky se žlutým podbarvením!_x000D_ _x000D_ 1) v Rekapitulaci stavby vyplňte údaje o Účastníkovi (přenesou se do ostatních sestav i v jiných listech)_x000D_ _x000D_ 2) na vybraných listech vyplňte v sestavě Soupis prací ceny u položek | BS5: 0,01
D6: Stavba: | K6: Zliv - Obnova kanalizace v ulici Jáchymovská | BS6: 0,01
D7: KSO: | AK7: CC-CZ: | BS7: 0,01
D8: Místo: | K8: Zliv | AK8: Datum: | AN8: 25. 9. 2025 | BS8: 0,01
BS9: 0,01
D10: Zadavatel: | AK10: IČ: | AN10: 00245721 | BS10: 0,01
E11: Město Zliv | AK11: DIČ: | AN11: CZ00245721 | BS11: 0,01
BS12: 0,01
D13: Účastník: | AK13: IČ: | AN13: Vyplň údaj | BS13: 0,01
E14: Vyplň údaj | AK14: DIČ: | AN14: Vyplň údaj | BS14: 0,01
BS15: False
D16: Projektant: | AK16: IČ: | AN16: 06577831 | BS16: False
E17: Ing. Jaroslav Žáček Ph.D. | AK17: DIČ: | BS17: True
BS18: 0,01
D19: Zpracovatel: | AK19: IČ: | BS19: 0,01
AK20: DIČ: | BS20: False
D22: Poznámka:
E23: Soupis prací je sestaven s využitím Cenové soustavy ÚRS. Položky, které pochází z této cenové soustavy, jsou ve sloupci 'Cenová soustava' označeny popisem 'CS ÚRS' a úrovní příslušného kalendářního pololetí. Veškeré další informace vymezující popis a podmínky použití těchto položek z Cenové soustavy, které nejsou uvedeny přímo v soupisu prací, jsou neomezeně dálkově k dispozici na webu podminky.urs.cz.
D26: Cena bez DPH | AK26: =ROUND(AG54,2) -> 0
L28: Sazba daně | W28: Základ daně | AK28: Výše daně
D29: DPH | F29: základní | L29: 0.21 | W29: =ROUND(AZ54, 2) -> 0 | AK29: =ROUND(AV54, 2) -> 0
F30: snížená | L30: 0.12 | W30: =ROUND(BA54, 2) -> 0 | AK30: =ROUND(AW54, 2) -> 0
F31: zákl. přenesená | L31: 0.21 | W31: =ROUND(BB54, 2) -> 0 | AK31: 0
F32: sníž. přenesená | L32: 0.12 | W32: =ROUND(BC54, 2) -> 0 | AK32: 0
F33: nulová | L33: 0 | W33: =ROUND(BD54, 2) -> 0 | AK33: 0
D35: Cena s DPH | T35: v | X35: CZK | AK35: =SUM(AK26:AK33) -> 0
C42: REKAPITULACE OBJEKTŮ STAVBY A SOUPISŮ PRACÍ
C44: Kód: | L44: =K5 -> 25_11_01
C45: Stavba: | L45: =K6 -> Zliv - Obnova kanalizace v ulici Jáchymovská
C47: Místo: | L47: =IF(K8="","",K8) -> Zliv | AI47: Datum: | AM47: =IF(AN8= "","",AN8) -> 25. 9. 2025
C49: Zadavatel: | L49: =IF(E11= "","",E11) -> Město Zliv | AI49: Projektant: | AM49: =IF(E17="","",E17) -> Ing. Jaroslav Žáček Ph.D. | AS49: Informatívní údaje z listů zakázek
C50: Účastník: | L50: =IF(E14= "Vyplň údaj","",E14) | AI50: Zpracovatel: | AM50: =IF(E20="","",E20)
C52: Kód | I52: Popis | AG52: Cena bez DPH [CZK] | AN52: Cena s DPH [CZK] | AQ52: Typ | AS52: z toho Ostat._x000D_ náklady [CZK] | AT52: DPH [CZK] | AU52: Normohodiny [h] | AV52: DPH základní [CZK] | AW52: DPH snížená [CZK] | AX52: DPH základní přenesená_x000D_ [CZK] | AY52: DPH snížená přenesená_x000D_ [CZK] | AZ52: Základna_x000D_ DPH základní | BA52: Základna_x000D_ DPH snížená | BB52: Základna_x000D_ DPH zákl. přenesená | BC52: Základna_x000D_ DPH sníž. přenesená | BD52: Základna_x000D_ DPH nulová
C54: Náklady stavby celkem | AG54: =ROUND(AG55+AG56+SUM(AG64:AG66),2) -> 0 | AN54: =SUM(AG54,AT54) -> 0 | AS54: =ROUND(AS55+AS56+SUM(AS64:AS66),2) -> 0 | AT54: =ROUND(SUM(AV54:AW54),2) -> 0 | AU54: =ROUND(AU55+AU56+SUM(AU64:AU66),5) -> 0 | AV54: =ROUND(AZ54*L29,2) -> 0 | AW54: =ROUND(BA54*L30,2) -> 0 | AX54: =ROUND(BB54*L29,2) -> 0 | AY54: =ROUND(BC54*L30,2) -> 0 | AZ54: =ROUND(AZ55+AZ56+SUM(AZ64:AZ66),2) -> 0 | BA54: =ROUND(BA55+BA56+SUM(BA64:BA66),2) -> 0 | BB54: =ROUND(BB55+BB56+SUM(BB64:BB66),2) -> 0 | BC54: =ROUND(BC55+BC56+SUM(BC64:BC66),2) -> 0 | BD54: =ROUND(BD55+BD56+SUM(BD64:BD66),2) -> 0 | BS54: D | BT54: 0 | BU54: ###NOIMPORT### | BV54: IMPORT | BW54: {92944027-02ca-41fa-8f00-8a05a9844945} | BX54: {00000000-0000-0000-0000-000000000000}
A55: / | D55: 25_11_01_00 | J55: Vedlejší rozpočtové náklady | AG55: ='25_11_01_00 - Vedlejší ro...'!J30 -> 0 | AN55: =SUM(AG55,AT55) -> 0 | AQ55: STA | AS55: 0 | AT55: =ROUND(SUM(AV55:AW55),2) -> 0 | AU55: ='25_11_01_00 - Vedlejší ro...'!P84 -> 0 | AV55: ='25_11_01_00 - Vedlejší ro...'!J33 -> 0 | AW55: ='25_11_01_00 - Vedlejší ro...'!J34 -> 0 | AX55: ='25_11_01_00 - Vedlejší ro...'!J35 -> 0 | AY55: ='25_11_01_00 - Vedlejší ro...'!J36 -> 0 | AZ55: ='25_11_01_00 - Vedlejší ro...'!F33 -> 0 | BA55: ='25_11_01_00 - Vedlejší ro...'!F34 -> 0 | BB55: ='25_11_01_00 - Vedlejší ro...'!F35 -> 0 | BC55: ='25_11_01_00 - Vedlejší ro...'!F36 -> 0 | BD55: ='25_11_01_00 - Vedlejší ro...'!F37 -> 0 | BT55: 1 | BV55: IMPORT | BW55: {cbc87207-ca2f-44d3-a9ec-4569177a39c7} | BX55: {92944027-02ca-41fa-8f00-8a05a9844945} | CM55: 2
D56: 25_11_01_01 | J56: SO-01 Obnova kanalizace | AG56: =ROUND(AG57+SUM(AG61:AG63),2) -> 0 | AN56: =SUM(AG56,AT56) -> 0 | AQ56: STA | AS56: =ROUND(AS57+SUM(AS61:AS63),2) -> 0 | AT56: =ROUND(SUM(AV56:AW56),2) -> 0 | AU56: =ROUND(AU57+SUM(AU61:AU63),5) -> 0 | AV56: =ROUND(AZ56*L29,2) -> 0 | AW56: =ROUND(BA56*L30,2) -> 0 | AX56: =ROUND(BB56*L29,2) -> 0 | AY56: =ROUND(BC56*L30,2) -> 0 | AZ56: =ROUND(AZ57+SUM(AZ61:AZ63),2) -> 0 | BA56: =ROUND(BA57+SUM(BA61:BA63),2) -> 0 | BB56: =ROUND(BB57+SUM(BB61:BB63),2) -> 0 | BC56: =ROUND(BC57+SUM(BC61:BC63),2) -> 0 | BD56: =ROUND(BD57+SUM(BD61:BD63),2) -> 0 | BS56: D | BT56: 1 | BU56: ###NOIMPORT### | BV56: IMPORT | BW56: {8345a75b-5213-4df8-af9e-9d40b59043e2} | BX56: {92944027-02ca-41fa-8f00-8a05a9844945} | CM56: 2
...

Sheet 25_11_01_00 - Vedlejší ro...
AT2: {cbc87207-ca2f-44d3-a9ec-4569177a39c7}
AT3: 2
D4: KRYCÍ LIST SOUPISU PRACÍ | M4: v --- níže se nacházejí doplnkové a pomocné údaje k sestavám --- v | AT4: False
D6: Stavba:
E7: ='Rekapitulace stavby'!K6 -> Zliv - Obnova kanalizace v ulici Jáchymovská
D8: Objekt:
E9: 25_11_01_00 - Vedlejší rozpočtové náklady
D11: KSO: | I11: CC-CZ:
D12: Místo: | F12: Zliv | I12: Datum: | J12: ='Rekapitulace stavby'!AN8 -> 25. 9. 2025
D14: Zadavatel: | I14: IČ: | J14: 00245721
E15: Město Zliv | I15: DIČ: | J15: CZ00245721
D17: Účastník: | I17: IČ: | J17: ='Rekapitulace stavby'!AN13 -> Vyplň údaj
E18: ='Rekapitulace stavby'!E14 -> Vyplň údaj | I18: DIČ: | J18: ='Rekapitulace stavby'!AN14 -> Vyplň údaj
D20: Projektant: | I20: IČ: | J20: 06577831
E21: Ing. Jaroslav Žáček Ph.D. | I21: DIČ:
D23: Zpracovatel: | I23: IČ: | J23: =IF('Rekapitulace stavby'!AN19="","",'Rekapitulace stavby'!AN19)
E24: =IF('Rekapitulace stavby'!E20="","",'Rekapitulace stavby'!E20) | I24: DIČ: | J24: =IF('Rekapitulace stavby'!AN20="","",'Rekapitulace stavby'!AN20)
D26: Poznámka:
D30: Cena bez DPH | J30: =ROUND(J84, 2) -> 0
F32: Základ daně | I32: Sazba daně | J32: Výše daně
D33: DPH | E33: základní | F33: =ROUND((SUM(BE84:BE116)), 2) -> 0 | I33: 0.21 | J33: =ROUND(((SUM(BE84:BE116))*I33), 2) -> 0
E34: snížená | F34: =ROUND((SUM(BF84:BF116)), 2) -> 0 | I34: 0.12 | J34: =ROUND(((SUM(BF84:BF116))*I34), 2) -> 0
E35: zákl. přenesená | F35: =ROUND((SUM(BG84:BG116)), 2) -> 0 | I35: 0.21 | J35: =0 -> 0
E36: sníž. přenesená | F36: =ROUND((SUM(BH84:BH116)), 2) -> 0 | I36: 0.12 | J36: =0 -> 0
E37: nulová | F37: =ROUND((SUM(BI84:BI116)), 2) -> 0 | I37: 0 | J37: =0 -> 0
D39: Cena s DPH | G39: v | H39: CZK | J39: =SUM(J30:J37) -> 0
C45: REKAPITULACE ČLENĚNÍ SOUPISU PRACÍ
C47: Stavba:
E48: =E7 -> Zliv - Obnova kanalizace v ulici Jáchymovská
C49: Objekt:
E50: =E9 -> 25_11_01_00 - Vedlejší rozpočtové náklady
C52: Místo: | F52: =F12 -> Zliv | I52: Datum: | J52: =IF(J12="","",J12) -> 25. 9. 2025
C54: Zadavatel: | F54: =E15 -> Město Zliv | I54: Projektant: | J54: =E21 -> Ing. Jaroslav Žáček Ph.D.
C55: Účastník: | F55: =IF(E18="","",E18) -> Vyplň údaj | I55: Zpracovatel: | J55: =E24
C57: Kód dílu - Popis | J57: Cena celkem [CZK]
C59: Náklady stavby celkem | J59: =J84 -> 0 | AU59: -1
D60: VRN - Vedlejší rozpočtové náklady | J60: =J85 -> 0
D61: VRN1 - Průzkumné, geodetické a projektové práce | J61: =J86 -> 0
D62: VRN3 - Zařízení staveniště | J62: =J97 -> 0
D63: VRN4 - Inženýrská činnost | J63: =J100 -> 0
...

Sheet 25_11_01_01.1.1 - Jednotn...
AT2: {1a78c0d7-f267-4b08-8ee5-8d64c6ad5dc2}
AT3: 2
D4: KRYCÍ LIST SOUPISU PRACÍ | M4: v --- níže se nacházejí doplnkové a pomocné údaje k sestavám --- v | AT4: False
D6: Stavba:
E7: ='Rekapitulace stavby'!K6 -> Zliv - Obnova kanalizace v ulici Jáchymovská
D8: Objekt:
E9: 25_11_01_01 - SO-01 Obnova kanalizace
D10: Soupis:
E11: 25_11_01_01.1 - SO-01.1 Jednotná kanalizace Tyršova - Jáchymovská
D12: Úroveň 3:
E13: 25_11_01_01.1.1 - Jednotná kanalizace - etapa I. - Tyršova
D15: KSO: | I15: CC-CZ:
D16: Místo: | F16: Zliv | I16: Datum: | J16: ='Rekapitulace stavby'!AN8 -> 25. 9. 2025
D18: Zadavatel: | I18: IČ: | J18: 00245721
E19: Město Zliv | I19: DIČ: | J19: CZ00245721
D21: Účastník: | I21: IČ: | J21: ='Rekapitulace stavby'!AN13 -> Vyplň údaj
E22: ='Rekapitulace stavby'!E14 -> Vyplň údaj | I22: DIČ: | J22: ='Rekapitulace stavby'!AN14 -> Vyplň údaj
D24: Projektant: | I24: IČ: | J24: 06577831
E25: Ing. Jaroslav Žáček Ph.D. | I25: DIČ:
D27: Zpracovatel: | I27: IČ: | J27: =IF('Rekapitulace stavby'!AN19="","",'Rekapitulace stavby'!AN19)
E28: =IF('Rekapitulace stavby'!E20="","",'Rekapitulace stavby'!E20) | I28: DIČ: | J28: =IF('Rekapitulace stavby'!AN20="","",'Rekapitulace stavby'!AN20)
D30: Poznámka:
D34: Cena bez DPH | J34: =ROUND(J101, 2) -> 0
F36: Základ daně | I36: Sazba daně | J36: Výše daně
D37: DPH | E37: základní | F37: =ROUND((SUM(BE101:BE563)), 2) -> 0 | I37: 0.21 | J37: =ROUND(((SUM(BE101:BE563))*I37), 2) -> 0
E38: snížená | F38: =ROUND((SUM(BF101:BF563)), 2) -> 0 | I38: 0.12 | J38: =ROUND(((SUM(BF101:BF563))*I38), 2) -> 0
E39: zákl. přenesená | F39: =ROUND((SUM(BG101:BG563)), 2) -> 0 | I39: 0.21 | J39: =0 -> 0
E40: sníž. přenesená | F40: =ROUND((SUM(BH101:BH563)), 2) -> 0 | I40: 0.12 | J40: =0 -> 0
E41: nulová | F41: =ROUND((SUM(BI101:BI563)), 2) -> 0 | I41: 0 | J41: =0 -> 0
D43: Cena s DPH | G43: v | H43: CZK | J43: =SUM(J34:J41) -> 0
C49: REKAPITULACE ČLENĚNÍ SOUPISU PRACÍ
C51: Stavba:
E52: =E7 -> Zliv - Obnova kanalizace v ulici Jáchymovská
C53: Objekt:
E54: 25_11_01_01 - SO-01 Obnova kanalizace
C55: Soupis:
E56: 25_11_01_01.1 - SO-01.1 Jednotná kanalizace Tyršova - Jáchymovská
C57: Úroveň 3:
E58: =E13 -> 25_11_01_01.1.1 - Jednotná kanalizace - etapa I. - Tyršova
C60: Místo: | F60: =F16 -> Zliv | I60: Datum: | J60: =IF(J16="","",J16) -> 25. 9. 2025
...

Sheet 25_11_01_01.1.2 - Jednotn...
AT2: {fa9f7ba0-cad8-4875-9661-c165227aded5}
AT3: 2
D4: KRYCÍ LIST SOUPISU PRACÍ | M4: v --- níže se nacházejí doplnkové a pomocné údaje k sestavám --- v | AT4: False
D6: Stavba:
E7: ='Rekapitulace stavby'!K6 -> Zliv - Obnova kanalizace v ulici Jáchymovská
D8: Objekt:
E9: 25_11_01_01 - SO-01 Obnova kanalizace
D10: Soupis:
E11: 25_11_01_01.1 - SO-01.1 Jednotná kanalizace Tyršova - Jáchymovská
D12: Úroveň 3:
E13: 25_11_01_01.1.2 - Jednotná kanalizace - etapa II. - Jáchymovská I
D15: KSO: | I15: CC-CZ:
D16: Místo: | F16: Zliv | I16: Datum: | J16: ='Rekapitulace stavby'!AN8 -> 25. 9. 2025
D18: Zadavatel: | I18: IČ: | J18: 00245721
E19: Město Zliv | I19: DIČ: | J19: CZ00245721
D21: Účastník: | I21: IČ: | J21: ='Rekapitulace stavby'!AN13 -> Vyplň údaj
E22: ='Rekapitulace stavby'!E14 -> Vyplň údaj | I22: DIČ: | J22: ='Rekapitulace stavby'!AN14 -> Vyplň údaj
D24: Projektant: | I24: IČ: | J24: 06577831
E25: Ing. Jaroslav Žáček Ph.D. | I25: DIČ:
D27: Zpracovatel: | I27: IČ: | J27: =IF('Rekapitulace stavby'!AN19="","",'Rekapitulace stavby'!AN19)
E28: =IF('Rekapitulace stavby'!E20="","",'Rekapitulace stavby'!E20) | I28: DIČ: | J28: =IF('Rekapitulace stavby'!AN20="","",'Rekapitulace stavby'!AN20)
D30: Poznámka:
D34: Cena bez DPH | J34: =ROUND(J101, 2) -> 0
F36: Základ daně | I36: Sazba daně | J36: Výše daně
D37: DPH | E37: základní | F37: =ROUND((SUM(BE101:BE519)), 2) -> 0 | I37: 0.21 | J37: =ROUND(((SUM(BE101:BE519))*I37), 2) -> 0
E38: snížená | F38: =ROUND((SUM(BF101:BF519)), 2) -> 0 | I38: 0.12 | J38: =ROUND(((SUM(BF101:BF519))*I38), 2) -> 0
E39: zákl. přenesená | F39: =ROUND((SUM(BG101:BG519)), 2) -> 0 | I39: 0.21 | J39: =0 -> 0
E40: sníž. přenesená | F40: =ROUND((SUM(BH101:BH519)), 2) -> 0 | I40: 0.12 | J40: =0 -> 0
E41: nulová | F41: =ROUND((SUM(BI101:BI519)), 2) -> 0 | I41: 0 | J41: =0 -> 0
D43: Cena s DPH | G43: v | H43: CZK | J43: =SUM(J34:J41) -> 0
C49: REKAPITULACE ČLENĚNÍ SOUPISU PRACÍ
C51: Stavba:
E52: =E7 -> Zliv - Obnova kanalizace v ulici Jáchymovská
C53: Objekt:
E54: 25_11_01_01 - SO-01 Obnova kanalizace
C55: Soupis:
E56: 25_11_01_01.1 - SO-01.1 Jednotná kanalizace Tyršova - Jáchymovská
C57: Úroveň 3:
E58: =E13 -> 25_11_01_01.1.2 - Jednotná kanalizace - etapa II. - Jáchymovská I
C60: Místo: | F60: =F16 -> Zliv | I60: Datum: | J60: =IF(J16="","",J16) -> 25. 9. 2025
...

Sheet 25_11_01_01.1.3 - Jednotn...
AT2: {ab4a68c3-bf01-4772-87f0-b45b81f174c4}
AT3: 2
D4: KRYCÍ LIST SOUPISU PRACÍ | M4: v --- níže se nacházejí doplnkové a pomocné údaje k sestavám --- v | AT4: False
D6: Stavba:
E7: ='Rekapitulace stavby'!K6 -> Zliv - Obnova kanalizace v ulici Jáchymovská
D8: Objekt:
E9: 25_11_01_01 - SO-01 Obnova kanalizace
D10: Soupis:
E11: 25_11_01_01.1 - SO-01.1 Jednotná kanalizace Tyršova - Jáchymovská
D12: Úroveň 3:
E13: 25_11_01_01.1.3 - Jednotná kanalizace - etapa III. - Jáchymovská II
D15: KSO: | I15: CC-CZ:
D16: Místo: | F16: Zliv | I16: Datum: | J16: ='Rekapitulace stavby'!AN8 -> 25. 9. 2025
D18: Zadavatel: | I18: IČ: | J18: 00245721
E19: Město Zliv | I19: DIČ: | J19: CZ00245721
D21: Účastník: | I21: IČ: | J21: ='Rekapitulace stavby'!AN13 -> Vyplň údaj
E22: ='Rekapitulace stavby'!E14 -> Vyplň údaj | I22: DIČ: | J22: ='Rekapitulace stavby'!AN14 -> Vyplň údaj
D24: Projektant: | I24: IČ: | J24: 06577831
E25: Ing. Jaroslav Žáček Ph.D. | I25: DIČ:
D27: Zpracovatel: | I27: IČ: | J27: =IF('Rekapitulace stavby'!AN19="","",'Rekapitulace stavby'!AN19)
E28: =IF('Rekapitulace stavby'!E20="","",'Rekapitulace stavby'!E20) | I28: DIČ: | J28: =IF('Rekapitulace stavby'!AN20="","",'Rekapitulace stavby'!AN20)
D30: Poznámka:
D34: Cena bez DPH | J34: =ROUND(J101, 2) -> 0
F36: Základ daně | I36: Sazba daně | J36: Výše daně
D37: DPH | E37: základní | F37: =ROUND((SUM(BE101:BE454)), 2) -> 0 | I37: 0.21 | J37: =ROUND(((SUM(BE101:BE454))*I37), 2) -> 0
E38: snížená | F38: =ROUND((SUM(BF101:BF454)), 2) -> 0 | I38: 0.12 | J38: =ROUND(((SUM(BF101:BF454))*I38), 2) -> 0
E39: zákl. přenesená | F39: =ROUND((SUM(BG101:BG454)), 2) -> 0 | I39: 0.21 | J39: =0 -> 0
E40: sníž. přenesená | F40: =ROUND((SUM(BH101:BH454)), 2) -> 0 | I40: 0.12 | J40: =0 -> 0
E41: nulová | F41: =ROUND((SUM(BI101:BI454)), 2) -> 0 | I41: 0 | J41: =0 -> 0
D43: Cena s DPH | G43: v | H43: CZK | J43: =SUM(J34:J41) -> 0
C49: REKAPITULACE ČLENĚNÍ SOUPISU PRACÍ
C51: Stavba:
E52: =E7 -> Zliv - Obnova kanalizace v ulici Jáchymovská
C53: Objekt:
E54: 25_11_01_01 - SO-01 Obnova kanalizace
C55: Soupis:
E56: 25_11_01_01.1 - SO-01.1 Jednotná kanalizace Tyršova - Jáchymovská
C57: Úroveň 3:
E58: =E13 -> 25_11_01_01.1.3 - Jednotná kanalizace - etapa III. - Jáchymovská II
C60: Místo: | F60: =F16 -> Zliv | I60: Datum: | J60: =IF(J16="","",J16) -> 25. 9. 2025
...

Sheet 25_11_01_01.2 - SO-01.2 S...
AT2: {6674b6da-94e0-4286-a9a4-a1a6a409866e}
AT3: 2
D4: KRYCÍ LIST SOUPISU PRACÍ | M4: v --- níže se nacházejí doplnkové a pomocné údaje k sestavám --- v | AT4: False
D6: Stavba:
E7: ='Rekapitulace stavby'!K6 -> Zliv - Obnova kanalizace v ulici Jáchymovská
D8: Objekt:
E9: 25_11_01_01 - SO-01 Obnova kanalizace
D10: Soupis:
E11: 25_11_01_01.2 - SO-01.2 Splašková kanalizace
D13: KSO: | I13: CC-CZ:
D14: Místo: | F14: Zliv | I14: Datum: | J14: ='Rekapitulace stavby'!AN8 -> 25. 9. 2025
D16: Zadavatel: | I16: IČ: | J16: 00245721
E17: Město Zliv | I17: DIČ: | J17: CZ00245721
D19: Účastník: | I19: IČ: | J19: ='Rekapitulace stavby'!AN13 -> Vyplň údaj
E20: ='Rekapitulace stavby'!E14 -> Vyplň údaj | I20: DIČ: | J20: ='Rekapitulace stavby'!AN14 -> Vyplň údaj
D22: Projektant: | I22: IČ: | J22: 06577831
E23: Ing. Jaroslav Žáček Ph.D. | I23: DIČ:
D25: Zpracovatel: | I25: IČ: | J25: =IF('Rekapitulace stavby'!AN19="","",'Rekapitulace stavby'!AN19)
E26: =IF('Rekapitulace stavby'!E20="","",'Rekapitulace stavby'!E20) | I26: DIČ: | J26: =IF('Rekapitulace stavby'!AN20="","",'Rekapitulace stavby'!AN20)
D28: Poznámka:
D32: Cena bez DPH | J32: =ROUND(J95, 2) -> 0
F34: Základ daně | I34: Sazba daně | J34: Výše daně
D35: DPH | E35: základní | F35: =ROUND((SUM(BE95:BE397)), 2) -> 0 | I35: 0.21 | J35: =ROUND(((SUM(BE95:BE397))*I35), 2) -> 0
E36: snížená | F36: =ROUND((SUM(BF95:BF397)), 2) -> 0 | I36: 0.12 | J36: =ROUND(((SUM(BF95:BF397))*I36), 2) -> 0
E37: zákl. přenesená | F37: =ROUND((SUM(BG95:BG397)), 2) -> 0 | I37: 0.21 | J37: =0 -> 0
E38: sníž. přenesená | F38: =ROUND((SUM(BH95:BH397)), 2) -> 0 | I38: 0.12 | J38: =0 -> 0
E39: nulová | F39: =ROUND((SUM(BI95:BI397)), 2) -> 0 | I39: 0 | J39: =0 -> 0
D41: Cena s DPH | G41: v | H41: CZK | J41: =SUM(J32:J39) -> 0
C47: REKAPITULACE ČLENĚNÍ SOUPISU PRACÍ
C49: Stavba:
E50: =E7 -> Zliv - Obnova kanalizace v ulici Jáchymovská
C51: Objekt:
E52: 25_11_01_01 - SO-01 Obnova kanalizace
C53: Soupis:
E54: =E11 -> 25_11_01_01.2 - SO-01.2 Splašková kanalizace
C56: Místo: | F56: =F14 -> Zliv | I56: Datum: | J56: =IF(J14="","",J14) -> 25. 9. 2025
C58: Zadavatel: | F58: =E17 -> Město Zliv | I58: Projektant: | J58: =E23 -> Ing. Jaroslav Žáček Ph.D.
C59: Účastník: | F59: =IF(E20="","",E20) -> Vyplň údaj | I59: Zpracovatel: | J59: =E26
C61: Kód dílu - Popis | J61: Cena celkem [CZK]
C63: Náklady stavby celkem | J63: =J95 -> 0 | AU63: -1
...

Sheet 25_11_01_01.3 - SO-01.3 Č...
AT2: {96a1ca5d-3e49-4fab-8639-77cb319f1112}
AT3: 2
D4: KRYCÍ LIST SOUPISU PRACÍ | M4: v --- níže se nacházejí doplnkové a pomocné údaje k sestavám --- v | AT4: False
D6: Stavba:
E7: ='Rekapitulace stavby'!K6 -> Zliv - Obnova kanalizace v ulici Jáchymovská
D8: Objekt:
E9: 25_11_01_01 - SO-01 Obnova kanalizace
D10: Soupis:
E11: 25_11_01_01.3 - SO-01.3 ČS a kanalizační výtlak
D13: KSO: | I13: CC-CZ:
D14: Místo: | F14: Zliv | I14: Datum: | J14: ='Rekapitulace stavby'!AN8 -> 25. 9. 2025
D16: Zadavatel: | I16: IČ: | J16: 00245721
E17: Město Zliv | I17: DIČ: | J17: CZ00245721
D19: Účastník: | I19: IČ: | J19: ='Rekapitulace stavby'!AN13 -> Vyplň údaj
E20: ='Rekapitulace stavby'!E14 -> Vyplň údaj | I20: DIČ: | J20: ='Rekapitulace stavby'!AN14 -> Vyplň údaj
D22: Projektant: | I22: IČ: | J22: 06577831
E23: Ing. Jaroslav Žáček Ph.D. | I23: DIČ:
D25: Zpracovatel: | I25: IČ: | J25: =IF('Rekapitulace stavby'!AN19="","",'Rekapitulace stavby'!AN19)
E26: =IF('Rekapitulace stavby'!E20="","",'Rekapitulace stavby'!E20) | I26: DIČ: | J26: =IF('Rekapitulace stavby'!AN20="","",'Rekapitulace stavby'!AN20)
D28: Poznámka:
D32: Cena bez DPH | J32: =ROUND(J100, 2) -> 0
F34: Základ daně | I34: Sazba daně | J34: Výše daně
D35: DPH | E35: základní | F35: =ROUND((SUM(BE100:BE457)), 2) -> 0 | I35: 0.21 | J35: =ROUND(((SUM(BE100:BE457))*I35), 2) -> 0
E36: snížená | F36: =ROUND((SUM(BF100:BF457)), 2) -> 0 | I36: 0.12 | J36: =ROUND(((SUM(BF100:BF457))*I36), 2) -> 0
E37: zákl. přenesená | F37: =ROUND((SUM(BG100:BG457)), 2) -> 0 | I37: 0.21 | J37: =0 -> 0
E38: sníž. přenesená | F38: =ROUND((SUM(BH100:BH457)), 2) -> 0 | I38: 0.12 | J38: =0 -> 0
E39: nulová | F39: =ROUND((SUM(BI100:BI457)), 2) -> 0 | I39: 0 | J39: =0 -> 0
D41: Cena s DPH | G41: v | H41: CZK | J41: =SUM(J32:J39) -> 0
C47: REKAPITULACE ČLENĚNÍ SOUPISU PRACÍ
C49: Stavba:
E50: =E7 -> Zliv - Obnova kanalizace v ulici Jáchymovská
C51: Objekt:
E52: 25_11_01_01 - SO-01 Obnova kanalizace
C53: Soupis:
E54: =E11 -> 25_11_01_01.3 - SO-01.3 ČS a kanalizační výtlak
C56: Místo: | F56: =F14 -> Zliv | I56: Datum: | J56: =IF(J14="","",J14) -> 25. 9. 2025
C58: Zadavatel: | F58: =E17 -> Město Zliv | I58: Projektant: | J58: =E23 -> Ing. Jaroslav Žáček Ph.D.
C59: Účastník: | F59: =IF(E20="","",E20) -> Vyplň údaj | I59: Zpracovatel: | J59: =E26
C61: Kód dílu - Popis | J61: Cena celkem [CZK]
C63: Náklady stavby celkem | J63: =J100 -> 0 | AU63: -1
...

Sheet 25_11_01_01.4 - SO-01.4 D...
AT2: {d300a780-61bd-4621-aaf2-71abfe86795f}
AT3: 2
D4: KRYCÍ LIST SOUPISU PRACÍ | M4: v --- níže se nacházejí doplnkové a pomocné údaje k sestavám --- v | AT4: False
D6: Stavba:
E7: ='Rekapitulace stavby'!K6 -> Zliv - Obnova kanalizace v ulici Jáchymovská
D8: Objekt:
E9: 25_11_01_01 - SO-01 Obnova kanalizace
D10: Soupis:
E11: 25_11_01_01.4 - SO-01.4 Dešťová kanalizace
D13: KSO: | I13: CC-CZ:
D14: Místo: | F14: Zliv | I14: Datum: | J14: ='Rekapitulace stavby'!AN8 -> 25. 9. 2025
D16: Zadavatel: | I16: IČ: | J16: 00245721
E17: Město Zliv | I17: DIČ: | J17: CZ00245721
D19: Účastník: | I19: IČ: | J19: ='Rekapitulace stavby'!AN13 -> Vyplň údaj
E20: ='Rekapitulace stavby'!E14 -> Vyplň údaj | I20: DIČ: | J20: ='Rekapitulace stavby'!AN14 -> Vyplň údaj
D22: Projektant: | I22: IČ: | J22: 06577831
E23: Ing. Jaroslav Žáček Ph.D. | I23: DIČ:
D25: Zpracovatel: | I25: IČ: | J25: =IF('Rekapitulace stavby'!AN19="","",'Rekapitulace stavby'!AN19)
E26: =IF('Rekapitulace stavby'!E20="","",'Rekapitulace stavby'!E20) | I26: DIČ: | J26: =IF('Rekapitulace stavby'!AN20="","",'Rekapitulace stavby'!AN20)
D28: Poznámka:
D32: Cena bez DPH | J32: =ROUND(J95, 2) -> 0
F34: Základ daně | I34: Sazba daně | J34: Výše daně
D35: DPH | E35: základní | F35: =ROUND((SUM(BE95:BE414)), 2) -> 0 | I35: 0.21 | J35: =ROUND(((SUM(BE95:BE414))*I35), 2) -> 0
E36: snížená | F36: =ROUND((SUM(BF95:BF414)), 2) -> 0 | I36: 0.12 | J36: =ROUND(((SUM(BF95:BF414))*I36), 2) -> 0
E37: zákl. přenesená | F37: =ROUND((SUM(BG95:BG414)), 2) -> 0 | I37: 0.21 | J37: =0 -> 0
E38: sníž. přenesená | F38: =ROUND((SUM(BH95:BH414)), 2) -> 0 | I38: 0.12 | J38: =0 -> 0
E39: nulová | F39: =ROUND((SUM(BI95:BI414)), 2) -> 0 | I39: 0 | J39: =0 -> 0
D41: Cena s DPH | G41: v | H41: CZK | J41: =SUM(J32:J39) -> 0
C47: REKAPITULACE ČLENĚNÍ SOUPISU PRACÍ
C49: Stavba:
E50: =E7 -> Zliv - Obnova kanalizace v ulici Jáchymovská
C51: Objekt:
E52: 25_11_01_01 - SO-01 Obnova kanalizace
C53: Soupis:
E54: =E11 -> 25_11_01_01.4 - SO-01.4 Dešťová kanalizace
C56: Místo: | F56: =F14 -> Zliv | I56: Datum: | J56: =IF(J14="","",J14) -> 25. 9. 2025
C58: Zadavatel: | F58: =E17 -> Město Zliv | I58: Projektant: | J58: =E23 -> Ing. Jaroslav Žáček Ph.D.
C59: Účastník: | F59: =IF(E20="","",E20) -> Vyplň údaj | I59: Zpracovatel: | J59: =E26
C61: Kód dílu - Popis | J61: Cena celkem [CZK]
C63: Náklady stavby celkem | J63: =J95 -> 0 | AU63: -1
...

Sheet 25_11_01_02 - PS-01 Vystr...
AT2: {5d95fb99-ebb4-42b0-93e7-f944070927cc}
AT3: 2
D4: KRYCÍ LIST SOUPISU PRACÍ | M4: v --- níže se nacházejí doplnkové a pomocné údaje k sestavám --- v | AT4: False
D6: Stavba:
E7: ='Rekapitulace stavby'!K6 -> Zliv - Obnova kanalizace v ulici Jáchymovská
D8: Objekt:
E9: 25_11_01_02 - PS-01 Vystrojení čerpací stanice
D11: KSO: | I11: CC-CZ:
D12: Místo: | F12: Zliv | I12: Datum: | J12: ='Rekapitulace stavby'!AN8 -> 25. 9. 2025
D14: Zadavatel: | I14: IČ: | J14: 00245721
E15: Město Zliv | I15: DIČ: | J15: CZ00245721
D17: Účastník: | I17: IČ: | J17: ='Rekapitulace stavby'!AN13 -> Vyplň údaj
E18: ='Rekapitulace stavby'!E14 -> Vyplň údaj | I18: DIČ: | J18: ='Rekapitulace stavby'!AN14 -> Vyplň údaj
D20: Projektant: | I20: IČ: | J20: 06577831
E21: Ing. Jaroslav Žáček Ph.D. | I21: DIČ:
D23: Zpracovatel: | I23: IČ: | J23: =IF('Rekapitulace stavby'!AN19="","",'Rekapitulace stavby'!AN19)
E24: =IF('Rekapitulace stavby'!E20="","",'Rekapitulace stavby'!E20) | I24: DIČ: | J24: =IF('Rekapitulace stavby'!AN20="","",'Rekapitulace stavby'!AN20)
D26: Poznámka:
D30: Cena bez DPH | J30: =ROUND(J80, 2) -> 0
F32: Základ daně | I32: Sazba daně | J32: Výše daně
D33: DPH | E33: základní | F33: =ROUND((SUM(BE80:BE83)), 2) -> 0 | I33: 0.21 | J33: =ROUND(((SUM(BE80:BE83))*I33), 2) -> 0
E34: snížená | F34: =ROUND((SUM(BF80:BF83)), 2) -> 0 | I34: 0.12 | J34: =ROUND(((SUM(BF80:BF83))*I34), 2) -> 0
E35: zákl. přenesená | F35: =ROUND((SUM(BG80:BG83)), 2) -> 0 | I35: 0.21 | J35: =0 -> 0
E36: sníž. přenesená | F36: =ROUND((SUM(BH80:BH83)), 2) -> 0 | I36: 0.12 | J36: =0 -> 0
E37: nulová | F37: =ROUND((SUM(BI80:BI83)), 2) -> 0 | I37: 0 | J37: =0 -> 0
D39: Cena s DPH | G39: v | H39: CZK | J39: =SUM(J30:J37) -> 0
C45: REKAPITULACE ČLENĚNÍ SOUPISU PRACÍ
C47: Stavba:
E48: =E7 -> Zliv - Obnova kanalizace v ulici Jáchymovská
C49: Objekt:
E50: =E9 -> 25_11_01_02 - PS-01 Vystrojení čerpací stanice
C52: Místo: | F52: =F12 -> Zliv | I52: Datum: | J52: =IF(J12="","",J12) -> 25. 9. 2025
C54: Zadavatel: | F54: =E15 -> Město Zliv | I54: Projektant: | J54: =E21 -> Ing. Jaroslav Žáček Ph.D.
C55: Účastník: | F55: =IF(E18="","",E18) -> Vyplň údaj | I55: Zpracovatel: | J55: =E24
C57: Kód dílu - Popis | J57: Cena celkem [CZK]
C59: Náklady stavby celkem | J59: =J80 -> 0 | AU59: -1
D60: M - Práce a dodávky M | J60: =J81 -> 0
C67: SOUPIS PRACÍ
C69: Stavba:
E70: =E7 -> Zliv - Obnova kanalizace v ulici Jáchymovská
...

Sheet PS-01
A1: Poz. | B1: Popis položky | C1: MJ | D1: Množství | E1: Cena / MJ | F1: Celková cena | G1: Výrobce | H1: Typ
E2: Kč | F2: Kč (bez DPH)
A3: PS-01 Čerpací stanice - technologická část strojní
B5: Šedě podbarvená pole vyplnit !
A7: 01. Čerpací stanice | E7: =F7*C7 -> 0
A9: 01.1 | B9: Ponorné kalové čerpadlo v provedení s dvoutyčovým vodícím zařízením s vířivým oběžným kolem s průchodností 65 mm Výkon čerpadla: Q = 2,0 l/s; H = 8 m Motor: P = 1,3 kW; In = 2,8 A; U = 3x400V Medium: splaškové odpadní vody s příměsí písku Příslušenství: stacionární instalační sada s patním kolenem DN 65/65 s dvoutyčovým vodícím zařízením, horním držákem vodicích tyčí, spouštěcí řetěz nerez DIN 1.4301 délky 5 m převěšovací včetně závěsů po 1 m, kotevní a spojovací materiál nerez DIN 1.4301, vyhodnocovací relé vlhkosti ucpávky, ochrana proti chodu na sucho Připojovací rozměry: příruba DN 65 PN 10 Materiálové provedení: těleso čerpadla, tlakové víko, těleso motoru a patní koleno - šedá litina EN-GJL-250, hřídel - chromová ocel 1.4021+QT800, oběžné kolo - otěruvzdorná tvrdá litina EN-GJN-HB555(CR14), těsnění - NBR, dvě mechanické ucpávky SiC/SiC/NBR v tandemovém uspořádání s olejovou nádobkou | C9: kpl | D9: 2 | F9: =E9*D9 -> 0
A10: 01.2 | B10: Příruba plochá přivařovací DN 65 PN 10 Napojované potrubí: Ø 70 mm Materiál: nerez DIN 1.4301 | C10: ks | D10: 11 | F10: =E10*D10 -> 0
A11: 01.3 | B11: Trubka nerezová podélně svařovaná, mořená Ø70x2 mm Materiál: nerez DIN 1.4301 | C11: m | D11: 4 | F11: =E11*D11 -> 0
A12: 01.4 | B12: Zpětná klapka s koulí pro odpadní vodu DN 65 PN 10 Materiál: těleso a víko z tvárné litiny, koule z hliníku povrstvená pryží z NBR, spojovací šrouby nerez, těsnění NBR Povrchová ochrana: těžká protikorozní ochrana vně i uvnitř epoxidový prášek | C12: ks | D12: 2 | F12: =E12*D12 -> 0
A13: 01.5 | B13: Celonerezová axiálně pevná potrubní spojka pro potrubí o vnějším průměru 54 (53 - 55) mm, PN 16, těsnící manžeta EPDM, plášť i šroubení spojky - nerez DIN 1.4404, možnost vyosení 2° Certifikát pro trvalý styk s pitnou vodou | C13: ks | D13: 2 | F13: =E13*D13 -> 0
A14: 01.6 | B14: Nožové uzavírací šoupátko pro odpadní vodu DN 65 PN 10 bezpřírubové Materiál: těleso ze šedé litiny, uzavírací deska z nerez oceli min. 17% Cr, vřeteno z nerez oceli min. 13% Cr, těsnění z NBR, tažná matice z mosazi Povrchová ochrana: povrstvení vně i uvnitř epoxidovým práškem Včetně ručního kola | C14: ks | D14: 2 | F14: =E14*D14 -> 0
A15: 01.7 | B15: Koleno 90° nerezové podélně svařované, mořené Ø 70x2 mm, R = 1,5D Materiál: nerez DIN 1.4301 | C15: ks | D15: 4 | F15: =E15*D15 -> 0
A16: 01.8 | B16: Příruba jištěná proti axiálnímu posunu DN 65 PN 10 pro potrubí PE Ø 75 mm Materiál: příruba a upínací kroužek tvárná litina GGG 400, s epoxidovou ochrannou vrstvou, těsnící kroužek s chlopněmi (EPDM), ploché těsnění EPDM, šrouby A2 | C16: ks | D16: 1 | F16: =E16*D16 -> 0
A17: 01.9 | B17: Trubka nerezová podélně svařovaná, mořená Ø 54x2 mm Materiál: nerez DIN 1.4301 | C17: m | D17: 2 | F17: =E17*D17 -> 0
A18: 01.10 | B18: Koleno 45° nerezové podélně svařované, mořené Ø 54x2 mm, R = 1,5D Materiál: nerez DIN 1.4301 | C18: ks | D18: 2 | F18: =E18*D18 -> 0
A19: 01.11 | B19: Nipl přivařovací DN 50 s vnějším závitem 2" Materiál: nerez DIN 1.4301 | C19: ks | D19: 1 | F19: =E19*D19 -> 0
A20: 01.12 | B20: Kulový kohout DN 2" s vnitřními závity Materiál: mosaz | C20: ks | D20: 1 | F20: =E20*D20 -> 0
... A23: 01.15 | B23: Přenosné zdvihací zařízení (přenosný jeřábek s navijákem s ručním ovládáním) včetně kotevní patky a kotevního materiálu Délka výložného ramene: 800 mm Výška jeřábku: cca 2000 mm Min. nosnost: 150 kg Materiálové provedení: ocel tř.11; žárově zinkovaná. Účel: manipulace s ponornými čerpadly osazenými v čerpací stanice. Přenosné zařízení bude uloženo v prostorách provozovatele, | C23: ks | D23: 1 | F23: =E23*D23 -> 0
A25: 02. Instalační materiál
A27: 02.1 | B27: Označení potrubí - spotřebiště, medium, směr toku, funkce | C27: kpl | D27: 1 | F27: =E27*D27 -> 0
A28: 02.2 | B28: Spojovací materiál přírubových spojů Materiál: kombinace nerez A2/A4 - kompletní sada šroub metrický se šestihrannou hlavou DIN 931/A2, podložka plochá DIN125A/A2, matice šestihranná přesná DIN 934/A4 Při montáži bude používána speciální voduodpudivá pasta proti zadírání | C28: kpl | D28: 1 | F28: =E28*D28 -> 0
A29: 02.3 | B29: Těsnící materiál přírubových spojů - NBR | C29: kpl | D29: 1 | F29: =E29*D29 -> 0
A30: 02.4 | B30: Drobný montážní materiál | C30: kpl | D30: 1 | F30: =E30*D30 -> 0
A31: 02.5 | B31: Bezpečnostní tabulky a ohraničovací žluto-černě šrafovaná páska dle potřeby | C31: kpl | D31: 1 | F31: =E31*D31 -> 0
A32: 02.6 | B32: Zakrytí potrubí netkanou textílií 400 g/m2 včetně upevňovacího mat. - 25 m2 | C32: kpl | D32: 1 | F32: =E32*D32 -> 0
A34: 03. Služby
A36: 03.1 | B36: Montáž nového technologického zařízení | C36: kpl | D36: 1 | F36: =E36*D36 -> 0
A37: 03.2 | B37: Komplexní zkoušky | C37: kpl | D37: 1 | F37: =E37*D37 -> 0
A38: 03.3 | B38: Funkční zkoušky, uvedení zařízení do provozu | C38: kpl | D38: 1 | F38: =E38*D38 -> 0
A39: 03.4 | B39: Očištění ocelového a nerezového potrubí a svarů | C39: kpl | D39: 1 | F39: =E39*D39 -> 0
A40: 03.5 | B40: Moření povrchu a pasivace spojů nerezového potrubí a svarů | C40: kpl | D40: 1 | F40: =E40*D40 -> 0
A41: 03.6 | B41: Zaškolení personálu obsluhy a údržby | C41: kpl | D41: 1 | F41: =E41*D41 -> 0
A42: 03.7 | B42: Projekt skutečného provedení technologie | C42: kpl | D42: 1 | F42: =E42*D42 -> 0
F46: =SUM(F7:F44) -> 0

Sheet 25_11_01_03 - PS-02 Elekt...
AT2: {efc8fdca-d02e-40f7-94f6-e86fca93b522}
AT3: 2
D4: KRYCÍ LIST SOUPISU PRACÍ | M4: v --- níže se nacházejí doplnkové a pomocné údaje k sestavám --- v | AT4: False
D6: Stavba:
E7: ='Rekapitulace stavby'!K6 -> Zliv - Obnova kanalizace v ulici Jáchymovská
D8: Objekt:
E9: 25_11_01_03 - PS-02 Elektroinstalace čerpací stanice
D11: KSO: | I11: CC-CZ:
D12: Místo: | F12: Zliv | I12: Datum: | J12: ='Rekapitulace stavby'!AN8 -> 25. 9. 2025
D14: Zadavatel: | I14: IČ: | J14: 00245721
E15: Město Zliv | I15: DIČ: | J15: CZ00245721
D17: Účastník: | I17: IČ: | J17: ='Rekapitulace stavby'!AN13 -> Vyplň údaj
E18: ='Rekapitulace stavby'!E14 -> Vyplň údaj | I18: DIČ: | J18: ='Rekapitulace stavby'!AN14 -> Vyplň údaj
D20: Projektant: | I20: IČ: | J20: 06577831
E21: Ing. Jaroslav Žáček Ph.D. | I21: DIČ:
D23: Zpracovatel: | I23: IČ: | J23: =IF('Rekapitulace stavby'!AN19="","",'Rekapitulace stavby'!AN19)
E24: =IF('Rekapitulace stavby'!E20="","",'Rekapitulace stavby'!E20) | I24: DIČ: | J24: =IF('Rekapitulace stavby'!AN20="","",'Rekapitulace stavby'!AN20)
D26: Poznámka:
D30: Cena bez DPH | J30: =ROUND(J79, 2) -> 0
F32: Základ daně | I32: Sazba daně | J32: Výše daně
D33: DPH | E33: základní | F33: =ROUND((SUM(BE79:BE81)), 2) -> 0 | I33: 0.21 | J33: =ROUND(((SUM(BE79:BE81))*I33), 2) -> 0
E34: snížená | F34: =ROUND((SUM(BF79:BF81)), 2) -> 0 | I34: 0.12 | J34: =ROUND(((SUM(BF79:BF81))*I34), 2) -> 0
E35: zákl. přenesená | F35: =ROUND((SUM(BG79:BG81)), 2) -> 0 | I35: 0.21 | J35: =0 -> 0
E36: sníž. přenesená | F36: =ROUND((SUM(BH79:BH81)), 2) -> 0 | I36: 0.12 | J36: =0 -> 0
E37: nulová | F37: =ROUND((SUM(BI79:BI81)), 2) -> 0 | I37: 0 | J37: =0 -> 0
D39: Cena s DPH | G39: v | H39: CZK | J39: =SUM(J30:J37) -> 0
C45: REKAPITULACE ČLENĚNÍ SOUPISU PRACÍ
C47: Stavba:
E48: =E7 -> Zliv - Obnova kanalizace v ulici Jáchymovská
C49: Objekt:
E50: =E9 -> 25_11_01_03 - PS-02 Elektroinstalace čerpací stanice
C52: Místo: | F52: =F12 -> Zliv | I52: Datum: | J52: =IF(J12="","",J12) -> 25. 9. 2025
C54: Zadavatel: | F54: =E15 -> Město Zliv | I54: Projektant: | J54: =E21 -> Ing. Jaroslav Žáček Ph.D.
C55: Účastník: | F55: =IF(E18="","",E18) -> Vyplň údaj | I55: Zpracovatel: | J55: =E24
C57: Kód dílu - Popis | J57: Cena celkem [CZK]
C59: Náklady stavby celkem | J59: =J79 -> 0 | AU59: -1
C66: SOUPIS PRACÍ
C68: Stavba:
E69: =E7 -> Zliv - Obnova kanalizace v ulici Jáchymovská
C70: Objekt:
...

Sheet ČS - El
A1: Akce: | B1: ČS Zliv
A2: Část | B2: Elektrotechnická část
B3: PS 02 - elektroinstalace
B4: Propočet nákladů (ZDS)
B5: D.2.2.1 - elektroinstalace - ČERPACÍ STANICE
A6: Poř. číslo | B6: ozn. | C6: Popis položky | D6: M.j. | E6: Výměra | F6: Jedn. cena | G6: celkem
A8: 1 | B8: RM1 | C8: Rozvaděč RM1 | D8: ks | E8: 1 | G8: =E8*F8 -> 0
C9: ROZVADĚČ DODÁVKA TECHNOLOGIE
C10: ČÁST ELEKTRO - MONTÁŽ
B11: Technologický rozvaděč tvořený plastovou závěsnou skříní Thalassa o
B12: rozměrech 1000x 750x 320/370mm (v x š x hl) vystrojený dle poptávky a obsahující:
C13: - hlavní vypínač v kombinaci s přepínačem sítí (síť - 0 - záložní zdroj)
C14: proudové chrániče
C15: ventilátoru, průtokoměru a zařízení pro přenosy.
C16: - 2x softstartéry pro spínání čerpadel (3,65 kW) včetně jistících prvků proti zkratu a
C17: proudovému přetížení
C18: - svodiče přepětí třídy B+C
C19: - relé pro monitorování elektrické sítě
C21: - relé hlídání zaplavení suchého prostoru šachty pomocí elektrod
C22: - vytápění, osvětlení rozváděče a koncový spínač vstupu do rozvaděče
C23: - hlídání průsaku mech. ucpávkami čerpadel a teploty ve vinutí motorů (NIV 101A)
C24: - oddělovací transformátor 230VAC, napájecí zdroj 24VDC, pomocná relé
C25: - kombinovanou zásuvku 400/230V/16A na boku rozvaděče
... C28: - ovladače, přepínače, signalizaci provozních a poruchových stavů, 2 ampérmetry a
B29: voltmetr na dveřích rozvaděče
B30: - binární signály provozních a poruchových stavů pro přenosy na dispečink: chod a
B31: porucha hlavních čerpadel, výpadek napájení, havarijní hladina ve sběrné nádrži,
B32: zaplavení suchého prostoru šachty, vstup do rozvaděče a šachty ČS
B33: - analogové signály pro přenosy na dispečink: hladina v ČS, okamžitý a součtový průtok
A34: 2 | C34: montáž rozvaděče | D34: ks | E34: 1 | G34: =F34*E34 -> 0
C35: Rozvaděč RE
A36: 3 | B36: RE | C36: elektroměrový rozvaděč RE IP 44 , jistič 1x 20A/3/B , příprava pro elektroměr . +1x nulový můstek , plombovatelný kryt | D36: ks | E36: 1 | G36: =F36*E36 -> 0
A37: 4 | C37: montáž rozvaděče | D37: ks | E37: 1 | G37: =F37*E37 -> 0
C38: Kabeláž - vodiče
A39: 5 | C39: Kabel CYKY-J 5x10 mm2 | D39: m | E39: 10 | G39: =F39*E39 -> 0
A40: 6 | C40: Kabel CYKY-J 4x1,5 mm2 | D40: m | E40: 12 | G40: =F40*E40 -> 0
A41: 7 | C41: Kabel CYKY-J 5x1,5 mm2 | D41: m | E41: 12 | G41: =F41*E41 -> 0
A42: 8 | C42: CMSM 3x1,5 | D42: m | E42: 10 | G42: =F42*E42 -> 0
A43: 9 | C43: Uzemňovací vodič Cu 10 mm2 | D43: m | E43: 10 | G43: =F43*E43 -> 0
A44: 10 | C44: Uzemňovací vodič Cu 6 mm2 | D44: m | E44: 10 | G44: =F44*E44 -> 0
...

Sheet  kabel list
A2: Akce: | B2: ČS Zliv
C3: KABELOVÁ LISTINA
C4: ROZVADĚČ RE
A5: 1 | B5: WL | C5: RE | D5: CYKY J 4x10 | E5: PRIS | F5: RE | G5: napájení rozv RE
C7: ROZVADĚČ RM1
A8: P.Č. | B8: Č KABELU | D8: TYP | E8: Z | F8: DO | G8: POZN.
A9: 1 | B9: WL | C9: RM | D9: CYKY J 5x10 | E9: RE | F9: RM | G9: napájení rozv RM
A10: 2 | C10: CY | D10: CY 16 zž | E10: RE | F10: RM | G10: uzem
A11: 3 | B11: WL | C11: SV | D11: CYKY J 3x1,5 | E11: RM | F11: SV | G11: osvětlení
A12: 4 | B12: WL | C12: M1 | D12: CYKY J 4x1,5 | E12: RM | F12: M1 | G12: čerpadlo M1
A13: 5 | B13: WS | C13: M1 | D13: CYKY J 5x1,5 | E13: RM | F13: M1 | G13: termo kontakt
A14: 6 | B14: WL | C14: M2 | D14: CYKY J 4x1,5 | E14: RM | F14: M2 | G14: čerpadlo M2
A15: 7 | B15: WS | C15: M2 | D15: CYKY J 5x1,5 | E15: RM | F15: M2 | G15: termo kontakt
A16: 8 | B16: WS | C16: LIC01 | D16: CMSM 3x1,5 | E16: RM | F16: LIC01 | G16: smínač hladiny 4-20mA
A17: 9 | B17: ws | C17: LI02 | D17: CMSM 3x1,5 | E17: RM | F17: LI02 | G17: plovák snímač
A18: 10 | B18: ws | C18: LI03 | D18: CMSM 3x1,5 | E18: RM | F18: LI03 | G18: plovák snímač
A19: 11 | B19: WL | C19: KS1 | D19: CMSM 3x1,5 | E19: RM | F19: KS1 | G19: konc. Spínač
A20: 12 | C20: CY | D20: CY 6 zž | G20: pospojení

Sheet 25_11_01_04.1 - Oprava kr...
AT2: {3fe5c491-ee0c-49b8-b9e4-964800946a3c}
AT3: 2
D4: KRYCÍ LIST SOUPISU PRACÍ | M4: v --- níže se nacházejí doplnkové a pomocné údaje k sestavám --- v | AT4: False
D6: Stavba:
E7: ='Rekapitulace stavby'!K6 -> Zliv - Obnova kanalizace v ulici Jáchymovská
D8: Objekt:
E9: 25_11_01_04 - SO Celoplošná oprava krytu MK
D10: Soupis:
E11: 25_11_01_04.1 - Oprava krytu - I. etapa
D13: KSO: | I13: CC-CZ:
D14: Místo: | F14: Zliv | I14: Datum: | J14: ='Rekapitulace stavby'!AN8 -> 25. 9. 2025
D16: Zadavatel: | I16: IČ: | J16: 00245721
E17: Město Zliv | I17: DIČ: | J17: CZ00245721
D19: Účastník: | I19: IČ: | J19: ='Rekapitulace stavby'!AN13 -> Vyplň údaj
E20: ='Rekapitulace stavby'!E14 -> Vyplň údaj | I20: DIČ: | J20: ='Rekapitulace stavby'!AN14 -> Vyplň údaj
D22: Projektant: | I22: IČ: | J22: 06577831
E23: Ing. Jaroslav Žáček Ph.D. | I23: DIČ:
D25: Zpracovatel: | I25: IČ: | J25: =IF('Rekapitulace stavby'!AN19="","",'Rekapitulace stavby'!AN19)
E26: =IF('Rekapitulace stavby'!E20="","",'Rekapitulace stavby'!E20) | I26: DIČ: | J26: =IF('Rekapitulace stavby'!AN20="","",'Rekapitulace stavby'!AN20)
D28: Poznámka:
D32: Cena bez DPH | J32: =ROUND(J91, 2) -> 0
F34: Základ daně | I34: Sazba daně | J34: Výše daně
D35: DPH | E35: základní | F35: =ROUND((SUM(BE91:BE122)), 2) -> 0 | I35: 0.21 | J35: =ROUND(((SUM(BE91:BE122))*I35), 2) -> 0
E36: snížená | F36: =ROUND((SUM(BF91:BF122)), 2) -> 0 | I36: 0.12 | J36: =ROUND(((SUM(BF91:BF122))*I36), 2) -> 0
E37: zákl. přenesená | F37: =ROUND((SUM(BG91:BG122)), 2) -> 0 | I37: 0.21 | J37: =0 -> 0
E38: sníž. přenesená | F38: =ROUND((SUM(BH91:BH122)), 2) -> 0 | I38: 0.12 | J38: =0 -> 0
E39: nulová | F39: =ROUND((SUM(BI91:BI122)), 2) -> 0 | I39: 0 | J39: =0 -> 0
D41: Cena s DPH | G41: v | H41: CZK | J41: =SUM(J32:J39) -> 0
C47: REKAPITULACE ČLENĚNÍ SOUPISU PRACÍ
C49: Stavba:
E50: =E7 -> Zliv - Obnova kanalizace v ulici Jáchymovská
C51: Objekt:
E52: 25_11_01_04 - SO Celoplošná oprava krytu MK
C53: Soupis:
E54: =E11 -> 25_11_01_04.1 - Oprava krytu - I. etapa
C56: Místo: | F56: =F14 -> Zliv | I56: Datum: | J56: =IF(J14="","",J14) -> 25. 9. 2025
C58: Zadavatel: | F58: =E17 -> Město Zliv | I58: Projektant: | J58: =E23 -> Ing. Jaroslav Žáček Ph.D.
C59: Účastník: | F59: =IF(E20="","",E20) -> Vyplň údaj | I59: Zpracovatel: | J59: =E26
C61: Kód dílu - Popis | J61: Cena celkem [CZK]
C63: Náklady stavby celkem | J63: =J91 -> 0 | AU63: -1
...

Sheet 25_11_01_04.2 - Oprava kr...
AT2: {fa4e3a7e-8d5c-4be4-bc90-609897c40bae}
AT3: 2
D4: KRYCÍ LIST SOUPISU PRACÍ | M4: v --- níže se nacházejí doplnkové a pomocné údaje k sestavám --- v | AT4: False
D6: Stavba:
E7: ='Rekapitulace stavby'!K6 -> Zliv - Obnova kanalizace v ulici Jáchymovská
D8: Objekt:
E9: 25_11_01_04 - SO Celoplošná oprava krytu MK
D10: Soupis:
E11: 25_11_01_04.2 - Oprava krytu - II. etapa
D13: KSO: | I13: CC-CZ:
D14: Místo: | F14: Zliv | I14: Datum: | J14: ='Rekapitulace stavby'!AN8 -> 25. 9. 2025
D16: Zadavatel: | I16: IČ: | J16: 00245721
E17: Město Zliv | I17: DIČ: | J17: CZ00245721
D19: Účastník: | I19: IČ: | J19: ='Rekapitulace stavby'!AN13 -> Vyplň údaj
E20: ='Rekapitulace stavby'!E14 -> Vyplň údaj | I20: DIČ: | J20: ='Rekapitulace stavby'!AN14 -> Vyplň údaj
D22: Projektant: | I22: IČ: | J22: 06577831
E23: Ing. Jaroslav Žáček Ph.D. | I23: DIČ:
D25: Zpracovatel: | I25: IČ: | J25: =IF('Rekapitulace stavby'!AN19="","",'Rekapitulace stavby'!AN19)
E26: =IF('Rekapitulace stavby'!E20="","",'Rekapitulace stavby'!E20) | I26: DIČ: | J26: =IF('Rekapitulace stavby'!AN20="","",'Rekapitulace stavby'!AN20)
D28: Poznámka:
D32: Cena bez DPH | J32: =ROUND(J91, 2) -> 0
F34: Základ daně | I34: Sazba daně | J34: Výše daně
D35: DPH | E35: základní | F35: =ROUND((SUM(BE91:BE122)), 2) -> 0 | I35: 0.21 | J35: =ROUND(((SUM(BE91:BE122))*I35), 2) -> 0
E36: snížená | F36: =ROUND((SUM(BF91:BF122)), 2) -> 0 | I36: 0.12 | J36: =ROUND(((SUM(BF91:BF122))*I36), 2) -> 0
E37: zákl. přenesená | F37: =ROUND((SUM(BG91:BG122)), 2) -> 0 | I37: 0.21 | J37: =0 -> 0
E38: sníž. přenesená | F38: =ROUND((SUM(BH91:BH122)), 2) -> 0 | I38: 0.12 | J38: =0 -> 0
E39: nulová | F39: =ROUND((SUM(BI91:BI122)), 2) -> 0 | I39: 0 | J39: =0 -> 0
D41: Cena s DPH | G41: v | H41: CZK | J41: =SUM(J32:J39) -> 0
C47: REKAPITULACE ČLENĚNÍ SOUPISU PRACÍ
C49: Stavba:
E50: =E7 -> Zliv - Obnova kanalizace v ulici Jáchymovská
C51: Objekt:
E52: 25_11_01_04 - SO Celoplošná oprava krytu MK
C53: Soupis:
E54: =E11 -> 25_11_01_04.2 - Oprava krytu - II. etapa
C56: Místo: | F56: =F14 -> Zliv | I56: Datum: | J56: =IF(J14="","",J14) -> 25. 9. 2025
C58: Zadavatel: | F58: =E17 -> Město Zliv | I58: Projektant: | J58: =E23 -> Ing. Jaroslav Žáček Ph.D.
C59: Účastník: | F59: =IF(E20="","",E20) -> Vyplň údaj | I59: Zpracovatel: | J59: =E26
C61: Kód dílu - Popis | J61: Cena celkem [CZK]
C63: Náklady stavby celkem | J63: =J91 -> 0 | AU63: -1
...

Sheet 25_11_01_04.3 - Oprava kr...
AT2: {08f14326-f5aa-4b9c-a84e-e78d6046e1e3}
AT3: 2
D4: KRYCÍ LIST SOUPISU PRACÍ | M4: v --- níže se nacházejí doplnkové a pomocné údaje k sestavám --- v | AT4: False
D6: Stavba:
E7: ='Rekapitulace stavby'!K6 -> Zliv - Obnova kanalizace v ulici Jáchymovská
D8: Objekt:
E9: 25_11_01_04 - SO Celoplošná oprava krytu MK
D10: Soupis:
E11: 25_11_01_04.3 - Oprava krytu - III. etapa
D13: KSO: | I13: CC-CZ:
D14: Místo: | F14: Zliv | I14: Datum: | J14: ='Rekapitulace stavby'!AN8 -> 25. 9. 2025
D16: Zadavatel: | I16: IČ: | J16: 00245721
E17: Město Zliv | I17: DIČ: | J17: CZ00245721
D19: Účastník: | I19: IČ: | J19: ='Rekapitulace stavby'!AN13 -> Vyplň údaj
E20: ='Rekapitulace stavby'!E14 -> Vyplň údaj | I20: DIČ: | J20: ='Rekapitulace stavby'!AN14 -> Vyplň údaj
D22: Projektant: | I22: IČ: | J22: 06577831
E23: Ing. Jaroslav Žáček Ph.D. | I23: DIČ:
D25: Zpracovatel: | I25: IČ: | J25: =IF('Rekapitulace stavby'!AN19="","",'Rekapitulace stavby'!AN19)
E26: =IF('Rekapitulace stavby'!E20="","",'Rekapitulace stavby'!E20) | I26: DIČ: | J26: =IF('Rekapitulace stavby'!AN20="","",'Rekapitulace stavby'!AN20)
D28: Poznámka:
D32: Cena bez DPH | J32: =ROUND(J91, 2) -> 0
F34: Základ daně | I34: Sazba daně | J34: Výše daně
D35: DPH | E35: základní | F35: =ROUND((SUM(BE91:BE122)), 2) -> 0 | I35: 0.21 | J35: =ROUND(((SUM(BE91:BE122))*I35), 2) -> 0
E36: snížená | F36: =ROUND((SUM(BF91:BF122)), 2) -> 0 | I36: 0.12 | J36: =ROUND(((SUM(BF91:BF122))*I36), 2) -> 0
E37: zákl. přenesená | F37: =ROUND((SUM(BG91:BG122)), 2) -> 0 | I37: 0.21 | J37: =0 -> 0
E38: sníž. přenesená | F38: =ROUND((SUM(BH91:BH122)), 2) -> 0 | I38: 0.12 | J38: =0 -> 0
E39: nulová | F39: =ROUND((SUM(BI91:BI122)), 2) -> 0 | I39: 0 | J39: =0 -> 0
D41: Cena s DPH | G41: v | H41: CZK | J41: =SUM(J32:J39) -> 0
C47: REKAPITULACE ČLENĚNÍ SOUPISU PRACÍ
C49: Stavba:
E50: =E7 -> Zliv - Obnova kanalizace v ulici Jáchymovská
C51: Objekt:
E52: 25_11_01_04 - SO Celoplošná oprava krytu MK
C53: Soupis:
E54: =E11 -> 25_11_01_04.3 - Oprava krytu - III. etapa
C56: Místo: | F56: =F14 -> Zliv | I56: Datum: | J56: =IF(J14="","",J14) -> 25. 9. 2025
C58: Zadavatel: | F58: =E17 -> Město Zliv | I58: Projektant: | J58: =E23 -> Ing. Jaroslav Žáček Ph.D.
C59: Účastník: | F59: =IF(E20="","",E20) -> Vyplň údaj | I59: Zpracovatel: | J59: =E26
C61: Kód dílu - Popis | J61: Cena celkem [CZK]
C63: Náklady stavby celkem | J63: =J91 -> 0 | AU63: -1
...

Sheet 25_11_01_04.4 - Oprava kr...
AT2: {d747c181-d470-4650-a8c6-f6a4e9a2cda5}
AT3: 2
D4: KRYCÍ LIST SOUPISU PRACÍ | M4: v --- níže se nacházejí doplnkové a pomocné údaje k sestavám --- v | AT4: False
D6: Stavba:
E7: ='Rekapitulace stavby'!K6 -> Zliv - Obnova kanalizace v ulici Jáchymovská
D8: Objekt:
E9: 25_11_01_04 - SO Celoplošná oprava krytu MK
D10: Soupis:
E11: 25_11_01_04.4 - Oprava krytu - úsek SK + DK + výtlak
D13: KSO: | I13: CC-CZ:
D14: Místo: | F14: Zliv | I14: Datum: | J14: ='Rekapitulace stavby'!AN8 -> 25. 9. 2025
D16: Zadavatel: | I16: IČ: | J16: 00245721
E17: Město Zliv | I17: DIČ: | J17: CZ00245721
D19: Účastník: | I19: IČ: | J19: ='Rekapitulace stavby'!AN13 -> Vyplň údaj
E20: ='Rekapitulace stavby'!E14 -> Vyplň údaj | I20: DIČ: | J20: ='Rekapitulace stavby'!AN14 -> Vyplň údaj
D22: Projektant: | I22: IČ: | J22: 06577831
E23: Ing. Jaroslav Žáček Ph.D. | I23: DIČ:
D25: Zpracovatel: | I25: IČ: | J25: =IF('Rekapitulace stavby'!AN19="","",'Rekapitulace stavby'!AN19)
E26: =IF('Rekapitulace stavby'!E20="","",'Rekapitulace stavby'!E20) | I26: DIČ: | J26: =IF('Rekapitulace stavby'!AN20="","",'Rekapitulace stavby'!AN20)
D28: Poznámka:
D32: Cena bez DPH | J32: =ROUND(J91, 2) -> 0
F34: Základ daně | I34: Sazba daně | J34: Výše daně
D35: DPH | E35: základní | F35: =ROUND((SUM(BE91:BE122)), 2) -> 0 | I35: 0.21 | J35: =ROUND(((SUM(BE91:BE122))*I35), 2) -> 0
E36: snížená | F36: =ROUND((SUM(BF91:BF122)), 2) -> 0 | I36: 0.12 | J36: =ROUND(((SUM(BF91:BF122))*I36), 2) -> 0
E37: zákl. přenesená | F37: =ROUND((SUM(BG91:BG122)), 2) -> 0 | I37: 0.21 | J37: =0 -> 0
E38: sníž. přenesená | F38: =ROUND((SUM(BH91:BH122)), 2) -> 0 | I38: 0.12 | J38: =0 -> 0
E39: nulová | F39: =ROUND((SUM(BI91:BI122)), 2) -> 0 | I39: 0 | J39: =0 -> 0
D41: Cena s DPH | G41: v | H41: CZK | J41: =SUM(J32:J39) -> 0
C47: REKAPITULACE ČLENĚNÍ SOUPISU PRACÍ
C49: Stavba:
E50: =E7 -> Zliv - Obnova kanalizace v ulici Jáchymovská
C51: Objekt:
E52: 25_11_01_04 - SO Celoplošná oprava krytu MK
C53: Soupis:
E54: =E11 -> 25_11_01_04.4 - Oprava krytu - úsek SK + DK + výtlak
C56: Místo: | F56: =F14 -> Zliv | I56: Datum: | J56: =IF(J14="","",J14) -> 25. 9. 2025
C58: Zadavatel: | F58: =E17 -> Město Zliv | I58: Projektant: | J58: =E23 -> Ing. Jaroslav Žáček Ph.D.
C59: Účastník: | F59: =IF(E20="","",E20) -> Vyplň údaj | I59: Zpracovatel: | J59: =E26
C61: Kód dílu - Popis | J61: Cena celkem [CZK]
C63: Náklady stavby celkem | J63: =J91 -> 0 | AU63: -1
...

Sheet Pokyny pro vyplnění
C3: Struktura údajů, formát souboru a metodika pro zpracování
C4: Struktura
C6: Soubor je složen ze záložky Rekapitulace stavby a záložek s názvem soupisu prací pro jednotlivé objekty ve formátu XLSX. Každá ze záložek přitom obsahuje
C7: ještě samostatné sestavy vymezené orámovaním a nadpisem sestavy.
C9: Rekapitulace stavby obsahuje sestavu Rekapitulace stavby a Rekapitulace objektů stavby a soupisů prací.
D10: V sestavě Rekapitulace stavby jsou uvedeny informace identifikující předmět veřejné zakázky na stavební práce, KSO, CC-CZ, CZ-CPV, CZ-CPA a rekapitulaci
D11: celkové nabídkové ceny účastníka.
D13: Termínem "učastník" (resp. zhotovitel) se myslí "účastník zadávacího řízení" ve smyslu zákona o zadávání veřejných zakázek.
D15: V sestavě Rekapitulace objektů stavby a soupisů prací je uvedena rekapitulace stavebních objektů, inženýrských objektů, provozních souborů,
D16: vedlejších a ostatních nákladů a ostatních nákladů s rekapitulací nabídkové ceny za jednotlivé soupisy prací. Na základě údaje Typ je možné
D17: identifikovat, zda se jedná o objekt nebo soupis prací pro daný objekt:
E18: STA | F18: Stavební objekt pozemní
E19: ING | F19: Stavební objekt inženýrský
E20: PRO | F20: Provozní soubor
E21: VON | F21: Vedlejší a ostatní náklady
E22: OST | F22: Ostatní
E23: Soupis | F23: Soupis prací pro daný typ objektu
C25: Soupis prací pro jednotlivé objekty obsahuje sestavy Krycí list soupisu prací, Rekapitulace členění soupisu prací, Soupis prací. Za soupis prací může být považován
C26: i objekt stavby v případě, že neobsahuje podřízenou zakázku.
D27: Krycí list soupisu obsahuje rekapitulaci informací o předmětu veřejné zakázky ze sestavy Rekapitulace stavby, informaci o zařazení objektu do KSO,
D28: CC-CZ, CZ-CPV, CZ-CPA a rekapitulaci celkové nabídkové ceny účastníka za aktuální soupis prací.
D30: Rekapitulace členění soupisu prací obsahuje rekapitulaci soupisu prací ve všech úrovních členění soupisu tak, jak byla tato členění použita (např.
D31: stavební díly, funkční díly, případně jiné členění) s rekapitulací nabídkové ceny.
D33: Soupis prací obsahuje položky veškerých stavebních nebo montážních prací, dodávek materiálů a služeb nezbytných pro zhotovení stavebního objektu,
D34: inženýrského objektu, provozního souboru, vedlejších a ostatních nákladů.
D35: Pro položky soupisu prací se zobrazují následující informace:
E36: PČ | G36: Pořadové číslo položky v aktuálním soupisu
E37: TYP | G37: Typ položky: K - konstrukce, M - materiál, PP - plný popis, PSC - poznámka k souboru cen, P - poznámka k položce, VV - výkaz výměr, FIG - rozpad figur
E38: Kód | G38: Kód položky
E39: Popis | G39: Zkrácený popis položky
E40: MJ | G40: Měrná jednotka položky
E41: Množství | G41: Množství v měrné jednotce
E42: J.cena | G42: Jednotková cena položky. Zadaní může obsahovat namísto J.ceny sloupce J.materiál a J.montáž, jejichž součet definuje
G43: J.cenu položky.
E44: Cena celkem | G44: Celková cena položky daná jako součin množství a j.ceny
E45: Cenová soustava | G45: Příslušnost položky do cenové soustavy
D47: Ke každé položce soupisu prací se na samostatných řádcích může zobrazovat:
E48: Plný popis položky
E49: Poznámka k souboru cen a poznámka zadavatele
E50: Výkaz výměr
...
