Workbook

Sheet Rekapitulace stavby
A1: Export Komplet | AZ1: VZ | BA1: 2.0 | BB1: ZAMOK | BT1: False | BU1: False | BV1: {92944027-02ca-41fa-8f00-8a05a9844945}
BS2: 0,01 | BT2: 21
BS3: 0,01 | BT3: 12
D4: REKAPITULACE STAVBY | AS4: v --- níže se nacházejí doplnkové a pomocné údaje k sestavám --- v | BE4: Návod na vyplnění | BS4: 0,001
D5: Kód: | K5: 25_11_01 | BE5: Měnit lze pouze buňky se žlutým podbarvením!_x000D_ _x000D_ 1) v Rekapitulaci stavby vyplňte údaje o Účastníkovi (přenesou se do ostatních sestav i v jiných listech)_x000D_ _x000D_ 2) na vybraných listech vyplňte v sestavě Soupis prací ceny u položek | BS5: 0,01
D6: Stavba: | K6: Zliv - Obnova kanalizace v ulici Jáchymovská | BS6: 0,01
D7: KSO: | AK7: CC-CZ: | BS7: 0,01
D8: Místo: | K8: Zliv | AK8: Datum: | AN8: 25. 9. 2025 | BS8: 0,01
BS9: 0,01
D10: Zadavatel: | AK10: IČ: | AN10: 00245721 | BS10: 0,01
E11: Město Zliv | AK11: DIČ: | AN11: CZ00245721 | BS11: 0,01
BS12: 0,01
D13: Účastník: | AK13: IČ: | AN13: Vyplň údaj | BS13: 0,01
E14: Vyplň údaj | AK14: DIČ: | AN14: Vyplň údaj | BS14: 0,01
BS15: False
D16: Projektant: | AK16: IČ: | AN16: 06577831 | BS16: False
E17: Ing. Jaroslav Žáček Ph.D. | AK17: DIČ: | BS17: True
BS18: 0,01
D19: Zpracovatel: | AK19: IČ: | BS19: 0,01
AK20: DIČ: | BS20: False
D22: Poznámka:
E23: Soupis prací je sestaven s využitím Cenové soustavy ÚRS. Položky, které pochází z této cenové soustavy, jsou ve sloupci 'Cenová soustava' označeny popisem 'CS ÚRS' a úrovní příslušného kalendářního pololetí. Veškeré další informace vymezující popis a podmínky použití těchto položek z Cenové soustavy, které nejsou uvedeny přímo v soupisu prací, jsou neomezeně dálkově k dispozici na webu podminky.urs.cz.
D26: Cena bez DPH | AK26: =ROUND(AG54,2) -> 0
L28: Sazba daně | W28: Základ daně | AK28: Výše daně
D29: DPH | F29: základní | L29: 0.21 | W29: =ROUND(AZ54, 2) -> 0 | AK29: =ROUND(AV54, 2) -> 0
F30: snížená | L30: 0.12 | W30: =ROUND(BA54, 2) -> 0 | AK30: =ROUND(AW54, 2) -> 0
F31: zákl. přenesená | L31: 0.21 | W31: =ROUND(BB54, 2) -> 0 | AK31: 0
F32: sníž. přenesená | L32: 0.12 | W32: =ROUND(BC54, 2) -> 0 | AK32: 0
F33: nulová | L33: 0 | W33: =ROUND(BD54, 2) -> 0 | AK33: 0
D35: Cena s DPH | T35: v | X35: CZK | AK35: =SUM(AK26:AK33) -> 0
C42: REKAPITULACE OBJEKTŮ STAVBY A SOUPISŮ PRACÍ
C44: Kód: | L44: =K5 -> 25_11_01
C45: Stavba: | L45: =K6 -> Zliv - Obnova kanalizace v ulici Jáchymovská
C47: Místo: | L47: =IF(K8="","",K8) -> Zliv | AI47: Datum: | AM47: =IF(AN8= "","",AN8) -> 25. 9. 2025
C49: Zadavatel: | L49: =IF(E11= "","",E11) -> Město Zliv | AI49: Projektant: | AM49: =IF(E17="","",E17) -> Ing. Jaroslav Žáček Ph.D. | AS49: Informatívní údaje z listů zakázek
C50: Účastník: | L50: =IF(E14= "Vyplň údaj","",E14) | AI50: Zpracovatel: | AM50: =IF(E20="","",E20)
C52: Kód | I52: Popis | AG52: Cena bez DPH [CZK] | AN52: Cena s DPH [CZK] | AQ52: Typ | AS52: z toho Ostat._x000D_ náklady [CZK] | AT52: DPH [CZK] | AU52: Normohodiny [h] | AV52: DPH základní [CZK] | AW52: DPH snížená [CZK] | AX52: DPH základní přenesená_x000D_ [CZK] | AY52: DPH snížená přenesená_x000D_ [CZK] | AZ52: Základna_x000D_ DPH základní | BA52: Základna_x000D_ DPH snížená | BB52: Základna_x000D_ DPH zákl. přenesená | BC52: Základna_x000D_ DPH sníž. přenesená | BD52: Základna_x000D_ DPH nulová
C54: Náklady stavby celkem | AG54: =ROUND(AG55+AG56+SUM(AG64:AG66),2) -> 0 | AN54: =SUM(AG54,AT54) -> 0 | AS54: =ROUND(AS55+AS56+SUM(AS64:AS66),2) -> 0 | AT54: =ROUND(SUM(AV54:AW54),2) -> 0 | AU54: =ROUND(AU55+AU56+SUM(AU64:AU66),5) -> 0 | AV54: =ROUND(AZ54*L29,2) -> 0 | AW54: =ROUND(BA54*L30,2) -> 0 | AX54: =ROUND(BB54*L29,2) -> 0 | AY54: =ROUND(BC54*L30,2) -> 0 | AZ54: =ROUND(AZ55+AZ56+SUM(AZ64:AZ66),2) -> 0 | BA54: =ROUND(BA55+BA56+SUM(BA64:BA66),2) -> 0 | BB54: =ROUND(BB55+BB56+SUM(BB64:BB66),2) -> 0 | BC54: =ROUND(BC55+BC56+SUM(BC64:BC66),2) -> 0 | BD54: =ROUND(BD55+BD56+SUM(BD64:BD66),2) -> 0 | BS54: D | BT54: 0 | BU54: ###NOIMPORT### | BV54: IMPORT | BW54: {92944027-02ca-41fa-8f00-8a05a9844945} | BX54: {00000000-0000-0000-0000-000000000000}
A55: / | D55: 25_11_01_00 | J55: Vedlejší rozpočtové náklady | AG55: ='25_11_01_00 - Vedlejší ro...'!J30 -> 0 | AN55: =SUM(AG55,AT55) -> 0 | AQ55: STA | AS55: 0 | AT55: =ROUND(SUM(AV55:AW55),2) -> 0 | AU55: ='25_11_01_00 - Vedlejší ro...'!P84 -> 0 | AV55: ='25_11_01_00 - Vedlejší ro...'!J33 -> 0 | AW55: ='25_11_01_00 - Vedlejší ro...'!J34 -> 0 | AX55: ='25_11_01_00 - Vedlejší ro...'!J35 -> 0 | AY55: ='25_11_01_00 - Vedlejší ro...'!J36 -> 0 | AZ55: ='25_11_01_00 - Vedlejší ro...'!F33 -> 0 | BA55: ='25_11_01_00 - Vedlejší ro...'!F34 -> 0 | BB55: ='25_11_01_00 - Vedlejší ro...'!F35 -> 0 | BC55: ='25_11_01_00 - Vedlejší ro...'!F36 -> 0 | BD55: ='25_11_01_00 - Vedlejší ro...'!F37 -> 0 | BT55: 1 | BV55: IMPORT | BW55: {cbc87207-ca2f-44d3-a9ec-4569177a39c7} | BX55: {92944027-02ca-41fa-8f00-8a05a9844945} | CM55: 2
D56: 25_11_01_01 | J56: SO-01 Obnova kanalizace | AG56: =ROUND(AG57+SUM(AG61:AG63),2) -> 0 | AN56: =SUM(AG56,AT56) -> 0 | AQ56: STA | AS56: =ROUND(AS57+SUM(AS61:AS63),2) -> 0 | AT56: =ROUND(SUM(AV56:AW56),2) -> 0 | AU56: =ROUND(AU57+SUM(AU61:AU63),5) -> 0 | AV56: =ROUND(AZ56*L29,2) -> 0 | AW56: =ROUND(BA56*L30,2) -> 0 | AX56: =ROUND(BB56*L29,2) -> 0 | AY56: =ROUND(BC56*L30,2) -> 0 | AZ56: =ROUND(AZ57+SUM(AZ61:AZ63),2) -> 0 | BA56: =ROUND(BA57+SUM(BA61:BA63),2) -> 0 | BB56: =ROUND(BB57+SUM(BB61:BB63),2) -> 0 | BC56: =ROUND(BC57+SUM(BC61:BC63),2) -> 0 | BD56: =ROUND(BD57+SUM(BD61:BD63),2) -> 0 | BS56: D | BT56: 1 | BU56: ###NOIMPORT### | BV56: IMPORT | BW56: {8345a75b-5213-4df8-af9e-9d40b59043e2} | BX56: {92944027-02ca-41fa-8f00-8a05a9844945} | CM56: 2
E57: 25_11_01_01.1 | K57: SO-01.1 Jednotná kanalizace Tyršova - Jáchymovská | AG57: =ROUND(SUM(AG58:AG60),2) -> 0 | AN57: =SUM(AG57,AT57) -> 0 | AQ57: Soupis | AS57: =ROUND(SUM(AS58:AS60),2) -> 0 | AT57: =ROUND(SUM(AV57:AW57),2) -> 0 | AU57: =ROUND(SUM(AU58:AU60),5) -> 0 | AV57: =ROUND(AZ57*L29,2) -> 0 | AW57: =ROUND(BA57*L30,2) -> 0 | AX57: =ROUND(BB57*L29,2) -> 0 | AY57: =ROUND(BC57*L30,2) -> 0 | AZ57: =ROUND(SUM(AZ58:AZ60),2) -> 0 | BA57: =ROUND(SUM(BA58:BA60),2) -> 0 | BB57: =ROUND(SUM(BB58:BB60),2) -> 0 | BC57: =ROUND(SUM(BC58:BC60),2) -> 0 | BD57: =ROUND(SUM(BD58:BD60),2) -> 0 | BS57: D | BT57: 2 | BU57: ###NOIMPORT### | BV57: IMPORT | BW57: {eb77116c-f43a-48b8-bc1b-a9845c030933} | BX57: {8345a75b-5213-4df8-af9e-9d40b59043e2}
A58: / | F58: 25_11_01_01.1.1 | L58: Jednotná kanalizace - etapa I. - Tyršova | AG58: ='25_11_01_01.1.1 - Jednotn...'!J34 -> 0 | AN58: =SUM(AG58,AT58) -> 0 | AQ58: Soupis | AS58: 0 | AT58: =ROUND(SUM(AV58:AW58),2) -> 0 | AU58: ='25_11_01_01.1.1 - Jednotn...'!P101 -> 0 | AV58: ='25_11_01_01.1.1 - Jednotn...'!J37 -> 0 | AW58: ='25_11_01_01.1.1 - Jednotn...'!J38 -> 0 | AX58: ='25_11_01_01.1.1 - Jednotn...'!J39 -> 0 | AY58: ='25_11_01_01.1.1 - Jednotn...'!J40 -> 0 | AZ58: ='25_11_01_01.1.1 - Jednotn...'!F37 -> 0 | BA58: ='25_11_01_01.1.1 - Jednotn...'!F38 -> 0 | BB58: ='25_11_01_01.1.1 - Jednotn...'!F39 -> 0 | BC58: ='25_11_01_01.1.1 - Jednotn...'!F40 -> 0 | BD58: ='25_11_01_01.1.1 - Jednotn...'!F41 -> 0 | BT58: 3 | BV58: IMPORT | BW58: {1a78c0d7-f267-4b08-8ee5-8d64c6ad5dc2} | BX58: {eb77116c-f43a-48b8-bc1b-a9845c030933}
A59: / | F59: 25_11_01_01.1.2 | L59: Jednotná kanalizace - etapa II. - Jáchymovská I | AG59: ='25_11_01_01.1.2 - Jednotn...'!J34 -> 0 | AN59: =SUM(AG59,AT59) -> 0 | AQ59: Soupis | AS59: 0 | AT59: =ROUND(SUM(AV59:AW59),2) -> 0 | AU59: ='25_11_01_01.1.2 - Jednotn...'!P101 -> 0 | AV59: ='25_11_01_01.1.2 - Jednotn...'!J37 -> 0 | AW59: ='25_11_01_01.1.2 - Jednotn...'!J38 -> 0 | AX59: ='25_11_01_01.1.2 - Jednotn...'!J39 -> 0 | AY59: ='25_11_01_01.1.2 - Jednotn...'!J40 -> 0 | AZ59: ='25_11_01_01.1.2 - Jednotn...'!F37 -> 0 | BA59: ='25_11_01_01.1.2 - Jednotn...'!F38 -> 0 | BB59: ='25_11_01_01.1.2 - Jednotn...'!F39 -> 0 | BC59: ='25_11_01_01.1.2 - Jednotn...'!F40 -> 0 | BD59: ='25_11_01_01.1.2 - Jednotn...'!F41 -> 0 | BT59: 3 | BV59: IMPORT | BW59: {fa9f7ba0-cad8-4875-9661-c165227aded5} | BX59: {eb77116c-f43a-48b8-bc1b-a9845c030933}
A60: / | F60: 25_11_01_01.1.3 | L60: Jednotná kanalizace - etapa III. - Jáchymovská II | AG60: ='25_11_01_01.1.3 - Jednotn...'!J34 -> 0 | AN60: =SUM(AG60,AT60) -> 0 | AQ60: Soupis | AS60: 0 | AT60: =ROUND(SUM(AV60:AW60),2) -> 0 | AU60: ='25_11_01_01.1.3 - Jednotn...'!P101 -> 0 | AV60: ='25_11_01_01.1.3 - Jednotn...'!J37 -> 0 | AW60: ='25_11_01_01.1.3 - Jednotn...'!J38 -> 0 | AX60: ='25_11_01_01.1.3 - Jednotn...'!J39 -> 0 | AY60: ='25_11_01_01.1.3 - Jednotn...'!J40 -> 0 | AZ60: ='25_11_01_01.1.3 - Jednotn...'!F37 -> 0 | BA60: ='25_11_01_01.1.3 - Jednotn...'!F38 -> 0 | BB60: ='25_11_01_01.1.3 - Jednotn...'!F39 -> 0 | BC60: ='25_11_01_01.1.3 - Jednotn...'!F40 -> 0 | BD60: ='25_11_01_01.1.3 - Jednotn...'!F41 -> 0 | BT60: 3 | BV60: IMPORT | BW60: {ab4a68c3-bf01-4772-87f0-b45b81f174c4} | BX60: {eb77116c-f43a-48b8-bc1b-a9845c030933}
A61: / | E61: 25_11_01_01.2 | K61: SO-01.2 Splašková kanalizace | AG61: ='25_11_01_01.2 - SO-01.2 S...'!J32 -> 0 | AN61: =SUM(AG61,AT61) -> 0 | AQ61: Soupis | AS61: 0 | AT61: =ROUND(SUM(AV61:AW61),2) -> 0 | AU61: ='25_11_01_01.2 - SO-01.2 S...'!P95 -> 0 | AV61: ='25_11_01_01.2 - SO-01.2 S...'!J35 -> 0 | AW61: ='25_11_01_01.2 - SO-01.2 S...'!J36 -> 0 | AX61: ='25_11_01_01.2 - SO-01.2 S...'!J37 -> 0 | AY61: ='25_11_01_01.2 - SO-01.2 S...'!J38 -> 0 | AZ61: ='25_11_01_01.2 - SO-01.2 S...'!F35 -> 0 | BA61: ='25_11_01_01.2 - SO-01.2 S...'!F36 -> 0 | BB61: ='25_11_01_01.2 - SO-01.2 S...'!F37 -> 0 | BC61: ='25_11_01_01.2 - SO-01.2 S...'!F38 -> 0 | BD61: ='25_11_01_01.2 - SO-01.2 S...'!F39 -> 0 | BT61: 2 | BV61: IMPORT | BW61: {6674b6da-94e0-4286-a9a4-a1a6a409866e} | BX61: {8345a75b-5213-4df8-af9e-9d40b59043e2}
A62: / | E62: 25_11_01_01.3 | K62: SO-01.3 ČS a kanalizační výtlak | AG62: ='25_11_01_01.3 - SO-01.3 Č...'!J32 -> 0 | AN62: =SUM(AG62,AT62) -> 0 | AQ62: Soupis | AS62: 0 | AT62: =ROUND(SUM(AV62:AW62),2) -> 0 | AU62: ='25_11_01_01.3 - SO-01.3 Č...'!P100 -> 0 | AV62: ='25_11_01_01.3 - SO-01.3 Č...'!J35 -> 0 | AW62: ='25_11_01_01.3 - SO-01.3 Č...'!J36 -> 0 | AX62: ='25_11_01_01.3 - SO-01.3 Č...'!J37 -> 0 | AY62: ='25_11_01_01.3 - SO-01.3 Č...'!J38 -> 0 | AZ62: ='25_11_01_01.3 - SO-01.3 Č...'!F35 -> 0 | BA62: ='25_11_01_01.3 - SO-01.3 Č...'!F36 -> 0 | BB62: ='25_11_01_01.3 - SO-01.3 Č...'!F37 -> 0 | BC62: ='25_11_01_01.3 - SO-01.3 Č...'!F38 -> 0 | BD62: ='25_11_01_01.3 - SO-01.3 Č...'!F39 -> 0 | BT62: 2 | BV62: IMPORT | BW62: {96a1ca5d-3e49-4fab-8639-77cb319f1112} | BX62: {8345a75b-5213-4df8-af9e-9d40b59043e2}
A63: / | E63: 25_11_01_01.4 | K63: SO-01.4 Dešťová kanalizace | AG63: ='25_11_01_01.4 - SO-01.4 D...'!J32 -> 0 | AN63: =SUM(AG63,AT63) -> 0 | AQ63: Soupis | AS63: 0 | AT63: =ROUND(SUM(AV63:AW63),2) -> 0 | AU63: ='25_11_01_01.4 - SO-01.4 D...'!P95 -> 0 | AV63: ='25_11_01_01.4 - SO-01.4 D...'!J35 -> 0 | AW63: ='25_11_01_01.4 - SO-01.4 D...'!J36 -> 0 | AX63: ='25_11_01_01.4 - SO-01.4 D...'!J37 -> 0 | AY63: ='25_11_01_01.4 - SO-01.4 D...'!J38 -> 0 | AZ63: ='25_11_01_01.4 - SO-01.4 D...'!F35 -> 0 | BA63: ='25_11_01_01.4 - SO-01.4 D...'!F36 -> 0 | BB63: ='25_11_01_01.4 - SO-01.4 D...'!F37 -> 0 | BC63: ='25_11_01_01.4 - SO-01.4 D...'!F38 -> 0 | BD63: ='25_11_01_01.4 - SO-01.4 D...'!F39 -> 0 | BT63: 2 | BV63: IMPORT | BW63: {d300a780-61bd-4621-aaf2-71abfe86795f} | BX63: {8345a75b-5213-4df8-af9e-9d40b59043e2}
A64: / | D64: 25_11_01_02 | J64: PS-01 Vystrojení čerpací stanice | AG64: ='25_11_01_02 - PS-01 Vystr...'!J30 -> 0 | AN64: =SUM(AG64,AT64) -> 0 | AQ64: STA | AS64: 0 | AT64: =ROUND(SUM(AV64:AW64),2) -> 0 | AU64: ='25_11_01_02 - PS-01 Vystr...'!P80 -> 0 | AV64: ='25_11_01_02 - PS-01 Vystr...'!J33 -> 0 | AW64: ='25_11_01_02 - PS-01 Vystr...'!J34 -> 0 | AX64: ='25_11_01_02 - PS-01 Vystr...'!J35 -> 0 | AY64: ='25_11_01_02 - PS-01 Vystr...'!J36 -> 0 | AZ64: ='25_11_01_02 - PS-01 Vystr...'!F33 -> 0 | BA64: ='25_11_01_02 - PS-01 Vystr...'!F34 -> 0 | BB64: ='25_11_01_02 - PS-01 Vystr...'!F35 -> 0 | BC64: ='25_11_01_02 - PS-01 Vystr...'!F36 -> 0 | BD64: ='25_11_01_02 - PS-01 Vystr...'!F37 -> 0 | BT64: 1 | BV64: IMPORT | BW64: {5d95fb99-ebb4-42b0-93e7-f944070927cc} | BX64: {92944027-02ca-41fa-8f00-8a05a9844945} | CM64: 2
A65: / | D65: 25_11_01_03 | J65: PS-02 Elektroinstalace čerpací stanice | AG65: ='25_11_01_03 - PS-02 Elekt...'!J30 -> 0 | AN65: =SUM(AG65,AT65) -> 0 | AQ65: STA | AS65: 0 | AT65: =ROUND(SUM(AV65:AW65),2) -> 0 | AU65: ='25_11_01_03 - PS-02 Elekt...'!P79 -> 0 | AV65: ='25_11_01_03 - PS-02 Elekt...'!J33 -> 0 | AW65: ='25_11_01_03 - PS-02 Elekt...'!J34 -> 0 | AX65: ='25_11_01_03 - PS-02 Elekt...'!J35 -> 0 | AY65: ='25_11_01_03 - PS-02 Elekt...'!J36 -> 0 | AZ65: ='25_11_01_03 - PS-02 Elekt...'!F33 -> 0 | BA65: ='25_11_01_03 - PS-02 Elekt...'!F34 -> 0 | BB65: ='25_11_01_03 - PS-02 Elekt...'!F35 -> 0 | BC65: ='25_11_01_03 - PS-02 Elekt...'!F36 -> 0 | BD65: ='25_11_01_03 - PS-02 Elekt...'!F37 -> 0 | BT65: 1 | BV65: IMPORT | BW65: {efc8fdca-d02e-40f7-94f6-e86fca93b522} | BX65: {92944027-02ca-41fa-8f00-8a05a9844945} | CM65: 2
D66: 25_11_01_04 | J66: SO Celoplošná oprava krytu MK | AG66: =ROUND(SUM(AG67:AG70),2) -> 0 | AN66: =SUM(AG66,AT66) -> 0 | AQ66: STA | AS66: =ROUND(SUM(AS67:AS70),2) -> 0 | AT66: =ROUND(SUM(AV66:AW66),2) -> 0 | AU66: =ROUND(SUM(AU67:AU70),5) -> 0 | AV66: =ROUND(AZ66*L29,2) -> 0 | AW66: =ROUND(BA66*L30,2) -> 0 | AX66: =ROUND(BB66*L29,2) -> 0 | AY66: =ROUND(BC66*L30,2) -> 0 | AZ66: =ROUND(SUM(AZ67:AZ70),2) -> 0 | BA66: =ROUND(SUM(BA67:BA70),2) -> 0 | BB66: =ROUND(SUM(BB67:BB70),2) -> 0 | BC66: =ROUND(SUM(BC67:BC70),2) -> 0 | BD66: =ROUND(SUM(BD67:BD70),2) -> 0 | BS66: D | BT66: 1 | BU66: ###NOIMPORT### | BV66: IMPORT | BW66: {82de9259-c06a-465f-965b-a972361c1469} | BX66: {92944027-02ca-41fa-8f00-8a05a9844945} | CM66: 2
A67: / | E67: 25_11_01_04.1 | K67: Oprava krytu - I. etapa | AG67: ='25_11_01_04.1 - Oprava kr...'!J32 -> 0 | AN67: =SUM(AG67,AT67) -> 0 | AQ67: Soupis | AS67: 0 | AT67: =ROUND(SUM(AV67:AW67),2) -> 0 | AU67: ='25_11_01_04.1 - Oprava kr...'!P91 -> 0 | AV67: ='25_11_01_04.1 - Oprava kr...'!J35 -> 0 | AW67: ='25_11_01_04.1 - Oprava kr...'!J36 -> 0 | AX67: ='25_11_01_04.1 - Oprava kr...'!J37 -> 0 | AY67: ='25_11_01_04.1 - Oprava kr...'!J38 -> 0 | AZ67: ='25_11_01_04.1 - Oprava kr...'!F35 -> 0 | BA67: ='25_11_01_04.1 - Oprava kr...'!F36 -> 0 | BB67: ='25_11_01_04.1 - Oprava kr...'!F37 -> 0 | BC67: ='25_11_01_04.1 - Oprava kr...'!F38 -> 0 | BD67: ='25_11_01_04.1 - Oprava kr...'!F39 -> 0 | BT67: 2 | BV67: IMPORT | BW67: {3fe5c491-ee0c-49b8-b9e4-964800946a3c} | BX67: {82de9259-c06a-465f-965b-a972361c1469}
A68: / | E68: 25_11_01_04.2 | K68: Oprava krytu - II. etapa | AG68: ='25_11_01_04.2 - Oprava kr...'!J32 -> 0 | AN68: =SUM(AG68,AT68) -> 0 | AQ68: Soupis | AS68: 0 | AT68: =ROUND(SUM(AV68:AW68),2) -> 0 | AU68: ='25_11_01_04.2 - Oprava kr...'!P91 -> 0 | AV68: ='25_11_01_04.2 - Oprava kr...'!J35 -> 0 | AW68: ='25_11_01_04.2 - Oprava kr...'!J36 -> 0 | AX68: ='25_11_01_04.2 - Oprava kr...'!J37 -> 0 | AY68: ='25_11_01_04.2 - Oprava kr...'!J38 -> 0 | AZ68: ='25_11_01_04.2 - Oprava kr...'!F35 -> 0 | BA68: ='25_11_01_04.2 - Oprava kr...'!F36 -> 0 | BB68: ='25_11_01_04.2 - Oprava kr...'!F37 -> 0 | BC68: ='25_11_01_04.2 - Oprava kr...'!F38 -> 0 | BD68: ='25_11_01_04.2 - Oprava kr...'!F39 -> 0 | BT68: 2 | BV68: IMPORT | BW68: {fa4e3a7e-8d5c-4be4-bc90-609897c40bae} | BX68: {82de9259-c06a-465f-965b-a972361c1469}
A69: / | E69: 25_11_01_04.3 | K69: Oprava krytu - III. etapa | AG69: ='25_11_01_04.3 - Oprava kr...'!J32 -> 0 | AN69: =SUM(AG69,AT69) -> 0 | AQ69: Soupis | AS69: 0 | AT69: =ROUND(SUM(AV69:AW69),2) -> 0 | AU69: ='25_11_01_04.3 - Oprava kr...'!P91 -> 0 | AV69: ='25_11_01_04.3 - Oprava kr...'!J35 -> 0 | AW69: ='25_11_01_04.3 - Oprava kr...'!J36 -> 0 | AX69: ='25_11_01_04.3 - Oprava kr...'!J37 -> 0 | AY69: ='25_11_01_04.3 - Oprava kr...'!J38 -> 0 | AZ69: ='25_11_01_04.3 - Oprava kr...'!F35 -> 0 | BA69: ='25_11_01_04.3 - Oprava kr...'!F36 -> 0 | BB69: ='25_11_01_04.3 - Oprava kr...'!F37 -> 0 | BC69: ='25_11_01_04.3 - Oprava kr...'!F38 -> 0 | BD69: ='25_11_01_04.3 - Oprava kr...'!F39 -> 0 | BT69: 2 | BV69: IMPORT | BW69: {08f14326-f5aa-4b9c-a84e-e78d6046e1e3} | BX69: {82de9259-c06a-465f-965b-a972361c1469}
A70: / | E70: 25_11_01_04.4 | K70: Oprava krytu - úsek SK + DK + výtlak | AG70: ='25_11_01_04.4 - Oprava kr...'!J32 -> 0 | AN70: =SUM(AG70,AT70) -> 0 | AQ70: Soupis | AS70: 0 | AT70: =ROUND(SUM(AV70:AW70),2) -> 0 | AU70: ='25_11_01_04.4 - Oprava kr...'!P91 -> 0 | AV70: ='25_11_01_04.4 - Oprava kr...'!J35 -> 0 | AW70: ='25_11_01_04.4 - Oprava kr...'!J36 -> 0 | AX70: ='25_11_01_04.4 - Oprava kr...'!J37 -> 0 | AY70: ='25_11_01_04.4 - Oprava kr...'!J38 -> 0 | AZ70: ='25_11_01_04.4 - Oprava kr...'!F35 -> 0 | BA70: ='25_11_01_04.4 - Oprava kr...'!F36 -> 0 | BB70: ='25_11_01_04.4 - Oprava kr...'!F37 -> 0 | BC70: ='25_11_01_04.4 - Oprava kr...'!F38 -> 0 | BD70: ='25_11_01_04.4 - Oprava kr...'!F39 -> 0 | BT70: 2 | BV70: IMPORT | BW70: {d747c181-d470-4650-a8c6-f6a4e9a2cda5} | BX70: {82de9259-c06a-465f-965b-a972361c1469}

Sheet 25_11_01_00 - Vedlejší ro...
AT2: {cbc87207-ca2f-44d3-a9ec-4569177a39c7}
AT3: 2
D4: KRYCÍ LIST SOUPISU PRACÍ | M4: v --- níže se nacházejí doplnkové a pomocné údaje k sestavám --- v | AT4: False
D6: Stavba:
E7: ='Rekapitulace stavby'!K6 -> Zliv - Obnova kanalizace v ulici Jáchymovská
D8: Objekt:
E9: 25_11_01_00 - Vedlejší rozpočtové náklady
D11: KSO: | I11: CC-CZ:
D12: Místo: | F12: Zliv | I12: Datum: | J12: ='Rekapitulace stavby'!AN8 -> 25. 9. 2025
D14: Zadavatel: | I14: IČ: | J14: 00245721
E15: Město Zliv | I15: DIČ: | J15: CZ00245721
D17: Účastník: | I17: IČ: | J17: ='Rekapitulace stavby'!AN13 -> Vyplň údaj
E18: ='Rekapitulace stavby'!E14 -> Vyplň údaj | I18: DIČ: | J18: ='Rekapitulace stavby'!AN14 -> Vyplň údaj
D20: Projektant: | I20: IČ: | J20: 06577831
E21: Ing. Jaroslav Žáček Ph.D. | I21: DIČ:
D23: Zpracovatel: | I23: IČ: | J23: =IF('Rekapitulace stavby'!AN19="","",'Rekapitulace stavby'!AN19)
E24: =IF('Rekapitulace stavby'!E20="","",'Rekapitulace stavby'!E20) | I24: DIČ: | J24: =IF('Rekapitulace stavby'!AN20="","",'Rekapitulace stavby'!AN20)
D26: Poznámka:
D30: Cena bez DPH | J30: =ROUND(J84, 2) -> 0
F32: Základ daně | I32: Sazba daně | J32: Výše daně
D33: DPH | E33: základní | F33: =ROUND((SUM(BE84:BE116)), 2) -> 0 | I33: 0.21 | J33: =ROUND(((SUM(BE84:BE116))*I33), 2) -> 0
E34: snížená | F34: =ROUND((SUM(BF84:BF116)), 2) -> 0 | I34: 0.12 | J34: =ROUND(((SUM(BF84:BF116))*I34), 2) -> 0
E35: zákl. přenesená | F35: =ROUND((SUM(BG84:BG116)), 2) -> 0 | I35: 0.21 | J35: =0 -> 0
E36: sníž. přenesená | F36: =ROUND((SUM(BH84:BH116)), 2) -> 0 | I36: 0.12 | J36: =0 -> 0
E37: nulová | F37: =ROUND((SUM(BI84:BI116)), 2) -> 0 | I37: 0 | J37: =0 -> 0
D39: Cena s DPH | G39: v | H39: CZK | J39: =SUM(J30:J37) -> 0
C45: REKAPITULACE ČLENĚNÍ SOUPISU PRACÍ
C47: Stavba:
E48: =E7 -> Zliv - Obnova kanalizace v ulici Jáchymovská
C49: Objekt:
E50: =E9 -> 25_11_01_00 - Vedlejší rozpočtové náklady
C52: Místo: | F52: =F12 -> Zliv | I52: Datum: | J52: =IF(J12="","",J12) -> 25. 9. 2025
C54: Zadavatel: | F54: =E15 -> Město Zliv | I54: Projektant: | J54: =E21 -> Ing. Jaroslav Žáček Ph.D.
C55: Účastník: | F55: =IF(E18="","",E18) -> Vyplň údaj | I55: Zpracovatel: | J55: =E24
C57: Kód dílu - Popis | J57: Cena celkem [CZK]
C59: Náklady stavby celkem | J59: =J84 -> 0 | AU59: -1
D60: VRN - Vedlejší rozpočtové náklady | J60: =J85 -> 0
D61: VRN1 - Průzkumné, geodetické a projektové práce | J61: =J86 -> 0
D62: VRN3 - Zařízení staveniště | J62: =J97 -> 0
D63: VRN4 - Inženýrská činnost | J63: =J100 -> 0
D64: VRN7 - Provozní vlivy | J64: =J114 -> 0
C71: SOUPIS PRACÍ
C73: Stavba:
E74: =E7 -> Zliv - Obnova kanalizace v ulici Jáchymovská
C75: Objekt:
E76: =E9 -> 25_11_01_00 - Vedlejší rozpočtové náklady
C78: Místo: | F78: =F12 -> Zliv | I78: Datum: | J78: =IF(J12="","",J12) -> 25. 9. 2025
C80: Zadavatel: | F80: =E15 -> Město Zliv | I80: Projektant: | J80: =E21 -> Ing. Jaroslav Žáček Ph.D.
C81: Účastník: | F81: =IF(E18="","",E18) -> Vyplň údaj | I81: Zpracovatel: | J81: =E24
C83: PČ | D83: Typ | E83: Kód | F83: Popis | G83: MJ | H83: Množství | I83: J.cena [CZK] | J83: Cena celkem [CZK] | K83: Cenová soustava | N83: DPH | O83: J. Nh [h] | P83: Nh celkem [h] | Q83: J. hmotnost [t] | R83: Hmotnost celkem [t] | S83: J. suť [t] | T83: Suť Celkem [t]
C84: Náklady soupisu celkem | J84: =BK84 -> 0 | P84: =P85 -> 0 | R84: =R85 -> 0 | T84: =T85 -> 0 | AT84: D | AU84: -1 | BK84: =BK85 -> 0
D85: D | E85: VRN | F85: Vedlejší rozpočtové náklady | J85: =BK85 -> 0 | P85: =P86+P97+P100+P114 -> 0 | R85: =R86+R97+R100+R114 -> 0 | T85: =T86+T97+T100+T114 -> 0 | AR85: 5 | AT85: D | AU85: 0 | AY85: ROZPOCET | BK85: =BK86+BK97+BK100+BK114 -> 0
D86: D | E86: VRN1 | F86: Průzkumné, geodetické a projektové práce | J86: =BK86 -> 0 | P86: =SUM(P87:P96) -> 0 | R86: =SUM(R87:R96) -> 0 | T86: =SUM(T87:T96) -> 0 | AR86: 5 | AT86: D | AU86: 1 | AY86: ROZPOCET | BK86: =SUM(BK87:BK96) -> 0
C87: 1 | D87: K | E87: 011403000 | F87: Průzkum výskytu nebezpečných látek bez rozlišení | G87: kus | H87: 10 | J87: =ROUND(I87*H87,2) -> 0 | K87: CS ÚRS 2025 02 | N87: základní | P87: =O87*H87 -> 0 | Q87: 0 | R87: =Q87*H87 -> 0 | S87: 0 | T87: =S87*H87 -> 0 | AR87: 1024 | AT87: K | AU87: 2 | AY87: ROZPOCET | BE87: =IF(N87="základní",J87,0) -> 0 | BF87: =IF(N87="snížená",J87,0) -> 0 | BG87: =IF(N87="zákl. přenesená",J87,0) -> 0 | BH87: =IF(N87="sníž. přenesená",J87,0) -> 0 | BI87: =IF(N87="nulová",J87,0) -> 0 | BJ87: 1 | BK87: =ROUND(I87*H87,2) -> 0 | BL87: 1024 | BM87: -779581113
D88: Online PSC | F88: https://podminky.urs.cz/item/CS_URS_2025_02/011403000 | AT88: Online PSC | AU88: 2
D89: P | F89: Poznámka k položce:_x000D_ - zkouška obsahu PAU - zatřídění asfaltových směsí dle vyhlášky č. 130/2019 Sb._x000D_ - počet zkoušek bude odsouhlasen stavebníkem_x000D_ | AT89: P | AU89: 2
C90: 2 | D90: K | E90: 012103000 | F90: Geodetické práce před výstavbou | G90: soubor | H90: 1 | J90: =ROUND(I90*H90,2) -> 0 | K90: CS ÚRS 2025 02 | N90: základní | P90: =O90*H90 -> 0 | Q90: 0 | R90: =Q90*H90 -> 0 | S90: 0 | T90: =S90*H90 -> 0 | AR90: 1024 | AT90: K | AU90: 2 | AY90: ROZPOCET | BE90: =IF(N90="základní",J90,0) -> 0 | BF90: =IF(N90="snížená",J90,0) -> 0 | BG90: =IF(N90="zákl. přenesená",J90,0) -> 0 | BH90: =IF(N90="sníž. přenesená",J90,0) -> 0 | BI90: =IF(N90="nulová",J90,0) -> 0 | BJ90: 1 | BK90: =ROUND(I90*H90,2) -> 0 | BL90: 1024 | BM90: -1250951093
D91: Online PSC | F91: https://podminky.urs.cz/item/CS_URS_2025_02/012103000 | AT91: Online PSC | AU91: 2
C92: 3 | D92: K | E92: 012303000 | F92: Geodetické práce po výstavbě | G92: soubor | H92: 1 | J92: =ROUND(I92*H92,2) -> 0 | K92: CS ÚRS 2025 02 | N92: základní | P92: =O92*H92 -> 0 | Q92: 0 | R92: =Q92*H92 -> 0 | S92: 0 | T92: =S92*H92 -> 0 | AR92: 1024 | AT92: K | AU92: 2 | AY92: ROZPOCET | BE92: =IF(N92="základní",J92,0) -> 0 | BF92: =IF(N92="snížená",J92,0) -> 0 | BG92: =IF(N92="zákl. přenesená",J92,0) -> 0 | BH92: =IF(N92="sníž. přenesená",J92,0) -> 0 | BI92: =IF(N92="nulová",J92,0) -> 0 | BJ92: 1 | BK92: =ROUND(I92*H92,2) -> 0 | BL92: 1024 | BM92: 1962918600
D93: Online PSC | F93: https://podminky.urs.cz/item/CS_URS_2025_02/012303000 | AT93: Online PSC | AU93: 2
C94: 4 | D94: K | E94: 013254000 | F94: Dokumentace skutečného provedení stavby | G94: soubor | H94: 1 | J94: =ROUND(I94*H94,2) -> 0 | K94: CS ÚRS 2025 02 | N94: základní | P94: =O94*H94 -> 0 | Q94: 0 | R94: =Q94*H94 -> 0 | S94: 0 | T94: =S94*H94 -> 0 | AR94: 1024 | AT94: K | AU94: 2 | AY94: ROZPOCET | BE94: =IF(N94="základní",J94,0) -> 0 | BF94: =IF(N94="snížená",J94,0) -> 0 | BG94: =IF(N94="zákl. přenesená",J94,0) -> 0 | BH94: =IF(N94="sníž. přenesená",J94,0) -> 0 | BI94: =IF(N94="nulová",J94,0) -> 0 | BJ94: 1 | BK94: =ROUND(I94*H94,2) -> 0 | BL94: 1024 | BM94: -2093184799
D95: Online PSC | F95: https://podminky.urs.cz/item/CS_URS_2025_02/013254000 | AT95: Online PSC | AU95: 2
C96: 5 | D96: K | E96: R011514000 | F96: Vytyčení a ochrana inženýrských sítí | G96: kpl | H96: 1 | J96: =ROUND(I96*H96,2) -> 0 | N96: základní | P96: =O96*H96 -> 0 | Q96: 0 | R96: =Q96*H96 -> 0 | S96: 0 | T96: =S96*H96 -> 0 | AR96: 1024 | AT96: K | AU96: 2 | AY96: ROZPOCET | BE96: =IF(N96="základní",J96,0) -> 0 | BF96: =IF(N96="snížená",J96,0) -> 0 | BG96: =IF(N96="zákl. přenesená",J96,0) -> 0 | BH96: =IF(N96="sníž. přenesená",J96,0) -> 0 | BI96: =IF(N96="nulová",J96,0) -> 0 | BJ96: 1 | BK96: =ROUND(I96*H96,2) -> 0 | BL96: 1024 | BM96: 92680309
D97: D | E97: VRN3 | F97: Zařízení staveniště | J97: =BK97 -> 0 | P97: =SUM(P98:P99) -> 0 | R97: =SUM(R98:R99) -> 0 | T97: =SUM(T98:T99) -> 0 | AR97: 5 | AT97: D | AU97: 1 | AY97: ROZPOCET | BK97: =SUM(BK98:BK99) -> 0
C98: 6 | D98: K | E98: 030001000 | F98: Zařízení staveniště | G98: soubor | H98: 1 | J98: =ROUND(I98*H98,2) -> 0 | K98: CS ÚRS 2025 02 | N98: základní | P98: =O98*H98 -> 0 | Q98: 0 | R98: =Q98*H98 -> 0 | S98: 0 | T98: =S98*H98 -> 0 | AR98: 1024 | AT98: K | AU98: 2 | AY98: ROZPOCET | BE98: =IF(N98="základní",J98,0) -> 0 | BF98: =IF(N98="snížená",J98,0) -> 0 | BG98: =IF(N98="zákl. přenesená",J98,0) -> 0 | BH98: =IF(N98="sníž. přenesená",J98,0) -> 0 | BI98: =IF(N98="nulová",J98,0) -> 0 | BJ98: 1 | BK98: =ROUND(I98*H98,2) -> 0 | BL98: 1024 | BM98: 1489023735
D99: Online PSC | F99: https://podminky.urs.cz/item/CS_URS_2025_02/030001000 | AT99: Online PSC | AU99: 2
D100: D | E100: VRN4 | F100: Inženýrská činnost | J100: =BK100 -> 0 | P100: =SUM(P101:P113) -> 0 | R100: =SUM(R101:R113) -> 0 | T100: =SUM(T101:T113) -> 0 | AR100: 5 | AT100: D | AU100: 1 | AY100: ROZPOCET | BK100: =SUM(BK101:BK113) -> 0
C101: 7 | D101: K | E101: 041903000 | F101: Dozor jiné osoby | G101: soubor | H101: 1 | J101: =ROUND(I101*H101,2) -> 0 | K101: CS ÚRS 2025 02 | N101: základní | P101: =O101*H101 -> 0 | Q101: 0 | R101: =Q101*H101 -> 0 | S101: 0 | T101: =S101*H101 -> 0 | AR101: 1024 | AT101: K | AU101: 2 | AY101: ROZPOCET | BE101: =IF(N101="základní",J101,0) -> 0 | BF101: =IF(N101="snížená",J101,0) -> 0 | BG101: =IF(N101="zákl. přenesená",J101,0) -> 0 | BH101: =IF(N101="sníž. přenesená",J101,0) -> 0 | BI101: =IF(N101="nulová",J101,0) -> 0 | BJ101: 1 | BK101: =ROUND(I101*H101,2) -> 0 | BL101: 1024 | BM101: -908340397
D102: Online PSC | F102: https://podminky.urs.cz/item/CS_URS_2025_02/041903000 | AT102: Online PSC | AU102: 2
D103: P | F103: Poznámka k položce:_x000D_ - dozor hydrogeologa | AT103: P | AU103: 2
C104: 8 | D104: K | E104: 043134000 | F104: Zkoušky zatěžovací | G104: soubor | H104: 20 | J104: =ROUND(I104*H104,2) -> 0 | K104: CS ÚRS 2025 02 | N104: základní | P104: =O104*H104 -> 0 | Q104: 0 | R104: =Q104*H104 -> 0 | S104: 0 | T104: =S104*H104 -> 0 | AR104: 1024 | AT104: K | AU104: 2 | AY104: ROZPOCET | BE104: =IF(N104="základní",J104,0) -> 0 | BF104: =IF(N104="snížená",J104,0) -> 0 | BG104: =IF(N104="zákl. přenesená",J104,0) -> 0 | BH104: =IF(N104="sníž. přenesená",J104,0) -> 0 | BI104: =IF(N104="nulová",J104,0) -> 0 | BJ104: 1 | BK104: =ROUND(I104*H104,2) -> 0 | BL104: 1024 | BM104: 810793346
D105: Online PSC | F105: https://podminky.urs.cz/item/CS_URS_2025_02/043134000 | AT105: Online PSC | AU105: 2
D106: P | F106: Poznámka k položce:_x000D_ - skutečný počet prováděných zkoušek určí technický dozor stavebníka při provádění stavby v závislosti na skutečně zjištěných geologických podmínkách a především rozdílnosti zastižených zemin použitých do zásypu výkopů po pokládce potrubí. | AT106: P | AU106: 2
D107: VV | F107: 20 | H107: 20 | AT107: VV | AU107: 2 | AV107: 2 | AW107: True | AX107: 1 | AY107: ROZPOCET
C108: 9 | D108: K | E108: 049303000 | F108: Náklady vzniklé v souvislosti s předáním stavby | G108: soubor | H108: 1 | J108: =ROUND(I108*H108,2) -> 0 | K108: CS ÚRS 2025 02 | N108: základní | P108: =O108*H108 -> 0 | Q108: 0 | R108: =Q108*H108 -> 0 | S108: 0 | T108: =S108*H108 -> 0 | AR108: 1024 | AT108: K | AU108: 2 | AY108: ROZPOCET | BE108: =IF(N108="základní",J108,0) -> 0 | BF108: =IF(N108="snížená",J108,0) -> 0 | BG108: =IF(N108="zákl. přenesená",J108,0) -> 0 | BH108: =IF(N108="sníž. přenesená",J108,0) -> 0 | BI108: =IF(N108="nulová",J108,0) -> 0 | BJ108: 1 | BK108: =ROUND(I108*H108,2) -> 0 | BL108: 1024 | BM108: -269668471
D109: Online PSC | F109: https://podminky.urs.cz/item/CS_URS_2025_02/049303000 | AT109: Online PSC | AU109: 2
C110: 10 | D110: K | E110: XDIO0001 | F110: Dočasná dopravní opatření, včetně návrhu a zpracování DIO a vyřízení | G110: soubor | H110: 1 | J110: =ROUND(I110*H110,2) -> 0 | N110: základní | P110: =O110*H110 -> 0 | Q110: 0 | R110: =Q110*H110 -> 0 | S110: 0 | T110: =S110*H110 -> 0 | AR110: 1024 | AT110: K | AU110: 2 | AY110: ROZPOCET | BE110: =IF(N110="základní",J110,0) -> 0 | BF110: =IF(N110="snížená",J110,0) -> 0 | BG110: =IF(N110="zákl. přenesená",J110,0) -> 0 | BH110: =IF(N110="sníž. přenesená",J110,0) -> 0 | BI110: =IF(N110="nulová",J110,0) -> 0 | BJ110: 1 | BK110: =ROUND(I110*H110,2) -> 0 | BL110: 1024 | BM110: -692072678
C111: 11 | D111: K | E111: XPPASOBJ | F111: Pasport stávajících objektů v blízkosti stavby | G111: soubor | H111: 1 | J111: =ROUND(I111*H111,2) -> 0 | N111: základní | P111: =O111*H111 -> 0 | Q111: 0 | R111: =Q111*H111 -> 0 | S111: 0 | T111: =S111*H111 -> 0 | AR111: 1024 | AT111: K | AU111: 2 | AY111: ROZPOCET | BE111: =IF(N111="základní",J111,0) -> 0 | BF111: =IF(N111="snížená",J111,0) -> 0 | BG111: =IF(N111="zákl. přenesená",J111,0) -> 0 | BH111: =IF(N111="sníž. přenesená",J111,0) -> 0 | BI111: =IF(N111="nulová",J111,0) -> 0 | BJ111: 1 | BK111: =ROUND(I111*H111,2) -> 0 | BL111: 1024 | BM111: 1220872084
C112: 12 | D112: K | E112: XUZVP0001 | F112: Užívání veřejných ploch a prostranství | G112: soubor | H112: 1 | J112: =ROUND(I112*H112,2) -> 0 | N112: základní | P112: =O112*H112 -> 0 | Q112: 0 | R112: =Q112*H112 -> 0 | S112: 0 | T112: =S112*H112 -> 0 | AR112: 1024 | AT112: K | AU112: 2 | AY112: ROZPOCET | BE112: =IF(N112="základní",J112,0) -> 0 | BF112: =IF(N112="snížená",J112,0) -> 0 | BG112: =IF(N112="zákl. přenesená",J112,0) -> 0 | BH112: =IF(N112="sníž. přenesená",J112,0) -> 0 | BI112: =IF(N112="nulová",J112,0) -> 0 | BJ112: 1 | BK112: =ROUND(I112*H112,2) -> 0 | BL112: 1024 | BM112: 1400940160
D113: P | F113: Poznámka k položce:_x000D_ - náklady na užívání ploch pro zařízení staveniště, skládky materiálu a hmot, mezideponie apod._x000D_ - včetně nákladů na uvedení dotčených ploch do původního stavu a protokolární předání ploch zpět jejich majitelům | AT113: P | AU113: 2
D114: D | E114: VRN7 | F114: Provozní vlivy | J114: =BK114 -> 0 | P114: =SUM(P115:P116) -> 0 | R114: =SUM(R115:R116) -> 0 | T114: =SUM(T115:T116) -> 0 | AR114: 5 | AT114: D | AU114: 1 | AY114: ROZPOCET | BK114: =SUM(BK115:BK116) -> 0
C115: 13 | D115: K | E115: R71103000 | F115: Součinnost provozovatele při stavbě | G115: kpl | H115: 1 | J115: =ROUND(I115*H115,2) -> 0 | N115: základní | P115: =O115*H115 -> 0 | Q115: 0 | R115: =Q115*H115 -> 0 | S115: 0 | T115: =S115*H115 -> 0 | AR115: 1024 | AT115: K | AU115: 2 | AY115: ROZPOCET | BE115: =IF(N115="základní",J115,0) -> 0 | BF115: =IF(N115="snížená",J115,0) -> 0 | BG115: =IF(N115="zákl. přenesená",J115,0) -> 0 | BH115: =IF(N115="sníž. přenesená",J115,0) -> 0 | BI115: =IF(N115="nulová",J115,0) -> 0 | BJ115: 1 | BK115: =ROUND(I115*H115,2) -> 0 | BL115: 1024 | BM115: -1344117157
D116: P | F116: Poznámka k položce:_x000D_ Položka obsahuje náklady provozovatele na součinnost při stavbě tzn. zajištění dohledu při provádění napojení na stávající vodovod a kanalizaci a při provádění stavby, stavební dohled apod._x000D_ | AT116: P | AU116: 2

Sheet 25_11_01_01.1.1 - Jednotn...
AT2: {1a78c0d7-f267-4b08-8ee5-8d64c6ad5dc2}
AT3: 2
D4: KRYCÍ LIST SOUPISU PRACÍ | M4: v --- níže se nacházejí doplnkové a pomocné údaje k sestavám --- v | AT4: False
D6: Stavba:
E7: ='Rekapitulace stavby'!K6 -> Zliv - Obnova kanalizace v ulici Jáchymovská
D8: Objekt:
E9: 25_11_01_01 - SO-01 Obnova kanalizace
D10: Soupis:
E11: 25_11_01_01.1 - SO-01.1 Jednotná kanalizace Tyršova - Jáchymovská
D12: Úroveň 3:
E13: 25_11_01_01.1.1 - Jednotná kanalizace - etapa I. - Tyršova
D15: KSO: | I15: CC-CZ:
D16: Místo: | F16: Zliv | I16: Datum: | J16: ='Rekapitulace stavby'!AN8 -> 25. 9. 2025
D18: Zadavatel: | I18: IČ: | J18: 00245721
E19: Město Zliv | I19: DIČ: | J19: CZ00245721
D21: Účastník: | I21: IČ: | J21: ='Rekapitulace stavby'!AN13 -> Vyplň údaj
E22: ='Rekapitulace stavby'!E14 -> Vyplň údaj | I22: DIČ: | J22: ='Rekapitulace stavby'!AN14 -> Vyplň údaj
D24: Projektant: | I24: IČ: | J24: 06577831
E25: Ing. Jaroslav Žáček Ph.D. | I25: DIČ:
D27: Zpracovatel: | I27: IČ: | J27: =IF('Rekapitulace stavby'!AN19="","",'Rekapitulace stavby'!AN19)
E28: =IF('Rekapitulace stavby'!E20="","",'Rekapitulace stavby'!E20) | I28: DIČ: | J28: =IF('Rekapitulace stavby'!AN20="","",'Rekapitulace stavby'!AN20)
D30: Poznámka:
D34: Cena bez DPH | J34: =ROUND(J101, 2) -> 0
F36: Základ daně | I36: Sazba daně | J36: Výše daně
D37: DPH | E37: základní | F37: =ROUND((SUM(BE101:BE563)), 2) -> 0 | I37: 0.21 | J37: =ROUND(((SUM(BE101:BE563))*I37), 2) -> 0
E38: snížená | F38: =ROUND((SUM(BF101:BF563)), 2) -> 0 | I38: 0.12 | J38: =ROUND(((SUM(BF101:BF563))*I38), 2) -> 0
E39: zákl. přenesená | F39: =ROUND((SUM(BG101:BG563)), 2) -> 0 | I39: 0.21 | J39: =0 -> 0
E40: sníž. přenesená | F40: =ROUND((SUM(BH101:BH563)), 2) -> 0 | I40: 0.12 | J40: =0 -> 0
E41: nulová | F41: =ROUND((SUM(BI101:BI563)), 2) -> 0 | I41: 0 | J41: =0 -> 0
D43: Cena s DPH | G43: v | H43: CZK | J43: =SUM(J34:J41) -> 0
C49: REKAPITULACE ČLENĚNÍ SOUPISU PRACÍ
C51: Stavba:
E52: =E7 -> Zliv - Obnova kanalizace v ulici Jáchymovská
C53: Objekt:
E54: 25_11_01_01 - SO-01 Obnova kanalizace
C55: Soupis:
E56: 25_11_01_01.1 - SO-01.1 Jednotná kanalizace Tyršova - Jáchymovská
C57: Úroveň 3:
E58: =E13 -> 25_11_01_01.1.1 - Jednotná kanalizace - etapa I. - Tyršova
C60: Místo: | F60: =F16 -> Zliv | I60: Datum: | J60: =IF(J16="","",J16) -> 25. 9. 2025
C62: Zadavatel: | F62: =E19 -> Město Zliv | I62: Projektant: | J62: =E25 -> Ing. Jaroslav Žáček Ph.D.
C63: Účastník: | F63: =IF(E22="","",E22) -> Vyplň údaj | I63: Zpracovatel: | J63: =E28
C65: Kód dílu - Popis | J65: Cena celkem [CZK]
C67: Náklady stavby celkem | J67: =J101 -> 0 | AU67: -1
D68: HSV - Práce a dodávky HSV | J68: =J102 -> 0
D69: 1 - Zemní práce | J69: =J103 -> 0
D70: 2 - Zakládání | J70: =J250 -> 0
D71: 3 - Svislé a kompletní konstrukce | J71: =J255 -> 0
D72: 4 - Vodorovné konstrukce | J72: =J272 -> 0
D73: 5 - Komunikace pozemní | J73: =J303 -> 0
D74: 8 - Trubní vedení | J74: =J319 -> 0
D75: 9 - Ostatní konstrukce a práce, bourání | J75: =J515 -> 0
D76: 997 - Přesun sutě | J76: =J538 -> 0
D77: 998 - Přesun hmot | J77: =J561 -> 0
C84: SOUPIS PRACÍ
C86: Stavba:
E87: =E7 -> Zliv - Obnova kanalizace v ulici Jáchymovská
C88: Objekt:
E89: 25_11_01_01 - SO-01 Obnova kanalizace
C90: Soupis:
E91: 25_11_01_01.1 - SO-01.1 Jednotná kanalizace Tyršova - Jáchymovská
C92: Úroveň 3:
E93: =E13 -> 25_11_01_01.1.1 - Jednotná kanalizace - etapa I. - Tyršova
C95: Místo: | F95: =F16 -> Zliv | I95: Datum: | J95: =IF(J16="","",J16) -> 25. 9. 2025
C97: Zadavatel: | F97: =E19 -> Město Zliv | I97: Projektant: | J97: =E25 -> Ing. Jaroslav Žáček Ph.D.
C98: Účastník: | F98: =IF(E22="","",E22) -> Vyplň údaj | I98: Zpracovatel: | J98: =E28
C100: PČ | D100: Typ | E100: Kód | F100: Popis | G100: MJ | H100: Množství | I100: J.cena [CZK] | J100: Cena celkem [CZK] | K100: Cenová soustava | N100: DPH | O100: J. Nh [h] | P100: Nh celkem [h] | Q100: J. hmotnost [t] | R100: Hmotnost celkem [t] | S100: J. suť [t] | T100: Suť Celkem [t]
C101: Náklady soupisu celkem | J101: =BK101 -> 0 | P101: =P102 -> 0 | R101: =R102 -> 1003.7703 | T101: =T102 -> 684.5417 | AT101: D | AU101: -1 | BK101: =BK102 -> 0
D102: D | E102: HSV | F102: Práce a dodávky HSV | J102: =BK102 -> 0 | P102: =P103+P250+P255+P272+P303+P319+P515+P538+P561 -> 0 | R102: =R103+R250+R255+R272+R303+R319+R515+R538+R561 -> 1003.7703 | T102: =T103+T250+T255+T272+T303+T319+T515+T538+T561 -> 684.5417 | AR102: 1 | AT102: D | AU102: 0 | AY102: ROZPOCET | BK102: =BK103+BK250+BK255+BK272+BK303+BK319+BK515+BK538+BK561 -> 0
D103: D | E103: 1 | F103: Zemní práce | J103: =BK103 -> 0 | P103: =SUM(P104:P249) -> 0 | R103: =SUM(R104:R249) -> 799.9129 | T103: =SUM(T104:T249) -> 367.6447 | AR103: 1 | AT103: D | AU103: 1 | AY103: ROZPOCET | BK103: =SUM(BK104:BK249) -> 0
C104: 1 | D104: K | E104: 111251101 | F104: Odstranění křovin a stromů s odstraněním kořenů strojně průměru kmene do 100 mm v rovině nebo ve svahu sklonu terénu do 1:5, při celkové ploše do 100 m2 | G104: m2 | H104: 10 | J104: =ROUND(I104*H104,2) -> 0 | K104: CS ÚRS 2025 02 | N104: základní | P104: =O104*H104 -> 0 | Q104: 0 | R104: =Q104*H104 -> 0 | S104: 0 | T104: =S104*H104 -> 0 | AR104: 4 | AT104: K | AU104: 2 | AY104: ROZPOCET | BE104: =IF(N104="základní",J104,0) -> 0 | BF104: =IF(N104="snížená",J104,0) -> 0 | BG104: =IF(N104="zákl. přenesená",J104,0) -> 0 | BH104: =IF(N104="sníž. přenesená",J104,0) -> 0 | BI104: =IF(N104="nulová",J104,0) -> 0 | BJ104: 1 | BK104: =ROUND(I104*H104,2) -> 0 | BL104: 4 | BM104: -760841545
D105: Online PSC | F105: https://podminky.urs.cz/item/CS_URS_2025_02/111251101 | AT105: Online PSC | AU105: 2
C106: 2 | D106: K | E106: 113106123 | F106: Rozebrání dlažeb komunikací pro pěší s přemístěním hmot na skládku na vzdálenost do 3 m nebo s naložením na dopravní prostředek s ložem z kameniva nebo živice a s jakoukoliv výplní spár ručně ze zámkové dlažby | G106: m2 | H106: 96.71 | J106: =ROUND(I106*H106,2) -> 0 | K106: CS ÚRS 2025 02 | N106: základní | P106: =O106*H106 -> 0 | Q106: 0 | R106: =Q106*H106 -> 0 | S106: 0.08 | T106: =S106*H106 -> 7.7368 | AR106: 4 | AT106: K | AU106: 2 | AY106: ROZPOCET | BE106: =IF(N106="základní",J106,0) -> 0 | BF106: =IF(N106="snížená",J106,0) -> 0 | BG106: =IF(N106="zákl. přenesená",J106,0) -> 0 | BH106: =IF(N106="sníž. přenesená",J106,0) -> 0 | BI106: =IF(N106="nulová",J106,0) -> 0 | BJ106: 1 | BK106: =ROUND(I106*H106,2) -> 0 | BL106: 4 | BM106: 527125635
D107: Online PSC | F107: https://podminky.urs.cz/item/CS_URS_2025_02/113106123 | AT107: Online PSC | AU107: 2
D108: VV | F108: 50,9*1,9 | H108: 96.71 | AT108: VV | AU108: 2 | AV108: 2 | AW108: True | AX108: 1 | AY108: ROZPOCET
C109: 3 | D109: K | E109: 113106171 | F109: Rozebrání dlažeb vozovek a ploch s přemístěním hmot na skládku na vzdálenost do 3 m nebo s naložením na dopravní prostředek, s jakoukoliv výplní spár ručně ze zámkové dlažby s ložem z kameniva | G109: m2 | H109: 158.15 | J109: =ROUND(I109*H109,2) -> 0 | K109: CS ÚRS 2025 02 | N109: základní | P109: =O109*H109 -> 0 | Q109: 0 | R109: =Q109*H109 -> 0 | S109: 0.08 | T109: =S109*H109 -> 12.652 | AR109: 4 | AT109: K | AU109: 2 | AY109: ROZPOCET | BE109: =IF(N109="základní",J109,0) -> 0 | BF109: =IF(N109="snížená",J109,0) -> 0 | BG109: =IF(N109="zákl. přenesená",J109,0) -> 0 | BH109: =IF(N109="sníž. přenesená",J109,0) -> 0 | BI109: =IF(N109="nulová",J109,0) -> 0 | BJ109: 1 | BK109: =ROUND(I109*H109,2) -> 0 | BL109: 4 | BM109: 599803878
D110: Online PSC | F110: https://podminky.urs.cz/item/CS_URS_2025_02/113106171 | AT110: Online PSC | AU110: 2
D111: VV | F111: 158,15 | H111: 158.15 | AT111: VV | AU111: 2 | AV111: 2 | AW111: True | AX111: 1 | AY111: ROZPOCET
C112: 4 | D112: K | E112: 113107162 | F112: Odstranění podkladů nebo krytů strojně plochy jednotlivě přes 50 m2 do 200 m2 s přemístěním hmot na skládku na vzdálenost do 20 m nebo s naložením na dopravní prostředek z kameniva hrubého drceného, o tl. vrstvy přes 100 do 200 mm | G112: m2 | H112: 45.81 | J112: =ROUND(I112*H112,2) -> 0 | K112: CS ÚRS 2025 02 | N112: základní | P112: =O112*H112 -> 0 | Q112: 0 | R112: =Q112*H112 -> 0 | S112: 0.29 | T112: =S112*H112 -> 13.2849 | AR112: 4 | AT112: K | AU112: 2 | AY112: ROZPOCET | BE112: =IF(N112="základní",J112,0) -> 0 | BF112: =IF(N112="snížená",J112,0) -> 0 | BG112: =IF(N112="zákl. přenesená",J112,0) -> 0 | BH112: =IF(N112="sníž. přenesená",J112,0) -> 0 | BI112: =IF(N112="nulová",J112,0) -> 0 | BJ112: 1 | BK112: =ROUND(I112*H112,2) -> 0 | BL112: 4 | BM112: -677841214
D113: Online PSC | F113: https://podminky.urs.cz/item/CS_URS_2025_02/113107162 | AT113: Online PSC | AU113: 2
D114: VV | F114: 50,9*0,9 | H114: 45.81 | AT114: VV | AU114: 2 | AV114: 2 | AW114: True | AX114: 1 | AY114: ROZPOCET
C115: 5 | D115: K | E115: 113107163 | F115: Odstranění podkladů nebo krytů strojně plochy jednotlivě přes 50 m2 do 200 m2 s přemístěním hmot na skládku na vzdálenost do 20 m nebo s naložením na dopravní prostředek z kameniva hrubého drceného, o tl. vrstvy přes 200 do 300 mm | G115: m2 | H115: 509.7 | J115: =ROUND(I115*H115,2) -> 0 | K115: CS ÚRS 2025 02 | N115: základní | P115: =O115*H115 -> 0 | Q115: 0 | R115: =Q115*H115 -> 0 | S115: 0.44 | T115: =S115*H115 -> 224.268 | AR115: 4 | AT115: K | AU115: 2 | AY115: ROZPOCET | BE115: =IF(N115="základní",J115,0) -> 0 | BF115: =IF(N115="snížená",J115,0) -> 0 | BG115: =IF(N115="zákl. přenesená",J115,0) -> 0 | BH115: =IF(N115="sníž. přenesená",J115,0) -> 0 | BI115: =IF(N115="nulová",J115,0) -> 0 | BJ115: 1 | BK115: =ROUND(I115*H115,2) -> 0 | BL115: 4 | BM115: 1374843922
D116: Online PSC | F116: https://podminky.urs.cz/item/CS_URS_2025_02/113107163 | AT116: Online PSC | AU116: 2
D117: VV | F117: 79,3 "pojížděný chodník" | H117: 79.3 | AT117: VV | AU117: 2 | AV117: 2 | AW117: True | AX117: 0 | AY117: ROZPOCET
D118: VV | F118: 430,4 "vozovka" | H118: 430.4 | AT118: VV | AU118: 2 | AV118: 2 | AW118: True | AX118: 0 | AY118: ROZPOCET
D119: VV | F119: Součet | H119: 509.7 | AT119: VV | AU119: 2 | AV119: 4 | AW119: True | AX119: 1 | AY119: ROZPOCET
C120: 6 | D120: K | E120: 113107182 | F120: Odstranění podkladů nebo krytů strojně plochy jednotlivě přes 50 m2 do 200 m2 s přemístěním hmot na skládku na vzdálenost do 20 m nebo s naložením na dopravní prostředek živičných, o tl. vrstvy přes 50 do 100 mm | G120: m2 | H120: 430.4 | J120: =ROUND(I120*H120,2) -> 0 | K120: CS ÚRS 2025 02 | N120: základní | P120: =O120*H120 -> 0 | Q120: 0 | R120: =Q120*H120 -> 0 | S120: 0.22 | T120: =S120*H120 -> 94.688 | AR120: 4 | AT120: K | AU120: 2 | AY120: ROZPOCET | BE120: =IF(N120="základní",J120,0) -> 0 | BF120: =IF(N120="snížená",J120,0) -> 0 | BG120: =IF(N120="zákl. přenesená",J120,0) -> 0 | BH120: =IF(N120="sníž. přenesená",J120,0) -> 0 | BI120: =IF(N120="nulová",J120,0) -> 0 | BJ120: 1 | BK120: =ROUND(I120*H120,2) -> 0 | BL120: 4 | BM120: 780683408
D121: Online PSC | F121: https://podminky.urs.cz/item/CS_URS_2025_02/113107182 | AT121: Online PSC | AU121: 2
C122: 7 | D122: K | E122: 113202111 | F122: Vytrhání obrub s vybouráním lože, s přemístěním hmot na skládku na vzdálenost do 3 m nebo s naložením na dopravní prostředek z krajníků nebo obrubníků stojatých | G122: m | H122: 143 | J122: =ROUND(I122*H122,2) -> 0 | K122: CS ÚRS 2025 02 | N122: základní | P122: =O122*H122 -> 0 | Q122: 0 | R122: =Q122*H122 -> 0 | S122: 0.105 | T122: =S122*H122 -> 15.015 | AR122: 4 | AT122: K | AU122: 2 | AY122: ROZPOCET | BE122: =IF(N122="základní",J122,0) -> 0 | BF122: =IF(N122="snížená",J122,0) -> 0 | BG122: =IF(N122="zákl. přenesená",J122,0) -> 0 | BH122: =IF(N122="sníž. přenesená",J122,0) -> 0 | BI122: =IF(N122="nulová",J122,0) -> 0 | BJ122: 1 | BK122: =ROUND(I122*H122,2) -> 0 | BL122: 4 | BM122: -726002952
D123: Online PSC | F123: https://podminky.urs.cz/item/CS_URS_2025_02/113202111 | AT123: Online PSC | AU123: 2
D124: VV | F124: 58+33+4+48 | H124: 143 | AT124: VV | AU124: 2 | AV124: 2 | AW124: True | AX124: 1 | AY124: ROZPOCET
C125: 8 | D125: K | E125: 115101201 | F125: Čerpání vody na dopravní výšku do 10 m s uvažovaným průměrným přítokem do 500 l/min | G125: hod | H125: 72.05 | J125: =ROUND(I125*H125,2) -> 0 | K125: CS ÚRS 2025 02 | N125: základní | P125: =O125*H125 -> 0 | Q125: 3e-05 | R125: =Q125*H125 -> 0.0021615 | S125: 0 | T125: =S125*H125 -> 0 | AR125: 4 | AT125: K | AU125: 2 | AY125: ROZPOCET | BE125: =IF(N125="základní",J125,0) -> 0 | BF125: =IF(N125="snížená",J125,0) -> 0 | BG125: =IF(N125="zákl. přenesená",J125,0) -> 0 | BH125: =IF(N125="sníž. přenesená",J125,0) -> 0 | BI125: =IF(N125="nulová",J125,0) -> 0 | BJ125: 1 | BK125: =ROUND(I125*H125,2) -> 0 | BL125: 4 | BM125: 2117579090
D126: Online PSC | F126: https://podminky.urs.cz/item/CS_URS_2025_02/115101201 | AT126: Online PSC | AU126: 2
D127: VV | F127: (276,15+17,6+66,5)*0,2 | H127: 72.05 | AT127: VV | AU127: 2 | AV127: 2 | AW127: True | AX127: 1 | AY127: ROZPOCET
C128: 9 | D128: K | E128: 115101301 | F128: Pohotovost záložní čerpací soupravy pro dopravní výšku do 10 m s uvažovaným průměrným přítokem do 500 l/min | G128: den | H128: 9.006 | J128: =ROUND(I128*H128,2) -> 0 | K128: CS ÚRS 2025 02 | N128: základní | P128: =O128*H128 -> 0 | Q128: 0 | R128: =Q128*H128 -> 0 | S128: 0 | T128: =S128*H128 -> 0 | AR128: 4 | AT128: K | AU128: 2 | AY128: ROZPOCET | BE128: =IF(N128="základní",J128,0) -> 0 | BF128: =IF(N128="snížená",J128,0) -> 0 | BG128: =IF(N128="zákl. přenesená",J128,0) -> 0 | BH128: =IF(N128="sníž. přenesená",J128,0) -> 0 | BI128: =IF(N128="nulová",J128,0) -> 0 | BJ128: 1 | BK128: =ROUND(I128*H128,2) -> 0 | BL128: 4 | BM128: 2125744439
D129: Online PSC | F129: https://podminky.urs.cz/item/CS_URS_2025_02/115101301 | AT129: Online PSC | AU129: 2
D130: VV | F130: 72,05/8 | H130: 9.006 | AT130: VV | AU130: 2 | AV130: 2 | AW130: True | AX130: 1 | AY130: ROZPOCET
C131: 10 | D131: K | E131: 119001401 | F131: Dočasné zajištění podzemního potrubí nebo vedení ve výkopišti ve stavu i poloze, ve kterých byla na začátku zemních prací a to s podepřením, vzepřením nebo vyvěšením, případně s ochranným bedněním, se zřízením a odstraněním zajišťovací konstrukce, s opotřebením hmot potrubí ocelového nebo litinového, jmenovité světlosti DN do 200 mm | G131: m | H131: 22 | J131: =ROUND(I131*H131,2) -> 0 | K131: CS ÚRS 2025 02 | N131: základní | P131: =O131*H131 -> 0 | Q131: 0.00868 | R131: =Q131*H131 -> 0.19096 | S131: 0 | T131: =S131*H131 -> 0 | AR131: 4 | AT131: K | AU131: 2 | AY131: ROZPOCET | BE131: =IF(N131="základní",J131,0) -> 0 | BF131: =IF(N131="snížená",J131,0) -> 0 | BG131: =IF(N131="zákl. přenesená",J131,0) -> 0 | BH131: =IF(N131="sníž. přenesená",J131,0) -> 0 | BI131: =IF(N131="nulová",J131,0) -> 0 | BJ131: 1 | BK131: =ROUND(I131*H131,2) -> 0 | BL131: 4 | BM131: -2121376344
D132: Online PSC | F132: https://podminky.urs.cz/item/CS_URS_2025_02/119001401 | AT132: Online PSC | AU132: 2
D133: VV | F133: 22 | H133: 22 | AT133: VV | AU133: 2 | AV133: 2 | AW133: True | AX133: 1 | AY133: ROZPOCET
...

Sheet 25_11_01_01.1.2 - Jednotn...
AT2: {fa9f7ba0-cad8-4875-9661-c165227aded5}
AT3: 2
D4: KRYCÍ LIST SOUPISU PRACÍ | M4: v --- níže se nacházejí doplnkové a pomocné údaje k sestavám --- v | AT4: False
D6: Stavba:
E7: ='Rekapitulace stavby'!K6 -> Zliv - Obnova kanalizace v ulici Jáchymovská
D8: Objekt:
E9: 25_11_01_01 - SO-01 Obnova kanalizace
D10: Soupis:
E11: 25_11_01_01.1 - SO-01.1 Jednotná kanalizace Tyršova - Jáchymovská
D12: Úroveň 3:
E13: 25_11_01_01.1.2 - Jednotná kanalizace - etapa II. - Jáchymovská I
D15: KSO: | I15: CC-CZ:
D16: Místo: | F16: Zliv | I16: Datum: | J16: ='Rekapitulace stavby'!AN8 -> 25. 9. 2025
D18: Zadavatel: | I18: IČ: | J18: 00245721
E19: Město Zliv | I19: DIČ: | J19: CZ00245721
D21: Účastník: | I21: IČ: | J21: ='Rekapitulace stavby'!AN13 -> Vyplň údaj
E22: ='Rekapitulace stavby'!E14 -> Vyplň údaj | I22: DIČ: | J22: ='Rekapitulace stavby'!AN14 -> Vyplň údaj
D24: Projektant: | I24: IČ: | J24: 06577831
E25: Ing. Jaroslav Žáček Ph.D. | I25: DIČ:
D27: Zpracovatel: | I27: IČ: | J27: =IF('Rekapitulace stavby'!AN19="","",'Rekapitulace stavby'!AN19)
E28: =IF('Rekapitulace stavby'!E20="","",'Rekapitulace stavby'!E20) | I28: DIČ: | J28: =IF('Rekapitulace stavby'!AN20="","",'Rekapitulace stavby'!AN20)
D30: Poznámka:
D34: Cena bez DPH | J34: =ROUND(J101, 2) -> 0
F36: Základ daně | I36: Sazba daně | J36: Výše daně
D37: DPH | E37: základní | F37: =ROUND((SUM(BE101:BE519)), 2) -> 0 | I37: 0.21 | J37: =ROUND(((SUM(BE101:BE519))*I37), 2) -> 0
E38: snížená | F38: =ROUND((SUM(BF101:BF519)), 2) -> 0 | I38: 0.12 | J38: =ROUND(((SUM(BF101:BF519))*I38), 2) -> 0
E39: zákl. přenesená | F39: =ROUND((SUM(BG101:BG519)), 2) -> 0 | I39: 0.21 | J39: =0 -> 0
E40: sníž. přenesená | F40: =ROUND((SUM(BH101:BH519)), 2) -> 0 | I40: 0.12 | J40: =0 -> 0
E41: nulová | F41: =ROUND((SUM(BI101:BI519)), 2) -> 0 | I41: 0 | J41: =0 -> 0
D43: Cena s DPH | G43: v | H43: CZK | J43: =SUM(J34:J41) -> 0
C49: REKAPITULACE ČLENĚNÍ SOUPISU PRACÍ
C51: Stavba:
E52: =E7 -> Zliv - Obnova kanalizace v ulici Jáchymovská
C53: Objekt:
E54: 25_11_01_01 - SO-01 Obnova kanalizace
C55: Soupis:
E56: 25_11_01_01.1 - SO-01.1 Jednotná kanalizace Tyršova - Jáchymovská
C57: Úroveň 3:
E58: =E13 -> 25_11_01_01.1.2 - Jednotná kanalizace - etapa II. - Jáchymovská I
C60: Místo: | F60: =F16 -> Zliv | I60: Datum: | J60: =IF(J16="","",J16) -> 25. 9. 2025
C62: Zadavatel: | F62: =E19 -> Město Zliv | I62: Projektant: | J62: =E25 -> Ing. Jaroslav Žáček Ph.D.
C63: Účastník: | F63: =IF(E22="","",E22) -> Vyplň údaj | I63: Zpracovatel: | J63: =E28
C65: Kód dílu - Popis | J65: Cena celkem [CZK]
C67: Náklady stavby celkem | J67: =J101 -> 0 | AU67: -1
D68: HSV - Práce a dodávky HSV | J68: =J102 -> 0
D69: 1 - Zemní práce | J69: =J103 -> 0
D70: 2 - Zakládání | J70: =J255 -> 0
D71: 3 - Svislé a kompletní konstrukce | J71: =J260 -> 0
D72: 4 - Vodorovné konstrukce | J72: =J273 -> 0
D73: 5 - Komunikace pozemní | J73: =J302 -> 0
D74: 8 - Trubní vedení | J74: =J320 -> 0
D75: 9 - Ostatní konstrukce a práce, bourání | J75: =J472 -> 0
D76: 997 - Přesun sutě | J76: =J494 -> 0
D77: 998 - Přesun hmot | J77: =J517 -> 0
C84: SOUPIS PRACÍ
C86: Stavba:
E87: =E7 -> Zliv - Obnova kanalizace v ulici Jáchymovská
C88: Objekt:
E89: 25_11_01_01 - SO-01 Obnova kanalizace
C90: Soupis:
E91: 25_11_01_01.1 - SO-01.1 Jednotná kanalizace Tyršova - Jáchymovská
C92: Úroveň 3:
E93: =E13 -> 25_11_01_01.1.2 - Jednotná kanalizace - etapa II. - Jáchymovská I
C95: Místo: | F95: =F16 -> Zliv | I95: Datum: | J95: =IF(J16="","",J16) -> 25. 9. 2025
C97: Zadavatel: | F97: =E19 -> Město Zliv | I97: Projektant: | J97: =E25 -> Ing. Jaroslav Žáček Ph.D.
C98: Účastník: | F98: =IF(E22="","",E22) -> Vyplň údaj | I98: Zpracovatel: | J98: =E28
C100: PČ | D100: Typ | E100: Kód | F100: Popis | G100: MJ | H100: Množství | I100: J.cena [CZK] | J100: Cena celkem [CZK] | K100: Cenová soustava | N100: DPH | O100: J. Nh [h] | P100: Nh celkem [h] | Q100: J. hmotnost [t] | R100: Hmotnost celkem [t] | S100: J. suť [t] | T100: Suť Celkem [t]
C101: Náklady soupisu celkem | J101: =BK101 -> 0 | P101: =P102 -> 0 | R101: =R102 -> 763.52776 | T101: =T102 -> 465.417 | AT101: D | AU101: -1 | BK101: =BK102 -> 0
D102: D | E102: HSV | F102: Práce a dodávky HSV | J102: =BK102 -> 0 | P102: =P103+P255+P260+P273+P302+P320+P472+P494+P517 -> 0 | R102: =R103+R255+R260+R273+R302+R320+R472+R494+R517 -> 763.52776 | T102: =T103+T255+T260+T273+T302+T320+T472+T494+T517 -> 465.417 | AR102: 1 | AT102: D | AU102: 0 | AY102: ROZPOCET | BK102: =BK103+BK255+BK260+BK273+BK302+BK320+BK472+BK494+BK517 -> 0
D103: D | E103: 1 | F103: Zemní práce | J103: =BK103 -> 0 | P103: =SUM(P104:P254) -> 0 | R103: =SUM(R104:R254) -> 621.91816 | T103: =SUM(T104:T254) -> 273.1106 | AR103: 1 | AT103: D | AU103: 1 | AY103: ROZPOCET | BK103: =SUM(BK104:BK254) -> 0
C104: 1 | D104: K | E104: 111251101 | F104: Odstranění křovin a stromů s odstraněním kořenů strojně průměru kmene do 100 mm v rovině nebo ve svahu sklonu terénu do 1:5, při celkové ploše do 100 m2 | G104: m2 | H104: 10 | J104: =ROUND(I104*H104,2) -> 0 | K104: CS ÚRS 2025 02 | N104: základní | P104: =O104*H104 -> 0 | Q104: 0 | R104: =Q104*H104 -> 0 | S104: 0 | T104: =S104*H104 -> 0 | AR104: 4 | AT104: K | AU104: 2 | AY104: ROZPOCET | BE104: =IF(N104="základní",J104,0) -> 0 | BF104: =IF(N104="snížená",J104,0) -> 0 | BG104: =IF(N104="zákl. přenesená",J104,0) -> 0 | BH104: =IF(N104="sníž. přenesená",J104,0) -> 0 | BI104: =IF(N104="nulová",J104,0) -> 0 | BJ104: 1 | BK104: =ROUND(I104*H104,2) -> 0 | BL104: 4 | BM104: -871257250
D105: Online PSC | F105: https://podminky.urs.cz/item/CS_URS_2025_02/111251101 | AT105: Online PSC | AU105: 2
C106: 2 | D106: K | E106: 112101101 | F106: Odstranění stromů s odřezáním kmene a s odvětvením listnatých, průměru kmene přes 100 do 300 mm | G106: kus | H106: 1 | J106: =ROUND(I106*H106,2) -> 0 | K106: CS ÚRS 2025 02 | N106: základní | P106: =O106*H106 -> 0 | Q106: 0 | R106: =Q106*H106 -> 0 | S106: 0 | T106: =S106*H106 -> 0 | AR106: 4 | AT106: K | AU106: 2 | AY106: ROZPOCET | BE106: =IF(N106="základní",J106,0) -> 0 | BF106: =IF(N106="snížená",J106,0) -> 0 | BG106: =IF(N106="zákl. přenesená",J106,0) -> 0 | BH106: =IF(N106="sníž. přenesená",J106,0) -> 0 | BI106: =IF(N106="nulová",J106,0) -> 0 | BJ106: 1 | BK106: =ROUND(I106*H106,2) -> 0 | BL106: 4 | BM106: 1088994200
D107: Online PSC | F107: https://podminky.urs.cz/item/CS_URS_2025_02/112101101 | AT107: Online PSC | AU107: 2
C108: 3 | D108: K | E108: 112251101 | F108: Odstranění pařezů strojně s jejich vykopáním nebo vytrháním průměru přes 100 do 300 mm | G108: kus | H108: 1 | J108: =ROUND(I108*H108,2) -> 0 | K108: CS ÚRS 2025 02 | N108: základní | P108: =O108*H108 -> 0 | Q108: 0 | R108: =Q108*H108 -> 0 | S108: 0 | T108: =S108*H108 -> 0 | AR108: 4 | AT108: K | AU108: 2 | AY108: ROZPOCET | BE108: =IF(N108="základní",J108,0) -> 0 | BF108: =IF(N108="snížená",J108,0) -> 0 | BG108: =IF(N108="zákl. přenesená",J108,0) -> 0 | BH108: =IF(N108="sníž. přenesená",J108,0) -> 0 | BI108: =IF(N108="nulová",J108,0) -> 0 | BJ108: 1 | BK108: =ROUND(I108*H108,2) -> 0 | BL108: 4 | BM108: 2143266600
D109: Online PSC | F109: https://podminky.urs.cz/item/CS_URS_2025_02/112251101 | AT109: Online PSC | AU109: 2
C110: 4 | D110: K | E110: 113106123 | F110: Rozebrání dlažeb komunikací pro pěší s přemístěním hmot na skládku na vzdálenost do 3 m nebo s naložením na dopravní prostředek s ložem z kameniva nebo živice a s jakoukoliv výplní spár ručně ze zámkové dlažby | G110: m2 | H110: 196.78 | J110: =ROUND(I110*H110,2) -> 0 | K110: CS ÚRS 2025 02 | N110: základní | P110: =O110*H110 -> 0 | Q110: 0 | R110: =Q110*H110 -> 0 | S110: 0.08 | T110: =S110*H110 -> 15.7424 | AR110: 4 | AT110: K | AU110: 2 | AY110: ROZPOCET | BE110: =IF(N110="základní",J110,0) -> 0 | BF110: =IF(N110="snížená",J110,0) -> 0 | BG110: =IF(N110="zákl. přenesená",J110,0) -> 0 | BH110: =IF(N110="sníž. přenesená",J110,0) -> 0 | BI110: =IF(N110="nulová",J110,0) -> 0 | BJ110: 1 | BK110: =ROUND(I110*H110,2) -> 0 | BL110: 4 | BM110: -63471577
D111: Online PSC | F111: https://podminky.urs.cz/item/CS_URS_2025_02/113106123 | AT111: Online PSC | AU111: 2
D112: VV | F112: 101,2*1,9+4,5 | H112: 196.78 | AT112: VV | AU112: 2 | AV112: 2 | AW112: True | AX112: 1 | AY112: ROZPOCET
C113: 5 | D113: K | E113: 113106161 | F113: Rozebrání dlažeb vozovek a ploch s přemístěním hmot na skládku na vzdálenost do 3 m nebo s naložením na dopravní prostředek, s jakoukoliv výplní spár ručně z drobných kostek nebo odseků s ložem z kameniva | G113: m2 | H113: 3.25 | J113: =ROUND(I113*H113,2) -> 0 | K113: CS ÚRS 2025 02 | N113: základní | P113: =O113*H113 -> 0 | Q113: 0 | R113: =Q113*H113 -> 0 | S113: 0.08 | T113: =S113*H113 -> 0.26 | AR113: 4 | AT113: K | AU113: 2 | AY113: ROZPOCET | BE113: =IF(N113="základní",J113,0) -> 0 | BF113: =IF(N113="snížená",J113,0) -> 0 | BG113: =IF(N113="zákl. přenesená",J113,0) -> 0 | BH113: =IF(N113="sníž. přenesená",J113,0) -> 0 | BI113: =IF(N113="nulová",J113,0) -> 0 | BJ113: 1 | BK113: =ROUND(I113*H113,2) -> 0 | BL113: 4 | BM113: 1400220195
D114: Online PSC | F114: https://podminky.urs.cz/item/CS_URS_2025_02/113106161 | AT114: Online PSC | AU114: 2
D115: VV | F115: 0,5*6,5 "kamenná přídlažba" | H115: 3.25 | AT115: VV | AU115: 2 | AV115: 2 | AW115: True | AX115: 1 | AY115: ROZPOCET
C116: 6 | D116: K | E116: 113106171 | F116: Rozebrání dlažeb vozovek a ploch s přemístěním hmot na skládku na vzdálenost do 3 m nebo s naložením na dopravní prostředek, s jakoukoliv výplní spár ručně ze zámkové dlažby s ložem z kameniva | G116: m2 | H116: 80.45 | J116: =ROUND(I116*H116,2) -> 0 | K116: CS ÚRS 2025 02 | N116: základní | P116: =O116*H116 -> 0 | Q116: 0 | R116: =Q116*H116 -> 0 | S116: 0.08 | T116: =S116*H116 -> 6.436 | AR116: 4 | AT116: K | AU116: 2 | AY116: ROZPOCET | BE116: =IF(N116="základní",J116,0) -> 0 | BF116: =IF(N116="snížená",J116,0) -> 0 | BG116: =IF(N116="zákl. přenesená",J116,0) -> 0 | BH116: =IF(N116="sníž. přenesená",J116,0) -> 0 | BI116: =IF(N116="nulová",J116,0) -> 0 | BJ116: 1 | BK116: =ROUND(I116*H116,2) -> 0 | BL116: 4 | BM116: -1646667914
D117: Online PSC | F117: https://podminky.urs.cz/item/CS_URS_2025_02/113106171 | AT117: Online PSC | AU117: 2
D118: VV | F118: 75,35+5,1 | H118: 80.45 | AT118: VV | AU118: 2 | AV118: 2 | AW118: True | AX118: 1 | AY118: ROZPOCET
C119: 7 | D119: K | E119: 113107162 | F119: Odstranění podkladů nebo krytů strojně plochy jednotlivě přes 50 m2 do 200 m2 s přemístěním hmot na skládku na vzdálenost do 20 m nebo s naložením na dopravní prostředek z kameniva hrubého drceného, o tl. vrstvy přes 100 do 200 mm | G119: m2 | H119: 94.08 | J119: =ROUND(I119*H119,2) -> 0 | K119: CS ÚRS 2025 02 | N119: základní | P119: =O119*H119 -> 0 | Q119: 0 | R119: =Q119*H119 -> 0 | S119: 0.29 | T119: =S119*H119 -> 27.2832 | AR119: 4 | AT119: K | AU119: 2 | AY119: ROZPOCET | BE119: =IF(N119="základní",J119,0) -> 0 | BF119: =IF(N119="snížená",J119,0) -> 0 | BG119: =IF(N119="zákl. přenesená",J119,0) -> 0 | BH119: =IF(N119="sníž. přenesená",J119,0) -> 0 | BI119: =IF(N119="nulová",J119,0) -> 0 | BJ119: 1 | BK119: =ROUND(I119*H119,2) -> 0 | BL119: 4 | BM119: 1876169408
D120: Online PSC | F120: https://podminky.urs.cz/item/CS_URS_2025_02/113107162 | AT120: Online PSC | AU120: 2
D121: VV | F121: 101,2*0,9+3 | H121: 94.08 | AT121: VV | AU121: 2 | AV121: 2 | AW121: True | AX121: 1 | AY121: ROZPOCET
C122: 8 | D122: K | E122: 113107163 | F122: Odstranění podkladů nebo krytů strojně plochy jednotlivě přes 50 m2 do 200 m2 s přemístěním hmot na skládku na vzdálenost do 20 m nebo s naložením na dopravní prostředek z kameniva hrubého drceného, o tl. vrstvy přes 200 do 300 mm | G122: m2 | H122: 337.3 | J122: =ROUND(I122*H122,2) -> 0 | K122: CS ÚRS 2025 02 | N122: základní | P122: =O122*H122 -> 0 | Q122: 0 | R122: =Q122*H122 -> 0 | S122: 0.44 | T122: =S122*H122 -> 148.412 | AR122: 4 | AT122: K | AU122: 2 | AY122: ROZPOCET | BE122: =IF(N122="základní",J122,0) -> 0 | BF122: =IF(N122="snížená",J122,0) -> 0 | BG122: =IF(N122="zákl. přenesená",J122,0) -> 0 | BH122: =IF(N122="sníž. přenesená",J122,0) -> 0 | BI122: =IF(N122="nulová",J122,0) -> 0 | BJ122: 1 | BK122: =ROUND(I122*H122,2) -> 0 | BL122: 4 | BM122: -1521130232
D123: Online PSC | F123: https://podminky.urs.cz/item/CS_URS_2025_02/113107163 | AT123: Online PSC | AU123: 2
D124: VV | F124: 38,65+0,8 "pojížděný chodník" | H124: 39.45 | AT124: VV | AU124: 2 | AV124: 2 | AW124: True | AX124: 0 | AY124: ROZPOCET
D125: VV | F125: 297,85 "vozovka" | H125: 297.85 | AT125: VV | AU125: 2 | AV125: 2 | AW125: True | AX125: 0 | AY125: ROZPOCET
D126: VV | F126: Součet | H126: 337.3 | AT126: VV | AU126: 2 | AV126: 4 | AW126: True | AX126: 1 | AY126: ROZPOCET
C127: 9 | D127: K | E127: 113107182 | F127: Odstranění podkladů nebo krytů strojně plochy jednotlivě přes 50 m2 do 200 m2 s přemístěním hmot na skládku na vzdálenost do 20 m nebo s naložením na dopravní prostředek živičných, o tl. vrstvy přes 50 do 100 mm | G127: m2 | H127: 297.85 | J127: =ROUND(I127*H127,2) -> 0 | K127: CS ÚRS 2025 02 | N127: základní | P127: =O127*H127 -> 0 | Q127: 0 | R127: =Q127*H127 -> 0 | S127: 0.22 | T127: =S127*H127 -> 65.527 | AR127: 4 | AT127: K | AU127: 2 | AY127: ROZPOCET | BE127: =IF(N127="základní",J127,0) -> 0 | BF127: =IF(N127="snížená",J127,0) -> 0 | BG127: =IF(N127="zákl. přenesená",J127,0) -> 0 | BH127: =IF(N127="sníž. přenesená",J127,0) -> 0 | BI127: =IF(N127="nulová",J127,0) -> 0 | BJ127: 1 | BK127: =ROUND(I127*H127,2) -> 0 | BL127: 4 | BM127: 1927129291
D128: Online PSC | F128: https://podminky.urs.cz/item/CS_URS_2025_02/113107182 | AT128: Online PSC | AU128: 2
C129: 10 | D129: K | E129: 113202111 | F129: Vytrhání obrub s vybouráním lože, s přemístěním hmot na skládku na vzdálenost do 3 m nebo s naložením na dopravní prostředek z krajníků nebo obrubníků stojatých | G129: m | H129: 90 | J129: =ROUND(I129*H129,2) -> 0 | K129: CS ÚRS 2025 02 | N129: základní | P129: =O129*H129 -> 0 | Q129: 0 | R129: =Q129*H129 -> 0 | S129: 0.105 | T129: =S129*H129 -> 9.45 | AR129: 4 | AT129: K | AU129: 2 | AY129: ROZPOCET | BE129: =IF(N129="základní",J129,0) -> 0 | BF129: =IF(N129="snížená",J129,0) -> 0 | BG129: =IF(N129="zákl. přenesená",J129,0) -> 0 | BH129: =IF(N129="sníž. přenesená",J129,0) -> 0 | BI129: =IF(N129="nulová",J129,0) -> 0 | BJ129: 1 | BK129: =ROUND(I129*H129,2) -> 0 | BL129: 4 | BM129: 1182382839
D130: Online PSC | F130: https://podminky.urs.cz/item/CS_URS_2025_02/113202111 | AT130: Online PSC | AU130: 2
D131: VV | F131: 42+48 | H131: 90 | AT131: VV | AU131: 2 | AV131: 2 | AW131: True | AX131: 1 | AY131: ROZPOCET
C132: 11 | D132: K | E132: 115101201 | F132: Čerpání vody na dopravní výšku do 10 m s uvažovaným průměrným přítokem do 500 l/min | G132: hod | H132: 55.68 | J132: =ROUND(I132*H132,2) -> 0 | K132: CS ÚRS 2025 02 | N132: základní | P132: =O132*H132 -> 0 | Q132: 3e-05 | R132: =Q132*H132 -> 0.0016704 | S132: 0 | T132: =S132*H132 -> 0 | AR132: 4 | AT132: K | AU132: 2 | AY132: ROZPOCET | BE132: =IF(N132="základní",J132,0) -> 0 | BF132: =IF(N132="snížená",J132,0) -> 0 | BG132: =IF(N132="zákl. přenesená",J132,0) -> 0 | BH132: =IF(N132="sníž. přenesená",J132,0) -> 0 | BI132: =IF(N132="nulová",J132,0) -> 0 | BJ132: 1 | BK132: =ROUND(I132*H132,2) -> 0 | BL132: 4 | BM132: 1350538940
D133: Online PSC | F133: https://podminky.urs.cz/item/CS_URS_2025_02/115101201 | AT133: Online PSC | AU133: 2
...

Sheet 25_11_01_01.1.3 - Jednotn...
AT2: {ab4a68c3-bf01-4772-87f0-b45b81f174c4}
AT3: 2
D4: KRYCÍ LIST SOUPISU PRACÍ | M4: v --- níže se nacházejí doplnkové a pomocné údaje k sestavám --- v | AT4: False
D6: Stavba:
E7: ='Rekapitulace stavby'!K6 -> Zliv - Obnova kanalizace v ulici Jáchymovská
D8: Objekt:
E9: 25_11_01_01 - SO-01 Obnova kanalizace
D10: Soupis:
E11: 25_11_01_01.1 - SO-01.1 Jednotná kanalizace Tyršova - Jáchymovská
D12: Úroveň 3:
E13: 25_11_01_01.1.3 - Jednotná kanalizace - etapa III. - Jáchymovská II
D15: KSO: | I15: CC-CZ:
D16: Místo: | F16: Zliv | I16: Datum: | J16: ='Rekapitulace stavby'!AN8 -> 25. 9. 2025
D18: Zadavatel: | I18: IČ: | J18: 00245721
E19: Město Zliv | I19: DIČ: | J19: CZ00245721
D21: Účastník: | I21: IČ: | J21: ='Rekapitulace stavby'!AN13 -> Vyplň údaj
E22: ='Rekapitulace stavby'!E14 -> Vyplň údaj | I22: DIČ: | J22: ='Rekapitulace stavby'!AN14 -> Vyplň údaj
D24: Projektant: | I24: IČ: | J24: 06577831
E25: Ing. Jaroslav Žáček Ph.D. | I25: DIČ:
D27: Zpracovatel: | I27: IČ: | J27: =IF('Rekapitulace stavby'!AN19="","",'Rekapitulace stavby'!AN19)
E28: =IF('Rekapitulace stavby'!E20="","",'Rekapitulace stavby'!E20) | I28: DIČ: | J28: =IF('Rekapitulace stavby'!AN20="","",'Rekapitulace stavby'!AN20)
D30: Poznámka:
D34: Cena bez DPH | J34: =ROUND(J101, 2) -> 0
F36: Základ daně | I36: Sazba daně | J36: Výše daně
D37: DPH | E37: základní | F37: =ROUND((SUM(BE101:BE454)), 2) -> 0 | I37: 0.21 | J37: =ROUND(((SUM(BE101:BE454))*I37), 2) -> 0
E38: snížená | F38: =ROUND((SUM(BF101:BF454)), 2) -> 0 | I38: 0.12 | J38: =ROUND(((SUM(BF101:BF454))*I38), 2) -> 0
E39: zákl. přenesená | F39: =ROUND((SUM(BG101:BG454)), 2) -> 0 | I39: 0.21 | J39: =0 -> 0
E40: sníž. přenesená | F40: =ROUND((SUM(BH101:BH454)), 2) -> 0 | I40: 0.12 | J40: =0 -> 0
E41: nulová | F41: =ROUND((SUM(BI101:BI454)), 2) -> 0 | I41: 0 | J41: =0 -> 0
D43: Cena s DPH | G43: v | H43: CZK | J43: =SUM(J34:J41) -> 0
C49: REKAPITULACE ČLENĚNÍ SOUPISU PRACÍ
C51: Stavba:
E52: =E7 -> Zliv - Obnova kanalizace v ulici Jáchymovská
C53: Objekt:
E54: 25_11_01_01 - SO-01 Obnova kanalizace
C55: Soupis:
E56: 25_11_01_01.1 - SO-01.1 Jednotná kanalizace Tyršova - Jáchymovská
C57: Úroveň 3:
E58: =E13 -> 25_11_01_01.1.3 - Jednotná kanalizace - etapa III. - Jáchymovská II
C60: Místo: | F60: =F16 -> Zliv | I60: Datum: | J60: =IF(J16="","",J16) -> 25. 9. 2025
C62: Zadavatel: | F62: =E19 -> Město Zliv | I62: Projektant: | J62: =E25 -> Ing. Jaroslav Žáček Ph.D.
C63: Účastník: | F63: =IF(E22="","",E22) -> Vyplň údaj | I63: Zpracovatel: | J63: =E28
C65: Kód dílu - Popis | J65: Cena celkem [CZK]
C67: Náklady stavby celkem | J67: =J101 -> 0 | AU67: -1
D68: HSV - Práce a dodávky HSV | J68: =J102 -> 0
D69: 1 - Zemní práce | J69: =J103 -> 0
D70: 2 - Zakládání | J70: =J217 -> 0
D71: 3 - Svislé a kompletní konstrukce | J71: =J222 -> 0
D72: 4 - Vodorovné konstrukce | J72: =J235 -> 0
D73: 5 - Komunikace pozemní | J73: =J264 -> 0
D74: 8 - Trubní vedení | J74: =J276 -> 0
D75: 9 - Ostatní konstrukce a práce, bourání | J75: =J417 -> 0
D76: 997 - Přesun sutě | J76: =J430 -> 0
D77: 998 - Přesun hmot | J77: =J452 -> 0
C84: SOUPIS PRACÍ
C86: Stavba:
E87: =E7 -> Zliv - Obnova kanalizace v ulici Jáchymovská
C88: Objekt:
E89: 25_11_01_01 - SO-01 Obnova kanalizace
C90: Soupis:
E91: 25_11_01_01.1 - SO-01.1 Jednotná kanalizace Tyršova - Jáchymovská
C92: Úroveň 3:
E93: =E13 -> 25_11_01_01.1.3 - Jednotná kanalizace - etapa III. - Jáchymovská II
C95: Místo: | F95: =F16 -> Zliv | I95: Datum: | J95: =IF(J16="","",J16) -> 25. 9. 2025
C97: Zadavatel: | F97: =E19 -> Město Zliv | I97: Projektant: | J97: =E25 -> Ing. Jaroslav Žáček Ph.D.
C98: Účastník: | F98: =IF(E22="","",E22) -> Vyplň údaj | I98: Zpracovatel: | J98: =E28
C100: PČ | D100: Typ | E100: Kód | F100: Popis | G100: MJ | H100: Množství | I100: J.cena [CZK] | J100: Cena celkem [CZK] | K100: Cenová soustava | N100: DPH | O100: J. Nh [h] | P100: Nh celkem [h] | Q100: J. hmotnost [t] | R100: Hmotnost celkem [t] | S100: J. suť [t] | T100: Suť Celkem [t]
C101: Náklady soupisu celkem | J101: =BK101 -> 0 | P101: =P102 -> 0 | R101: =R102 -> 427.24108 | T101: =T102 -> 295.2057 | AT101: D | AU101: -1 | BK101: =BK102 -> 0
D102: D | E102: HSV | F102: Práce a dodávky HSV | J102: =BK102 -> 0 | P102: =P103+P217+P222+P235+P264+P276+P417+P430+P452 -> 0 | R102: =R103+R217+R222+R235+R264+R276+R417+R430+R452 -> 427.24108 | T102: =T103+T217+T222+T235+T264+T276+T417+T430+T452 -> 295.2057 | AR102: 1 | AT102: D | AU102: 0 | AY102: ROZPOCET | BK102: =BK103+BK217+BK222+BK235+BK264+BK276+BK417+BK430+BK452 -> 0
D103: D | E103: 1 | F103: Zemní práce | J103: =BK103 -> 0 | P103: =SUM(P104:P216) -> 0 | R103: =SUM(R104:R216) -> 345.13288 | T103: =SUM(T104:T216) -> 218.1702 | AR103: 1 | AT103: D | AU103: 1 | AY103: ROZPOCET | BK103: =SUM(BK104:BK216) -> 0
C104: 1 | D104: K | E104: 113106171 | F104: Rozebrání dlažeb vozovek a ploch s přemístěním hmot na skládku na vzdálenost do 3 m nebo s naložením na dopravní prostředek, s jakoukoliv výplní spár ručně ze zámkové dlažby s ložem z kameniva | G104: m2 | H104: 67.26 | J104: =ROUND(I104*H104,2) -> 0 | K104: CS ÚRS 2025 02 | N104: základní | P104: =O104*H104 -> 0 | Q104: 0 | R104: =Q104*H104 -> 0 | S104: 0.08 | T104: =S104*H104 -> 5.3808 | AR104: 4 | AT104: K | AU104: 2 | AY104: ROZPOCET | BE104: =IF(N104="základní",J104,0) -> 0 | BF104: =IF(N104="snížená",J104,0) -> 0 | BG104: =IF(N104="zákl. přenesená",J104,0) -> 0 | BH104: =IF(N104="sníž. přenesená",J104,0) -> 0 | BI104: =IF(N104="nulová",J104,0) -> 0 | BJ104: 1 | BK104: =ROUND(I104*H104,2) -> 0 | BL104: 4 | BM104: -1036259896
D105: Online PSC | F105: https://podminky.urs.cz/item/CS_URS_2025_02/113106171 | AT105: Online PSC | AU105: 2
D106: VV | F106: 35,4*1,9 | H106: 67.26 | AT106: VV | AU106: 2 | AV106: 2 | AW106: True | AX106: 1 | AY106: ROZPOCET
C107: 2 | D107: K | E107: 113107163 | F107: Odstranění podkladů nebo krytů strojně plochy jednotlivě přes 50 m2 do 200 m2 s přemístěním hmot na skládku na vzdálenost do 20 m nebo s naložením na dopravní prostředek z kameniva hrubého drceného, o tl. vrstvy přes 200 do 300 mm | G107: m2 | H107: 327.46 | J107: =ROUND(I107*H107,2) -> 0 | K107: CS ÚRS 2025 02 | N107: základní | P107: =O107*H107 -> 0 | Q107: 0 | R107: =Q107*H107 -> 0 | S107: 0.44 | T107: =S107*H107 -> 144.0824 | AR107: 4 | AT107: K | AU107: 2 | AY107: ROZPOCET | BE107: =IF(N107="základní",J107,0) -> 0 | BF107: =IF(N107="snížená",J107,0) -> 0 | BG107: =IF(N107="zákl. přenesená",J107,0) -> 0 | BH107: =IF(N107="sníž. přenesená",J107,0) -> 0 | BI107: =IF(N107="nulová",J107,0) -> 0 | BJ107: 1 | BK107: =ROUND(I107*H107,2) -> 0 | BL107: 4 | BM107: -368065535
D108: Online PSC | F108: https://podminky.urs.cz/item/CS_URS_2025_02/113107163 | AT108: Online PSC | AU108: 2
D109: VV | F109: 35,4*0,9 "pojížděný chodník" | H109: 31.86 | AT109: VV | AU109: 2 | AV109: 2 | AW109: True | AX109: 0 | AY109: ROZPOCET
D110: VV | F110: 295,60 "vozovka" | H110: 295.6 | AT110: VV | AU110: 2 | AV110: 2 | AW110: True | AX110: 0 | AY110: ROZPOCET
D111: VV | F111: Součet | H111: 327.46 | AT111: VV | AU111: 2 | AV111: 4 | AW111: True | AX111: 1 | AY111: ROZPOCET
C112: 3 | D112: K | E112: 113107182 | F112: Odstranění podkladů nebo krytů strojně plochy jednotlivě přes 50 m2 do 200 m2 s přemístěním hmot na skládku na vzdálenost do 20 m nebo s naložením na dopravní prostředek živičných, o tl. vrstvy přes 50 do 100 mm | G112: m2 | H112: 295.6 | J112: =ROUND(I112*H112,2) -> 0 | K112: CS ÚRS 2025 02 | N112: základní | P112: =O112*H112 -> 0 | Q112: 0 | R112: =Q112*H112 -> 0 | S112: 0.22 | T112: =S112*H112 -> 65.032 | AR112: 4 | AT112: K | AU112: 2 | AY112: ROZPOCET | BE112: =IF(N112="základní",J112,0) -> 0 | BF112: =IF(N112="snížená",J112,0) -> 0 | BG112: =IF(N112="zákl. přenesená",J112,0) -> 0 | BH112: =IF(N112="sníž. přenesená",J112,0) -> 0 | BI112: =IF(N112="nulová",J112,0) -> 0 | BJ112: 1 | BK112: =ROUND(I112*H112,2) -> 0 | BL112: 4 | BM112: -1786007949
D113: Online PSC | F113: https://podminky.urs.cz/item/CS_URS_2025_02/113107182 | AT113: Online PSC | AU113: 2
C114: 4 | D114: K | E114: 113202111 | F114: Vytrhání obrub s vybouráním lože, s přemístěním hmot na skládku na vzdálenost do 3 m nebo s naložením na dopravní prostředek z krajníků nebo obrubníků stojatých | G114: m | H114: 35 | J114: =ROUND(I114*H114,2) -> 0 | K114: CS ÚRS 2025 02 | N114: základní | P114: =O114*H114 -> 0 | Q114: 0 | R114: =Q114*H114 -> 0 | S114: 0.105 | T114: =S114*H114 -> 3.675 | AR114: 4 | AT114: K | AU114: 2 | AY114: ROZPOCET | BE114: =IF(N114="základní",J114,0) -> 0 | BF114: =IF(N114="snížená",J114,0) -> 0 | BG114: =IF(N114="zákl. přenesená",J114,0) -> 0 | BH114: =IF(N114="sníž. přenesená",J114,0) -> 0 | BI114: =IF(N114="nulová",J114,0) -> 0 | BJ114: 1 | BK114: =ROUND(I114*H114,2) -> 0 | BL114: 4 | BM114: 2089567165
D115: Online PSC | F115: https://podminky.urs.cz/item/CS_URS_2025_02/113202111 | AT115: Online PSC | AU115: 2
D116: VV | F116: 35 | H116: 35 | AT116: VV | AU116: 2 | AV116: 2 | AW116: True | AX116: 1 | AY116: ROZPOCET
C117: 5 | D117: K | E117: 115101201 | F117: Čerpání vody na dopravní výšku do 10 m s uvažovaným průměrným přítokem do 500 l/min | G117: hod | H117: 38.22 | J117: =ROUND(I117*H117,2) -> 0 | K117: CS ÚRS 2025 02 | N117: základní | P117: =O117*H117 -> 0 | Q117: 3e-05 | R117: =Q117*H117 -> 0.0011466 | S117: 0 | T117: =S117*H117 -> 0 | AR117: 4 | AT117: K | AU117: 2 | AY117: ROZPOCET | BE117: =IF(N117="základní",J117,0) -> 0 | BF117: =IF(N117="snížená",J117,0) -> 0 | BG117: =IF(N117="zákl. přenesená",J117,0) -> 0 | BH117: =IF(N117="sníž. přenesená",J117,0) -> 0 | BI117: =IF(N117="nulová",J117,0) -> 0 | BJ117: 1 | BK117: =ROUND(I117*H117,2) -> 0 | BL117: 4 | BM117: 2137951512
D118: Online PSC | F118: https://podminky.urs.cz/item/CS_URS_2025_02/115101201 | AT118: Online PSC | AU118: 2
D119: VV | F119: 191,1*0,2 | H119: 38.22 | AT119: VV | AU119: 2 | AV119: 2 | AW119: True | AX119: 1 | AY119: ROZPOCET
C120: 6 | D120: K | E120: 115101301 | F120: Pohotovost záložní čerpací soupravy pro dopravní výšku do 10 m s uvažovaným průměrným přítokem do 500 l/min | G120: den | H120: 4.778 | J120: =ROUND(I120*H120,2) -> 0 | K120: CS ÚRS 2025 02 | N120: základní | P120: =O120*H120 -> 0 | Q120: 0 | R120: =Q120*H120 -> 0 | S120: 0 | T120: =S120*H120 -> 0 | AR120: 4 | AT120: K | AU120: 2 | AY120: ROZPOCET | BE120: =IF(N120="základní",J120,0) -> 0 | BF120: =IF(N120="snížená",J120,0) -> 0 | BG120: =IF(N120="zákl. přenesená",J120,0) -> 0 | BH120: =IF(N120="sníž. přenesená",J120,0) -> 0 | BI120: =IF(N120="nulová",J120,0) -> 0 | BJ120: 1 | BK120: =ROUND(I120*H120,2) -> 0 | BL120: 4 | BM120: 1693235889
D121: Online PSC | F121: https://podminky.urs.cz/item/CS_URS_2025_02/115101301 | AT121: Online PSC | AU121: 2
D122: VV | F122: 38,22/8 | H122: 4.778 | AT122: VV | AU122: 2 | AV122: 2 | AW122: True | AX122: 1 | AY122: ROZPOCET
C123: 7 | D123: K | E123: 119001405 | F123: Dočasné zajištění podzemního potrubí nebo vedení ve výkopišti ve stavu i poloze, ve kterých byla na začátku zemních prací a to s podepřením, vzepřením nebo vyvěšením, případně s ochranným bedněním, se zřízením a odstraněním zajišťovací konstrukce, s opotřebením hmot potrubí plastového, jmenovité světlosti DN do 200 mm | G123: m | H123: 26 | J123: =ROUND(I123*H123,2) -> 0 | K123: CS ÚRS 2025 02 | N123: základní | P123: =O123*H123 -> 0 | Q123: 0.0369 | R123: =Q123*H123 -> 0.9594 | S123: 0 | T123: =S123*H123 -> 0 | AR123: 4 | AT123: K | AU123: 2 | AY123: ROZPOCET | BE123: =IF(N123="základní",J123,0) -> 0 | BF123: =IF(N123="snížená",J123,0) -> 0 | BG123: =IF(N123="zákl. přenesená",J123,0) -> 0 | BH123: =IF(N123="sníž. přenesená",J123,0) -> 0 | BI123: =IF(N123="nulová",J123,0) -> 0 | BJ123: 1 | BK123: =ROUND(I123*H123,2) -> 0 | BL123: 4 | BM123: -1486599874
D124: Online PSC | F124: https://podminky.urs.cz/item/CS_URS_2025_02/119001405 | AT124: Online PSC | AU124: 2
D125: VV | F125: 26 | H125: 26 | AT125: VV | AU125: 2 | AV125: 2 | AW125: True | AX125: 1 | AY125: ROZPOCET
C126: 8 | D126: K | E126: 119001406 | F126: Dočasné zajištění podzemního potrubí nebo vedení ve výkopišti ve stavu i poloze, ve kterých byla na začátku zemních prací a to s podepřením, vzepřením nebo vyvěšením, případně s ochranným bedněním, se zřízením a odstraněním zajišťovací konstrukce, s opotřebením hmot potrubí plastového, jmenovité světlosti DN přes 200 do 500 mm | G126: m | H126: 0.5 | J126: =ROUND(I126*H126,2) -> 0 | K126: CS ÚRS 2025 02 | N126: základní | P126: =O126*H126 -> 0 | Q126: 0.00868 | R126: =Q126*H126 -> 0.00434 | S126: 0 | T126: =S126*H126 -> 0 | AR126: 4 | AT126: K | AU126: 2 | AY126: ROZPOCET | BE126: =IF(N126="základní",J126,0) -> 0 | BF126: =IF(N126="snížená",J126,0) -> 0 | BG126: =IF(N126="zákl. přenesená",J126,0) -> 0 | BH126: =IF(N126="sníž. přenesená",J126,0) -> 0 | BI126: =IF(N126="nulová",J126,0) -> 0 | BJ126: 1 | BK126: =ROUND(I126*H126,2) -> 0 | BL126: 4 | BM126: 1126635465
D127: Online PSC | F127: https://podminky.urs.cz/item/CS_URS_2025_02/119001406 | AT127: Online PSC | AU127: 2
C128: 9 | D128: K | E128: 119001411 | F128: Dočasné zajištění podzemního potrubí nebo vedení ve výkopišti ve stavu i poloze, ve kterých byla na začátku zemních prací a to s podepřením, vzepřením nebo vyvěšením, případně s ochranným bedněním, se zřízením a odstraněním zajišťovací konstrukce, s opotřebením hmot potrubí betonového, kameninového nebo železobetonového, světlosti DN do 200 mm | G128: m | H128: 15 | J128: =ROUND(I128*H128,2) -> 0 | K128: CS ÚRS 2025 02 | N128: základní | P128: =O128*H128 -> 0 | Q128: 0.01068 | R128: =Q128*H128 -> 0.1602 | S128: 0 | T128: =S128*H128 -> 0 | AR128: 4 | AT128: K | AU128: 2 | AY128: ROZPOCET | BE128: =IF(N128="základní",J128,0) -> 0 | BF128: =IF(N128="snížená",J128,0) -> 0 | BG128: =IF(N128="zákl. přenesená",J128,0) -> 0 | BH128: =IF(N128="sníž. přenesená",J128,0) -> 0 | BI128: =IF(N128="nulová",J128,0) -> 0 | BJ128: 1 | BK128: =ROUND(I128*H128,2) -> 0 | BL128: 4 | BM128: 1991806023
D129: Online PSC | F129: https://podminky.urs.cz/item/CS_URS_2025_02/119001411 | AT129: Online PSC | AU129: 2
D130: VV | F130: 30*0,5 | H130: 15 | AT130: VV | AU130: 2 | AV130: 2 | AW130: True | AX130: 1 | AY130: ROZPOCET
C131: 10 | D131: K | E131: 119001412 | F131: Dočasné zajištění podzemního potrubí nebo vedení ve výkopišti ve stavu i poloze, ve kterých byla na začátku zemních prací a to s podepřením, vzepřením nebo vyvěšením, případně s ochranným bedněním, se zřízením a odstraněním zajišťovací konstrukce, s opotřebením hmot potrubí betonového, kameninového nebo železobetonového, světlosti DN přes 200 do 500 mm | G131: m | H131: 0.5 | J131: =ROUND(I131*H131,2) -> 0 | K131: CS ÚRS 2025 02 | N131: základní | P131: =O131*H131 -> 0 | Q131: 0.01269 | R131: =Q131*H131 -> 0.006345 | S131: 0 | T131: =S131*H131 -> 0 | AR131: 4 | AT131: K | AU131: 2 | AY131: ROZPOCET | BE131: =IF(N131="základní",J131,0) -> 0 | BF131: =IF(N131="snížená",J131,0) -> 0 | BG131: =IF(N131="zákl. přenesená",J131,0) -> 0 | BH131: =IF(N131="sníž. přenesená",J131,0) -> 0 | BI131: =IF(N131="nulová",J131,0) -> 0 | BJ131: 1 | BK131: =ROUND(I131*H131,2) -> 0 | BL131: 4 | BM131: -1533606389
D132: Online PSC | F132: https://podminky.urs.cz/item/CS_URS_2025_02/119001412 | AT132: Online PSC | AU132: 2
C133: 11 | D133: K | E133: 119001421 | F133: Dočasné zajištění podzemního potrubí nebo vedení ve výkopišti ve stavu i poloze, ve kterých byla na začátku zemních prací a to s podepřením, vzepřením nebo vyvěšením, případně s ochranným bedněním, se zřízením a odstraněním zajišťovací konstrukce, s opotřebením hmot kabelů a kabelových tratí z volně ložených kabelů a to do 3 kabelů | G133: m | H133: 52 | J133: =ROUND(I133*H133,2) -> 0 | K133: CS ÚRS 2025 02 | N133: základní | P133: =O133*H133 -> 0 | Q133: 0.0369 | R133: =Q133*H133 -> 1.9188 | S133: 0 | T133: =S133*H133 -> 0 | AR133: 4 | AT133: K | AU133: 2 | AY133: ROZPOCET | BE133: =IF(N133="základní",J133,0) -> 0 | BF133: =IF(N133="snížená",J133,0) -> 0 | BG133: =IF(N133="zákl. přenesená",J133,0) -> 0 | BH133: =IF(N133="sníž. přenesená",J133,0) -> 0 | BI133: =IF(N133="nulová",J133,0) -> 0 | BJ133: 1 | BK133: =ROUND(I133*H133,2) -> 0 | BL133: 4 | BM133: -453116660
...

Sheet 25_11_01_01.2 - SO-01.2 S...
AT2: {6674b6da-94e0-4286-a9a4-a1a6a409866e}
AT3: 2
D4: KRYCÍ LIST SOUPISU PRACÍ | M4: v --- níže se nacházejí doplnkové a pomocné údaje k sestavám --- v | AT4: False
D6: Stavba:
E7: ='Rekapitulace stavby'!K6 -> Zliv - Obnova kanalizace v ulici Jáchymovská
D8: Objekt:
E9: 25_11_01_01 - SO-01 Obnova kanalizace
D10: Soupis:
E11: 25_11_01_01.2 - SO-01.2 Splašková kanalizace
D13: KSO: | I13: CC-CZ:
D14: Místo: | F14: Zliv | I14: Datum: | J14: ='Rekapitulace stavby'!AN8 -> 25. 9. 2025
D16: Zadavatel: | I16: IČ: | J16: 00245721
E17: Město Zliv | I17: DIČ: | J17: CZ00245721
D19: Účastník: | I19: IČ: | J19: ='Rekapitulace stavby'!AN13 -> Vyplň údaj
E20: ='Rekapitulace stavby'!E14 -> Vyplň údaj | I20: DIČ: | J20: ='Rekapitulace stavby'!AN14 -> Vyplň údaj
D22: Projektant: | I22: IČ: | J22: 06577831
E23: Ing. Jaroslav Žáček Ph.D. | I23: DIČ:
D25: Zpracovatel: | I25: IČ: | J25: =IF('Rekapitulace stavby'!AN19="","",'Rekapitulace stavby'!AN19)
E26: =IF('Rekapitulace stavby'!E20="","",'Rekapitulace stavby'!E20) | I26: DIČ: | J26: =IF('Rekapitulace stavby'!AN20="","",'Rekapitulace stavby'!AN20)
D28: Poznámka:
D32: Cena bez DPH | J32: =ROUND(J95, 2) -> 0
F34: Základ daně | I34: Sazba daně | J34: Výše daně
D35: DPH | E35: základní | F35: =ROUND((SUM(BE95:BE397)), 2) -> 0 | I35: 0.21 | J35: =ROUND(((SUM(BE95:BE397))*I35), 2) -> 0
E36: snížená | F36: =ROUND((SUM(BF95:BF397)), 2) -> 0 | I36: 0.12 | J36: =ROUND(((SUM(BF95:BF397))*I36), 2) -> 0
E37: zákl. přenesená | F37: =ROUND((SUM(BG95:BG397)), 2) -> 0 | I37: 0.21 | J37: =0 -> 0
E38: sníž. přenesená | F38: =ROUND((SUM(BH95:BH397)), 2) -> 0 | I38: 0.12 | J38: =0 -> 0
E39: nulová | F39: =ROUND((SUM(BI95:BI397)), 2) -> 0 | I39: 0 | J39: =0 -> 0
D41: Cena s DPH | G41: v | H41: CZK | J41: =SUM(J32:J39) -> 0
C47: REKAPITULACE ČLENĚNÍ SOUPISU PRACÍ
C49: Stavba:
E50: =E7 -> Zliv - Obnova kanalizace v ulici Jáchymovská
C51: Objekt:
E52: 25_11_01_01 - SO-01 Obnova kanalizace
C53: Soupis:
E54: =E11 -> 25_11_01_01.2 - SO-01.2 Splašková kanalizace
C56: Místo: | F56: =F14 -> Zliv | I56: Datum: | J56: =IF(J14="","",J14) -> 25. 9. 2025
C58: Zadavatel: | F58: =E17 -> Město Zliv | I58: Projektant: | J58: =E23 -> Ing. Jaroslav Žáček Ph.D.
C59: Účastník: | F59: =IF(E20="","",E20) -> Vyplň údaj | I59: Zpracovatel: | J59: =E26
C61: Kód dílu - Popis | J61: Cena celkem [CZK]
C63: Náklady stavby celkem | J63: =J95 -> 0 | AU63: -1
D64: HSV - Práce a dodávky HSV | J64: =J96 -> 0
D65: 1 - Zemní práce | J65: =J97 -> 0
D66: 2 - Zakládání | J66: =J235 -> 0
D67: 3 - Svislé a kompletní konstrukce | J67: =J240 -> 0
D68: 4 - Vodorovné konstrukce | J68: =J253 -> 0
D69: 5 - Komunikace pozemní | J69: =J282 -> 0
D70: 8 - Trubní vedení | J70: =J300 -> 0
D71: 9 - Ostatní konstrukce a práce, bourání | J71: =J362 -> 0
D72: 997 - Přesun sutě | J72: =J375 -> 0
D73: 998 - Přesun hmot | J73: =J395 -> 0
C80: SOUPIS PRACÍ
C82: Stavba:
E83: =E7 -> Zliv - Obnova kanalizace v ulici Jáchymovská
C84: Objekt:
E85: 25_11_01_01 - SO-01 Obnova kanalizace
C86: Soupis:
E87: =E11 -> 25_11_01_01.2 - SO-01.2 Splašková kanalizace
C89: Místo: | F89: =F14 -> Zliv | I89: Datum: | J89: =IF(J14="","",J14) -> 25. 9. 2025
C91: Zadavatel: | F91: =E17 -> Město Zliv | I91: Projektant: | J91: =E23 -> Ing. Jaroslav Žáček Ph.D.
C92: Účastník: | F92: =IF(E20="","",E20) -> Vyplň údaj | I92: Zpracovatel: | J92: =E26
C94: PČ | D94: Typ | E94: Kód | F94: Popis | G94: MJ | H94: Množství | I94: J.cena [CZK] | J94: Cena celkem [CZK] | K94: Cenová soustava | N94: DPH | O94: J. Nh [h] | P94: Nh celkem [h] | Q94: J. hmotnost [t] | R94: Hmotnost celkem [t] | S94: J. suť [t] | T94: Suť Celkem [t]
C95: Náklady soupisu celkem | J95: =BK95 -> 0 | P95: =P96 -> 0 | R95: =R96 -> 215.0489 | T95: =T96 -> 172.222 | AT95: D | AU95: -1 | BK95: =BK96 -> 0
D96: D | E96: HSV | F96: Práce a dodávky HSV | J96: =BK96 -> 0 | P96: =P97+P235+P240+P253+P282+P300+P362+P375+P395 -> 0 | R96: =R97+R235+R240+R253+R282+R300+R362+R375+R395 -> 215.0489 | T96: =T97+T235+T240+T253+T282+T300+T362+T375+T395 -> 172.222 | AR96: 1 | AT96: D | AU96: 0 | AY96: ROZPOCET | BK96: =BK97+BK235+BK240+BK253+BK282+BK300+BK362+BK375+BK395 -> 0
D97: D | E97: 1 | F97: Zemní práce | J97: =BK97 -> 0 | P97: =SUM(P98:P234) -> 0 | R97: =SUM(R98:R234) -> 143.03108 | T97: =SUM(T98:T234) -> 119.011 | AR97: 1 | AT97: D | AU97: 1 | AY97: ROZPOCET | BK97: =SUM(BK98:BK234) -> 0
C98: 1 | D98: K | E98: 113106171 | F98: Rozebrání dlažeb vozovek a ploch s přemístěním hmot na skládku na vzdálenost do 3 m nebo s naložením na dopravní prostředek, s jakoukoliv výplní spár ručně ze zámkové dlažby s ložem z kameniva | G98: m2 | H98: 33.1 | J98: =ROUND(I98*H98,2) -> 0 | K98: CS ÚRS 2025 02 | N98: základní | P98: =O98*H98 -> 0 | Q98: 0 | R98: =Q98*H98 -> 0 | S98: 0.08 | T98: =S98*H98 -> 2.648 | AR98: 4 | AT98: K | AU98: 2 | AY98: ROZPOCET | BE98: =IF(N98="základní",J98,0) -> 0 | BF98: =IF(N98="snížená",J98,0) -> 0 | BG98: =IF(N98="zákl. přenesená",J98,0) -> 0 | BH98: =IF(N98="sníž. přenesená",J98,0) -> 0 | BI98: =IF(N98="nulová",J98,0) -> 0 | BJ98: 1 | BK98: =ROUND(I98*H98,2) -> 0 | BL98: 4 | BM98: -1049600816
D99: Online PSC | F99: https://podminky.urs.cz/item/CS_URS_2025_02/113106171 | AT99: Online PSC | AU99: 2
D100: VV | F100: 16,0+9*1,9 | H100: 33.1 | AT100: VV | AU100: 2 | AV100: 2 | AW100: True | AX100: 1 | AY100: ROZPOCET
C101: 2 | D101: K | E101: 113107163 | F101: Odstranění podkladů nebo krytů strojně plochy jednotlivě přes 50 m2 do 200 m2 s přemístěním hmot na skládku na vzdálenost do 20 m nebo s naložením na dopravní prostředek z kameniva hrubého drceného, o tl. vrstvy přes 200 do 300 mm | G101: m2 | H101: 137.25 | J101: =ROUND(I101*H101,2) -> 0 | K101: CS ÚRS 2025 02 | N101: základní | P101: =O101*H101 -> 0 | Q101: 0 | R101: =Q101*H101 -> 0 | S101: 0.44 | T101: =S101*H101 -> 60.39 | AR101: 4 | AT101: K | AU101: 2 | AY101: ROZPOCET | BE101: =IF(N101="základní",J101,0) -> 0 | BF101: =IF(N101="snížená",J101,0) -> 0 | BG101: =IF(N101="zákl. přenesená",J101,0) -> 0 | BH101: =IF(N101="sníž. přenesená",J101,0) -> 0 | BI101: =IF(N101="nulová",J101,0) -> 0 | BJ101: 1 | BK101: =ROUND(I101*H101,2) -> 0 | BL101: 4 | BM101: -1768413783
D102: Online PSC | F102: https://podminky.urs.cz/item/CS_URS_2025_02/113107163 | AT102: Online PSC | AU102: 2
D103: VV | F103: 9*0,9+3,5 "pojížděný chodník" | H103: 11.6 | AT103: VV | AU103: 2 | AV103: 2 | AW103: True | AX103: 0 | AY103: ROZPOCET
D104: VV | F104: 125,65 "vozovka" | H104: 125.65 | AT104: VV | AU104: 2 | AV104: 2 | AW104: True | AX104: 0 | AY104: ROZPOCET
D105: VV | F105: Součet | H105: 137.25 | AT105: VV | AU105: 2 | AV105: 4 | AW105: True | AX105: 1 | AY105: ROZPOCET
C106: 3 | D106: K | E106: 113107164 | F106: Odstranění podkladů nebo krytů strojně plochy jednotlivě přes 50 m2 do 200 m2 s přemístěním hmot na skládku na vzdálenost do 20 m nebo s naložením na dopravní prostředek z kameniva hrubého drceného, o tl. vrstvy přes 300 do 400 mm | G106: m2 | H106: 44.5 | J106: =ROUND(I106*H106,2) -> 0 | K106: CS ÚRS 2025 02 | N106: základní | P106: =O106*H106 -> 0 | Q106: 0 | R106: =Q106*H106 -> 0 | S106: 0.58 | T106: =S106*H106 -> 25.81 | AR106: 4 | AT106: K | AU106: 2 | AY106: ROZPOCET | BE106: =IF(N106="základní",J106,0) -> 0 | BF106: =IF(N106="snížená",J106,0) -> 0 | BG106: =IF(N106="zákl. přenesená",J106,0) -> 0 | BH106: =IF(N106="sníž. přenesená",J106,0) -> 0 | BI106: =IF(N106="nulová",J106,0) -> 0 | BJ106: 1 | BK106: =ROUND(I106*H106,2) -> 0 | BL106: 4 | BM106: -1829870183
D107: Online PSC | F107: https://podminky.urs.cz/item/CS_URS_2025_02/113107164 | AT107: Online PSC | AU107: 2
C108: 4 | D108: K | E108: 113107182 | F108: Odstranění podkladů nebo krytů strojně plochy jednotlivě přes 50 m2 do 200 m2 s přemístěním hmot na skládku na vzdálenost do 20 m nebo s naložením na dopravní prostředek živičných, o tl. vrstvy přes 50 do 100 mm | G108: m2 | H108: 125.65 | J108: =ROUND(I108*H108,2) -> 0 | K108: CS ÚRS 2025 02 | N108: základní | P108: =O108*H108 -> 0 | Q108: 0 | R108: =Q108*H108 -> 0 | S108: 0.22 | T108: =S108*H108 -> 27.643 | AR108: 4 | AT108: K | AU108: 2 | AY108: ROZPOCET | BE108: =IF(N108="základní",J108,0) -> 0 | BF108: =IF(N108="snížená",J108,0) -> 0 | BG108: =IF(N108="zákl. přenesená",J108,0) -> 0 | BH108: =IF(N108="sníž. přenesená",J108,0) -> 0 | BI108: =IF(N108="nulová",J108,0) -> 0 | BJ108: 1 | BK108: =ROUND(I108*H108,2) -> 0 | BL108: 4 | BM108: 1982360794
D109: Online PSC | F109: https://podminky.urs.cz/item/CS_URS_2025_02/113107182 | AT109: Online PSC | AU109: 2
C110: 5 | D110: K | E110: 113202111 | F110: Vytrhání obrub s vybouráním lože, s přemístěním hmot na skládku na vzdálenost do 3 m nebo s naložením na dopravní prostředek z krajníků nebo obrubníků stojatých | G110: m | H110: 24 | J110: =ROUND(I110*H110,2) -> 0 | K110: CS ÚRS 2025 02 | N110: základní | P110: =O110*H110 -> 0 | Q110: 0 | R110: =Q110*H110 -> 0 | S110: 0.105 | T110: =S110*H110 -> 2.52 | AR110: 4 | AT110: K | AU110: 2 | AY110: ROZPOCET | BE110: =IF(N110="základní",J110,0) -> 0 | BF110: =IF(N110="snížená",J110,0) -> 0 | BG110: =IF(N110="zákl. přenesená",J110,0) -> 0 | BH110: =IF(N110="sníž. přenesená",J110,0) -> 0 | BI110: =IF(N110="nulová",J110,0) -> 0 | BJ110: 1 | BK110: =ROUND(I110*H110,2) -> 0 | BL110: 4 | BM110: 578632328
D111: Online PSC | F111: https://podminky.urs.cz/item/CS_URS_2025_02/113202111 | AT111: Online PSC | AU111: 2
D112: VV | F112: 7+16+1 | H112: 24 | AT112: VV | AU112: 2 | AV112: 2 | AW112: True | AX112: 1 | AY112: ROZPOCET
C113: 6 | D113: K | E113: 115101201 | F113: Čerpání vody na dopravní výšku do 10 m s uvažovaným průměrným přítokem do 500 l/min | G113: hod | H113: 25.66 | J113: =ROUND(I113*H113,2) -> 0 | K113: CS ÚRS 2025 02 | N113: základní | P113: =O113*H113 -> 0 | Q113: 3e-05 | R113: =Q113*H113 -> 0.0007698 | S113: 0 | T113: =S113*H113 -> 0 | AR113: 4 | AT113: K | AU113: 2 | AY113: ROZPOCET | BE113: =IF(N113="základní",J113,0) -> 0 | BF113: =IF(N113="snížená",J113,0) -> 0 | BG113: =IF(N113="zákl. přenesená",J113,0) -> 0 | BH113: =IF(N113="sníž. přenesená",J113,0) -> 0 | BI113: =IF(N113="nulová",J113,0) -> 0 | BJ113: 1 | BK113: =ROUND(I113*H113,2) -> 0 | BL113: 4 | BM113: -824066366
D114: Online PSC | F114: https://podminky.urs.cz/item/CS_URS_2025_02/115101201 | AT114: Online PSC | AU114: 2
D115: VV | F115: 128,30*0,2 | H115: 25.66 | AT115: VV | AU115: 2 | AV115: 2 | AW115: True | AX115: 1 | AY115: ROZPOCET
C116: 7 | D116: K | E116: 115101301 | F116: Pohotovost záložní čerpací soupravy pro dopravní výšku do 10 m s uvažovaným průměrným přítokem do 500 l/min | G116: den | H116: 3.208 | J116: =ROUND(I116*H116,2) -> 0 | K116: CS ÚRS 2025 02 | N116: základní | P116: =O116*H116 -> 0 | Q116: 0 | R116: =Q116*H116 -> 0 | S116: 0 | T116: =S116*H116 -> 0 | AR116: 4 | AT116: K | AU116: 2 | AY116: ROZPOCET | BE116: =IF(N116="základní",J116,0) -> 0 | BF116: =IF(N116="snížená",J116,0) -> 0 | BG116: =IF(N116="zákl. přenesená",J116,0) -> 0 | BH116: =IF(N116="sníž. přenesená",J116,0) -> 0 | BI116: =IF(N116="nulová",J116,0) -> 0 | BJ116: 1 | BK116: =ROUND(I116*H116,2) -> 0 | BL116: 4 | BM116: -2084284778
D117: Online PSC | F117: https://podminky.urs.cz/item/CS_URS_2025_02/115101301 | AT117: Online PSC | AU117: 2
D118: VV | F118: 25,66/8 | H118: 3.208 | AT118: VV | AU118: 2 | AV118: 2 | AW118: True | AX118: 1 | AY118: ROZPOCET
C119: 8 | D119: K | E119: 119001405 | F119: Dočasné zajištění podzemního potrubí nebo vedení ve výkopišti ve stavu i poloze, ve kterých byla na začátku zemních prací a to s podepřením, vzepřením nebo vyvěšením, případně s ochranným bedněním, se zřízením a odstraněním zajišťovací konstrukce, s opotřebením hmot potrubí plastového, jmenovité světlosti DN do 200 mm | G119: m | H119: 4 | J119: =ROUND(I119*H119,2) -> 0 | K119: CS ÚRS 2025 02 | N119: základní | P119: =O119*H119 -> 0 | Q119: 0.0369 | R119: =Q119*H119 -> 0.1476 | S119: 0 | T119: =S119*H119 -> 0 | AR119: 4 | AT119: K | AU119: 2 | AY119: ROZPOCET | BE119: =IF(N119="základní",J119,0) -> 0 | BF119: =IF(N119="snížená",J119,0) -> 0 | BG119: =IF(N119="zákl. přenesená",J119,0) -> 0 | BH119: =IF(N119="sníž. přenesená",J119,0) -> 0 | BI119: =IF(N119="nulová",J119,0) -> 0 | BJ119: 1 | BK119: =ROUND(I119*H119,2) -> 0 | BL119: 4 | BM119: -1267274621
D120: Online PSC | F120: https://podminky.urs.cz/item/CS_URS_2025_02/119001405 | AT120: Online PSC | AU120: 2
D121: VV | F121: 4 | H121: 4 | AT121: VV | AU121: 2 | AV121: 2 | AW121: True | AX121: 1 | AY121: ROZPOCET
C122: 9 | D122: K | E122: 119001412 | F122: Dočasné zajištění podzemního potrubí nebo vedení ve výkopišti ve stavu i poloze, ve kterých byla na začátku zemních prací a to s podepřením, vzepřením nebo vyvěšením, případně s ochranným bedněním, se zřízením a odstraněním zajišťovací konstrukce, s opotřebením hmot potrubí betonového, kameninového nebo železobetonového, světlosti DN přes 200 do 500 mm | G122: m | H122: 2 | J122: =ROUND(I122*H122,2) -> 0 | K122: CS ÚRS 2025 02 | N122: základní | P122: =O122*H122 -> 0 | Q122: 0.01269 | R122: =Q122*H122 -> 0.02538 | S122: 0 | T122: =S122*H122 -> 0 | AR122: 4 | AT122: K | AU122: 2 | AY122: ROZPOCET | BE122: =IF(N122="základní",J122,0) -> 0 | BF122: =IF(N122="snížená",J122,0) -> 0 | BG122: =IF(N122="zákl. přenesená",J122,0) -> 0 | BH122: =IF(N122="sníž. přenesená",J122,0) -> 0 | BI122: =IF(N122="nulová",J122,0) -> 0 | BJ122: 1 | BK122: =ROUND(I122*H122,2) -> 0 | BL122: 4 | BM122: -1572800391
D123: Online PSC | F123: https://podminky.urs.cz/item/CS_URS_2025_02/119001412 | AT123: Online PSC | AU123: 2
C124: 10 | D124: K | E124: 119001421 | F124: Dočasné zajištění podzemního potrubí nebo vedení ve výkopišti ve stavu i poloze, ve kterých byla na začátku zemních prací a to s podepřením, vzepřením nebo vyvěšením, případně s ochranným bedněním, se zřízením a odstraněním zajišťovací konstrukce, s opotřebením hmot kabelů a kabelových tratí z volně ložených kabelů a to do 3 kabelů | G124: m | H124: 13 | J124: =ROUND(I124*H124,2) -> 0 | K124: CS ÚRS 2025 02 | N124: základní | P124: =O124*H124 -> 0 | Q124: 0.0369 | R124: =Q124*H124 -> 0.4797 | S124: 0 | T124: =S124*H124 -> 0 | AR124: 4 | AT124: K | AU124: 2 | AY124: ROZPOCET | BE124: =IF(N124="základní",J124,0) -> 0 | BF124: =IF(N124="snížená",J124,0) -> 0 | BG124: =IF(N124="zákl. přenesená",J124,0) -> 0 | BH124: =IF(N124="sníž. přenesená",J124,0) -> 0 | BI124: =IF(N124="nulová",J124,0) -> 0 | BJ124: 1 | BK124: =ROUND(I124*H124,2) -> 0 | BL124: 4 | BM124: -41797746
D125: Online PSC | F125: https://podminky.urs.cz/item/CS_URS_2025_02/119001421 | AT125: Online PSC | AU125: 2
D126: VV | F126: 2+11 | H126: 13 | AT126: VV | AU126: 2 | AV126: 2 | AW126: True | AX126: 1 | AY126: ROZPOCET
C127: 11 | D127: K | E127: 121151103 | F127: Sejmutí ornice strojně při souvislé ploše do 100 m2, tl. vrstvy do 200 mm | G127: m2 | H127: 41 | J127: =ROUND(I127*H127,2) -> 0 | K127: CS ÚRS 2025 02 | N127: základní | P127: =O127*H127 -> 0 | Q127: 0 | R127: =Q127*H127 -> 0 | S127: 0 | T127: =S127*H127 -> 0 | AR127: 4 | AT127: K | AU127: 2 | AY127: ROZPOCET | BE127: =IF(N127="základní",J127,0) -> 0 | BF127: =IF(N127="snížená",J127,0) -> 0 | BG127: =IF(N127="zákl. přenesená",J127,0) -> 0 | BH127: =IF(N127="sníž. přenesená",J127,0) -> 0 | BI127: =IF(N127="nulová",J127,0) -> 0 | BJ127: 1 | BK127: =ROUND(I127*H127,2) -> 0 | BL127: 4 | BM127: 1334527615
D128: Online PSC | F128: https://podminky.urs.cz/item/CS_URS_2025_02/121151103 | AT128: Online PSC | AU128: 2
D129: VV | F129: 25*1,5+1,4*2,5 | H129: 41 | AT129: VV | AU129: 2 | AV129: 2 | AW129: True | AX129: 1 | AY129: ROZPOCET
C130: 12 | D130: K | E130: 131151106 | F130: Hloubení nezapažených jam a zářezů strojně s urovnáním dna do předepsaného profilu a spádu v hornině třídy těžitelnosti I skupiny 1 a 2 přes 1 000 do 5 000 m3 | G130: m3 | H130: 2.3 | J130: =ROUND(I130*H130,2) -> 0 | K130: CS ÚRS 2025 02 | N130: základní | P130: =O130*H130 -> 0 | Q130: 0 | R130: =Q130*H130 -> 0 | S130: 0 | T130: =S130*H130 -> 0 | AR130: 4 | AT130: K | AU130: 2 | AY130: ROZPOCET | BE130: =IF(N130="základní",J130,0) -> 0 | BF130: =IF(N130="snížená",J130,0) -> 0 | BG130: =IF(N130="zákl. přenesená",J130,0) -> 0 | BH130: =IF(N130="sníž. přenesená",J130,0) -> 0 | BI130: =IF(N130="nulová",J130,0) -> 0 | BJ130: 1 | BK130: =ROUND(I130*H130,2) -> 0 | BL130: 4 | BM130: 702900998
D131: Online PSC | F131: https://podminky.urs.cz/item/CS_URS_2025_02/131151106 | AT131: Online PSC | AU131: 2
D132: VV | F132: 0,5*2*2,3*2*0,5 | H132: 2.3 | AT132: VV | AU132: 2 | AV132: 2 | AW132: True | AX132: 1 | AY132: ROZPOCET
C133: 13 | D133: K | E133: 131151206 | F133: Hloubení zapažených jam a zářezů strojně s urovnáním dna do předepsaného profilu a spádu v hornině třídy těžitelnosti I skupiny 1 a 2 přes 1 000 do 5 000 m3 | G133: m3 | H133: 4.4 | J133: =ROUND(I133*H133,2) -> 0 | K133: CS ÚRS 2025 02 | N133: základní | P133: =O133*H133 -> 0 | Q133: 0 | R133: =Q133*H133 -> 0 | S133: 0 | T133: =S133*H133 -> 0 | AR133: 4 | AT133: K | AU133: 2 | AY133: ROZPOCET | BE133: =IF(N133="základní",J133,0) -> 0 | BF133: =IF(N133="snížená",J133,0) -> 0 | BG133: =IF(N133="zákl. přenesená",J133,0) -> 0 | BH133: =IF(N133="sníž. přenesená",J133,0) -> 0 | BI133: =IF(N133="nulová",J133,0) -> 0 | BJ133: 1 | BK133: =ROUND(I133*H133,2) -> 0 | BL133: 4 | BM133: 182876085
...

Sheet 25_11_01_01.3 - SO-01.3 Č...
AT2: {96a1ca5d-3e49-4fab-8639-77cb319f1112}
AT3: 2
D4: KRYCÍ LIST SOUPISU PRACÍ | M4: v --- níže se nacházejí doplnkové a pomocné údaje k sestavám --- v | AT4: False
D6: Stavba:
E7: ='Rekapitulace stavby'!K6 -> Zliv - Obnova kanalizace v ulici Jáchymovská
D8: Objekt:
E9: 25_11_01_01 - SO-01 Obnova kanalizace
D10: Soupis:
E11: 25_11_01_01.3 - SO-01.3 ČS a kanalizační výtlak
D13: KSO: | I13: CC-CZ:
D14: Místo: | F14: Zliv | I14: Datum: | J14: ='Rekapitulace stavby'!AN8 -> 25. 9. 2025
D16: Zadavatel: | I16: IČ: | J16: 00245721
E17: Město Zliv | I17: DIČ: | J17: CZ00245721
D19: Účastník: | I19: IČ: | J19: ='Rekapitulace stavby'!AN13 -> Vyplň údaj
E20: ='Rekapitulace stavby'!E14 -> Vyplň údaj | I20: DIČ: | J20: ='Rekapitulace stavby'!AN14 -> Vyplň údaj
D22: Projektant: | I22: IČ: | J22: 06577831
E23: Ing. Jaroslav Žáček Ph.D. | I23: DIČ:
D25: Zpracovatel: | I25: IČ: | J25: =IF('Rekapitulace stavby'!AN19="","",'Rekapitulace stavby'!AN19)
E26: =IF('Rekapitulace stavby'!E20="","",'Rekapitulace stavby'!E20) | I26: DIČ: | J26: =IF('Rekapitulace stavby'!AN20="","",'Rekapitulace stavby'!AN20)
D28: Poznámka:
D32: Cena bez DPH | J32: =ROUND(J100, 2) -> 0
F34: Základ daně | I34: Sazba daně | J34: Výše daně
D35: DPH | E35: základní | F35: =ROUND((SUM(BE100:BE457)), 2) -> 0 | I35: 0.21 | J35: =ROUND(((SUM(BE100:BE457))*I35), 2) -> 0
E36: snížená | F36: =ROUND((SUM(BF100:BF457)), 2) -> 0 | I36: 0.12 | J36: =ROUND(((SUM(BF100:BF457))*I36), 2) -> 0
E37: zákl. přenesená | F37: =ROUND((SUM(BG100:BG457)), 2) -> 0 | I37: 0.21 | J37: =0 -> 0
E38: sníž. přenesená | F38: =ROUND((SUM(BH100:BH457)), 2) -> 0 | I38: 0.12 | J38: =0 -> 0
E39: nulová | F39: =ROUND((SUM(BI100:BI457)), 2) -> 0 | I39: 0 | J39: =0 -> 0
D41: Cena s DPH | G41: v | H41: CZK | J41: =SUM(J32:J39) -> 0
C47: REKAPITULACE ČLENĚNÍ SOUPISU PRACÍ
C49: Stavba:
E50: =E7 -> Zliv - Obnova kanalizace v ulici Jáchymovská
C51: Objekt:
E52: 25_11_01_01 - SO-01 Obnova kanalizace
C53: Soupis:
E54: =E11 -> 25_11_01_01.3 - SO-01.3 ČS a kanalizační výtlak
C56: Místo: | F56: =F14 -> Zliv | I56: Datum: | J56: =IF(J14="","",J14) -> 25. 9. 2025
C58: Zadavatel: | F58: =E17 -> Město Zliv | I58: Projektant: | J58: =E23 -> Ing. Jaroslav Žáček Ph.D.
C59: Účastník: | F59: =IF(E20="","",E20) -> Vyplň údaj | I59: Zpracovatel: | J59: =E26
C61: Kód dílu - Popis | J61: Cena celkem [CZK]
C63: Náklady stavby celkem | J63: =J100 -> 0 | AU63: -1
D64: HSV - Práce a dodávky HSV | J64: =J101 -> 0
D65: 1 - Zemní práce | J65: =J102 -> 0
D66: 2 - Zakládání | J66: =J224 -> 0
D67: 3 - Svislé a kompletní konstrukce | J67: =J238 -> 0
D68: 4 - Vodorovné konstrukce | J68: =J251 -> 0
D69: 5 - Komunikace pozemní | J69: =J273 -> 0
D70: 8 - Trubní vedení | J70: =J285 -> 0
D71: 9 - Ostatní konstrukce a práce, bourání | J71: =J370 -> 0
D72: 997 - Přesun sutě | J72: =J402 -> 0
D73: 998 - Přesun hmot | J73: =J422 -> 0
D74: PSV - Práce a dodávky PSV | J74: =J425 -> 0
D75: 711 - Izolace proti vodě, vlhkosti a plynům | J75: =J426 -> 0
D76: 767 - Konstrukce zámečnické | J76: =J445 -> 0
D77: VRN - Vedlejší rozpočtové náklady | J77: =J453 -> 0
D78: VRN4 - Inženýrská činnost | J78: =J454 -> 0
C85: SOUPIS PRACÍ
C87: Stavba:
E88: =E7 -> Zliv - Obnova kanalizace v ulici Jáchymovská
C89: Objekt:
E90: 25_11_01_01 - SO-01 Obnova kanalizace
C91: Soupis:
E92: =E11 -> 25_11_01_01.3 - SO-01.3 ČS a kanalizační výtlak
C94: Místo: | F94: =F14 -> Zliv | I94: Datum: | J94: =IF(J14="","",J14) -> 25. 9. 2025
C96: Zadavatel: | F96: =E17 -> Město Zliv | I96: Projektant: | J96: =E23 -> Ing. Jaroslav Žáček Ph.D.
C97: Účastník: | F97: =IF(E20="","",E20) -> Vyplň údaj | I97: Zpracovatel: | J97: =E26
C99: PČ | D99: Typ | E99: Kód | F99: Popis | G99: MJ | H99: Množství | I99: J.cena [CZK] | J99: Cena celkem [CZK] | K99: Cenová soustava | N99: DPH | O99: J. Nh [h] | P99: Nh celkem [h] | Q99: J. hmotnost [t] | R99: Hmotnost celkem [t] | S99: J. suť [t] | T99: Suť Celkem [t]
C100: Náklady soupisu celkem | J100: =BK100 -> 0 | P100: =P101+P425+P453 -> 0 | R100: =R101+R425+R453 -> 95.84338 | T100: =T101+T425+T453 -> 69.30935 | AT100: D | AU100: -1 | BK100: =BK101+BK425+BK453 -> 0
D101: D | E101: HSV | F101: Práce a dodávky HSV | J101: =BK101 -> 0 | P101: =P102+P224+P238+P251+P273+P285+P370+P402+P422 -> 0 | R101: =R102+R224+R238+R251+R273+R285+R370+R402+R422 -> 95.618859 | T101: =T102+T224+T238+T251+T273+T285+T370+T402+T422 -> 69.30935 | AR101: 1 | AT101: D | AU101: 0 | AY101: ROZPOCET | BK101: =BK102+BK224+BK238+BK251+BK273+BK285+BK370+BK402+BK422 -> 0
D102: D | E102: 1 | F102: Zemní práce | J102: =BK102 -> 0 | P102: =SUM(P103:P223) -> 0 | R102: =SUM(R103:R223) -> 62.482869 | T102: =SUM(T103:T223) -> 69.245 | AR102: 1 | AT102: D | AU102: 1 | AY102: ROZPOCET | BK102: =SUM(BK103:BK223) -> 0
C103: 1 | D103: K | E103: 113106171 | F103: Rozebrání dlažeb vozovek a ploch s přemístěním hmot na skládku na vzdálenost do 3 m nebo s naložením na dopravní prostředek, s jakoukoliv výplní spár ručně ze zámkové dlažby s ložem z kameniva | G103: m2 | H103: 33.5 | J103: =ROUND(I103*H103,2) -> 0 | K103: CS ÚRS 2025 02 | N103: základní | P103: =O103*H103 -> 0 | Q103: 0 | R103: =Q103*H103 -> 0 | S103: 0.08 | T103: =S103*H103 -> 2.68 | AR103: 4 | AT103: K | AU103: 2 | AY103: ROZPOCET | BE103: =IF(N103="základní",J103,0) -> 0 | BF103: =IF(N103="snížená",J103,0) -> 0 | BG103: =IF(N103="zákl. přenesená",J103,0) -> 0 | BH103: =IF(N103="sníž. přenesená",J103,0) -> 0 | BI103: =IF(N103="nulová",J103,0) -> 0 | BJ103: 1 | BK103: =ROUND(I103*H103,2) -> 0 | BL103: 4 | BM103: 1297854968
D104: Online PSC | F104: https://podminky.urs.cz/item/CS_URS_2025_02/113106171 | AT104: Online PSC | AU104: 2
C105: 2 | D105: K | E105: 113107163 | F105: Odstranění podkladů nebo krytů strojně plochy jednotlivě přes 50 m2 do 200 m2 s přemístěním hmot na skládku na vzdálenost do 20 m nebo s naložením na dopravní prostředek z kameniva hrubého drceného, o tl. vrstvy přes 200 do 300 mm | G105: m2 | H105: 98.5 | J105: =ROUND(I105*H105,2) -> 0 | K105: CS ÚRS 2025 02 | N105: základní | P105: =O105*H105 -> 0 | Q105: 0 | R105: =Q105*H105 -> 0 | S105: 0.44 | T105: =S105*H105 -> 43.34 | AR105: 4 | AT105: K | AU105: 2 | AY105: ROZPOCET | BE105: =IF(N105="základní",J105,0) -> 0 | BF105: =IF(N105="snížená",J105,0) -> 0 | BG105: =IF(N105="zákl. přenesená",J105,0) -> 0 | BH105: =IF(N105="sníž. přenesená",J105,0) -> 0 | BI105: =IF(N105="nulová",J105,0) -> 0 | BJ105: 1 | BK105: =ROUND(I105*H105,2) -> 0 | BL105: 4 | BM105: 453285350
D106: Online PSC | F106: https://podminky.urs.cz/item/CS_URS_2025_02/113107163 | AT106: Online PSC | AU106: 2
D107: VV | F107: 12,5 "pojížděný chodník" | H107: 12.5 | AT107: VV | AU107: 2 | AV107: 2 | AW107: True | AX107: 0 | AY107: ROZPOCET
D108: VV | F108: 86,0 "vozovka" | H108: 86 | AT108: VV | AU108: 2 | AV108: 2 | AW108: True | AX108: 0 | AY108: ROZPOCET
D109: VV | F109: Součet | H109: 98.5 | AT109: VV | AU109: 2 | AV109: 4 | AW109: True | AX109: 1 | AY109: ROZPOCET
C110: 3 | D110: K | E110: 113107182 | F110: Odstranění podkladů nebo krytů strojně plochy jednotlivě přes 50 m2 do 200 m2 s přemístěním hmot na skládku na vzdálenost do 20 m nebo s naložením na dopravní prostředek živičných, o tl. vrstvy přes 50 do 100 mm | G110: m2 | H110: 86 | J110: =ROUND(I110*H110,2) -> 0 | K110: CS ÚRS 2025 02 | N110: základní | P110: =O110*H110 -> 0 | Q110: 0 | R110: =Q110*H110 -> 0 | S110: 0.22 | T110: =S110*H110 -> 18.92 | AR110: 4 | AT110: K | AU110: 2 | AY110: ROZPOCET | BE110: =IF(N110="základní",J110,0) -> 0 | BF110: =IF(N110="snížená",J110,0) -> 0 | BG110: =IF(N110="zákl. přenesená",J110,0) -> 0 | BH110: =IF(N110="sníž. přenesená",J110,0) -> 0 | BI110: =IF(N110="nulová",J110,0) -> 0 | BJ110: 1 | BK110: =ROUND(I110*H110,2) -> 0 | BL110: 4 | BM110: 604857328
D111: Online PSC | F111: https://podminky.urs.cz/item/CS_URS_2025_02/113107182 | AT111: Online PSC | AU111: 2
C112: 4 | D112: K | E112: 113202111 | F112: Vytrhání obrub s vybouráním lože, s přemístěním hmot na skládku na vzdálenost do 3 m nebo s naložením na dopravní prostředek z krajníků nebo obrubníků stojatých | G112: m | H112: 41 | J112: =ROUND(I112*H112,2) -> 0 | K112: CS ÚRS 2025 02 | N112: základní | P112: =O112*H112 -> 0 | Q112: 0 | R112: =Q112*H112 -> 0 | S112: 0.105 | T112: =S112*H112 -> 4.305 | AR112: 4 | AT112: K | AU112: 2 | AY112: ROZPOCET | BE112: =IF(N112="základní",J112,0) -> 0 | BF112: =IF(N112="snížená",J112,0) -> 0 | BG112: =IF(N112="zákl. přenesená",J112,0) -> 0 | BH112: =IF(N112="sníž. přenesená",J112,0) -> 0 | BI112: =IF(N112="nulová",J112,0) -> 0 | BJ112: 1 | BK112: =ROUND(I112*H112,2) -> 0 | BL112: 4 | BM112: 1436246687
D113: Online PSC | F113: https://podminky.urs.cz/item/CS_URS_2025_02/113202111 | AT113: Online PSC | AU113: 2
D114: VV | F114: 40+1 | H114: 41 | AT114: VV | AU114: 2 | AV114: 2 | AW114: True | AX114: 1 | AY114: ROZPOCET
C115: 5 | D115: K | E115: 115101201 | F115: Čerpání vody na dopravní výšku do 10 m s uvažovaným průměrným přítokem do 500 l/min | G115: hod | H115: 251 | J115: =ROUND(I115*H115,2) -> 0 | K115: CS ÚRS 2025 02 | N115: základní | P115: =O115*H115 -> 0 | Q115: 3e-05 | R115: =Q115*H115 -> 0.00753 | S115: 0 | T115: =S115*H115 -> 0 | AR115: 4 | AT115: K | AU115: 2 | AY115: ROZPOCET | BE115: =IF(N115="základní",J115,0) -> 0 | BF115: =IF(N115="snížená",J115,0) -> 0 | BG115: =IF(N115="zákl. přenesená",J115,0) -> 0 | BH115: =IF(N115="sníž. přenesená",J115,0) -> 0 | BI115: =IF(N115="nulová",J115,0) -> 0 | BJ115: 1 | BK115: =ROUND(I115*H115,2) -> 0 | BL115: 4 | BM115: -857747356
D116: Online PSC | F116: https://podminky.urs.cz/item/CS_URS_2025_02/115101201 | AT116: Online PSC | AU116: 2
D117: VV | F117: 8*30+55*0,2 | H117: 251 | AT117: VV | AU117: 2 | AV117: 2 | AW117: True | AX117: 1 | AY117: ROZPOCET
C118: 6 | D118: K | E118: 115101301 | F118: Pohotovost záložní čerpací soupravy pro dopravní výšku do 10 m s uvažovaným průměrným přítokem do 500 l/min | G118: den | H118: 31.375 | J118: =ROUND(I118*H118,2) -> 0 | K118: CS ÚRS 2025 02 | N118: základní | P118: =O118*H118 -> 0 | Q118: 0 | R118: =Q118*H118 -> 0 | S118: 0 | T118: =S118*H118 -> 0 | AR118: 4 | AT118: K | AU118: 2 | AY118: ROZPOCET | BE118: =IF(N118="základní",J118,0) -> 0 | BF118: =IF(N118="snížená",J118,0) -> 0 | BG118: =IF(N118="zákl. přenesená",J118,0) -> 0 | BH118: =IF(N118="sníž. přenesená",J118,0) -> 0 | BI118: =IF(N118="nulová",J118,0) -> 0 | BJ118: 1 | BK118: =ROUND(I118*H118,2) -> 0 | BL118: 4 | BM118: -1907099786
D119: Online PSC | F119: https://podminky.urs.cz/item/CS_URS_2025_02/115101301 | AT119: Online PSC | AU119: 2
D120: VV | F120: 251/8 | H120: 31.375 | AT120: VV | AU120: 2 | AV120: 2 | AW120: True | AX120: 1 | AY120: ROZPOCET
C121: 7 | D121: K | E121: 119001405 | F121: Dočasné zajištění podzemního potrubí nebo vedení ve výkopišti ve stavu i poloze, ve kterých byla na začátku zemních prací a to s podepřením, vzepřením nebo vyvěšením, případně s ochranným bedněním, se zřízením a odstraněním zajišťovací konstrukce, s opotřebením hmot potrubí plastového, jmenovité světlosti DN do 200 mm | G121: m | H121: 7 | J121: =ROUND(I121*H121,2) -> 0 | K121: CS ÚRS 2025 02 | N121: základní | P121: =O121*H121 -> 0 | Q121: 0.0369 | R121: =Q121*H121 -> 0.2583 | S121: 0 | T121: =S121*H121 -> 0 | AR121: 4 | AT121: K | AU121: 2 | AY121: ROZPOCET | BE121: =IF(N121="základní",J121,0) -> 0 | BF121: =IF(N121="snížená",J121,0) -> 0 | BG121: =IF(N121="zákl. přenesená",J121,0) -> 0 | BH121: =IF(N121="sníž. přenesená",J121,0) -> 0 | BI121: =IF(N121="nulová",J121,0) -> 0 | BJ121: 1 | BK121: =ROUND(I121*H121,2) -> 0 | BL121: 4 | BM121: -1010455638
D122: Online PSC | F122: https://podminky.urs.cz/item/CS_URS_2025_02/119001405 | AT122: Online PSC | AU122: 2
D123: VV | F123: 7 | H123: 7 | AT123: VV | AU123: 2 | AV123: 2 | AW123: True | AX123: 1 | AY123: ROZPOCET
C124: 8 | D124: K | E124: 119001412 | F124: Dočasné zajištění podzemního potrubí nebo vedení ve výkopišti ve stavu i poloze, ve kterých byla na začátku zemních prací a to s podepřením, vzepřením nebo vyvěšením, případně s ochranným bedněním, se zřízením a odstraněním zajišťovací konstrukce, s opotřebením hmot potrubí betonového, kameninového nebo železobetonového, světlosti DN přes 200 do 500 mm | G124: m | H124: 1 | J124: =ROUND(I124*H124,2) -> 0 | K124: CS ÚRS 2025 02 | N124: základní | P124: =O124*H124 -> 0 | Q124: 0.01269 | R124: =Q124*H124 -> 0.01269 | S124: 0 | T124: =S124*H124 -> 0 | AR124: 4 | AT124: K | AU124: 2 | AY124: ROZPOCET | BE124: =IF(N124="základní",J124,0) -> 0 | BF124: =IF(N124="snížená",J124,0) -> 0 | BG124: =IF(N124="zákl. přenesená",J124,0) -> 0 | BH124: =IF(N124="sníž. přenesená",J124,0) -> 0 | BI124: =IF(N124="nulová",J124,0) -> 0 | BJ124: 1 | BK124: =ROUND(I124*H124,2) -> 0 | BL124: 4 | BM124: -606715157
D125: Online PSC | F125: https://podminky.urs.cz/item/CS_URS_2025_02/119001412 | AT125: Online PSC | AU125: 2
C126: 9 | D126: K | E126: 119001421 | F126: Dočasné zajištění podzemního potrubí nebo vedení ve výkopišti ve stavu i poloze, ve kterých byla na začátku zemních prací a to s podepřením, vzepřením nebo vyvěšením, případně s ochranným bedněním, se zřízením a odstraněním zajišťovací konstrukce, s opotřebením hmot kabelů a kabelových tratí z volně ložených kabelů a to do 3 kabelů | G126: m | H126: 4 | J126: =ROUND(I126*H126,2) -> 0 | K126: CS ÚRS 2025 02 | N126: základní | P126: =O126*H126 -> 0 | Q126: 0.0369 | R126: =Q126*H126 -> 0.1476 | S126: 0 | T126: =S126*H126 -> 0 | AR126: 4 | AT126: K | AU126: 2 | AY126: ROZPOCET | BE126: =IF(N126="základní",J126,0) -> 0 | BF126: =IF(N126="snížená",J126,0) -> 0 | BG126: =IF(N126="zákl. přenesená",J126,0) -> 0 | BH126: =IF(N126="sníž. přenesená",J126,0) -> 0 | BI126: =IF(N126="nulová",J126,0) -> 0 | BJ126: 1 | BK126: =ROUND(I126*H126,2) -> 0 | BL126: 4 | BM126: 1916079400
D127: Online PSC | F127: https://podminky.urs.cz/item/CS_URS_2025_02/119001421 | AT127: Online PSC | AU127: 2
D128: VV | F128: 4 | H128: 4 | AT128: VV | AU128: 2 | AV128: 2 | AW128: True | AX128: 1 | AY128: ROZPOCET
C129: 10 | D129: K | E129: 121151103 | F129: Sejmutí ornice strojně při souvislé ploše do 100 m2, tl. vrstvy do 200 mm | G129: m2 | H129: 80.25 | J129: =ROUND(I129*H129,2) -> 0 | K129: CS ÚRS 2025 02 | N129: základní | P129: =O129*H129 -> 0 | Q129: 0 | R129: =Q129*H129 -> 0 | S129: 0 | T129: =S129*H129 -> 0 | AR129: 4 | AT129: K | AU129: 2 | AY129: ROZPOCET | BE129: =IF(N129="základní",J129,0) -> 0 | BF129: =IF(N129="snížená",J129,0) -> 0 | BG129: =IF(N129="zákl. přenesená",J129,0) -> 0 | BH129: =IF(N129="sníž. přenesená",J129,0) -> 0 | BI129: =IF(N129="nulová",J129,0) -> 0 | BJ129: 1 | BK129: =ROUND(I129*H129,2) -> 0 | BL129: 4 | BM129: 228924695
D130: Online PSC | F130: https://podminky.urs.cz/item/CS_URS_2025_02/121151103 | AT130: Online PSC | AU130: 2
D131: VV | F131: 25*2+5,5*5,5 | H131: 80.25 | AT131: VV | AU131: 2 | AV131: 2 | AW131: True | AX131: 1 | AY131: ROZPOCET
C132: 11 | D132: K | E132: 131151206 | F132: Hloubení zapažených jam a zářezů strojně s urovnáním dna do předepsaného profilu a spádu v hornině třídy těžitelnosti I skupiny 1 a 2 přes 1 000 do 5 000 m3 | G132: m3 | H132: 35.131 | J132: =ROUND(I132*H132,2) -> 0 | K132: CS ÚRS 2025 02 | N132: základní | P132: =O132*H132 -> 0 | Q132: 0 | R132: =Q132*H132 -> 0 | S132: 0 | T132: =S132*H132 -> 0 | AR132: 4 | AT132: K | AU132: 2 | AY132: ROZPOCET | BE132: =IF(N132="základní",J132,0) -> 0 | BF132: =IF(N132="snížená",J132,0) -> 0 | BG132: =IF(N132="zákl. přenesená",J132,0) -> 0 | BH132: =IF(N132="sníž. přenesená",J132,0) -> 0 | BI132: =IF(N132="nulová",J132,0) -> 0 | BJ132: 1 | BK132: =ROUND(I132*H132,2) -> 0 | BL132: 4 | BM132: 1197101891
D133: Online PSC | F133: https://podminky.urs.cz/item/CS_URS_2025_02/131151206 | AT133: Online PSC | AU133: 2
...

Sheet 25_11_01_01.4 - SO-01.4 D...
AT2: {d300a780-61bd-4621-aaf2-71abfe86795f}
AT3: 2
D4: KRYCÍ LIST SOUPISU PRACÍ | M4: v --- níže se nacházejí doplnkové a pomocné údaje k sestavám --- v | AT4: False
D6: Stavba:
E7: ='Rekapitulace stavby'!K6 -> Zliv - Obnova kanalizace v ulici Jáchymovská
D8: Objekt:
E9: 25_11_01_01 - SO-01 Obnova kanalizace
D10: Soupis:
E11: 25_11_01_01.4 - SO-01.4 Dešťová kanalizace
D13: KSO: | I13: CC-CZ:
D14: Místo: | F14: Zliv | I14: Datum: | J14: ='Rekapitulace stavby'!AN8 -> 25. 9. 2025
D16: Zadavatel: | I16: IČ: | J16: 00245721
E17: Město Zliv | I17: DIČ: | J17: CZ00245721
D19: Účastník: | I19: IČ: | J19: ='Rekapitulace stavby'!AN13 -> Vyplň údaj
E20: ='Rekapitulace stavby'!E14 -> Vyplň údaj | I20: DIČ: | J20: ='Rekapitulace stavby'!AN14 -> Vyplň údaj
D22: Projektant: | I22: IČ: | J22: 06577831
E23: Ing. Jaroslav Žáček Ph.D. | I23: DIČ:
D25: Zpracovatel: | I25: IČ: | J25: =IF('Rekapitulace stavby'!AN19="","",'Rekapitulace stavby'!AN19)
E26: =IF('Rekapitulace stavby'!E20="","",'Rekapitulace stavby'!E20) | I26: DIČ: | J26: =IF('Rekapitulace stavby'!AN20="","",'Rekapitulace stavby'!AN20)
D28: Poznámka:
D32: Cena bez DPH | J32: =ROUND(J95, 2) -> 0
F34: Základ daně | I34: Sazba daně | J34: Výše daně
D35: DPH | E35: základní | F35: =ROUND((SUM(BE95:BE414)), 2) -> 0 | I35: 0.21 | J35: =ROUND(((SUM(BE95:BE414))*I35), 2) -> 0
E36: snížená | F36: =ROUND((SUM(BF95:BF414)), 2) -> 0 | I36: 0.12 | J36: =ROUND(((SUM(BF95:BF414))*I36), 2) -> 0
E37: zákl. přenesená | F37: =ROUND((SUM(BG95:BG414)), 2) -> 0 | I37: 0.21 | J37: =0 -> 0
E38: sníž. přenesená | F38: =ROUND((SUM(BH95:BH414)), 2) -> 0 | I38: 0.12 | J38: =0 -> 0
E39: nulová | F39: =ROUND((SUM(BI95:BI414)), 2) -> 0 | I39: 0 | J39: =0 -> 0
D41: Cena s DPH | G41: v | H41: CZK | J41: =SUM(J32:J39) -> 0
C47: REKAPITULACE ČLENĚNÍ SOUPISU PRACÍ
C49: Stavba:
E50: =E7 -> Zliv - Obnova kanalizace v ulici Jáchymovská
C51: Objekt:
E52: 25_11_01_01 - SO-01 Obnova kanalizace
C53: Soupis:
E54: =E11 -> 25_11_01_01.4 - SO-01.4 Dešťová kanalizace
C56: Místo: | F56: =F14 -> Zliv | I56: Datum: | J56: =IF(J14="","",J14) -> 25. 9. 2025
C58: Zadavatel: | F58: =E17 -> Město Zliv | I58: Projektant: | J58: =E23 -> Ing. Jaroslav Žáček Ph.D.
C59: Účastník: | F59: =IF(E20="","",E20) -> Vyplň údaj | I59: Zpracovatel: | J59: =E26
C61: Kód dílu - Popis | J61: Cena celkem [CZK]
C63: Náklady stavby celkem | J63: =J95 -> 0 | AU63: -1
D64: HSV - Práce a dodávky HSV | J64: =J96 -> 0
D65: 1 - Zemní práce | J65: =J97 -> 0
D66: 2 - Zakládání | J66: =J224 -> 0
D67: 3 - Svislé a kompletní konstrukce | J67: =J229 -> 0
D68: 4 - Vodorovné konstrukce | J68: =J236 -> 0
D69: 5 - Komunikace pozemní | J69: =J263 -> 0
D70: 8 - Trubní vedení | J70: =J275 -> 0
D71: 9 - Ostatní konstrukce a práce, bourání | J71: =J379 -> 0
D72: 997 - Přesun sutě | J72: =J392 -> 0
D73: 998 - Přesun hmot | J73: =J412 -> 0
C80: SOUPIS PRACÍ
C82: Stavba:
E83: =E7 -> Zliv - Obnova kanalizace v ulici Jáchymovská
C84: Objekt:
E85: 25_11_01_01 - SO-01 Obnova kanalizace
C86: Soupis:
E87: =E11 -> 25_11_01_01.4 - SO-01.4 Dešťová kanalizace
C89: Místo: | F89: =F14 -> Zliv | I89: Datum: | J89: =IF(J14="","",J14) -> 25. 9. 2025
C91: Zadavatel: | F91: =E17 -> Město Zliv | I91: Projektant: | J91: =E23 -> Ing. Jaroslav Žáček Ph.D.
C92: Účastník: | F92: =IF(E20="","",E20) -> Vyplň údaj | I92: Zpracovatel: | J92: =E26
C94: PČ | D94: Typ | E94: Kód | F94: Popis | G94: MJ | H94: Množství | I94: J.cena [CZK] | J94: Cena celkem [CZK] | K94: Cenová soustava | N94: DPH | O94: J. Nh [h] | P94: Nh celkem [h] | Q94: J. hmotnost [t] | R94: Hmotnost celkem [t] | S94: J. suť [t] | T94: Suť Celkem [t]
C95: Náklady soupisu celkem | J95: =BK95 -> 0 | P95: =P96 -> 0 | R95: =R96 -> 242.58426 | T95: =T96 -> 98.9956 | AT95: D | AU95: -1 | BK95: =BK96 -> 0
D96: D | E96: HSV | F96: Práce a dodávky HSV | J96: =BK96 -> 0 | P96: =P97+P224+P229+P236+P263+P275+P379+P392+P412 -> 0 | R96: =R97+R224+R229+R236+R263+R275+R379+R392+R412 -> 242.58426 | T96: =T97+T224+T229+T236+T263+T275+T379+T392+T412 -> 98.9956 | AR96: 1 | AT96: D | AU96: 0 | AY96: ROZPOCET | BK96: =BK97+BK224+BK229+BK236+BK263+BK275+BK379+BK392+BK412 -> 0
D97: D | E97: 1 | F97: Zemní práce | J97: =BK97 -> 0 | P97: =SUM(P98:P223) -> 0 | R97: =SUM(R98:R223) -> 189.2233 | T97: =SUM(T98:T223) -> 87.5956 | AR97: 1 | AT97: D | AU97: 1 | AY97: ROZPOCET | BK97: =SUM(BK98:BK223) -> 0
C98: 1 | D98: K | E98: 113106171 | F98: Rozebrání dlažeb vozovek a ploch s přemístěním hmot na skládku na vzdálenost do 3 m nebo s naložením na dopravní prostředek, s jakoukoliv výplní spár ručně ze zámkové dlažby s ložem z kameniva | G98: m2 | H98: 11.78 | J98: =ROUND(I98*H98,2) -> 0 | K98: CS ÚRS 2025 02 | N98: základní | P98: =O98*H98 -> 0 | Q98: 0 | R98: =Q98*H98 -> 0 | S98: 0.08 | T98: =S98*H98 -> 0.9424 | AR98: 4 | AT98: K | AU98: 2 | AY98: ROZPOCET | BE98: =IF(N98="základní",J98,0) -> 0 | BF98: =IF(N98="snížená",J98,0) -> 0 | BG98: =IF(N98="zákl. přenesená",J98,0) -> 0 | BH98: =IF(N98="sníž. přenesená",J98,0) -> 0 | BI98: =IF(N98="nulová",J98,0) -> 0 | BJ98: 1 | BK98: =ROUND(I98*H98,2) -> 0 | BL98: 4 | BM98: -455931054
D99: Online PSC | F99: https://podminky.urs.cz/item/CS_URS_2025_02/113106171 | AT99: Online PSC | AU99: 2
D100: VV | F100: 6,2*1,9 | H100: 11.78 | AT100: VV | AU100: 2 | AV100: 2 | AW100: True | AX100: 1 | AY100: ROZPOCET
C101: 2 | D101: K | E101: 113107163 | F101: Odstranění podkladů nebo krytů strojně plochy jednotlivě přes 50 m2 do 200 m2 s přemístěním hmot na skládku na vzdálenost do 20 m nebo s naložením na dopravní prostředek z kameniva hrubého drceného, o tl. vrstvy přes 200 do 300 mm | G101: m2 | H101: 131.88 | J101: =ROUND(I101*H101,2) -> 0 | K101: CS ÚRS 2025 02 | N101: základní | P101: =O101*H101 -> 0 | Q101: 0 | R101: =Q101*H101 -> 0 | S101: 0.44 | T101: =S101*H101 -> 58.0272 | AR101: 4 | AT101: K | AU101: 2 | AY101: ROZPOCET | BE101: =IF(N101="základní",J101,0) -> 0 | BF101: =IF(N101="snížená",J101,0) -> 0 | BG101: =IF(N101="zákl. přenesená",J101,0) -> 0 | BH101: =IF(N101="sníž. přenesená",J101,0) -> 0 | BI101: =IF(N101="nulová",J101,0) -> 0 | BJ101: 1 | BK101: =ROUND(I101*H101,2) -> 0 | BL101: 4 | BM101: -758971380
D102: Online PSC | F102: https://podminky.urs.cz/item/CS_URS_2025_02/113107163 | AT102: Online PSC | AU102: 2
D103: VV | F103: 6,2*0,9 "pojížděný chodník" | H103: 5.58 | AT103: VV | AU103: 2 | AV103: 2 | AW103: True | AX103: 0 | AY103: ROZPOCET
D104: VV | F104: 126,30 "vozovka" | H104: 126.3 | AT104: VV | AU104: 2 | AV104: 2 | AW104: True | AX104: 0 | AY104: ROZPOCET
D105: VV | F105: Součet | H105: 131.88 | AT105: VV | AU105: 2 | AV105: 4 | AW105: True | AX105: 1 | AY105: ROZPOCET
C106: 3 | D106: K | E106: 113107182 | F106: Odstranění podkladů nebo krytů strojně plochy jednotlivě přes 50 m2 do 200 m2 s přemístěním hmot na skládku na vzdálenost do 20 m nebo s naložením na dopravní prostředek živičných, o tl. vrstvy přes 50 do 100 mm | G106: m2 | H106: 126.3 | J106: =ROUND(I106*H106,2) -> 0 | K106: CS ÚRS 2025 02 | N106: základní | P106: =O106*H106 -> 0 | Q106: 0 | R106: =Q106*H106 -> 0 | S106: 0.22 | T106: =S106*H106 -> 27.786 | AR106: 4 | AT106: K | AU106: 2 | AY106: ROZPOCET | BE106: =IF(N106="základní",J106,0) -> 0 | BF106: =IF(N106="snížená",J106,0) -> 0 | BG106: =IF(N106="zákl. přenesená",J106,0) -> 0 | BH106: =IF(N106="sníž. přenesená",J106,0) -> 0 | BI106: =IF(N106="nulová",J106,0) -> 0 | BJ106: 1 | BK106: =ROUND(I106*H106,2) -> 0 | BL106: 4 | BM106: 1915312256
D107: Online PSC | F107: https://podminky.urs.cz/item/CS_URS_2025_02/113107182 | AT107: Online PSC | AU107: 2
C108: 4 | D108: K | E108: 113202111 | F108: Vytrhání obrub s vybouráním lože, s přemístěním hmot na skládku na vzdálenost do 3 m nebo s naložením na dopravní prostředek z krajníků nebo obrubníků stojatých | G108: m | H108: 8 | J108: =ROUND(I108*H108,2) -> 0 | K108: CS ÚRS 2025 02 | N108: základní | P108: =O108*H108 -> 0 | Q108: 0 | R108: =Q108*H108 -> 0 | S108: 0.105 | T108: =S108*H108 -> 0.84 | AR108: 4 | AT108: K | AU108: 2 | AY108: ROZPOCET | BE108: =IF(N108="základní",J108,0) -> 0 | BF108: =IF(N108="snížená",J108,0) -> 0 | BG108: =IF(N108="zákl. přenesená",J108,0) -> 0 | BH108: =IF(N108="sníž. přenesená",J108,0) -> 0 | BI108: =IF(N108="nulová",J108,0) -> 0 | BJ108: 1 | BK108: =ROUND(I108*H108,2) -> 0 | BL108: 4 | BM108: 1220665968
D109: Online PSC | F109: https://podminky.urs.cz/item/CS_URS_2025_02/113202111 | AT109: Online PSC | AU109: 2
D110: VV | F110: 8 | H110: 8 | AT110: VV | AU110: 2 | AV110: 2 | AW110: True | AX110: 1 | AY110: ROZPOCET
C111: 5 | D111: K | E111: 115101201 | F111: Čerpání vody na dopravní výšku do 10 m s uvažovaným průměrným přítokem do 500 l/min | G111: hod | H111: 4 | J111: =ROUND(I111*H111,2) -> 0 | K111: CS ÚRS 2025 02 | N111: základní | P111: =O111*H111 -> 0 | Q111: 3e-05 | R111: =Q111*H111 -> 0.00012 | S111: 0 | T111: =S111*H111 -> 0 | AR111: 4 | AT111: K | AU111: 2 | AY111: ROZPOCET | BE111: =IF(N111="základní",J111,0) -> 0 | BF111: =IF(N111="snížená",J111,0) -> 0 | BG111: =IF(N111="zákl. přenesená",J111,0) -> 0 | BH111: =IF(N111="sníž. přenesená",J111,0) -> 0 | BI111: =IF(N111="nulová",J111,0) -> 0 | BJ111: 1 | BK111: =ROUND(I111*H111,2) -> 0 | BL111: 4 | BM111: -798523537
D112: Online PSC | F112: https://podminky.urs.cz/item/CS_URS_2025_02/115101201 | AT112: Online PSC | AU112: 2
D113: VV | F113: 20*0,2 | H113: 4 | AT113: VV | AU113: 2 | AV113: 2 | AW113: True | AX113: 1 | AY113: ROZPOCET
C114: 6 | D114: K | E114: 115101301 | F114: Pohotovost záložní čerpací soupravy pro dopravní výšku do 10 m s uvažovaným průměrným přítokem do 500 l/min | G114: den | H114: 0.5 | J114: =ROUND(I114*H114,2) -> 0 | K114: CS ÚRS 2025 02 | N114: základní | P114: =O114*H114 -> 0 | Q114: 0 | R114: =Q114*H114 -> 0 | S114: 0 | T114: =S114*H114 -> 0 | AR114: 4 | AT114: K | AU114: 2 | AY114: ROZPOCET | BE114: =IF(N114="základní",J114,0) -> 0 | BF114: =IF(N114="snížená",J114,0) -> 0 | BG114: =IF(N114="zákl. přenesená",J114,0) -> 0 | BH114: =IF(N114="sníž. přenesená",J114,0) -> 0 | BI114: =IF(N114="nulová",J114,0) -> 0 | BJ114: 1 | BK114: =ROUND(I114*H114,2) -> 0 | BL114: 4 | BM114: -27512721
D115: Online PSC | F115: https://podminky.urs.cz/item/CS_URS_2025_02/115101301 | AT115: Online PSC | AU115: 2
D116: VV | F116: 4/8 | H116: 0.5 | AT116: VV | AU116: 2 | AV116: 2 | AW116: True | AX116: 1 | AY116: ROZPOCET
C117: 7 | D117: K | E117: 119001405 | F117: Dočasné zajištění podzemního potrubí nebo vedení ve výkopišti ve stavu i poloze, ve kterých byla na začátku zemních prací a to s podepřením, vzepřením nebo vyvěšením, případně s ochranným bedněním, se zřízením a odstraněním zajišťovací konstrukce, s opotřebením hmot potrubí plastového, jmenovité světlosti DN do 200 mm | G117: m | H117: 10 | J117: =ROUND(I117*H117,2) -> 0 | K117: CS ÚRS 2025 02 | N117: základní | P117: =O117*H117 -> 0 | Q117: 0.0369 | R117: =Q117*H117 -> 0.369 | S117: 0 | T117: =S117*H117 -> 0 | AR117: 4 | AT117: K | AU117: 2 | AY117: ROZPOCET | BE117: =IF(N117="základní",J117,0) -> 0 | BF117: =IF(N117="snížená",J117,0) -> 0 | BG117: =IF(N117="zákl. přenesená",J117,0) -> 0 | BH117: =IF(N117="sníž. přenesená",J117,0) -> 0 | BI117: =IF(N117="nulová",J117,0) -> 0 | BJ117: 1 | BK117: =ROUND(I117*H117,2) -> 0 | BL117: 4 | BM117: -497996551
D118: Online PSC | F118: https://podminky.urs.cz/item/CS_URS_2025_02/119001405 | AT118: Online PSC | AU118: 2
D119: VV | F119: 10 | H119: 10 | AT119: VV | AU119: 2 | AV119: 2 | AW119: True | AX119: 1 | AY119: ROZPOCET
C120: 8 | D120: K | E120: 119001412 | F120: Dočasné zajištění podzemního potrubí nebo vedení ve výkopišti ve stavu i poloze, ve kterých byla na začátku zemních prací a to s podepřením, vzepřením nebo vyvěšením, případně s ochranným bedněním, se zřízením a odstraněním zajišťovací konstrukce, s opotřebením hmot potrubí betonového, kameninového nebo železobetonového, světlosti DN přes 200 do 500 mm | G120: m | H120: 0.5 | J120: =ROUND(I120*H120,2) -> 0 | K120: CS ÚRS 2025 02 | N120: základní | P120: =O120*H120 -> 0 | Q120: 0.01269 | R120: =Q120*H120 -> 0.006345 | S120: 0 | T120: =S120*H120 -> 0 | AR120: 4 | AT120: K | AU120: 2 | AY120: ROZPOCET | BE120: =IF(N120="základní",J120,0) -> 0 | BF120: =IF(N120="snížená",J120,0) -> 0 | BG120: =IF(N120="zákl. přenesená",J120,0) -> 0 | BH120: =IF(N120="sníž. přenesená",J120,0) -> 0 | BI120: =IF(N120="nulová",J120,0) -> 0 | BJ120: 1 | BK120: =ROUND(I120*H120,2) -> 0 | BL120: 4 | BM120: 1389675263
D121: Online PSC | F121: https://podminky.urs.cz/item/CS_URS_2025_02/119001412 | AT121: Online PSC | AU121: 2
C122: 9 | D122: K | E122: 119001421 | F122: Dočasné zajištění podzemního potrubí nebo vedení ve výkopišti ve stavu i poloze, ve kterých byla na začátku zemních prací a to s podepřením, vzepřením nebo vyvěšením, případně s ochranným bedněním, se zřízením a odstraněním zajišťovací konstrukce, s opotřebením hmot kabelů a kabelových tratí z volně ložených kabelů a to do 3 kabelů | G122: m | H122: 23 | J122: =ROUND(I122*H122,2) -> 0 | K122: CS ÚRS 2025 02 | N122: základní | P122: =O122*H122 -> 0 | Q122: 0.0369 | R122: =Q122*H122 -> 0.8487 | S122: 0 | T122: =S122*H122 -> 0 | AR122: 4 | AT122: K | AU122: 2 | AY122: ROZPOCET | BE122: =IF(N122="základní",J122,0) -> 0 | BF122: =IF(N122="snížená",J122,0) -> 0 | BG122: =IF(N122="zákl. přenesená",J122,0) -> 0 | BH122: =IF(N122="sníž. přenesená",J122,0) -> 0 | BI122: =IF(N122="nulová",J122,0) -> 0 | BJ122: 1 | BK122: =ROUND(I122*H122,2) -> 0 | BL122: 4 | BM122: -389515130
D123: Online PSC | F123: https://podminky.urs.cz/item/CS_URS_2025_02/119001421 | AT123: Online PSC | AU123: 2
D124: VV | F124: 3+20 | H124: 23 | AT124: VV | AU124: 2 | AV124: 2 | AW124: True | AX124: 1 | AY124: ROZPOCET
C125: 10 | D125: K | E125: 121151103 | F125: Sejmutí ornice strojně při souvislé ploše do 100 m2, tl. vrstvy do 200 mm | G125: m2 | H125: 28.5 | J125: =ROUND(I125*H125,2) -> 0 | K125: CS ÚRS 2025 02 | N125: základní | P125: =O125*H125 -> 0 | Q125: 0 | R125: =Q125*H125 -> 0 | S125: 0 | T125: =S125*H125 -> 0 | AR125: 4 | AT125: K | AU125: 2 | AY125: ROZPOCET | BE125: =IF(N125="základní",J125,0) -> 0 | BF125: =IF(N125="snížená",J125,0) -> 0 | BG125: =IF(N125="zákl. přenesená",J125,0) -> 0 | BH125: =IF(N125="sníž. přenesená",J125,0) -> 0 | BI125: =IF(N125="nulová",J125,0) -> 0 | BJ125: 1 | BK125: =ROUND(I125*H125,2) -> 0 | BL125: 4 | BM125: -849656597
D126: Online PSC | F126: https://podminky.urs.cz/item/CS_URS_2025_02/121151103 | AT126: Online PSC | AU126: 2
D127: VV | F127: 23*1+2,2*2,5 | H127: 28.5 | AT127: VV | AU127: 2 | AV127: 2 | AW127: True | AX127: 1 | AY127: ROZPOCET
C128: 11 | D128: K | E128: 131151206 | F128: Hloubení zapažených jam a zářezů strojně s urovnáním dna do předepsaného profilu a spádu v hornině třídy těžitelnosti I skupiny 1 a 2 přes 1 000 do 5 000 m3 | G128: m3 | H128: 4.25 | J128: =ROUND(I128*H128,2) -> 0 | K128: CS ÚRS 2025 02 | N128: základní | P128: =O128*H128 -> 0 | Q128: 0 | R128: =Q128*H128 -> 0 | S128: 0 | T128: =S128*H128 -> 0 | AR128: 4 | AT128: K | AU128: 2 | AY128: ROZPOCET | BE128: =IF(N128="základní",J128,0) -> 0 | BF128: =IF(N128="snížená",J128,0) -> 0 | BG128: =IF(N128="zákl. přenesená",J128,0) -> 0 | BH128: =IF(N128="sníž. přenesená",J128,0) -> 0 | BI128: =IF(N128="nulová",J128,0) -> 0 | BJ128: 1 | BK128: =ROUND(I128*H128,2) -> 0 | BL128: 4 | BM128: -1120469415
D129: Online PSC | F129: https://podminky.urs.cz/item/CS_URS_2025_02/131151206 | AT129: Online PSC | AU129: 2
D130: VV | F130: 0,5*2*1,7*5*0,5 | H130: 4.25 | AT130: VV | AU130: 2 | AV130: 2 | AW130: True | AX130: 1 | AY130: ROZPOCET
C131: 12 | D131: K | E131: 131251206 | F131: Hloubení zapažených jam a zářezů strojně s urovnáním dna do předepsaného profilu a spádu v hornině třídy těžitelnosti I skupiny 3 přes 1 000 do 5 000 m3 | G131: m3 | H131: 2.55 | J131: =ROUND(I131*H131,2) -> 0 | K131: CS ÚRS 2025 02 | N131: základní | P131: =O131*H131 -> 0 | Q131: 0 | R131: =Q131*H131 -> 0 | S131: 0 | T131: =S131*H131 -> 0 | AR131: 4 | AT131: K | AU131: 2 | AY131: ROZPOCET | BE131: =IF(N131="základní",J131,0) -> 0 | BF131: =IF(N131="snížená",J131,0) -> 0 | BG131: =IF(N131="zákl. přenesená",J131,0) -> 0 | BH131: =IF(N131="sníž. přenesená",J131,0) -> 0 | BI131: =IF(N131="nulová",J131,0) -> 0 | BJ131: 1 | BK131: =ROUND(I131*H131,2) -> 0 | BL131: 4 | BM131: -1607549293
D132: Online PSC | F132: https://podminky.urs.cz/item/CS_URS_2025_02/131251206 | AT132: Online PSC | AU132: 2
D133: VV | F133: 0,5*2*1,7*5*0,3 | H133: 2.55 | AT133: VV | AU133: 2 | AV133: 2 | AW133: True | AX133: 1 | AY133: ROZPOCET
...

Sheet 25_11_01_02 - PS-01 Vystr...
AT2: {5d95fb99-ebb4-42b0-93e7-f944070927cc}
AT3: 2
D4: KRYCÍ LIST SOUPISU PRACÍ | M4: v --- níže se nacházejí doplnkové a pomocné údaje k sestavám --- v | AT4: False
D6: Stavba:
E7: ='Rekapitulace stavby'!K6 -> Zliv - Obnova kanalizace v ulici Jáchymovská
D8: Objekt:
E9: 25_11_01_02 - PS-01 Vystrojení čerpací stanice
D11: KSO: | I11: CC-CZ:
D12: Místo: | F12: Zliv | I12: Datum: | J12: ='Rekapitulace stavby'!AN8 -> 25. 9. 2025
D14: Zadavatel: | I14: IČ: | J14: 00245721
E15: Město Zliv | I15: DIČ: | J15: CZ00245721
D17: Účastník: | I17: IČ: | J17: ='Rekapitulace stavby'!AN13 -> Vyplň údaj
E18: ='Rekapitulace stavby'!E14 -> Vyplň údaj | I18: DIČ: | J18: ='Rekapitulace stavby'!AN14 -> Vyplň údaj
D20: Projektant: | I20: IČ: | J20: 06577831
E21: Ing. Jaroslav Žáček Ph.D. | I21: DIČ:
D23: Zpracovatel: | I23: IČ: | J23: =IF('Rekapitulace stavby'!AN19="","",'Rekapitulace stavby'!AN19)
E24: =IF('Rekapitulace stavby'!E20="","",'Rekapitulace stavby'!E20) | I24: DIČ: | J24: =IF('Rekapitulace stavby'!AN20="","",'Rekapitulace stavby'!AN20)
D26: Poznámka:
D30: Cena bez DPH | J30: =ROUND(J80, 2) -> 0
F32: Základ daně | I32: Sazba daně | J32: Výše daně
D33: DPH | E33: základní | F33: =ROUND((SUM(BE80:BE83)), 2) -> 0 | I33: 0.21 | J33: =ROUND(((SUM(BE80:BE83))*I33), 2) -> 0
E34: snížená | F34: =ROUND((SUM(BF80:BF83)), 2) -> 0 | I34: 0.12 | J34: =ROUND(((SUM(BF80:BF83))*I34), 2) -> 0
E35: zákl. přenesená | F35: =ROUND((SUM(BG80:BG83)), 2) -> 0 | I35: 0.21 | J35: =0 -> 0
E36: sníž. přenesená | F36: =ROUND((SUM(BH80:BH83)), 2) -> 0 | I36: 0.12 | J36: =0 -> 0
E37: nulová | F37: =ROUND((SUM(BI80:BI83)), 2) -> 0 | I37: 0 | J37: =0 -> 0
D39: Cena s DPH | G39: v | H39: CZK | J39: =SUM(J30:J37) -> 0
C45: REKAPITULACE ČLENĚNÍ SOUPISU PRACÍ
C47: Stavba:
E48: =E7 -> Zliv - Obnova kanalizace v ulici Jáchymovská
C49: Objekt:
E50: =E9 -> 25_11_01_02 - PS-01 Vystrojení čerpací stanice
C52: Místo: | F52: =F12 -> Zliv | I52: Datum: | J52: =IF(J12="","",J12) -> 25. 9. 2025
C54: Zadavatel: | F54: =E15 -> Město Zliv | I54: Projektant: | J54: =E21 -> Ing. Jaroslav Žáček Ph.D.
C55: Účastník: | F55: =IF(E18="","",E18) -> Vyplň údaj | I55: Zpracovatel: | J55: =E24
C57: Kód dílu - Popis | J57: Cena celkem [CZK]
C59: Náklady stavby celkem | J59: =J80 -> 0 | AU59: -1
D60: M - Práce a dodávky M | J60: =J81 -> 0
C67: SOUPIS PRACÍ
C69: Stavba:
E70: =E7 -> Zliv - Obnova kanalizace v ulici Jáchymovská
C71: Objekt:
E72: =E9 -> 25_11_01_02 - PS-01 Vystrojení čerpací stanice
C74: Místo: | F74: =F12 -> Zliv | I74: Datum: | J74: =IF(J12="","",J12) -> 25. 9. 2025
C76: Zadavatel: | F76: =E15 -> Město Zliv | I76: Projektant: | J76: =E21 -> Ing. Jaroslav Žáček Ph.D.
C77: Účastník: | F77: =IF(E18="","",E18) -> Vyplň údaj | I77: Zpracovatel: | J77: =E24
C79: PČ | D79: Typ | E79: Kód | F79: Popis | G79: MJ | H79: Množství | I79: J.cena [CZK] | J79: Cena celkem [CZK] | K79: Cenová soustava | N79: DPH | O79: J. Nh [h] | P79: Nh celkem [h] | Q79: J. hmotnost [t] | R79: Hmotnost celkem [t] | S79: J. suť [t] | T79: Suť Celkem [t]
C80: Náklady soupisu celkem | J80: =BK80 -> 0 | P80: =P81 -> 0 | R80: =R81 -> 0 | T80: =T81 -> 0 | AT80: D | AU80: -1 | BK80: =BK81 -> 0
D81: D | E81: M | F81: Práce a dodávky M | J81: =BK81 -> 0 | P81: =SUM(P82:P83) -> 0 | R81: =SUM(R82:R83) -> 0 | T81: =SUM(T82:T83) -> 0 | AR81: 3 | AT81: D | AU81: 0 | AY81: ROZPOCET | BK81: =SUM(BK82:BK83) -> 0
C82: 1 | D82: M | E82: TECHNO | F82: Souhrn prací a dodávek - Technologická část - PS-01 Vystrojení čerpací stanice !!NEVYPLŇOVAT!! | G82: soubor | H82: 1 | I82: ='PS-01'!F46 -> 0 | J82: =ROUND(I82*H82,2) -> 0 | N82: základní | P82: =O82*H82 -> 0 | Q82: 0 | R82: =Q82*H82 -> 0 | S82: 0 | T82: =S82*H82 -> 0 | AR82: 8 | AT82: M | AU82: 1 | AY82: ROZPOCET | BE82: =IF(N82="základní",J82,0) -> 0 | BF82: =IF(N82="snížená",J82,0) -> 0 | BG82: =IF(N82="zákl. přenesená",J82,0) -> 0 | BH82: =IF(N82="sníž. přenesená",J82,0) -> 0 | BI82: =IF(N82="nulová",J82,0) -> 0 | BJ82: 1 | BK82: =ROUND(I82*H82,2) -> 0 | BL82: 4 | BM82: -268060535
D83: P | F83: Poznámka k položce:_x000D_ TUTO POLOŽKU NEVYPLŇUJTE!!_x000D_ Zahrnuje veškeré dodávky, materiál a služby technologické části stavby - PS-01 Vystrojení čerpací stanice. Zhotovitel vyplní náklady na jednotlivé položky na dalším listu tabulky - list "PS-01", položka se doplní automaticky._x000D_ | AT83: P | AU83: 1

Sheet PS-01
A1: Poz. | B1: Popis položky | C1: MJ | D1: Množství | E1: Cena / MJ | F1: Celková cena | G1: Výrobce | H1: Typ
E2: Kč | F2: Kč (bez DPH)
A3: PS-01 Čerpací stanice - technologická část strojní
B5: Šedě podbarvená pole vyplnit !
A7: 01. Čerpací stanice | E7: =F7*C7 -> 0
A9: 01.1 | B9: Ponorné kalové čerpadlo v provedení s dvoutyčovým vodícím zařízením s vířivým oběžným kolem s průchodností 65 mm Výkon čerpadla: Q = 2,0 l/s; H = 8 m Motor: P = 1,3 kW; In = 2,8 A; U = 3x400V Medium: splaškové odpadní vody s příměsí písku Příslušenství: stacionární instalační sada s patním kolenem DN 65/65 s dvoutyčovým vodícím zařízením, horním držákem vodicích tyčí, spouštěcí řetěz nerez DIN 1.4301 délky 5 m převěšovací včetně závěsů po 1 m, kotevní a spojovací materiál nerez DIN 1.4301, vyhodnocovací relé vlhkosti ucpávky, ochrana proti chodu na sucho Připojovací rozměry: příruba DN 65 PN 10 Materiálové provedení: těleso čerpadla, tlakové víko, těleso motoru a patní koleno - šedá litina EN-GJL-250, hřídel - chromová ocel 1.4021+QT800, oběžné kolo - otěruvzdorná tvrdá litina EN-GJN-HB555(CR14), těsnění - NBR, dvě mechanické ucpávky SiC/SiC/NBR v tandemovém uspořádání s olejovou nádobkou | C9: kpl | D9: 2 | F9: =E9*D9 -> 0
A10: 01.2 | B10: Příruba plochá přivařovací DN 65 PN 10 Napojované potrubí: Ø 70 mm Materiál: nerez DIN 1.4301 | C10: ks | D10: 11 | F10: =E10*D10 -> 0
A11: 01.3 | B11: Trubka nerezová podélně svařovaná, mořená Ø70x2 mm Materiál: nerez DIN 1.4301 | C11: m | D11: 4 | F11: =E11*D11 -> 0
A12: 01.4 | B12: Zpětná klapka s koulí pro odpadní vodu DN 65 PN 10 Materiál: těleso a víko z tvárné litiny, koule z hliníku povrstvená pryží z NBR, spojovací šrouby nerez, těsnění NBR Povrchová ochrana: těžká protikorozní ochrana vně i uvnitř epoxidový prášek | C12: ks | D12: 2 | F12: =E12*D12 -> 0
A13: 01.5 | B13: Celonerezová axiálně pevná potrubní spojka pro potrubí o vnějším průměru 54 (53 - 55) mm, PN 16, těsnící manžeta EPDM, plášť i šroubení spojky - nerez DIN 1.4404, možnost vyosení 2° Certifikát pro trvalý styk s pitnou vodou | C13: ks | D13: 2 | F13: =E13*D13 -> 0
A14: 01.6 | B14: Nožové uzavírací šoupátko pro odpadní vodu DN 65 PN 10 bezpřírubové Materiál: těleso ze šedé litiny, uzavírací deska z nerez oceli min. 17% Cr, vřeteno z nerez oceli min. 13% Cr, těsnění z NBR, tažná matice z mosazi Povrchová ochrana: povrstvení vně i uvnitř epoxidovým práškem Včetně ručního kola | C14: ks | D14: 2 | F14: =E14*D14 -> 0
A15: 01.7 | B15: Koleno 90° nerezové podélně svařované, mořené Ø 70x2 mm, R = 1,5D Materiál: nerez DIN 1.4301 | C15: ks | D15: 4 | F15: =E15*D15 -> 0
A16: 01.8 | B16: Příruba jištěná proti axiálnímu posunu DN 65 PN 10 pro potrubí PE Ø 75 mm Materiál: příruba a upínací kroužek tvárná litina GGG 400, s epoxidovou ochrannou vrstvou, těsnící kroužek s chlopněmi (EPDM), ploché těsnění EPDM, šrouby A2 | C16: ks | D16: 1 | F16: =E16*D16 -> 0
A17: 01.9 | B17: Trubka nerezová podélně svařovaná, mořená Ø 54x2 mm Materiál: nerez DIN 1.4301 | C17: m | D17: 2 | F17: =E17*D17 -> 0
A18: 01.10 | B18: Koleno 45° nerezové podélně svařované, mořené Ø 54x2 mm, R = 1,5D Materiál: nerez DIN 1.4301 | C18: ks | D18: 2 | F18: =E18*D18 -> 0
A19: 01.11 | B19: Nipl přivařovací DN 50 s vnějším závitem 2" Materiál: nerez DIN 1.4301 | C19: ks | D19: 1 | F19: =E19*D19 -> 0
A20: 01.12 | B20: Kulový kohout DN 2" s vnitřními závity Materiál: mosaz | C20: ks | D20: 1 | F20: =E20*D20 -> 0
... A23: 01.15 | B23: Přenosné zdvihací zařízení (přenosný jeřábek s navijákem s ručním ovládáním) včetně kotevní patky a kotevního materiálu Délka výložného ramene: 800 mm Výška jeřábku: cca 2000 mm Min. nosnost: 150 kg Materiálové provedení: ocel tř.11; žárově zinkovaná. Účel: manipulace s ponornými čerpadly osazenými v čerpací stanice. Přenosné zařízení bude uloženo v prostorách provozovatele, | C23: ks | D23: 1 | F23: =E23*D23 -> 0
A25: 02. Instalační materiál
A27: 02.1 | B27: Označení potrubí - spotřebiště, medium, směr toku, funkce | C27: kpl | D27: 1 | F27: =E27*D27 -> 0
A28: 02.2 | B28: Spojovací materiál přírubových spojů Materiál: kombinace nerez A2/A4 - kompletní sada šroub metrický se šestihrannou hlavou DIN 931/A2, podložka plochá DIN125A/A2, matice šestihranná přesná DIN 934/A4 Při montáži bude používána speciální voduodpudivá pasta proti zadírání | C28: kpl | D28: 1 | F28: =E28*D28 -> 0
A29: 02.3 | B29: Těsnící materiál přírubových spojů - NBR | C29: kpl | D29: 1 | F29: =E29*D29 -> 0
A30: 02.4 | B30: Drobný montážní materiál | C30: kpl | D30: 1 | F30: =E30*D30 -> 0
A31: 02.5 | B31: Bezpečnostní tabulky a ohraničovací žluto-černě šrafovaná páska dle potřeby | C31: kpl | D31: 1 | F31: =E31*D31 -> 0
A32: 02.6 | B32: Zakrytí potrubí netkanou textílií 400 g/m2 včetně upevňovacího mat. - 25 m2 | C32: kpl | D32: 1 | F32: =E32*D32 -> 0
A34: 03. Služby
A36: 03.1 | B36: Montáž nového technologického zařízení | C36: kpl | D36: 1 | F36: =E36*D36 -> 0
A37: 03.2 | B37: Komplexní zkoušky | C37: kpl | D37: 1 | F37: =E37*D37 -> 0
A38: 03.3 | B38: Funkční zkoušky, uvedení zařízení do provozu | C38: kpl | D38: 1 | F38: =E38*D38 -> 0
A39: 03.4 | B39: Očištění ocelového a nerezového potrubí a svarů | C39: kpl | D39: 1 | F39: =E39*D39 -> 0
A40: 03.5 | B40: Moření povrchu a pasivace spojů nerezového potrubí a svarů | C40: kpl | D40: 1 | F40: =E40*D40 -> 0
A41: 03.6 | B41: Zaškolení personálu obsluhy a údržby | C41: kpl | D41: 1 | F41: =E41*D41 -> 0
A42: 03.7 | B42: Projekt skutečného provedení technologie | C42: kpl | D42: 1 | F42: =E42*D42 -> 0
F46: =SUM(F7:F44) -> 0

Sheet 25_11_01_03 - PS-02 Elekt...
AT2: {efc8fdca-d02e-40f7-94f6-e86fca93b522}
AT3: 2
D4: KRYCÍ LIST SOUPISU PRACÍ | M4: v --- níže se nacházejí doplnkové a pomocné údaje k sestavám --- v | AT4: False
D6: Stavba:
E7: ='Rekapitulace stavby'!K6 -> Zliv - Obnova kanalizace v ulici Jáchymovská
D8: Objekt:
E9: 25_11_01_03 - PS-02 Elektroinstalace čerpací stanice
D11: KSO: | I11: CC-CZ:
D12: Místo: | F12: Zliv | I12: Datum: | J12: ='Rekapitulace stavby'!AN8 -> 25. 9. 2025
D14: Zadavatel: | I14: IČ: | J14: 00245721
E15: Město Zliv | I15: DIČ: | J15: CZ00245721
D17: Účastník: | I17: IČ: | J17: ='Rekapitulace stavby'!AN13 -> Vyplň údaj
E18: ='Rekapitulace stavby'!E14 -> Vyplň údaj | I18: DIČ: | J18: ='Rekapitulace stavby'!AN14 -> Vyplň údaj
D20: Projektant: | I20: IČ: | J20: 06577831
E21: Ing. Jaroslav Žáček Ph.D. | I21: DIČ:
D23: Zpracovatel: | I23: IČ: | J23: =IF('Rekapitulace stavby'!AN19="","",'Rekapitulace stavby'!AN19)
E24: =IF('Rekapitulace stavby'!E20="","",'Rekapitulace stavby'!E20) | I24: DIČ: | J24: =IF('Rekapitulace stavby'!AN20="","",'Rekapitulace stavby'!AN20)
D26: Poznámka:
D30: Cena bez DPH | J30: =ROUND(J79, 2) -> 0
F32: Základ daně | I32: Sazba daně | J32: Výše daně
D33: DPH | E33: základní | F33: =ROUND((SUM(BE79:BE81)), 2) -> 0 | I33: 0.21 | J33: =ROUND(((SUM(BE79:BE81))*I33), 2) -> 0
E34: snížená | F34: =ROUND((SUM(BF79:BF81)), 2) -> 0 | I34: 0.12 | J34: =ROUND(((SUM(BF79:BF81))*I34), 2) -> 0
E35: zákl. přenesená | F35: =ROUND((SUM(BG79:BG81)), 2) -> 0 | I35: 0.21 | J35: =0 -> 0
E36: sníž. přenesená | F36: =ROUND((SUM(BH79:BH81)), 2) -> 0 | I36: 0.12 | J36: =0 -> 0
E37: nulová | F37: =ROUND((SUM(BI79:BI81)), 2) -> 0 | I37: 0 | J37: =0 -> 0
D39: Cena s DPH | G39: v | H39: CZK | J39: =SUM(J30:J37) -> 0
C45: REKAPITULACE ČLENĚNÍ SOUPISU PRACÍ
C47: Stavba:
E48: =E7 -> Zliv - Obnova kanalizace v ulici Jáchymovská
C49: Objekt:
E50: =E9 -> 25_11_01_03 - PS-02 Elektroinstalace čerpací stanice
C52: Místo: | F52: =F12 -> Zliv | I52: Datum: | J52: =IF(J12="","",J12) -> 25. 9. 2025
C54: Zadavatel: | F54: =E15 -> Město Zliv | I54: Projektant: | J54: =E21 -> Ing. Jaroslav Žáček Ph.D.
C55: Účastník: | F55: =IF(E18="","",E18) -> Vyplň údaj | I55: Zpracovatel: | J55: =E24
C57: Kód dílu - Popis | J57: Cena celkem [CZK]
C59: Náklady stavby celkem | J59: =J79 -> 0 | AU59: -1
C66: SOUPIS PRACÍ
C68: Stavba:
E69: =E7 -> Zliv - Obnova kanalizace v ulici Jáchymovská
C70: Objekt:
E71: =E9 -> 25_11_01_03 - PS-02 Elektroinstalace čerpací stanice
C73: Místo: | F73: =F12 -> Zliv | I73: Datum: | J73: =IF(J12="","",J12) -> 25. 9. 2025
C75: Zadavatel: | F75: =E15 -> Město Zliv | I75: Projektant: | J75: =E21 -> Ing. Jaroslav Žáček Ph.D.
C76: Účastník: | F76: =IF(E18="","",E18) -> Vyplň údaj | I76: Zpracovatel: | J76: =E24
C78: PČ | D78: Typ | E78: Kód | F78: Popis | G78: MJ | H78: Množství | I78: J.cena [CZK] | J78: Cena celkem [CZK] | K78: Cenová soustava | N78: DPH | O78: J. Nh [h] | P78: Nh celkem [h] | Q78: J. hmotnost [t] | R78: Hmotnost celkem [t] | S78: J. suť [t] | T78: Suť Celkem [t]
C79: Náklady soupisu celkem | J79: =BK79 -> 0 | P79: =SUM(P80:P81) -> 0 | R79: =SUM(R80:R81) -> 0 | T79: =SUM(T80:T81) -> 0 | AT79: D | AU79: -1 | BK79: =SUM(BK80:BK81) -> 0
C80: 1 | D80: M | E80: ELEKTRO | F80: Souhrn prací a dodávek - Elektroinstalace čerpací stanice - !!NEVYPLŇOVAT!! | G80: soubor | H80: 1 | I80: ='ČS - El'!G111 -> 0 | J80: =ROUND(I80*H80,2) -> 0 | N80: základní | P80: =O80*H80 -> 0 | Q80: 0 | R80: =Q80*H80 -> 0 | S80: 0 | T80: =S80*H80 -> 0 | AR80: 8 | AT80: M | AU80: 0 | AY80: ROZPOCET | BE80: =IF(N80="základní",J80,0) -> 0 | BF80: =IF(N80="snížená",J80,0) -> 0 | BG80: =IF(N80="zákl. přenesená",J80,0) -> 0 | BH80: =IF(N80="sníž. přenesená",J80,0) -> 0 | BI80: =IF(N80="nulová",J80,0) -> 0 | BJ80: 1 | BK80: =ROUND(I80*H80,2) -> 0 | BL80: 4 | BM80: 2038418194
D81: P | F81: Poznámka k položce:_x000D_ TUTO POLOŽKU NEVYPLŇUJTE!!_x000D_ Zahrnuje veškeré dodávky, elektromontáže a služby elektroinstalace čerpací stanice, zhotovitel vyplní náklady na jednotlivé položky na dalším listu tabulky - "ČS-EL", položka se vyplní automaticky._x000D_ | AT81: P | AU81: 0

Sheet ČS - El
A1: Akce: | B1: ČS Zliv
A2: Část | B2: Elektrotechnická část
B3: PS 02 - elektroinstalace
B4: Propočet nákladů (ZDS)
B5: D.2.2.1 - elektroinstalace - ČERPACÍ STANICE
A6: Poř. číslo | B6: ozn. | C6: Popis položky | D6: M.j. | E6: Výměra | F6: Jedn. cena | G6: celkem
A8: 1 | B8: RM1 | C8: Rozvaděč RM1 | D8: ks | E8: 1 | G8: =E8*F8 -> 0
C9: ROZVADĚČ DODÁVKA TECHNOLOGIE
C10: ČÁST ELEKTRO - MONTÁŽ
B11: Technologický rozvaděč tvořený plastovou závěsnou skříní Thalassa o
B12: rozměrech 1000x 750x 320/370mm (v x š x hl) vystrojený dle poptávky a obsahující:
C13: - hlavní vypínač v kombinaci s přepínačem sítí (síť - 0 - záložní zdroj)
C14: proudové chrániče
C15: ventilátoru, průtokoměru a zařízení pro přenosy.
C16: - 2x softstartéry pro spínání čerpadel (3,65 kW) včetně jistících prvků proti zkratu a
C17: proudovému přetížení
C18: - svodiče přepětí třídy B+C
C19: - relé pro monitorování elektrické sítě
C21: - relé hlídání zaplavení suchého prostoru šachty pomocí elektrod
C22: - vytápění, osvětlení rozváděče a koncový spínač vstupu do rozvaděče
C23: - hlídání průsaku mech. ucpávkami čerpadel a teploty ve vinutí motorů (NIV 101A)
C24: - oddělovací transformátor 230VAC, napájecí zdroj 24VDC, pomocná relé
C25: - kombinovanou zásuvku 400/230V/16A na boku rozvaděče
... C28: - ovladače, přepínače, signalizaci provozních a poruchových stavů, 2 ampérmetry a
B29: voltmetr na dveřích rozvaděče
B30: - binární signály provozních a poruchových stavů pro přenosy na dispečink: chod a
B31: porucha hlavních čerpadel, výpadek napájení, havarijní hladina ve sběrné nádrži,
B32: zaplavení suchého prostoru šachty, vstup do rozvaděče a šachty ČS
B33: - analogové signály pro přenosy na dispečink: hladina v ČS, okamžitý a součtový průtok
A34: 2 | C34: montáž rozvaděče | D34: ks | E34: 1 | G34: =F34*E34 -> 0
C35: Rozvaděč RE
A36: 3 | B36: RE | C36: elektroměrový rozvaděč RE IP 44 , jistič 1x 20A/3/B , příprava pro elektroměr . +1x nulový můstek , plombovatelný kryt | D36: ks | E36: 1 | G36: =F36*E36 -> 0
A37: 4 | C37: montáž rozvaděče | D37: ks | E37: 1 | G37: =F37*E37 -> 0
C38: Kabeláž - vodiče
A39: 5 | C39: Kabel CYKY-J 5x10 mm2 | D39: m | E39: 10 | G39: =F39*E39 -> 0
A40: 6 | C40: Kabel CYKY-J 4x1,5 mm2 | D40: m | E40: 12 | G40: =F40*E40 -> 0
A41: 7 | C41: Kabel CYKY-J 5x1,5 mm2 | D41: m | E41: 12 | G41: =F41*E41 -> 0
A42: 8 | C42: CMSM 3x1,5 | D42: m | E42: 10 | G42: =F42*E42 -> 0
A43: 9 | C43: Uzemňovací vodič Cu 10 mm2 | D43: m | E43: 10 | G43: =F43*E43 -> 0
A44: 10 | C44: Uzemňovací vodič Cu 6 mm2 | D44: m | E44: 10 | G44: =F44*E44 -> 0
A45: 11 | C45: Montáž kabelů volně , pevně, čerpadel M1 , M2, a snímačů šachta separace , dodávka kabelů čerpadel | D45: m | E45: 50 | G45: =F45*E45 -> 0
A46: 12 | C46: Materiál pro uchycení a značení kabelů a svorky | D46: kus | E46: 100 | G46: =F46*E46 -> 0
A47: 13 | C47: kabelová ucpávka - průniku vody | D47: ks | E47: 1 | G47: =F47*E47 -> 0
C48: Uzemnění - pospojení | H48: hlavní ochranná přípojnice HOP
A49: 14 | C49: Uzemňovací vodič FeZn 30x4 mm | D49: m | E49: 30 | G49: =F49*E49 -> 0
A50: 15 | C50: Zemnící svorky | D50: ks | E50: 6 | G50: =F50*E50 -> 0
A51: 16 | C51: Zemnící svorky CU-Fe pro pospojení konstrukcí v jímce - různé | D51: kus | E51: 10 | G51: =F51*E51 -> 0
A52: 17 | C52: hlavní ochranná přípojnice HOP | D52: kus | E52: 1 | G52: =F52*E52 -> 0 | H52: Zemnící svorky CU-Fe pro pospojení konstrukcí v jímce
A53: 18 | C53: Nerez průchodna -pro zemnič | D53: ks | E53: 2 | G53: =F53*E53 -> 0
A54: 19 | C54: ochran. nátěr antikorozní | D54: kg | E54: 0.5 | G54: =F54*E54 -> 0
C55: Polní přístroje
A56: 20 | B56: M1 | C56: čerpadlo 1,3 kW - dodávka technologie - napojení | D56: ks | E56: 1 | G56: =F56*E56 -> 0
A57: 21 | B57: M2 | C57: čerpadlo 1,3 kW - dodávka technologie - napojení | D57: ks | E57: 1 | G57: =F57*E57 -> 0 | H57: Nerez průchodna -pro zemnič
A58: 22 | B58: L | C58: Prachotěsné svítidlo s opálovým krytem LED 830, korpus ABS, opálový PC kryt, IP66 | D58: ks | E58: 1 | G58: =F58*E58 -> 0
A59: 23 | C59: montáž osv. tělesa přisazené | D59: ks | E59: 1 | G59: =F59*E59 -> 0
C61: Kabelové trasy - zemní práce
A62: 24 | C62: Výkopy a zemní práce (viz. stavební část)
A63: 25 | C63: Signalizační folie | D63: m | E63: 10 | G63: =F63*E63 -> 0
A64: 26 | C64: Chránička korunovaná D 110 mm | D64: m | E64: 20 | G64: =F64*E64 -> 0
A65: 27 | C65: Ohebné chráničky kabelů do d 50 mm včetně upevnění v jímce cca 10 m | D65: kus | E65: 1 | G65: =F65*E65 -> 0
A66: 28 | C66: Pískové lože 400 x 300 mm | D66: m | E66: 5 | G66: =F66*E66 -> 0
A67: 29 | C67: Prostup betonovou stěnou vodotěsný tl. 300 mm pro 2 x silové napájecí čerpadel cca d 11 mm, 2 x kabel plovákového snímače cca d 8,1 mm, 1 x kabel hydrostatické sondy SELV cca d 9,6 mm. Kabel PE pospojení cca d 11,9 mm. Prostupy musí být snadno demontovatelné | D67: kus | E67: 1 | G67: =F67*E67 -> 0
A68: 30 | C68: Krycí desky kabelové trasy šířka 600 mm | D68: m | E68: 3 | G68: =F68*E68 -> 0
A69: 31 | C69: Montážní práce, pomocné zemní práce včetně drobného materiálu | D69: kus | E69: 1 | G69: =F69*E69 -> 0
C72: Elektro pilíř
A73: 32 | C73: zemní práce + základ beton + bednění - dle výkresu viz technologie | G73: =F73*E73 -> 0
A74: 33 | C74: el pilíř z cementových cihel dle výkresu včetně niky pro rozvaděče RE, RM | D74: kpt | E74: 1 | G74: =F74*E74 -> 0
A75: 34 | C75: oplechování pozik plech tl 1,5 , komplet včetně betonové desky s výztuží | D75: kpt | E75: 1 | G75: =F75*E75 -> 0
A76: 35 | C76: revizní otvor - nerez - 400x400 se zámkem a utěsněnám proti vodě | D76: kpt | E76: 1 | G76: =F76*E76 -> 0
A77: 36 | C77: odvoz zeminy - viz technologie
C79: Uvedení do provozu a výchozí revize vč. plánu skut provedení
A80: 37 | C80: Ukončení kabelů do 2,5mm2 na svorkách | D80: ks | E80: 45 | G80: =F80*E80 -> 0
A81: 38 | C81: Software PLC systému | D81: kus | E81: 1 | G81: =F81*E81 -> 0
A82: 39 | C82: Uvedení do provozu a výchozí revize vč. plánu skut provedení | D82: kus | E82: 1 | G82: =F82*E82 -> 0
A83: 40 | C83: Úprava vizualizace na centrálním dispečinku provozovatele (přenosy) | D83: kpl | E83: 1 | G83: =F83*E83 -> 0
A84: 41 | C84: revize | D84: kpl | E84: 1 | G84: =F84*E84 -> 0
A85: 42 | C85: proj dokumetace skutečné provedení | D85: kpt | E85: 1 | G85: =F85*E85 -> 0
C87: REGULACE
C88: Polní přístroje
A89: 1 | B89: LIC01 | C89: Ponorná sonda nerezová k měření výšky hladiny - 10m kabel - měření hladiny kalové vody dodávka technologie - montáž | D89: ks | E89: 1 | G89: =F89*E89 -> 0
A90: 2 | B90: LI 02 | C90: Plovákový spínač hladiny kabelový , 10 m kabel včetně úchytu dodávka technologie - montáž | D90: ks | E90: 2 | G90: =F90*E90 -> 0
A91: 3 | C91: Plastová rozvodnice MXS1 pro přepojeni plovákových snímačů, třída II, IP66, 3xprůchodky, řadové svorky 6x2,5 vč. montáže na stěnu | D91: kus | E91: 1 | G91: =F91*E91 -> 0
A92: 4 | C92: Plastová rozvodnice MXS2 pro přepojeni kabelu hydrostatické sondy, třída II, IP66, 2xprůchodky, řadové svorky 4x2,5 + svorka stínění vč. motáže na stěnu | D92: kus | E92: 2 | G92: =F92*E92 -> 0
A93: 5 | C93: Montáž kabelů volně , pevně, snímačů šachta , dodávka kabelů snímačů | D93: m | E93: 50 | G93: =F93*E93 -> 0
A94: 6 | C94: Ukončení kabelů do 2,5mm2 na svorkách | D94: ks | E94: 10 | G94: =F94*E94 -> 0
C98: Řízení - dálkový přenos
A99: 7 | B99: 100.01 | C99: Univerzální multikanálová měřící a záznamová jednotka pro sběr dat a řízení navázané technologie referenční typ H3 - Fiedler - GSM/GPRS (Wi-Fi) Data Logger.krytí IP67 má i USB konektor a zabudovaný GSM /GPRS , barevný dotykový displej a hmatníková klávesnice.AIN1-AIN6: kombinované Digitálně-Analogové Vstupy (číslicový DCL, proudový 4(0)-20 mA, 1(0)-5 mA) AIN7, AIN8: napěťové vstupy 0-2,5 V, jeden diferenciální vstup PIN1-PIN6: pulsně-binární vstupy (OPTO nebo READ snímače od vodoměrů, kontakty relé, senzory s otevřeným kolektorem) SDI-12: připojení měřících sond a snímačů RS485-I, RS485-II: dvě nezávislé sériové sběrnice pro připojení měřících sond a rozšiřujících modulů pod protokolem FINET, MODBUS RTU,... | D99: ks | E99: 1 | G99: =(E99*F99) -> 0
A100: 8 | B100: 100.03 | C100: Síťový zdroj Delta 13,8V/30W | D100: ks | E100: 1 | G100: =(E100*F100) -> 0
A101: 9 | B101: 100.04 | C101: AKU-12/7 bezúdržbový akumulátor 12V/ 7 Ah | D101: ks | E101: 1 | G101: =(E101*F101) -> 0
A102: 10 | B102: 100.05 | C102: přep. Ochrana III tř | D102: ks | E102: 1 | G102: =(E102*F102) -> 0
A103: 11 | C103: montáž řídící jednotky | D103: ks | E103: 1 | G103: =(E103*F103) -> 0
A104: 12 | C104: programové vybavení | D104: kpt | E104: 1 | G104: =(E104*F104) -> 0
A105: 13 | C105: Uvedení do provozu a výchozí revize vč. plánu skut provedení
A106: 14 | C106: Software PLC systému | D106: kus | E106: 1 | G106: =F106*E106 -> 0
A107: 15 | C107: Uvedení do provozu a výchozí revize vč. plánu skut provedení | D107: kus | E107: 1 | G107: =F107*E107 -> 0
A108: 16 | C108: Úprava vizualizace na centrálním dispečinku provozovatele (přenosy) | D108: kpl | E108: 1 | G108: =F108*E108 -> 0
A109: 17 | C109: revize | D109: kpl | E109: 1 | G109: =F109*E109 -> 0
C111: plánovaná cena celkem bez DPH | G111: =SUM(G8:G109) -> 0

Sheet  kabel list
A2: Akce: | B2: ČS Zliv
C3: KABELOVÁ LISTINA
C4: ROZVADĚČ RE
A5: 1 | B5: WL | C5: RE | D5: CYKY J 4x10 | E5: PRIS | F5: RE | G5: napájení rozv RE
C7: ROZVADĚČ RM1
A8: P.Č. | B8: Č KABELU | D8: TYP | E8: Z | F8: DO | G8: POZN.
A9: 1 | B9: WL | C9: RM | D9: CYKY J 5x10 | E9: RE | F9: RM | G9: napájení rozv RM
A10: 2 | C10: CY | D10: CY 16 zž | E10: RE | F10: RM | G10: uzem
A11: 3 | B11: WL | C11: SV | D11: CYKY J 3x1,5 | E11: RM | F11: SV | G11: osvětlení
A12: 4 | B12: WL | C12: M1 | D12: CYKY J 4x1,5 | E12: RM | F12: M1 | G12: čerpadlo M1
A13: 5 | B13: WS | C13: M1 | D13: CYKY J 5x1,5 | E13: RM | F13: M1 | G13: termo kontakt
A14: 6 | B14: WL | C14: M2 | D14: CYKY J 4x1,5 | E14: RM | F14: M2 | G14: čerpadlo M2
A15: 7 | B15: WS | C15: M2 | D15: CYKY J 5x1,5 | E15: RM | F15: M2 | G15: termo kontakt
A16: 8 | B16: WS | C16: LIC01 | D16: CMSM 3x1,5 | E16: RM | F16: LIC01 | G16: smínač hladiny 4-20mA
A17: 9 | B17: ws | C17: LI02 | D17: CMSM 3x1,5 | E17: RM | F17: LI02 | G17: plovák snímač
A18: 10 | B18: ws | C18: LI03 | D18: CMSM 3x1,5 | E18: RM | F18: LI03 | G18: plovák snímač
A19: 11 | B19: WL | C19: KS1 | D19: CMSM 3x1,5 | E19: RM | F19: KS1 | G19: konc. Spínač
A20: 12 | C20: CY | D20: CY 6 zž | G20: pospojení

Sheet 25_11_01_04.1 - Oprava kr...
AT2: {3fe5c491-ee0c-49b8-b9e4-964800946a3c}
AT3: 2
D4: KRYCÍ LIST SOUPISU PRACÍ | M4: v --- níže se nacházejí doplnkové a pomocné údaje k sestavám --- v | AT4: False
D6: Stavba:
E7: ='Rekapitulace stavby'!K6 -> Zliv - Obnova kanalizace v ulici Jáchymovská
D8: Objekt:
E9: 25_11_01_04 - SO Celoplošná oprava krytu MK
D10: Soupis:
E11: 25_11_01_04.1 - Oprava krytu - I. etapa
D13: KSO: | I13: CC-CZ:
D14: Místo: | F14: Zliv | I14: Datum: | J14: ='Rekapitulace stavby'!AN8 -> 25. 9. 2025
D16: Zadavatel: | I16: IČ: | J16: 00245721
E17: Město Zliv | I17: DIČ: | J17: CZ00245721
D19: Účastník: | I19: IČ: | J19: ='Rekapitulace stavby'!AN13 -> Vyplň údaj
E20: ='Rekapitulace stavby'!E14 -> Vyplň údaj | I20: DIČ: | J20: ='Rekapitulace stavby'!AN14 -> Vyplň údaj
D22: Projektant: | I22: IČ: | J22: 06577831
E23: Ing. Jaroslav Žáček Ph.D. | I23: DIČ:
D25: Zpracovatel: | I25: IČ: | J25: =IF('Rekapitulace stavby'!AN19="","",'Rekapitulace stavby'!AN19)
E26: =IF('Rekapitulace stavby'!E20="","",'Rekapitulace stavby'!E20) | I26: DIČ: | J26: =IF('Rekapitulace stavby'!AN20="","",'Rekapitulace stavby'!AN20)
D28: Poznámka:
D32: Cena bez DPH | J32: =ROUND(J91, 2) -> 0
F34: Základ daně | I34: Sazba daně | J34: Výše daně
D35: DPH | E35: základní | F35: =ROUND((SUM(BE91:BE122)), 2) -> 0 | I35: 0.21 | J35: =ROUND(((SUM(BE91:BE122))*I35), 2) -> 0
E36: snížená | F36: =ROUND((SUM(BF91:BF122)), 2) -> 0 | I36: 0.12 | J36: =ROUND(((SUM(BF91:BF122))*I36), 2) -> 0
E37: zákl. přenesená | F37: =ROUND((SUM(BG91:BG122)), 2) -> 0 | I37: 0.21 | J37: =0 -> 0
E38: sníž. přenesená | F38: =ROUND((SUM(BH91:BH122)), 2) -> 0 | I38: 0.12 | J38: =0 -> 0
E39: nulová | F39: =ROUND((SUM(BI91:BI122)), 2) -> 0 | I39: 0 | J39: =0 -> 0
D41: Cena s DPH | G41: v | H41: CZK | J41: =SUM(J32:J39) -> 0
C47: REKAPITULACE ČLENĚNÍ SOUPISU PRACÍ
C49: Stavba:
E50: =E7 -> Zliv - Obnova kanalizace v ulici Jáchymovská
C51: Objekt:
E52: 25_11_01_04 - SO Celoplošná oprava krytu MK
C53: Soupis:
E54: =E11 -> 25_11_01_04.1 - Oprava krytu - I. etapa
C56: Místo: | F56: =F14 -> Zliv | I56: Datum: | J56: =IF(J14="","",J14) -> 25. 9. 2025
C58: Zadavatel: | F58: =E17 -> Město Zliv | I58: Projektant: | J58: =E23 -> Ing. Jaroslav Žáček Ph.D.
C59: Účastník: | F59: =IF(E20="","",E20) -> Vyplň údaj | I59: Zpracovatel: | J59: =E26
C61: Kód dílu - Popis | J61: Cena celkem [CZK]
C63: Náklady stavby celkem | J63: =J91 -> 0 | AU63: -1
D64: HSV - Práce a dodávky HSV | J64: =J92 -> 0
D65: 1 - Zemní práce | J65: =J93 -> 0
D66: 5 - Komunikace pozemní | J66: =J97 -> 0
D67: 9 - Ostatní konstrukce a práce, bourání | J67: =J103 -> 0
D68: 997 - Přesun sutě | J68: =J106 -> 0
D69: 998 - Přesun hmot | J69: =J120 -> 0
C76: SOUPIS PRACÍ
C78: Stavba:
E79: =E7 -> Zliv - Obnova kanalizace v ulici Jáchymovská
C80: Objekt:
E81: 25_11_01_04 - SO Celoplošná oprava krytu MK
C82: Soupis:
E83: =E11 -> 25_11_01_04.1 - Oprava krytu - I. etapa
C85: Místo: | F85: =F14 -> Zliv | I85: Datum: | J85: =IF(J14="","",J14) -> 25. 9. 2025
C87: Zadavatel: | F87: =E17 -> Město Zliv | I87: Projektant: | J87: =E23 -> Ing. Jaroslav Žáček Ph.D.
C88: Účastník: | F88: =IF(E20="","",E20) -> Vyplň údaj | I88: Zpracovatel: | J88: =E26
C90: PČ | D90: Typ | E90: Kód | F90: Popis | G90: MJ | H90: Množství | I90: J.cena [CZK] | J90: Cena celkem [CZK] | K90: Cenová soustava | N90: DPH | O90: J. Nh [h] | P90: Nh celkem [h] | Q90: J. hmotnost [t] | R90: Hmotnost celkem [t] | S90: J. suť [t] | T90: Suť Celkem [t]
C91: Náklady soupisu celkem | J91: =BK91 -> 0 | P91: =P92 -> 0 | R91: =R92 -> 0.062248 | T91: =T92 -> 186.921 | AT91: D | AU91: -1 | BK91: =BK92 -> 0
D92: D | E92: HSV | F92: Práce a dodávky HSV | J92: =BK92 -> 0 | P92: =P93+P97+P103+P106+P120 -> 0 | R92: =R93+R97+R103+R106+R120 -> 0.062248 | T92: =T93+T97+T103+T106+T120 -> 186.921 | AR92: 1 | AT92: D | AU92: 0 | AY92: ROZPOCET | BK92: =BK93+BK97+BK103+BK106+BK120 -> 0
D93: D | E93: 1 | F93: Zemní práce | J93: =BK93 -> 0 | P93: =SUM(P94:P96) -> 0 | R93: =SUM(R94:R96) -> 0.016254 | T93: =SUM(T94:T96) -> 186.921 | AR93: 1 | AT93: D | AU93: 1 | AY93: ROZPOCET | BK93: =SUM(BK94:BK96) -> 0
C94: 1 | D94: K | E94: 113154523 | F94: Frézování živičného podkladu nebo krytu s naložením hmot na dopravní prostředek plochy do 500 m2 pruhu šířky přes 0,5 m, tloušťky vrstvy 50 mm | G94: m2 | H94: 1625.4 | J94: =ROUND(I94*H94,2) -> 0 | K94: CS ÚRS 2025 02 | N94: základní | P94: =O94*H94 -> 0 | Q94: 1e-05 | R94: =Q94*H94 -> 0.016254 | S94: 0.115 | T94: =S94*H94 -> 186.921 | AR94: 4 | AT94: K | AU94: 2 | AY94: ROZPOCET | BE94: =IF(N94="základní",J94,0) -> 0 | BF94: =IF(N94="snížená",J94,0) -> 0 | BG94: =IF(N94="zákl. přenesená",J94,0) -> 0 | BH94: =IF(N94="sníž. přenesená",J94,0) -> 0 | BI94: =IF(N94="nulová",J94,0) -> 0 | BJ94: 1 | BK94: =ROUND(I94*H94,2) -> 0 | BL94: 4 | BM94: 1421650480
D95: Online PSC | F95: https://podminky.urs.cz/item/CS_URS_2025_02/113154523 | AT95: Online PSC | AU95: 2
D96: VV | F96: 1625,4 | H96: 1625.4 | AT96: VV | AU96: 2 | AV96: 2 | AW96: True | AX96: 1 | AY96: ROZPOCET
D97: D | E97: 5 | F97: Komunikace pozemní | J97: =BK97 -> 0 | P97: =SUM(P98:P102) -> 0 | R97: =SUM(R98:R102) -> 0 | T97: =SUM(T98:T102) -> 0 | AR97: 1 | AT97: D | AU97: 1 | AY97: ROZPOCET | BK97: =SUM(BK98:BK102) -> 0
C98: 2 | D98: K | E98: 573211107 | F98: Postřik spojovací PS bez posypu kamenivem z asfaltu silničního, v množství 0,30 kg/m2 | G98: m2 | H98: 1625.4 | J98: =ROUND(I98*H98,2) -> 0 | K98: CS ÚRS 2025 02 | N98: základní | P98: =O98*H98 -> 0 | Q98: 0 | R98: =Q98*H98 -> 0 | S98: 0 | T98: =S98*H98 -> 0 | AR98: 4 | AT98: K | AU98: 2 | AY98: ROZPOCET | BE98: =IF(N98="základní",J98,0) -> 0 | BF98: =IF(N98="snížená",J98,0) -> 0 | BG98: =IF(N98="zákl. přenesená",J98,0) -> 0 | BH98: =IF(N98="sníž. přenesená",J98,0) -> 0 | BI98: =IF(N98="nulová",J98,0) -> 0 | BJ98: 1 | BK98: =ROUND(I98*H98,2) -> 0 | BL98: 4 | BM98: 68858585
D99: Online PSC | F99: https://podminky.urs.cz/item/CS_URS_2025_02/573211107 | AT99: Online PSC | AU99: 2
D100: VV | F100: 1625,4 | H100: 1625.4 | AT100: VV | AU100: 2 | AV100: 2 | AW100: True | AX100: 1 | AY100: ROZPOCET
C101: 3 | D101: K | E101: 577144111 | F101: Asfaltový beton vrstva obrusná ACO 11 z nemodifikovaného asfaltu s rozprostřením a se zhutněním ACO 11+ v pruhu šířky přes 1,5 do 3 m, po zhutnění tl. 50 mm | G101: m2 | H101: 1625.4 | J101: =ROUND(I101*H101,2) -> 0 | K101: CS ÚRS 2025 02 | N101: základní | P101: =O101*H101 -> 0 | Q101: 0 | R101: =Q101*H101 -> 0 | S101: 0 | T101: =S101*H101 -> 0 | AR101: 4 | AT101: K | AU101: 2 | AY101: ROZPOCET | BE101: =IF(N101="základní",J101,0) -> 0 | BF101: =IF(N101="snížená",J101,0) -> 0 | BG101: =IF(N101="zákl. přenesená",J101,0) -> 0 | BH101: =IF(N101="sníž. přenesená",J101,0) -> 0 | BI101: =IF(N101="nulová",J101,0) -> 0 | BJ101: 1 | BK101: =ROUND(I101*H101,2) -> 0 | BL101: 4 | BM101: 415044722
D102: Online PSC | F102: https://podminky.urs.cz/item/CS_URS_2025_02/577144111 | AT102: Online PSC | AU102: 2
D103: D | E103: 9 | F103: Ostatní konstrukce a práce, bourání | J103: =BK103 -> 0 | P103: =SUM(P104:P105) -> 0 | R103: =SUM(R104:R105) -> 0.045994 | T103: =SUM(T104:T105) -> 0 | AR103: 1 | AT103: D | AU103: 1 | AY103: ROZPOCET | BK103: =SUM(BK104:BK105) -> 0
C104: 4 | D104: K | E104: 919732211 | F104: Styčná pracovní spára při napojení nového živičného povrchu na stávající se zalitím za tepla modifikovanou asfaltovou hmotou s posypem vápenným hydrátem šířky do 15 mm, hloubky do 25 mm včetně prořezání spáry | G104: m | H104: 75.4 | J104: =ROUND(I104*H104,2) -> 0 | K104: CS ÚRS 2025 02 | N104: základní | P104: =O104*H104 -> 0 | Q104: 0.00061 | R104: =Q104*H104 -> 0.045994 | S104: 0 | T104: =S104*H104 -> 0 | AR104: 4 | AT104: K | AU104: 2 | AY104: ROZPOCET | BE104: =IF(N104="základní",J104,0) -> 0 | BF104: =IF(N104="snížená",J104,0) -> 0 | BG104: =IF(N104="zákl. přenesená",J104,0) -> 0 | BH104: =IF(N104="sníž. přenesená",J104,0) -> 0 | BI104: =IF(N104="nulová",J104,0) -> 0 | BJ104: 1 | BK104: =ROUND(I104*H104,2) -> 0 | BL104: 4 | BM104: -809037862
D105: Online PSC | F105: https://podminky.urs.cz/item/CS_URS_2025_02/919732211 | AT105: Online PSC | AU105: 2
D106: D | E106: 997 | F106: Přesun sutě | J106: =BK106 -> 0 | P106: =SUM(P107:P119) -> 0 | R106: =SUM(R107:R119) -> 0 | T106: =SUM(T107:T119) -> 0 | AR106: 1 | AT106: D | AU106: 1 | AY106: ROZPOCET | BK106: =SUM(BK107:BK119) -> 0
C107: 5 | D107: K | E107: 997013501 | F107: Odvoz suti a vybouraných hmot na skládku nebo meziskládku se složením, na vzdálenost do 1 km | G107: t | H107: 186.921 | J107: =ROUND(I107*H107,2) -> 0 | K107: CS ÚRS 2025 02 | N107: základní | P107: =O107*H107 -> 0 | Q107: 0 | R107: =Q107*H107 -> 0 | S107: 0 | T107: =S107*H107 -> 0 | AR107: 4 | AT107: K | AU107: 2 | AY107: ROZPOCET | BE107: =IF(N107="základní",J107,0) -> 0 | BF107: =IF(N107="snížená",J107,0) -> 0 | BG107: =IF(N107="zákl. přenesená",J107,0) -> 0 | BH107: =IF(N107="sníž. přenesená",J107,0) -> 0 | BI107: =IF(N107="nulová",J107,0) -> 0 | BJ107: 1 | BK107: =ROUND(I107*H107,2) -> 0 | BL107: 4 | BM107: -1574050980
D108: Online PSC | F108: https://podminky.urs.cz/item/CS_URS_2025_02/997013501 | AT108: Online PSC | AU108: 2
C109: 6 | D109: K | E109: 997013509 | F109: Odvoz suti a vybouraných hmot na skládku nebo meziskládku se složením, na vzdálenost Příplatek k ceně za každý další započatý 1 km přes 1 km | G109: t | H109: 3551.499 | J109: =ROUND(I109*H109,2) -> 0 | K109: CS ÚRS 2025 02 | N109: základní | P109: =O109*H109 -> 0 | Q109: 0 | R109: =Q109*H109 -> 0 | S109: 0 | T109: =S109*H109 -> 0 | AR109: 4 | AT109: K | AU109: 2 | AY109: ROZPOCET | BE109: =IF(N109="základní",J109,0) -> 0 | BF109: =IF(N109="snížená",J109,0) -> 0 | BG109: =IF(N109="zákl. přenesená",J109,0) -> 0 | BH109: =IF(N109="sníž. přenesená",J109,0) -> 0 | BI109: =IF(N109="nulová",J109,0) -> 0 | BJ109: 1 | BK109: =ROUND(I109*H109,2) -> 0 | BL109: 4 | BM109: -1201436657
D110: Online PSC | F110: https://podminky.urs.cz/item/CS_URS_2025_02/997013509 | AT110: Online PSC | AU110: 2
D111: VV | F111: 186,921*19 'Přepočtené koeficientem množství | H111: 3551.499 | AT111: VV | AU111: 2 | AV111: 2 | AW111: False | AX111: 1 | AY111: ROZPOCET
C112: 7 | D112: K | E112: 997013847 | F112: Poplatek za uložení stavebního odpadu na skládce (skládkovné) asfaltového s obsahem dehtu zatříděného do Katalogu odpadů pod kódem 17 03 01 | G112: t | H112: 18.692 | J112: =ROUND(I112*H112,2) -> 0 | K112: CS ÚRS 2025 02 | N112: základní | P112: =O112*H112 -> 0 | Q112: 0 | R112: =Q112*H112 -> 0 | S112: 0 | T112: =S112*H112 -> 0 | AR112: 4 | AT112: K | AU112: 2 | AY112: ROZPOCET | BE112: =IF(N112="základní",J112,0) -> 0 | BF112: =IF(N112="snížená",J112,0) -> 0 | BG112: =IF(N112="zákl. přenesená",J112,0) -> 0 | BH112: =IF(N112="sníž. přenesená",J112,0) -> 0 | BI112: =IF(N112="nulová",J112,0) -> 0 | BJ112: 1 | BK112: =ROUND(I112*H112,2) -> 0 | BL112: 4 | BM112: 671146927
D113: Online PSC | F113: https://podminky.urs.cz/item/CS_URS_2025_02/997013847 | AT113: Online PSC | AU113: 2
D114: P | F114: Poznámka k položce:_x000D_ - živičná vrstva s obsahem dehtu, předpoklad 10%_x000D_ - bude fakturováno dle skutečnosti a výsledku zkoušek | AT114: P | AU114: 2
D115: VV | F115: 186,921*0,1 'Přepočtené koeficientem množství | H115: 18.692 | AT115: VV | AU115: 2 | AV115: 2 | AW115: False | AX115: 1 | AY115: ROZPOCET
C116: 8 | D116: K | E116: 997013875 | F116: Poplatek za uložení stavebního odpadu na recyklační skládce (skládkovné) asfaltového bez obsahu dehtu zatříděného do Katalogu odpadů pod kódem 17 03 02 | G116: t | H116: 168.229 | J116: =ROUND(I116*H116,2) -> 0 | K116: CS ÚRS 2025 02 | N116: základní | P116: =O116*H116 -> 0 | Q116: 0 | R116: =Q116*H116 -> 0 | S116: 0 | T116: =S116*H116 -> 0 | AR116: 4 | AT116: K | AU116: 2 | AY116: ROZPOCET | BE116: =IF(N116="základní",J116,0) -> 0 | BF116: =IF(N116="snížená",J116,0) -> 0 | BG116: =IF(N116="zákl. přenesená",J116,0) -> 0 | BH116: =IF(N116="sníž. přenesená",J116,0) -> 0 | BI116: =IF(N116="nulová",J116,0) -> 0 | BJ116: 1 | BK116: =ROUND(I116*H116,2) -> 0 | BL116: 4 | BM116: -678214444
D117: Online PSC | F117: https://podminky.urs.cz/item/CS_URS_2025_02/997013875 | AT117: Online PSC | AU117: 2
D118: P | F118: Poznámka k položce:_x000D_ - živičná vrstva bez obsahu dehtu, předpoklad 90%_x000D_ - bude fakturováno dle skutečnosti a výsledku zkoušek | AT118: P | AU118: 2
D119: VV | F119: 186,921*0,9 'Přepočtené koeficientem množství | H119: 168.229 | AT119: VV | AU119: 2 | AV119: 2 | AW119: False | AX119: 1 | AY119: ROZPOCET
D120: D | E120: 998 | F120: Přesun hmot | J120: =BK120 -> 0 | P120: =SUM(P121:P122) -> 0 | R120: =SUM(R121:R122) -> 0 | T120: =SUM(T121:T122) -> 0 | AR120: 1 | AT120: D | AU120: 1 | AY120: ROZPOCET | BK120: =SUM(BK121:BK122) -> 0
C121: 9 | D121: K | E121: 998225111 | F121: Přesun hmot pro komunikace s krytem z kameniva, monolitickým betonovým nebo živičným dopravní vzdálenost do 200 m jakékoliv délky objektu | G121: t | H121: 0.062 | J121: =ROUND(I121*H121,2) -> 0 | K121: CS ÚRS 2025 02 | N121: základní | P121: =O121*H121 -> 0 | Q121: 0 | R121: =Q121*H121 -> 0 | S121: 0 | T121: =S121*H121 -> 0 | AR121: 4 | AT121: K | AU121: 2 | AY121: ROZPOCET | BE121: =IF(N121="základní",J121,0) -> 0 | BF121: =IF(N121="snížená",J121,0) -> 0 | BG121: =IF(N121="zákl. přenesená",J121,0) -> 0 | BH121: =IF(N121="sníž. přenesená",J121,0) -> 0 | BI121: =IF(N121="nulová",J121,0) -> 0 | BJ121: 1 | BK121: =ROUND(I121*H121,2) -> 0 | BL121: 4 | BM121: -88161542
D122: Online PSC | F122: https://podminky.urs.cz/item/CS_URS_2025_02/998225111 | AT122: Online PSC | AU122: 2

Sheet 25_11_01_04.2 - Oprava kr...
AT2: {fa4e3a7e-8d5c-4be4-bc90-609897c40bae}
AT3: 2
D4: KRYCÍ LIST SOUPISU PRACÍ | M4: v --- níže se nacházejí doplnkové a pomocné údaje k sestavám --- v | AT4: False
D6: Stavba:
E7: ='Rekapitulace stavby'!K6 -> Zliv - Obnova kanalizace v ulici Jáchymovská
D8: Objekt:
E9: 25_11_01_04 - SO Celoplošná oprava krytu MK
D10: Soupis:
E11: 25_11_01_04.2 - Oprava krytu - II. etapa
D13: KSO: | I13: CC-CZ:
D14: Místo: | F14: Zliv | I14: Datum: | J14: ='Rekapitulace stavby'!AN8 -> 25. 9. 2025
D16: Zadavatel: | I16: IČ: | J16: 00245721
E17: Město Zliv | I17: DIČ: | J17: CZ00245721
D19: Účastník: | I19: IČ: | J19: ='Rekapitulace stavby'!AN13 -> Vyplň údaj
E20: ='Rekapitulace stavby'!E14 -> Vyplň údaj | I20: DIČ: | J20: ='Rekapitulace stavby'!AN14 -> Vyplň údaj
D22: Projektant: | I22: IČ: | J22: 06577831
E23: Ing. Jaroslav Žáček Ph.D. | I23: DIČ:
D25: Zpracovatel: | I25: IČ: | J25: =IF('Rekapitulace stavby'!AN19="","",'Rekapitulace stavby'!AN19)
E26: =IF('Rekapitulace stavby'!E20="","",'Rekapitulace stavby'!E20) | I26: DIČ: | J26: =IF('Rekapitulace stavby'!AN20="","",'Rekapitulace stavby'!AN20)
D28: Poznámka:
D32: Cena bez DPH | J32: =ROUND(J91, 2) -> 0
F34: Základ daně | I34: Sazba daně | J34: Výše daně
D35: DPH | E35: základní | F35: =ROUND((SUM(BE91:BE122)), 2) -> 0 | I35: 0.21 | J35: =ROUND(((SUM(BE91:BE122))*I35), 2) -> 0
E36: snížená | F36: =ROUND((SUM(BF91:BF122)), 2) -> 0 | I36: 0.12 | J36: =ROUND(((SUM(BF91:BF122))*I36), 2) -> 0
E37: zákl. přenesená | F37: =ROUND((SUM(BG91:BG122)), 2) -> 0 | I37: 0.21 | J37: =0 -> 0
E38: sníž. přenesená | F38: =ROUND((SUM(BH91:BH122)), 2) -> 0 | I38: 0.12 | J38: =0 -> 0
E39: nulová | F39: =ROUND((SUM(BI91:BI122)), 2) -> 0 | I39: 0 | J39: =0 -> 0
D41: Cena s DPH | G41: v | H41: CZK | J41: =SUM(J32:J39) -> 0
C47: REKAPITULACE ČLENĚNÍ SOUPISU PRACÍ
C49: Stavba:
E50: =E7 -> Zliv - Obnova kanalizace v ulici Jáchymovská
C51: Objekt:
E52: 25_11_01_04 - SO Celoplošná oprava krytu MK
C53: Soupis:
E54: =E11 -> 25_11_01_04.2 - Oprava krytu - II. etapa
C56: Místo: | F56: =F14 -> Zliv | I56: Datum: | J56: =IF(J14="","",J14) -> 25. 9. 2025
C58: Zadavatel: | F58: =E17 -> Město Zliv | I58: Projektant: | J58: =E23 -> Ing. Jaroslav Žáček Ph.D.
C59: Účastník: | F59: =IF(E20="","",E20) -> Vyplň údaj | I59: Zpracovatel: | J59: =E26
C61: Kód dílu - Popis | J61: Cena celkem [CZK]
C63: Náklady stavby celkem | J63: =J91 -> 0 | AU63: -1
D64: HSV - Práce a dodávky HSV | J64: =J92 -> 0
D65: 1 - Zemní práce | J65: =J93 -> 0
D66: 5 - Komunikace pozemní | J66: =J97 -> 0
D67: 9 - Ostatní konstrukce a práce, bourání | J67: =J103 -> 0
D68: 997 - Přesun sutě | J68: =J106 -> 0
D69: 998 - Přesun hmot | J69: =J120 -> 0
C76: SOUPIS PRACÍ
C78: Stavba:
E79: =E7 -> Zliv - Obnova kanalizace v ulici Jáchymovská
C80: Objekt:
E81: 25_11_01_04 - SO Celoplošná oprava krytu MK
C82: Soupis:
E83: =E11 -> 25_11_01_04.2 - Oprava krytu - II. etapa
C85: Místo: | F85: =F14 -> Zliv | I85: Datum: | J85: =IF(J14="","",J14) -> 25. 9. 2025
C87: Zadavatel: | F87: =E17 -> Město Zliv | I87: Projektant: | J87: =E23 -> Ing. Jaroslav Žáček Ph.D.
C88: Účastník: | F88: =IF(E20="","",E20) -> Vyplň údaj | I88: Zpracovatel: | J88: =E26
C90: PČ | D90: Typ | E90: Kód | F90: Popis | G90: MJ | H90: Množství | I90: J.cena [CZK] | J90: Cena celkem [CZK] | K90: Cenová soustava | N90: DPH | O90: J. Nh [h] | P90: Nh celkem [h] | Q90: J. hmotnost [t] | R90: Hmotnost celkem [t] | S90: J. suť [t] | T90: Suť Celkem [t]
C91: Náklady soupisu celkem | J91: =BK91 -> 0 | P91: =P92 -> 0 | R91: =R92 -> 0.029404 | T91: =T92 -> 115.7705 | AT91: D | AU91: -1 | BK91: =BK92 -> 0
D92: D | E92: HSV | F92: Práce a dodávky HSV | J92: =BK92 -> 0 | P92: =P93+P97+P103+P106+P120 -> 0 | R92: =R93+R97+R103+R106+R120 -> 0.029404 | T92: =T93+T97+T103+T106+T120 -> 115.7705 | AR92: 1 | AT92: D | AU92: 0 | AY92: ROZPOCET | BK92: =BK93+BK97+BK103+BK106+BK120 -> 0
D93: D | E93: 1 | F93: Zemní práce | J93: =BK93 -> 0 | P93: =SUM(P94:P96) -> 0 | R93: =SUM(R94:R96) -> 0.010067 | T93: =SUM(T94:T96) -> 115.7705 | AR93: 1 | AT93: D | AU93: 1 | AY93: ROZPOCET | BK93: =SUM(BK94:BK96) -> 0
C94: 1 | D94: K | E94: 113154523 | F94: Frézování živičného podkladu nebo krytu s naložením hmot na dopravní prostředek plochy do 500 m2 pruhu šířky přes 0,5 m, tloušťky vrstvy 50 mm | G94: m2 | H94: 1006.7 | J94: =ROUND(I94*H94,2) -> 0 | K94: CS ÚRS 2025 02 | N94: základní | P94: =O94*H94 -> 0 | Q94: 1e-05 | R94: =Q94*H94 -> 0.010067 | S94: 0.115 | T94: =S94*H94 -> 115.7705 | AR94: 4 | AT94: K | AU94: 2 | AY94: ROZPOCET | BE94: =IF(N94="základní",J94,0) -> 0 | BF94: =IF(N94="snížená",J94,0) -> 0 | BG94: =IF(N94="zákl. přenesená",J94,0) -> 0 | BH94: =IF(N94="sníž. přenesená",J94,0) -> 0 | BI94: =IF(N94="nulová",J94,0) -> 0 | BJ94: 1 | BK94: =ROUND(I94*H94,2) -> 0 | BL94: 4 | BM94: 1067350469
D95: Online PSC | F95: https://podminky.urs.cz/item/CS_URS_2025_02/113154523 | AT95: Online PSC | AU95: 2
D96: VV | F96: 988,4+18,3 | H96: 1006.7 | AT96: VV | AU96: 2 | AV96: 2 | AW96: True | AX96: 1 | AY96: ROZPOCET
D97: D | E97: 5 | F97: Komunikace pozemní | J97: =BK97 -> 0 | P97: =SUM(P98:P102) -> 0 | R97: =SUM(R98:R102) -> 0 | T97: =SUM(T98:T102) -> 0 | AR97: 1 | AT97: D | AU97: 1 | AY97: ROZPOCET | BK97: =SUM(BK98:BK102) -> 0
C98: 2 | D98: K | E98: 573211107 | F98: Postřik spojovací PS bez posypu kamenivem z asfaltu silničního, v množství 0,30 kg/m2 | G98: m2 | H98: 1006.7 | J98: =ROUND(I98*H98,2) -> 0 | K98: CS ÚRS 2025 02 | N98: základní | P98: =O98*H98 -> 0 | Q98: 0 | R98: =Q98*H98 -> 0 | S98: 0 | T98: =S98*H98 -> 0 | AR98: 4 | AT98: K | AU98: 2 | AY98: ROZPOCET | BE98: =IF(N98="základní",J98,0) -> 0 | BF98: =IF(N98="snížená",J98,0) -> 0 | BG98: =IF(N98="zákl. přenesená",J98,0) -> 0 | BH98: =IF(N98="sníž. přenesená",J98,0) -> 0 | BI98: =IF(N98="nulová",J98,0) -> 0 | BJ98: 1 | BK98: =ROUND(I98*H98,2) -> 0 | BL98: 4 | BM98: 1698875077
D99: Online PSC | F99: https://podminky.urs.cz/item/CS_URS_2025_02/573211107 | AT99: Online PSC | AU99: 2
D100: VV | F100: 1006,7 | H100: 1006.7 | AT100: VV | AU100: 2 | AV100: 2 | AW100: True | AX100: 1 | AY100: ROZPOCET
C101: 3 | D101: K | E101: 577144111 | F101: Asfaltový beton vrstva obrusná ACO 11 z nemodifikovaného asfaltu s rozprostřením a se zhutněním ACO 11+ v pruhu šířky přes 1,5 do 3 m, po zhutnění tl. 50 mm | G101: m2 | H101: 1006.7 | J101: =ROUND(I101*H101,2) -> 0 | K101: CS ÚRS 2025 02 | N101: základní | P101: =O101*H101 -> 0 | Q101: 0 | R101: =Q101*H101 -> 0 | S101: 0 | T101: =S101*H101 -> 0 | AR101: 4 | AT101: K | AU101: 2 | AY101: ROZPOCET | BE101: =IF(N101="základní",J101,0) -> 0 | BF101: =IF(N101="snížená",J101,0) -> 0 | BG101: =IF(N101="zákl. přenesená",J101,0) -> 0 | BH101: =IF(N101="sníž. přenesená",J101,0) -> 0 | BI101: =IF(N101="nulová",J101,0) -> 0 | BJ101: 1 | BK101: =ROUND(I101*H101,2) -> 0 | BL101: 4 | BM101: -1700435732
D102: Online PSC | F102: https://podminky.urs.cz/item/CS_URS_2025_02/577144111 | AT102: Online PSC | AU102: 2
D103: D | E103: 9 | F103: Ostatní konstrukce a práce, bourání | J103: =BK103 -> 0 | P103: =SUM(P104:P105) -> 0 | R103: =SUM(R104:R105) -> 0.019337 | T103: =SUM(T104:T105) -> 0 | AR103: 1 | AT103: D | AU103: 1 | AY103: ROZPOCET | BK103: =SUM(BK104:BK105) -> 0
C104: 4 | D104: K | E104: 919732211 | F104: Styčná pracovní spára při napojení nového živičného povrchu na stávající se zalitím za tepla modifikovanou asfaltovou hmotou s posypem vápenným hydrátem šířky do 15 mm, hloubky do 25 mm včetně prořezání spáry | G104: m | H104: 31.7 | J104: =ROUND(I104*H104,2) -> 0 | K104: CS ÚRS 2025 02 | N104: základní | P104: =O104*H104 -> 0 | Q104: 0.00061 | R104: =Q104*H104 -> 0.019337 | S104: 0 | T104: =S104*H104 -> 0 | AR104: 4 | AT104: K | AU104: 2 | AY104: ROZPOCET | BE104: =IF(N104="základní",J104,0) -> 0 | BF104: =IF(N104="snížená",J104,0) -> 0 | BG104: =IF(N104="zákl. přenesená",J104,0) -> 0 | BH104: =IF(N104="sníž. přenesená",J104,0) -> 0 | BI104: =IF(N104="nulová",J104,0) -> 0 | BJ104: 1 | BK104: =ROUND(I104*H104,2) -> 0 | BL104: 4 | BM104: -154404731
D105: Online PSC | F105: https://podminky.urs.cz/item/CS_URS_2025_02/919732211 | AT105: Online PSC | AU105: 2
D106: D | E106: 997 | F106: Přesun sutě | J106: =BK106 -> 0 | P106: =SUM(P107:P119) -> 0 | R106: =SUM(R107:R119) -> 0 | T106: =SUM(T107:T119) -> 0 | AR106: 1 | AT106: D | AU106: 1 | AY106: ROZPOCET | BK106: =SUM(BK107:BK119) -> 0
C107: 5 | D107: K | E107: 997013501 | F107: Odvoz suti a vybouraných hmot na skládku nebo meziskládku se složením, na vzdálenost do 1 km | G107: t | H107: 115.771 | J107: =ROUND(I107*H107,2) -> 0 | K107: CS ÚRS 2025 02 | N107: základní | P107: =O107*H107 -> 0 | Q107: 0 | R107: =Q107*H107 -> 0 | S107: 0 | T107: =S107*H107 -> 0 | AR107: 4 | AT107: K | AU107: 2 | AY107: ROZPOCET | BE107: =IF(N107="základní",J107,0) -> 0 | BF107: =IF(N107="snížená",J107,0) -> 0 | BG107: =IF(N107="zákl. přenesená",J107,0) -> 0 | BH107: =IF(N107="sníž. přenesená",J107,0) -> 0 | BI107: =IF(N107="nulová",J107,0) -> 0 | BJ107: 1 | BK107: =ROUND(I107*H107,2) -> 0 | BL107: 4 | BM107: 1487104334
D108: Online PSC | F108: https://podminky.urs.cz/item/CS_URS_2025_02/997013501 | AT108: Online PSC | AU108: 2
C109: 6 | D109: K | E109: 997013509 | F109: Odvoz suti a vybouraných hmot na skládku nebo meziskládku se složením, na vzdálenost Příplatek k ceně za každý další započatý 1 km přes 1 km | G109: t | H109: 2199.649 | J109: =ROUND(I109*H109,2) -> 0 | K109: CS ÚRS 2025 02 | N109: základní | P109: =O109*H109 -> 0 | Q109: 0 | R109: =Q109*H109 -> 0 | S109: 0 | T109: =S109*H109 -> 0 | AR109: 4 | AT109: K | AU109: 2 | AY109: ROZPOCET | BE109: =IF(N109="základní",J109,0) -> 0 | BF109: =IF(N109="snížená",J109,0) -> 0 | BG109: =IF(N109="zákl. přenesená",J109,0) -> 0 | BH109: =IF(N109="sníž. přenesená",J109,0) -> 0 | BI109: =IF(N109="nulová",J109,0) -> 0 | BJ109: 1 | BK109: =ROUND(I109*H109,2) -> 0 | BL109: 4 | BM109: -1891831613
D110: Online PSC | F110: https://podminky.urs.cz/item/CS_URS_2025_02/997013509 | AT110: Online PSC | AU110: 2
D111: VV | F111: 115,771*19 'Přepočtené koeficientem množství | H111: 2199.649 | AT111: VV | AU111: 2 | AV111: 2 | AW111: False | AX111: 1 | AY111: ROZPOCET
C112: 7 | D112: K | E112: 997013847 | F112: Poplatek za uložení stavebního odpadu na skládce (skládkovné) asfaltového s obsahem dehtu zatříděného do Katalogu odpadů pod kódem 17 03 01 | G112: t | H112: 11.577 | J112: =ROUND(I112*H112,2) -> 0 | K112: CS ÚRS 2025 02 | N112: základní | P112: =O112*H112 -> 0 | Q112: 0 | R112: =Q112*H112 -> 0 | S112: 0 | T112: =S112*H112 -> 0 | AR112: 4 | AT112: K | AU112: 2 | AY112: ROZPOCET | BE112: =IF(N112="základní",J112,0) -> 0 | BF112: =IF(N112="snížená",J112,0) -> 0 | BG112: =IF(N112="zákl. přenesená",J112,0) -> 0 | BH112: =IF(N112="sníž. přenesená",J112,0) -> 0 | BI112: =IF(N112="nulová",J112,0) -> 0 | BJ112: 1 | BK112: =ROUND(I112*H112,2) -> 0 | BL112: 4 | BM112: -1127011055
D113: Online PSC | F113: https://podminky.urs.cz/item/CS_URS_2025_02/997013847 | AT113: Online PSC | AU113: 2
D114: P | F114: Poznámka k položce:_x000D_ - živičná vrstva s obsahem dehtu, předpoklad 10%_x000D_ - bude fakturováno dle skutečnosti a výsledku zkoušek | AT114: P | AU114: 2
D115: VV | F115: 115,771*0,1 'Přepočtené koeficientem množství | H115: 11.577 | AT115: VV | AU115: 2 | AV115: 2 | AW115: False | AX115: 1 | AY115: ROZPOCET
C116: 8 | D116: K | E116: 997013875 | F116: Poplatek za uložení stavebního odpadu na recyklační skládce (skládkovné) asfaltového bez obsahu dehtu zatříděného do Katalogu odpadů pod kódem 17 03 02 | G116: t | H116: 104.194 | J116: =ROUND(I116*H116,2) -> 0 | K116: CS ÚRS 2025 02 | N116: základní | P116: =O116*H116 -> 0 | Q116: 0 | R116: =Q116*H116 -> 0 | S116: 0 | T116: =S116*H116 -> 0 | AR116: 4 | AT116: K | AU116: 2 | AY116: ROZPOCET | BE116: =IF(N116="základní",J116,0) -> 0 | BF116: =IF(N116="snížená",J116,0) -> 0 | BG116: =IF(N116="zákl. přenesená",J116,0) -> 0 | BH116: =IF(N116="sníž. přenesená",J116,0) -> 0 | BI116: =IF(N116="nulová",J116,0) -> 0 | BJ116: 1 | BK116: =ROUND(I116*H116,2) -> 0 | BL116: 4 | BM116: 1988651369
D117: Online PSC | F117: https://podminky.urs.cz/item/CS_URS_2025_02/997013875 | AT117: Online PSC | AU117: 2
D118: P | F118: Poznámka k položce:_x000D_ - živičná vrstva bez obsahu dehtu, předpoklad 90%_x000D_ - bude fakturováno dle skutečnosti a výsledku zkoušek | AT118: P | AU118: 2
D119: VV | F119: 115,771*0,9 'Přepočtené koeficientem množství | H119: 104.194 | AT119: VV | AU119: 2 | AV119: 2 | AW119: False | AX119: 1 | AY119: ROZPOCET
D120: D | E120: 998 | F120: Přesun hmot | J120: =BK120 -> 0 | P120: =SUM(P121:P122) -> 0 | R120: =SUM(R121:R122) -> 0 | T120: =SUM(T121:T122) -> 0 | AR120: 1 | AT120: D | AU120: 1 | AY120: ROZPOCET | BK120: =SUM(BK121:BK122) -> 0
C121: 9 | D121: K | E121: 998225111 | F121: Přesun hmot pro komunikace s krytem z kameniva, monolitickým betonovým nebo živičným dopravní vzdálenost do 200 m jakékoliv délky objektu | G121: t | H121: 0.029 | J121: =ROUND(I121*H121,2) -> 0 | K121: CS ÚRS 2025 02 | N121: základní | P121: =O121*H121 -> 0 | Q121: 0 | R121: =Q121*H121 -> 0 | S121: 0 | T121: =S121*H121 -> 0 | AR121: 4 | AT121: K | AU121: 2 | AY121: ROZPOCET | BE121: =IF(N121="základní",J121,0) -> 0 | BF121: =IF(N121="snížená",J121,0) -> 0 | BG121: =IF(N121="zákl. přenesená",J121,0) -> 0 | BH121: =IF(N121="sníž. přenesená",J121,0) -> 0 | BI121: =IF(N121="nulová",J121,0) -> 0 | BJ121: 1 | BK121: =ROUND(I121*H121,2) -> 0 | BL121: 4 | BM121: 1289566342
D122: Online PSC | F122: https://podminky.urs.cz/item/CS_URS_2025_02/998225111 | AT122: Online PSC | AU122: 2

Sheet 25_11_01_04.3 - Oprava kr...
AT2: {08f14326-f5aa-4b9c-a84e-e78d6046e1e3}
AT3: 2
D4: KRYCÍ LIST SOUPISU PRACÍ | M4: v --- níže se nacházejí doplnkové a pomocné údaje k sestavám --- v | AT4: False
D6: Stavba:
E7: ='Rekapitulace stavby'!K6 -> Zliv - Obnova kanalizace v ulici Jáchymovská
D8: Objekt:
E9: 25_11_01_04 - SO Celoplošná oprava krytu MK
D10: Soupis:
E11: 25_11_01_04.3 - Oprava krytu - III. etapa
D13: KSO: | I13: CC-CZ:
D14: Místo: | F14: Zliv | I14: Datum: | J14: ='Rekapitulace stavby'!AN8 -> 25. 9. 2025
D16: Zadavatel: | I16: IČ: | J16: 00245721
E17: Město Zliv | I17: DIČ: | J17: CZ00245721
D19: Účastník: | I19: IČ: | J19: ='Rekapitulace stavby'!AN13 -> Vyplň údaj
E20: ='Rekapitulace stavby'!E14 -> Vyplň údaj | I20: DIČ: | J20: ='Rekapitulace stavby'!AN14 -> Vyplň údaj
D22: Projektant: | I22: IČ: | J22: 06577831
E23: Ing. Jaroslav Žáček Ph.D. | I23: DIČ:
D25: Zpracovatel: | I25: IČ: | J25: =IF('Rekapitulace stavby'!AN19="","",'Rekapitulace stavby'!AN19)
E26: =IF('Rekapitulace stavby'!E20="","",'Rekapitulace stavby'!E20) | I26: DIČ: | J26: =IF('Rekapitulace stavby'!AN20="","",'Rekapitulace stavby'!AN20)
D28: Poznámka:
D32: Cena bez DPH | J32: =ROUND(J91, 2) -> 0
F34: Základ daně | I34: Sazba daně | J34: Výše daně
D35: DPH | E35: základní | F35: =ROUND((SUM(BE91:BE122)), 2) -> 0 | I35: 0.21 | J35: =ROUND(((SUM(BE91:BE122))*I35), 2) -> 0
E36: snížená | F36: =ROUND((SUM(BF91:BF122)), 2) -> 0 | I36: 0.12 | J36: =ROUND(((SUM(BF91:BF122))*I36), 2) -> 0
E37: zákl. přenesená | F37: =ROUND((SUM(BG91:BG122)), 2) -> 0 | I37: 0.21 | J37: =0 -> 0
E38: sníž. přenesená | F38: =ROUND((SUM(BH91:BH122)), 2) -> 0 | I38: 0.12 | J38: =0 -> 0
E39: nulová | F39: =ROUND((SUM(BI91:BI122)), 2) -> 0 | I39: 0 | J39: =0 -> 0
D41: Cena s DPH | G41: v | H41: CZK | J41: =SUM(J32:J39) -> 0
C47: REKAPITULACE ČLENĚNÍ SOUPISU PRACÍ
C49: Stavba:
E50: =E7 -> Zliv - Obnova kanalizace v ulici Jáchymovská
C51: Objekt:
E52: 25_11_01_04 - SO Celoplošná oprava krytu MK
C53: Soupis:
E54: =E11 -> 25_11_01_04.3 - Oprava krytu - III. etapa
C56: Místo: | F56: =F14 -> Zliv | I56: Datum: | J56: =IF(J14="","",J14) -> 25. 9. 2025
C58: Zadavatel: | F58: =E17 -> Město Zliv | I58: Projektant: | J58: =E23 -> Ing. Jaroslav Žáček Ph.D.
C59: Účastník: | F59: =IF(E20="","",E20) -> Vyplň údaj | I59: Zpracovatel: | J59: =E26
C61: Kód dílu - Popis | J61: Cena celkem [CZK]
C63: Náklady stavby celkem | J63: =J91 -> 0 | AU63: -1
D64: HSV - Práce a dodávky HSV | J64: =J92 -> 0
D65: 1 - Zemní práce | J65: =J93 -> 0
D66: 5 - Komunikace pozemní | J66: =J97 -> 0
D67: 9 - Ostatní konstrukce a práce, bourání | J67: =J103 -> 0
D68: 997 - Přesun sutě | J68: =J106 -> 0
D69: 998 - Přesun hmot | J69: =J120 -> 0
C76: SOUPIS PRACÍ
C78: Stavba:
E79: =E7 -> Zliv - Obnova kanalizace v ulici Jáchymovská
C80: Objekt:
E81: 25_11_01_04 - SO Celoplošná oprava krytu MK
C82: Soupis:
E83: =E11 -> 25_11_01_04.3 - Oprava krytu - III. etapa
C85: Místo: | F85: =F14 -> Zliv | I85: Datum: | J85: =IF(J14="","",J14) -> 25. 9. 2025
C87: Zadavatel: | F87: =E17 -> Město Zliv | I87: Projektant: | J87: =E23 -> Ing. Jaroslav Žáček Ph.D.
C88: Účastník: | F88: =IF(E20="","",E20) -> Vyplň údaj | I88: Zpracovatel: | J88: =E26
C90: PČ | D90: Typ | E90: Kód | F90: Popis | G90: MJ | H90: Množství | I90: J.cena [CZK] | J90: Cena celkem [CZK] | K90: Cenová soustava | N90: DPH | O90: J. Nh [h] | P90: Nh celkem [h] | Q90: J. hmotnost [t] | R90: Hmotnost celkem [t] | S90: J. suť [t] | T90: Suť Celkem [t]
C91: Náklady soupisu celkem | J91: =BK91 -> 0 | P91: =P92 -> 0 | R91: =R92 -> 0.0116565 | T91: =T92 -> 88.45225 | AT91: D | AU91: -1 | BK91: =BK92 -> 0
D92: D | E92: HSV | F92: Práce a dodávky HSV | J92: =BK92 -> 0 | P92: =P93+P97+P103+P106+P120 -> 0 | R92: =R93+R97+R103+R106+R120 -> 0.0116565 | T92: =T93+T97+T103+T106+T120 -> 88.45225 | AR92: 1 | AT92: D | AU92: 0 | AY92: ROZPOCET | BK92: =BK93+BK97+BK103+BK106+BK120 -> 0
D93: D | E93: 1 | F93: Zemní práce | J93: =BK93 -> 0 | P93: =SUM(P94:P96) -> 0 | R93: =SUM(R94:R96) -> 0.0076915 | T93: =SUM(T94:T96) -> 88.45225 | AR93: 1 | AT93: D | AU93: 1 | AY93: ROZPOCET | BK93: =SUM(BK94:BK96) -> 0
C94: 1 | D94: K | E94: 113154523 | F94: Frézování živičného podkladu nebo krytu s naložením hmot na dopravní prostředek plochy do 500 m2 pruhu šířky přes 0,5 m, tloušťky vrstvy 50 mm | G94: m2 | H94: 769.15 | J94: =ROUND(I94*H94,2) -> 0 | K94: CS ÚRS 2025 02 | N94: základní | P94: =O94*H94 -> 0 | Q94: 1e-05 | R94: =Q94*H94 -> 0.0076915 | S94: 0.115 | T94: =S94*H94 -> 88.45225 | AR94: 4 | AT94: K | AU94: 2 | AY94: ROZPOCET | BE94: =IF(N94="základní",J94,0) -> 0 | BF94: =IF(N94="snížená",J94,0) -> 0 | BG94: =IF(N94="zákl. přenesená",J94,0) -> 0 | BH94: =IF(N94="sníž. přenesená",J94,0) -> 0 | BI94: =IF(N94="nulová",J94,0) -> 0 | BJ94: 1 | BK94: =ROUND(I94*H94,2) -> 0 | BL94: 4 | BM94: -1228887028
D95: Online PSC | F95: https://podminky.urs.cz/item/CS_URS_2025_02/113154523 | AT95: Online PSC | AU95: 2
D96: VV | F96: 769,15 | H96: 769.15 | AT96: VV | AU96: 2 | AV96: 2 | AW96: True | AX96: 1 | AY96: ROZPOCET
D97: D | E97: 5 | F97: Komunikace pozemní | J97: =BK97 -> 0 | P97: =SUM(P98:P102) -> 0 | R97: =SUM(R98:R102) -> 0 | T97: =SUM(T98:T102) -> 0 | AR97: 1 | AT97: D | AU97: 1 | AY97: ROZPOCET | BK97: =SUM(BK98:BK102) -> 0
C98: 2 | D98: K | E98: 573211107 | F98: Postřik spojovací PS bez posypu kamenivem z asfaltu silničního, v množství 0,30 kg/m2 | G98: m2 | H98: 769.15 | J98: =ROUND(I98*H98,2) -> 0 | K98: CS ÚRS 2025 02 | N98: základní | P98: =O98*H98 -> 0 | Q98: 0 | R98: =Q98*H98 -> 0 | S98: 0 | T98: =S98*H98 -> 0 | AR98: 4 | AT98: K | AU98: 2 | AY98: ROZPOCET | BE98: =IF(N98="základní",J98,0) -> 0 | BF98: =IF(N98="snížená",J98,0) -> 0 | BG98: =IF(N98="zákl. přenesená",J98,0) -> 0 | BH98: =IF(N98="sníž. přenesená",J98,0) -> 0 | BI98: =IF(N98="nulová",J98,0) -> 0 | BJ98: 1 | BK98: =ROUND(I98*H98,2) -> 0 | BL98: 4 | BM98: -1435161210
D99: Online PSC | F99: https://podminky.urs.cz/item/CS_URS_2025_02/573211107 | AT99: Online PSC | AU99: 2
D100: VV | F100: 769,15 | H100: 769.15 | AT100: VV | AU100: 2 | AV100: 2 | AW100: True | AX100: 1 | AY100: ROZPOCET
C101: 3 | D101: K | E101: 577144111 | F101: Asfaltový beton vrstva obrusná ACO 11 z nemodifikovaného asfaltu s rozprostřením a se zhutněním ACO 11+ v pruhu šířky přes 1,5 do 3 m, po zhutnění tl. 50 mm | G101: m2 | H101: 769.15 | J101: =ROUND(I101*H101,2) -> 0 | K101: CS ÚRS 2025 02 | N101: základní | P101: =O101*H101 -> 0 | Q101: 0 | R101: =Q101*H101 -> 0 | S101: 0 | T101: =S101*H101 -> 0 | AR101: 4 | AT101: K | AU101: 2 | AY101: ROZPOCET | BE101: =IF(N101="základní",J101,0) -> 0 | BF101: =IF(N101="snížená",J101,0) -> 0 | BG101: =IF(N101="zákl. přenesená",J101,0) -> 0 | BH101: =IF(N101="sníž. přenesená",J101,0) -> 0 | BI101: =IF(N101="nulová",J101,0) -> 0 | BJ101: 1 | BK101: =ROUND(I101*H101,2) -> 0 | BL101: 4 | BM101: -116172630
D102: Online PSC | F102: https://podminky.urs.cz/item/CS_URS_2025_02/577144111 | AT102: Online PSC | AU102: 2
D103: D | E103: 9 | F103: Ostatní konstrukce a práce, bourání | J103: =BK103 -> 0 | P103: =SUM(P104:P105) -> 0 | R103: =SUM(R104:R105) -> 0.003965 | T103: =SUM(T104:T105) -> 0 | AR103: 1 | AT103: D | AU103: 1 | AY103: ROZPOCET | BK103: =SUM(BK104:BK105) -> 0
C104: 4 | D104: K | E104: 919732211 | F104: Styčná pracovní spára při napojení nového živičného povrchu na stávající se zalitím za tepla modifikovanou asfaltovou hmotou s posypem vápenným hydrátem šířky do 15 mm, hloubky do 25 mm včetně prořezání spáry | G104: m | H104: 6.5 | J104: =ROUND(I104*H104,2) -> 0 | K104: CS ÚRS 2025 02 | N104: základní | P104: =O104*H104 -> 0 | Q104: 0.00061 | R104: =Q104*H104 -> 0.003965 | S104: 0 | T104: =S104*H104 -> 0 | AR104: 4 | AT104: K | AU104: 2 | AY104: ROZPOCET | BE104: =IF(N104="základní",J104,0) -> 0 | BF104: =IF(N104="snížená",J104,0) -> 0 | BG104: =IF(N104="zákl. přenesená",J104,0) -> 0 | BH104: =IF(N104="sníž. přenesená",J104,0) -> 0 | BI104: =IF(N104="nulová",J104,0) -> 0 | BJ104: 1 | BK104: =ROUND(I104*H104,2) -> 0 | BL104: 4 | BM104: -132034335
D105: Online PSC | F105: https://podminky.urs.cz/item/CS_URS_2025_02/919732211 | AT105: Online PSC | AU105: 2
D106: D | E106: 997 | F106: Přesun sutě | J106: =BK106 -> 0 | P106: =SUM(P107:P119) -> 0 | R106: =SUM(R107:R119) -> 0 | T106: =SUM(T107:T119) -> 0 | AR106: 1 | AT106: D | AU106: 1 | AY106: ROZPOCET | BK106: =SUM(BK107:BK119) -> 0
C107: 5 | D107: K | E107: 997013501 | F107: Odvoz suti a vybouraných hmot na skládku nebo meziskládku se složením, na vzdálenost do 1 km | G107: t | H107: 88.452 | J107: =ROUND(I107*H107,2) -> 0 | K107: CS ÚRS 2025 02 | N107: základní | P107: =O107*H107 -> 0 | Q107: 0 | R107: =Q107*H107 -> 0 | S107: 0 | T107: =S107*H107 -> 0 | AR107: 4 | AT107: K | AU107: 2 | AY107: ROZPOCET | BE107: =IF(N107="základní",J107,0) -> 0 | BF107: =IF(N107="snížená",J107,0) -> 0 | BG107: =IF(N107="zákl. přenesená",J107,0) -> 0 | BH107: =IF(N107="sníž. přenesená",J107,0) -> 0 | BI107: =IF(N107="nulová",J107,0) -> 0 | BJ107: 1 | BK107: =ROUND(I107*H107,2) -> 0 | BL107: 4 | BM107: -1746527056
D108: Online PSC | F108: https://podminky.urs.cz/item/CS_URS_2025_02/997013501 | AT108: Online PSC | AU108: 2
C109: 6 | D109: K | E109: 997013509 | F109: Odvoz suti a vybouraných hmot na skládku nebo meziskládku se složením, na vzdálenost Příplatek k ceně za každý další započatý 1 km přes 1 km | G109: t | H109: 1680.588 | J109: =ROUND(I109*H109,2) -> 0 | K109: CS ÚRS 2025 02 | N109: základní | P109: =O109*H109 -> 0 | Q109: 0 | R109: =Q109*H109 -> 0 | S109: 0 | T109: =S109*H109 -> 0 | AR109: 4 | AT109: K | AU109: 2 | AY109: ROZPOCET | BE109: =IF(N109="základní",J109,0) -> 0 | BF109: =IF(N109="snížená",J109,0) -> 0 | BG109: =IF(N109="zákl. přenesená",J109,0) -> 0 | BH109: =IF(N109="sníž. přenesená",J109,0) -> 0 | BI109: =IF(N109="nulová",J109,0) -> 0 | BJ109: 1 | BK109: =ROUND(I109*H109,2) -> 0 | BL109: 4 | BM109: -900252305
D110: Online PSC | F110: https://podminky.urs.cz/item/CS_URS_2025_02/997013509 | AT110: Online PSC | AU110: 2
D111: VV | F111: 88,452*19 'Přepočtené koeficientem množství | H111: 1680.588 | AT111: VV | AU111: 2 | AV111: 2 | AW111: False | AX111: 1 | AY111: ROZPOCET
C112: 7 | D112: K | E112: 997013847 | F112: Poplatek za uložení stavebního odpadu na skládce (skládkovné) asfaltového s obsahem dehtu zatříděného do Katalogu odpadů pod kódem 17 03 01 | G112: t | H112: 8.845 | J112: =ROUND(I112*H112,2) -> 0 | K112: CS ÚRS 2025 02 | N112: základní | P112: =O112*H112 -> 0 | Q112: 0 | R112: =Q112*H112 -> 0 | S112: 0 | T112: =S112*H112 -> 0 | AR112: 4 | AT112: K | AU112: 2 | AY112: ROZPOCET | BE112: =IF(N112="základní",J112,0) -> 0 | BF112: =IF(N112="snížená",J112,0) -> 0 | BG112: =IF(N112="zákl. přenesená",J112,0) -> 0 | BH112: =IF(N112="sníž. přenesená",J112,0) -> 0 | BI112: =IF(N112="nulová",J112,0) -> 0 | BJ112: 1 | BK112: =ROUND(I112*H112,2) -> 0 | BL112: 4 | BM112: 1212428047
D113: Online PSC | F113: https://podminky.urs.cz/item/CS_URS_2025_02/997013847 | AT113: Online PSC | AU113: 2
D114: P | F114: Poznámka k položce:_x000D_ - živičná vrstva s obsahem dehtu, předpoklad 10%_x000D_ - bude fakturováno dle skutečnosti a výsledku zkoušek | AT114: P | AU114: 2
D115: VV | F115: 88,452*0,1 'Přepočtené koeficientem množství | H115: 8.845 | AT115: VV | AU115: 2 | AV115: 2 | AW115: False | AX115: 1 | AY115: ROZPOCET
C116: 8 | D116: K | E116: 997013875 | F116: Poplatek za uložení stavebního odpadu na recyklační skládce (skládkovné) asfaltového bez obsahu dehtu zatříděného do Katalogu odpadů pod kódem 17 03 02 | G116: t | H116: 79.607 | J116: =ROUND(I116*H116,2) -> 0 | K116: CS ÚRS 2025 02 | N116: základní | P116: =O116*H116 -> 0 | Q116: 0 | R116: =Q116*H116 -> 0 | S116: 0 | T116: =S116*H116 -> 0 | AR116: 4 | AT116: K | AU116: 2 | AY116: ROZPOCET | BE116: =IF(N116="základní",J116,0) -> 0 | BF116: =IF(N116="snížená",J116,0) -> 0 | BG116: =IF(N116="zákl. přenesená",J116,0) -> 0 | BH116: =IF(N116="sníž. přenesená",J116,0) -> 0 | BI116: =IF(N116="nulová",J116,0) -> 0 | BJ116: 1 | BK116: =ROUND(I116*H116,2) -> 0 | BL116: 4 | BM116: 985416820
D117: Online PSC | F117: https://podminky.urs.cz/item/CS_URS_2025_02/997013875 | AT117: Online PSC | AU117: 2
D118: P | F118: Poznámka k položce:_x000D_ - živičná vrstva bez obsahu dehtu, předpoklad 90%_x000D_ - bude fakturováno dle skutečnosti a výsledku zkoušek | AT118: P | AU118: 2
D119: VV | F119: 88,452*0,9 'Přepočtené koeficientem množství | H119: 79.607 | AT119: VV | AU119: 2 | AV119: 2 | AW119: False | AX119: 1 | AY119: ROZPOCET
D120: D | E120: 998 | F120: Přesun hmot | J120: =BK120 -> 0 | P120: =SUM(P121:P122) -> 0 | R120: =SUM(R121:R122) -> 0 | T120: =SUM(T121:T122) -> 0 | AR120: 1 | AT120: D | AU120: 1 | AY120: ROZPOCET | BK120: =SUM(BK121:BK122) -> 0
C121: 9 | D121: K | E121: 998225111 | F121: Přesun hmot pro komunikace s krytem z kameniva, monolitickým betonovým nebo živičným dopravní vzdálenost do 200 m jakékoliv délky objektu | G121: t | H121: 0.012 | J121: =ROUND(I121*H121,2) -> 0 | K121: CS ÚRS 2025 02 | N121: základní | P121: =O121*H121 -> 0 | Q121: 0 | R121: =Q121*H121 -> 0 | S121: 0 | T121: =S121*H121 -> 0 | AR121: 4 | AT121: K | AU121: 2 | AY121: ROZPOCET | BE121: =IF(N121="základní",J121,0) -> 0 | BF121: =IF(N121="snížená",J121,0) -> 0 | BG121: =IF(N121="zákl. přenesená",J121,0) -> 0 | BH121: =IF(N121="sníž. přenesená",J121,0) -> 0 | BI121: =IF(N121="nulová",J121,0) -> 0 | BJ121: 1 | BK121: =ROUND(I121*H121,2) -> 0 | BL121: 4 | BM121: -1520527473
D122: Online PSC | F122: https://podminky.urs.cz/item/CS_URS_2025_02/998225111 | AT122: Online PSC | AU122: 2

Sheet 25_11_01_04.4 - Oprava kr...
AT2: {d747c181-d470-4650-a8c6-f6a4e9a2cda5}
AT3: 2
D4: KRYCÍ LIST SOUPISU PRACÍ | M4: v --- níže se nacházejí doplnkové a pomocné údaje k sestavám --- v | AT4: False
D6: Stavba:
E7: ='Rekapitulace stavby'!K6 -> Zliv - Obnova kanalizace v ulici Jáchymovská
D8: Objekt:
E9: 25_11_01_04 - SO Celoplošná oprava krytu MK
D10: Soupis:
E11: 25_11_01_04.4 - Oprava krytu - úsek SK + DK + výtlak
D13: KSO: | I13: CC-CZ:
D14: Místo: | F14: Zliv | I14: Datum: | J14: ='Rekapitulace stavby'!AN8 -> 25. 9. 2025
D16: Zadavatel: | I16: IČ: | J16: 00245721
E17: Město Zliv | I17: DIČ: | J17: CZ00245721
D19: Účastník: | I19: IČ: | J19: ='Rekapitulace stavby'!AN13 -> Vyplň údaj
E20: ='Rekapitulace stavby'!E14 -> Vyplň údaj | I20: DIČ: | J20: ='Rekapitulace stavby'!AN14 -> Vyplň údaj
D22: Projektant: | I22: IČ: | J22: 06577831
E23: Ing. Jaroslav Žáček Ph.D. | I23: DIČ:
D25: Zpracovatel: | I25: IČ: | J25: =IF('Rekapitulace stavby'!AN19="","",'Rekapitulace stavby'!AN19)
E26: =IF('Rekapitulace stavby'!E20="","",'Rekapitulace stavby'!E20) | I26: DIČ: | J26: =IF('Rekapitulace stavby'!AN20="","",'Rekapitulace stavby'!AN20)
D28: Poznámka:
D32: Cena bez DPH | J32: =ROUND(J91, 2) -> 0
F34: Základ daně | I34: Sazba daně | J34: Výše daně
D35: DPH | E35: základní | F35: =ROUND((SUM(BE91:BE122)), 2) -> 0 | I35: 0.21 | J35: =ROUND(((SUM(BE91:BE122))*I35), 2) -> 0
E36: snížená | F36: =ROUND((SUM(BF91:BF122)), 2) -> 0 | I36: 0.12 | J36: =ROUND(((SUM(BF91:BF122))*I36), 2) -> 0
E37: zákl. přenesená | F37: =ROUND((SUM(BG91:BG122)), 2) -> 0 | I37: 0.21 | J37: =0 -> 0
E38: sníž. přenesená | F38: =ROUND((SUM(BH91:BH122)), 2) -> 0 | I38: 0.12 | J38: =0 -> 0
E39: nulová | F39: =ROUND((SUM(BI91:BI122)), 2) -> 0 | I39: 0 | J39: =0 -> 0
D41: Cena s DPH | G41: v | H41: CZK | J41: =SUM(J32:J39) -> 0
C47: REKAPITULACE ČLENĚNÍ SOUPISU PRACÍ
C49: Stavba:
E50: =E7 -> Zliv - Obnova kanalizace v ulici Jáchymovská
C51: Objekt:
E52: 25_11_01_04 - SO Celoplošná oprava krytu MK
C53: Soupis:
E54: =E11 -> 25_11_01_04.4 - Oprava krytu - úsek SK + DK + výtlak
C56: Místo: | F56: =F14 -> Zliv | I56: Datum: | J56: =IF(J14="","",J14) -> 25. 9. 2025
C58: Zadavatel: | F58: =E17 -> Město Zliv | I58: Projektant: | J58: =E23 -> Ing. Jaroslav Žáček Ph.D.
C59: Účastník: | F59: =IF(E20="","",E20) -> Vyplň údaj | I59: Zpracovatel: | J59: =E26
C61: Kód dílu - Popis | J61: Cena celkem [CZK]
C63: Náklady stavby celkem | J63: =J91 -> 0 | AU63: -1
D64: HSV - Práce a dodávky HSV | J64: =J92 -> 0
D65: 1 - Zemní práce | J65: =J93 -> 0
D66: 5 - Komunikace pozemní | J66: =J97 -> 0
D67: 9 - Ostatní konstrukce a práce, bourání | J67: =J103 -> 0
D68: 997 - Přesun sutě | J68: =J106 -> 0
D69: 998 - Přesun hmot | J69: =J120 -> 0
C76: SOUPIS PRACÍ
C78: Stavba:
E79: =E7 -> Zliv - Obnova kanalizace v ulici Jáchymovská
C80: Objekt:
E81: 25_11_01_04 - SO Celoplošná oprava krytu MK
C82: Soupis:
E83: =E11 -> 25_11_01_04.4 - Oprava krytu - úsek SK + DK + výtlak
C85: Místo: | F85: =F14 -> Zliv | I85: Datum: | J85: =IF(J14="","",J14) -> 25. 9. 2025
C87: Zadavatel: | F87: =E17 -> Město Zliv | I87: Projektant: | J87: =E23 -> Ing. Jaroslav Žáček Ph.D.
C88: Účastník: | F88: =IF(E20="","",E20) -> Vyplň údaj | I88: Zpracovatel: | J88: =E26
C90: PČ | D90: Typ | E90: Kód | F90: Popis | G90: MJ | H90: Množství | I90: J.cena [CZK] | J90: Cena celkem [CZK] | K90: Cenová soustava | N90: DPH | O90: J. Nh [h] | P90: Nh celkem [h] | Q90: J. hmotnost [t] | R90: Hmotnost celkem [t] | S90: J. suť [t] | T90: Suť Celkem [t]
C91: Náklady soupisu celkem | J91: =BK91 -> 0 | P91: =P92 -> 0 | R91: =R92 -> 0.0137755 | T91: =T92 -> 65.11875 | AT91: D | AU91: -1 | BK91: =BK92 -> 0
D92: D | E92: HSV | F92: Práce a dodávky HSV | J92: =BK92 -> 0 | P92: =P93+P97+P103+P106+P120 -> 0 | R92: =R93+R97+R103+R106+R120 -> 0.0137755 | T92: =T93+T97+T103+T106+T120 -> 65.11875 | AR92: 1 | AT92: D | AU92: 0 | AY92: ROZPOCET | BK92: =BK93+BK97+BK103+BK106+BK120 -> 0
D93: D | E93: 1 | F93: Zemní práce | J93: =BK93 -> 0 | P93: =SUM(P94:P96) -> 0 | R93: =SUM(R94:R96) -> 0.0056625 | T93: =SUM(T94:T96) -> 65.11875 | AR93: 1 | AT93: D | AU93: 1 | AY93: ROZPOCET | BK93: =SUM(BK94:BK96) -> 0
C94: 1 | D94: K | E94: 113154523 | F94: Frézování živičného podkladu nebo krytu s naložením hmot na dopravní prostředek plochy do 500 m2 pruhu šířky přes 0,5 m, tloušťky vrstvy 50 mm | G94: m2 | H94: 566.25 | J94: =ROUND(I94*H94,2) -> 0 | K94: CS ÚRS 2025 02 | N94: základní | P94: =O94*H94 -> 0 | Q94: 1e-05 | R94: =Q94*H94 -> 0.0056625 | S94: 0.115 | T94: =S94*H94 -> 65.11875 | AR94: 4 | AT94: K | AU94: 2 | AY94: ROZPOCET | BE94: =IF(N94="základní",J94,0) -> 0 | BF94: =IF(N94="snížená",J94,0) -> 0 | BG94: =IF(N94="zákl. přenesená",J94,0) -> 0 | BH94: =IF(N94="sníž. přenesená",J94,0) -> 0 | BI94: =IF(N94="nulová",J94,0) -> 0 | BJ94: 1 | BK94: =ROUND(I94*H94,2) -> 0 | BL94: 4 | BM94: 1379881624
D95: Online PSC | F95: https://podminky.urs.cz/item/CS_URS_2025_02/113154523 | AT95: Online PSC | AU95: 2
D96: VV | F96: 566,25 | H96: 566.25 | AT96: VV | AU96: 2 | AV96: 2 | AW96: True | AX96: 1 | AY96: ROZPOCET
D97: D | E97: 5 | F97: Komunikace pozemní | J97: =BK97 -> 0 | P97: =SUM(P98:P102) -> 0 | R97: =SUM(R98:R102) -> 0 | T97: =SUM(T98:T102) -> 0 | AR97: 1 | AT97: D | AU97: 1 | AY97: ROZPOCET | BK97: =SUM(BK98:BK102) -> 0
C98: 2 | D98: K | E98: 573211107 | F98: Postřik spojovací PS bez posypu kamenivem z asfaltu silničního, v množství 0,30 kg/m2 | G98: m2 | H98: 566.25 | J98: =ROUND(I98*H98,2) -> 0 | K98: CS ÚRS 2025 02 | N98: základní | P98: =O98*H98 -> 0 | Q98: 0 | R98: =Q98*H98 -> 0 | S98: 0 | T98: =S98*H98 -> 0 | AR98: 4 | AT98: K | AU98: 2 | AY98: ROZPOCET | BE98: =IF(N98="základní",J98,0) -> 0 | BF98: =IF(N98="snížená",J98,0) -> 0 | BG98: =IF(N98="zákl. přenesená",J98,0) -> 0 | BH98: =IF(N98="sníž. přenesená",J98,0) -> 0 | BI98: =IF(N98="nulová",J98,0) -> 0 | BJ98: 1 | BK98: =ROUND(I98*H98,2) -> 0 | BL98: 4 | BM98: 258189923
D99: Online PSC | F99: https://podminky.urs.cz/item/CS_URS_2025_02/573211107 | AT99: Online PSC | AU99: 2
D100: VV | F100: 566,25 | H100: 566.25 | AT100: VV | AU100: 2 | AV100: 2 | AW100: True | AX100: 1 | AY100: ROZPOCET
C101: 3 | D101: K | E101: 577144111 | F101: Asfaltový beton vrstva obrusná ACO 11 z nemodifikovaného asfaltu s rozprostřením a se zhutněním ACO 11+ v pruhu šířky přes 1,5 do 3 m, po zhutnění tl. 50 mm | G101: m2 | H101: 566.25 | J101: =ROUND(I101*H101,2) -> 0 | K101: CS ÚRS 2025 02 | N101: základní | P101: =O101*H101 -> 0 | Q101: 0 | R101: =Q101*H101 -> 0 | S101: 0 | T101: =S101*H101 -> 0 | AR101: 4 | AT101: K | AU101: 2 | AY101: ROZPOCET | BE101: =IF(N101="základní",J101,0) -> 0 | BF101: =IF(N101="snížená",J101,0) -> 0 | BG101: =IF(N101="zákl. přenesená",J101,0) -> 0 | BH101: =IF(N101="sníž. přenesená",J101,0) -> 0 | BI101: =IF(N101="nulová",J101,0) -> 0 | BJ101: 1 | BK101: =ROUND(I101*H101,2) -> 0 | BL101: 4 | BM101: -1884266709
D102: Online PSC | F102: https://podminky.urs.cz/item/CS_URS_2025_02/577144111 | AT102: Online PSC | AU102: 2
D103: D | E103: 9 | F103: Ostatní konstrukce a práce, bourání | J103: =BK103 -> 0 | P103: =SUM(P104:P105) -> 0 | R103: =SUM(R104:R105) -> 0.008113 | T103: =SUM(T104:T105) -> 0 | AR103: 1 | AT103: D | AU103: 1 | AY103: ROZPOCET | BK103: =SUM(BK104:BK105) -> 0
C104: 4 | D104: K | E104: 919732211 | F104: Styčná pracovní spára při napojení nového živičného povrchu na stávající se zalitím za tepla modifikovanou asfaltovou hmotou s posypem vápenným hydrátem šířky do 15 mm, hloubky do 25 mm včetně prořezání spáry | G104: m | H104: 13.3 | J104: =ROUND(I104*H104,2) -> 0 | K104: CS ÚRS 2025 02 | N104: základní | P104: =O104*H104 -> 0 | Q104: 0.00061 | R104: =Q104*H104 -> 0.008113 | S104: 0 | T104: =S104*H104 -> 0 | AR104: 4 | AT104: K | AU104: 2 | AY104: ROZPOCET | BE104: =IF(N104="základní",J104,0) -> 0 | BF104: =IF(N104="snížená",J104,0) -> 0 | BG104: =IF(N104="zákl. přenesená",J104,0) -> 0 | BH104: =IF(N104="sníž. přenesená",J104,0) -> 0 | BI104: =IF(N104="nulová",J104,0) -> 0 | BJ104: 1 | BK104: =ROUND(I104*H104,2) -> 0 | BL104: 4 | BM104: -1306687971
D105: Online PSC | F105: https://podminky.urs.cz/item/CS_URS_2025_02/919732211 | AT105: Online PSC | AU105: 2
