Workbook
Name CelkemDPHVypocet: Stavba!$H$47
Name CenaCelkem: Stavba!$G$29
Name CenaCelkemBezDPH: Stavba!$G$28
Name CenaCelkemVypocet: Stavba!$I$47
Name cisloobjektu: Stavba!$D$3
Name CisloRozpoctu: '[1]Krycí list'!$C$2
Name CisloStavby: Stavba!$D$2
Name cislostavby: '[1]Krycí list'!$A$7
Name CisloStavebnihoRozpoctu: Stavba!$D$4
Name dadresa: Stavba!$D$12:$G$12
Name DIČ: Stavba!$I$12
Name dmisto: Stavba!$E$13:$G$13
Name DPHSni: Stavba!$G$24
Name DPHZakl: Stavba!$G$26
Name dpsc: Stavba!$D$13
Name IČO: Stavba!$I$11
Name Mena: Stavba!$J$29
Name MistoStavby: Stavba!$D$4
Name nazevobjektu: Stavba!$E$3
Name NazevRozpoctu: '[1]Krycí list'!$D$2
Name NazevStavby: Stavba!$E$2
Name nazevstavby: '[1]Krycí list'!$C$7
Name NazevStavebnihoRozpoctu: Stavba!$E$4
Name oadresa: Stavba!$D$6
Name Objednatel: Stavba!$D$5
Name Objekt: Stavba!$B$38
Name odic: Stavba!$I$6
Name oico: Stavba!$I$5
Name omisto: Stavba!$E$7
Name onazev: Stavba!$D$6
Name opsc: Stavba!$D$7
Name padresa: Stavba!$D$9
Name pdic: Stavba!$I$9
Name pico: Stavba!$I$8
Name pmisto: Stavba!$E$10
Name PocetMJ: #REF!
Name PoptavkaID: Stavba!$A$1
Name pPSC: Stavba!$D$10
Name Projektant: Stavba!$D$8
Name SazbaDPH1: Stavba!$E$23
Name SazbaDPH1: '[1]Krycí list'!$C$30
Name SazbaDPH2: Stavba!$E$25
Name SazbaDPH2: '[1]Krycí list'!$C$32
Name SloupecCC: #REF!
Name SloupecCisloPol: #REF!
Name SloupecJC: #REF!
Name SloupecMJ: #REF!
Name SloupecMnozstvi: #REF!
Name SloupecNazPol: #REF!
Name SloupecPC: #REF!
Name Vypracoval: Stavba!$D$14
Name ZakladDPHSni: Stavba!$G$23
Name ZakladDPHSniVypocet: Stavba!$F$47
Name ZakladDPHZakl: Stavba!$G$25
Name ZakladDPHZaklVypocet: Stavba!$G$47
Name ZaObjednatele: Stavba!$G$34
Name Zaokrouhleni: Stavba!$G$27
Name ZaZhotovitele: Stavba!$D$34
Name Zhotovitel: Stavba!$D$11:$G$11

Sheet Pokyny pro vyplnění
A1: Pokyny pro vyplnění
A2: Ve všech listech tohoto souboru můžete měnit pouze buňky s modrým pozadím. Jedná se o tyto údaje : - údaje o firmě - jednotkové ceny položek zadané na maximálně dvě desetinná místa

Sheet Stavba
A1: #RTSROZP# | B1: Položkový rozpočet stavby
B2: Stavba: | D2: 10122023 | E2: OPRAVA KOMUNIKACE K MYSLIVNĚ - SYROVICE
B5: Objednatel: | H5: IČO:
H6: DIČ:
B8: Projektant: | H8: IČO:
H9: DIČ:
B11: Zhotovitel: | H11: IČO:
H12: DIČ:
B14: Vypracoval:
B15: Rozpis ceny | I15: Celkem
A16: HSV | B16: HSV | I16: =SUMIF(F62:F79,A16,I62:I79)+SUMIF(F62:F79,"PSU",I62:I79) -> 0
A17: PSV | B17: PSV | I17: =SUMIF(F62:F79,A17,I62:I79) -> 0
A18: MON | B18: MON | I18: =SUMIF(F62:F79,A18,I62:I79) -> 0
A19: VN | B19: Vedlejší náklady | I19: =SUMIF(F62:F79,A19,I62:I79) -> 0
A20: ON | B20: Ostatní náklady | I20: =SUMIF(F62:F79,A20,I62:I79) -> 0
B21: Celkem | I21: =SUM(I16:J20) -> 0
B22: Rekapitulace daní
A23: =ZakladDPHSni*SazbaDPH1/100 -> 0 | B23: Základ pro sníženou DPH | E23: 15 | F23: % | G23: =ZakladDPHSniVypocet -> 0 | J23: =Mena -> CZK
A24: =(A23-INT(A23))*100 -> 0 | B24: Snížená DPH | E24: =SazbaDPH1 -> 15 | F24: % | G24: =A23 -> 0 | J24: =Mena -> CZK
A25: =ZakladDPHZakl*SazbaDPH2/100 -> 0 | B25: Základ pro základní DPH | E25: 21 | F25: % | G25: =ZakladDPHZaklVypocet -> 0 | J25: =Mena -> CZK
A26: =(A25-INT(A25))*100 -> 0 | B26: Základní DPH | E26: =SazbaDPH2 -> 21 | F26: % | G26: =A25 -> 0 | J26: =Mena -> CZK
A27: =ZakladDPHSni+DPHSni+ZakladDPHZakl+DPHZakl -> 0 | B27: Zaokrouhlení | G27: =CenaCelkem-(ZakladDPHSni+DPHSni+ZakladDPHZakl+DPHZakl) -> 0 | J27: =Mena -> CZK
B28: Cena celkem bez DPH | G28: =ZakladDPHSniVypocet+ZakladDPHZaklVypocet -> 0 | J28: =Mena -> CZK
A29: =(A27-INT(A27))*100 -> 0 | B29: Cena celkem s DPH | G29: =A27 -> 0 | J29: CZK
C32: v | F32: dne
D35: Za zhotovitele | H35: Za objednatele
B37: Rekapitulace dílčích částí
A38: #CASTI>> | B38: Číslo | C38: Název | F38: =B23 -> Základ pro sníženou DPH | G38: =B25 -> Základ pro základní DPH | H38: DPH celkem | I38: Cena celkem | J38: %
A39: 1 | B39: Stavba | F39: ='SO101 01.1 Pol'!AE147+'SO101 02 Pol'!AE55+'SO301 01 Pol'!AE151+'SO401 01 Pol'!AE120 -> 0 | G39: ='SO101 01.1 Pol'!AF147+'SO101 02 Pol'!AF55+'SO301 01 Pol'!AF151+'SO401 01 Pol'!AF120 -> 0 | H39: =(F39*SazbaDPH1/100)+(G39*SazbaDPH2/100) -> 0 | I39: =F39+G39+H39 -> 0 | J39: =IF(CenaCelkemVypocet=0,"",I39/CenaCelkemVypocet*100)
A40: 2 | B40: SO101 | C40: OPRAVA KOMUNIKACE VČ. CHODNÍKŮ, SJEZDŮ A PARKOVACÍCH PLOCH | F40: ='SO101 01.1 Pol'!AE147+'SO101 02 Pol'!AE55 -> 0 | G40: ='SO101 01.1 Pol'!AF147+'SO101 02 Pol'!AF55 -> 0 | H40: =(F40*SazbaDPH1/100)+(G40*SazbaDPH2/100) -> 0 | I40: =F40+G40+H40 -> 0 | J40: =IF(CenaCelkemVypocet=0,"",I40/CenaCelkemVypocet*100)
A41: 3 | B41: 01.1 | C41: STAVEBNÍ ČÁST | F41: ='SO101 01.1 Pol'!AE147 -> 0 | G41: ='SO101 01.1 Pol'!AF147 -> 0 | H41: =(F41*SazbaDPH1/100)+(G41*SazbaDPH2/100) -> 0 | I41: =F41+G41+H41 -> 0 | J41: =IF(CenaCelkemVypocet=0,"",I41/CenaCelkemVypocet*100)
A42: 3 | B42: 02 | C42: OCHRANA STÁVAJÍCÍHO SDĚLOVACÍHO VEDENÍ NET4GAS | F42: ='SO101 02 Pol'!AE55 -> 0 | G42: ='SO101 02 Pol'!AF55 -> 0 | H42: =(F42*SazbaDPH1/100)+(G42*SazbaDPH2/100) -> 0 | I42: =F42+G42+H42 -> 0 | J42: =IF(CenaCelkemVypocet=0,"",I42/CenaCelkemVypocet*100)
A43: 2 | B43: SO301 | C43: DEŠŤOVÁ KANALIZACE | F43: ='SO301 01 Pol'!AE151 -> 0 | G43: ='SO301 01 Pol'!AF151 -> 0 | H43: =(F43*SazbaDPH1/100)+(G43*SazbaDPH2/100) -> 0 | I43: =F43+G43+H43 -> 0 | J43: =IF(CenaCelkemVypocet=0,"",I43/CenaCelkemVypocet*100)
A44: 3 | B44: 01 | C44: ODVODNĚNÍ KOMUNIKACE K MYSLIVNĚ | F44: ='SO301 01 Pol'!AE151 -> 0 | G44: ='SO301 01 Pol'!AF151 -> 0 | H44: =(F44*SazbaDPH1/100)+(G44*SazbaDPH2/100) -> 0 | I44: =F44+G44+H44 -> 0 | J44: =IF(CenaCelkemVypocet=0,"",I44/CenaCelkemVypocet*100)
A45: 2 | B45: SO401 | C45: PRODLOUŽENÍ VEŘEJNÉHO OSVĚTLENÍ | F45: ='SO401 01 Pol'!AE120 -> 0 | G45: ='SO401 01 Pol'!AF120 -> 0 | H45: =(F45*SazbaDPH1/100)+(G45*SazbaDPH2/100) -> 0 | I45: =F45+G45+H45 -> 0 | J45: =IF(CenaCelkemVypocet=0,"",I45/CenaCelkemVypocet*100)
A46: 3 | B46: 01 | C46: VEŘEJNÉ OSVĚTLENÍ - K MYSLIVNĚ | F46: ='SO401 01 Pol'!AE120 -> 0 | G46: ='SO401 01 Pol'!AF120 -> 0 | H46: =(F46*SazbaDPH1/100)+(G46*SazbaDPH2/100) -> 0 | I46: =F46+G46+H46 -> 0 | J46: =IF(CenaCelkemVypocet=0,"",I46/CenaCelkemVypocet*100)
B47: Celkem za stavbu | F47: =SUMIF(A39:A46,"=1",F39:F46) -> 0 | G47: =SUMIF(A39:A46,"=1",G39:G46) -> 0 | H47: =SUMIF(A39:A46,"=1",H39:H46) -> 0 | I47: =SUMIF(A39:A46,"=1",I39:I46) -> 0 | J47: =SUMIF(A39:A46,"=1",J39:J46) -> 0
A49: #POPS | B49: Popis stavby: 10122023 - OPRAVA KOMUNIKACE K MYSLIVNĚ - SYROVICE
A50: #POPO | B50: Popis objektu: SO101 - OPRAVA KOMUNIKACE VČ. CHODNÍKŮ, SJEZDŮ A PARKOVACÍCH PLOCH
A51: #POPR | B51: Popis rozpočtu: 01.1 - STAVEBNÍ ČÁST
...

Sheet VzorPolozky
A1: Položkový rozpočet
A2: S:
A3: O:
A4: R:

Sheet SO101 01.1 Pol
A1: Položkový rozpočet | AG1: #TypZaznamu#
A2: S: | B2: 10122023 | C2: OPRAVA KOMUNIKACE K MYSLIVNĚ - SYROVICE | AG2: STA
A3: O: | B3: SO101 | C3: OPRAVA KOMUNIKACE VČ. CHODNÍKŮ, SJEZDŮ A PARKOVACÍCH PLOCH | AC3: STA | AG3: OBJ
A4: R: | B4: 01.1 | C4: STAVEBNÍ ČÁST | AG4: ROZ
A6: P.č. | B6: Číslo položky | C6: Název položky | D6: MJ | E6: Množství | F6: Cena / MJ | G6: Celkem | H6: Dodávka | I6: Dodávka celk. | J6: Montáž | K6: Montáž celk. | L6: DPH | M6: Cena s DPH | N6: Hmotnost / MJ | O6: Hmotnost celk.(t) | P6: Dem. hmotnost / MJ | Q6: Dem. hmotnost celk.(t) | R6: Ceník | S6: Cen. soustava / platnost | T6: Cenová úroveň | U6: Nhod / MJ | V6: Nhod celk. | W6: Dodavatel | X6: Typ položky | Y6: Stav položky
A8: Díl: | B8: 1 | C8: Zemní práce | G8: =SUMIF(AG9:AG37,"<>NOR",G9:G37) -> 0 | I8: =SUM(I9:I37) -> 0 | K8: =SUM(K9:K37) -> 0 | M8: =SUM(M9:M37) -> 0 | O8: =SUM(O9:O37) -> 118.58 | Q8: =SUM(Q9:Q37) -> 202.86 | V8: =SUM(V9:V37) -> 1134.69 | AG8: DIL
A9: 1 | B9: 111201101R00 | C9: Odstranění křovin i s kořeny na ploše do 1000 m2 | D9: m2 | E9: 185 | G9: =ROUND(E9*F9,2) -> 0 | I9: =ROUND(E9*H9,2) -> 0 | K9: =ROUND(E9*J9,2) -> 0 | L9: 21 | M9: =G9*(1+L9/100) -> 0 | N9: 0 | O9: =ROUND(E9*N9,2) -> 0 | P9: 0 | Q9: =ROUND(E9*P9,2) -> 0 | S9: RTS 26/ I | T9: RTS 26/ I | U9: 0.172 | V9: =ROUND(E9*U9,2) -> 31.82 | X9: Práce | Y9: Běžná | AG9: POL1_
A10: 2 | B10: 112101102R00 | C10: Kácení stromů listnatých o průměru kmene 30-50 cm | D10: kus | E10: 1 | G10: =ROUND(E10*F10,2) -> 0 | I10: =ROUND(E10*H10,2) -> 0 | K10: =ROUND(E10*J10,2) -> 0 | L10: 21 | M10: =G10*(1+L10/100) -> 0 | N10: 0 | O10: =ROUND(E10*N10,2) -> 0 | P10: 0 | Q10: =ROUND(E10*P10,2) -> 0 | S10: RTS 26/ I | T10: RTS 26/ I | U10: 0.88 | V10: =ROUND(E10*U10,2) -> 0.88 | X10: Práce | Y10: Běžná | AG10: POL1_
A11: 3 | B11: 112201102R00 | C11: Odstranění pařezů pod úrovní, o průměru 30 - 50 cm | D11: kus | E11: 1 | G11: =ROUND(E11*F11,2) -> 0 | I11: =ROUND(E11*H11,2) -> 0 | K11: =ROUND(E11*J11,2) -> 0 | L11: 21 | M11: =G11*(1+L11/100) -> 0 | N11: 5e-05 | O11: =ROUND(E11*N11,2) -> 0 | P11: 0 | Q11: =ROUND(E11*P11,2) -> 0 | S11: RTS 26/ I | T11: RTS 26/ I | U11: 1.66 | V11: =ROUND(E11*U11,2) -> 1.66 | X11: Práce | Y11: Běžná | AG11: POL1_
A12: 4 | B12: 113106121R00 | C12: Rozebrání dlažeb z betonových dlaždic na sucho | D12: m2 | E12: 240 | G12: =ROUND(E12*F12,2) -> 0 | I12: =ROUND(E12*H12,2) -> 0 | K12: =ROUND(E12*J12,2) -> 0 | L12: 21 | M12: =G12*(1+L12/100) -> 0 | N12: 0 | O12: =ROUND(E12*N12,2) -> 0 | P12: 0.138 | Q12: =ROUND(E12*P12,2) -> 33.12 | S12: RTS 26/ I | T12: RTS 26/ I | U12: 0.16 | V12: =ROUND(E12*U12,2) -> 38.4 | X12: Práce | Y12: Běžná | AG12: POL1_
A13: 5 | B13: 113106211R00 | C13: Rozebrání dlažeb z velkých kostek v kam. těženém | D13: m2 | E13: 57.5 | G13: =ROUND(E13*F13,2) -> 0 | I13: =ROUND(E13*H13,2) -> 0 | K13: =ROUND(E13*J13,2) -> 0 | L13: 21 | M13: =G13*(1+L13/100) -> 0 | N13: 0 | O13: =ROUND(E13*N13,2) -> 0 | P13: 0.417 | Q13: =ROUND(E13*P13,2) -> 23.98 | S13: RTS 26/ I | T13: RTS 26/ I | U13: 0.13 | V13: =ROUND(E13*U13,2) -> 7.48 | X13: Práce | Y13: Běžná | AG13: POL1_
A14: 6 | B14: 113106231R00 | C14: Rozebrání dlažeb ze zámkové dlažby v kamenivu | D14: m2 | E14: 56 | G14: =ROUND(E14*F14,2) -> 0 | I14: =ROUND(E14*H14,2) -> 0 | K14: =ROUND(E14*J14,2) -> 0 | L14: 21 | M14: =G14*(1+L14/100) -> 0 | N14: 0 | O14: =ROUND(E14*N14,2) -> 0 | P14: 0.225 | Q14: =ROUND(E14*P14,2) -> 12.6 | S14: RTS 26/ I | T14: RTS 26/ I | U14: 0.14 | V14: =ROUND(E14*U14,2) -> 7.84 | X14: Práce | Y14: Běžná | AG14: POL1_
A15: 7 | B15: 113108408R00 | C15: Odstranění asfaltové vrstvy pl.nad 50 m2, tl. 8 cm | D15: m2 | E15: 595 | G15: =ROUND(E15*F15,2) -> 0 | I15: =ROUND(E15*H15,2) -> 0 | K15: =ROUND(E15*J15,2) -> 0 | L15: 21 | M15: =G15*(1+L15/100) -> 0 | N15: 0 | O15: =ROUND(E15*N15,2) -> 0 | P15: 0.176 | Q15: =ROUND(E15*P15,2) -> 104.72 | S15: RTS 26/ I | T15: RTS 26/ I | U15: 0.06 | V15: =ROUND(E15*U15,2) -> 35.7 | X15: Práce | Y15: Běžná | AG15: POL1_
A16: 8 | B16: 113109410R00 | C16: Odstranění podkladu pl.nad 50 m2, beton, tl. 10 cm | D16: m2 | E16: 82.5 | G16: =ROUND(E16*F16,2) -> 0 | I16: =ROUND(E16*H16,2) -> 0 | K16: =ROUND(E16*J16,2) -> 0 | L16: 21 | M16: =G16*(1+L16/100) -> 0 | N16: 0 | O16: =ROUND(E16*N16,2) -> 0 | P16: 0.24 | Q16: =ROUND(E16*P16,2) -> 19.8 | S16: RTS 26/ I | T16: RTS 26/ I | U16: 0.03 | V16: =ROUND(E16*U16,2) -> 2.48 | X16: Práce | Y16: Běžná | AG16: POL1_
A17: 9 | B17: 113202111R00 | C17: Vytrhání obrub obrubníků silničních | D17: m | E17: 32 | G17: =ROUND(E17*F17,2) -> 0 | I17: =ROUND(E17*H17,2) -> 0 | K17: =ROUND(E17*J17,2) -> 0 | L17: 21 | M17: =G17*(1+L17/100) -> 0 | N17: 0 | O17: =ROUND(E17*N17,2) -> 0 | P17: 0.27 | Q17: =ROUND(E17*P17,2) -> 8.64 | S17: RTS 26/ I | T17: RTS 26/ I | U17: 0.12 | V17: =ROUND(E17*U17,2) -> 3.84 | X17: Práce | Y17: Běžná | AG17: POL1_
A18: 10 | B18: 122302203R00 | C18: Odkopávky pro silnice v hor. 4 do 10000 m3 | D18: m3 | E18: 1736.21 | G18: =ROUND(E18*F18,2) -> 0 | I18: =ROUND(E18*H18,2) -> 0 | K18: =ROUND(E18*J18,2) -> 0 | L18: 21 | M18: =G18*(1+L18/100) -> 0 | N18: 0 | O18: =ROUND(E18*N18,2) -> 0 | P18: 0 | Q18: =ROUND(E18*P18,2) -> 0 | S18: RTS 26/ I | T18: RTS 26/ I | U18: 0.23 | V18: =ROUND(E18*U18,2) -> 399.33 | X18: Práce | Y18: Běžná | AG18: POL1_
A19: 11 | B19: 122302209R00 | C19: Příplatek za lepivost - odkop pro silnice v hor. 4 | D19: m3 | E19: 1736.21 | G19: =ROUND(E19*F19,2) -> 0 | I19: =ROUND(E19*H19,2) -> 0 | K19: =ROUND(E19*J19,2) -> 0 | L19: 21 | M19: =G19*(1+L19/100) -> 0 | N19: 0 | O19: =ROUND(E19*N19,2) -> 0 | P19: 0 | Q19: =ROUND(E19*P19,2) -> 0 | S19: RTS 26/ I | T19: RTS 26/ I | U19: 0.12 | V19: =ROUND(E19*U19,2) -> 208.35 | X19: Práce | Y19: Běžná | AG19: POL1_
A20: 12 | B20: 132301111R00 | C20: Hloubení rýh š.do 60 cm v hor.4 do 100 m3,STROJNĚ | D20: m3 | E20: 73.75 | G20: =ROUND(E20*F20,2) -> 0 | I20: =ROUND(E20*H20,2) -> 0 | K20: =ROUND(E20*J20,2) -> 0 | L20: 21 | M20: =G20*(1+L20/100) -> 0 | N20: 0 | O20: =ROUND(E20*N20,2) -> 0 | P20: 0 | Q20: =ROUND(E20*P20,2) -> 0 | S20: RTS 26/ I | T20: RTS 26/ I | U20: 0.39 | V20: =ROUND(E20*U20,2) -> 28.76 | X20: Práce | Y20: Běžná | AG20: POL1_
... A27: 19 | B27: 174101101R00 | C27: Zásyp jam, rýh, šachet se zhutněním | D27: m3 | E27: 6.345 | G27: =ROUND(E27*F27,2) -> 0 | I27: =ROUND(E27*H27,2) -> 0 | K27: =ROUND(E27*J27,2) -> 0 | L27: 21 | M27: =G27*(1+L27/100) -> 0 | N27: 0 | O27: =ROUND(E27*N27,2) -> 0 | P27: 0 | Q27: =ROUND(E27*P27,2) -> 0 | S27: RTS 26/ I | T27: RTS 26/ I | U27: 0.2 | V27: =ROUND(E27*U27,2) -> 1.27 | X27: Práce | Y27: Běžná | AG27: POL1_
C28: včetně strojního přemístění materiálu pro zásyp ze vzdálenosti do 10 m od okraje zásypu | AG28: POP
A29: 20 | B29: 174201101R00 | C29: Zásyp jam, rýh, šachet bez zhutnění | D29: m3 | E29: 325.25 | G29: =ROUND(E29*F29,2) -> 0 | I29: =ROUND(E29*H29,2) -> 0 | K29: =ROUND(E29*J29,2) -> 0 | L29: 21 | M29: =G29*(1+L29/100) -> 0 | N29: 0 | O29: =ROUND(E29*N29,2) -> 0 | P29: 0 | Q29: =ROUND(E29*P29,2) -> 0 | S29: RTS 26/ I | T29: RTS 26/ I | U29: 0.13 | V29: =ROUND(E29*U29,2) -> 42.28 | X29: Práce | Y29: Běžná | AG29: POL1_
C30: včetně strojního přemístění materiálu ze vzdálenosti do 10 m od okraje zásypu | AG30: POP
A31: 21 | B31: 180402111R00 | C31: Založení trávníku parkového výsevem v rovině | D31: m2 | E31: 490 | G31: =ROUND(E31*F31,2) -> 0 | I31: =ROUND(E31*H31,2) -> 0 | K31: =ROUND(E31*J31,2) -> 0 | L31: 21 | M31: =G31*(1+L31/100) -> 0 | N31: 0 | O31: =ROUND(E31*N31,2) -> 0 | P31: 0 | Q31: =ROUND(E31*P31,2) -> 0 | S31: RTS 26/ I | T31: RTS 26/ I | U31: 0.06 | V31: =ROUND(E31*U31,2) -> 29.4 | X31: Práce | Y31: Běžná | AG31: POL1_
A32: 22 | B32: 181301102R00 | C32: Rozprostření ornice, rovina, tl. 10-15 cm,do 500m2 | D32: m2 | E32: 270 | G32: =ROUND(E32*F32,2) -> 0 | I32: =ROUND(E32*H32,2) -> 0 | K32: =ROUND(E32*J32,2) -> 0 | L32: 21 | M32: =G32*(1+L32/100) -> 0 | N32: 0 | O32: =ROUND(E32*N32,2) -> 0 | P32: 0 | Q32: =ROUND(E32*P32,2) -> 0 | S32: RTS 26/ I | T32: RTS 26/ I | U32: 0.18 | V32: =ROUND(E32*U32,2) -> 48.6 | X32: Práce | Y32: Běžná | AG32: POL1_
A33: 23 | B33: 182201101R00 | C33: Svahování násypů | D33: m2 | E33: 285 | G33: =ROUND(E33*F33,2) -> 0 | I33: =ROUND(E33*H33,2) -> 0 | K33: =ROUND(E33*J33,2) -> 0 | L33: 21 | M33: =G33*(1+L33/100) -> 0 | N33: 0 | O33: =ROUND(E33*N33,2) -> 0 | P33: 0 | Q33: =ROUND(E33*P33,2) -> 0 | S33: RTS 26/ I | T33: RTS 26/ I | U33: 0.107 | V33: =ROUND(E33*U33,2) -> 30.5 | X33: Práce | Y33: Běžná | AG33: POL1_
A34: 24 | B34: 185803111R00 | C34: Ošetření trávníku v rovině | D34: m2 | E34: 490 | G34: =ROUND(E34*F34,2) -> 0 | I34: =ROUND(E34*H34,2) -> 0 | K34: =ROUND(E34*J34,2) -> 0 | L34: 21 | M34: =G34*(1+L34/100) -> 0 | N34: 0 | O34: =ROUND(E34*N34,2) -> 0 | P34: 0 | Q34: =ROUND(E34*P34,2) -> 0 | S34: RTS 26/ I | T34: RTS 26/ I | U34: 0.01 | V34: =ROUND(E34*U34,2) -> 4.9 | X34: Práce | Y34: Běžná | AG34: POL1_
A35: 25 | B35: 199000002R00 | C35: Poplatek za skládku horniny 1- 4, č. dle katal. odpadů 17 05 04 | D35: m3 | E35: 1807.572 | G35: =ROUND(E35*F35,2) -> 0 | I35: =ROUND(E35*H35,2) -> 0 | K35: =ROUND(E35*J35,2) -> 0 | L35: 21 | M35: =G35*(1+L35/100) -> 0 | N35: 0 | O35: =ROUND(E35*N35,2) -> 0 | P35: 0 | Q35: =ROUND(E35*P35,2) -> 0 | S35: RTS 26/ I | T35: RTS 26/ I | U35: 0 | V35: =ROUND(E35*U35,2) -> 0 | X35: Práce | Y35: Běžná | AG35: POL1_
A36: 26 | B36: 00572420R | C36: Směs travní parková III. dekorativní PROFI á 25 kg | D36: kg | E36: 12.25 | G36: =ROUND(E36*F36,2) -> 0 | I36: =ROUND(E36*H36,2) -> 0 | K36: =ROUND(E36*J36,2) -> 0 | L36: 21 | M36: =G36*(1+L36/100) -> 0 | N36: 0.001 | O36: =ROUND(E36*N36,2) -> 0.01 | P36: 0 | Q36: =ROUND(E36*P36,2) -> 0 | R36: SPCM | S36: RTS 26/ I | T36: RTS 26/ I | U36: 0 | V36: =ROUND(E36*U36,2) -> 0 | X36: Specifikace | Y36: Běžná | AG36: POL3_
A37: 27 | B37: 10364200R | C37: Ornice pro pozemkové úpravy | D37: m3 | E37: 71 | G37: =ROUND(E37*F37,2) -> 0 | I37: =ROUND(E37*H37,2) -> 0 | K37: =ROUND(E37*J37,2) -> 0 | L37: 21 | M37: =G37*(1+L37/100) -> 0 | N37: 1.67 | O37: =ROUND(E37*N37,2) -> 118.57 | P37: 0 | Q37: =ROUND(E37*P37,2) -> 0 | R37: SPCM | S37: RTS 22/ II | T37: RTS 22/ II | U37: 0 | V37: =ROUND(E37*U37,2) -> 0 | X37: Specifikace | Y37: Běžná | AG37: POL3_
A38: Díl: | B38: 2 | C38: Základy a zvláštní zakládání | G38: =SUMIF(AG39:AG42,"<>NOR",G39:G42) -> 0 | I38: =SUM(I39:I42) -> 0 | K38: =SUM(K39:K42) -> 0 | M38: =SUM(M39:M42) -> 0 | O38: =SUM(O39:O42) -> 69.26 | Q38: =SUM(Q39:Q42) -> 0 | V38: =SUM(V39:V42) -> 88.5 | AG38: DIL
A39: 28 | B39: 212752112R00 | C39: Trativody z drenážních trubek, lože, DN 100 mm vč. dodávky trubky a zásyp. materiálu | D39: m | E39: 295 | G39: =ROUND(E39*F39,2) -> 0 | I39: =ROUND(E39*H39,2) -> 0 | K39: =ROUND(E39*J39,2) -> 0 | L39: 21 | M39: =G39*(1+L39/100) -> 0 | N39: 0.23382 | O39: =ROUND(E39*N39,2) -> 68.98 | P39: 0 | Q39: =ROUND(E39*P39,2) -> 0 | S39: RTS 18/ I | T39: RTS 18/ I | U39: 0.22 | V39: =ROUND(E39*U39,2) -> 64.9 | X39: Práce | Y39: Běžná | AG39: POL1_
A40: 29 | B40: 289971211R00 | C40: Zřízení vrstvy z geotextilie sklon do 1:5 š.do 3 m | D40: m2 | E40: 590 | G40: =ROUND(E40*F40,2) -> 0 | I40: =ROUND(E40*H40,2) -> 0 | K40: =ROUND(E40*J40,2) -> 0 | L40: 21 | M40: =G40*(1+L40/100) -> 0 | N40: 3e-05 | O40: =ROUND(E40*N40,2) -> 0.02 | P40: 0 | Q40: =ROUND(E40*P40,2) -> 0 | S40: RTS 26/ I | T40: RTS 26/ I | U40: 0.04 | V40: =ROUND(E40*U40,2) -> 23.6 | X40: Práce | Y40: Běžná | AG40: POL1_
A41: 30 | B41: 2001 | C41: Zaústění drenáže do dešťové kanalizace, D+M | D41: kpl | E41: 1 | G41: =ROUND(E41*F41,2) -> 0 | I41: =ROUND(E41*H41,2) -> 0 | K41: =ROUND(E41*J41,2) -> 0 | L41: 21 | M41: =G41*(1+L41/100) -> 0 | N41: 0 | O41: =ROUND(E41*N41,2) -> 0 | P41: 0 | Q41: =ROUND(E41*P41,2) -> 0 | S41: Vlastní | T41: Indiv | U41: 0 | V41: =ROUND(E41*U41,2) -> 0 | X41: Práce | Y41: Běžná | AG41: POL1_
A42: 31 | B42: 69366203R | C42: Geotextilie 400 g/m2 š. 200 cm | D42: m2 | E42: 649 | G42: =ROUND(E42*F42,2) -> 0 | I42: =ROUND(E42*H42,2) -> 0 | K42: =ROUND(E42*J42,2) -> 0 | L42: 21 | M42: =G42*(1+L42/100) -> 0 | N42: 0.0004 | O42: =ROUND(E42*N42,2) -> 0.26 | P42: 0 | Q42: =ROUND(E42*P42,2) -> 0 | R42: SPCM | S42: RTS 26/ I | T42: RTS 26/ I | U42: 0 | V42: =ROUND(E42*U42,2) -> 0 | X42: Specifikace | Y42: Běžná | AG42: POL3_
A43: Díl: | B43: 5 | C43: Komunikace | G43: =SUMIF(AG44:AG75,"<>NOR",G44:G75) -> 0 | I43: =SUM(I44:I75) -> 0 | K43: =SUM(K44:K75) -> 0 | M43: =SUM(M44:M75) -> 0 | O43: =SUM(O44:O75) -> 3473.92 | Q43: =SUM(Q44:Q75) -> 0 | V43: =SUM(V44:V75) -> 1536.28 | AG43: DIL
A44: 32 | B44: 564851111RT2 | C44: Podklad ze štěrkodrti po zhutnění tloušťky 15 cm štěrkodrť frakce 0-32 mm | D44: m2 | E44: 540.2 | G44: =ROUND(E44*F44,2) -> 0 | I44: =ROUND(E44*H44,2) -> 0 | K44: =ROUND(E44*J44,2) -> 0 | L44: 21 | M44: =G44*(1+L44/100) -> 0 | N44: 0.378 | O44: =ROUND(E44*N44,2) -> 204.2 | P44: 0 | Q44: =ROUND(E44*P44,2) -> 0 | S44: RTS 26/ I | T44: RTS 26/ I | U44: 0.03 | V44: =ROUND(E44*U44,2) -> 16.21 | X44: Práce | Y44: Běžná | AG44: POL1_
A45: 33 | B45: 564871111RT4 | C45: Podklad ze štěrkodrti po zhutnění tloušťky 25 cm štěrkodrť frakce 0-63 mm | D45: m2 | E45: 11.4 | G45: =ROUND(E45*F45,2) -> 0 | I45: =ROUND(E45*H45,2) -> 0 | K45: =ROUND(E45*J45,2) -> 0 | L45: 21 | M45: =G45*(1+L45/100) -> 0 | N45: 0.55125 | O45: =ROUND(E45*N45,2) -> 6.28 | P45: 0 | Q45: =ROUND(E45*P45,2) -> 0 | S45: RTS 26/ I | T45: RTS 26/ I | U45: 0.03 | V45: =ROUND(E45*U45,2) -> 0.34 | X45: Práce | Y45: Běžná | AG45: POL1_
A46: 34 | B46: 564851111RT4 | C46: Podklad ze štěrkodrti po zhutnění tloušťky 15 cm štěrkodrť frakce 0-63 mm | D46: m2 | E46: 2138.5 | G46: =ROUND(E46*F46,2) -> 0 | I46: =ROUND(E46*H46,2) -> 0 | K46: =ROUND(E46*J46,2) -> 0 | L46: 21 | M46: =G46*(1+L46/100) -> 0 | N46: 0.378 | O46: =ROUND(E46*N46,2) -> 808.35 | P46: 0 | Q46: =ROUND(E46*P46,2) -> 0 | S46: RTS 26/ I | T46: RTS 26/ I | U46: 0.03 | V46: =ROUND(E46*U46,2) -> 64.16 | X46: Práce | Y46: Běžná | AG46: POL1_
A47: 35 | B47: 564861111RT2 | C47: Podklad ze štěrkodrti po zhutnění tloušťky 20 cm štěrkodrť frakce 0-32 mm | D47: m2 | E47: 2138.5 | G47: =ROUND(E47*F47,2) -> 0 | I47: =ROUND(E47*H47,2) -> 0 | K47: =ROUND(E47*J47,2) -> 0 | L47: 21 | M47: =G47*(1+L47/100) -> 0 | N47: 0.441 | O47: =ROUND(E47*N47,2) -> 943.08 | P47: 0 | Q47: =ROUND(E47*P47,2) -> 0 | S47: RTS 26/ I | T47: RTS 26/ I | U47: 0.03 | V47: =ROUND(E47*U47,2) -> 64.16 | X47: Práce | Y47: Běžná | AG47: POL1_
A48: 36 | B48: 565131211R00 | C48: Podklad z obal kamen. ACP 16+, š.nad 3 m, tl. 5 cm | D48: m2 | E48: 1320 | G48: =ROUND(E48*F48,2) -> 0 | I48: =ROUND(E48*H48,2) -> 0 | K48: =ROUND(E48*J48,2) -> 0 | L48: 21 | M48: =G48*(1+L48/100) -> 0 | N48: 0.13188 | O48: =ROUND(E48*N48,2) -> 174.08 | P48: 0 | Q48: =ROUND(E48*P48,2) -> 0 | S48: RTS 26/ I | T48: RTS 26/ I | U48: 0.02 | V48: =ROUND(E48*U48,2) -> 26.4 | X48: Práce | Y48: Běžná | AG48: POL1_
...

Sheet SO101 02 Pol
A1: Položkový rozpočet | AG1: #TypZaznamu#
A2: S: | B2: 10122023 | C2: OPRAVA KOMUNIKACE K MYSLIVNĚ - SYROVICE | AG2: STA
A3: O: | B3: SO101 | C3: OPRAVA KOMUNIKACE VČ. CHODNÍKŮ, SJEZDŮ A PARKOVACÍCH PLOCH | AC3: STA | AG3: OBJ
A4: R: | B4: 02 | C4: OCHRANA STÁVAJÍCÍHO SDĚLOVACÍHO VEDENÍ NET4GAS | AG4: ROZ
A6: P.č. | B6: Číslo položky | C6: Název položky | D6: MJ | E6: Množství | F6: Cena / MJ | G6: Celkem | H6: Dodávka | I6: Dodávka celk. | J6: Montáž | K6: Montáž celk. | L6: DPH | M6: Cena s DPH | N6: Hmotnost / MJ | O6: Hmotnost celk.(t) | P6: Dem. hmotnost / MJ | Q6: Dem. hmotnost celk.(t) | R6: Ceník | S6: Cen. soustava / platnost | T6: Cenová úroveň | U6: Nhod / MJ | V6: Nhod celk. | W6: Dodavatel | X6: Typ položky | Y6: Stav položky
A8: Díl: | B8: M11 | C8: Materiály | G8: =SUMIF(AG9:AG15,"<>NOR",G9:G15) -> 0 | I8: =SUM(I9:I15) -> 0 | K8: =SUM(K9:K15) -> 0 | M8: =SUM(M9:M15) -> 0 | O8: =SUM(O9:O15) -> 0.02 | Q8: =SUM(Q9:Q15) -> 0 | V8: =SUM(V9:V15) -> 0 | AG8: DIL
A9: 1 | B9: 28611399.AR | C9: Zátka PVC d 125 mm | D9: kus | E9: 2 | G9: =ROUND(E9*F9,2) -> 0 | I9: =ROUND(E9*H9,2) -> 0 | K9: =ROUND(E9*J9,2) -> 0 | L9: 21 | M9: =G9*(1+L9/100) -> 0 | N9: 0 | O9: =ROUND(E9*N9,2) -> 0 | P9: 0 | Q9: =ROUND(E9*P9,2) -> 0 | S9: Vlastní | T9: RTS 23/ II | U9: 0 | V9: =ROUND(E9*U9,2) -> 0 | X9: Specifikace | Y9: Běžná | AG9: POL3_
A10: 2 | B10: 34141303R | C10: Vodič silový CYY 6,0 mm2 | D10: m | E10: 13 | G10: =ROUND(E10*F10,2) -> 0 | I10: =ROUND(E10*H10,2) -> 0 | K10: =ROUND(E10*J10,2) -> 0 | L10: 21 | M10: =G10*(1+L10/100) -> 0 | N10: 8e-05 | O10: =ROUND(E10*N10,2) -> 0 | P10: 0 | Q10: =ROUND(E10*P10,2) -> 0 | R10: SPCM | S10: RTS 26/ I | T10: RTS 26/ I | U10: 0 | V10: =ROUND(E10*U10,2) -> 0 | X10: Specifikace | Y10: Běžná | AG10: POL3_
C11: 13 | E11: 13 | AG11: VV | AH11: 0
A12: 3 | B12: 3457114707R | C12: Trubka kabelová chránička KOPOFLEX KF 09125 | D12: m | E12: 26 | G12: =ROUND(E12*F12,2) -> 0 | I12: =ROUND(E12*H12,2) -> 0 | K12: =ROUND(E12*J12,2) -> 0 | L12: 21 | M12: =G12*(1+L12/100) -> 0 | N12: 0.00078 | O12: =ROUND(E12*N12,2) -> 0.02 | P12: 0 | Q12: =ROUND(E12*P12,2) -> 0 | R12: SPCM | S12: RTS 26/ I | T12: RTS 26/ I | U12: 0 | V12: =ROUND(E12*U12,2) -> 0 | X12: Specifikace | Y12: Běžná | AG12: POL3_
C13: 2*13,0 | E13: 26 | AG13: VV | AH13: 0
A14: 4 | B14: 3457114798 | C14: Trubka HDPE 40 zelená | D14: m | E14: 13 | G14: =ROUND(E14*F14,2) -> 0 | I14: =ROUND(E14*H14,2) -> 0 | K14: =ROUND(E14*J14,2) -> 0 | L14: 21 | M14: =G14*(1+L14/100) -> 0 | N14: 0 | O14: =ROUND(E14*N14,2) -> 0 | P14: 0 | Q14: =ROUND(E14*P14,2) -> 0 | S14: Vlastní | T14: Indiv | U14: 0 | V14: =ROUND(E14*U14,2) -> 0 | X14: Specifikace | Y14: Běžná | AG14: POL3_
A15: 5 | B15: 3457114799 | C15: Trubka HDPE 40 bílá | D15: m | E15: 13 | G15: =ROUND(E15*F15,2) -> 0 | I15: =ROUND(E15*H15,2) -> 0 | K15: =ROUND(E15*J15,2) -> 0 | L15: 21 | M15: =G15*(1+L15/100) -> 0 | N15: 0 | O15: =ROUND(E15*N15,2) -> 0 | P15: 0 | Q15: =ROUND(E15*P15,2) -> 0 | S15: Vlastní | T15: Indiv | U15: 0 | V15: =ROUND(E15*U15,2) -> 0 | X15: Specifikace | Y15: Běžná | AG15: POL3_
A16: Díl: | B16: M21 | C16: Elektromontáže | G16: =SUMIF(AG17:AG26,"<>NOR",G17:G26) -> 0 | I16: =SUM(I17:I26) -> 0 | K16: =SUM(K17:K26) -> 0 | M16: =SUM(M17:M26) -> 0 | O16: =SUM(O17:O26) -> 0 | Q16: =SUM(Q17:Q26) -> 0 | V16: =SUM(V17:V26) -> 8.23 | AG16: DIL
A17: 6 | B17: 210010125R00 | C17: Trubka ochranná z PE, uložená volně, DN do 125 mm | D17: m | E17: 26 | G17: =ROUND(E17*F17,2) -> 0 | I17: =ROUND(E17*H17,2) -> 0 | K17: =ROUND(E17*J17,2) -> 0 | L17: 21 | M17: =G17*(1+L17/100) -> 0 | N17: 0 | O17: =ROUND(E17*N17,2) -> 0 | P17: 0 | Q17: =ROUND(E17*P17,2) -> 0 | S17: RTS 26/ I | T17: RTS 26/ I | U17: 0.16 | V17: =ROUND(E17*U17,2) -> 4.16 | X17: Práce | Y17: Běžná | AG17: POL1_
C18: 2*13,0 | E18: 26 | AG18: VV | AH18: 0
A19: 7 | B19: 210100361R00 | C19: Zátka ucpávková K (zaslepení) | D19: kus | E19: 2 | G19: =ROUND(E19*F19,2) -> 0 | I19: =ROUND(E19*H19,2) -> 0 | K19: =ROUND(E19*J19,2) -> 0 | L19: 21 | M19: =G19*(1+L19/100) -> 0 | N19: 0 | O19: =ROUND(E19*N19,2) -> 0 | P19: 0 | Q19: =ROUND(E19*P19,2) -> 0 | S19: RTS 26/ I | T19: RTS 26/ I | U19: 0.0125 | V19: =ROUND(E19*U19,2) -> 0.03 | X19: Práce | Y19: Běžná | AG19: POL1_
A20: 8 | B20: 210800014R00 | C20: Vodič uložený v trubkách CYY 6 mm2 | D20: m | E20: 13 | G20: =ROUND(E20*F20,2) -> 0 | I20: =ROUND(E20*H20,2) -> 0 | K20: =ROUND(E20*J20,2) -> 0 | L20: 21 | M20: =G20*(1+L20/100) -> 0 | N20: 0 | O20: =ROUND(E20*N20,2) -> 0 | P20: 0 | Q20: =ROUND(E20*P20,2) -> 0 | S20: RTS 26/ I | T20: RTS 26/ I | U20: 0.02074 | V20: =ROUND(E20*U20,2) -> 0.27 | X20: Práce | Y20: Běžná | AG20: POL1_
C21: 13 | E21: 13 | AG21: VV | AH21: 0
A22: 9 | B22: 210950201R00 | C22: Příplatek na zatahování kabelů váhy do 0,75 kg | D22: m | E22: 13 | G22: =ROUND(E22*F22,2) -> 0 | I22: =ROUND(E22*H22,2) -> 0 | K22: =ROUND(E22*J22,2) -> 0 | L22: 21 | M22: =G22*(1+L22/100) -> 0 | N22: 0 | O22: =ROUND(E22*N22,2) -> 0 | P22: 0 | Q22: =ROUND(E22*P22,2) -> 0 | S22: RTS 26/ I | T22: RTS 26/ I | U22: 0.02 | V22: =ROUND(E22*U22,2) -> 0.26 | X22: Práce | Y22: Běžná | AG22: POL1_
C23: 13 | E23: 13 | AG23: VV | AH23: 0
A24: 10 | B24: 220060470R00 | C24: Provizorní zaslepení konce HDPE | D24: kus | E24: 4 | G24: =ROUND(E24*F24,2) -> 0 | I24: =ROUND(E24*H24,2) -> 0 | K24: =ROUND(E24*J24,2) -> 0 | L24: 21 | M24: =G24*(1+L24/100) -> 0 | N24: 0 | O24: =ROUND(E24*N24,2) -> 0 | P24: 0 | Q24: =ROUND(E24*P24,2) -> 0 | S24: RTS 26/ I | T24: RTS 26/ I | U24: 0.3 | V24: =ROUND(E24*U24,2) -> 1.2 | X24: Práce | Y24: Běžná | AG24: POL1_
A25: 11 | B25: 230180014R00 | C25: Montáž trub z plastických hmot PE, PP, 40 x 3,6 | D25: m | E25: 26 | G25: =ROUND(E25*F25,2) -> 0 | I25: =ROUND(E25*H25,2) -> 0 | K25: =ROUND(E25*J25,2) -> 0 | L25: 21 | M25: =G25*(1+L25/100) -> 0 | N25: 0 | O25: =ROUND(E25*N25,2) -> 0 | P25: 0 | Q25: =ROUND(E25*P25,2) -> 0 | S25: RTS 26/ I | T25: RTS 26/ I | U25: 0.089 | V25: =ROUND(E25*U25,2) -> 2.31 | X25: Práce | Y25: Běžná | AG25: POL1_
C26: 2*13,0 | E26: 26 | AG26: VV | AH26: 0
A27: Díl: | B27: M46 | C27: Zemní práce při montážích | G27: =SUMIF(AG28:AG44,"<>NOR",G28:G44) -> 0 | I27: =SUM(I28:I44) -> 0 | K27: =SUM(K28:K44) -> 0 | M27: =SUM(M28:M44) -> 0 | O27: =SUM(O28:O44) -> 1.91 | Q27: =SUM(Q28:Q44) -> 0 | V27: =SUM(V28:V44) -> 26.96 | AG27: DIL
A28: 12 | B28: 120001101R00 | C28: Příplatek za ztížení vykopávky v blízkosti vedení | D28: m3 | E28: 3.64 | G28: =ROUND(E28*F28,2) -> 0 | I28: =ROUND(E28*H28,2) -> 0 | K28: =ROUND(E28*J28,2) -> 0 | L28: 21 | M28: =G28*(1+L28/100) -> 0 | N28: 0 | O28: =ROUND(E28*N28,2) -> 0 | P28: 0 | Q28: =ROUND(E28*P28,2) -> 0 | S28: RTS 26/ I | T28: RTS 26/ I | U28: 1.55 | V28: =ROUND(E28*U28,2) -> 5.64 | X28: Práce | Y28: Běžná | AG28: POL1_
C29: 13,0*0,35*0,8 | E29: 3.64 | AG29: VV | AH29: 0
A30: 13 | B30: 199000002R00 | C30: Poplatek za skládku horniny 1- 4 | D30: m3 | E30: 1.092 | G30: =ROUND(E30*F30,2) -> 0 | I30: =ROUND(E30*H30,2) -> 0 | K30: =ROUND(E30*J30,2) -> 0 | L30: 21 | M30: =G30*(1+L30/100) -> 0 | N30: 0 | O30: =ROUND(E30*N30,2) -> 0 | P30: 0 | Q30: =ROUND(E30*P30,2) -> 0 | S30: RTS 26/ I | T30: RTS 26/ I | U30: 0 | V30: =ROUND(E30*U30,2) -> 0 | X30: Práce | Y30: Běžná | AG30: POL1_
C31: Odkaz na mn. položky pořadí 19 : 0,91000 | E31: 0.91 | AG31: VV | AH31: 5
C32: Koeficient +koef. nakypření: 0,2 | E32: 0.182 | AG32: VV | AH32: 4
A33: 14 | B33: 460010024R00 | C33: Vytýčení kabelové trasy v zastavěném prostoru | D33: km | E33: 0.013 | G33: =ROUND(E33*F33,2) -> 0 | I33: =ROUND(E33*H33,2) -> 0 | K33: =ROUND(E33*J33,2) -> 0 | L33: 21 | M33: =G33*(1+L33/100) -> 0 | N33: 0.03421 | O33: =ROUND(E33*N33,2) -> 0 | P33: 0 | Q33: =ROUND(E33*P33,2) -> 0 | S33: RTS 26/ I | T33: RTS 26/ I | U33: 4.1 | V33: =ROUND(E33*U33,2) -> 0.05 | X33: Práce | Y33: Běžná | AG33: POL1_
C34: 0,013 | E34: 0.013 | AG34: VV | AH34: 0
A35: 15 | B35: 460200164RT2 | C35: Výkop kabelové rýhy 35/80 cm hor.4 ruční výkop rýhy | D35: m | E35: 13 | G35: =ROUND(E35*F35,2) -> 0 | I35: =ROUND(E35*H35,2) -> 0 | K35: =ROUND(E35*J35,2) -> 0 | L35: 21 | M35: =G35*(1+L35/100) -> 0 | N35: 0 | O35: =ROUND(E35*N35,2) -> 0 | P35: 0 | Q35: =ROUND(E35*P35,2) -> 0 | S35: RTS 26/ I | T35: RTS 26/ I | U35: 1.32972 | V35: =ROUND(E35*U35,2) -> 17.29 | X35: Práce | Y35: Běžná | AG35: POL1_
C36: 13,0 | E36: 13 | AG36: VV | AH36: 0
A37: 16 | B37: 460420018RT3 | C37: Zřízení kabelového lože v rýze š.do 35 cm z písku tloušťka vrstvy 20 cm | D37: m | E37: 13 | G37: =ROUND(E37*F37,2) -> 0 | I37: =ROUND(E37*H37,2) -> 0 | K37: =ROUND(E37*J37,2) -> 0 | L37: 21 | M37: =G37*(1+L37/100) -> 0 | N37: 0.147 | O37: =ROUND(E37*N37,2) -> 1.91 | P37: 0 | Q37: =ROUND(E37*P37,2) -> 0 | S37: RTS 26/ I | T37: RTS 26/ I | U37: 0.06 | V37: =ROUND(E37*U37,2) -> 0.78 | X37: Práce | Y37: Běžná | AG37: POL1_
C38: 13 | E38: 13 | AG38: VV | AH38: 0
A39: 17 | B39: 460490012R00 | C39: Fólie výstražná z PVC, šířka 33 cm | D39: m | E39: 13 | G39: =ROUND(E39*F39,2) -> 0 | I39: =ROUND(E39*H39,2) -> 0 | K39: =ROUND(E39*J39,2) -> 0 | L39: 21 | M39: =G39*(1+L39/100) -> 0 | N39: 6e-05 | O39: =ROUND(E39*N39,2) -> 0 | P39: 0 | Q39: =ROUND(E39*P39,2) -> 0 | S39: RTS 26/ I | T39: RTS 26/ I | U39: 0.03 | V39: =ROUND(E39*U39,2) -> 0.39 | X39: Práce | Y39: Běžná | AG39: POL1_
C40: 13 | E40: 13 | AG40: VV | AH40: 0
A41: 18 | B41: 460570144R00 | C41: Zához rýhy 35/60 cm, hornina třídy 4, se zhutněním | D41: m | E41: 13 | G41: =ROUND(E41*F41,2) -> 0 | I41: =ROUND(E41*H41,2) -> 0 | K41: =ROUND(E41*J41,2) -> 0 | L41: 21 | M41: =G41*(1+L41/100) -> 0 | N41: 0 | O41: =ROUND(E41*N41,2) -> 0 | P41: 0 | Q41: =ROUND(E41*P41,2) -> 0 | S41: RTS 26/ I | T41: RTS 26/ I | U41: 0.17 | V41: =ROUND(E41*U41,2) -> 2.21 | X41: Práce | Y41: Běžná | AG41: POL1_
C42: 13 | E42: 13 | AG42: VV | AH42: 0
...

Sheet SO301 01 Pol
A1: Položkový rozpočet | AG1: #TypZaznamu#
A2: S: | B2: 10122023 | C2: OPRAVA KOMUNIKACE K MYSLIVNĚ - SYROVICE | AG2: STA
A3: O: | B3: SO301 | C3: DEŠŤOVÁ KANALIZACE | AC3: STA | AG3: OBJ
A4: R: | B4: 01 | C4: ODVODNĚNÍ KOMUNIKACE K MYSLIVNĚ | AG4: ROZ
A6: P.č. | B6: Číslo položky | C6: Název položky | D6: MJ | E6: Množství | F6: Cena / MJ | G6: Celkem | H6: Dodávka | I6: Dodávka celk. | J6: Montáž | K6: Montáž celk. | L6: DPH | M6: Cena s DPH | N6: Hmotnost / MJ | O6: Hmotnost celk.(t) | P6: Dem. hmotnost / MJ | Q6: Dem. hmotnost celk.(t) | R6: Ceník | S6: Cen. soustava / platnost | T6: Cenová úroveň | U6: Nhod / MJ | V6: Nhod celk. | W6: Dodavatel | X6: Typ položky | Y6: Stav položky
A8: Díl: | B8: 1 | C8: Zemní práce | G8: =SUMIF(AG9:AG53,"<>NOR",G9:G53) -> 0 | I8: =SUM(I9:I53) -> 0 | K8: =SUM(K9:K53) -> 0 | M8: =SUM(M9:M53) -> 0 | O8: =SUM(O9:O53) -> 193.85 | Q8: =SUM(Q9:Q53) -> 0 | V8: =SUM(V9:V53) -> 1534.34 | AG8: DIL
A9: 1 | B9: 131301110R00 | C9: Hloubení nezapaž. jam hor.4 do 50 m3, STROJNĚ | D9: m3 | E9: 8.7465 | G9: =ROUND(E9*F9,2) -> 0 | I9: =ROUND(E9*H9,2) -> 0 | K9: =ROUND(E9*J9,2) -> 0 | L9: 21 | M9: =G9*(1+L9/100) -> 0 | N9: 0 | O9: =ROUND(E9*N9,2) -> 0 | P9: 0 | Q9: =ROUND(E9*P9,2) -> 0 | S9: RTS 26/ I | T9: RTS 26/ I | U9: 0.31 | V9: =ROUND(E9*U9,2) -> 2.71 | X9: Práce | Y9: Běžná | AG9: POL1_
C10: výustní objekt dešť. kanalizace : 0,35*7,14*3,5 | E10: 8.7465 | AG10: VV | AH10: 0
A11: 2 | B11: 131301119R00 | C11: Příplatek za lepivost - hloubení nezap.jam v hor.4 | D11: m3 | E11: 8.7465 | G11: =ROUND(E11*F11,2) -> 0 | I11: =ROUND(E11*H11,2) -> 0 | K11: =ROUND(E11*J11,2) -> 0 | L11: 21 | M11: =G11*(1+L11/100) -> 0 | N11: 0 | O11: =ROUND(E11*N11,2) -> 0 | P11: 0 | Q11: =ROUND(E11*P11,2) -> 0 | S11: RTS 26/ I | T11: RTS 26/ I | U11: 0.1024 | V11: =ROUND(E11*U11,2) -> 0.9 | X11: Práce | Y11: Běžná | AG11: POL1_
C12: Odkaz na mn. položky pořadí 1 : 8,74650 | E12: 8.7465 | AG12: VV | AH12: 5
A13: 3 | B13: 131301201R00 | C13: Hloubení zapažených jam v hor.4 do 100 m3 | D13: m3 | E13: 80.8 | G13: =ROUND(E13*F13,2) -> 0 | I13: =ROUND(E13*H13,2) -> 0 | K13: =ROUND(E13*J13,2) -> 0 | L13: 21 | M13: =G13*(1+L13/100) -> 0 | N13: 0 | O13: =ROUND(E13*N13,2) -> 0 | P13: 0 | Q13: =ROUND(E13*P13,2) -> 0 | S13: RTS 26/ I | T13: RTS 26/ I | U13: 2.97 | V13: =ROUND(E13*U13,2) -> 239.98 | X13: Práce | Y13: Běžná | AG13: POL1_
C14: jámy pro šachty : 2,0*2,0*(1,87+2,45+2,15+2,21+2,16+2,2+2,21+1,65+1,65+1,65) | E14: 80.8 | AG14: VV | AH14: 0
A15: 4 | B15: 131301209R00 | C15: Příplatek za lepivost - hloubení zapaž.jam v hor.4 | D15: m3 | E15: 80.8 | G15: =ROUND(E15*F15,2) -> 0 | I15: =ROUND(E15*H15,2) -> 0 | K15: =ROUND(E15*J15,2) -> 0 | L15: 21 | M15: =G15*(1+L15/100) -> 0 | N15: 0 | O15: =ROUND(E15*N15,2) -> 0 | P15: 0 | Q15: =ROUND(E15*P15,2) -> 0 | S15: RTS 26/ I | T15: RTS 26/ I | U15: 0.154 | V15: =ROUND(E15*U15,2) -> 12.44 | X15: Práce | Y15: Běžná | AG15: POL1_
C16: Odkaz na mn. položky pořadí 3 : 80,80000 | E16: 80.8 | AG16: VV | AH16: 5
A17: 5 | B17: 132301212R00 | C17: Hloubení rýh š.do 200 cm hor.4 do 1000 m3, STROJNĚ | D17: m3 | E17: 414.2574 | G17: =ROUND(E17*F17,2) -> 0 | I17: =ROUND(E17*H17,2) -> 0 | K17: =ROUND(E17*J17,2) -> 0 | L17: 21 | M17: =G17*(1+L17/100) -> 0 | N17: 0 | O17: =ROUND(E17*N17,2) -> 0 | P17: 0 | Q17: =ROUND(E17*P17,2) -> 0 | S17: RTS 26/ I | T17: RTS 26/ I | U17: 0.3 | V17: =ROUND(E17*U17,2) -> 124.28 | X17: Práce | Y17: Běžná | AG17: POL1_
C18: větev V1 : 0,8*(2,15*42,0+2,2*50,95+2,25*19,15+2,2*35,49+2,25*16,025+2,2*12,05) | E18: 308.8974 | AG18: VV | AH18: 0
C19: větev V2 : 0,8*(1,6*54,75+1,5*17,5+2,3*17,5) | E19: 123.28 | AG19: VV | AH19: 0
C20: napojení uličních vpustí : 0,8*2,0*(4,5+2,0+1,0+1,5) | E20: 14.4 | AG20: VV | AH20: 0
C21: odečet v místě jam pro šachty : -0,8*2,0*(1,87+2,45+2,15+2,21+2,16+2,2+2,21+1,65+1,65+1,65) | E21: -32.32 | AG21: VV | AH21: 0
A22: 6 | B22: 132301219R00 | C22: Přípl.za lepivost,hloubení rýh 200cm,hor.4,STROJNĚ | D22: m3 | E22: 414.2574 | G22: =ROUND(E22*F22,2) -> 0 | I22: =ROUND(E22*H22,2) -> 0 | K22: =ROUND(E22*J22,2) -> 0 | L22: 21 | M22: =G22*(1+L22/100) -> 0 | N22: 0 | O22: =ROUND(E22*N22,2) -> 0 | P22: 0 | Q22: =ROUND(E22*P22,2) -> 0 | S22: RTS 26/ I | T22: RTS 26/ I | U22: 0.15 | V22: =ROUND(E22*U22,2) -> 62.14 | X22: Práce | Y22: Běžná | AG22: POL1_
C23: Odkaz na mn. položky pořadí 5 : 414,25740 | E23: 414.2574 | AG23: VV | AH23: 5
A24: 7 | B24: 151101102R00 | C24: Pažení a rozepření stěn rýh - příložné - hl.do 4 m | D24: m2 | E24: 999.6435 | G24: =ROUND(E24*F24,2) -> 0 | I24: =ROUND(E24*H24,2) -> 0 | K24: =ROUND(E24*J24,2) -> 0 | L24: 21 | M24: =G24*(1+L24/100) -> 0 | N24: 0.00086 | O24: =ROUND(E24*N24,2) -> 0.86 | P24: 0 | Q24: =ROUND(E24*P24,2) -> 0 | S24: RTS 26/ I | T24: RTS 26/ I | U24: 0.48 | V24: =ROUND(E24*U24,2) -> 479.83 | X24: Práce | Y24: Běžná | AG24: POL1_
C25: větev V1 : 2*(2,15*42,0+2,2*50,95+2,25*19,15+2,2*35,49+2,25*16,025+2,2*12,05) | E25: 772.2435 | AG25: VV | AH25: 0
C26: větev V2 : 2*(1,6*54,75+1,5*17,5+2,3*17,5) | E26: 308.2 | AG26: VV | AH26: 0
C27: odečet v místě jam pro šachty : -2*2,0*(1,87+2,45+2,15+2,21+2,16+2,2+2,21+1,65+1,65+1,65) | E27: -80.8 | AG27: VV | AH27: 0
A28: 8 | B28: 151101112R00 | C28: Odstranění pažení stěn rýh - příložné - hl. do 4 m | D28: m2 | E28: 999.6435 | G28: =ROUND(E28*F28,2) -> 0 | I28: =ROUND(E28*H28,2) -> 0 | K28: =ROUND(E28*J28,2) -> 0 | L28: 21 | M28: =G28*(1+L28/100) -> 0 | N28: 0 | O28: =ROUND(E28*N28,2) -> 0 | P28: 0 | Q28: =ROUND(E28*P28,2) -> 0 | S28: RTS 26/ I | T28: RTS 26/ I | U28: 0.33 | V28: =ROUND(E28*U28,2) -> 329.88 | X28: Práce | Y28: Běžná | AG28: POL1_
C29: Odkaz na mn. položky pořadí 7 : 999,64350 | E29: 999.6435 | AG29: VV | AH29: 5
A30: 9 | B30: 151101201R00 | C30: Pažení stěn výkopu - příložné - hloubky do 4 m | D30: m2 | E30: 161.6 | G30: =ROUND(E30*F30,2) -> 0 | I30: =ROUND(E30*H30,2) -> 0 | K30: =ROUND(E30*J30,2) -> 0 | L30: 21 | M30: =G30*(1+L30/100) -> 0 | N30: 0.0007 | O30: =ROUND(E30*N30,2) -> 0.11 | P30: 0 | Q30: =ROUND(E30*P30,2) -> 0 | S30: RTS 26/ I | T30: RTS 26/ I | U30: 0.16 | V30: =ROUND(E30*U30,2) -> 25.86 | X30: Práce | Y30: Běžná | AG30: POL1_
C31: jámy pro šachty : 4*2,0*(1,87+2,45+2,15+2,21+2,16+2,2+2,21+1,65+1,65+1,65) | E31: 161.6 | AG31: VV | AH31: 0
A32: 10 | B32: 151101211R00 | C32: Odstranění pažení stěn - příložné - hl. do 4 m | D32: m2 | E32: 161.6 | G32: =ROUND(E32*F32,2) -> 0 | I32: =ROUND(E32*H32,2) -> 0 | K32: =ROUND(E32*J32,2) -> 0 | L32: 21 | M32: =G32*(1+L32/100) -> 0 | N32: 0 | O32: =ROUND(E32*N32,2) -> 0 | P32: 0 | Q32: =ROUND(E32*P32,2) -> 0 | S32: RTS 26/ I | T32: RTS 26/ I | U32: 0.1 | V32: =ROUND(E32*U32,2) -> 16.16 | X32: Práce | Y32: Běžná | AG32: POL1_
C33: Odkaz na mn. položky pořadí 9 : 161,60000 | E33: 161.6 | AG33: VV | AH33: 5
A34: 11 | B34: 162601102R00 | C34: Vodorovné přemístění výkopku z hor.1-4 do 5000 m | D34: m3 | E34: 279.49588 | G34: =ROUND(E34*F34,2) -> 0 | I34: =ROUND(E34*H34,2) -> 0 | K34: =ROUND(E34*J34,2) -> 0 | L34: 21 | M34: =G34*(1+L34/100) -> 0 | N34: 0 | O34: =ROUND(E34*N34,2) -> 0 | P34: 0 | Q34: =ROUND(E34*P34,2) -> 0 | S34: RTS 26/ I | T34: RTS 26/ I | U34: 0.01 | V34: =ROUND(E34*U34,2) -> 2.79 | X34: Práce | Y34: Běžná | AG34: POL1_
C35: Odkaz na mn. položky pořadí 1 : 8,74650 | E35: 8.7465 | AG35: VV | AH35: 5
C36: Odkaz na mn. položky pořadí 3 : 80,80000 | E36: 80.8 | AG36: VV | AH36: 5
C37: Odkaz na mn. položky pořadí 5 : 414,25740 | E37: 414.2574 | AG37: VV | AH37: 5
C38: Odkaz na mn. položky pořadí 13 : 270,89067*-1 | E38: -270.89067 | AG38: VV | AH38: 5
C39: Koeficient +koef. nakypření: 0,2 | E39: 46.58265 | AG39: VV | AH39: 4
A40: 12 | B40: 171201201R00 | C40: Uložení sypaniny na skl.-sypanina na výšku přes 2m | D40: m3 | E40: 279.49588 | G40: =ROUND(E40*F40,2) -> 0 | I40: =ROUND(E40*H40,2) -> 0 | K40: =ROUND(E40*J40,2) -> 0 | L40: 21 | M40: =G40*(1+L40/100) -> 0 | N40: 0 | O40: =ROUND(E40*N40,2) -> 0 | P40: 0 | Q40: =ROUND(E40*P40,2) -> 0 | S40: RTS 26/ I | T40: RTS 26/ I | U40: 0.01 | V40: =ROUND(E40*U40,2) -> 2.79 | X40: Práce | Y40: Běžná | AG40: POL1_
C41: Odkaz na mn. položky pořadí 11 : 279,49588 | E41: 279.49588 | AG41: VV | AH41: 5
A42: 13 | B42: 174101101R00 | C42: Zásyp jam, rýh, šachet se zhutněním | D42: m3 | E42: 270.89067 | G42: =ROUND(E42*F42,2) -> 0 | I42: =ROUND(E42*H42,2) -> 0 | K42: =ROUND(E42*J42,2) -> 0 | L42: 21 | M42: =G42*(1+L42/100) -> 0 | N42: 0 | O42: =ROUND(E42*N42,2) -> 0 | P42: 0 | Q42: =ROUND(E42*P42,2) -> 0 | S42: RTS 26/ I | T42: RTS 26/ I | U42: 0.2 | V42: =ROUND(E42*U42,2) -> 54.18 | X42: Práce | Y42: Běžná | AG42: POL1_
...

Sheet SO401 01 Pol
A1: Položkový rozpočet | AG1: #TypZaznamu#
A2: S: | B2: 10122023 | C2: OPRAVA KOMUNIKACE K MYSLIVNĚ - SYROVICE | AG2: STA
A3: O: | B3: SO401 | C3: PRODLOUŽENÍ VEŘEJNÉHO OSVĚTLENÍ | AC3: STA | AG3: OBJ
A4: R: | B4: 01 | C4: VEŘEJNÉ OSVĚTLENÍ - K MYSLIVNĚ | AG4: ROZ
A6: P.č. | B6: Číslo položky | C6: Název položky | D6: MJ | E6: Množství | F6: Cena / MJ | G6: Celkem | H6: Dodávka | I6: Dodávka celk. | J6: Montáž | K6: Montáž celk. | L6: DPH | M6: Cena s DPH | N6: Hmotnost / MJ | O6: Hmotnost celk.(t) | P6: Dem. hmotnost / MJ | Q6: Dem. hmotnost celk.(t) | R6: Ceník | S6: Cen. soustava / platnost | T6: Cenová úroveň | U6: Nhod / MJ | V6: Nhod celk. | W6: Dodavatel | X6: Typ položky | Y6: Stav položky
A8: Díl: | B8: HZS | C8: HODINOVÁ ZÚČTOVACÍ SAZBA | G8: =SUMIF(AG9:AG12,"<>NOR",G9:G12) -> 0 | I8: =SUM(I9:I12) -> 0 | K8: =SUM(K9:K12) -> 0 | M8: =SUM(M9:M12) -> 0 | O8: =SUM(O9:O12) -> 0 | Q8: =SUM(Q9:Q12) -> 0 | V8: =SUM(V9:V12) -> 0 | AG8: DIL
A9: 1 | B9: 1 | C9: Koordinace prací | D9: hod | E9: 15 | G9: =ROUND(E9*F9,2) -> 0 | I9: =ROUND(E9*H9,2) -> 0 | K9: =ROUND(E9*J9,2) -> 0 | L9: 21 | M9: =G9*(1+L9/100) -> 0 | N9: 0 | O9: =ROUND(E9*N9,2) -> 0 | P9: 0 | Q9: =ROUND(E9*P9,2) -> 0 | S9: Vlastní | T9: Indiv | U9: 0 | V9: =ROUND(E9*U9,2) -> 0 | X9: Práce | Y9: Běžná | AG9: POL1_
A10: 2 | B10: 2 | C10: Montážní plošina | D10: hod | E10: 15 | G10: =ROUND(E10*F10,2) -> 0 | I10: =ROUND(E10*H10,2) -> 0 | K10: =ROUND(E10*J10,2) -> 0 | L10: 21 | M10: =G10*(1+L10/100) -> 0 | N10: 0 | O10: =ROUND(E10*N10,2) -> 0 | P10: 0 | Q10: =ROUND(E10*P10,2) -> 0 | S10: Vlastní | T10: Indiv | U10: 0 | V10: =ROUND(E10*U10,2) -> 0 | X10: Práce | Y10: Běžná | AG10: POL1_
A11: 3 | B11: 3 | C11: Neměřitelné práce | D11: hod | E11: 10 | G11: =ROUND(E11*F11,2) -> 0 | I11: =ROUND(E11*H11,2) -> 0 | K11: =ROUND(E11*J11,2) -> 0 | L11: 21 | M11: =G11*(1+L11/100) -> 0 | N11: 0 | O11: =ROUND(E11*N11,2) -> 0 | P11: 0 | Q11: =ROUND(E11*P11,2) -> 0 | S11: Vlastní | T11: Indiv | U11: 0 | V11: =ROUND(E11*U11,2) -> 0 | X11: Práce | Y11: Běžná | AG11: POL1_
A12: 4 | B12: 4 | C12: Zaregulování a nastavení svítidel - sklon, směřování, požadovaný světlený tok | D12: hod | E12: 8 | G12: =ROUND(E12*F12,2) -> 0 | I12: =ROUND(E12*H12,2) -> 0 | K12: =ROUND(E12*J12,2) -> 0 | L12: 21 | M12: =G12*(1+L12/100) -> 0 | N12: 0 | O12: =ROUND(E12*N12,2) -> 0 | P12: 0 | Q12: =ROUND(E12*P12,2) -> 0 | S12: Vlastní | T12: Indiv | U12: 0 | V12: =ROUND(E12*U12,2) -> 0 | X12: Práce | Y12: Běžná | AG12: POL1_
A13: Díl: | B13: M11 | C13: Materiály | G13: =SUMIF(AG14:AG47,"<>NOR",G14:G47) -> 0 | I13: =SUM(I14:I47) -> 0 | K13: =SUM(K14:K47) -> 0 | M13: =SUM(M14:M47) -> 0 | O13: =SUM(O14:O47) -> 1.14 | Q13: =SUM(Q14:Q47) -> 0 | V13: =SUM(V14:V47) -> 0 | AG13: DIL
A14: 5 | B14: 1008379 | C14: Led svítidlo pouličním led svítidlem 18W teplotu chromatičnosti 2700K | D14: ks | E14: 11 | G14: =ROUND(E14*F14,2) -> 0 | I14: =ROUND(E14*H14,2) -> 0 | K14: =ROUND(E14*J14,2) -> 0 | L14: 21 | M14: =G14*(1+L14/100) -> 0 | N14: 0 | O14: =ROUND(E14*N14,2) -> 0 | P14: 0 | Q14: =ROUND(E14*P14,2) -> 0 | S14: Vlastní | T14: Indiv | U14: 0 | V14: =ROUND(E14*U14,2) -> 0 | X14: R-položka | Y14: Běžná | AG14: POL12_0
C15: 11 | E15: 11 | AG15: VV | AH15: 0
A16: 6 | B16: 1000535 | C16: Napojení na stávající svítidlo - materiál | D16: kpl | E16: 1 | G16: =ROUND(E16*F16,2) -> 0 | I16: =ROUND(E16*H16,2) -> 0 | K16: =ROUND(E16*J16,2) -> 0 | L16: 21 | M16: =G16*(1+L16/100) -> 0 | N16: 0 | O16: =ROUND(E16*N16,2) -> 0 | P16: 0 | Q16: =ROUND(E16*P16,2) -> 0 | S16: Vlastní | T16: Indiv | U16: 0 | V16: =ROUND(E16*U16,2) -> 0 | X16: Specifikace | Y16: Běžná | AG16: POL3_
A17: 7 | B17: 15615235R | C17: Drát tažený pozinkovaný 11343 D 10,00 mm | D17: kg | E17: 130.2 | G17: =ROUND(E17*F17,2) -> 0 | I17: =ROUND(E17*H17,2) -> 0 | K17: =ROUND(E17*J17,2) -> 0 | L17: 21 | M17: =G17*(1+L17/100) -> 0 | N17: 0.001 | O17: =ROUND(E17*N17,2) -> 0.13 | P17: 0 | Q17: =ROUND(E17*P17,2) -> 0 | R17: SPCM | S17: RTS 26/ I | T17: RTS 26/ I | U17: 0 | V17: =ROUND(E17*U17,2) -> 0 | X17: Specifikace | Y17: Běžná | AG17: POL3_0
C18: 200,0*0,62 | E18: 124 | AG18: VV | AH18: 0
C19: Koeficient +5% ztratné: 0,05 | E19: 6.2 | AG19: VV | AH19: 4
A20: 8 | B20: 15615299R | C20: Drát tažený pozinkovaný 11343 D 10,00 mm PVC izolace | D20: kg | E20: 8.02725 | G20: =ROUND(E20*F20,2) -> 0 | I20: =ROUND(E20*H20,2) -> 0 | K20: =ROUND(E20*J20,2) -> 0 | L20: 21 | M20: =G20*(1+L20/100) -> 0 | N20: 0.001 | O20: =ROUND(E20*N20,2) -> 0.01 | P20: 0 | Q20: =ROUND(E20*P20,2) -> 0 | S20: Vlastní | T20: Indiv | U20: 0 | V20: =ROUND(E20*U20,2) -> 0 | X20: Specifikace | Y20: Běžná | AG20: POL3_0
C21: 11*1,0*0,695 | E21: 7.645 | AG21: VV | AH21: 0
C22: Koeficient +5% ztratné: 0,05 | E22: 0.38225 | AG22: VV | AH22: 4
A23: 9 | B23: 31672999.AR | C23: Stožár KL 5-133/60 ŽZ | D23: kus | E23: 11 | G23: =ROUND(E23*F23,2) -> 0 | I23: =ROUND(E23*H23,2) -> 0 | K23: =ROUND(E23*J23,2) -> 0 | L23: 21 | M23: =G23*(1+L23/100) -> 0 | N23: 0.053 | O23: =ROUND(E23*N23,2) -> 0.58 | P23: 0 | Q23: =ROUND(E23*P23,2) -> 0 | S23: Vlastní | T23: Indiv | U23: 0 | V23: =ROUND(E23*U23,2) -> 0 | X23: Specifikace | Y23: Běžná | AG23: POL3_
C24: 11 | E24: 11 | AG24: VV | AH24: 0
A25: 10 | B25: 31677999R | C25: Výložník SK 1- 1000 žárový zinek | D25: kus | E25: 11 | G25: =ROUND(E25*F25,2) -> 0 | I25: =ROUND(E25*H25,2) -> 0 | K25: =ROUND(E25*J25,2) -> 0 | L25: 21 | M25: =G25*(1+L25/100) -> 0 | N25: 0.012 | O25: =ROUND(E25*N25,2) -> 0.13 | P25: 0 | Q25: =ROUND(E25*P25,2) -> 0 | S25: Vlastní | T25: Indiv | U25: 0 | V25: =ROUND(E25*U25,2) -> 0 | X25: Specifikace | Y25: Běžná | AG25: POL3_
C26: 11 | E26: 11 | AG26: VV | AH26: 0
A27: 11 | B27: 31678615.AR | C27: Svorkovnice stožárová | D27: kus | E27: 11 | G27: =ROUND(E27*F27,2) -> 0 | I27: =ROUND(E27*H27,2) -> 0 | K27: =ROUND(E27*J27,2) -> 0 | L27: 21 | M27: =G27*(1+L27/100) -> 0 | N27: 0.00025 | O27: =ROUND(E27*N27,2) -> 0 | P27: 0 | Q27: =ROUND(E27*P27,2) -> 0 | R27: SPCM | S27: RTS 26/ I | T27: RTS 26/ I | U27: 0 | V27: =ROUND(E27*U27,2) -> 0 | X27: Specifikace | Y27: Běžná | AG27: POL3_
C28: 11 | E28: 11 | AG28: VV | AH28: 0
A29: 12 | B29: 34111030R | C29: Kabel silový s Cu jádrem 750 V CYKY 3 x 1,5 mm2 | D29: m | E29: 69.3 | G29: =ROUND(E29*F29,2) -> 0 | I29: =ROUND(E29*H29,2) -> 0 | K29: =ROUND(E29*J29,2) -> 0 | L29: 21 | M29: =G29*(1+L29/100) -> 0 | N29: 0.00015 | O29: =ROUND(E29*N29,2) -> 0.01 | P29: 0 | Q29: =ROUND(E29*P29,2) -> 0 | R29: SPCM | S29: RTS 26/ I | T29: RTS 26/ I | U29: 0 | V29: =ROUND(E29*U29,2) -> 0 | X29: Specifikace | Y29: Běžná | AG29: POL3_
C30: Odkaz na mn. položky pořadí 32 : 66,00000 | E30: 66 | AG30: VV | AH30: 5
C31: Koeficient +5% ztratné: 0,05 | E31: 3.3 | AG31: VV | AH31: 4
A32: 13 | B32: 34111080R | C32: Kabel silový s Cu jádrem 750 V CYKY 4 x16 mm2 | D32: m | E32: 232.05 | G32: =ROUND(E32*F32,2) -> 0 | I32: =ROUND(E32*H32,2) -> 0 | K32: =ROUND(E32*J32,2) -> 0 | L32: 21 | M32: =G32*(1+L32/100) -> 0 | N32: 0.00089 | O32: =ROUND(E32*N32,2) -> 0.21 | P32: 0 | Q32: =ROUND(E32*P32,2) -> 0 | R32: SPCM | S32: RTS 26/ I | T32: RTS 26/ I | U32: 0 | V32: =ROUND(E32*U32,2) -> 0 | X32: Specifikace | Y32: Běžná | AG32: POL3_
C33: Odkaz na mn. položky pořadí 31 : 221,00000 | E33: 221 | AG33: VV | AH33: 5
C34: Koeficient +5% ztratné: 0,05 | E34: 11.05 | AG34: VV | AH34: 4
A35: 14 | B35: 3457114702R | C35: Trubka kabelová chránička KOPOFLEX KF 09063 | D35: m | E35: 232.05 | G35: =ROUND(E35*F35,2) -> 0 | I35: =ROUND(E35*H35,2) -> 0 | K35: =ROUND(E35*J35,2) -> 0 | L35: 21 | M35: =G35*(1+L35/100) -> 0 | N35: 0.00031 | O35: =ROUND(E35*N35,2) -> 0.07 | P35: 0 | Q35: =ROUND(E35*P35,2) -> 0 | R35: SPCM | S35: RTS 26/ I | T35: RTS 26/ I | U35: 0 | V35: =ROUND(E35*U35,2) -> 0 | X35: Specifikace | Y35: Běžná | AG35: POL3_
C36: Odkaz na mn. položky pořadí 21 : 221,00000 | E36: 221 | AG36: VV | AH36: 5
C37: Koeficient +5% ztratné: 0,05 | E37: 11.05 | AG37: VV | AH37: 4
A38: 15 | B38: 3457114705R | C38: Trubka kabelová chránička KOPOFLEX KF 09110 | D38: m | E38: 5.25 | G38: =ROUND(E38*F38,2) -> 0 | I38: =ROUND(E38*H38,2) -> 0 | K38: =ROUND(E38*J38,2) -> 0 | L38: 21 | M38: =G38*(1+L38/100) -> 0 | N38: 0.00069 | O38: =ROUND(E38*N38,2) -> 0 | P38: 0 | Q38: =ROUND(E38*P38,2) -> 0 | R38: SPCM | S38: RTS 26/ I | T38: RTS 26/ I | U38: 0 | V38: =ROUND(E38*U38,2) -> 0 | X38: Specifikace | Y38: Běžná | AG38: POL3_
C39: Odkaz na mn. položky pořadí 22 : 5,00000 | E39: 5 | AG39: VV | AH39: 5
C40: Koeficient +5% ztratné: 0,05 | E40: 0.25 | AG40: VV | AH40: 4
A41: 16 | B41: 35441996R | C41: Svorka SR 3a | D41: kus | E41: 11 | G41: =ROUND(E41*F41,2) -> 0 | I41: =ROUND(E41*H41,2) -> 0 | K41: =ROUND(E41*J41,2) -> 0 | L41: 21 | M41: =G41*(1+L41/100) -> 0 | N41: 0.0003 | O41: =ROUND(E41*N41,2) -> 0 | P41: 0 | Q41: =ROUND(E41*P41,2) -> 0 | R41: SPCM | S41: RTS 26/ I | T41: RTS 26/ I | U41: 0 | V41: =ROUND(E41*U41,2) -> 0 | X41: Specifikace | Y41: Běžná | AG41: POL3_0
C42: 11 | E42: 11 | AG42: VV | AH42: 0
...
