Workbook
Name CelkemDPHVypocet: Stavba!$H$47
Name CenaCelkem: Stavba!$G$29
Name CenaCelkemBezDPH: Stavba!$G$28
Name CenaCelkemVypocet: Stavba!$I$47
Name cisloobjektu: Stavba!$D$3
Name CisloRozpoctu: '[1]Krycí list'!$C$2
Name CisloStavby: Stavba!$D$2
Name cislostavby: '[1]Krycí list'!$A$7
Name CisloStavebnihoRozpoctu: Stavba!$D$4
Name dadresa: Stavba!$D$12:$G$12
Name DIČ: Stavba!$I$12
Name dmisto: Stavba!$E$13:$G$13
Name DPHSni: Stavba!$G$24
Name DPHZakl: Stavba!$G$26
Name dpsc: Stavba!$D$13
Name IČO: Stavba!$I$11
Name Mena: Stavba!$J$29
Name MistoStavby: Stavba!$D$4
Name nazevobjektu: Stavba!$E$3
Name NazevRozpoctu: '[1]Krycí list'!$D$2
Name NazevStavby: Stavba!$E$2
Name nazevstavby: '[1]Krycí list'!$C$7
Name NazevStavebnihoRozpoctu: Stavba!$E$4
Name oadresa: Stavba!$D$6
Name Objednatel: Stavba!$D$5
Name Objekt: Stavba!$B$38
Name odic: Stavba!$I$6
Name oico: Stavba!$I$5
Name omisto: Stavba!$E$7
Name onazev: Stavba!$D$6
Name opsc: Stavba!$D$7
Name padresa: Stavba!$D$9
Name pdic: Stavba!$I$9
Name pico: Stavba!$I$8
Name pmisto: Stavba!$E$10
Name PocetMJ: #REF!
Name PoptavkaID: Stavba!$A$1
Name pPSC: Stavba!$D$10
Name Projektant: Stavba!$D$8
Name SazbaDPH1: Stavba!$E$23
Name SazbaDPH1: '[1]Krycí list'!$C$30
Name SazbaDPH2: Stavba!$E$25
Name SazbaDPH2: '[1]Krycí list'!$C$32
Name SloupecCC: #REF!
Name SloupecCisloPol: #REF!
Name SloupecJC: #REF!
Name SloupecMJ: #REF!
Name SloupecMnozstvi: #REF!
Name SloupecNazPol: #REF!
Name SloupecPC: #REF!
Name Vypracoval: Stavba!$D$14
Name ZakladDPHSni: Stavba!$G$23
Name ZakladDPHSniVypocet: Stavba!$F$47
Name ZakladDPHZakl: Stavba!$G$25
Name ZakladDPHZaklVypocet: Stavba!$G$47
Name ZaObjednatele: Stavba!$G$34
Name Zaokrouhleni: Stavba!$G$27
Name ZaZhotovitele: Stavba!$D$34
Name Zhotovitel: Stavba!$D$11:$G$11

Sheet Pokyny pro vyplnění
A1: Pokyny pro vyplnění
A2: Ve všech listech tohoto souboru můžete měnit pouze buňky s modrým pozadím. Jedná se o tyto údaje : - údaje o firmě - jednotkové ceny položek zadané na maximálně dvě desetinná místa

Sheet Stavba
A1: #RTSROZP# | B1: Položkový rozpočet stavby
B2: Stavba: | D2: 10122023 | E2: OPRAVA KOMUNIKACE K MYSLIVNĚ - SYROVICE
B5: Objednatel: | H5: IČO:
H6: DIČ:
B8: Projektant: | H8: IČO:
H9: DIČ:
B11: Zhotovitel: | H11: IČO:
H12: DIČ:
B14: Vypracoval:
B15: Rozpis ceny | I15: Celkem
A16: HSV | B16: HSV | I16: =SUMIF(F62:F79,A16,I62:I79)+SUMIF(F62:F79,"PSU",I62:I79) -> 0
A17: PSV | B17: PSV | I17: =SUMIF(F62:F79,A17,I62:I79) -> 0
A18: MON | B18: MON | I18: =SUMIF(F62:F79,A18,I62:I79) -> 0
A19: VN | B19: Vedlejší náklady | I19: =SUMIF(F62:F79,A19,I62:I79) -> 0
A20: ON | B20: Ostatní náklady | I20: =SUMIF(F62:F79,A20,I62:I79) -> 0
B21: Celkem | I21: =SUM(I16:J20) -> 0
B22: Rekapitulace daní
A23: =ZakladDPHSni*SazbaDPH1/100 -> 0 | B23: Základ pro sníženou DPH | E23: 15 | F23: % | G23: =ZakladDPHSniVypocet -> 0 | J23: =Mena -> CZK
A24: =(A23-INT(A23))*100 -> 0 | B24: Snížená DPH | E24: =SazbaDPH1 -> 15 | F24: % | G24: =A23 -> 0 | J24: =Mena -> CZK
A25: =ZakladDPHZakl*SazbaDPH2/100 -> 0 | B25: Základ pro základní DPH | E25: 21 | F25: % | G25: =ZakladDPHZaklVypocet -> 0 | J25: =Mena -> CZK
A26: =(A25-INT(A25))*100 -> 0 | B26: Základní DPH | E26: =SazbaDPH2 -> 21 | F26: % | G26: =A25 -> 0 | J26: =Mena -> CZK
A27: =ZakladDPHSni+DPHSni+ZakladDPHZakl+DPHZakl -> 0 | B27: Zaokrouhlení | G27: =CenaCelkem-(ZakladDPHSni+DPHSni+ZakladDPHZakl+DPHZakl) -> 0 | J27: =Mena -> CZK
B28: Cena celkem bez DPH | G28: =ZakladDPHSniVypocet+ZakladDPHZaklVypocet -> 0 | J28: =Mena -> CZK
A29: =(A27-INT(A27))*100 -> 0 | B29: Cena celkem s DPH | G29: =A27 -> 0 | J29: CZK
C32: v | F32: dne
D35: Za zhotovitele | H35: Za objednatele
B37: Rekapitulace dílčích částí
A38: #CASTI>> | B38: Číslo | C38: Název | F38: =B23 -> Základ pro sníženou DPH | G38: =B25 -> Základ pro základní DPH | H38: DPH celkem | I38: Cena celkem | J38: %
A39: 1 | B39: Stavba | F39: ='SO101 01.1 Pol'!AE147+'SO101 02 Pol'!AE55+'SO301 01 Pol'!AE151+'SO401 01 Pol'!AE120 -> 0 | G39: ='SO101 01.1 Pol'!AF147+'SO101 02 Pol'!AF55+'SO301 01 Pol'!AF151+'SO401 01 Pol'!AF120 -> 0 | H39: =(F39*SazbaDPH1/100)+(G39*SazbaDPH2/100) -> 0 | I39: =F39+G39+H39 -> 0 | J39: =IF(CenaCelkemVypocet=0,"",I39/CenaCelkemVypocet*100)
A40: 2 | B40: SO101 | C40: OPRAVA KOMUNIKACE VČ. CHODNÍKŮ, SJEZDŮ A PARKOVACÍCH PLOCH | F40: ='SO101 01.1 Pol'!AE147+'SO101 02 Pol'!AE55 -> 0 | G40: ='SO101 01.1 Pol'!AF147+'SO101 02 Pol'!AF55 -> 0 | H40: =(F40*SazbaDPH1/100)+(G40*SazbaDPH2/100) -> 0 | I40: =F40+G40+H40 -> 0 | J40: =IF(CenaCelkemVypocet=0,"",I40/CenaCelkemVypocet*100)
A41: 3 | B41: 01.1 | C41: STAVEBNÍ ČÁST | F41: ='SO101 01.1 Pol'!AE147 -> 0 | G41: ='SO101 01.1 Pol'!AF147 -> 0 | H41: =(F41*SazbaDPH1/100)+(G41*SazbaDPH2/100) -> 0 | I41: =F41+G41+H41 -> 0 | J41: =IF(CenaCelkemVypocet=0,"",I41/CenaCelkemVypocet*100)
A42: 3 | B42: 02 | C42: OCHRANA STÁVAJÍCÍHO SDĚLOVACÍHO VEDENÍ NET4GAS | F42: ='SO101 02 Pol'!AE55 -> 0 | G42: ='SO101 02 Pol'!AF55 -> 0 | H42: =(F42*SazbaDPH1/100)+(G42*SazbaDPH2/100) -> 0 | I42: =F42+G42+H42 -> 0 | J42: =IF(CenaCelkemVypocet=0,"",I42/CenaCelkemVypocet*100)
A43: 2 | B43: SO301 | C43: DEŠŤOVÁ KANALIZACE | F43: ='SO301 01 Pol'!AE151 -> 0 | G43: ='SO301 01 Pol'!AF151 -> 0 | H43: =(F43*SazbaDPH1/100)+(G43*SazbaDPH2/100) -> 0 | I43: =F43+G43+H43 -> 0 | J43: =IF(CenaCelkemVypocet=0,"",I43/CenaCelkemVypocet*100)
A44: 3 | B44: 01 | C44: ODVODNĚNÍ KOMUNIKACE K MYSLIVNĚ | F44: ='SO301 01 Pol'!AE151 -> 0 | G44: ='SO301 01 Pol'!AF151 -> 0 | H44: =(F44*SazbaDPH1/100)+(G44*SazbaDPH2/100) -> 0 | I44: =F44+G44+H44 -> 0 | J44: =IF(CenaCelkemVypocet=0,"",I44/CenaCelkemVypocet*100)
A45: 2 | B45: SO401 | C45: PRODLOUŽENÍ VEŘEJNÉHO OSVĚTLENÍ | F45: ='SO401 01 Pol'!AE120 -> 0 | G45: ='SO401 01 Pol'!AF120 -> 0 | H45: =(F45*SazbaDPH1/100)+(G45*SazbaDPH2/100) -> 0 | I45: =F45+G45+H45 -> 0 | J45: =IF(CenaCelkemVypocet=0,"",I45/CenaCelkemVypocet*100)
A46: 3 | B46: 01 | C46: VEŘEJNÉ OSVĚTLENÍ - K MYSLIVNĚ | F46: ='SO401 01 Pol'!AE120 -> 0 | G46: ='SO401 01 Pol'!AF120 -> 0 | H46: =(F46*SazbaDPH1/100)+(G46*SazbaDPH2/100) -> 0 | I46: =F46+G46+H46 -> 0 | J46: =IF(CenaCelkemVypocet=0,"",I46/CenaCelkemVypocet*100)
B47: Celkem za stavbu | F47: =SUMIF(A39:A46,"=1",F39:F46) -> 0 | G47: =SUMIF(A39:A46,"=1",G39:G46) -> 0 | H47: =SUMIF(A39:A46,"=1",H39:H46) -> 0 | I47: =SUMIF(A39:A46,"=1",I39:I46) -> 0 | J47: =SUMIF(A39:A46,"=1",J39:J46) -> 0
A49: #POPS | B49: Popis stavby: 10122023 - OPRAVA KOMUNIKACE K MYSLIVNĚ - SYROVICE
A50: #POPO | B50: Popis objektu: SO101 - OPRAVA KOMUNIKACE VČ. CHODNÍKŮ, SJEZDŮ A PARKOVACÍCH PLOCH
A51: #POPR | B51: Popis rozpočtu: 01.1 - STAVEBNÍ ČÁST
A52: #POPR | B52: Popis rozpočtu: 02 - OCHRANA STÁVAJÍCÍHO SDĚLOVACÍHO VEDENÍ NET4GAS
A53: #POPO | B53: Popis objektu: SO301 - DEŠŤOVÁ KANALIZACE
A54: #POPR | B54: Popis rozpočtu: 01 - ODVODNĚNÍ KOMUNIKACE K MYSLIVNĚ
A55: #POPO | B55: Popis objektu: SO401 - PRODLOUŽENÍ VEŘEJNÉHO OSVĚTLENÍ
A56: #POPR | B56: Popis rozpočtu: 01 - VEŘEJNÉ OSVĚTLENÍ - K MYSLIVNĚ
B59: Rekapitulace dílů
B61: Číslo | C61: Název | F61: Typ dílu | I61: Celkem | J61: %
B62: 1 | C62: Zemní práce | F62: HSV | I62: ='SO101 01.1 Pol'!G8+'SO301 01 Pol'!G8 -> 0 | J62: =IF(I80=0,"",I62/I80*100)
B63: 2 | C63: Základy a zvláštní zakládání | F63: HSV | I63: ='SO101 01.1 Pol'!G38 -> 0 | J63: =IF(I80=0,"",I63/I80*100)
B64: 4 | C64: Vodorovné konstrukce | F64: HSV | I64: ='SO301 01 Pol'!G54 -> 0 | J64: =IF(I80=0,"",I64/I80*100)
B65: 5 | C65: Komunikace | F65: HSV | I65: ='SO101 01.1 Pol'!G43+'SO301 01 Pol'!G61 -> 0 | J65: =IF(I80=0,"",I65/I80*100)
B66: 8 | C66: Trubní vedení | F66: HSV | I66: ='SO301 01 Pol'!G85 -> 0 | J66: =IF(I80=0,"",I66/I80*100)
B67: 91 | C67: Doplňující práce na komunikaci | F67: HSV | I67: ='SO101 01.1 Pol'!G76 -> 0 | J67: =IF(I80=0,"",I67/I80*100)
B68: 93 | C68: Dokončovací práce inženýrských staveb | F68: HSV | I68: ='SO301 01 Pol'!G123 -> 0 | J68: =IF(I80=0,"",I68/I80*100)
B69: 96 | C69: Bourání konstrukcí | F69: HSV | I69: ='SO101 01.1 Pol'!G103 -> 0 | J69: =IF(I80=0,"",I69/I80*100)
B70: 99 | C70: Staveništní přesun hmot | F70: HSV | I70: ='SO101 01.1 Pol'!G107+'SO301 01 Pol'!G125 -> 0 | J70: =IF(I80=0,"",I70/I80*100)
B71: HZS | C71: HODINOVÁ ZÚČTOVACÍ SAZBA | F71: HSV | I71: ='SO401 01 Pol'!G8 -> 0 | J71: =IF(I80=0,"",I71/I80*100)
B72: M11 | C72: Materiály | F72: HSV | I72: ='SO101 02 Pol'!G8+'SO401 01 Pol'!G13 -> 0 | J72: =IF(I80=0,"",I72/I80*100)
B73: R9 | C73: Výchozí revize elektro | F73: HSV | I73: ='SO401 01 Pol'!G48 -> 0 | J73: =IF(I80=0,"",I73/I80*100)
B74: 711 | C74: Izolace proti vodě | F74: PSV | I74: ='SO101 01.1 Pol'!G109 -> 0 | J74: =IF(I80=0,"",I74/I80*100)
B75: M21 | C75: Elektromontáže | F75: MON | I75: ='SO101 02 Pol'!G16+'SO401 01 Pol'!G50 -> 0 | J75: =IF(I80=0,"",I75/I80*100)
B76: M46 | C76: Zemní práce při montážích | F76: MON | I76: ='SO101 02 Pol'!G27+'SO301 01 Pol'!G128+'SO401 01 Pol'!G83 -> 0 | J76: =IF(I80=0,"",I76/I80*100)
B77: D96 | C77: Přesuny suti a vybouraných hmot | F77: PSU | I77: ='SO101 01.1 Pol'!G115 -> 0 | J77: =IF(I80=0,"",I77/I80*100)
B78: VN | C78: Vedlejší náklady | F78: VN | I78: ='SO101 01.1 Pol'!G124+'SO101 02 Pol'!G45+'SO301 01 Pol'!G132+'SO401 01 Pol'!G109 -> 0 | J78: =IF(I80=0,"",I78/I80*100)
B79: ON | C79: Ostatní náklady | F79: ON | I79: ='SO101 01.1 Pol'!G136+'SO301 01 Pol'!G144+'SO401 01 Pol'!G112 -> 0 | J79: =IF(I80=0,"",I79/I80*100)
B80: Cena celkem | I80: =SUM(I62:I79) -> 0 | J80: =SUM(J62:J79) -> 0

Sheet VzorPolozky
A1: Položkový rozpočet
A2: S:
A3: O:
A4: R:

Sheet SO101 01.1 Pol
A1: Položkový rozpočet | AG1: #TypZaznamu#
A2: S: | B2: 10122023 | C2: OPRAVA KOMUNIKACE K MYSLIVNĚ - SYROVICE | AG2: STA
A3: O: | B3: SO101 | C3: OPRAVA KOMUNIKACE VČ. CHODNÍKŮ, SJEZDŮ A PARKOVACÍCH PLOCH | AC3: STA | AG3: OBJ
A4: R: | B4: 01.1 | C4: STAVEBNÍ ČÁST | AG4: ROZ
A6: P.č. | B6: Číslo položky | C6: Název položky | D6: MJ | E6: Množství | F6: Cena / MJ | G6: Celkem | H6: Dodávka | I6: Dodávka celk. | J6: Montáž | K6: Montáž celk. | L6: DPH | M6: Cena s DPH | N6: Hmotnost / MJ | O6: Hmotnost celk.(t) | P6: Dem. hmotnost / MJ | Q6: Dem. hmotnost celk.(t) | R6: Ceník | S6: Cen. soustava / platnost | T6: Cenová úroveň | U6: Nhod / MJ | V6: Nhod celk. | W6: Dodavatel | X6: Typ položky | Y6: Stav položky
A8: Díl: | B8: 1 | C8: Zemní práce | G8: =SUMIF(AG9:AG37,"<>NOR",G9:G37) -> 0 | I8: =SUM(I9:I37) -> 0 | K8: =SUM(K9:K37) -> 0 | M8: =SUM(M9:M37) -> 0 | O8: =SUM(O9:O37) -> 118.58 | Q8: =SUM(Q9:Q37) -> 202.86 | V8: =SUM(V9:V37) -> 1134.69 | AG8: DIL
A9: 1 | B9: 111201101R00 | C9: Odstranění křovin i s kořeny na ploše do 1000 m2 | D9: m2 | E9: 185 | G9: =ROUND(E9*F9,2) -> 0 | I9: =ROUND(E9*H9,2) -> 0 | K9: =ROUND(E9*J9,2) -> 0 | L9: 21 | M9: =G9*(1+L9/100) -> 0 | N9: 0 | O9: =ROUND(E9*N9,2) -> 0 | P9: 0 | Q9: =ROUND(E9*P9,2) -> 0 | S9: RTS 26/ I | T9: RTS 26/ I | U9: 0.172 | V9: =ROUND(E9*U9,2) -> 31.82 | X9: Práce | Y9: Běžná | AG9: POL1_
A10: 2 | B10: 112101102R00 | C10: Kácení stromů listnatých o průměru kmene 30-50 cm | D10: kus | E10: 1 | G10: =ROUND(E10*F10,2) -> 0 | I10: =ROUND(E10*H10,2) -> 0 | K10: =ROUND(E10*J10,2) -> 0 | L10: 21 | M10: =G10*(1+L10/100) -> 0 | N10: 0 | O10: =ROUND(E10*N10,2) -> 0 | P10: 0 | Q10: =ROUND(E10*P10,2) -> 0 | S10: RTS 26/ I | T10: RTS 26/ I | U10: 0.88 | V10: =ROUND(E10*U10,2) -> 0.88 | X10: Práce | Y10: Běžná | AG10: POL1_
A11: 3 | B11: 112201102R00 | C11: Odstranění pařezů pod úrovní, o průměru 30 - 50 cm | D11: kus | E11: 1 | G11: =ROUND(E11*F11,2) -> 0 | I11: =ROUND(E11*H11,2) -> 0 | K11: =ROUND(E11*J11,2) -> 0 | L11: 21 | M11: =G11*(1+L11/100) -> 0 | N11: 5e-05 | O11: =ROUND(E11*N11,2) -> 0 | P11: 0 | Q11: =ROUND(E11*P11,2) -> 0 | S11: RTS 26/ I | T11: RTS 26/ I | U11: 1.66 | V11: =ROUND(E11*U11,2) -> 1.66 | X11: Práce | Y11: Běžná | AG11: POL1_
A12: 4 | B12: 113106121R00 | C12: Rozebrání dlažeb z betonových dlaždic na sucho | D12: m2 | E12: 240 | G12: =ROUND(E12*F12,2) -> 0 | I12: =ROUND(E12*H12,2) -> 0 | K12: =ROUND(E12*J12,2) -> 0 | L12: 21 | M12: =G12*(1+L12/100) -> 0 | N12: 0 | O12: =ROUND(E12*N12,2) -> 0 | P12: 0.138 | Q12: =ROUND(E12*P12,2) -> 33.12 | S12: RTS 26/ I | T12: RTS 26/ I | U12: 0.16 | V12: =ROUND(E12*U12,2) -> 38.4 | X12: Práce | Y12: Běžná | AG12: POL1_
A13: 5 | B13: 113106211R00 | C13: Rozebrání dlažeb z velkých kostek v kam. těženém | D13: m2 | E13: 57.5 | G13: =ROUND(E13*F13,2) -> 0 | I13: =ROUND(E13*H13,2) -> 0 | K13: =ROUND(E13*J13,2) -> 0 | L13: 21 | M13: =G13*(1+L13/100) -> 0 | N13: 0 | O13: =ROUND(E13*N13,2) -> 0 | P13: 0.417 | Q13: =ROUND(E13*P13,2) -> 23.98 | S13: RTS 26/ I | T13: RTS 26/ I | U13: 0.13 | V13: =ROUND(E13*U13,2) -> 7.48 | X13: Práce | Y13: Běžná | AG13: POL1_
A14: 6 | B14: 113106231R00 | C14: Rozebrání dlažeb ze zámkové dlažby v kamenivu | D14: m2 | E14: 56 | G14: =ROUND(E14*F14,2) -> 0 | I14: =ROUND(E14*H14,2) -> 0 | K14: =ROUND(E14*J14,2) -> 0 | L14: 21 | M14: =G14*(1+L14/100) -> 0 | N14: 0 | O14: =ROUND(E14*N14,2) -> 0 | P14: 0.225 | Q14: =ROUND(E14*P14,2) -> 12.6 | S14: RTS 26/ I | T14: RTS 26/ I | U14: 0.14 | V14: =ROUND(E14*U14,2) -> 7.84 | X14: Práce | Y14: Běžná | AG14: POL1_
A15: 7 | B15: 113108408R00 | C15: Odstranění asfaltové vrstvy pl.nad 50 m2, tl. 8 cm | D15: m2 | E15: 595 | G15: =ROUND(E15*F15,2) -> 0 | I15: =ROUND(E15*H15,2) -> 0 | K15: =ROUND(E15*J15,2) -> 0 | L15: 21 | M15: =G15*(1+L15/100) -> 0 | N15: 0 | O15: =ROUND(E15*N15,2) -> 0 | P15: 0.176 | Q15: =ROUND(E15*P15,2) -> 104.72 | S15: RTS 26/ I | T15: RTS 26/ I | U15: 0.06 | V15: =ROUND(E15*U15,2) -> 35.7 | X15: Práce | Y15: Běžná | AG15: POL1_
A16: 8 | B16: 113109410R00 | C16: Odstranění podkladu pl.nad 50 m2, beton, tl. 10 cm | D16: m2 | E16: 82.5 | G16: =ROUND(E16*F16,2) -> 0 | I16: =ROUND(E16*H16,2) -> 0 | K16: =ROUND(E16*J16,2) -> 0 | L16: 21 | M16: =G16*(1+L16/100) -> 0 | N16: 0 | O16: =ROUND(E16*N16,2) -> 0 | P16: 0.24 | Q16: =ROUND(E16*P16,2) -> 19.8 | S16: RTS 26/ I | T16: RTS 26/ I | U16: 0.03 | V16: =ROUND(E16*U16,2) -> 2.48 | X16: Práce | Y16: Běžná | AG16: POL1_
A17: 9 | B17: 113202111R00 | C17: Vytrhání obrub obrubníků silničních | D17: m | E17: 32 | G17: =ROUND(E17*F17,2) -> 0 | I17: =ROUND(E17*H17,2) -> 0 | K17: =ROUND(E17*J17,2) -> 0 | L17: 21 | M17: =G17*(1+L17/100) -> 0 | N17: 0 | O17: =ROUND(E17*N17,2) -> 0 | P17: 0.27 | Q17: =ROUND(E17*P17,2) -> 8.64 | S17: RTS 26/ I | T17: RTS 26/ I | U17: 0.12 | V17: =ROUND(E17*U17,2) -> 3.84 | X17: Práce | Y17: Běžná | AG17: POL1_
A18: 10 | B18: 122302203R00 | C18: Odkopávky pro silnice v hor. 4 do 10000 m3 | D18: m3 | E18: 1736.21 | G18: =ROUND(E18*F18,2) -> 0 | I18: =ROUND(E18*H18,2) -> 0 | K18: =ROUND(E18*J18,2) -> 0 | L18: 21 | M18: =G18*(1+L18/100) -> 0 | N18: 0 | O18: =ROUND(E18*N18,2) -> 0 | P18: 0 | Q18: =ROUND(E18*P18,2) -> 0 | S18: RTS 26/ I | T18: RTS 26/ I | U18: 0.23 | V18: =ROUND(E18*U18,2) -> 399.33 | X18: Práce | Y18: Běžná | AG18: POL1_
A19: 11 | B19: 122302209R00 | C19: Příplatek za lepivost - odkop pro silnice v hor. 4 | D19: m3 | E19: 1736.21 | G19: =ROUND(E19*F19,2) -> 0 | I19: =ROUND(E19*H19,2) -> 0 | K19: =ROUND(E19*J19,2) -> 0 | L19: 21 | M19: =G19*(1+L19/100) -> 0 | N19: 0 | O19: =ROUND(E19*N19,2) -> 0 | P19: 0 | Q19: =ROUND(E19*P19,2) -> 0 | S19: RTS 26/ I | T19: RTS 26/ I | U19: 0.12 | V19: =ROUND(E19*U19,2) -> 208.35 | X19: Práce | Y19: Běžná | AG19: POL1_
A20: 12 | B20: 132301111R00 | C20: Hloubení rýh š.do 60 cm v hor.4 do 100 m3,STROJNĚ | D20: m3 | E20: 73.75 | G20: =ROUND(E20*F20,2) -> 0 | I20: =ROUND(E20*H20,2) -> 0 | K20: =ROUND(E20*J20,2) -> 0 | L20: 21 | M20: =G20*(1+L20/100) -> 0 | N20: 0 | O20: =ROUND(E20*N20,2) -> 0 | P20: 0 | Q20: =ROUND(E20*P20,2) -> 0 | S20: RTS 26/ I | T20: RTS 26/ I | U20: 0.39 | V20: =ROUND(E20*U20,2) -> 28.76 | X20: Práce | Y20: Běžná | AG20: POL1_
... A27: 19 | B27: 174101101R00 | C27: Zásyp jam, rýh, šachet se zhutněním | D27: m3 | E27: 6.345 | G27: =ROUND(E27*F27,2) -> 0 | I27: =ROUND(E27*H27,2) -> 0 | K27: =ROUND(E27*J27,2) -> 0 | L27: 21 | M27: =G27*(1+L27/100) -> 0 | N27: 0 | O27: =ROUND(E27*N27,2) -> 0 | P27: 0 | Q27: =ROUND(E27*P27,2) -> 0 | S27: RTS 26/ I | T27: RTS 26/ I | U27: 0.2 | V27: =ROUND(E27*U27,2) -> 1.27 | X27: Práce | Y27: Běžná | AG27: POL1_
C28: včetně strojního přemístění materiálu pro zásyp ze vzdálenosti do 10 m od okraje zásypu | AG28: POP
A29: 20 | B29: 174201101R00 | C29: Zásyp jam, rýh, šachet bez zhutnění | D29: m3 | E29: 325.25 | G29: =ROUND(E29*F29,2) -> 0 | I29: =ROUND(E29*H29,2) -> 0 | K29: =ROUND(E29*J29,2) -> 0 | L29: 21 | M29: =G29*(1+L29/100) -> 0 | N29: 0 | O29: =ROUND(E29*N29,2) -> 0 | P29: 0 | Q29: =ROUND(E29*P29,2) -> 0 | S29: RTS 26/ I | T29: RTS 26/ I | U29: 0.13 | V29: =ROUND(E29*U29,2) -> 42.28 | X29: Práce | Y29: Běžná | AG29: POL1_
C30: včetně strojního přemístění materiálu ze vzdálenosti do 10 m od okraje zásypu | AG30: POP
A31: 21 | B31: 180402111R00 | C31: Založení trávníku parkového výsevem v rovině | D31: m2 | E31: 490 | G31: =ROUND(E31*F31,2) -> 0 | I31: =ROUND(E31*H31,2) -> 0 | K31: =ROUND(E31*J31,2) -> 0 | L31: 21 | M31: =G31*(1+L31/100) -> 0 | N31: 0 | O31: =ROUND(E31*N31,2) -> 0 | P31: 0 | Q31: =ROUND(E31*P31,2) -> 0 | S31: RTS 26/ I | T31: RTS 26/ I | U31: 0.06 | V31: =ROUND(E31*U31,2) -> 29.4 | X31: Práce | Y31: Běžná | AG31: POL1_
A32: 22 | B32: 181301102R00 | C32: Rozprostření ornice, rovina, tl. 10-15 cm,do 500m2 | D32: m2 | E32: 270 | G32: =ROUND(E32*F32,2) -> 0 | I32: =ROUND(E32*H32,2) -> 0 | K32: =ROUND(E32*J32,2) -> 0 | L32: 21 | M32: =G32*(1+L32/100) -> 0 | N32: 0 | O32: =ROUND(E32*N32,2) -> 0 | P32: 0 | Q32: =ROUND(E32*P32,2) -> 0 | S32: RTS 26/ I | T32: RTS 26/ I | U32: 0.18 | V32: =ROUND(E32*U32,2) -> 48.6 | X32: Práce | Y32: Běžná | AG32: POL1_
A33: 23 | B33: 182201101R00 | C33: Svahování násypů | D33: m2 | E33: 285 | G33: =ROUND(E33*F33,2) -> 0 | I33: =ROUND(E33*H33,2) -> 0 | K33: =ROUND(E33*J33,2) -> 0 | L33: 21 | M33: =G33*(1+L33/100) -> 0 | N33: 0 | O33: =ROUND(E33*N33,2) -> 0 | P33: 0 | Q33: =ROUND(E33*P33,2) -> 0 | S33: RTS 26/ I | T33: RTS 26/ I | U33: 0.107 | V33: =ROUND(E33*U33,2) -> 30.5 | X33: Práce | Y33: Běžná | AG33: POL1_
A34: 24 | B34: 185803111R00 | C34: Ošetření trávníku v rovině | D34: m2 | E34: 490 | G34: =ROUND(E34*F34,2) -> 0 | I34: =ROUND(E34*H34,2) -> 0 | K34: =ROUND(E34*J34,2) -> 0 | L34: 21 | M34: =G34*(1+L34/100) -> 0 | N34: 0 | O34: =ROUND(E34*N34,2) -> 0 | P34: 0 | Q34: =ROUND(E34*P34,2) -> 0 | S34: RTS 26/ I | T34: RTS 26/ I | U34: 0.01 | V34: =ROUND(E34*U34,2) -> 4.9 | X34: Práce | Y34: Běžná | AG34: POL1_
A35: 25 | B35: 199000002R00 | C35: Poplatek za skládku horniny 1- 4, č. dle katal. odpadů 17 05 04 | D35: m3 | E35: 1807.572 | G35: =ROUND(E35*F35,2) -> 0 | I35: =ROUND(E35*H35,2) -> 0 | K35: =ROUND(E35*J35,2) -> 0 | L35: 21 | M35: =G35*(1+L35/100) -> 0 | N35: 0 | O35: =ROUND(E35*N35,2) -> 0 | P35: 0 | Q35: =ROUND(E35*P35,2) -> 0 | S35: RTS 26/ I | T35: RTS 26/ I | U35: 0 | V35: =ROUND(E35*U35,2) -> 0 | X35: Práce | Y35: Běžná | AG35: POL1_
A36: 26 | B36: 00572420R | C36: Směs travní parková III. dekorativní PROFI á 25 kg | D36: kg | E36: 12.25 | G36: =ROUND(E36*F36,2) -> 0 | I36: =ROUND(E36*H36,2) -> 0 | K36: =ROUND(E36*J36,2) -> 0 | L36: 21 | M36: =G36*(1+L36/100) -> 0 | N36: 0.001 | O36: =ROUND(E36*N36,2) -> 0.01 | P36: 0 | Q36: =ROUND(E36*P36,2) -> 0 | R36: SPCM | S36: RTS 26/ I | T36: RTS 26/ I | U36: 0 | V36: =ROUND(E36*U36,2) -> 0 | X36: Specifikace | Y36: Běžná | AG36: POL3_
A37: 27 | B37: 10364200R | C37: Ornice pro pozemkové úpravy | D37: m3 | E37: 71 | G37: =ROUND(E37*F37,2) -> 0 | I37: =ROUND(E37*H37,2) -> 0 | K37: =ROUND(E37*J37,2) -> 0 | L37: 21 | M37: =G37*(1+L37/100) -> 0 | N37: 1.67 | O37: =ROUND(E37*N37,2) -> 118.57 | P37: 0 | Q37: =ROUND(E37*P37,2) -> 0 | R37: SPCM | S37: RTS 22/ II | T37: RTS 22/ II | U37: 0 | V37: =ROUND(E37*U37,2) -> 0 | X37: Specifikace | Y37: Běžná | AG37: POL3_
A38: Díl: | B38: 2 | C38: Základy a zvláštní zakládání | G38: =SUMIF(AG39:AG42,"<>NOR",G39:G42) -> 0 | I38: =SUM(I39:I42) -> 0 | K38: =SUM(K39:K42) -> 0 | M38: =SUM(M39:M42) -> 0 | O38: =SUM(O39:O42) -> 69.26 | Q38: =SUM(Q39:Q42) -> 0 | V38: =SUM(V39:V42) -> 88.5 | AG38: DIL
A39: 28 | B39: 212752112R00 | C39: Trativody z drenážních trubek, lože, DN 100 mm vč. dodávky trubky a zásyp. materiálu | D39: m | E39: 295 | G39: =ROUND(E39*F39,2) -> 0 | I39: =ROUND(E39*H39,2) -> 0 | K39: =ROUND(E39*J39,2) -> 0 | L39: 21 | M39: =G39*(1+L39/100) -> 0 | N39: 0.23382 | O39: =ROUND(E39*N39,2) -> 68.98 | P39: 0 | Q39: =ROUND(E39*P39,2) -> 0 | S39: RTS 18/ I | T39: RTS 18/ I | U39: 0.22 | V39: =ROUND(E39*U39,2) -> 64.9 | X39: Práce | Y39: Běžná | AG39: POL1_
A40: 29 | B40: 289971211R00 | C40: Zřízení vrstvy z geotextilie sklon do 1:5 š.do 3 m | D40: m2 | E40: 590 | G40: =ROUND(E40*F40,2) -> 0 | I40: =ROUND(E40*H40,2) -> 0 | K40: =ROUND(E40*J40,2) -> 0 | L40: 21 | M40: =G40*(1+L40/100) -> 0 | N40: 3e-05 | O40: =ROUND(E40*N40,2) -> 0.02 | P40: 0 | Q40: =ROUND(E40*P40,2) -> 0 | S40: RTS 26/ I | T40: RTS 26/ I | U40: 0.04 | V40: =ROUND(E40*U40,2) -> 23.6 | X40: Práce | Y40: Běžná | AG40: POL1_
A41: 30 | B41: 2001 | C41: Zaústění drenáže do dešťové kanalizace, D+M | D41: kpl | E41: 1 | G41: =ROUND(E41*F41,2) -> 0 | I41: =ROUND(E41*H41,2) -> 0 | K41: =ROUND(E41*J41,2) -> 0 | L41: 21 | M41: =G41*(1+L41/100) -> 0 | N41: 0 | O41: =ROUND(E41*N41,2) -> 0 | P41: 0 | Q41: =ROUND(E41*P41,2) -> 0 | S41: Vlastní | T41: Indiv | U41: 0 | V41: =ROUND(E41*U41,2) -> 0 | X41: Práce | Y41: Běžná | AG41: POL1_
A42: 31 | B42: 69366203R | C42: Geotextilie 400 g/m2 š. 200 cm | D42: m2 | E42: 649 | G42: =ROUND(E42*F42,2) -> 0 | I42: =ROUND(E42*H42,2) -> 0 | K42: =ROUND(E42*J42,2) -> 0 | L42: 21 | M42: =G42*(1+L42/100) -> 0 | N42: 0.0004 | O42: =ROUND(E42*N42,2) -> 0.26 | P42: 0 | Q42: =ROUND(E42*P42,2) -> 0 | R42: SPCM | S42: RTS 26/ I | T42: RTS 26/ I | U42: 0 | V42: =ROUND(E42*U42,2) -> 0 | X42: Specifikace | Y42: Běžná | AG42: POL3_
A43: Díl: | B43: 5 | C43: Komunikace | G43: =SUMIF(AG44:AG75,"<>NOR",G44:G75) -> 0 | I43: =SUM(I44:I75) -> 0 | K43: =SUM(K44:K75) -> 0 | M43: =SUM(M44:M75) -> 0 | O43: =SUM(O44:O75) -> 3473.92 | Q43: =SUM(Q44:Q75) -> 0 | V43: =SUM(V44:V75) -> 1536.28 | AG43: DIL
A44: 32 | B44: 564851111RT2 | C44: Podklad ze štěrkodrti po zhutnění tloušťky 15 cm štěrkodrť frakce 0-32 mm | D44: m2 | E44: 540.2 | G44: =ROUND(E44*F44,2) -> 0 | I44: =ROUND(E44*H44,2) -> 0 | K44: =ROUND(E44*J44,2) -> 0 | L44: 21 | M44: =G44*(1+L44/100) -> 0 | N44: 0.378 | O44: =ROUND(E44*N44,2) -> 204.2 | P44: 0 | Q44: =ROUND(E44*P44,2) -> 0 | S44: RTS 26/ I | T44: RTS 26/ I | U44: 0.03 | V44: =ROUND(E44*U44,2) -> 16.21 | X44: Práce | Y44: Běžná | AG44: POL1_
A45: 33 | B45: 564871111RT4 | C45: Podklad ze štěrkodrti po zhutnění tloušťky 25 cm štěrkodrť frakce 0-63 mm | D45: m2 | E45: 11.4 | G45: =ROUND(E45*F45,2) -> 0 | I45: =ROUND(E45*H45,2) -> 0 | K45: =ROUND(E45*J45,2) -> 0 | L45: 21 | M45: =G45*(1+L45/100) -> 0 | N45: 0.55125 | O45: =ROUND(E45*N45,2) -> 6.28 | P45: 0 | Q45: =ROUND(E45*P45,2) -> 0 | S45: RTS 26/ I | T45: RTS 26/ I | U45: 0.03 | V45: =ROUND(E45*U45,2) -> 0.34 | X45: Práce | Y45: Běžná | AG45: POL1_
A46: 34 | B46: 564851111RT4 | C46: Podklad ze štěrkodrti po zhutnění tloušťky 15 cm štěrkodrť frakce 0-63 mm | D46: m2 | E46: 2138.5 | G46: =ROUND(E46*F46,2) -> 0 | I46: =ROUND(E46*H46,2) -> 0 | K46: =ROUND(E46*J46,2) -> 0 | L46: 21 | M46: =G46*(1+L46/100) -> 0 | N46: 0.378 | O46: =ROUND(E46*N46,2) -> 808.35 | P46: 0 | Q46: =ROUND(E46*P46,2) -> 0 | S46: RTS 26/ I | T46: RTS 26/ I | U46: 0.03 | V46: =ROUND(E46*U46,2) -> 64.16 | X46: Práce | Y46: Běžná | AG46: POL1_
A47: 35 | B47: 564861111RT2 | C47: Podklad ze štěrkodrti po zhutnění tloušťky 20 cm štěrkodrť frakce 0-32 mm | D47: m2 | E47: 2138.5 | G47: =ROUND(E47*F47,2) -> 0 | I47: =ROUND(E47*H47,2) -> 0 | K47: =ROUND(E47*J47,2) -> 0 | L47: 21 | M47: =G47*(1+L47/100) -> 0 | N47: 0.441 | O47: =ROUND(E47*N47,2) -> 943.08 | P47: 0 | Q47: =ROUND(E47*P47,2) -> 0 | S47: RTS 26/ I | T47: RTS 26/ I | U47: 0.03 | V47: =ROUND(E47*U47,2) -> 64.16 | X47: Práce | Y47: Běžná | AG47: POL1_
A48: 36 | B48: 565131211R00 | C48: Podklad z obal kamen. ACP 16+, š.nad 3 m, tl. 5 cm | D48: m2 | E48: 1320 | G48: =ROUND(E48*F48,2) -> 0 | I48: =ROUND(E48*H48,2) -> 0 | K48: =ROUND(E48*J48,2) -> 0 | L48: 21 | M48: =G48*(1+L48/100) -> 0 | N48: 0.13188 | O48: =ROUND(E48*N48,2) -> 174.08 | P48: 0 | Q48: =ROUND(E48*P48,2) -> 0 | S48: RTS 26/ I | T48: RTS 26/ I | U48: 0.02 | V48: =ROUND(E48*U48,2) -> 26.4 | X48: Práce | Y48: Běžná | AG48: POL1_
A49: 37 | B49: 568111112R00 | C49: Zřízení vrstvy z geotextilie skl.do 1:5,š.do 7,5 m | D49: m2 | E49: 1890 | G49: =ROUND(E49*F49,2) -> 0 | I49: =ROUND(E49*H49,2) -> 0 | K49: =ROUND(E49*J49,2) -> 0 | L49: 21 | M49: =G49*(1+L49/100) -> 0 | N49: 0 | O49: =ROUND(E49*N49,2) -> 0 | P49: 0 | Q49: =ROUND(E49*P49,2) -> 0 | S49: RTS 26/ I | T49: RTS 26/ I | U49: 0.07 | V49: =ROUND(E49*U49,2) -> 132.3 | X49: Práce | Y49: Běžná | AG49: POL1_
A50: 38 | B50: 568119112R00 | C50: Příplatek-upevnění geotex.,do 1:5, 8 skob/10 m2 | D50: m2 | E50: 1890 | G50: =ROUND(E50*F50,2) -> 0 | I50: =ROUND(E50*H50,2) -> 0 | K50: =ROUND(E50*J50,2) -> 0 | L50: 21 | M50: =G50*(1+L50/100) -> 0 | N50: 0.00023 | O50: =ROUND(E50*N50,2) -> 0.43 | P50: 0 | Q50: =ROUND(E50*P50,2) -> 0 | S50: RTS 26/ I | T50: RTS 26/ I | U50: 0.02 | V50: =ROUND(E50*U50,2) -> 37.8 | X50: Práce | Y50: Běžná | AG50: POL1_
A51: 39 | B51: 573111112R00 | C51: Postřik živičný infiltr.+ posyp,z asfaltu 1 kg/m2 | D51: m2 | E51: 1320 | G51: =ROUND(E51*F51,2) -> 0 | I51: =ROUND(E51*H51,2) -> 0 | K51: =ROUND(E51*J51,2) -> 0 | L51: 21 | M51: =G51*(1+L51/100) -> 0 | N51: 0.00601 | O51: =ROUND(E51*N51,2) -> 7.93 | P51: 0 | Q51: =ROUND(E51*P51,2) -> 0 | S51: RTS 22/ I | T51: RTS 22/ I | U51: 0.004 | V51: =ROUND(E51*U51,2) -> 5.28 | X51: Práce | Y51: Běžná | AG51: POL1_
A52: 40 | B52: 573231110R00 | C52: Postřik živičný spojovací z emulze 0,3-0,5 kg/m2 | D52: m2 | E52: 1320 | G52: =ROUND(E52*F52,2) -> 0 | I52: =ROUND(E52*H52,2) -> 0 | K52: =ROUND(E52*J52,2) -> 0 | L52: 21 | M52: =G52*(1+L52/100) -> 0 | N52: 0.0005 | O52: =ROUND(E52*N52,2) -> 0.66 | P52: 0 | Q52: =ROUND(E52*P52,2) -> 0 | S52: RTS 22/ I | T52: RTS 22/ I | U52: 0.002 | V52: =ROUND(E52*U52,2) -> 2.64 | X52: Práce | Y52: Běžná | AG52: POL1_
A53: 41 | B53: 577142112R00 | C53: Beton asfaltový ACO 11+, ACO 16+, nad 3 m, tl.5 cm | D53: m2 | E53: 1320 | G53: =ROUND(E53*F53,2) -> 0 | I53: =ROUND(E53*H53,2) -> 0 | K53: =ROUND(E53*J53,2) -> 0 | L53: 21 | M53: =G53*(1+L53/100) -> 0 | N53: 0.12966 | O53: =ROUND(E53*N53,2) -> 171.15 | P53: 0 | Q53: =ROUND(E53*P53,2) -> 0 | S53: RTS 26/ I | T53: RTS 26/ I | U53: 0.02 | V53: =ROUND(E53*U53,2) -> 26.4 | X53: Práce | Y53: Běžná | AG53: POL1_
A54: 42 | B54: 584121111RT3 | C54: Osazení silničních železobetonových panelů, lože z kameniva, tl. 50 mm včetně panelu IZD 3000 x 1500 x 150 mm | D54: m2 | E54: 31.5 | G54: =ROUND(E54*F54,2) -> 0 | I54: =ROUND(E54*H54,2) -> 0 | K54: =ROUND(E54*J54,2) -> 0 | L54: 21 | M54: =G54*(1+L54/100) -> 0 | N54: 0.46206 | O54: =ROUND(E54*N54,2) -> 14.55 | P54: 0 | Q54: =ROUND(E54*P54,2) -> 0 | S54: RTS 26/ I | T54: RTS 26/ I | U54: 0.25 | V54: =ROUND(E54*U54,2) -> 7.88 | X54: Práce | Y54: Běžná | AG54: POL1_
C55: v místě křížení s VTL plynovodem : 3,0*1,5*7 | E55: 31.5 | AG55: VV | AH55: 0
A56: 43 | B56: 591111111R00 | C56: Kladení dlažby velké kostky,lože z kamen.tl. 5 cm | D56: m2 | E56: 5.58 | G56: =ROUND(E56*F56,2) -> 0 | I56: =ROUND(E56*H56,2) -> 0 | K56: =ROUND(E56*J56,2) -> 0 | L56: 21 | M56: =G56*(1+L56/100) -> 0 | N56: 0.11 | O56: =ROUND(E56*N56,2) -> 0.61 | P56: 0 | Q56: =ROUND(E56*P56,2) -> 0 | S56: RTS 26/ I | T56: RTS 26/ I | U56: 1.14 | V56: =ROUND(E56*U56,2) -> 6.36 | X56: Práce | Y56: Běžná | AG56: POL1_
A57: 44 | B57: 591141111R00 | C57: Kladení dlažby velké kostky, lože z MC tl. 5 cm | D57: m2 | E57: 5.82 | G57: =ROUND(E57*F57,2) -> 0 | I57: =ROUND(E57*H57,2) -> 0 | K57: =ROUND(E57*J57,2) -> 0 | L57: 21 | M57: =G57*(1+L57/100) -> 0 | N57: 0.31388 | O57: =ROUND(E57*N57,2) -> 1.83 | P57: 0 | Q57: =ROUND(E57*P57,2) -> 0 | S57: RTS 26/ I | T57: RTS 26/ I | U57: 1.14 | V57: =ROUND(E57*U57,2) -> 6.63 | X57: Práce | Y57: Běžná | AG57: POL1_
A58: 45 | B58: 596215021R00 | C58: Kladení zámkové dlažby tl. 6 cm do drtě tl. 4 cm | D58: m2 | E58: 495.75 | G58: =ROUND(E58*F58,2) -> 0 | I58: =ROUND(E58*H58,2) -> 0 | K58: =ROUND(E58*J58,2) -> 0 | L58: 21 | M58: =G58*(1+L58/100) -> 0 | N58: 0.0739 | O58: =ROUND(E58*N58,2) -> 36.64 | P58: 0 | Q58: =ROUND(E58*P58,2) -> 0 | S58: RTS 26/ I | T58: RTS 26/ I | U58: 0.45 | V58: =ROUND(E58*U58,2) -> 223.09 | X58: Práce | Y58: Běžná | AG58: POL1_
A59: 46 | B59: 596215040R00 | C59: Kladení zámkové dlažby tl. 8 cm do drtě tl. 4 cm | D59: m2 | E59: 253.3 | G59: =ROUND(E59*F59,2) -> 0 | I59: =ROUND(E59*H59,2) -> 0 | K59: =ROUND(E59*J59,2) -> 0 | L59: 21 | M59: =G59*(1+L59/100) -> 0 | N59: 0.0739 | O59: =ROUND(E59*N59,2) -> 18.72 | P59: 0 | Q59: =ROUND(E59*P59,2) -> 0 | S59: RTS 26/ I | T59: RTS 26/ I | U59: 0.48 | V59: =ROUND(E59*U59,2) -> 121.58 | X59: Práce | Y59: Běžná | AG59: POL1_
A60: 47 | B60: 596291111R00 | C60: Řezání zámkové dlažby tl. 60 mm | D60: m | E60: 120 | G60: =ROUND(E60*F60,2) -> 0 | I60: =ROUND(E60*H60,2) -> 0 | K60: =ROUND(E60*J60,2) -> 0 | L60: 21 | M60: =G60*(1+L60/100) -> 0 | N60: 0.00033 | O60: =ROUND(E60*N60,2) -> 0.04 | P60: 0 | Q60: =ROUND(E60*P60,2) -> 0 | S60: RTS 26/ I | T60: RTS 26/ I | U60: 0.41 | V60: =ROUND(E60*U60,2) -> 49.2 | X60: Práce | Y60: Běžná | AG60: POL1_
A61: 48 | B61: 596291113R00 | C61: Řezání zámkové dlažby tl. 80 mm | D61: m | E61: 100 | G61: =ROUND(E61*F61,2) -> 0 | I61: =ROUND(E61*H61,2) -> 0 | K61: =ROUND(E61*J61,2) -> 0 | L61: 21 | M61: =G61*(1+L61/100) -> 0 | N61: 0.00036 | O61: =ROUND(E61*N61,2) -> 0.04 | P61: 0 | Q61: =ROUND(E61*P61,2) -> 0 | S61: RTS 26/ I | T61: RTS 26/ I | U61: 0.43 | V61: =ROUND(E61*U61,2) -> 43 | X61: Práce | Y61: Běžná | AG61: POL1_
A62: 49 | B62: 596715021R00 | C62: Kladení vodicí linie z dlažby tl.6 cm, drť tl.4 cm | D62: m2 | E62: 5 | G62: =ROUND(E62*F62,2) -> 0 | I62: =ROUND(E62*H62,2) -> 0 | K62: =ROUND(E62*J62,2) -> 0 | L62: 21 | M62: =G62*(1+L62/100) -> 0 | N62: 0.0739 | O62: =ROUND(E62*N62,2) -> 0.37 | P62: 0 | Q62: =ROUND(E62*P62,2) -> 0 | S62: RTS 26/ I | T62: RTS 26/ I | U62: 0.5 | V62: =ROUND(E62*U62,2) -> 2.5 | X62: Práce | Y62: Běžná | AG62: POL1_
A63: 50 | B63: 596715041R00 | C63: Kladení vodicí linie z dlažby tl.8 cm, drť tl.4 cm | D63: m2 | E63: 8.34 | G63: =ROUND(E63*F63,2) -> 0 | I63: =ROUND(E63*H63,2) -> 0 | K63: =ROUND(E63*J63,2) -> 0 | L63: 21 | M63: =G63*(1+L63/100) -> 0 | N63: 0.0739 | O63: =ROUND(E63*N63,2) -> 0.62 | P63: 0 | Q63: =ROUND(E63*P63,2) -> 0 | S63: RTS 26/ I | T63: RTS 26/ I | U63: 0.56 | V63: =ROUND(E63*U63,2) -> 4.67 | X63: Práce | Y63: Běžná | AG63: POL1_
A64: 51 | B64: 599141111R00 | C64: Vyplnění spáry živičnou zálivkou | D64: m | E64: 16 | G64: =ROUND(E64*F64,2) -> 0 | I64: =ROUND(E64*H64,2) -> 0 | K64: =ROUND(E64*J64,2) -> 0 | L64: 21 | M64: =G64*(1+L64/100) -> 0 | N64: 0.0036 | O64: =ROUND(E64*N64,2) -> 0.06 | P64: 0 | Q64: =ROUND(E64*P64,2) -> 0 | S64: RTS 26/ I | T64: RTS 26/ I | U64: 0.05 | V64: =ROUND(E64*U64,2) -> 0.8 | X64: Práce | Y64: Běžná | AG64: POL1_
A65: 52 | B65: 515901101RT5 | C65: Zhutnění podloží | D65: m2 | E65: 2678.7 | G65: =ROUND(E65*F65,2) -> 0 | I65: =ROUND(E65*H65,2) -> 0 | K65: =ROUND(E65*J65,2) -> 0 | L65: 21 | M65: =G65*(1+L65/100) -> 0 | N65: 0 | O65: =ROUND(E65*N65,2) -> 0 | P65: 0 | Q65: =ROUND(E65*P65,2) -> 0 | S65: Vlastní | T65: Indiv | U65: 0.15 | V65: =ROUND(E65*U65,2) -> 401.81 | X65: Práce | Y65: Běžná | AG65: POL1_
A66: 53 | B66: 564861199RT4 | C66: Podklad ze štěrkodrti po zhutnění tloušťky 40 cm - SANACE PODLOŽÍ štěrkodrť frakce 0-63 mm | D66: m2 | E66: 1890 | G66: =ROUND(E66*F66,2) -> 0 | I66: =ROUND(E66*H66,2) -> 0 | K66: =ROUND(E66*J66,2) -> 0 | L66: 21 | M66: =G66*(1+L66/100) -> 0 | N66: 0.441 | O66: =ROUND(E66*N66,2) -> 833.49 | P66: 0 | Q66: =ROUND(E66*P66,2) -> 0 | S66: Vlastní | T66: Indiv | U66: 0.03 | V66: =ROUND(E66*U66,2) -> 56.7 | X66: Práce | Y66: Běžná | AG66: POL1_
A67: 54 | B67: 596921193R00 | C67: Kladení bet.veget. dlaždic,lože 40 mm,pl.do 500 m2 | D67: m2 | E67: 281.7 | G67: =ROUND(E67*F67,2) -> 0 | I67: =ROUND(E67*H67,2) -> 0 | K67: =ROUND(E67*J67,2) -> 0 | L67: 21 | M67: =G67*(1+L67/100) -> 0 | N67: 0.0315 | O67: =ROUND(E67*N67,2) -> 8.87 | P67: 0 | Q67: =ROUND(E67*P67,2) -> 0 | S67: Vlastní | T67: Indiv | U67: 0.52 | V67: =ROUND(E67*U67,2) -> 146.48 | X67: Práce | Y67: Běžná | AG67: POL1_
A68: 55 | B68: 599432119R00 | C68: Výplň spár dlažby pískem | D68: m2 | E68: 749.05 | G68: =ROUND(E68*F68,2) -> 0 | I68: =ROUND(E68*H68,2) -> 0 | K68: =ROUND(E68*J68,2) -> 0 | L68: 21 | M68: =G68*(1+L68/100) -> 0 | N68: 0.10354 | O68: =ROUND(E68*N68,2) -> 77.56 | P68: 0 | Q68: =ROUND(E68*P68,2) -> 0 | S68: Vlastní | T68: Indiv | U68: 0.12 | V68: =ROUND(E68*U68,2) -> 89.89 | X68: Práce | Y68: Běžná | AG68: POL1_
A69: 56 | B69: 58380156R | C69: Kostka dlažební žulová štípaná, velká 150 až 170 mm, třída I | D69: t | E69: 4.788 | G69: =ROUND(E69*F69,2) -> 0 | I69: =ROUND(E69*H69,2) -> 0 | K69: =ROUND(E69*J69,2) -> 0 | L69: 21 | M69: =G69*(1+L69/100) -> 0 | N69: 1 | O69: =ROUND(E69*N69,2) -> 4.79 | P69: 0 | Q69: =ROUND(E69*P69,2) -> 0 | R69: SPCM | S69: RTS 26/ I | T69: RTS 26/ I | U69: 0 | V69: =ROUND(E69*U69,2) -> 0 | X69: Specifikace | Y69: Běžná | AG69: POL3_
A70: 57 | B70: 59245020R | C70: Dlažba zámková H-PROFIL 20x16,5x6 cm přírodní | D70: m2 | E70: 520.5375 | G70: =ROUND(E70*F70,2) -> 0 | I70: =ROUND(E70*H70,2) -> 0 | K70: =ROUND(E70*J70,2) -> 0 | L70: 21 | M70: =G70*(1+L70/100) -> 0 | N70: 0.1296 | O70: =ROUND(E70*N70,2) -> 67.46 | P70: 0 | Q70: =ROUND(E70*P70,2) -> 0 | R70: SPCM | S70: RTS 26/ I | T70: RTS 26/ I | U70: 0 | V70: =ROUND(E70*U70,2) -> 0 | X70: Specifikace | Y70: Běžná | AG70: POL3_
A71: 58 | B71: 59245030R | C71: Dlažba zámková H-PROFIL 20x16,5x8 cm přírodní | D71: m2 | E71: 265.965 | G71: =ROUND(E71*F71,2) -> 0 | I71: =ROUND(E71*H71,2) -> 0 | K71: =ROUND(E71*J71,2) -> 0 | L71: 21 | M71: =G71*(1+L71/100) -> 0 | N71: 0.1728 | O71: =ROUND(E71*N71,2) -> 45.96 | P71: 0 | Q71: =ROUND(E71*P71,2) -> 0 | R71: SPCM | S71: RTS 26/ I | T71: RTS 26/ I | U71: 0 | V71: =ROUND(E71*U71,2) -> 0 | X71: Specifikace | Y71: Běžná | AG71: POL3_
A72: 59 | B72: 592452561R | C72: Dlažba zatravňovací přírodní 17/20 x 17/20 x 8 cm 30 mm distančníky | D72: m2 | E72: 295.785 | G72: =ROUND(E72*F72,2) -> 0 | I72: =ROUND(E72*H72,2) -> 0 | K72: =ROUND(E72*J72,2) -> 0 | L72: 21 | M72: =G72*(1+L72/100) -> 0 | N72: 0.14479 | O72: =ROUND(E72*N72,2) -> 42.83 | P72: 0 | Q72: =ROUND(E72*P72,2) -> 0 | R72: SPCM | S72: RTS 26/ I | T72: RTS 26/ I | U72: 0 | V72: =ROUND(E72*U72,2) -> 0 | X72: Specifikace | Y72: Běžná | AG72: POL3_
A73: 60 | B73: 59245264R | C73: Dlažba červená pro nevidomé 20x10x8 | D73: m2 | E73: 9.174 | G73: =ROUND(E73*F73,2) -> 0 | I73: =ROUND(E73*H73,2) -> 0 | K73: =ROUND(E73*J73,2) -> 0 | L73: 21 | M73: =G73*(1+L73/100) -> 0 | N73: 0.176 | O73: =ROUND(E73*N73,2) -> 1.61 | P73: 0 | Q73: =ROUND(E73*P73,2) -> 0 | R73: SPCM | S73: RTS 26/ I | T73: RTS 26/ I | U73: 0 | V73: =ROUND(E73*U73,2) -> 0 | X73: Specifikace | Y73: Běžná | AG73: POL3_
A74: 61 | B74: 59245267R | C74: Dlažba červená pro nevidomé 20x10x6 | D74: m2 | E74: 5.5 | G74: =ROUND(E74*F74,2) -> 0 | I74: =ROUND(E74*H74,2) -> 0 | K74: =ROUND(E74*J74,2) -> 0 | L74: 21 | M74: =G74*(1+L74/100) -> 0 | N74: 0.131 | O74: =ROUND(E74*N74,2) -> 0.72 | P74: 0 | Q74: =ROUND(E74*P74,2) -> 0 | R74: SPCM | S74: RTS 26/ I | T74: RTS 26/ I | U74: 0 | V74: =ROUND(E74*U74,2) -> 0 | X74: Specifikace | Y74: Běžná | AG74: POL3_
A75: 62 | B75: 69366204R | C75: Geotextilie 500 g/m2 š. 200 cm PES | D75: m2 | E75: 1984.5 | G75: =ROUND(E75*F75,2) -> 0 | I75: =ROUND(E75*H75,2) -> 0 | K75: =ROUND(E75*J75,2) -> 0 | L75: 21 | M75: =G75*(1+L75/100) -> 0 | N75: 0.0005 | O75: =ROUND(E75*N75,2) -> 0.99 | P75: 0 | Q75: =ROUND(E75*P75,2) -> 0 | R75: SPCM | S75: RTS 26/ I | T75: RTS 26/ I | U75: 0 | V75: =ROUND(E75*U75,2) -> 0 | X75: Specifikace | Y75: Běžná | AG75: POL3_
A76: Díl: | B76: 91 | C76: Doplňující práce na komunikaci | G76: =SUMIF(AG77:AG102,"<>NOR",G77:G102) -> 0 | I76: =SUM(I77:I102) -> 0 | K76: =SUM(K77:K102) -> 0 | M76: =SUM(M77:M102) -> 0 | O76: =SUM(O77:O102) -> 413.11 | Q76: =SUM(Q77:Q102) -> 0 | V76: =SUM(V77:V102) -> 613.92 | AG76: DIL
A77: 63 | B77: 451572111R00 | C77: Lože pod potrubí z kameniva těženého 0 - 4 mm | D77: m3 | E77: 4.6575 | G77: =ROUND(E77*F77,2) -> 0 | I77: =ROUND(E77*H77,2) -> 0 | K77: =ROUND(E77*J77,2) -> 0 | L77: 21 | M77: =G77*(1+L77/100) -> 0 | N77: 1.89077 | O77: =ROUND(E77*N77,2) -> 8.81 | P77: 0 | Q77: =ROUND(E77*P77,2) -> 0 | S77: RTS 26/ I | T77: RTS 26/ I | U77: 1.7 | V77: =ROUND(E77*U77,2) -> 7.92 | X77: Práce | Y77: Běžná | AG77: POL1_
A78: 64 | B78: 917762111R00 | C78: Osazení ležat. obrub. bet. s opěrou,lože z C 12/15 | D78: m | E78: 244.1 | G78: =ROUND(E78*F78,2) -> 0 | I78: =ROUND(E78*H78,2) -> 0 | K78: =ROUND(E78*J78,2) -> 0 | L78: 21 | M78: =G78*(1+L78/100) -> 0 | N78: 0.185 | O78: =ROUND(E78*N78,2) -> 45.16 | P78: 0 | Q78: =ROUND(E78*P78,2) -> 0 | S78: RTS 26/ I | T78: RTS 26/ I | U78: 0.34 | V78: =ROUND(E78*U78,2) -> 82.99 | X78: Práce | Y78: Běžná | AG78: POL1_
A79: 65 | B79: 914001121R00 | C79: Osaz.sloupku dopr.značky vč. bet.základu+Al patka | D79: kus | E79: 4 | G79: =ROUND(E79*F79,2) -> 0 | I79: =ROUND(E79*H79,2) -> 0 | K79: =ROUND(E79*J79,2) -> 0 | L79: 21 | M79: =G79*(1+L79/100) -> 0 | N79: 0.1125 | O79: =ROUND(E79*N79,2) -> 0.45 | P79: 0 | Q79: =ROUND(E79*P79,2) -> 0 | S79: RTS 26/ I | T79: RTS 26/ I | U79: 0.92 | V79: =ROUND(E79*U79,2) -> 3.68 | X79: Práce | Y79: Běžná | AG79: POL1_
A80: 66 | B80: 914001125R00 | C80: Osazení svislé dopr.značky na sloupek nebo konzolu | D80: kus | E80: 4 | G80: =ROUND(E80*F80,2) -> 0 | I80: =ROUND(E80*H80,2) -> 0 | K80: =ROUND(E80*J80,2) -> 0 | L80: 21 | M80: =G80*(1+L80/100) -> 0 | N80: 0 | O80: =ROUND(E80*N80,2) -> 0 | P80: 0 | Q80: =ROUND(E80*P80,2) -> 0 | S80: RTS 26/ I | T80: RTS 26/ I | U80: 0.2 | V80: =ROUND(E80*U80,2) -> 0.8 | X80: Práce | Y80: Běžná | AG80: POL1_
A81: 67 | B81: 919536111R00 | C81: Obetonování trub propustku bet.vodostav. C 25/30 | D81: m3 | E81: 4.6575 | G81: =ROUND(E81*F81,2) -> 0 | I81: =ROUND(E81*H81,2) -> 0 | K81: =ROUND(E81*J81,2) -> 0 | L81: 21 | M81: =G81*(1+L81/100) -> 0 | N81: 2.53538 | O81: =ROUND(E81*N81,2) -> 11.81 | P81: 0 | Q81: =ROUND(E81*P81,2) -> 0 | S81: RTS 26/ I | T81: RTS 26/ I | U81: 3.64 | V81: =ROUND(E81*U81,2) -> 16.95 | X81: Práce | Y81: Běžná | AG81: POL1_
A82: 68 | B82: 915701111R00 | C82: Zřízení vodorovného značení z nátěr.hmot tl.do 3mm | D82: m2 | E82: 5.5 | G82: =ROUND(E82*F82,2) -> 0 | I82: =ROUND(E82*H82,2) -> 0 | K82: =ROUND(E82*J82,2) -> 0 | L82: 21 | M82: =G82*(1+L82/100) -> 0 | N82: 0.00014 | O82: =ROUND(E82*N82,2) -> 0 | P82: 0 | Q82: =ROUND(E82*P82,2) -> 0 | S82: RTS 26/ I | T82: RTS 26/ I | U82: 0.72 | V82: =ROUND(E82*U82,2) -> 3.96 | X82: Práce | Y82: Běžná | AG82: POL1_
A83: 69 | B83: 917862111R00 | C83: Osazení stojat. obrub.bet. s opěrou,lože z C 12/15 | D83: m | E83: 878 | G83: =ROUND(E83*F83,2) -> 0 | I83: =ROUND(E83*H83,2) -> 0 | K83: =ROUND(E83*J83,2) -> 0 | L83: 21 | M83: =G83*(1+L83/100) -> 0 | N83: 0.188 | O83: =ROUND(E83*N83,2) -> 165.06 | P83: 0 | Q83: =ROUND(E83*P83,2) -> 0 | S83: RTS 26/ I | T83: RTS 26/ I | U83: 0.27 | V83: =ROUND(E83*U83,2) -> 237.06 | X83: Práce | Y83: Běžná | AG83: POL1_
A84: 70 | B84: 917932111R00 | C84: Osazení betonové prefa přídlažby do lože z C12/15 | D84: m | E84: 615 | G84: =ROUND(E84*F84,2) -> 0 | I84: =ROUND(E84*H84,2) -> 0 | K84: =ROUND(E84*J84,2) -> 0 | L84: 21 | M84: =G84*(1+L84/100) -> 0 | N84: 0.05905 | O84: =ROUND(E84*N84,2) -> 36.32 | P84: 0 | Q84: =ROUND(E84*P84,2) -> 0 | S84: RTS 26/ I | T84: RTS 26/ I | U84: 0.26 | V84: =ROUND(E84*U84,2) -> 159.9 | X84: Práce | Y84: Běžná | AG84: POL1_
A85: 71 | B85: 919441221R00 | C85: Čelo propustku z lom. kamene z trub DN 60 - 80 cm | D85: kus | E85: 1 | G85: =ROUND(E85*F85,2) -> 0 | I85: =ROUND(E85*H85,2) -> 0 | K85: =ROUND(E85*J85,2) -> 0 | L85: 21 | M85: =G85*(1+L85/100) -> 0 | N85: 16.78787 | O85: =ROUND(E85*N85,2) -> 16.79 | P85: 0 | Q85: =ROUND(E85*P85,2) -> 0 | S85: RTS 26/ I | T85: RTS 26/ I | U85: 37.47 | V85: =ROUND(E85*U85,2) -> 37.47 | X85: Práce | Y85: Běžná | AG85: POL1_
A86: 72 | B86: 919571114R00 | C86: Zřízení propustku z plastových trub do DN 600 mm | D86: m | E86: 34.5 | G86: =ROUND(E86*F86,2) -> 0 | I86: =ROUND(E86*H86,2) -> 0 | K86: =ROUND(E86*J86,2) -> 0 | L86: 21 | M86: =G86*(1+L86/100) -> 0 | N86: 0.94307 | O86: =ROUND(E86*N86,2) -> 32.54 | P86: 0 | Q86: =ROUND(E86*P86,2) -> 0 | S86: RTS 26/ I | T86: RTS 26/ I | U86: 1.81 | V86: =ROUND(E86*U86,2) -> 62.45 | X86: Práce | Y86: Běžná | AG86: POL1_
A87: 73 | B87: 919735112R00 | C87: Řezání stávajícího živičného krytu tl. 5 - 10 cm | D87: m | E87: 18.5 | G87: =ROUND(E87*F87,2) -> 0 | I87: =ROUND(E87*H87,2) -> 0 | K87: =ROUND(E87*J87,2) -> 0 | L87: 21 | M87: =G87*(1+L87/100) -> 0 | N87: 0 | O87: =ROUND(E87*N87,2) -> 0 | P87: 0 | Q87: =ROUND(E87*P87,2) -> 0 | S87: RTS 26/ I | T87: RTS 26/ I | U87: 0.04 | V87: =ROUND(E87*U87,2) -> 0.74 | X87: Práce | Y87: Běžná | AG87: POL1_
A88: 74 | B88: 910008 | C88: Napojení propustku na stávající dešťovou kanalizaci, D+M | D88: kpl | E88: 1 | G88: =ROUND(E88*F88,2) -> 0 | I88: =ROUND(E88*H88,2) -> 0 | K88: =ROUND(E88*J88,2) -> 0 | L88: 21 | M88: =G88*(1+L88/100) -> 0 | N88: 0 | O88: =ROUND(E88*N88,2) -> 0 | P88: 0 | Q88: =ROUND(E88*P88,2) -> 0 | S88: Vlastní | T88: Indiv | U88: 0 | V88: =ROUND(E88*U88,2) -> 0 | X88: Práce | Y88: Běžná | AG88: POL1_
A89: 75 | B89: 286142997R | C89: Trubka kanalizační korugovaná PRAGMA+ID SN 16 DN 600 x 6000 mm PP | D89: kus | E89: 6 | G89: =ROUND(E89*F89,2) -> 0 | I89: =ROUND(E89*H89,2) -> 0 | K89: =ROUND(E89*J89,2) -> 0 | L89: 21 | M89: =G89*(1+L89/100) -> 0 | N89: 0.137 | O89: =ROUND(E89*N89,2) -> 0.82 | P89: 0 | Q89: =ROUND(E89*P89,2) -> 0 | R89: SPCM | S89: RTS 25/ I | T89: RTS 25/ I | U89: 0 | V89: =ROUND(E89*U89,2) -> 0 | X89: Specifikace | Y89: Běžná | AG89: POL3_
A90: 76 | B90: 404459504R | C90: Sloupek Fe pr.60 pozinkovaný, l= 3500 mm | D90: kus | E90: 3 | G90: =ROUND(E90*F90,2) -> 0 | I90: =ROUND(E90*H90,2) -> 0 | K90: =ROUND(E90*J90,2) -> 0 | L90: 21 | M90: =G90*(1+L90/100) -> 0 | N90: 0 | O90: =ROUND(E90*N90,2) -> 0 | P90: 0 | Q90: =ROUND(E90*P90,2) -> 0 | R90: SPCM | S90: RTS 25/ I | T90: RTS 25/ I | U90: 0 | V90: =ROUND(E90*U90,2) -> 0 | X90: Specifikace | Y90: Běžná | AG90: POL3_
A91: 77 | B91: 404459540R | C91: Víčko pr. 60 | D91: kus | E91: 3 | G91: =ROUND(E91*F91,2) -> 0 | I91: =ROUND(E91*H91,2) -> 0 | K91: =ROUND(E91*J91,2) -> 0 | L91: 21 | M91: =G91*(1+L91/100) -> 0 | N91: 0 | O91: =ROUND(E91*N91,2) -> 0 | P91: 0 | Q91: =ROUND(E91*P91,2) -> 0 | R91: SPCM | S91: RTS 26/ I | T91: RTS 26/ I | U91: 0 | V91: =ROUND(E91*U91,2) -> 0 | X91: Specifikace | Y91: Běžná | AG91: POL3_
A92: 78 | B92: 40450230R | C92: Dopravní příslušenství, patka hliníková HP 60 | D92: kus | E92: 3 | G92: =ROUND(E92*F92,2) -> 0 | I92: =ROUND(E92*H92,2) -> 0 | K92: =ROUND(E92*J92,2) -> 0 | L92: 21 | M92: =G92*(1+L92/100) -> 0 | N92: 0.003 | O92: =ROUND(E92*N92,2) -> 0.01 | P92: 0 | Q92: =ROUND(E92*P92,2) -> 0 | R92: SPCM | S92: RTS 26/ I | T92: RTS 26/ I | U92: 0 | V92: =ROUND(E92*U92,2) -> 0 | X92: Specifikace | Y92: Běžná | AG92: POL3_
A93: 79 | B93: 592162117R | C93: Přídlažba silniční vysoká ABK 50/25/10 přírodní | D93: kus | E93: 645.75 | G93: =ROUND(E93*F93,2) -> 0 | I93: =ROUND(E93*H93,2) -> 0 | K93: =ROUND(E93*J93,2) -> 0 | L93: 21 | M93: =G93*(1+L93/100) -> 0 | N93: 0.027 | O93: =ROUND(E93*N93,2) -> 17.44 | P93: 0 | Q93: =ROUND(E93*P93,2) -> 0 | R93: SPCM | S93: RTS 26/ I | T93: RTS 26/ I | U93: 0 | V93: =ROUND(E93*U93,2) -> 0 | X93: Specifikace | Y93: Běžná | AG93: POL3_
A94: 80 | B94: 59217421R | C94: Obrubník 1000/100/250 přírodní | D94: kus | E94: 431.655 | G94: =ROUND(E94*F94,2) -> 0 | I94: =ROUND(E94*H94,2) -> 0 | K94: =ROUND(E94*J94,2) -> 0 | L94: 21 | M94: =G94*(1+L94/100) -> 0 | N94: 0.06 | O94: =ROUND(E94*N94,2) -> 25.9 | P94: 0 | Q94: =ROUND(E94*P94,2) -> 0 | R94: SPCM | S94: RTS 25/ II | T94: RTS 25/ II | U94: 0 | V94: =ROUND(E94*U94,2) -> 0 | X94: Specifikace | Y94: Běžná | AG94: POL3_
A95: 81 | B95: 59217472R | C95: Obrubník silniční 1000/150/250 šedý | D95: kus | E95: 448.245 | G95: =ROUND(E95*F95,2) -> 0 | I95: =ROUND(E95*H95,2) -> 0 | K95: =ROUND(E95*J95,2) -> 0 | L95: 21 | M95: =G95*(1+L95/100) -> 0 | N95: 0.0821 | O95: =ROUND(E95*N95,2) -> 36.8 | P95: 0 | Q95: =ROUND(E95*P95,2) -> 0 | R95: SPCM | S95: RTS 25/ II | T95: RTS 25/ II | U95: 0 | V95: =ROUND(E95*U95,2) -> 0 | X95: Specifikace | Y95: Běžná | AG95: POL3_
A96: 82 | B96: 59217476R | C96: Obrubník silniční nájezdový 1000/150/150 šedý | D96: kus | E96: 256.305 | G96: =ROUND(E96*F96,2) -> 0 | I96: =ROUND(E96*H96,2) -> 0 | K96: =ROUND(E96*J96,2) -> 0 | L96: 21 | M96: =G96*(1+L96/100) -> 0 | N96: 0.0483 | O96: =ROUND(E96*N96,2) -> 12.38 | P96: 0 | Q96: =ROUND(E96*P96,2) -> 0 | R96: SPCM | S96: RTS 25/ II | T96: RTS 25/ II | U96: 0 | V96: =ROUND(E96*U96,2) -> 0 | X96: Specifikace | Y96: Běžná | AG96: POL3_
A97: 83 | B97: 59217480R | C97: Obrubník silniční přechodový L 1000/150/150-250 | D97: kus | E97: 21 | G97: =ROUND(E97*F97,2) -> 0 | I97: =ROUND(E97*H97,2) -> 0 | K97: =ROUND(E97*J97,2) -> 0 | L97: 21 | M97: =G97*(1+L97/100) -> 0 | N97: 0.067 | O97: =ROUND(E97*N97,2) -> 1.41 | P97: 0 | Q97: =ROUND(E97*P97,2) -> 0 | R97: SPCM | S97: RTS 25/ II | T97: RTS 25/ II | U97: 0 | V97: =ROUND(E97*U97,2) -> 0 | X97: Specifikace | Y97: Běžná | AG97: POL3_
A98: 84 | B98: 59217481R | C98: Obrubník silniční přechodový P 1000/150/150-250 | D98: kus | E98: 21 | G98: =ROUND(E98*F98,2) -> 0 | I98: =ROUND(E98*H98,2) -> 0 | K98: =ROUND(E98*J98,2) -> 0 | L98: 21 | M98: =G98*(1+L98/100) -> 0 | N98: 0.067 | O98: =ROUND(E98*N98,2) -> 1.41 | P98: 0 | Q98: =ROUND(E98*P98,2) -> 0 | R98: SPCM | S98: RTS 25/ II | T98: RTS 25/ II | U98: 0 | V98: =ROUND(E98*U98,2) -> 0 | X98: Specifikace | Y98: Běžná | AG98: POL3_
A99: 85 | B99: 910001 | C99: Barva pro silniční značení | D99: kg | E99: 24.75 | G99: =ROUND(E99*F99,2) -> 0 | I99: =ROUND(E99*H99,2) -> 0 | K99: =ROUND(E99*J99,2) -> 0 | L99: 21 | M99: =G99*(1+L99/100) -> 0 | N99: 0 | O99: =ROUND(E99*N99,2) -> 0 | P99: 0 | Q99: =ROUND(E99*P99,2) -> 0 | S99: Vlastní | T99: Indiv | U99: 0 | V99: =ROUND(E99*U99,2) -> 0 | X99: Specifikace | Y99: Běžná | AG99: POL3_
A100: 86 | B100: 910003 | C100: Dopravní značka - B20a - Nejvyšší dovolená rychlost | D100: ks | E100: 1 | G100: =ROUND(E100*F100,2) -> 0 | I100: =ROUND(E100*H100,2) -> 0 | K100: =ROUND(E100*J100,2) -> 0 | L100: 21 | M100: =G100*(1+L100/100) -> 0 | N100: 0 | O100: =ROUND(E100*N100,2) -> 0 | P100: 0 | Q100: =ROUND(E100*P100,2) -> 0 | S100: Vlastní | T100: Indiv | U100: 0 | V100: =ROUND(E100*U100,2) -> 0 | X100: Specifikace | Y100: Běžná | AG100: POL3_
A101: 87 | B101: 910006 | C101: Dopravní značka -A6b - Zúžená vozovka z jedné strany | D101: ks | E101: 1 | G101: =ROUND(E101*F101,2) -> 0 | I101: =ROUND(E101*H101,2) -> 0 | K101: =ROUND(E101*J101,2) -> 0 | L101: 21 | M101: =G101*(1+L101/100) -> 0 | N101: 0 | O101: =ROUND(E101*N101,2) -> 0 | P101: 0 | Q101: =ROUND(E101*P101,2) -> 0 | S101: Vlastní | T101: Indiv | U101: 0 | V101: =ROUND(E101*U101,2) -> 0 | X101: Specifikace | Y101: Běžná | AG101: POL3_
A102: 88 | B102: 910007 | C102: Dopravní značka - IP12 - Vyhrazené parkoviště | D102: ks | E102: 1 | G102: =ROUND(E102*F102,2) -> 0 | I102: =ROUND(E102*H102,2) -> 0 | K102: =ROUND(E102*J102,2) -> 0 | L102: 21 | M102: =G102*(1+L102/100) -> 0 | N102: 0 | O102: =ROUND(E102*N102,2) -> 0 | P102: 0 | Q102: =ROUND(E102*P102,2) -> 0 | S102: Vlastní | T102: Indiv | U102: 0 | V102: =ROUND(E102*U102,2) -> 0 | X102: Specifikace | Y102: Běžná | AG102: POL3_
A103: Díl: | B103: 96 | C103: Bourání konstrukcí | G103: =SUMIF(AG104:AG106,"<>NOR",G104:G106) -> 0 | I103: =SUM(I104:I106) -> 0 | K103: =SUM(K104:K106) -> 0 | M103: =SUM(M104:M106) -> 0 | O103: =SUM(O104:O106) -> 0 | Q103: =SUM(Q104:Q106) -> 13.58 | V103: =SUM(V104:V106) -> 49.54 | AG103: DIL
A104: 89 | B104: 963042819R00 | C104: Bourání schodišťových stupňů betonových | D104: m | E104: 3.8 | G104: =ROUND(E104*F104,2) -> 0 | I104: =ROUND(E104*H104,2) -> 0 | K104: =ROUND(E104*J104,2) -> 0 | L104: 21 | M104: =G104*(1+L104/100) -> 0 | N104: 0 | O104: =ROUND(E104*N104,2) -> 0 | P104: 0.07 | Q104: =ROUND(E104*P104,2) -> 0.27 | S104: RTS 26/ I | T104: RTS 26/ I | U104: 0.64 | V104: =ROUND(E104*U104,2) -> 2.43 | X104: Práce | Y104: Běžná | AG104: POL1_
A105: 90 | B105: 966006132R00 | C105: Odstranění doprav.značek se sloupky, s bet.patkami | D105: kus | E105: 1 | G105: =ROUND(E105*F105,2) -> 0 | I105: =ROUND(E105*H105,2) -> 0 | K105: =ROUND(E105*J105,2) -> 0 | L105: 21 | M105: =G105*(1+L105/100) -> 0 | N105: 0 | O105: =ROUND(E105*N105,2) -> 0 | P105: 0.082 | Q105: =ROUND(E105*P105,2) -> 0.08 | S105: RTS 26/ I | T105: RTS 26/ I | U105: 0.59 | V105: =ROUND(E105*U105,2) -> 0.59 | X105: Práce | Y105: Běžná | AG105: POL1_
A106: 91 | B106: 966008112R00 | C106: Bourání trubního propustku z trub DN do 50 cm | D106: m | E106: 13.5 | G106: =ROUND(E106*F106,2) -> 0 | I106: =ROUND(E106*H106,2) -> 0 | K106: =ROUND(E106*J106,2) -> 0 | L106: 21 | M106: =G106*(1+L106/100) -> 0 | N106: 0 | O106: =ROUND(E106*N106,2) -> 0 | P106: 0.98 | Q106: =ROUND(E106*P106,2) -> 13.23 | S106: RTS 26/ I | T106: RTS 26/ I | U106: 3.446 | V106: =ROUND(E106*U106,2) -> 46.52 | X106: Práce | Y106: Běžná | AG106: POL1_
A107: Díl: | B107: 99 | C107: Staveništní přesun hmot | G107: =SUMIF(AG108:AG108,"<>NOR",G108:G108) -> 0 | I107: =SUM(I108:I108) -> 0 | K107: =SUM(K108:K108) -> 0 | M107: =SUM(M108:M108) -> 0 | O107: =SUM(O108:O108) -> 0 | Q107: =SUM(Q108:Q108) -> 0 | V107: =SUM(V108:V108) -> 65.2 | AG107: DIL
A108: 92 | B108: 998225111R00 | C108: Přesun hmot, pozemní komunikace, kryt živičný | D108: t | E108: 4074.8481 | G108: =ROUND(E108*F108,2) -> 0 | I108: =ROUND(E108*H108,2) -> 0 | K108: =ROUND(E108*J108,2) -> 0 | L108: 21 | M108: =G108*(1+L108/100) -> 0 | N108: 0 | O108: =ROUND(E108*N108,2) -> 0 | P108: 0 | Q108: =ROUND(E108*P108,2) -> 0 | S108: RTS 26/ I | T108: RTS 26/ I | U108: 0.016 | V108: =ROUND(E108*U108,2) -> 65.2 | X108: Přesun hmot | Y108: Běžná | AG108: POL7_
...

Sheet SO101 02 Pol
A1: Položkový rozpočet | AG1: #TypZaznamu#
A2: S: | B2: 10122023 | C2: OPRAVA KOMUNIKACE K MYSLIVNĚ - SYROVICE | AG2: STA
A3: O: | B3: SO101 | C3: OPRAVA KOMUNIKACE VČ. CHODNÍKŮ, SJEZDŮ A PARKOVACÍCH PLOCH | AC3: STA | AG3: OBJ
A4: R: | B4: 02 | C4: OCHRANA STÁVAJÍCÍHO SDĚLOVACÍHO VEDENÍ NET4GAS | AG4: ROZ
A6: P.č. | B6: Číslo položky | C6: Název položky | D6: MJ | E6: Množství | F6: Cena / MJ | G6: Celkem | H6: Dodávka | I6: Dodávka celk. | J6: Montáž | K6: Montáž celk. | L6: DPH | M6: Cena s DPH | N6: Hmotnost / MJ | O6: Hmotnost celk.(t) | P6: Dem. hmotnost / MJ | Q6: Dem. hmotnost celk.(t) | R6: Ceník | S6: Cen. soustava / platnost | T6: Cenová úroveň | U6: Nhod / MJ | V6: Nhod celk. | W6: Dodavatel | X6: Typ položky | Y6: Stav položky
A8: Díl: | B8: M11 | C8: Materiály | G8: =SUMIF(AG9:AG15,"<>NOR",G9:G15) -> 0 | I8: =SUM(I9:I15) -> 0 | K8: =SUM(K9:K15) -> 0 | M8: =SUM(M9:M15) -> 0 | O8: =SUM(O9:O15) -> 0.02 | Q8: =SUM(Q9:Q15) -> 0 | V8: =SUM(V9:V15) -> 0 | AG8: DIL
A9: 1 | B9: 28611399.AR | C9: Zátka PVC d 125 mm | D9: kus | E9: 2 | G9: =ROUND(E9*F9,2) -> 0 | I9: =ROUND(E9*H9,2) -> 0 | K9: =ROUND(E9*J9,2) -> 0 | L9: 21 | M9: =G9*(1+L9/100) -> 0 | N9: 0 | O9: =ROUND(E9*N9,2) -> 0 | P9: 0 | Q9: =ROUND(E9*P9,2) -> 0 | S9: Vlastní | T9: RTS 23/ II | U9: 0 | V9: =ROUND(E9*U9,2) -> 0 | X9: Specifikace | Y9: Běžná | AG9: POL3_
A10: 2 | B10: 34141303R | C10: Vodič silový CYY 6,0 mm2 | D10: m | E10: 13 | G10: =ROUND(E10*F10,2) -> 0 | I10: =ROUND(E10*H10,2) -> 0 | K10: =ROUND(E10*J10,2) -> 0 | L10: 21 | M10: =G10*(1+L10/100) -> 0 | N10: 8e-05 | O10: =ROUND(E10*N10,2) -> 0 | P10: 0 | Q10: =ROUND(E10*P10,2) -> 0 | R10: SPCM | S10: RTS 26/ I | T10: RTS 26/ I | U10: 0 | V10: =ROUND(E10*U10,2) -> 0 | X10: Specifikace | Y10: Běžná | AG10: POL3_
C11: 13 | E11: 13 | AG11: VV | AH11: 0
A12: 3 | B12: 3457114707R | C12: Trubka kabelová chránička KOPOFLEX KF 09125 | D12: m | E12: 26 | G12: =ROUND(E12*F12,2) -> 0 | I12: =ROUND(E12*H12,2) -> 0 | K12: =ROUND(E12*J12,2) -> 0 | L12: 21 | M12: =G12*(1+L12/100) -> 0 | N12: 0.00078 | O12: =ROUND(E12*N12,2) -> 0.02 | P12: 0 | Q12: =ROUND(E12*P12,2) -> 0 | R12: SPCM | S12: RTS 26/ I | T12: RTS 26/ I | U12: 0 | V12: =ROUND(E12*U12,2) -> 0 | X12: Specifikace | Y12: Běžná | AG12: POL3_
C13: 2*13,0 | E13: 26 | AG13: VV | AH13: 0
A14: 4 | B14: 3457114798 | C14: Trubka HDPE 40 zelená | D14: m | E14: 13 | G14: =ROUND(E14*F14,2) -> 0 | I14: =ROUND(E14*H14,2) -> 0 | K14: =ROUND(E14*J14,2) -> 0 | L14: 21 | M14: =G14*(1+L14/100) -> 0 | N14: 0 | O14: =ROUND(E14*N14,2) -> 0 | P14: 0 | Q14: =ROUND(E14*P14,2) -> 0 | S14: Vlastní | T14: Indiv | U14: 0 | V14: =ROUND(E14*U14,2) -> 0 | X14: Specifikace | Y14: Běžná | AG14: POL3_
A15: 5 | B15: 3457114799 | C15: Trubka HDPE 40 bílá | D15: m | E15: 13 | G15: =ROUND(E15*F15,2) -> 0 | I15: =ROUND(E15*H15,2) -> 0 | K15: =ROUND(E15*J15,2) -> 0 | L15: 21 | M15: =G15*(1+L15/100) -> 0 | N15: 0 | O15: =ROUND(E15*N15,2) -> 0 | P15: 0 | Q15: =ROUND(E15*P15,2) -> 0 | S15: Vlastní | T15: Indiv | U15: 0 | V15: =ROUND(E15*U15,2) -> 0 | X15: Specifikace | Y15: Běžná | AG15: POL3_
A16: Díl: | B16: M21 | C16: Elektromontáže | G16: =SUMIF(AG17:AG26,"<>NOR",G17:G26) -> 0 | I16: =SUM(I17:I26) -> 0 | K16: =SUM(K17:K26) -> 0 | M16: =SUM(M17:M26) -> 0 | O16: =SUM(O17:O26) -> 0 | Q16: =SUM(Q17:Q26) -> 0 | V16: =SUM(V17:V26) -> 8.23 | AG16: DIL
A17: 6 | B17: 210010125R00 | C17: Trubka ochranná z PE, uložená volně, DN do 125 mm | D17: m | E17: 26 | G17: =ROUND(E17*F17,2) -> 0 | I17: =ROUND(E17*H17,2) -> 0 | K17: =ROUND(E17*J17,2) -> 0 | L17: 21 | M17: =G17*(1+L17/100) -> 0 | N17: 0 | O17: =ROUND(E17*N17,2) -> 0 | P17: 0 | Q17: =ROUND(E17*P17,2) -> 0 | S17: RTS 26/ I | T17: RTS 26/ I | U17: 0.16 | V17: =ROUND(E17*U17,2) -> 4.16 | X17: Práce | Y17: Běžná | AG17: POL1_
C18: 2*13,0 | E18: 26 | AG18: VV | AH18: 0
A19: 7 | B19: 210100361R00 | C19: Zátka ucpávková K (zaslepení) | D19: kus | E19: 2 | G19: =ROUND(E19*F19,2) -> 0 | I19: =ROUND(E19*H19,2) -> 0 | K19: =ROUND(E19*J19,2) -> 0 | L19: 21 | M19: =G19*(1+L19/100) -> 0 | N19: 0 | O19: =ROUND(E19*N19,2) -> 0 | P19: 0 | Q19: =ROUND(E19*P19,2) -> 0 | S19: RTS 26/ I | T19: RTS 26/ I | U19: 0.0125 | V19: =ROUND(E19*U19,2) -> 0.03 | X19: Práce | Y19: Běžná | AG19: POL1_
A20: 8 | B20: 210800014R00 | C20: Vodič uložený v trubkách CYY 6 mm2 | D20: m | E20: 13 | G20: =ROUND(E20*F20,2) -> 0 | I20: =ROUND(E20*H20,2) -> 0 | K20: =ROUND(E20*J20,2) -> 0 | L20: 21 | M20: =G20*(1+L20/100) -> 0 | N20: 0 | O20: =ROUND(E20*N20,2) -> 0 | P20: 0 | Q20: =ROUND(E20*P20,2) -> 0 | S20: RTS 26/ I | T20: RTS 26/ I | U20: 0.02074 | V20: =ROUND(E20*U20,2) -> 0.27 | X20: Práce | Y20: Běžná | AG20: POL1_
C21: 13 | E21: 13 | AG21: VV | AH21: 0
A22: 9 | B22: 210950201R00 | C22: Příplatek na zatahování kabelů váhy do 0,75 kg | D22: m | E22: 13 | G22: =ROUND(E22*F22,2) -> 0 | I22: =ROUND(E22*H22,2) -> 0 | K22: =ROUND(E22*J22,2) -> 0 | L22: 21 | M22: =G22*(1+L22/100) -> 0 | N22: 0 | O22: =ROUND(E22*N22,2) -> 0 | P22: 0 | Q22: =ROUND(E22*P22,2) -> 0 | S22: RTS 26/ I | T22: RTS 26/ I | U22: 0.02 | V22: =ROUND(E22*U22,2) -> 0.26 | X22: Práce | Y22: Běžná | AG22: POL1_
C23: 13 | E23: 13 | AG23: VV | AH23: 0
A24: 10 | B24: 220060470R00 | C24: Provizorní zaslepení konce HDPE | D24: kus | E24: 4 | G24: =ROUND(E24*F24,2) -> 0 | I24: =ROUND(E24*H24,2) -> 0 | K24: =ROUND(E24*J24,2) -> 0 | L24: 21 | M24: =G24*(1+L24/100) -> 0 | N24: 0 | O24: =ROUND(E24*N24,2) -> 0 | P24: 0 | Q24: =ROUND(E24*P24,2) -> 0 | S24: RTS 26/ I | T24: RTS 26/ I | U24: 0.3 | V24: =ROUND(E24*U24,2) -> 1.2 | X24: Práce | Y24: Běžná | AG24: POL1_
A25: 11 | B25: 230180014R00 | C25: Montáž trub z plastických hmot PE, PP, 40 x 3,6 | D25: m | E25: 26 | G25: =ROUND(E25*F25,2) -> 0 | I25: =ROUND(E25*H25,2) -> 0 | K25: =ROUND(E25*J25,2) -> 0 | L25: 21 | M25: =G25*(1+L25/100) -> 0 | N25: 0 | O25: =ROUND(E25*N25,2) -> 0 | P25: 0 | Q25: =ROUND(E25*P25,2) -> 0 | S25: RTS 26/ I | T25: RTS 26/ I | U25: 0.089 | V25: =ROUND(E25*U25,2) -> 2.31 | X25: Práce | Y25: Běžná | AG25: POL1_
C26: 2*13,0 | E26: 26 | AG26: VV | AH26: 0
A27: Díl: | B27: M46 | C27: Zemní práce při montážích | G27: =SUMIF(AG28:AG44,"<>NOR",G28:G44) -> 0 | I27: =SUM(I28:I44) -> 0 | K27: =SUM(K28:K44) -> 0 | M27: =SUM(M28:M44) -> 0 | O27: =SUM(O28:O44) -> 1.91 | Q27: =SUM(Q28:Q44) -> 0 | V27: =SUM(V28:V44) -> 26.96 | AG27: DIL
A28: 12 | B28: 120001101R00 | C28: Příplatek za ztížení vykopávky v blízkosti vedení | D28: m3 | E28: 3.64 | G28: =ROUND(E28*F28,2) -> 0 | I28: =ROUND(E28*H28,2) -> 0 | K28: =ROUND(E28*J28,2) -> 0 | L28: 21 | M28: =G28*(1+L28/100) -> 0 | N28: 0 | O28: =ROUND(E28*N28,2) -> 0 | P28: 0 | Q28: =ROUND(E28*P28,2) -> 0 | S28: RTS 26/ I | T28: RTS 26/ I | U28: 1.55 | V28: =ROUND(E28*U28,2) -> 5.64 | X28: Práce | Y28: Běžná | AG28: POL1_
C29: 13,0*0,35*0,8 | E29: 3.64 | AG29: VV | AH29: 0
A30: 13 | B30: 199000002R00 | C30: Poplatek za skládku horniny 1- 4 | D30: m3 | E30: 1.092 | G30: =ROUND(E30*F30,2) -> 0 | I30: =ROUND(E30*H30,2) -> 0 | K30: =ROUND(E30*J30,2) -> 0 | L30: 21 | M30: =G30*(1+L30/100) -> 0 | N30: 0 | O30: =ROUND(E30*N30,2) -> 0 | P30: 0 | Q30: =ROUND(E30*P30,2) -> 0 | S30: RTS 26/ I | T30: RTS 26/ I | U30: 0 | V30: =ROUND(E30*U30,2) -> 0 | X30: Práce | Y30: Běžná | AG30: POL1_
C31: Odkaz na mn. položky pořadí 19 : 0,91000 | E31: 0.91 | AG31: VV | AH31: 5
C32: Koeficient +koef. nakypření: 0,2 | E32: 0.182 | AG32: VV | AH32: 4
A33: 14 | B33: 460010024R00 | C33: Vytýčení kabelové trasy v zastavěném prostoru | D33: km | E33: 0.013 | G33: =ROUND(E33*F33,2) -> 0 | I33: =ROUND(E33*H33,2) -> 0 | K33: =ROUND(E33*J33,2) -> 0 | L33: 21 | M33: =G33*(1+L33/100) -> 0 | N33: 0.03421 | O33: =ROUND(E33*N33,2) -> 0 | P33: 0 | Q33: =ROUND(E33*P33,2) -> 0 | S33: RTS 26/ I | T33: RTS 26/ I | U33: 4.1 | V33: =ROUND(E33*U33,2) -> 0.05 | X33: Práce | Y33: Běžná | AG33: POL1_
C34: 0,013 | E34: 0.013 | AG34: VV | AH34: 0
A35: 15 | B35: 460200164RT2 | C35: Výkop kabelové rýhy 35/80 cm hor.4 ruční výkop rýhy | D35: m | E35: 13 | G35: =ROUND(E35*F35,2) -> 0 | I35: =ROUND(E35*H35,2) -> 0 | K35: =ROUND(E35*J35,2) -> 0 | L35: 21 | M35: =G35*(1+L35/100) -> 0 | N35: 0 | O35: =ROUND(E35*N35,2) -> 0 | P35: 0 | Q35: =ROUND(E35*P35,2) -> 0 | S35: RTS 26/ I | T35: RTS 26/ I | U35: 1.32972 | V35: =ROUND(E35*U35,2) -> 17.29 | X35: Práce | Y35: Běžná | AG35: POL1_
C36: 13,0 | E36: 13 | AG36: VV | AH36: 0
A37: 16 | B37: 460420018RT3 | C37: Zřízení kabelového lože v rýze š.do 35 cm z písku tloušťka vrstvy 20 cm | D37: m | E37: 13 | G37: =ROUND(E37*F37,2) -> 0 | I37: =ROUND(E37*H37,2) -> 0 | K37: =ROUND(E37*J37,2) -> 0 | L37: 21 | M37: =G37*(1+L37/100) -> 0 | N37: 0.147 | O37: =ROUND(E37*N37,2) -> 1.91 | P37: 0 | Q37: =ROUND(E37*P37,2) -> 0 | S37: RTS 26/ I | T37: RTS 26/ I | U37: 0.06 | V37: =ROUND(E37*U37,2) -> 0.78 | X37: Práce | Y37: Běžná | AG37: POL1_
C38: 13 | E38: 13 | AG38: VV | AH38: 0
A39: 17 | B39: 460490012R00 | C39: Fólie výstražná z PVC, šířka 33 cm | D39: m | E39: 13 | G39: =ROUND(E39*F39,2) -> 0 | I39: =ROUND(E39*H39,2) -> 0 | K39: =ROUND(E39*J39,2) -> 0 | L39: 21 | M39: =G39*(1+L39/100) -> 0 | N39: 6e-05 | O39: =ROUND(E39*N39,2) -> 0 | P39: 0 | Q39: =ROUND(E39*P39,2) -> 0 | S39: RTS 26/ I | T39: RTS 26/ I | U39: 0.03 | V39: =ROUND(E39*U39,2) -> 0.39 | X39: Práce | Y39: Běžná | AG39: POL1_
C40: 13 | E40: 13 | AG40: VV | AH40: 0
A41: 18 | B41: 460570144R00 | C41: Zához rýhy 35/60 cm, hornina třídy 4, se zhutněním | D41: m | E41: 13 | G41: =ROUND(E41*F41,2) -> 0 | I41: =ROUND(E41*H41,2) -> 0 | K41: =ROUND(E41*J41,2) -> 0 | L41: 21 | M41: =G41*(1+L41/100) -> 0 | N41: 0 | O41: =ROUND(E41*N41,2) -> 0 | P41: 0 | Q41: =ROUND(E41*P41,2) -> 0 | S41: RTS 26/ I | T41: RTS 26/ I | U41: 0.17 | V41: =ROUND(E41*U41,2) -> 2.21 | X41: Práce | Y41: Běžná | AG41: POL1_
C42: 13 | E42: 13 | AG42: VV | AH42: 0
A43: 19 | B43: 460600001RT3 | C43: Naložení a odvoz zeminy odvoz na vzdálenost 5000 m | D43: m3 | E43: 0.91 | G43: =ROUND(E43*F43,2) -> 0 | I43: =ROUND(E43*H43,2) -> 0 | K43: =ROUND(E43*J43,2) -> 0 | L43: 21 | M43: =G43*(1+L43/100) -> 0 | N43: 0 | O43: =ROUND(E43*N43,2) -> 0 | P43: 0 | Q43: =ROUND(E43*P43,2) -> 0 | S43: RTS 26/ I | T43: RTS 26/ I | U43: 0.66 | V43: =ROUND(E43*U43,2) -> 0.6 | X43: Práce | Y43: Běžná | AG43: POL1_
C44: 13,0*0,2*0,35 | E44: 0.91 | AG44: VV | AH44: 0
A45: Díl: | B45: VN | C45: Vedlejší náklady | G45: =SUMIF(AG46:AG53,"<>NOR",G46:G53) -> 0 | I45: =SUM(I46:I53) -> 0 | K45: =SUM(K46:K53) -> 0 | M45: =SUM(M46:M53) -> 0 | O45: =SUM(O46:O53) -> 0 | Q45: =SUM(Q46:Q53) -> 0 | V45: =SUM(V46:V53) -> 0 | AG45: DIL
A46: 20 | B46: 005111021R | C46: Vytyčení inženýrských sítí | D46: Soubor | E46: 1 | G46: =ROUND(E46*F46,2) -> 0 | I46: =ROUND(E46*H46,2) -> 0 | K46: =ROUND(E46*J46,2) -> 0 | L46: 21 | M46: =G46*(1+L46/100) -> 0 | N46: 0 | O46: =ROUND(E46*N46,2) -> 0 | P46: 0 | Q46: =ROUND(E46*P46,2) -> 0 | S46: RTS 26/ I | T46: Indiv | U46: 0 | V46: =ROUND(E46*U46,2) -> 0 | X46: VRN | Y46: Běžná | AG46: POL99_8
C47: Zaměření a vytýčení stávajících inženýrských sítí v místě stavby z hlediska jejich ochrany při provádění stavby. | AG47: POP | BA47: =C47 -> Zaměření a vytýčení stávajících inženýrských sítí v místě stavby z hlediska jejich ochrany při provádění stavby.
A48: 21 | B48: 005121 R | C48: Zařízení staveniště | D48: Soubor | E48: 1 | G48: =ROUND(E48*F48,2) -> 0 | I48: =ROUND(E48*H48,2) -> 0 | K48: =ROUND(E48*J48,2) -> 0 | L48: 21 | M48: =G48*(1+L48/100) -> 0 | N48: 0 | O48: =ROUND(E48*N48,2) -> 0 | P48: 0 | Q48: =ROUND(E48*P48,2) -> 0 | S48: RTS 26/ I | T48: Indiv | U48: 0 | V48: =ROUND(E48*U48,2) -> 0 | X48: VRN | Y48: Běžná | AG48: POL99_2
C49: Veškeré náklady spojené s vybudováním, provozem a odstraněním zařízení staveniště. | AG49: POP
A50: 22 | B50: 005124010R | C50: Koordinační činnost | D50: Soubor | E50: 1 | G50: =ROUND(E50*F50,2) -> 0 | I50: =ROUND(E50*H50,2) -> 0 | K50: =ROUND(E50*J50,2) -> 0 | L50: 21 | M50: =G50*(1+L50/100) -> 0 | N50: 0 | O50: =ROUND(E50*N50,2) -> 0 | P50: 0 | Q50: =ROUND(E50*P50,2) -> 0 | S50: RTS 26/ I | T50: Indiv | U50: 0 | V50: =ROUND(E50*U50,2) -> 0 | X50: VRN | Y50: Běžná | AG50: POL99_2
C51: Koordinace stavebních a technologických dodávek stavby. | AG51: POP
A52: 23 | B52: 001 | C52: Měření transmisní a reflektometrickou metodou na volny´ch vláknech optického kabelu NET4GAS na začátku a konci prací | D52: kpl | E52: 1 | G52: =ROUND(E52*F52,2) -> 0 | I52: =ROUND(E52*H52,2) -> 0 | K52: =ROUND(E52*J52,2) -> 0 | L52: 21 | M52: =G52*(1+L52/100) -> 0 | N52: 0 | O52: =ROUND(E52*N52,2) -> 0 | P52: 0 | Q52: =ROUND(E52*P52,2) -> 0 | S52: Vlastní | T52: Indiv | U52: 0 | V52: =ROUND(E52*U52,2) -> 0 | X52: VRN | Y52: Běžná | AG52: POL99_8
C53: Náklady zhotovitele, související s prováděním zkoušek a revizí předepsaných technickými normami nebo objednatelem a které jsou pro provedení díla nezbytné. | AG53: POP | BA53: =C53 -> Náklady zhotovitele, související s prováděním zkoušek a revizí předepsaných technickými normami nebo objednatelem a které jsou pro provedení díla nezbytné.
AE54: 15 | AF54: 21 | AG54: DPH
B55: Celkem | G55: =G8+G16+G27+G45 -> 0 | AE55: =SUMIF(L7:L53,AE54,G7:G53) -> 0 | AF55: =SUMIF(L7:L53,AF54,G7:G53) -> 0 | AG55: SUM
A58: Poznámky uchazeče k zadání
AG59: POPUZIV
AG65: END

Sheet SO301 01 Pol
A1: Položkový rozpočet | AG1: #TypZaznamu#
A2: S: | B2: 10122023 | C2: OPRAVA KOMUNIKACE K MYSLIVNĚ - SYROVICE | AG2: STA
A3: O: | B3: SO301 | C3: DEŠŤOVÁ KANALIZACE | AC3: STA | AG3: OBJ
A4: R: | B4: 01 | C4: ODVODNĚNÍ KOMUNIKACE K MYSLIVNĚ | AG4: ROZ
A6: P.č. | B6: Číslo položky | C6: Název položky | D6: MJ | E6: Množství | F6: Cena / MJ | G6: Celkem | H6: Dodávka | I6: Dodávka celk. | J6: Montáž | K6: Montáž celk. | L6: DPH | M6: Cena s DPH | N6: Hmotnost / MJ | O6: Hmotnost celk.(t) | P6: Dem. hmotnost / MJ | Q6: Dem. hmotnost celk.(t) | R6: Ceník | S6: Cen. soustava / platnost | T6: Cenová úroveň | U6: Nhod / MJ | V6: Nhod celk. | W6: Dodavatel | X6: Typ položky | Y6: Stav položky
A8: Díl: | B8: 1 | C8: Zemní práce | G8: =SUMIF(AG9:AG53,"<>NOR",G9:G53) -> 0 | I8: =SUM(I9:I53) -> 0 | K8: =SUM(K9:K53) -> 0 | M8: =SUM(M9:M53) -> 0 | O8: =SUM(O9:O53) -> 193.85 | Q8: =SUM(Q9:Q53) -> 0 | V8: =SUM(V9:V53) -> 1534.34 | AG8: DIL
A9: 1 | B9: 131301110R00 | C9: Hloubení nezapaž. jam hor.4 do 50 m3, STROJNĚ | D9: m3 | E9: 8.7465 | G9: =ROUND(E9*F9,2) -> 0 | I9: =ROUND(E9*H9,2) -> 0 | K9: =ROUND(E9*J9,2) -> 0 | L9: 21 | M9: =G9*(1+L9/100) -> 0 | N9: 0 | O9: =ROUND(E9*N9,2) -> 0 | P9: 0 | Q9: =ROUND(E9*P9,2) -> 0 | S9: RTS 26/ I | T9: RTS 26/ I | U9: 0.31 | V9: =ROUND(E9*U9,2) -> 2.71 | X9: Práce | Y9: Běžná | AG9: POL1_
C10: výustní objekt dešť. kanalizace : 0,35*7,14*3,5 | E10: 8.7465 | AG10: VV | AH10: 0
A11: 2 | B11: 131301119R00 | C11: Příplatek za lepivost - hloubení nezap.jam v hor.4 | D11: m3 | E11: 8.7465 | G11: =ROUND(E11*F11,2) -> 0 | I11: =ROUND(E11*H11,2) -> 0 | K11: =ROUND(E11*J11,2) -> 0 | L11: 21 | M11: =G11*(1+L11/100) -> 0 | N11: 0 | O11: =ROUND(E11*N11,2) -> 0 | P11: 0 | Q11: =ROUND(E11*P11,2) -> 0 | S11: RTS 26/ I | T11: RTS 26/ I | U11: 0.1024 | V11: =ROUND(E11*U11,2) -> 0.9 | X11: Práce | Y11: Běžná | AG11: POL1_
C12: Odkaz na mn. položky pořadí 1 : 8,74650 | E12: 8.7465 | AG12: VV | AH12: 5
A13: 3 | B13: 131301201R00 | C13: Hloubení zapažených jam v hor.4 do 100 m3 | D13: m3 | E13: 80.8 | G13: =ROUND(E13*F13,2) -> 0 | I13: =ROUND(E13*H13,2) -> 0 | K13: =ROUND(E13*J13,2) -> 0 | L13: 21 | M13: =G13*(1+L13/100) -> 0 | N13: 0 | O13: =ROUND(E13*N13,2) -> 0 | P13: 0 | Q13: =ROUND(E13*P13,2) -> 0 | S13: RTS 26/ I | T13: RTS 26/ I | U13: 2.97 | V13: =ROUND(E13*U13,2) -> 239.98 | X13: Práce | Y13: Běžná | AG13: POL1_
C14: jámy pro šachty : 2,0*2,0*(1,87+2,45+2,15+2,21+2,16+2,2+2,21+1,65+1,65+1,65) | E14: 80.8 | AG14: VV | AH14: 0
A15: 4 | B15: 131301209R00 | C15: Příplatek za lepivost - hloubení zapaž.jam v hor.4 | D15: m3 | E15: 80.8 | G15: =ROUND(E15*F15,2) -> 0 | I15: =ROUND(E15*H15,2) -> 0 | K15: =ROUND(E15*J15,2) -> 0 | L15: 21 | M15: =G15*(1+L15/100) -> 0 | N15: 0 | O15: =ROUND(E15*N15,2) -> 0 | P15: 0 | Q15: =ROUND(E15*P15,2) -> 0 | S15: RTS 26/ I | T15: RTS 26/ I | U15: 0.154 | V15: =ROUND(E15*U15,2) -> 12.44 | X15: Práce | Y15: Běžná | AG15: POL1_
C16: Odkaz na mn. položky pořadí 3 : 80,80000 | E16: 80.8 | AG16: VV | AH16: 5
A17: 5 | B17: 132301212R00 | C17: Hloubení rýh š.do 200 cm hor.4 do 1000 m3, STROJNĚ | D17: m3 | E17: 414.2574 | G17: =ROUND(E17*F17,2) -> 0 | I17: =ROUND(E17*H17,2) -> 0 | K17: =ROUND(E17*J17,2) -> 0 | L17: 21 | M17: =G17*(1+L17/100) -> 0 | N17: 0 | O17: =ROUND(E17*N17,2) -> 0 | P17: 0 | Q17: =ROUND(E17*P17,2) -> 0 | S17: RTS 26/ I | T17: RTS 26/ I | U17: 0.3 | V17: =ROUND(E17*U17,2) -> 124.28 | X17: Práce | Y17: Běžná | AG17: POL1_
C18: větev V1 : 0,8*(2,15*42,0+2,2*50,95+2,25*19,15+2,2*35,49+2,25*16,025+2,2*12,05) | E18: 308.8974 | AG18: VV | AH18: 0
C19: větev V2 : 0,8*(1,6*54,75+1,5*17,5+2,3*17,5) | E19: 123.28 | AG19: VV | AH19: 0
C20: napojení uličních vpustí : 0,8*2,0*(4,5+2,0+1,0+1,5) | E20: 14.4 | AG20: VV | AH20: 0
C21: odečet v místě jam pro šachty : -0,8*2,0*(1,87+2,45+2,15+2,21+2,16+2,2+2,21+1,65+1,65+1,65) | E21: -32.32 | AG21: VV | AH21: 0
A22: 6 | B22: 132301219R00 | C22: Přípl.za lepivost,hloubení rýh 200cm,hor.4,STROJNĚ | D22: m3 | E22: 414.2574 | G22: =ROUND(E22*F22,2) -> 0 | I22: =ROUND(E22*H22,2) -> 0 | K22: =ROUND(E22*J22,2) -> 0 | L22: 21 | M22: =G22*(1+L22/100) -> 0 | N22: 0 | O22: =ROUND(E22*N22,2) -> 0 | P22: 0 | Q22: =ROUND(E22*P22,2) -> 0 | S22: RTS 26/ I | T22: RTS 26/ I | U22: 0.15 | V22: =ROUND(E22*U22,2) -> 62.14 | X22: Práce | Y22: Běžná | AG22: POL1_
C23: Odkaz na mn. položky pořadí 5 : 414,25740 | E23: 414.2574 | AG23: VV | AH23: 5
A24: 7 | B24: 151101102R00 | C24: Pažení a rozepření stěn rýh - příložné - hl.do 4 m | D24: m2 | E24: 999.6435 | G24: =ROUND(E24*F24,2) -> 0 | I24: =ROUND(E24*H24,2) -> 0 | K24: =ROUND(E24*J24,2) -> 0 | L24: 21 | M24: =G24*(1+L24/100) -> 0 | N24: 0.00086 | O24: =ROUND(E24*N24,2) -> 0.86 | P24: 0 | Q24: =ROUND(E24*P24,2) -> 0 | S24: RTS 26/ I | T24: RTS 26/ I | U24: 0.48 | V24: =ROUND(E24*U24,2) -> 479.83 | X24: Práce | Y24: Běžná | AG24: POL1_
C25: větev V1 : 2*(2,15*42,0+2,2*50,95+2,25*19,15+2,2*35,49+2,25*16,025+2,2*12,05) | E25: 772.2435 | AG25: VV | AH25: 0
C26: větev V2 : 2*(1,6*54,75+1,5*17,5+2,3*17,5) | E26: 308.2 | AG26: VV | AH26: 0
C27: odečet v místě jam pro šachty : -2*2,0*(1,87+2,45+2,15+2,21+2,16+2,2+2,21+1,65+1,65+1,65) | E27: -80.8 | AG27: VV | AH27: 0
A28: 8 | B28: 151101112R00 | C28: Odstranění pažení stěn rýh - příložné - hl. do 4 m | D28: m2 | E28: 999.6435 | G28: =ROUND(E28*F28,2) -> 0 | I28: =ROUND(E28*H28,2) -> 0 | K28: =ROUND(E28*J28,2) -> 0 | L28: 21 | M28: =G28*(1+L28/100) -> 0 | N28: 0 | O28: =ROUND(E28*N28,2) -> 0 | P28: 0 | Q28: =ROUND(E28*P28,2) -> 0 | S28: RTS 26/ I | T28: RTS 26/ I | U28: 0.33 | V28: =ROUND(E28*U28,2) -> 329.88 | X28: Práce | Y28: Běžná | AG28: POL1_
C29: Odkaz na mn. položky pořadí 7 : 999,64350 | E29: 999.6435 | AG29: VV | AH29: 5
A30: 9 | B30: 151101201R00 | C30: Pažení stěn výkopu - příložné - hloubky do 4 m | D30: m2 | E30: 161.6 | G30: =ROUND(E30*F30,2) -> 0 | I30: =ROUND(E30*H30,2) -> 0 | K30: =ROUND(E30*J30,2) -> 0 | L30: 21 | M30: =G30*(1+L30/100) -> 0 | N30: 0.0007 | O30: =ROUND(E30*N30,2) -> 0.11 | P30: 0 | Q30: =ROUND(E30*P30,2) -> 0 | S30: RTS 26/ I | T30: RTS 26/ I | U30: 0.16 | V30: =ROUND(E30*U30,2) -> 25.86 | X30: Práce | Y30: Běžná | AG30: POL1_
C31: jámy pro šachty : 4*2,0*(1,87+2,45+2,15+2,21+2,16+2,2+2,21+1,65+1,65+1,65) | E31: 161.6 | AG31: VV | AH31: 0
A32: 10 | B32: 151101211R00 | C32: Odstranění pažení stěn - příložné - hl. do 4 m | D32: m2 | E32: 161.6 | G32: =ROUND(E32*F32,2) -> 0 | I32: =ROUND(E32*H32,2) -> 0 | K32: =ROUND(E32*J32,2) -> 0 | L32: 21 | M32: =G32*(1+L32/100) -> 0 | N32: 0 | O32: =ROUND(E32*N32,2) -> 0 | P32: 0 | Q32: =ROUND(E32*P32,2) -> 0 | S32: RTS 26/ I | T32: RTS 26/ I | U32: 0.1 | V32: =ROUND(E32*U32,2) -> 16.16 | X32: Práce | Y32: Běžná | AG32: POL1_
C33: Odkaz na mn. položky pořadí 9 : 161,60000 | E33: 161.6 | AG33: VV | AH33: 5
A34: 11 | B34: 162601102R00 | C34: Vodorovné přemístění výkopku z hor.1-4 do 5000 m | D34: m3 | E34: 279.49588 | G34: =ROUND(E34*F34,2) -> 0 | I34: =ROUND(E34*H34,2) -> 0 | K34: =ROUND(E34*J34,2) -> 0 | L34: 21 | M34: =G34*(1+L34/100) -> 0 | N34: 0 | O34: =ROUND(E34*N34,2) -> 0 | P34: 0 | Q34: =ROUND(E34*P34,2) -> 0 | S34: RTS 26/ I | T34: RTS 26/ I | U34: 0.01 | V34: =ROUND(E34*U34,2) -> 2.79 | X34: Práce | Y34: Běžná | AG34: POL1_
C35: Odkaz na mn. položky pořadí 1 : 8,74650 | E35: 8.7465 | AG35: VV | AH35: 5
C36: Odkaz na mn. položky pořadí 3 : 80,80000 | E36: 80.8 | AG36: VV | AH36: 5
C37: Odkaz na mn. položky pořadí 5 : 414,25740 | E37: 414.2574 | AG37: VV | AH37: 5
C38: Odkaz na mn. položky pořadí 13 : 270,89067*-1 | E38: -270.89067 | AG38: VV | AH38: 5
C39: Koeficient +koef. nakypření: 0,2 | E39: 46.58265 | AG39: VV | AH39: 4
A40: 12 | B40: 171201201R00 | C40: Uložení sypaniny na skl.-sypanina na výšku přes 2m | D40: m3 | E40: 279.49588 | G40: =ROUND(E40*F40,2) -> 0 | I40: =ROUND(E40*H40,2) -> 0 | K40: =ROUND(E40*J40,2) -> 0 | L40: 21 | M40: =G40*(1+L40/100) -> 0 | N40: 0 | O40: =ROUND(E40*N40,2) -> 0 | P40: 0 | Q40: =ROUND(E40*P40,2) -> 0 | S40: RTS 26/ I | T40: RTS 26/ I | U40: 0.01 | V40: =ROUND(E40*U40,2) -> 2.79 | X40: Práce | Y40: Běžná | AG40: POL1_
C41: Odkaz na mn. položky pořadí 11 : 279,49588 | E41: 279.49588 | AG41: VV | AH41: 5
A42: 13 | B42: 174101101R00 | C42: Zásyp jam, rýh, šachet se zhutněním | D42: m3 | E42: 270.89067 | G42: =ROUND(E42*F42,2) -> 0 | I42: =ROUND(E42*H42,2) -> 0 | K42: =ROUND(E42*J42,2) -> 0 | L42: 21 | M42: =G42*(1+L42/100) -> 0 | N42: 0 | O42: =ROUND(E42*N42,2) -> 0 | P42: 0 | Q42: =ROUND(E42*P42,2) -> 0 | S42: RTS 26/ I | T42: RTS 26/ I | U42: 0.2 | V42: =ROUND(E42*U42,2) -> 54.18 | X42: Práce | Y42: Běžná | AG42: POL1_
C43: včetně strojního přemístění materiálu pro zásyp ze vzdálenosti do 10 m od okraje zásypu | AG43: POP
C44: větev V1 : 0,8*((2,15-1,2)*42,0+(2,2-1,2)*50,95+(2,25-1,2)*19,15+(2,2-1,2)*35,49+(2,25-1,2)*16,025+(2,2-1,2)*12,05) | E44: 140.259 | AG44: VV | AH44: 0
C45: větev V2 : 0,8*((1,6-0,75)*54,75+(1,5-0,75)*17,5+(2,3-0,75)*17,5) | E45: 69.43 | AG45: VV | AH45: 0
C46: napojení uličních vpustí : 0,8*1,0*(4,5+2,0+1,0+1,5) | E46: 7.2 | AG46: VV | AH46: 0
C47: jámy pro šachty : 2,0*2,0*(1,87+2,45+2,15+2,21+2,16+2,2+2,21+1,65+1,65+1,65)-3,14*0,65*0,65*(1,87+2,45+2,15+2,21+2,16+2,2+2,21+1,65+1,65+1,65) | E47: 54.00167 | AG47: VV | AH47: 0
A48: 14 | B48: 175101101RT2 | C48: Obsyp potrubí bez prohození sypaniny s dodáním písku | D48: m3 | E48: 113.45882 | G48: =ROUND(E48*F48,2) -> 0 | I48: =ROUND(E48*H48,2) -> 0 | K48: =ROUND(E48*J48,2) -> 0 | L48: 21 | M48: =G48*(1+L48/100) -> 0 | N48: 1.7 | O48: =ROUND(E48*N48,2) -> 192.88 | P48: 0 | Q48: =ROUND(E48*P48,2) -> 0 | S48: RTS 26/ I | T48: RTS 26/ I | U48: 1.59 | V48: =ROUND(E48*U48,2) -> 180.4 | X48: Práce | Y48: Běžná | AG48: POL1_
C49: větev V1 : 175,35*0,8*0,6-3,14*0,15*0,15*175,35 | E49: 71.77952 | AG49: VV | AH49: 0
C50: větev V2 : 91,77*0,8*0,6-3,14*0,15*0,15*91,77 | E50: 37.56605 | AG50: VV | AH50: 0
C51: uliční vpusti : (6,0+2,5+3,8+2,0+3,2+1,0)*0,8*0,3-3,14*0,075*0,075*(6,0+2,5+3,8+2,0+3,2+1,0) | E51: 4.11324 | AG51: VV | AH51: 0
A52: 15 | B52: 199000002R00 | C52: Poplatek za skládku horniny 1- 4 | D52: m3 | E52: 279.49588 | G52: =ROUND(E52*F52,2) -> 0 | I52: =ROUND(E52*H52,2) -> 0 | K52: =ROUND(E52*J52,2) -> 0 | L52: 21 | M52: =G52*(1+L52/100) -> 0 | N52: 0 | O52: =ROUND(E52*N52,2) -> 0 | P52: 0 | Q52: =ROUND(E52*P52,2) -> 0 | S52: RTS 26/ I | T52: RTS 26/ I | U52: 0 | V52: =ROUND(E52*U52,2) -> 0 | X52: Práce | Y52: Běžná | AG52: POL1_
C53: Odkaz na mn. položky pořadí 11 : 279,49588 | E53: 279.49588 | AG53: VV | AH53: 5
A54: Díl: | B54: 4 | C54: Vodorovné konstrukce | G54: =SUMIF(AG55:AG60,"<>NOR",G55:G60) -> 0 | I54: =SUM(I55:I60) -> 0 | K54: =SUM(K55:K60) -> 0 | M54: =SUM(M55:M60) -> 0 | O54: =SUM(O55:O60) -> 65.75 | Q54: =SUM(Q55:Q60) -> 0 | V54: =SUM(V55:V60) -> 58.81 | AG54: DIL
A55: 16 | B55: 451572111R00 | C55: Lože pod potrubí z kameniva těženého 0 - 4 mm | D55: m3 | E55: 34.2744 | G55: =ROUND(E55*F55,2) -> 0 | I55: =ROUND(E55*H55,2) -> 0 | K55: =ROUND(E55*J55,2) -> 0 | L55: 21 | M55: =G55*(1+L55/100) -> 0 | N55: 1.89077 | O55: =ROUND(E55*N55,2) -> 64.81 | P55: 0 | Q55: =ROUND(E55*P55,2) -> 0 | S55: RTS 26/ I | T55: RTS 26/ I | U55: 1.7 | V55: =ROUND(E55*U55,2) -> 58.27 | X55: Práce | Y55: Běžná | AG55: POL1_
C56: větev V1 : 175,35*0,8*0,15 | E56: 21.042 | AG56: VV | AH56: 0
C57: větev V2 : 91,77*0,8*0,15 | E57: 11.0124 | AG57: VV | AH57: 0
C58: uliční vpusti : (6,0+2,5+3,8+2,0+3,2+1,0)*0,8*0,15 | E58: 2.22 | AG58: VV | AH58: 0
A59: 17 | B59: 452311121R00 | C59: Desky podkladní pod potrubí z betonu C 8/10 | D59: m3 | E59: 0.375 | G59: =ROUND(E59*F59,2) -> 0 | I59: =ROUND(E59*H59,2) -> 0 | K59: =ROUND(E59*J59,2) -> 0 | L59: 21 | M59: =G59*(1+L59/100) -> 0 | N59: 2.5 | O59: =ROUND(E59*N59,2) -> 0.94 | P59: 0 | Q59: =ROUND(E59*P59,2) -> 0 | S59: RTS 26/ I | T59: RTS 26/ I | U59: 1.45 | V59: =ROUND(E59*U59,2) -> 0.54 | X59: Práce | Y59: Běžná | AG59: POL1_
C60: 30*0,5*0,5*0,05 | E60: 0.375 | AG60: VV | AH60: 0
A61: Díl: | B61: 5 | C61: Komunikace | G61: =SUMIF(AG62:AG84,"<>NOR",G62:G84) -> 0 | I61: =SUM(I62:I84) -> 0 | K61: =SUM(K62:K84) -> 0 | M61: =SUM(M62:M84) -> 0 | O61: =SUM(O62:O84) -> 26.4 | Q61: =SUM(Q62:Q84) -> 0 | V61: =SUM(V62:V84) -> 55.58 | AG61: DIL
A62: 18 | B62: 511311013R00 | C62: Práh nebo deska z betonu prostého C 16/20 | D62: m3 | E62: 1.582 | G62: =ROUND(E62*F62,2) -> 0 | I62: =ROUND(E62*H62,2) -> 0 | K62: =ROUND(E62*J62,2) -> 0 | L62: 21 | M62: =G62*(1+L62/100) -> 0 | N62: 2.52513 | O62: =ROUND(E62*N62,2) -> 3.99 | P62: 0 | Q62: =ROUND(E62*P62,2) -> 0 | S62: RTS 26/ I | T62: RTS 26/ I | U62: 0.83 | V62: =ROUND(E62*U62,2) -> 1.31 | X62: Práce | Y62: Běžná | AG62: POL1_
C63: Včetně zřízení kapes pro osazení kotevních háků pro upevnění kolejnic. | AG63: POP
C64: výustní objekt - betonový lem : 0,2*0,35*(3,5*2+7,8*2) | E64: 1.582 | AG64: VV | AH64: 0
A65: 19 | B65: 594411111RT2 | C65: Dlažba z lomového kamene,lože z MC do 5 cm tloušťky 200 mm, tř. 1, včetně dodávky kamene | D65: m2 | E65: 1.55 | G65: =ROUND(E65*F65,2) -> 0 | I65: =ROUND(E65*H65,2) -> 0 | K65: =ROUND(E65*J65,2) -> 0 | L65: 21 | M65: =G65*(1+L65/100) -> 0 | N65: 0.612 | O65: =ROUND(E65*N65,2) -> 0.95 | P65: 0 | Q65: =ROUND(E65*P65,2) -> 0 | S65: RTS 26/ I | T65: RTS 26/ I | U65: 0.83 | V65: =ROUND(E65*U65,2) -> 1.29 | X65: Práce | Y65: Běžná | AG65: POL1_
C66: dno výústního objektu dešťové kanalizace : 0,5*3,10 | E66: 1.55 | AG66: VV | AH66: 0
A67: 20 | B67: 597121211R00 | C67: Montáž odvod.mikroštěrbinových trub -trouba dl.1 m | D67: kus | E67: 8 | G67: =ROUND(E67*F67,2) -> 0 | I67: =ROUND(E67*H67,2) -> 0 | K67: =ROUND(E67*J67,2) -> 0 | L67: 21 | M67: =G67*(1+L67/100) -> 0 | N67: 0.14364 | O67: =ROUND(E67*N67,2) -> 1.15 | P67: 0 | Q67: =ROUND(E67*P67,2) -> 0 | S67: RTS 26/ I | T67: RTS 26/ I | U67: 0.56 | V67: =ROUND(E67*U67,2) -> 4.48 | X67: Práce | Y67: Běžná | AG67: POL1_
C68: 8 | E68: 8 | AG68: VV | AH68: 0
A69: 21 | B69: 597121251R00 | C69: Montáž odvodňov. mikroštěrbinových trub - vpusť | D69: kus | E69: 1 | G69: =ROUND(E69*F69,2) -> 0 | I69: =ROUND(E69*H69,2) -> 0 | K69: =ROUND(E69*J69,2) -> 0 | L69: 21 | M69: =G69*(1+L69/100) -> 0 | N69: 0.14364 | O69: =ROUND(E69*N69,2) -> 0.14 | P69: 0 | Q69: =ROUND(E69*P69,2) -> 0 | S69: RTS 26/ I | T69: RTS 26/ I | U69: 5.04 | V69: =ROUND(E69*U69,2) -> 5.04 | X69: Práce | Y69: Běžná | AG69: POL1_
C70: 1 | E70: 1 | AG70: VV | AH70: 0
A71: 22 | B71: 597121261R00 | C71: Montáž odvod.mikroštěrbinových trub - čisticí kus | D71: kus | E71: 2 | G71: =ROUND(E71*F71,2) -> 0 | I71: =ROUND(E71*H71,2) -> 0 | K71: =ROUND(E71*J71,2) -> 0 | L71: 21 | M71: =G71*(1+L71/100) -> 0 | N71: 0.14364 | O71: =ROUND(E71*N71,2) -> 0.29 | P71: 0 | Q71: =ROUND(E71*P71,2) -> 0 | S71: RTS 26/ I | T71: RTS 26/ I | U71: 0.7 | V71: =ROUND(E71*U71,2) -> 1.4 | X71: Práce | Y71: Běžná | AG71: POL1_
C72: 2 | E72: 2 | AG72: VV | AH72: 0
A73: 23 | B73: 597121291R00 | C73: Montáž odvodňov.mikroštěrbinových trub - záslepka | D73: kus | E73: 2 | G73: =ROUND(E73*F73,2) -> 0 | I73: =ROUND(E73*H73,2) -> 0 | K73: =ROUND(E73*J73,2) -> 0 | L73: 21 | M73: =G73*(1+L73/100) -> 0 | N73: 0.00036 | O73: =ROUND(E73*N73,2) -> 0 | P73: 0 | Q73: =ROUND(E73*P73,2) -> 0 | S73: RTS 26/ I | T73: RTS 26/ I | U73: 0.2 | V73: =ROUND(E73*U73,2) -> 0.4 | X73: Práce | Y73: Běžná | AG73: POL1_
C74: 2 | E74: 2 | AG74: VV | AH74: 0
A75: 24 | B75: 582103212R00 | C75: Zpevnění svahu 1:2 lomovým kamenem včetně dodávky kamene | D75: m2 | E75: 21.7 | G75: =ROUND(E75*F75,2) -> 0 | I75: =ROUND(E75*H75,2) -> 0 | K75: =ROUND(E75*J75,2) -> 0 | L75: 21 | M75: =G75*(1+L75/100) -> 0 | N75: 0.85267 | O75: =ROUND(E75*N75,2) -> 18.5 | P75: 0 | Q75: =ROUND(E75*P75,2) -> 0 | S75: Vlastní | T75: Indiv | U75: 1.92 | V75: =ROUND(E75*U75,2) -> 41.66 | X75: Práce | Y75: Běžná | AG75: POL1_
C76: boky výústního objektu dešťové kanalizace : 7,0*3,1 | E76: 21.7 | AG76: VV | AH76: 0
A77: 25 | B77: 59229000R | C77: Trouba mikroštěrbinová 200x200x1000 mm | D77: kus | E77: 8 | G77: =ROUND(E77*F77,2) -> 0 | I77: =ROUND(E77*H77,2) -> 0 | K77: =ROUND(E77*J77,2) -> 0 | L77: 21 | M77: =G77*(1+L77/100) -> 0 | N77: 0.103 | O77: =ROUND(E77*N77,2) -> 0.82 | P77: 0 | Q77: =ROUND(E77*P77,2) -> 0 | R77: SPCM | S77: RTS 26/ I | T77: RTS 26/ I | U77: 0 | V77: =ROUND(E77*U77,2) -> 0 | X77: Specifikace | Y77: Běžná | AG77: POL3_
C78: 8 | E78: 8 | AG78: VV | AH78: 0
A79: 26 | B79: 59229007R | C79: Záslepka 100x200x200 mm | D79: kus | E79: 2 | G79: =ROUND(E79*F79,2) -> 0 | I79: =ROUND(E79*H79,2) -> 0 | K79: =ROUND(E79*J79,2) -> 0 | L79: 21 | M79: =G79*(1+L79/100) -> 0 | N79: 0.015 | O79: =ROUND(E79*N79,2) -> 0.03 | P79: 0 | Q79: =ROUND(E79*P79,2) -> 0 | R79: SPCM | S79: RTS 26/ I | T79: RTS 26/ I | U79: 0 | V79: =ROUND(E79*U79,2) -> 0 | X79: Specifikace | Y79: Běžná | AG79: POL3_
C80: 2 | E80: 2 | AG80: VV | AH80: 0
A81: 27 | B81: 59229903R | C81: Komplet vpustový 500x200x200 mm vč. litinové mříže | D81: kus | E81: 1 | G81: =ROUND(E81*F81,2) -> 0 | I81: =ROUND(E81*H81,2) -> 0 | K81: =ROUND(E81*J81,2) -> 0 | L81: 21 | M81: =G81*(1+L81/100) -> 0 | N81: 0.238 | O81: =ROUND(E81*N81,2) -> 0.24 | P81: 0 | Q81: =ROUND(E81*P81,2) -> 0 | S81: Vlastní | T81: Indiv | U81: 0 | V81: =ROUND(E81*U81,2) -> 0 | X81: Specifikace | Y81: Běžná | AG81: POL3_
C82: 1 | E82: 1 | AG82: VV | AH82: 0
A83: 28 | B83: 59229905R | C83: Kus čisticí základní 500x200x200 mm vč. litinové mříže | D83: kus | E83: 2 | G83: =ROUND(E83*F83,2) -> 0 | I83: =ROUND(E83*H83,2) -> 0 | K83: =ROUND(E83*J83,2) -> 0 | L83: 21 | M83: =G83*(1+L83/100) -> 0 | N83: 0.144 | O83: =ROUND(E83*N83,2) -> 0.29 | P83: 0 | Q83: =ROUND(E83*P83,2) -> 0 | S83: Vlastní | T83: Indiv | U83: 0 | V83: =ROUND(E83*U83,2) -> 0 | X83: Specifikace | Y83: Běžná | AG83: POL3_
C84: 2 | E84: 2 | AG84: VV | AH84: 0
A85: Díl: | B85: 8 | C85: Trubní vedení | G85: =SUMIF(AG86:AG122,"<>NOR",G86:G122) -> 0 | I85: =SUM(I86:I122) -> 0 | K85: =SUM(K86:K122) -> 0 | M85: =SUM(M86:M122) -> 0 | O85: =SUM(O86:O122) -> 63.92 | Q85: =SUM(Q86:Q122) -> 0 | V85: =SUM(V86:V122) -> 361.34 | AG85: DIL
A86: 29 | B86: 871313121R00 | C86: Montáž trub z plastu, gumový kroužek, DN 150 | D86: m | E86: 18.5 | G86: =ROUND(E86*F86,2) -> 0 | I86: =ROUND(E86*H86,2) -> 0 | K86: =ROUND(E86*J86,2) -> 0 | L86: 21 | M86: =G86*(1+L86/100) -> 0 | N86: 0 | O86: =ROUND(E86*N86,2) -> 0 | P86: 0 | Q86: =ROUND(E86*P86,2) -> 0 | S86: RTS 26/ I | T86: RTS 26/ I | U86: 0.07 | V86: =ROUND(E86*U86,2) -> 1.3 | X86: Práce | Y86: Běžná | AG86: POL1_
C87: 6,0+2,5+3,8+2,0+3,2+1,0 | E87: 18.5 | AG87: VV | AH87: 0
A88: 30 | B88: 871373121R00 | C88: Montáž trub z plastu, gumový kroužek, DN 300 | D88: m | E88: 267.12 | G88: =ROUND(E88*F88,2) -> 0 | I88: =ROUND(E88*H88,2) -> 0 | K88: =ROUND(E88*J88,2) -> 0 | L88: 21 | M88: =G88*(1+L88/100) -> 0 | N88: 1e-05 | O88: =ROUND(E88*N88,2) -> 0 | P88: 0 | Q88: =ROUND(E88*P88,2) -> 0 | S88: RTS 26/ I | T88: RTS 26/ I | U88: 0.1 | V88: =ROUND(E88*U88,2) -> 26.71 | X88: Práce | Y88: Běžná | AG88: POL1_
C89: větev V1 : 175,35 | E89: 175.35 | AG89: VV | AH89: 0
C90: větev V2 : 91,77 | E90: 91.77 | AG90: VV | AH90: 0
A91: 31 | B91: 877313123R00 | C91: Montáž tvarovek jednoos. plast. gum.kroužek DN 150 | D91: kus | E91: 12 | G91: =ROUND(E91*F91,2) -> 0 | I91: =ROUND(E91*H91,2) -> 0 | K91: =ROUND(E91*J91,2) -> 0 | L91: 21 | M91: =G91*(1+L91/100) -> 0 | N91: 1e-05 | O91: =ROUND(E91*N91,2) -> 0 | P91: 0 | Q91: =ROUND(E91*P91,2) -> 0 | S91: RTS 26/ I | T91: RTS 26/ I | U91: 0.18 | V91: =ROUND(E91*U91,2) -> 2.16 | X91: Práce | Y91: Běžná | AG91: POL1_
A92: 32 | B92: 877373121R00 | C92: Montáž tvarovek odboč. plast. gum. kroužek DN 300 | D92: kus | E92: 5 | G92: =ROUND(E92*F92,2) -> 0 | I92: =ROUND(E92*H92,2) -> 0 | K92: =ROUND(E92*J92,2) -> 0 | L92: 21 | M92: =G92*(1+L92/100) -> 0 | N92: 5e-05 | O92: =ROUND(E92*N92,2) -> 0 | P92: 0 | Q92: =ROUND(E92*P92,2) -> 0 | S92: RTS 26/ I | T92: RTS 26/ I | U92: 0.42 | V92: =ROUND(E92*U92,2) -> 2.1 | X92: Práce | Y92: Běžná | AG92: POL1_
A93: 33 | B93: 894118001RT2 | C93: Příplatek za dalších 0,60 m výšky vstupu včetně 1 ks skruže TBS-Q 250/100/120 SP | D93: kus | E93: 10 | G93: =ROUND(E93*F93,2) -> 0 | I93: =ROUND(E93*H93,2) -> 0 | K93: =ROUND(E93*J93,2) -> 0 | L93: 21 | M93: =G93*(1+L93/100) -> 0 | N93: 0.22267 | O93: =ROUND(E93*N93,2) -> 2.23 | P93: 0 | Q93: =ROUND(E93*P93,2) -> 0 | S93: RTS 26/ I | T93: RTS 26/ I | U93: 3.02 | V93: =ROUND(E93*U93,2) -> 30.2 | X93: Práce | Y93: Běžná | AG93: POL1_
C94: 10 | E94: 10 | AG94: VV | AH94: 0
A95: 34 | B95: 894411121RT2 | C95: Zřízení šachet z dílců, dno C25/30, potrubí DN 300 včetně dílců TBS-Q 100/50 PS a TBR-Q 100-63/58 KPS | D95: kus | E95: 10 | G95: =ROUND(E95*F95,2) -> 0 | I95: =ROUND(E95*H95,2) -> 0 | K95: =ROUND(E95*J95,2) -> 0 | L95: 21 | M95: =G95*(1+L95/100) -> 0 | N95: 3.08533 | O95: =ROUND(E95*N95,2) -> 30.85 | P95: 0 | Q95: =ROUND(E95*P95,2) -> 0 | S95: RTS 26/ I | T95: RTS 26/ I | U95: 21.29 | V95: =ROUND(E95*U95,2) -> 212.9 | X95: Práce | Y95: Běžná | AG95: POL1_
C96: 10 | E96: 10 | AG96: VV | AH96: 0
A97: 35 | B97: 895941311RT2 | C97: Zřízení vpusti uliční z dílců typ UVB - 50 včetně dodávky dílců pro uliční vpusti TBV | D97: kus | E97: 6 | G97: =ROUND(E97*F97,2) -> 0 | I97: =ROUND(E97*H97,2) -> 0 | K97: =ROUND(E97*J97,2) -> 0 | L97: 21 | M97: =G97*(1+L97/100) -> 0 | N97: 3.05967 | O97: =ROUND(E97*N97,2) -> 18.36 | P97: 0 | Q97: =ROUND(E97*P97,2) -> 0 | S97: RTS 26/ I | T97: RTS 26/ I | U97: 5.02 | V97: =ROUND(E97*U97,2) -> 30.12 | X97: Práce | Y97: Běžná | AG97: POL1_
C98: 6 | E98: 6 | AG98: VV | AH98: 0
A99: 36 | B99: 899331111R00 | C99: Výšková úprava vstupu do 20 cm, zvýšení poklopu | D99: kus | E99: 10 | G99: =ROUND(E99*F99,2) -> 0 | I99: =ROUND(E99*H99,2) -> 0 | K99: =ROUND(E99*J99,2) -> 0 | L99: 21 | M99: =G99*(1+L99/100) -> 0 | N99: 0.43094 | O99: =ROUND(E99*N99,2) -> 4.31 | P99: 0 | Q99: =ROUND(E99*P99,2) -> 0 | S99: RTS 26/ I | T99: RTS 26/ I | U99: 3.82 | V99: =ROUND(E99*U99,2) -> 38.2 | X99: Práce | Y99: Běžná | AG99: POL1_
C100: 10 | E100: 10 | AG100: VV | AH100: 0
A101: 37 | B101: 899203111RT3 | C101: Osazení mříží litinových s rámem do 150 kg včetně dodávky vtokové mříže 500 x 500 mm, D400 | D101: kus | E101: 5 | G101: =ROUND(E101*F101,2) -> 0 | I101: =ROUND(E101*H101,2) -> 0 | K101: =ROUND(E101*J101,2) -> 0 | L101: 21 | M101: =G101*(1+L101/100) -> 0 | N101: 0.09436 | O101: =ROUND(E101*N101,2) -> 0.47 | P101: 0 | Q101: =ROUND(E101*P101,2) -> 0 | S101: RTS 26/ I | T101: RTS 26/ I | U101: 1.69 | V101: =ROUND(E101*U101,2) -> 8.45 | X101: Práce | Y101: Běžná | AG101: POL1_
C102: 5 | E102: 5 | AG102: VV | AH102: 0
...

Sheet SO401 01 Pol
A1: Položkový rozpočet | AG1: #TypZaznamu#
A2: S: | B2: 10122023 | C2: OPRAVA KOMUNIKACE K MYSLIVNĚ - SYROVICE | AG2: STA
A3: O: | B3: SO401 | C3: PRODLOUŽENÍ VEŘEJNÉHO OSVĚTLENÍ | AC3: STA | AG3: OBJ
A4: R: | B4: 01 | C4: VEŘEJNÉ OSVĚTLENÍ - K MYSLIVNĚ | AG4: ROZ
A6: P.č. | B6: Číslo položky | C6: Název položky | D6: MJ | E6: Množství | F6: Cena / MJ | G6: Celkem | H6: Dodávka | I6: Dodávka celk. | J6: Montáž | K6: Montáž celk. | L6: DPH | M6: Cena s DPH | N6: Hmotnost / MJ | O6: Hmotnost celk.(t) | P6: Dem. hmotnost / MJ | Q6: Dem. hmotnost celk.(t) | R6: Ceník | S6: Cen. soustava / platnost | T6: Cenová úroveň | U6: Nhod / MJ | V6: Nhod celk. | W6: Dodavatel | X6: Typ položky | Y6: Stav položky
A8: Díl: | B8: HZS | C8: HODINOVÁ ZÚČTOVACÍ SAZBA | G8: =SUMIF(AG9:AG12,"<>NOR",G9:G12) -> 0 | I8: =SUM(I9:I12) -> 0 | K8: =SUM(K9:K12) -> 0 | M8: =SUM(M9:M12) -> 0 | O8: =SUM(O9:O12) -> 0 | Q8: =SUM(Q9:Q12) -> 0 | V8: =SUM(V9:V12) -> 0 | AG8: DIL
A9: 1 | B9: 1 | C9: Koordinace prací | D9: hod | E9: 15 | G9: =ROUND(E9*F9,2) -> 0 | I9: =ROUND(E9*H9,2) -> 0 | K9: =ROUND(E9*J9,2) -> 0 | L9: 21 | M9: =G9*(1+L9/100) -> 0 | N9: 0 | O9: =ROUND(E9*N9,2) -> 0 | P9: 0 | Q9: =ROUND(E9*P9,2) -> 0 | S9: Vlastní | T9: Indiv | U9: 0 | V9: =ROUND(E9*U9,2) -> 0 | X9: Práce | Y9: Běžná | AG9: POL1_
A10: 2 | B10: 2 | C10: Montážní plošina | D10: hod | E10: 15 | G10: =ROUND(E10*F10,2) -> 0 | I10: =ROUND(E10*H10,2) -> 0 | K10: =ROUND(E10*J10,2) -> 0 | L10: 21 | M10: =G10*(1+L10/100) -> 0 | N10: 0 | O10: =ROUND(E10*N10,2) -> 0 | P10: 0 | Q10: =ROUND(E10*P10,2) -> 0 | S10: Vlastní | T10: Indiv | U10: 0 | V10: =ROUND(E10*U10,2) -> 0 | X10: Práce | Y10: Běžná | AG10: POL1_
A11: 3 | B11: 3 | C11: Neměřitelné práce | D11: hod | E11: 10 | G11: =ROUND(E11*F11,2) -> 0 | I11: =ROUND(E11*H11,2) -> 0 | K11: =ROUND(E11*J11,2) -> 0 | L11: 21 | M11: =G11*(1+L11/100) -> 0 | N11: 0 | O11: =ROUND(E11*N11,2) -> 0 | P11: 0 | Q11: =ROUND(E11*P11,2) -> 0 | S11: Vlastní | T11: Indiv | U11: 0 | V11: =ROUND(E11*U11,2) -> 0 | X11: Práce | Y11: Běžná | AG11: POL1_
A12: 4 | B12: 4 | C12: Zaregulování a nastavení svítidel - sklon, směřování, požadovaný světlený tok | D12: hod | E12: 8 | G12: =ROUND(E12*F12,2) -> 0 | I12: =ROUND(E12*H12,2) -> 0 | K12: =ROUND(E12*J12,2) -> 0 | L12: 21 | M12: =G12*(1+L12/100) -> 0 | N12: 0 | O12: =ROUND(E12*N12,2) -> 0 | P12: 0 | Q12: =ROUND(E12*P12,2) -> 0 | S12: Vlastní | T12: Indiv | U12: 0 | V12: =ROUND(E12*U12,2) -> 0 | X12: Práce | Y12: Běžná | AG12: POL1_
A13: Díl: | B13: M11 | C13: Materiály | G13: =SUMIF(AG14:AG47,"<>NOR",G14:G47) -> 0 | I13: =SUM(I14:I47) -> 0 | K13: =SUM(K14:K47) -> 0 | M13: =SUM(M14:M47) -> 0 | O13: =SUM(O14:O47) -> 1.14 | Q13: =SUM(Q14:Q47) -> 0 | V13: =SUM(V14:V47) -> 0 | AG13: DIL
A14: 5 | B14: 1008379 | C14: Led svítidlo pouličním led svítidlem 18W teplotu chromatičnosti 2700K | D14: ks | E14: 11 | G14: =ROUND(E14*F14,2) -> 0 | I14: =ROUND(E14*H14,2) -> 0 | K14: =ROUND(E14*J14,2) -> 0 | L14: 21 | M14: =G14*(1+L14/100) -> 0 | N14: 0 | O14: =ROUND(E14*N14,2) -> 0 | P14: 0 | Q14: =ROUND(E14*P14,2) -> 0 | S14: Vlastní | T14: Indiv | U14: 0 | V14: =ROUND(E14*U14,2) -> 0 | X14: R-položka | Y14: Běžná | AG14: POL12_0
C15: 11 | E15: 11 | AG15: VV | AH15: 0
A16: 6 | B16: 1000535 | C16: Napojení na stávající svítidlo - materiál | D16: kpl | E16: 1 | G16: =ROUND(E16*F16,2) -> 0 | I16: =ROUND(E16*H16,2) -> 0 | K16: =ROUND(E16*J16,2) -> 0 | L16: 21 | M16: =G16*(1+L16/100) -> 0 | N16: 0 | O16: =ROUND(E16*N16,2) -> 0 | P16: 0 | Q16: =ROUND(E16*P16,2) -> 0 | S16: Vlastní | T16: Indiv | U16: 0 | V16: =ROUND(E16*U16,2) -> 0 | X16: Specifikace | Y16: Běžná | AG16: POL3_
A17: 7 | B17: 15615235R | C17: Drát tažený pozinkovaný 11343 D 10,00 mm | D17: kg | E17: 130.2 | G17: =ROUND(E17*F17,2) -> 0 | I17: =ROUND(E17*H17,2) -> 0 | K17: =ROUND(E17*J17,2) -> 0 | L17: 21 | M17: =G17*(1+L17/100) -> 0 | N17: 0.001 | O17: =ROUND(E17*N17,2) -> 0.13 | P17: 0 | Q17: =ROUND(E17*P17,2) -> 0 | R17: SPCM | S17: RTS 26/ I | T17: RTS 26/ I | U17: 0 | V17: =ROUND(E17*U17,2) -> 0 | X17: Specifikace | Y17: Běžná | AG17: POL3_0
C18: 200,0*0,62 | E18: 124 | AG18: VV | AH18: 0
C19: Koeficient +5% ztratné: 0,05 | E19: 6.2 | AG19: VV | AH19: 4
A20: 8 | B20: 15615299R | C20: Drát tažený pozinkovaný 11343 D 10,00 mm PVC izolace | D20: kg | E20: 8.02725 | G20: =ROUND(E20*F20,2) -> 0 | I20: =ROUND(E20*H20,2) -> 0 | K20: =ROUND(E20*J20,2) -> 0 | L20: 21 | M20: =G20*(1+L20/100) -> 0 | N20: 0.001 | O20: =ROUND(E20*N20,2) -> 0.01 | P20: 0 | Q20: =ROUND(E20*P20,2) -> 0 | S20: Vlastní | T20: Indiv | U20: 0 | V20: =ROUND(E20*U20,2) -> 0 | X20: Specifikace | Y20: Běžná | AG20: POL3_0
C21: 11*1,0*0,695 | E21: 7.645 | AG21: VV | AH21: 0
C22: Koeficient +5% ztratné: 0,05 | E22: 0.38225 | AG22: VV | AH22: 4
A23: 9 | B23: 31672999.AR | C23: Stožár KL 5-133/60 ŽZ | D23: kus | E23: 11 | G23: =ROUND(E23*F23,2) -> 0 | I23: =ROUND(E23*H23,2) -> 0 | K23: =ROUND(E23*J23,2) -> 0 | L23: 21 | M23: =G23*(1+L23/100) -> 0 | N23: 0.053 | O23: =ROUND(E23*N23,2) -> 0.58 | P23: 0 | Q23: =ROUND(E23*P23,2) -> 0 | S23: Vlastní | T23: Indiv | U23: 0 | V23: =ROUND(E23*U23,2) -> 0 | X23: Specifikace | Y23: Běžná | AG23: POL3_
C24: 11 | E24: 11 | AG24: VV | AH24: 0
A25: 10 | B25: 31677999R | C25: Výložník SK 1- 1000 žárový zinek | D25: kus | E25: 11 | G25: =ROUND(E25*F25,2) -> 0 | I25: =ROUND(E25*H25,2) -> 0 | K25: =ROUND(E25*J25,2) -> 0 | L25: 21 | M25: =G25*(1+L25/100) -> 0 | N25: 0.012 | O25: =ROUND(E25*N25,2) -> 0.13 | P25: 0 | Q25: =ROUND(E25*P25,2) -> 0 | S25: Vlastní | T25: Indiv | U25: 0 | V25: =ROUND(E25*U25,2) -> 0 | X25: Specifikace | Y25: Běžná | AG25: POL3_
C26: 11 | E26: 11 | AG26: VV | AH26: 0
A27: 11 | B27: 31678615.AR | C27: Svorkovnice stožárová | D27: kus | E27: 11 | G27: =ROUND(E27*F27,2) -> 0 | I27: =ROUND(E27*H27,2) -> 0 | K27: =ROUND(E27*J27,2) -> 0 | L27: 21 | M27: =G27*(1+L27/100) -> 0 | N27: 0.00025 | O27: =ROUND(E27*N27,2) -> 0 | P27: 0 | Q27: =ROUND(E27*P27,2) -> 0 | R27: SPCM | S27: RTS 26/ I | T27: RTS 26/ I | U27: 0 | V27: =ROUND(E27*U27,2) -> 0 | X27: Specifikace | Y27: Běžná | AG27: POL3_
C28: 11 | E28: 11 | AG28: VV | AH28: 0
A29: 12 | B29: 34111030R | C29: Kabel silový s Cu jádrem 750 V CYKY 3 x 1,5 mm2 | D29: m | E29: 69.3 | G29: =ROUND(E29*F29,2) -> 0 | I29: =ROUND(E29*H29,2) -> 0 | K29: =ROUND(E29*J29,2) -> 0 | L29: 21 | M29: =G29*(1+L29/100) -> 0 | N29: 0.00015 | O29: =ROUND(E29*N29,2) -> 0.01 | P29: 0 | Q29: =ROUND(E29*P29,2) -> 0 | R29: SPCM | S29: RTS 26/ I | T29: RTS 26/ I | U29: 0 | V29: =ROUND(E29*U29,2) -> 0 | X29: Specifikace | Y29: Běžná | AG29: POL3_
C30: Odkaz na mn. položky pořadí 32 : 66,00000 | E30: 66 | AG30: VV | AH30: 5
C31: Koeficient +5% ztratné: 0,05 | E31: 3.3 | AG31: VV | AH31: 4
A32: 13 | B32: 34111080R | C32: Kabel silový s Cu jádrem 750 V CYKY 4 x16 mm2 | D32: m | E32: 232.05 | G32: =ROUND(E32*F32,2) -> 0 | I32: =ROUND(E32*H32,2) -> 0 | K32: =ROUND(E32*J32,2) -> 0 | L32: 21 | M32: =G32*(1+L32/100) -> 0 | N32: 0.00089 | O32: =ROUND(E32*N32,2) -> 0.21 | P32: 0 | Q32: =ROUND(E32*P32,2) -> 0 | R32: SPCM | S32: RTS 26/ I | T32: RTS 26/ I | U32: 0 | V32: =ROUND(E32*U32,2) -> 0 | X32: Specifikace | Y32: Běžná | AG32: POL3_
C33: Odkaz na mn. položky pořadí 31 : 221,00000 | E33: 221 | AG33: VV | AH33: 5
C34: Koeficient +5% ztratné: 0,05 | E34: 11.05 | AG34: VV | AH34: 4
A35: 14 | B35: 3457114702R | C35: Trubka kabelová chránička KOPOFLEX KF 09063 | D35: m | E35: 232.05 | G35: =ROUND(E35*F35,2) -> 0 | I35: =ROUND(E35*H35,2) -> 0 | K35: =ROUND(E35*J35,2) -> 0 | L35: 21 | M35: =G35*(1+L35/100) -> 0 | N35: 0.00031 | O35: =ROUND(E35*N35,2) -> 0.07 | P35: 0 | Q35: =ROUND(E35*P35,2) -> 0 | R35: SPCM | S35: RTS 26/ I | T35: RTS 26/ I | U35: 0 | V35: =ROUND(E35*U35,2) -> 0 | X35: Specifikace | Y35: Běžná | AG35: POL3_
C36: Odkaz na mn. položky pořadí 21 : 221,00000 | E36: 221 | AG36: VV | AH36: 5
C37: Koeficient +5% ztratné: 0,05 | E37: 11.05 | AG37: VV | AH37: 4
A38: 15 | B38: 3457114705R | C38: Trubka kabelová chránička KOPOFLEX KF 09110 | D38: m | E38: 5.25 | G38: =ROUND(E38*F38,2) -> 0 | I38: =ROUND(E38*H38,2) -> 0 | K38: =ROUND(E38*J38,2) -> 0 | L38: 21 | M38: =G38*(1+L38/100) -> 0 | N38: 0.00069 | O38: =ROUND(E38*N38,2) -> 0 | P38: 0 | Q38: =ROUND(E38*P38,2) -> 0 | R38: SPCM | S38: RTS 26/ I | T38: RTS 26/ I | U38: 0 | V38: =ROUND(E38*U38,2) -> 0 | X38: Specifikace | Y38: Běžná | AG38: POL3_
C39: Odkaz na mn. položky pořadí 22 : 5,00000 | E39: 5 | AG39: VV | AH39: 5
C40: Koeficient +5% ztratné: 0,05 | E40: 0.25 | AG40: VV | AH40: 4
A41: 16 | B41: 35441996R | C41: Svorka SR 3a | D41: kus | E41: 11 | G41: =ROUND(E41*F41,2) -> 0 | I41: =ROUND(E41*H41,2) -> 0 | K41: =ROUND(E41*J41,2) -> 0 | L41: 21 | M41: =G41*(1+L41/100) -> 0 | N41: 0.0003 | O41: =ROUND(E41*N41,2) -> 0 | P41: 0 | Q41: =ROUND(E41*P41,2) -> 0 | R41: SPCM | S41: RTS 26/ I | T41: RTS 26/ I | U41: 0 | V41: =ROUND(E41*U41,2) -> 0 | X41: Specifikace | Y41: Běžná | AG41: POL3_0
C42: 11 | E42: 11 | AG42: VV | AH42: 0
A43: 17 | B43: 35444105R | C43: Svorka připojovací N SP N | D43: kus | E43: 11 | G43: =ROUND(E43*F43,2) -> 0 | I43: =ROUND(E43*H43,2) -> 0 | K43: =ROUND(E43*J43,2) -> 0 | L43: 21 | M43: =G43*(1+L43/100) -> 0 | N43: 0.00013 | O43: =ROUND(E43*N43,2) -> 0 | P43: 0 | Q43: =ROUND(E43*P43,2) -> 0 | R43: SPCM | S43: RTS 26/ I | T43: RTS 26/ I | U43: 0 | V43: =ROUND(E43*U43,2) -> 0 | X43: Specifikace | Y43: Běžná | AG43: POL3_0
C44: 11 | E44: 11 | AG44: VV | AH44: 0
A45: 18 | B45: R11001 | C45: Recyklační poplatky svítidla | D45: ks | E45: 11 | G45: =ROUND(E45*F45,2) -> 0 | I45: =ROUND(E45*H45,2) -> 0 | K45: =ROUND(E45*J45,2) -> 0 | L45: 21 | M45: =G45*(1+L45/100) -> 0 | N45: 0 | O45: =ROUND(E45*N45,2) -> 0 | P45: 0 | Q45: =ROUND(E45*P45,2) -> 0 | S45: Vlastní | T45: Indiv | U45: 0 | V45: =ROUND(E45*U45,2) -> 0 | X45: Specifikace | Y45: Běžná | AG45: POL3_0
C46: 11 | E46: 11 | AG46: VV | AH46: 0
A47: 19 | B47: R11002 | C47: Podružný materiál | D47: soubor | E47: 1 | G47: =ROUND(E47*F47,2) -> 0 | I47: =ROUND(E47*H47,2) -> 0 | K47: =ROUND(E47*J47,2) -> 0 | L47: 21 | M47: =G47*(1+L47/100) -> 0 | N47: 0 | O47: =ROUND(E47*N47,2) -> 0 | P47: 0 | Q47: =ROUND(E47*P47,2) -> 0 | S47: Vlastní | T47: Indiv | U47: 0 | V47: =ROUND(E47*U47,2) -> 0 | X47: Specifikace | Y47: Běžná | AG47: POL3_0
A48: Díl: | B48: R9 | C48: Výchozí revize elektro | G48: =SUMIF(AG49:AG49,"<>NOR",G49:G49) -> 0 | I48: =SUM(I49:I49) -> 0 | K48: =SUM(K49:K49) -> 0 | M48: =SUM(M49:M49) -> 0 | O48: =SUM(O49:O49) -> 0 | Q48: =SUM(Q49:Q49) -> 0 | V48: =SUM(V49:V49) -> 0 | AG48: DIL
A49: 20 | B49: 320410003 | C49: Celk.prohl.el.zar.a vyhot.revizní zprávy | D49: soubor | E49: 1 | G49: =ROUND(E49*F49,2) -> 0 | I49: =ROUND(E49*H49,2) -> 0 | K49: =ROUND(E49*J49,2) -> 0 | L49: 21 | M49: =G49*(1+L49/100) -> 0 | N49: 0 | O49: =ROUND(E49*N49,2) -> 0 | P49: 0 | Q49: =ROUND(E49*P49,2) -> 0 | S49: Vlastní | T49: Indiv | U49: 0 | V49: =ROUND(E49*U49,2) -> 0 | X49: Práce | Y49: Běžná | AG49: POL1_1
A50: Díl: | B50: M21 | C50: Elektromontáže | G50: =SUMIF(AG51:AG82,"<>NOR",G51:G82) -> 0 | I50: =SUM(I51:I82) -> 0 | K50: =SUM(K51:K82) -> 0 | M50: =SUM(M51:M82) -> 0 | O50: =SUM(O51:O82) -> 0 | Q50: =SUM(Q51:Q82) -> 0 | V50: =SUM(V51:V82) -> 195.77 | AG50: DIL
A51: 21 | B51: 210010124R00 | C51: Trubka ochranná z PE, uložená volně, DN do 80 mm | D51: m | E51: 221 | G51: =ROUND(E51*F51,2) -> 0 | I51: =ROUND(E51*H51,2) -> 0 | K51: =ROUND(E51*J51,2) -> 0 | L51: 21 | M51: =G51*(1+L51/100) -> 0 | N51: 0 | O51: =ROUND(E51*N51,2) -> 0 | P51: 0 | Q51: =ROUND(E51*P51,2) -> 0 | S51: RTS 26/ I | T51: RTS 26/ I | U51: 0.14 | V51: =ROUND(E51*U51,2) -> 30.94 | X51: Práce | Y51: Běžná | AG51: POL1_
C52: 200,0+10*2*1,0+1,0 | E52: 221 | AG52: VV | AH52: 0
A53: 22 | B53: 210010125R00 | C53: Trubka ochranná z PE, uložená volně, DN do 100 mm | D53: m | E53: 5 | G53: =ROUND(E53*F53,2) -> 0 | I53: =ROUND(E53*H53,2) -> 0 | K53: =ROUND(E53*J53,2) -> 0 | L53: 21 | M53: =G53*(1+L53/100) -> 0 | N53: 0 | O53: =ROUND(E53*N53,2) -> 0 | P53: 0 | Q53: =ROUND(E53*P53,2) -> 0 | S53: RTS 26/ I | T53: RTS 26/ I | U53: 0.16 | V53: =ROUND(E53*U53,2) -> 0.8 | X53: Práce | Y53: Běžná | AG53: POL1_
C54: 5,0 | E54: 5 | AG54: VV | AH54: 0
A55: 23 | B55: 210100252R00 | C55: Ukončení celoplast. kabelů zákl./pás.do 4x25 mm2 | D55: kus | E55: 21 | G55: =ROUND(E55*F55,2) -> 0 | I55: =ROUND(E55*H55,2) -> 0 | K55: =ROUND(E55*J55,2) -> 0 | L55: 21 | M55: =G55*(1+L55/100) -> 0 | N55: 0 | O55: =ROUND(E55*N55,2) -> 0 | P55: 0 | Q55: =ROUND(E55*P55,2) -> 0 | S55: RTS 26/ I | T55: RTS 26/ I | U55: 0.5 | V55: =ROUND(E55*U55,2) -> 10.5 | X55: Práce | Y55: Běžná | AG55: POL1_
C56: 10*2+1 | E56: 21 | AG56: VV | AH56: 0
A57: 24 | B57: 210100258R00 | C57: Ukončení celoplast. kabelů zákl./pás.do 5x4 mm2 | D57: kus | E57: 11 | G57: =ROUND(E57*F57,2) -> 0 | I57: =ROUND(E57*H57,2) -> 0 | K57: =ROUND(E57*J57,2) -> 0 | L57: 21 | M57: =G57*(1+L57/100) -> 0 | N57: 0 | O57: =ROUND(E57*N57,2) -> 0 | P57: 0 | Q57: =ROUND(E57*P57,2) -> 0 | S57: RTS 26/ I | T57: RTS 26/ I | U57: 0.35 | V57: =ROUND(E57*U57,2) -> 3.85 | X57: Práce | Y57: Běžná | AG57: POL1_
C58: 11 | E58: 11 | AG58: VV | AH58: 0
A59: 25 | B59: 210202111R00 | C59: Svítidlo veřejného osvětlení na výložník | D59: kus | E59: 11 | G59: =ROUND(E59*F59,2) -> 0 | I59: =ROUND(E59*H59,2) -> 0 | K59: =ROUND(E59*J59,2) -> 0 | L59: 21 | M59: =G59*(1+L59/100) -> 0 | N59: 0 | O59: =ROUND(E59*N59,2) -> 0 | P59: 0 | Q59: =ROUND(E59*P59,2) -> 0 | S59: RTS 26/ I | T59: RTS 26/ I | U59: 1.17 | V59: =ROUND(E59*U59,2) -> 12.87 | X59: Práce | Y59: Běžná | AG59: POL1_
C60: 11 | E60: 11 | AG60: VV | AH60: 0
A61: 26 | B61: 210204011R00 | C61: Stožár osvětlovací ocelový délky do 12 m | D61: kus | E61: 11 | G61: =ROUND(E61*F61,2) -> 0 | I61: =ROUND(E61*H61,2) -> 0 | K61: =ROUND(E61*J61,2) -> 0 | L61: 21 | M61: =G61*(1+L61/100) -> 0 | N61: 0 | O61: =ROUND(E61*N61,2) -> 0 | P61: 0 | Q61: =ROUND(E61*P61,2) -> 0 | S61: RTS 26/ I | T61: RTS 26/ I | U61: 3.42 | V61: =ROUND(E61*U61,2) -> 37.62 | X61: Práce | Y61: Běžná | AG61: POL1_
C62: Montáž stožárů, jejich rozvoz po trase, postavení, vyrovnání a definitivní zajištění v základu. | AG62: POP
C63: 11 | E63: 11 | AG63: VV | AH63: 0
A64: 27 | B64: 210204103R00 | C64: Výložník ocelový 1ramenný do 35 kg | D64: kus | E64: 11 | G64: =ROUND(E64*F64,2) -> 0 | I64: =ROUND(E64*H64,2) -> 0 | K64: =ROUND(E64*J64,2) -> 0 | L64: 21 | M64: =G64*(1+L64/100) -> 0 | N64: 0 | O64: =ROUND(E64*N64,2) -> 0 | P64: 0 | Q64: =ROUND(E64*P64,2) -> 0 | S64: RTS 26/ I | T64: RTS 26/ I | U64: 1.82 | V64: =ROUND(E64*U64,2) -> 20.02 | X64: Práce | Y64: Běžná | AG64: POL1_1
C65: Montáž výložníku, jejich rozvoz po trase, postavení, vyrovnání a definitivní zajištění v poloze. | AG65: POP
C66: 11 | E66: 11 | AG66: VV | AH66: 0
A67: 28 | B67: 210204201R00 | C67: Elektrovýzbroj stožáru pro 1 okruh | D67: kus | E67: 11 | G67: =ROUND(E67*F67,2) -> 0 | I67: =ROUND(E67*H67,2) -> 0 | K67: =ROUND(E67*J67,2) -> 0 | L67: 21 | M67: =G67*(1+L67/100) -> 0 | N67: 0 | O67: =ROUND(E67*N67,2) -> 0 | P67: 0 | Q67: =ROUND(E67*P67,2) -> 0 | S67: RTS 26/ I | T67: RTS 26/ I | U67: 1.37 | V67: =ROUND(E67*U67,2) -> 15.07 | X67: Práce | Y67: Běžná | AG67: POL1_1
C68: Montáž stožárové rozvodnice, montáže kabelu mezi rozvodnicí a vlastním svítidlem včetně jeho ukončení a zapojení v rozvodnici. U stožárů typu Ž je v položce zakalkulováno i zapojení dotykové spojky. | AG68: POP | BA68: =C68 -> Montáž stožárové rozvodnice, montáže kabelu mezi rozvodnicí a vlastním svítidlem včetně jeho ukončení a zapojení v rozvodnici. U stožárů typu Ž je v položce zakalkulováno i zapojení dotykové spojky.
C69: 11 | E69: 11 | AG69: VV | AH69: 0
A70: 29 | B70: 210220022R00 | C70: Vedení uzemňovací v zemi FeZn, D 8 - 10 mm | D70: m | E70: 211 | G70: =ROUND(E70*F70,2) -> 0 | I70: =ROUND(E70*H70,2) -> 0 | K70: =ROUND(E70*J70,2) -> 0 | L70: 21 | M70: =G70*(1+L70/100) -> 0 | N70: 0 | O70: =ROUND(E70*N70,2) -> 0 | P70: 0 | Q70: =ROUND(E70*P70,2) -> 0 | S70: RTS 26/ I | T70: RTS 26/ I | U70: 0.16 | V70: =ROUND(E70*U70,2) -> 33.76 | X70: Práce | Y70: Běžná | AG70: POL1_
C71: včetně montáže svorek spojovacích, odbočných, upevňovacích a spojovacího materiálu. | AG71: POP
C72: 200,0+11*1,0 | E72: 211 | AG72: VV | AH72: 0
A73: 30 | B73: 210220302R00 | C73: Svorka hromosvodová nad 2 šrouby /ST, SJ, SR, atd/ | D73: kus | E73: 11 | G73: =ROUND(E73*F73,2) -> 0 | I73: =ROUND(E73*H73,2) -> 0 | K73: =ROUND(E73*J73,2) -> 0 | L73: 21 | M73: =G73*(1+L73/100) -> 0 | N73: 0 | O73: =ROUND(E73*N73,2) -> 0 | P73: 0 | Q73: =ROUND(E73*P73,2) -> 0 | S73: RTS 26/ I | T73: RTS 26/ I | U73: 0.35 | V73: =ROUND(E73*U73,2) -> 3.85 | X73: Práce | Y73: Běžná | AG73: POL1_
C74: 11 | E74: 11 | AG74: VV | AH74: 0
A75: 31 | B75: 210810014R00 | C75: Kabel CYKY-m 750 V 4 žíly,16-25 mm2, volně uložený | D75: m | E75: 221 | G75: =ROUND(E75*F75,2) -> 0 | I75: =ROUND(E75*H75,2) -> 0 | K75: =ROUND(E75*J75,2) -> 0 | L75: 21 | M75: =G75*(1+L75/100) -> 0 | N75: 0 | O75: =ROUND(E75*N75,2) -> 0 | P75: 0 | Q75: =ROUND(E75*P75,2) -> 0 | S75: RTS 26/ I | T75: RTS 26/ I | U75: 0.07 | V75: =ROUND(E75*U75,2) -> 15.47 | X75: Práce | Y75: Běžná | AG75: POL1_
C76: 200+10*2*1,0+1,0 | E76: 221 | AG76: VV | AH76: 0
A77: 32 | B77: 210810045R00 | C77: Kabel CYKY-m 750 V 3 x 1,5 mm2 pevně uložený | D77: m | E77: 66 | G77: =ROUND(E77*F77,2) -> 0 | I77: =ROUND(E77*H77,2) -> 0 | K77: =ROUND(E77*J77,2) -> 0 | L77: 21 | M77: =G77*(1+L77/100) -> 0 | N77: 0 | O77: =ROUND(E77*N77,2) -> 0 | P77: 0 | Q77: =ROUND(E77*P77,2) -> 0 | S77: RTS 26/ I | T77: RTS 26/ I | U77: 0.1 | V77: =ROUND(E77*U77,2) -> 6.6 | X77: Práce | Y77: Běžná | AG77: POL1_
C78: 11,0*6,0 | E78: 66 | AG78: VV | AH78: 0
A79: 33 | B79: 210950201R00 | C79: Příplatek na zatahování kabelů váhy do 0,75 kg | D79: m | E79: 221 | G79: =ROUND(E79*F79,2) -> 0 | I79: =ROUND(E79*H79,2) -> 0 | K79: =ROUND(E79*J79,2) -> 0 | L79: 21 | M79: =G79*(1+L79/100) -> 0 | N79: 0 | O79: =ROUND(E79*N79,2) -> 0 | P79: 0 | Q79: =ROUND(E79*P79,2) -> 0 | S79: RTS 26/ I | T79: RTS 26/ I | U79: 0.02 | V79: =ROUND(E79*U79,2) -> 4.42 | X79: Práce | Y79: Běžná | AG79: POL1_
C80: 200,0+10*2*1,0+1,0 | E80: 221 | AG80: VV | AH80: 0
A81: 34 | B81: 210003 | C81: Napojení na stávající svítidlo | D81: kpl | E81: 1 | G81: =ROUND(E81*F81,2) -> 0 | I81: =ROUND(E81*H81,2) -> 0 | K81: =ROUND(E81*J81,2) -> 0 | L81: 21 | M81: =G81*(1+L81/100) -> 0 | N81: 0 | O81: =ROUND(E81*N81,2) -> 0 | P81: 0 | Q81: =ROUND(E81*P81,2) -> 0 | S81: Vlastní | T81: Indiv | U81: 0 | V81: =ROUND(E81*U81,2) -> 0 | X81: Specifikace | Y81: Běžná | AG81: POL3_
C82: 1 | E82: 1 | AG82: VV | AH82: 0
A83: Díl: | B83: M46 | C83: Zemní práce při montážích | G83: =SUMIF(AG84:AG108,"<>NOR",G84:G108) -> 0 | I83: =SUM(I84:I108) -> 0 | K83: =SUM(K84:K108) -> 0 | M83: =SUM(M84:M108) -> 0 | O83: =SUM(O84:O108) -> 42.98 | Q83: =SUM(Q84:Q108) -> 0 | V83: =SUM(V84:V108) -> 234.88 | AG83: DIL
A84: 35 | B84: 120001101R00 | C84: Příplatek za ztížení vykopávky v blízkosti vedení | D84: m3 | E84: 56 | G84: =ROUND(E84*F84,2) -> 0 | I84: =ROUND(E84*H84,2) -> 0 | K84: =ROUND(E84*J84,2) -> 0 | L84: 21 | M84: =G84*(1+L84/100) -> 0 | N84: 0 | O84: =ROUND(E84*N84,2) -> 0 | P84: 0 | Q84: =ROUND(E84*P84,2) -> 0 | S84: RTS 26/ I | T84: RTS 26/ I | U84: 1.55 | V84: =ROUND(E84*U84,2) -> 86.8 | X84: Práce | Y84: Běžná | AG84: POL1_
C85: 0,35*0,8*200,0 | E85: 56 | AG85: VV | AH85: 0
A86: 36 | B86: 182001111R00 | C86: Plošná úprava terénu, nerovnosti do 10 cm v rovině | D86: m2 | E86: 100 | G86: =ROUND(E86*F86,2) -> 0 | I86: =ROUND(E86*H86,2) -> 0 | K86: =ROUND(E86*J86,2) -> 0 | L86: 21 | M86: =G86*(1+L86/100) -> 0 | N86: 0 | O86: =ROUND(E86*N86,2) -> 0 | P86: 0 | Q86: =ROUND(E86*P86,2) -> 0 | S86: RTS 26/ I | T86: RTS 26/ I | U86: 0.09 | V86: =ROUND(E86*U86,2) -> 9 | X86: Práce | Y86: Běžná | AG86: POL1_
C87: 200,0*0,5 | E87: 100 | AG87: VV | AH87: 0
A88: 37 | B88: 199000002R00 | C88: Poplatek za skládku horniny 1- 4 | D88: m3 | E88: 16.8 | G88: =ROUND(E88*F88,2) -> 0 | I88: =ROUND(E88*H88,2) -> 0 | K88: =ROUND(E88*J88,2) -> 0 | L88: 21 | M88: =G88*(1+L88/100) -> 0 | N88: 0 | O88: =ROUND(E88*N88,2) -> 0 | P88: 0 | Q88: =ROUND(E88*P88,2) -> 0 | S88: RTS 26/ I | T88: RTS 26/ I | U88: 0 | V88: =ROUND(E88*U88,2) -> 0 | X88: Práce | Y88: Běžná | AG88: POL1_
C89: Odkaz na mn. položky pořadí 46 : 14,00000 | E89: 14 | AG89: VV | AH89: 5
C90: Koeficient +koef. nakypření: 0,2 | E90: 2.8 | AG90: VV | AH90: 4
A91: 38 | B91: 460010011R00 | C91: Vytýčení trasy nn vedení v přehled.terénu, v obci | D91: km | E91: 0.2 | G91: =ROUND(E91*F91,2) -> 0 | I91: =ROUND(E91*H91,2) -> 0 | K91: =ROUND(E91*J91,2) -> 0 | L91: 21 | M91: =G91*(1+L91/100) -> 0 | N91: 0 | O91: =ROUND(E91*N91,2) -> 0 | P91: 0 | Q91: =ROUND(E91*P91,2) -> 0 | S91: RTS 26/ I | T91: RTS 26/ I | U91: 4.6 | V91: =ROUND(E91*U91,2) -> 0.92 | X91: Práce | Y91: Běžná | AG91: POL1_
C92: 0,2 | E92: 0.2 | AG92: VV | AH92: 0
A93: 39 | B93: 460030011R00 | C93: Sejmutí drnu | D93: m2 | E93: 63 | G93: =ROUND(E93*F93,2) -> 0 | I93: =ROUND(E93*H93,2) -> 0 | K93: =ROUND(E93*J93,2) -> 0 | L93: 21 | M93: =G93*(1+L93/100) -> 0 | N93: 0 | O93: =ROUND(E93*N93,2) -> 0 | P93: 0 | Q93: =ROUND(E93*P93,2) -> 0 | S93: RTS 26/ I | T93: RTS 26/ I | U93: 0.14 | V93: =ROUND(E93*U93,2) -> 8.82 | X93: Práce | Y93: Běžná | AG93: POL1_
C94: 0,35*180,0 | E94: 63 | AG94: VV | AH94: 0
A95: 40 | B95: 460050714R00 | C95: Jáma do 2m3 pro stožár veř.osvětlení,hor.4,strojně | D95: m3 | E95: 4.752 | G95: =ROUND(E95*F95,2) -> 0 | I95: =ROUND(E95*H95,2) -> 0 | K95: =ROUND(E95*J95,2) -> 0 | L95: 21 | M95: =G95*(1+L95/100) -> 0 | N95: 0 | O95: =ROUND(E95*N95,2) -> 0 | P95: 0 | Q95: =ROUND(E95*P95,2) -> 0 | S95: RTS 26/ I | T95: RTS 26/ I | U95: 1.17 | V95: =ROUND(E95*U95,2) -> 5.56 | X95: Práce | Y95: Běžná | AG95: POL1_
C96: 0,6*0,6*1,2*11 | E96: 4.752 | AG96: VV | AH96: 0
A97: 41 | B97: 460100024R00 | C97: Pouzdrový základ 350x1500 mm v ose trasy kab. | D97: kus | E97: 11 | G97: =ROUND(E97*F97,2) -> 0 | I97: =ROUND(E97*H97,2) -> 0 | K97: =ROUND(E97*J97,2) -> 0 | L97: 21 | M97: =G97*(1+L97/100) -> 0 | N97: 1.23325 | O97: =ROUND(E97*N97,2) -> 13.57 | P97: 0 | Q97: =ROUND(E97*P97,2) -> 0 | S97: RTS 26/ I | T97: RTS 26/ I | U97: 3.14 | V97: =ROUND(E97*U97,2) -> 34.54 | X97: Práce | Y97: Běžná | AG97: POL1_
C98: 11 | E98: 11 | AG98: VV | AH98: 0
A99: 42 | B99: 460200164RT1 | C99: Výkop kabelové rýhy 35/80 cm hor.4 strojní výkop rýhy | D99: m | E99: 200 | G99: =ROUND(E99*F99,2) -> 0 | I99: =ROUND(E99*H99,2) -> 0 | K99: =ROUND(E99*J99,2) -> 0 | L99: 21 | M99: =G99*(1+L99/100) -> 0 | N99: 0 | O99: =ROUND(E99*N99,2) -> 0 | P99: 0 | Q99: =ROUND(E99*P99,2) -> 0 | S99: RTS 26/ I | T99: RTS 26/ I | U99: 0.14 | V99: =ROUND(E99*U99,2) -> 28 | X99: Práce | Y99: Běžná | AG99: POL1_
C100: 200,0 | E100: 200 | AG100: VV | AH100: 0
A101: 43 | B101: 460420018RT3 | C101: Zřízení kabelového lože v rýze š.do 35 cm z písku tloušťka vrstvy 20 cm | D101: m | E101: 200 | G101: =ROUND(E101*F101,2) -> 0 | I101: =ROUND(E101*H101,2) -> 0 | K101: =ROUND(E101*J101,2) -> 0 | L101: 21 | M101: =G101*(1+L101/100) -> 0 | N101: 0.147 | O101: =ROUND(E101*N101,2) -> 29.4 | P101: 0 | Q101: =ROUND(E101*P101,2) -> 0 | S101: RTS 26/ I | T101: RTS 26/ I | U101: 0.06 | V101: =ROUND(E101*U101,2) -> 12 | X101: Práce | Y101: Běžná | AG101: POL1_
C102: 200,0 | E102: 200 | AG102: VV | AH102: 0
...
