Workbook

Sheet Rekapitulace stavby
A1: Export Komplet | AZ1: VZ | BA1: 2.0 | BB1: ZAMOK | BT1: False | BU1: False | BV1: {e00c9e41-8b45-44f4-a35c-edada5650279}
BS2: 0,01 | BT2: 21
BS3: 0,01 | BT3: 12
D4: REKAPITULACE STAVBY | AS4: v --- níže se nacházejí doplnkové a pomocné údaje k sestavám --- v | BS4: 0,001
D5: Kód: | K5: 05/25 | BS5: 0,01
D6: Stavba: | K6: ÚPRAVY HŘBITOVA KBELY- ETAPA1 | BS6: 0,01
D7: KSO: | K7: 815 9 | AK7: CC-CZ: | AN7: 12 | BS7: 0,01
D8: Místo: | K8: Praha 9-Kbely | AK8: Datum: | BS8: 0,01
D9: CZ-CPV: | K9: 45000000-7 | AK9: CZ-CPA: | AN9: 41 | BS9: 0,01
D10: Zadavatel: | AK10: IČ: | AN10: 00231304 | BS10: 0,01
E11: MČ Praha 19, Semilská 43/1, 197 00 Praha 9 - Kbely | AK11: DIČ: | BS11: 0,01
BS12: 0,01
D13: Zhotovitel: | AK13: IČ: | AN13: 07395680 | BS13: 0,01
E14: IWU s.r.o. | AK14: DIČ: | AN14: CZ07395680 | BS14: 0,01
BS15: False
D16: Projektant: | AK16: IČ: | BS16: False
E17: Ing.Jan Pustějovský, Ph.D. | AK17: DIČ: | BS17: True
BS18: 0,01
D19: Zpracovatel: | AK19: IČ: | BS19: 0,01
AK20: DIČ: | BS20: False
D22: Poznámka:
E23: Položkový rozpočet zpracován v CS ÚRS s CH 2024/II na základě PD -10/2024
D26: Cena bez DPH | AK26: =ROUND(AG54,2) -> 982046.97
L28: Sazba daně | W28: Základ daně | AK28: Výše daně
D29: DPH | F29: základní | L29: 0.21 | W29: =ROUND(AZ54, 2) -> 982046.97 | AK29: =ROUND(AV54, 2) -> 206229.86
F30: snížená | L30: 0.12 | W30: =ROUND(BA54, 2) -> 0 | AK30: =ROUND(AW54, 2) -> 0
F31: zákl. přenesená | L31: 0.21 | W31: =ROUND(BB54, 2) -> 0 | AK31: 0
F32: sníž. přenesená | L32: 0.12 | W32: =ROUND(BC54, 2) -> 0 | AK32: 0
F33: nulová | L33: 0 | W33: =ROUND(BD54, 2) -> 0 | AK33: 0
D35: Cena s DPH | T35: v | X35: CZK | AK35: =SUM(AK26:AK33) -> 1188276.8
C42: REKAPITULACE OBJEKTŮ STAVBY A SOUPISŮ PRACÍ
C44: Kód: | L44: =K5 -> 05/25
C45: Stavba: | L45: =K6 -> ÚPRAVY HŘBITOVA KBELY- ETAPA1
C47: Místo: | L47: =IF(K8="","",K8) -> Praha 9-Kbely | AI47: Datum: | AM47: =IF(AN8= "","",AN8)
C49: Zadavatel: | L49: =IF(E11= "","",E11) -> MČ Praha 19, Semilská 43/1, 197 00 Praha 9 - Kbely | AI49: Projektant: | AM49: =IF(E17="","",E17) -> Ing.Jan Pustějovský, Ph.D. | AS49: Informatívní údaje z listů zakázek
C50: Zhotovitel: | L50: =IF(E14="","",E14) -> IWU s.r.o. | AI50: Zpracovatel: | AM50: =IF(E20="","",E20)
C52: Kód | I52: Popis | AG52: Cena bez DPH [CZK] | AN52: Cena s DPH [CZK] | AQ52: Typ | AS52: z toho Ostat._x000D_ náklady [CZK] | AT52: DPH [CZK] | AU52: Normohodiny [h] | AV52: DPH základní [CZK] | AW52: DPH snížená [CZK] | AX52: DPH základní přenesená_x000D_ [CZK] | AY52: DPH snížená přenesená_x000D_ [CZK] | AZ52: Základna_x000D_ DPH základní | BA52: Základna_x000D_ DPH snížená | BB52: Základna_x000D_ DPH zákl. přenesená | BC52: Základna_x000D_ DPH sníž. přenesená | BD52: Základna_x000D_ DPH nulová
C54: Náklady stavby celkem | AG54: =ROUND(AG55,2) -> 982046.97 | AN54: =SUM(AG54,AT54) -> 1188276.8 | AS54: =ROUND(AS55,2) -> 0 | AT54: =ROUND(SUM(AV54:AW54),2) -> 206229.86 | AU54: =ROUND(AU55,5) -> 220.82697 | AV54: =ROUND(AZ54*L29,2) -> 206229.86 | AW54: =ROUND(BA54*L30,2) -> 0 | AX54: =ROUND(BB54*L29,2) -> 0 | AY54: =ROUND(BC54*L30,2) -> 0 | AZ54: =ROUND(AZ55,2) -> 982046.97 | BA54: =ROUND(BA55,2) -> 0 | BB54: =ROUND(BB55,2) -> 0 | BC54: =ROUND(BC55,2) -> 0 | BD54: =ROUND(BD55,2) -> 0 | BS54: D | BT54: 0 | BU54: ###NOIMPORT### | BV54: IMPORT | BW54: {e00c9e41-8b45-44f4-a35c-edada5650279} | BX54: {00000000-0000-0000-0000-000000000000} | CL54: 815 9
D55: 01 | J55: Navrhované objekty | AG55: =ROUND(AG56+AG58+AG60+AG62+AG64+AG66,2) -> 982046.97 | AN55: =SUM(AG55,AT55) -> 1188276.8 | AQ55: STA | AS55: =ROUND(AS56+AS58+AS60+AS62+AS64+AS66,2) -> 0 | AT55: =ROUND(SUM(AV55:AW55),2) -> 206229.86 | AU55: =ROUND(AU56+AU58+AU60+AU62+AU64+AU66,5) -> 220.82697 | AV55: =ROUND(AZ55*L29,2) -> 206229.86 | AW55: =ROUND(BA55*L30,2) -> 0 | AX55: =ROUND(BB55*L29,2) -> 0 | AY55: =ROUND(BC55*L30,2) -> 0 | AZ55: =ROUND(AZ56+AZ58+AZ60+AZ62+AZ64+AZ66,2) -> 982046.97 | BA55: =ROUND(BA56+BA58+BA60+BA62+BA64+BA66,2) -> 0 | BB55: =ROUND(BB56+BB58+BB60+BB62+BB64+BB66,2) -> 0 | BC55: =ROUND(BC56+BC58+BC60+BC62+BC64+BC66,2) -> 0 | BD55: =ROUND(BD56+BD58+BD60+BD62+BD64+BD66,2) -> 0 | BS55: D | BT55: 1 | BU55: ###NOIMPORT### | BV55: IMPORT | BW55: {1fe41dd8-8cc0-4dd3-96fb-5e5554e15797} | BX55: {e00c9e41-8b45-44f4-a35c-edada5650279} | CL55: 815 9 | CM55: 2
E56: 07 | K56: KOLUMBÁRIUM | AG56: =ROUND(AG57,2) -> 89552.2 | AN56: =SUM(AG56,AT56) -> 108358.16 | AQ56: Soupis | AS56: =ROUND(AS57,2) -> 0 | AT56: =ROUND(SUM(AV56:AW56),2) -> 18805.96 | AU56: =ROUND(AU57,5) -> 19.80432 | AV56: =ROUND(AZ56*L29,2) -> 18805.96 | AW56: =ROUND(BA56*L30,2) -> 0 | AX56: =ROUND(BB56*L29,2) -> 0 | AY56: =ROUND(BC56*L30,2) -> 0 | AZ56: =ROUND(AZ57,2) -> 89552.2 | BA56: =ROUND(BA57,2) -> 0 | BB56: =ROUND(BB57,2) -> 0 | BC56: =ROUND(BC57,2) -> 0 | BD56: =ROUND(BD57,2) -> 0 | BS56: D | BT56: 2 | BU56: ###NOIMPORT### | BV56: IMPORT | BW56: {12e068f8-e123-46e4-89ca-100ec925e7f4} | BX56: {1fe41dd8-8cc0-4dd3-96fb-5e5554e15797} | CL56: 815 9
A57: / | F57: ZBV-02b | L57: vícepráce | AG57: ='ZBV-02b - vícepráce'!J34 -> 89552.2 | AN57: =SUM(AG57,AT57) -> 108358.16 | AQ57: Soupis | AS57: 0 | AT57: =ROUND(SUM(AV57:AW57),2) -> 18805.96 | AU57: ='ZBV-02b - vícepráce'!P94 -> 19.804318 | AV57: ='ZBV-02b - vícepráce'!J37 -> 18805.96 | AW57: ='ZBV-02b - vícepráce'!J38 -> 0 | AX57: ='ZBV-02b - vícepráce'!J39 -> 0 | AY57: ='ZBV-02b - vícepráce'!J40 -> 0 | AZ57: ='ZBV-02b - vícepráce'!F37 -> 89552.2 | BA57: ='ZBV-02b - vícepráce'!F38 -> 0 | BB57: ='ZBV-02b - vícepráce'!F39 -> 0 | BC57: ='ZBV-02b - vícepráce'!F40 -> 0 | BD57: ='ZBV-02b - vícepráce'!F41 -> 0 | BT57: 3 | BV57: IMPORT | BW57: {bd2d8957-1601-43b4-b23e-5631e3c54041} | BX57: {12e068f8-e123-46e4-89ca-100ec925e7f4} | CL57: 815 9
E58: 08 | K58: KOLUMBÁRIUM | AG58: =ROUND(AG59,2) -> 351561.13 | AN58: =SUM(AG58,AT58) -> 425388.97 | AQ58: Soupis | AS58: =ROUND(AS59,2) -> 0 | AT58: =ROUND(SUM(AV58:AW58),2) -> 73827.84 | AU58: =ROUND(AU59,5) -> 79.59853 | AV58: =ROUND(AZ58*L29,2) -> 73827.84 | AW58: =ROUND(BA58*L30,2) -> 0 | AX58: =ROUND(BB58*L29,2) -> 0 | AY58: =ROUND(BC58*L30,2) -> 0 | AZ58: =ROUND(AZ59,2) -> 351561.13 | BA58: =ROUND(BA59,2) -> 0 | BB58: =ROUND(BB59,2) -> 0 | BC58: =ROUND(BC59,2) -> 0 | BD58: =ROUND(BD59,2) -> 0 | BS58: D | BT58: 2 | BU58: ###NOIMPORT### | BV58: IMPORT | BW58: {1648dd7c-8f79-4879-b56c-e2b8977b3a3f} | BX58: {1fe41dd8-8cc0-4dd3-96fb-5e5554e15797} | CL58: 815 9
A59: / | F59: ZBV-03b | L59: vícepráce | AG59: ='ZBV-03b - vícepráce'!J34 -> 351561.13 | AN59: =SUM(AG59,AT59) -> 425388.97 | AQ59: Soupis | AS59: 0 | AT59: =ROUND(SUM(AV59:AW59),2) -> 73827.84 | AU59: ='ZBV-03b - vícepráce'!P94 -> 79.598526 | AV59: ='ZBV-03b - vícepráce'!J37 -> 73827.84 | AW59: ='ZBV-03b - vícepráce'!J38 -> 0 | AX59: ='ZBV-03b - vícepráce'!J39 -> 0 | AY59: ='ZBV-03b - vícepráce'!J40 -> 0 | AZ59: ='ZBV-03b - vícepráce'!F37 -> 351561.13 | BA59: ='ZBV-03b - vícepráce'!F38 -> 0 | BB59: ='ZBV-03b - vícepráce'!F39 -> 0 | BC59: ='ZBV-03b - vícepráce'!F40 -> 0 | BD59: ='ZBV-03b - vícepráce'!F41 -> 0 | BT59: 3 | BV59: IMPORT | BW59: {122bf830-2ec7-4911-8f50-491624c88f16} | BX59: {1648dd7c-8f79-4879-b56c-e2b8977b3a3f} | CL59: 815 9
E60: 09 | K60: KOLUMBÁRIUM | AG60: =ROUND(AG61,2) -> 163046.12 | AN60: =SUM(AG60,AT60) -> 197285.81 | AQ60: Soupis | AS60: =ROUND(AS61,2) -> 0 | AT60: =ROUND(SUM(AV60:AW60),2) -> 34239.69 | AU60: =ROUND(AU61,5) -> 36.52199 | AV60: =ROUND(AZ60*L29,2) -> 34239.69 | AW60: =ROUND(BA60*L30,2) -> 0 | AX60: =ROUND(BB60*L29,2) -> 0 | AY60: =ROUND(BC60*L30,2) -> 0 | AZ60: =ROUND(AZ61,2) -> 163046.12 | BA60: =ROUND(BA61,2) -> 0 | BB60: =ROUND(BB61,2) -> 0 | BC60: =ROUND(BC61,2) -> 0 | BD60: =ROUND(BD61,2) -> 0 | BS60: D | BT60: 2 | BU60: ###NOIMPORT### | BV60: IMPORT | BW60: {318d45e2-cc03-49f6-adcc-6cfa3c94cc2b} | BX60: {1fe41dd8-8cc0-4dd3-96fb-5e5554e15797} | CL60: 815 9
A61: / | F61: ZBV-04b | L61: vícepráce | AG61: ='ZBV-04b - vícepráce'!J34 -> 163046.12 | AN61: =SUM(AG61,AT61) -> 197285.81 | AQ61: Soupis | AS61: 0 | AT61: =ROUND(SUM(AV61:AW61),2) -> 34239.69 | AU61: ='ZBV-04b - vícepráce'!P94 -> 36.52199 | AV61: ='ZBV-04b - vícepráce'!J37 -> 34239.69 | AW61: ='ZBV-04b - vícepráce'!J38 -> 0 | AX61: ='ZBV-04b - vícepráce'!J39 -> 0 | AY61: ='ZBV-04b - vícepráce'!J40 -> 0 | AZ61: ='ZBV-04b - vícepráce'!F37 -> 163046.12 | BA61: ='ZBV-04b - vícepráce'!F38 -> 0 | BB61: ='ZBV-04b - vícepráce'!F39 -> 0 | BC61: ='ZBV-04b - vícepráce'!F40 -> 0 | BD61: ='ZBV-04b - vícepráce'!F41 -> 0 | BT61: 3 | BV61: IMPORT | BW61: {af2788f6-1399-42c6-a115-91d698fb748b} | BX61: {318d45e2-cc03-49f6-adcc-6cfa3c94cc2b} | CL61: 815 9
E62: 10 | K62: KOLUMBÁRIUM | AG62: =ROUND(AG63,2) -> 163736.27 | AN62: =SUM(AG62,AT62) -> 198120.89 | AQ62: Soupis | AS62: =ROUND(AS63,2) -> 0 | AT62: =ROUND(SUM(AV62:AW62),2) -> 34384.62 | AU62: =ROUND(AU63,5) -> 36.44719 | AV62: =ROUND(AZ62*L29,2) -> 34384.62 | AW62: =ROUND(BA62*L30,2) -> 0 | AX62: =ROUND(BB62*L29,2) -> 0 | AY62: =ROUND(BC62*L30,2) -> 0 | AZ62: =ROUND(AZ63,2) -> 163736.27 | BA62: =ROUND(BA63,2) -> 0 | BB62: =ROUND(BB63,2) -> 0 | BC62: =ROUND(BC63,2) -> 0 | BD62: =ROUND(BD63,2) -> 0 | BS62: D | BT62: 2 | BU62: ###NOIMPORT### | BV62: IMPORT | BW62: {47416657-0009-4f61-b0a3-af82d4e97114} | BX62: {1fe41dd8-8cc0-4dd3-96fb-5e5554e15797} | CL62: 815 9
A63: / | F63: ZBV-05b | L63: vícepráce | AG63: ='ZBV-05b - vícepráce'!J34 -> 163736.27 | AN63: =SUM(AG63,AT63) -> 198120.89 | AQ63: Soupis | AS63: 0 | AT63: =ROUND(SUM(AV63:AW63),2) -> 34384.62 | AU63: ='ZBV-05b - vícepráce'!P94 -> 36.447188 | AV63: ='ZBV-05b - vícepráce'!J37 -> 34384.62 | AW63: ='ZBV-05b - vícepráce'!J38 -> 0 | AX63: ='ZBV-05b - vícepráce'!J39 -> 0 | AY63: ='ZBV-05b - vícepráce'!J40 -> 0 | AZ63: ='ZBV-05b - vícepráce'!F37 -> 163736.27 | BA63: ='ZBV-05b - vícepráce'!F38 -> 0 | BB63: ='ZBV-05b - vícepráce'!F39 -> 0 | BC63: ='ZBV-05b - vícepráce'!F40 -> 0 | BD63: ='ZBV-05b - vícepráce'!F41 -> 0 | BT63: 3 | BV63: IMPORT | BW63: {b4fa2778-3f34-46ef-8f75-3c928f957ad6} | BX63: {47416657-0009-4f61-b0a3-af82d4e97114} | CL63: 815 9
E64: 11 | K64: KOLUMBÁRIUM | AG64: =ROUND(AG65,2) -> 127697.02 | AN64: =SUM(AG64,AT64) -> 154513.39 | AQ64: Soupis | AS64: =ROUND(AS65,2) -> 0 | AT64: =ROUND(SUM(AV64:AW64),2) -> 26816.37 | AU64: =ROUND(AU65,5) -> 29.17872 | AV64: =ROUND(AZ64*L29,2) -> 26816.37 | AW64: =ROUND(BA64*L30,2) -> 0 | AX64: =ROUND(BB64*L29,2) -> 0 | AY64: =ROUND(BC64*L30,2) -> 0 | AZ64: =ROUND(AZ65,2) -> 127697.02 | BA64: =ROUND(BA65,2) -> 0 | BB64: =ROUND(BB65,2) -> 0 | BC64: =ROUND(BC65,2) -> 0 | BD64: =ROUND(BD65,2) -> 0 | BS64: D | BT64: 2 | BU64: ###NOIMPORT### | BV64: IMPORT | BW64: {63f55a11-3cf9-4a58-861f-4ea081a91b95} | BX64: {1fe41dd8-8cc0-4dd3-96fb-5e5554e15797} | CL64: 815 9
A65: / | F65: ZBV-06b | L65: vícepráce | AG65: ='ZBV-06b - vícepráce'!J34 -> 127697.02 | AN65: =SUM(AG65,AT65) -> 154513.39 | AQ65: Soupis | AS65: 0 | AT65: =ROUND(SUM(AV65:AW65),2) -> 26816.37 | AU65: ='ZBV-06b - vícepráce'!P94 -> 29.178724 | AV65: ='ZBV-06b - vícepráce'!J37 -> 26816.37 | AW65: ='ZBV-06b - vícepráce'!J38 -> 0 | AX65: ='ZBV-06b - vícepráce'!J39 -> 0 | AY65: ='ZBV-06b - vícepráce'!J40 -> 0 | AZ65: ='ZBV-06b - vícepráce'!F37 -> 127697.02 | BA65: ='ZBV-06b - vícepráce'!F38 -> 0 | BB65: ='ZBV-06b - vícepráce'!F39 -> 0 | BC65: ='ZBV-06b - vícepráce'!F40 -> 0 | BD65: ='ZBV-06b - vícepráce'!F41 -> 0 | BT65: 3 | BV65: IMPORT | BW65: {fc369eec-68de-4208-8f19-f6a2101553e0} | BX65: {63f55a11-3cf9-4a58-861f-4ea081a91b95} | CL65: 815 9
E66: 12 | K66: KOLUMBÁRIUM | AG66: =ROUND(AG67,2) -> 86454.23 | AN66: =SUM(AG66,AT66) -> 104609.62 | AQ66: Soupis | AS66: =ROUND(AS67,2) -> 0 | AT66: =ROUND(SUM(AV66:AW66),2) -> 18155.39 | AU66: =ROUND(AU67,5) -> 19.27622 | AV66: =ROUND(AZ66*L29,2) -> 18155.39 | AW66: =ROUND(BA66*L30,2) -> 0 | AX66: =ROUND(BB66*L29,2) -> 0 | AY66: =ROUND(BC66*L30,2) -> 0 | AZ66: =ROUND(AZ67,2) -> 86454.23 | BA66: =ROUND(BA67,2) -> 0 | BB66: =ROUND(BB67,2) -> 0 | BC66: =ROUND(BC67,2) -> 0 | BD66: =ROUND(BD67,2) -> 0 | BS66: D | BT66: 2 | BU66: ###NOIMPORT### | BV66: IMPORT | BW66: {af0df53a-fd74-4753-ad06-1b34a3a1f33b} | BX66: {1fe41dd8-8cc0-4dd3-96fb-5e5554e15797} | CL66: 815 9
A67: / | F67: ZBV-07b | L67: vícepráce | AG67: ='ZBV-07b - vícepráce'!J34 -> 86454.23 | AN67: =SUM(AG67,AT67) -> 104609.62 | AQ67: Soupis | AS67: 0 | AT67: =ROUND(SUM(AV67:AW67),2) -> 18155.39 | AU67: ='ZBV-07b - vícepráce'!P94 -> 19.276222 | AV67: ='ZBV-07b - vícepráce'!J37 -> 18155.39 | AW67: ='ZBV-07b - vícepráce'!J38 -> 0 | AX67: ='ZBV-07b - vícepráce'!J39 -> 0 | AY67: ='ZBV-07b - vícepráce'!J40 -> 0 | AZ67: ='ZBV-07b - vícepráce'!F37 -> 86454.23 | BA67: ='ZBV-07b - vícepráce'!F38 -> 0 | BB67: ='ZBV-07b - vícepráce'!F39 -> 0 | BC67: ='ZBV-07b - vícepráce'!F40 -> 0 | BD67: ='ZBV-07b - vícepráce'!F41 -> 0 | BT67: 3 | BV67: IMPORT | BW67: {6f0ea63e-83ba-4d87-9733-d5e6e4af6c76} | BX67: {af0df53a-fd74-4753-ad06-1b34a3a1f33b} | CL67: 815 9

Sheet ZBV-02b - vícepráce
AT2: {bd2d8957-1601-43b4-b23e-5631e3c54041}
AT3: 2
D4: KRYCÍ LIST SOUPISU PRACÍ | M4: v --- níže se nacházejí doplnkové a pomocné údaje k sestavám --- v | AT4: False
D6: Stavba:
E7: ='Rekapitulace stavby'!K6 -> ÚPRAVY HŘBITOVA KBELY- ETAPA1
D8: Objekt:
E9: 01 - Navrhované objekty
D10: Soupis:
E11: 07 - KOLUMBÁRIUM
D12: Úroveň 3:
E13: ZBV-02b - vícepráce
D15: KSO: | F15: 815 9 | I15: CC-CZ:
D16: Místo: | F16: Praha 9-Kbely | I16: Datum: | J16: ='Rekapitulace stavby'!AN8 -> 0
D18: Zadavatel: | I18: IČ: | J18: 00231304
E19: MČ Praha 19, Semilská 43/1, 197 00 Praha 9 - Kbely | I19: DIČ:
D21: Zhotovitel: | I21: IČ: | J21: 07395680
E22: IWU s.r.o. | I22: DIČ: | J22: CZ07395680
D24: Projektant: | I24: IČ:
E25: Ing.Jan Pustějovský, Ph.D. | I25: DIČ:
D27: Zpracovatel: | I27: IČ:
I28: DIČ:
D30: Poznámka:
D34: Cena bez DPH | J34: =ROUND(J94, 2) -> 89552.2
F36: Základ daně | I36: Sazba daně | J36: Výše daně
D37: DPH | E37: základní | F37: =ROUND((SUM(BE94:BE110)), 2) -> 89552.2 | I37: 0.21 | J37: =ROUND(((SUM(BE94:BE110))*I37), 2) -> 18805.96
E38: snížená | F38: =ROUND((SUM(BF94:BF110)), 2) -> 0 | I38: 0.12 | J38: =ROUND(((SUM(BF94:BF110))*I38), 2) -> 0
E39: zákl. přenesená | F39: =ROUND((SUM(BG94:BG110)), 2) -> 0 | I39: 0.21 | J39: =0 -> 0
E40: sníž. přenesená | F40: =ROUND((SUM(BH94:BH110)), 2) -> 0 | I40: 0.12 | J40: =0 -> 0
E41: nulová | F41: =ROUND((SUM(BI94:BI110)), 2) -> 0 | I41: 0 | J41: =0 -> 0
D43: Cena s DPH | G43: v | H43: CZK | J43: =SUM(J34:J41) -> 108358.16
C49: REKAPITULACE ČLENĚNÍ SOUPISU PRACÍ
C51: Stavba:
E52: =E7 -> ÚPRAVY HŘBITOVA KBELY- ETAPA1
C53: Objekt:
E54: 01 - Navrhované objekty
C55: Soupis:
E56: 07 - KOLUMBÁRIUM
C57: Úroveň 3:
E58: =E13 -> ZBV-02b - vícepráce
C60: Místo: | F60: =F16 -> Praha 9-Kbely | I60: Datum: | J60: =IF(J16="","",J16) -> 0
C62: Zadavatel: | F62: =E19 -> MČ Praha 19, Semilská 43/1, 197 00 Praha 9 - Kbely | I62: Projektant: | J62: =E25 -> Ing.Jan Pustějovský, Ph.D.
C63: Zhotovitel: | F63: =IF(E22="","",E22) -> IWU s.r.o. | I63: Zpracovatel: | J63: =E28
C65: Kód dílu - Popis | J65: Cena celkem [CZK]
C67: Náklady stavby celkem | J67: =J94 -> 89552.2 | AU67: -1
D68: HSV - Práce a dodávky HSV | J68: =J95 -> 89552.2
D69: 3 - Svislé a kompletní konstrukce | J69: =J96 -> 57650
D70: 998 - Přesun hmot | J70: =J103 -> 31902.2
C77: SOUPIS PRACÍ
C79: Stavba:
E80: =E7 -> ÚPRAVY HŘBITOVA KBELY- ETAPA1
C81: Objekt:
E82: 01 - Navrhované objekty
C83: Soupis:
E84: 07 - KOLUMBÁRIUM
C85: Úroveň 3:
E86: =E13 -> ZBV-02b - vícepráce
C88: Místo: | F88: =F16 -> Praha 9-Kbely | I88: Datum: | J88: =IF(J16="","",J16) -> 0
C90: Zadavatel: | F90: =E19 -> MČ Praha 19, Semilská 43/1, 197 00 Praha 9 - Kbely | I90: Projektant: | J90: =E25 -> Ing.Jan Pustějovský, Ph.D.
C91: Zhotovitel: | F91: =IF(E22="","",E22) -> IWU s.r.o. | I91: Zpracovatel: | J91: =E28
C93: PČ | D93: Typ | E93: Kód | F93: Popis | G93: MJ | H93: Množství | I93: J.cena [CZK] | J93: Cena celkem [CZK] | K93: Cenová soustava | N93: DPH | O93: J. Nh [h] | P93: Nh celkem [h] | Q93: J. hmotnost [t] | R93: Hmotnost celkem [t] | S93: J. suť [t] | T93: Suť Celkem [t]
C94: Náklady soupisu celkem | J94: =BK94 -> 89552.2 | P94: =P95 -> 19.804318 | R94: =R95 -> 7.23716 | T94: =T95 -> 0 | AT94: D | AU94: -1 | BK94: =BK95 -> 89552.2
D95: D | E95: HSV | F95: Práce a dodávky HSV | J95: =BK95 -> 89552.2 | P95: =P96+P103 -> 19.804318 | R95: =R96+R103 -> 7.23716 | T95: =T96+T103 -> 0 | AR95: 1 | AT95: D | AU95: 0 | AY95: ROZPOCET | BK95: =BK96+BK103 -> 89552.2
D96: D | E96: 3 | F96: Svislé a kompletní konstrukce | J96: =BK96 -> 57650 | P96: =SUM(P97:P102) -> 3.88 | R96: =SUM(R97:R102) -> 7.23716 | T96: =SUM(T97:T102) -> 0 | AR96: 1 | AT96: D | AU96: 1 | AY96: ROZPOCET | BK96: =SUM(BK97:BK102) -> 57650
C97: 1 | D97: K | E97: 342123911 | F97: Montáž dílců obvodových stěn ze železobetonu s nesvařovanými spoji, v budovách výšky do 18 m, hmotnosti do 1,5 t | G97: kus | H97: 2 | I97: 1490 | J97: =ROUND(I97*H97,2) -> 2980 | K97: CS ÚRS 2025 02 | N97: základní | O97: 1.224 | P97: =O97*H97 -> 2.448 | Q97: 0.10753 | R97: =Q97*H97 -> 0.21506 | S97: 0 | T97: =S97*H97 -> 0 | AR97: 4 | AT97: K | AU97: 2 | AY97: ROZPOCET | BE97: =IF(N97="základní",J97,0) -> 2980 | BF97: =IF(N97="snížená",J97,0) -> 0 | BG97: =IF(N97="zákl. přenesená",J97,0) -> 0 | BH97: =IF(N97="sníž. přenesená",J97,0) -> 0 | BI97: =IF(N97="nulová",J97,0) -> 0 | BJ97: 1 | BK97: =ROUND(I97*H97,2) -> 2980 | BL97: 4 | BM97: 821287594
D98: Online PSC | F98: https://podminky.urs.cz/item/CS_URS_2025_02/342123911 | AT98: Online PSC | AU98: 2
C99: 2 | D99: M | E99: 59332000 | F99: stěna nenosná ŽB včetně výztuže do 120kg/m3 objem prefabrikátu do 1m3 | G99: m3 | H99: 1.8 | I99: 20400 | J99: =ROUND(I99*H99,2) -> 36720 | K99: CS ÚRS 2025 02 | N99: základní | O99: 0 | P99: =O99*H99 -> 0 | Q99: 2.4 | R99: =Q99*H99 -> 4.32 | S99: 0 | T99: =S99*H99 -> 0 | AR99: 8 | AT99: M | AU99: 2 | AY99: ROZPOCET | BE99: =IF(N99="základní",J99,0) -> 36720 | BF99: =IF(N99="snížená",J99,0) -> 0 | BG99: =IF(N99="zákl. přenesená",J99,0) -> 0 | BH99: =IF(N99="sníž. přenesená",J99,0) -> 0 | BI99: =IF(N99="nulová",J99,0) -> 0 | BJ99: 1 | BK99: =ROUND(I99*H99,2) -> 36720 | BL99: 4 | BM99: -1000237096
C100: 3 | D100: K | E100: 342123912 | F100: Montáž dílců obvodových stěn ze železobetonu s nesvařovanými spoji, v budovách výšky do 18 m, hmotnosti přes 1,5 do 3 t | G100: kus | H100: 1 | I100: 1750 | J100: =ROUND(I100*H100,2) -> 1750 | K100: CS ÚRS 2025 02 | N100: základní | O100: 1.432 | P100: =O100*H100 -> 1.432 | Q100: 0.1321 | R100: =Q100*H100 -> 0.1321 | S100: 0 | T100: =S100*H100 -> 0 | AR100: 4 | AT100: K | AU100: 2 | AY100: ROZPOCET | BE100: =IF(N100="základní",J100,0) -> 1750 | BF100: =IF(N100="snížená",J100,0) -> 0 | BG100: =IF(N100="zákl. přenesená",J100,0) -> 0 | BH100: =IF(N100="sníž. přenesená",J100,0) -> 0 | BI100: =IF(N100="nulová",J100,0) -> 0 | BJ100: 1 | BK100: =ROUND(I100*H100,2) -> 1750 | BL100: 4 | BM100: -1406457193
D101: Online PSC | F101: https://podminky.urs.cz/item/CS_URS_2025_02/342123912 | AT101: Online PSC | AU101: 2
C102: 4 | D102: M | E102: 59332001 | F102: stěna nenosná ŽB včetně výztuže do 120kg/m3 objem prefabrikátu přes 1m3 | G102: m3 | H102: 1 | I102: 16200 | J102: =ROUND(I102*H102,2) -> 16200 | K102: CS ÚRS 2025 02 | N102: základní | O102: 0 | P102: =O102*H102 -> 0 | Q102: 2.57 | R102: =Q102*H102 -> 2.57 | S102: 0 | T102: =S102*H102 -> 0 | AR102: 8 | AT102: M | AU102: 2 | AY102: ROZPOCET | BE102: =IF(N102="základní",J102,0) -> 16200 | BF102: =IF(N102="snížená",J102,0) -> 0 | BG102: =IF(N102="zákl. přenesená",J102,0) -> 0 | BH102: =IF(N102="sníž. přenesená",J102,0) -> 0 | BI102: =IF(N102="nulová",J102,0) -> 0 | BJ102: 1 | BK102: =ROUND(I102*H102,2) -> 16200 | BL102: 4 | BM102: 2110858907
D103: D | E103: 998 | F103: Přesun hmot | J103: =BK103 -> 31902.2 | P103: =SUM(P104:P110) -> 15.924318 | R103: =SUM(R104:R110) -> 0 | T103: =SUM(T104:T110) -> 0 | AR103: 1 | AT103: D | AU103: 1 | AY103: ROZPOCET | BK103: =SUM(BK104:BK110) -> 31902.2
C104: 7 | D104: K | E104: 998014094 | F104: Přesun hmot pro budovy a haly občanské výstavby, bydlení, výrobu a služby s nosnou svislou konstrukcí montovanou z dílců betonových plošných nebo tyčových s jakýmkoliv obvodovým pláštěm kromě vyzdívaného, i bez pláště Příplatek k cenám za zvětšený přesun přes vymezenou vodorovnou dopravní vzdálenost do 5000 m | G104: t | H104: 7.237 | I104: 564 | J104: =ROUND(I104*H104,2) -> 4081.67 | K104: CS ÚRS 2025 02 | N104: základní | O104: 0.472 | P104: =O104*H104 -> 3.415864 | Q104: 0 | R104: =Q104*H104 -> 0 | S104: 0 | T104: =S104*H104 -> 0 | AR104: 4 | AT104: K | AU104: 2 | AY104: ROZPOCET | BE104: =IF(N104="základní",J104,0) -> 4081.67 | BF104: =IF(N104="snížená",J104,0) -> 0 | BG104: =IF(N104="zákl. přenesená",J104,0) -> 0 | BH104: =IF(N104="sníž. přenesená",J104,0) -> 0 | BI104: =IF(N104="nulová",J104,0) -> 0 | BJ104: 1 | BK104: =ROUND(I104*H104,2) -> 4081.67 | BL104: 4 | BM104: 292352393
D105: Online PSC | F105: https://podminky.urs.cz/item/CS_URS_2025_02/998014094 | AT105: Online PSC | AU105: 2
C106: 8 | D106: K | E106: 998014095 | F106: Přesun hmot pro budovy a haly občanské výstavby, bydlení, výrobu a služby s nosnou svislou konstrukcí montovanou z dílců betonových plošných nebo tyčových s jakýmkoliv obvodovým pláštěm kromě vyzdívaného, i bez pláště Příplatek k cenám za zvětšený přesun přes vymezenou vodorovnou dopravní vzdálenost za každých dalších započatých 5000 m | G106: t | H106: 215.663 | I106: 129 | J106: =ROUND(I106*H106,2) -> 27820.53 | K106: CS ÚRS 2025 02 | N106: základní | O106: 0.058 | P106: =O106*H106 -> 12.508454 | Q106: 0 | R106: =Q106*H106 -> 0 | S106: 0 | T106: =S106*H106 -> 0 | AR106: 4 | AT106: K | AU106: 2 | AY106: ROZPOCET | BE106: =IF(N106="základní",J106,0) -> 27820.53 | BF106: =IF(N106="snížená",J106,0) -> 0 | BG106: =IF(N106="zákl. přenesená",J106,0) -> 0 | BH106: =IF(N106="sníž. přenesená",J106,0) -> 0 | BI106: =IF(N106="nulová",J106,0) -> 0 | BJ106: 1 | BK106: =ROUND(I106*H106,2) -> 27820.53 | BL106: 4 | BM106: -461715204
D107: Online PSC | F107: https://podminky.urs.cz/item/CS_URS_2025_02/998014095 | AT107: Online PSC | AU107: 2
D108: VV | F108: "154km - 5km | AT108: VV | AU108: 2 | AV108: 1 | AW108: True | AX108: 0 | AY108: ROZPOCET
D109: VV | F109: (154-5)/5 * 7,237 | H109: 215.663 | AT109: VV | AU109: 2 | AV109: 2 | AW109: True | AX109: 0 | AY109: ROZPOCET
D110: VV | F110: Součet | H110: 215.663 | AT110: VV | AU110: 2 | AV110: 4 | AW110: True | AX110: 1 | AY110: ROZPOCET

Sheet ZBV-03b - vícepráce
AT2: {122bf830-2ec7-4911-8f50-491624c88f16}
AT3: 2
D4: KRYCÍ LIST SOUPISU PRACÍ | M4: v --- níže se nacházejí doplnkové a pomocné údaje k sestavám --- v | AT4: False
D6: Stavba:
E7: ='Rekapitulace stavby'!K6 -> ÚPRAVY HŘBITOVA KBELY- ETAPA1
D8: Objekt:
E9: 01 - Navrhované objekty
D10: Soupis:
E11: 08 - KOLUMBÁRIUM
D12: Úroveň 3:
E13: ZBV-03b - vícepráce
D15: KSO: | F15: 815 9 | I15: CC-CZ:
D16: Místo: | F16: Praha 9-Kbely | I16: Datum: | J16: ='Rekapitulace stavby'!AN8 -> 0
D18: Zadavatel: | I18: IČ: | J18: 00231304
E19: MČ Praha 19, Semilská 43/1, 197 00 Praha 9 - Kbely | I19: DIČ:
D21: Zhotovitel: | I21: IČ: | J21: 07395680
E22: IWU s.r.o. | I22: DIČ: | J22: CZ07395680
D24: Projektant: | I24: IČ:
E25: Ing.Jan Pustějovský, Ph.D. | I25: DIČ:
D27: Zpracovatel: | I27: IČ:
I28: DIČ:
D30: Poznámka:
D34: Cena bez DPH | J34: =ROUND(J94, 2) -> 351561.13
F36: Základ daně | I36: Sazba daně | J36: Výše daně
D37: DPH | E37: základní | F37: =ROUND((SUM(BE94:BE110)), 2) -> 351561.13 | I37: 0.21 | J37: =ROUND(((SUM(BE94:BE110))*I37), 2) -> 73827.84
E38: snížená | F38: =ROUND((SUM(BF94:BF110)), 2) -> 0 | I38: 0.12 | J38: =ROUND(((SUM(BF94:BF110))*I38), 2) -> 0
E39: zákl. přenesená | F39: =ROUND((SUM(BG94:BG110)), 2) -> 0 | I39: 0.21 | J39: =0 -> 0
E40: sníž. přenesená | F40: =ROUND((SUM(BH94:BH110)), 2) -> 0 | I40: 0.12 | J40: =0 -> 0
E41: nulová | F41: =ROUND((SUM(BI94:BI110)), 2) -> 0 | I41: 0 | J41: =0 -> 0
D43: Cena s DPH | G43: v | H43: CZK | J43: =SUM(J34:J41) -> 425388.97
C49: REKAPITULACE ČLENĚNÍ SOUPISU PRACÍ
C51: Stavba:
E52: =E7 -> ÚPRAVY HŘBITOVA KBELY- ETAPA1
C53: Objekt:
E54: 01 - Navrhované objekty
C55: Soupis:
E56: 08 - KOLUMBÁRIUM
C57: Úroveň 3:
E58: =E13 -> ZBV-03b - vícepráce
C60: Místo: | F60: =F16 -> Praha 9-Kbely | I60: Datum: | J60: =IF(J16="","",J16) -> 0
C62: Zadavatel: | F62: =E19 -> MČ Praha 19, Semilská 43/1, 197 00 Praha 9 - Kbely | I62: Projektant: | J62: =E25 -> Ing.Jan Pustějovský, Ph.D.
C63: Zhotovitel: | F63: =IF(E22="","",E22) -> IWU s.r.o. | I63: Zpracovatel: | J63: =E28
C65: Kód dílu - Popis | J65: Cena celkem [CZK]
C67: Náklady stavby celkem | J67: =J94 -> 351561.13 | AU67: -1
D68: HSV - Práce a dodávky HSV | J68: =J95 -> 351561.13
D69: 3 - Svislé a kompletní konstrukce | J69: =J96 -> 220970
D70: 998 - Přesun hmot | J70: =J103 -> 130591.13
C77: SOUPIS PRACÍ
C79: Stavba:
E80: =E7 -> ÚPRAVY HŘBITOVA KBELY- ETAPA1
C81: Objekt:
E82: 01 - Navrhované objekty
C83: Soupis:
E84: 08 - KOLUMBÁRIUM
C85: Úroveň 3:
E86: =E13 -> ZBV-03b - vícepráce
C88: Místo: | F88: =F16 -> Praha 9-Kbely | I88: Datum: | J88: =IF(J16="","",J16) -> 0
C90: Zadavatel: | F90: =E19 -> MČ Praha 19, Semilská 43/1, 197 00 Praha 9 - Kbely | I90: Projektant: | J90: =E25 -> Ing.Jan Pustějovský, Ph.D.
C91: Zhotovitel: | F91: =IF(E22="","",E22) -> IWU s.r.o. | I91: Zpracovatel: | J91: =E28
C93: PČ | D93: Typ | E93: Kód | F93: Popis | G93: MJ | H93: Množství | I93: J.cena [CZK] | J93: Cena celkem [CZK] | K93: Cenová soustava | N93: DPH | O93: J. Nh [h] | P93: Nh celkem [h] | Q93: J. hmotnost [t] | R93: Hmotnost celkem [t] | S93: J. suť [t] | T93: Suť Celkem [t]
C94: Náklady soupisu celkem | J94: =BK94 -> 351561.13 | P94: =P95 -> 79.598526 | R94: =R95 -> 29.20568 | T94: =T95 -> 0 | AT94: D | AU94: -1 | BK94: =BK95 -> 351561.13
D95: D | E95: HSV | F95: Práce a dodávky HSV | J95: =BK95 -> 351561.13 | P95: =P96+P103 -> 79.598526 | R95: =R96+R103 -> 29.20568 | T95: =T96+T103 -> 0 | AR95: 1 | AT95: D | AU95: 0 | AY95: ROZPOCET | BK95: =BK96+BK103 -> 351561.13
D96: D | E96: 3 | F96: Svislé a kompletní konstrukce | J96: =BK96 -> 220970 | P96: =SUM(P97:P102) -> 14.504 | R96: =SUM(R97:R102) -> 29.20568 | T96: =SUM(T97:T102) -> 0 | AR96: 1 | AT96: D | AU96: 1 | AY96: ROZPOCET | BK96: =SUM(BK97:BK102) -> 220970
C97: 1 | D97: K | E97: 342123911 | F97: Montáž dílců obvodových stěn ze železobetonu s nesvařovanými spoji, v budovách výšky do 18 m, hmotnosti do 1,5 t | G97: kus | H97: 6 | I97: 1490 | J97: =ROUND(I97*H97,2) -> 8940 | K97: CS ÚRS 2025 02 | N97: základní | O97: 1.224 | P97: =O97*H97 -> 7.344 | Q97: 0.10753 | R97: =Q97*H97 -> 0.64518 | S97: 0 | T97: =S97*H97 -> 0 | AR97: 4 | AT97: K | AU97: 2 | AY97: ROZPOCET | BE97: =IF(N97="základní",J97,0) -> 8940 | BF97: =IF(N97="snížená",J97,0) -> 0 | BG97: =IF(N97="zákl. přenesená",J97,0) -> 0 | BH97: =IF(N97="sníž. přenesená",J97,0) -> 0 | BI97: =IF(N97="nulová",J97,0) -> 0 | BJ97: 1 | BK97: =ROUND(I97*H97,2) -> 8940 | BL97: 4 | BM97: 836042479
D98: Online PSC | F98: https://podminky.urs.cz/item/CS_URS_2025_02/342123911 | AT98: Online PSC | AU98: 2
C99: 2 | D99: M | E99: 59332000 | F99: stěna nenosná ŽB včetně výztuže do 120kg/m3 objem prefabrikátu do 1m3 | G99: m3 | H99: 5.2 | I99: 20400 | J99: =ROUND(I99*H99,2) -> 106080 | K99: CS ÚRS 2025 02 | N99: základní | O99: 0 | P99: =O99*H99 -> 0 | Q99: 2.4 | R99: =Q99*H99 -> 12.48 | S99: 0 | T99: =S99*H99 -> 0 | AR99: 8 | AT99: M | AU99: 2 | AY99: ROZPOCET | BE99: =IF(N99="základní",J99,0) -> 106080 | BF99: =IF(N99="snížená",J99,0) -> 0 | BG99: =IF(N99="zákl. přenesená",J99,0) -> 0 | BH99: =IF(N99="sníž. přenesená",J99,0) -> 0 | BI99: =IF(N99="nulová",J99,0) -> 0 | BJ99: 1 | BK99: =ROUND(I99*H99,2) -> 106080 | BL99: 4 | BM99: -1558855876
C100: 4 | D100: M | E100: 59332001 | F100: stěna nenosná ŽB včetně výztuže do 120kg/m3 objem prefabrikátu přes 1m3 | G100: m3 | H100: 6 | I100: 16200 | J100: =ROUND(I100*H100,2) -> 97200 | K100: CS ÚRS 2025 02 | N100: základní | O100: 0 | P100: =O100*H100 -> 0 | Q100: 2.57 | R100: =Q100*H100 -> 15.42 | S100: 0 | T100: =S100*H100 -> 0 | AR100: 8 | AT100: M | AU100: 2 | AY100: ROZPOCET | BE100: =IF(N100="základní",J100,0) -> 97200 | BF100: =IF(N100="snížená",J100,0) -> 0 | BG100: =IF(N100="zákl. přenesená",J100,0) -> 0 | BH100: =IF(N100="sníž. přenesená",J100,0) -> 0 | BI100: =IF(N100="nulová",J100,0) -> 0 | BJ100: 1 | BK100: =ROUND(I100*H100,2) -> 97200 | BL100: 4 | BM100: -955039036
C101: 3 | D101: K | E101: 342123912 | F101: Montáž dílců obvodových stěn ze železobetonu s nesvařovanými spoji, v budovách výšky do 18 m, hmotnosti přes 1,5 do 3 t | G101: kus | H101: 5 | I101: 1750 | J101: =ROUND(I101*H101,2) -> 8750 | K101: CS ÚRS 2025 02 | N101: základní | O101: 1.432 | P101: =O101*H101 -> 7.16 | Q101: 0.1321 | R101: =Q101*H101 -> 0.6605 | S101: 0 | T101: =S101*H101 -> 0 | AR101: 4 | AT101: K | AU101: 2 | AY101: ROZPOCET | BE101: =IF(N101="základní",J101,0) -> 8750 | BF101: =IF(N101="snížená",J101,0) -> 0 | BG101: =IF(N101="zákl. přenesená",J101,0) -> 0 | BH101: =IF(N101="sníž. přenesená",J101,0) -> 0 | BI101: =IF(N101="nulová",J101,0) -> 0 | BJ101: 1 | BK101: =ROUND(I101*H101,2) -> 8750 | BL101: 4 | BM101: 1617106174
D102: Online PSC | F102: https://podminky.urs.cz/item/CS_URS_2025_02/342123912 | AT102: Online PSC | AU102: 2
D103: D | E103: 998 | F103: Přesun hmot | J103: =BK103 -> 130591.13 | P103: =SUM(P104:P110) -> 65.094526 | R103: =SUM(R104:R110) -> 0 | T103: =SUM(T104:T110) -> 0 | AR103: 1 | AT103: D | AU103: 1 | AY103: ROZPOCET | BK103: =SUM(BK104:BK110) -> 130591.13
C104: 5 | D104: K | E104: 998014094 | F104: Přesun hmot pro budovy a haly občanské výstavby, bydlení, výrobu a služby s nosnou svislou konstrukcí montovanou z dílců betonových plošných nebo tyčových s jakýmkoliv obvodovým pláštěm kromě vyzdívaného, i bez pláště Příplatek k cenám za zvětšený přesun přes vymezenou vodorovnou dopravní vzdálenost do 5000 m | G104: t | H104: 29.206 | I104: 564 | J104: =ROUND(I104*H104,2) -> 16472.18 | K104: CS ÚRS 2025 02 | N104: základní | O104: 0.472 | P104: =O104*H104 -> 13.785232 | Q104: 0 | R104: =Q104*H104 -> 0 | S104: 0 | T104: =S104*H104 -> 0 | AR104: 4 | AT104: K | AU104: 2 | AY104: ROZPOCET | BE104: =IF(N104="základní",J104,0) -> 16472.18 | BF104: =IF(N104="snížená",J104,0) -> 0 | BG104: =IF(N104="zákl. přenesená",J104,0) -> 0 | BH104: =IF(N104="sníž. přenesená",J104,0) -> 0 | BI104: =IF(N104="nulová",J104,0) -> 0 | BJ104: 1 | BK104: =ROUND(I104*H104,2) -> 16472.18 | BL104: 4 | BM104: 247670822
D105: Online PSC | F105: https://podminky.urs.cz/item/CS_URS_2025_02/998014094 | AT105: Online PSC | AU105: 2
C106: 6 | D106: K | E106: 998014095 | F106: Přesun hmot pro budovy a haly občanské výstavby, bydlení, výrobu a služby s nosnou svislou konstrukcí montovanou z dílců betonových plošných nebo tyčových s jakýmkoliv obvodovým pláštěm kromě vyzdívaného, i bez pláště Příplatek k cenám za zvětšený přesun přes vymezenou vodorovnou dopravní vzdálenost za každých dalších započatých 5000 m | G106: t | H106: 884.643 | I106: 129 | J106: =ROUND(I106*H106,2) -> 114118.95 | K106: CS ÚRS 2025 02 | N106: základní | O106: 0.058 | P106: =O106*H106 -> 51.309294 | Q106: 0 | R106: =Q106*H106 -> 0 | S106: 0 | T106: =S106*H106 -> 0 | AR106: 4 | AT106: K | AU106: 2 | AY106: ROZPOCET | BE106: =IF(N106="základní",J106,0) -> 114118.95 | BF106: =IF(N106="snížená",J106,0) -> 0 | BG106: =IF(N106="zákl. přenesená",J106,0) -> 0 | BH106: =IF(N106="sníž. přenesená",J106,0) -> 0 | BI106: =IF(N106="nulová",J106,0) -> 0 | BJ106: 1 | BK106: =ROUND(I106*H106,2) -> 114118.95 | BL106: 4 | BM106: 918158792
D107: Online PSC | F107: https://podminky.urs.cz/item/CS_URS_2025_02/998014095 | AT107: Online PSC | AU107: 2
D108: VV | F108: "154km - 5km | AT108: VV | AU108: 2 | AV108: 1 | AW108: True | AX108: 0 | AY108: ROZPOCET
D109: VV | F109: (154-5)/5 * 29,686 | H109: 884.643 | AT109: VV | AU109: 2 | AV109: 2 | AW109: True | AX109: 0 | AY109: ROZPOCET
D110: VV | F110: Součet | H110: 884.643 | AT110: VV | AU110: 2 | AV110: 4 | AW110: True | AX110: 1 | AY110: ROZPOCET

Sheet ZBV-04b - vícepráce
AT2: {af2788f6-1399-42c6-a115-91d698fb748b}
AT3: 2
D4: KRYCÍ LIST SOUPISU PRACÍ | M4: v --- níže se nacházejí doplnkové a pomocné údaje k sestavám --- v | AT4: False
D6: Stavba:
E7: ='Rekapitulace stavby'!K6 -> ÚPRAVY HŘBITOVA KBELY- ETAPA1
D8: Objekt:
E9: 01 - Navrhované objekty
D10: Soupis:
E11: 09 - KOLUMBÁRIUM
D12: Úroveň 3:
E13: ZBV-04b - vícepráce
D15: KSO: | F15: 815 9 | I15: CC-CZ:
D16: Místo: | F16: Praha 9-Kbely | I16: Datum: | J16: ='Rekapitulace stavby'!AN8 -> 0
D18: Zadavatel: | I18: IČ: | J18: 00231304
E19: MČ Praha 19, Semilská 43/1, 197 00 Praha 9 - Kbely | I19: DIČ:
D21: Zhotovitel: | I21: IČ: | J21: 07395680
E22: IWU s.r.o. | I22: DIČ: | J22: CZ07395680
D24: Projektant: | I24: IČ:
E25: Ing.Jan Pustějovský, Ph.D. | I25: DIČ:
D27: Zpracovatel: | I27: IČ:
I28: DIČ:
D30: Poznámka:
D34: Cena bez DPH | J34: =ROUND(J94, 2) -> 163046.12
F36: Základ daně | I36: Sazba daně | J36: Výše daně
D37: DPH | E37: základní | F37: =ROUND((SUM(BE94:BE111)), 2) -> 163046.12 | I37: 0.21 | J37: =ROUND(((SUM(BE94:BE111))*I37), 2) -> 34239.69
E38: snížená | F38: =ROUND((SUM(BF94:BF111)), 2) -> 0 | I38: 0.12 | J38: =ROUND(((SUM(BF94:BF111))*I38), 2) -> 0
E39: zákl. přenesená | F39: =ROUND((SUM(BG94:BG111)), 2) -> 0 | I39: 0.21 | J39: =0 -> 0
E40: sníž. přenesená | F40: =ROUND((SUM(BH94:BH111)), 2) -> 0 | I40: 0.12 | J40: =0 -> 0
E41: nulová | F41: =ROUND((SUM(BI94:BI111)), 2) -> 0 | I41: 0 | J41: =0 -> 0
D43: Cena s DPH | G43: v | H43: CZK | J43: =SUM(J34:J41) -> 197285.81
C49: REKAPITULACE ČLENĚNÍ SOUPISU PRACÍ
C51: Stavba:
E52: =E7 -> ÚPRAVY HŘBITOVA KBELY- ETAPA1
C53: Objekt:
E54: 01 - Navrhované objekty
C55: Soupis:
E56: 09 - KOLUMBÁRIUM
C57: Úroveň 3:
E58: =E13 -> ZBV-04b - vícepráce
C60: Místo: | F60: =F16 -> Praha 9-Kbely | I60: Datum: | J60: =IF(J16="","",J16) -> 0
C62: Zadavatel: | F62: =E19 -> MČ Praha 19, Semilská 43/1, 197 00 Praha 9 - Kbely | I62: Projektant: | J62: =E25 -> Ing.Jan Pustějovský, Ph.D.
C63: Zhotovitel: | F63: =IF(E22="","",E22) -> IWU s.r.o. | I63: Zpracovatel: | J63: =E28
C65: Kód dílu - Popis | J65: Cena celkem [CZK]
C67: Náklady stavby celkem | J67: =J94 -> 163046.12 | AU67: -1
D68: HSV - Práce a dodávky HSV | J68: =J95 -> 163046.12
D69: 3 - Svislé a kompletní konstrukce | J69: =J96 -> 103390
D70: 998 - Přesun hmot | J70: =J104 -> 59656.12
C77: SOUPIS PRACÍ
C79: Stavba:
E80: =E7 -> ÚPRAVY HŘBITOVA KBELY- ETAPA1
C81: Objekt:
E82: 01 - Navrhované objekty
C83: Soupis:
E84: 09 - KOLUMBÁRIUM
C85: Úroveň 3:
E86: =E13 -> ZBV-04b - vícepráce
C88: Místo: | F88: =F16 -> Praha 9-Kbely | I88: Datum: | J88: =IF(J16="","",J16) -> 0
C90: Zadavatel: | F90: =E19 -> MČ Praha 19, Semilská 43/1, 197 00 Praha 9 - Kbely | I90: Projektant: | J90: =E25 -> Ing.Jan Pustějovský, Ph.D.
C91: Zhotovitel: | F91: =IF(E22="","",E22) -> IWU s.r.o. | I91: Zpracovatel: | J91: =E28
C93: PČ | D93: Typ | E93: Kód | F93: Popis | G93: MJ | H93: Množství | I93: J.cena [CZK] | J93: Cena celkem [CZK] | K93: Cenová soustava | N93: DPH | O93: J. Nh [h] | P93: Nh celkem [h] | Q93: J. hmotnost [t] | R93: Hmotnost celkem [t] | S93: J. suť [t] | T93: Suť Celkem [t]
C94: Náklady soupisu celkem | J94: =BK94 -> 163046.12 | P94: =P95 -> 36.52199 | R94: =R95 -> 13.53336 | T94: =T95 -> 0 | AT94: D | AU94: -1 | BK94: =BK95 -> 163046.12
D95: D | E95: HSV | F95: Práce a dodávky HSV | J95: =BK95 -> 163046.12 | P95: =P96+P104 -> 36.52199 | R95: =R96+R104 -> 13.53336 | T95: =T96+T104 -> 0 | AR95: 1 | AT95: D | AU95: 0 | AY95: ROZPOCET | BK95: =BK96+BK104 -> 163046.12
D96: D | E96: 3 | F96: Svislé a kompletní konstrukce | J96: =BK96 -> 103390 | P96: =SUM(P97:P103) -> 6.744 | R96: =SUM(R97:R103) -> 13.53336 | T96: =SUM(T97:T103) -> 0 | AR96: 1 | AT96: D | AU96: 1 | AY96: ROZPOCET | BK96: =SUM(BK97:BK103) -> 103390
C97: 1 | D97: K | E97: 342123911 | F97: Montáž dílců obvodových stěn ze železobetonu s nesvařovanými spoji, v budovách výšky do 18 m, hmotnosti do 1,5 t | G97: kus | H97: 2 | I97: 1490 | J97: =ROUND(I97*H97,2) -> 2980 | K97: CS ÚRS 2025 02 | N97: základní | O97: 1.224 | P97: =O97*H97 -> 2.448 | Q97: 0.10753 | R97: =Q97*H97 -> 0.21506 | S97: 0 | T97: =S97*H97 -> 0 | AR97: 4 | AT97: K | AU97: 2 | AY97: ROZPOCET | BE97: =IF(N97="základní",J97,0) -> 2980 | BF97: =IF(N97="snížená",J97,0) -> 0 | BG97: =IF(N97="zákl. přenesená",J97,0) -> 0 | BH97: =IF(N97="sníž. přenesená",J97,0) -> 0 | BI97: =IF(N97="nulová",J97,0) -> 0 | BJ97: 1 | BK97: =ROUND(I97*H97,2) -> 2980 | BL97: 4 | BM97: -956060848
D98: Online PSC | F98: https://podminky.urs.cz/item/CS_URS_2025_02/342123911 | AT98: Online PSC | AU98: 2
C99: 2 | D99: M | E99: 59332000 | F99: stěna nenosná ŽB včetně výztuže do 120kg/m3 objem prefabrikátu do 1m3 | G99: m3 | H99: 2.6 | I99: 20400 | J99: =ROUND(I99*H99,2) -> 53040 | K99: CS ÚRS 2025 02 | N99: základní | O99: 0 | P99: =O99*H99 -> 0 | Q99: 2.4 | R99: =Q99*H99 -> 6.24 | S99: 0 | T99: =S99*H99 -> 0 | AR99: 8 | AT99: M | AU99: 2 | AY99: ROZPOCET | BE99: =IF(N99="základní",J99,0) -> 53040 | BF99: =IF(N99="snížená",J99,0) -> 0 | BG99: =IF(N99="zákl. přenesená",J99,0) -> 0 | BH99: =IF(N99="sníž. přenesená",J99,0) -> 0 | BI99: =IF(N99="nulová",J99,0) -> 0 | BJ99: 1 | BK99: =ROUND(I99*H99,2) -> 53040 | BL99: 4 | BM99: -1464363061
C100: 3 | D100: K | E100: 342123912 | F100: Montáž dílců obvodových stěn ze železobetonu s nesvařovanými spoji, v budovách výšky do 18 m, hmotnosti přes 1,5 do 3 t | G100: kus | H100: 3 | I100: 1750 | J100: =ROUND(I100*H100,2) -> 5250 | K100: CS ÚRS 2025 02 | N100: základní | O100: 1.432 | P100: =O100*H100 -> 4.296 | Q100: 0.1321 | R100: =Q100*H100 -> 0.3963 | S100: 0 | T100: =S100*H100 -> 0 | AR100: 4 | AT100: K | AU100: 2 | AY100: ROZPOCET | BE100: =IF(N100="základní",J100,0) -> 5250 | BF100: =IF(N100="snížená",J100,0) -> 0 | BG100: =IF(N100="zákl. přenesená",J100,0) -> 0 | BH100: =IF(N100="sníž. přenesená",J100,0) -> 0 | BI100: =IF(N100="nulová",J100,0) -> 0 | BJ100: 1 | BK100: =ROUND(I100*H100,2) -> 5250 | BL100: 4 | BM100: 190908580
D101: Online PSC | F101: https://podminky.urs.cz/item/CS_URS_2025_02/342123912 | AT101: Online PSC | AU101: 2
C102: 4 | D102: M | E102: 59332001 | F102: stěna nenosná ŽB včetně výztuže do 120kg/m3 objem prefabrikátu přes 1m3 | G102: m3 | H102: 1.6 | I102: 16200 | J102: =ROUND(I102*H102,2) -> 25920 | K102: CS ÚRS 2025 02 | N102: základní | O102: 0 | P102: =O102*H102 -> 0 | Q102: 2.57 | R102: =Q102*H102 -> 4.112 | S102: 0 | T102: =S102*H102 -> 0 | AR102: 8 | AT102: M | AU102: 2 | AY102: ROZPOCET | BE102: =IF(N102="základní",J102,0) -> 25920 | BF102: =IF(N102="snížená",J102,0) -> 0 | BG102: =IF(N102="zákl. přenesená",J102,0) -> 0 | BH102: =IF(N102="sníž. přenesená",J102,0) -> 0 | BI102: =IF(N102="nulová",J102,0) -> 0 | BJ102: 1 | BK102: =ROUND(I102*H102,2) -> 25920 | BL102: 4 | BM102: 873189564
C103: 7 | D103: M | E103: 59332001 | F103: stěna nenosná ŽB včetně výztuže do 120kg/m3 objem prefabrikátu přes 1m3 | G103: m3 | H103: 1 | I103: 16200 | J103: =ROUND(I103*H103,2) -> 16200 | K103: CS ÚRS 2025 02 | N103: základní | O103: 0 | P103: =O103*H103 -> 0 | Q103: 2.57 | R103: =Q103*H103 -> 2.57 | S103: 0 | T103: =S103*H103 -> 0 | AR103: 8 | AT103: M | AU103: 2 | AY103: ROZPOCET | BE103: =IF(N103="základní",J103,0) -> 16200 | BF103: =IF(N103="snížená",J103,0) -> 0 | BG103: =IF(N103="zákl. přenesená",J103,0) -> 0 | BH103: =IF(N103="sníž. přenesená",J103,0) -> 0 | BI103: =IF(N103="nulová",J103,0) -> 0 | BJ103: 1 | BK103: =ROUND(I103*H103,2) -> 16200 | BL103: 4 | BM103: -265884564
D104: D | E104: 998 | F104: Přesun hmot | J104: =BK104 -> 59656.12 | P104: =SUM(P105:P111) -> 29.77799 | R104: =SUM(R105:R111) -> 0 | T104: =SUM(T105:T111) -> 0 | AR104: 1 | AT104: D | AU104: 1 | AY104: ROZPOCET | BK104: =SUM(BK105:BK111) -> 59656.12
C105: 5 | D105: K | E105: 998014094 | F105: Přesun hmot pro budovy a haly občanské výstavby, bydlení, výrobu a služby s nosnou svislou konstrukcí montovanou z dílců betonových plošných nebo tyčových s jakýmkoliv obvodovým pláštěm kromě vyzdívaného, i bez pláště Příplatek k cenám za zvětšený přesun přes vymezenou vodorovnou dopravní vzdálenost do 5000 m | G105: t | H105: 13.533 | I105: 564 | J105: =ROUND(I105*H105,2) -> 7632.61 | K105: CS ÚRS 2025 02 | N105: základní | O105: 0.472 | P105: =O105*H105 -> 6.387576 | Q105: 0 | R105: =Q105*H105 -> 0 | S105: 0 | T105: =S105*H105 -> 0 | AR105: 4 | AT105: K | AU105: 2 | AY105: ROZPOCET | BE105: =IF(N105="základní",J105,0) -> 7632.61 | BF105: =IF(N105="snížená",J105,0) -> 0 | BG105: =IF(N105="zákl. přenesená",J105,0) -> 0 | BH105: =IF(N105="sníž. přenesená",J105,0) -> 0 | BI105: =IF(N105="nulová",J105,0) -> 0 | BJ105: 1 | BK105: =ROUND(I105*H105,2) -> 7632.61 | BL105: 4 | BM105: -2107149272
D106: Online PSC | F106: https://podminky.urs.cz/item/CS_URS_2025_02/998014094 | AT106: Online PSC | AU106: 2
C107: 6 | D107: K | E107: 998014095 | F107: Přesun hmot pro budovy a haly občanské výstavby, bydlení, výrobu a služby s nosnou svislou konstrukcí montovanou z dílců betonových plošných nebo tyčových s jakýmkoliv obvodovým pláštěm kromě vyzdívaného, i bez pláště Příplatek k cenám za zvětšený přesun přes vymezenou vodorovnou dopravní vzdálenost za každých dalších započatých 5000 m | G107: t | H107: 403.283 | I107: 129 | J107: =ROUND(I107*H107,2) -> 52023.51 | K107: CS ÚRS 2025 02 | N107: základní | O107: 0.058 | P107: =O107*H107 -> 23.390414 | Q107: 0 | R107: =Q107*H107 -> 0 | S107: 0 | T107: =S107*H107 -> 0 | AR107: 4 | AT107: K | AU107: 2 | AY107: ROZPOCET | BE107: =IF(N107="základní",J107,0) -> 52023.51 | BF107: =IF(N107="snížená",J107,0) -> 0 | BG107: =IF(N107="zákl. přenesená",J107,0) -> 0 | BH107: =IF(N107="sníž. přenesená",J107,0) -> 0 | BI107: =IF(N107="nulová",J107,0) -> 0 | BJ107: 1 | BK107: =ROUND(I107*H107,2) -> 52023.51 | BL107: 4 | BM107: -1541221416
D108: Online PSC | F108: https://podminky.urs.cz/item/CS_URS_2025_02/998014095 | AT108: Online PSC | AU108: 2
D109: VV | F109: "154km - 5km | AT109: VV | AU109: 2 | AV109: 1 | AW109: True | AX109: 0 | AY109: ROZPOCET
D110: VV | F110: (154-5)/5 * 13,533 | H110: 403.283 | AT110: VV | AU110: 2 | AV110: 2 | AW110: True | AX110: 0 | AY110: ROZPOCET
D111: VV | F111: Součet | H111: 403.283 | AT111: VV | AU111: 2 | AV111: 4 | AW111: True | AX111: 1 | AY111: ROZPOCET

Sheet ZBV-05b - vícepráce
AT2: {b4fa2778-3f34-46ef-8f75-3c928f957ad6}
AT3: 2
D4: KRYCÍ LIST SOUPISU PRACÍ | M4: v --- níže se nacházejí doplnkové a pomocné údaje k sestavám --- v | AT4: False
D6: Stavba:
E7: ='Rekapitulace stavby'!K6 -> ÚPRAVY HŘBITOVA KBELY- ETAPA1
D8: Objekt:
E9: 01 - Navrhované objekty
D10: Soupis:
E11: 10 - KOLUMBÁRIUM
D12: Úroveň 3:
E13: ZBV-05b - vícepráce
D15: KSO: | F15: 815 9 | I15: CC-CZ:
D16: Místo: | F16: Praha 9-Kbely | I16: Datum: | J16: ='Rekapitulace stavby'!AN8 -> 0
D18: Zadavatel: | I18: IČ: | J18: 00231304
E19: MČ Praha 19, Semilská 43/1, 197 00 Praha 9 - Kbely | I19: DIČ:
D21: Zhotovitel: | I21: IČ: | J21: 07395680
E22: IWU s.r.o. | I22: DIČ: | J22: CZ07395680
D24: Projektant: | I24: IČ:
E25: Ing.Jan Pustějovský, Ph.D. | I25: DIČ:
D27: Zpracovatel: | I27: IČ:
I28: DIČ:
D30: Poznámka:
D34: Cena bez DPH | J34: =ROUND(J94, 2) -> 163736.27
F36: Základ daně | I36: Sazba daně | J36: Výše daně
D37: DPH | E37: základní | F37: =ROUND((SUM(BE94:BE110)), 2) -> 163736.27 | I37: 0.21 | J37: =ROUND(((SUM(BE94:BE110))*I37), 2) -> 34384.62
E38: snížená | F38: =ROUND((SUM(BF94:BF110)), 2) -> 0 | I38: 0.12 | J38: =ROUND(((SUM(BF94:BF110))*I38), 2) -> 0
E39: zákl. přenesená | F39: =ROUND((SUM(BG94:BG110)), 2) -> 0 | I39: 0.21 | J39: =0 -> 0
E40: sníž. přenesená | F40: =ROUND((SUM(BH94:BH110)), 2) -> 0 | I40: 0.12 | J40: =0 -> 0
E41: nulová | F41: =ROUND((SUM(BI94:BI110)), 2) -> 0 | I41: 0 | J41: =0 -> 0
D43: Cena s DPH | G43: v | H43: CZK | J43: =SUM(J34:J41) -> 198120.89
C49: REKAPITULACE ČLENĚNÍ SOUPISU PRACÍ
C51: Stavba:
E52: =E7 -> ÚPRAVY HŘBITOVA KBELY- ETAPA1
C53: Objekt:
E54: 01 - Navrhované objekty
C55: Soupis:
E56: 10 - KOLUMBÁRIUM
C57: Úroveň 3:
E58: =E13 -> ZBV-05b - vícepráce
C60: Místo: | F60: =F16 -> Praha 9-Kbely | I60: Datum: | J60: =IF(J16="","",J16) -> 0
C62: Zadavatel: | F62: =E19 -> MČ Praha 19, Semilská 43/1, 197 00 Praha 9 - Kbely | I62: Projektant: | J62: =E25 -> Ing.Jan Pustějovský, Ph.D.
C63: Zhotovitel: | F63: =IF(E22="","",E22) -> IWU s.r.o. | I63: Zpracovatel: | J63: =E28
C65: Kód dílu - Popis | J65: Cena celkem [CZK]
C67: Náklady stavby celkem | J67: =J94 -> 163736.27 | AU67: -1
D68: HSV - Práce a dodávky HSV | J68: =J95 -> 163736.27
D69: 3 - Svislé a kompletní konstrukce | J69: =J96 -> 104230
D70: 998 - Přesun hmot | J70: =J103 -> 59506.27
C77: SOUPIS PRACÍ
C79: Stavba:
E80: =E7 -> ÚPRAVY HŘBITOVA KBELY- ETAPA1
C81: Objekt:
E82: 01 - Navrhované objekty
C83: Soupis:
E84: 10 - KOLUMBÁRIUM
C85: Úroveň 3:
E86: =E13 -> ZBV-05b - vícepráce
C88: Místo: | F88: =F16 -> Praha 9-Kbely | I88: Datum: | J88: =IF(J16="","",J16) -> 0
C90: Zadavatel: | F90: =E19 -> MČ Praha 19, Semilská 43/1, 197 00 Praha 9 - Kbely | I90: Projektant: | J90: =E25 -> Ing.Jan Pustějovský, Ph.D.
C91: Zhotovitel: | F91: =IF(E22="","",E22) -> IWU s.r.o. | I91: Zpracovatel: | J91: =E28
C93: PČ | D93: Typ | E93: Kód | F93: Popis | G93: MJ | H93: Množství | I93: J.cena [CZK] | J93: Cena celkem [CZK] | K93: Cenová soustava | N93: DPH | O93: J. Nh [h] | P93: Nh celkem [h] | Q93: J. hmotnost [t] | R93: Hmotnost celkem [t] | S93: J. suť [t] | T93: Suť Celkem [t]
C94: Náklady soupisu celkem | J94: =BK94 -> 163736.27 | P94: =P95 -> 36.447188 | R94: =R95 -> 13.49936 | T94: =T95 -> 0 | AT94: D | AU94: -1 | BK94: =BK95 -> 163736.27
D95: D | E95: HSV | F95: Práce a dodávky HSV | J95: =BK95 -> 163736.27 | P95: =P96+P103 -> 36.447188 | R95: =R96+R103 -> 13.49936 | T95: =T96+T103 -> 0 | AR95: 1 | AT95: D | AU95: 0 | AY95: ROZPOCET | BK95: =BK96+BK103 -> 163736.27
D96: D | E96: 3 | F96: Svislé a kompletní konstrukce | J96: =BK96 -> 104230 | P96: =SUM(P97:P102) -> 6.744 | R96: =SUM(R97:R102) -> 13.49936 | T96: =SUM(T97:T102) -> 0 | AR96: 1 | AT96: D | AU96: 1 | AY96: ROZPOCET | BK96: =SUM(BK97:BK102) -> 104230
C97: 1 | D97: K | E97: 342123911 | F97: Montáž dílců obvodových stěn ze železobetonu s nesvařovanými spoji, v budovách výšky do 18 m, hmotnosti do 1,5 t | G97: kus | H97: 2 | I97: 1490 | J97: =ROUND(I97*H97,2) -> 2980 | K97: CS ÚRS 2025 02 | N97: základní | O97: 1.224 | P97: =O97*H97 -> 2.448 | Q97: 0.10753 | R97: =Q97*H97 -> 0.21506 | S97: 0 | T97: =S97*H97 -> 0 | AR97: 4 | AT97: K | AU97: 2 | AY97: ROZPOCET | BE97: =IF(N97="základní",J97,0) -> 2980 | BF97: =IF(N97="snížená",J97,0) -> 0 | BG97: =IF(N97="zákl. přenesená",J97,0) -> 0 | BH97: =IF(N97="sníž. přenesená",J97,0) -> 0 | BI97: =IF(N97="nulová",J97,0) -> 0 | BJ97: 1 | BK97: =ROUND(I97*H97,2) -> 2980 | BL97: 4 | BM97: 2069396940
D98: Online PSC | F98: https://podminky.urs.cz/item/CS_URS_2025_02/342123911 | AT98: Online PSC | AU98: 2
C99: 2 | D99: M | E99: 59332000 | F99: stěna nenosná ŽB včetně výztuže do 120kg/m3 objem prefabrikátu do 1m3 | G99: m3 | H99: 2.8 | I99: 20400 | J99: =ROUND(I99*H99,2) -> 57120 | K99: CS ÚRS 2025 02 | N99: základní | O99: 0 | P99: =O99*H99 -> 0 | Q99: 2.4 | R99: =Q99*H99 -> 6.72 | S99: 0 | T99: =S99*H99 -> 0 | AR99: 8 | AT99: M | AU99: 2 | AY99: ROZPOCET | BE99: =IF(N99="základní",J99,0) -> 57120 | BF99: =IF(N99="snížená",J99,0) -> 0 | BG99: =IF(N99="zákl. přenesená",J99,0) -> 0 | BH99: =IF(N99="sníž. přenesená",J99,0) -> 0 | BI99: =IF(N99="nulová",J99,0) -> 0 | BJ99: 1 | BK99: =ROUND(I99*H99,2) -> 57120 | BL99: 4 | BM99: 893418386
C100: 3 | D100: K | E100: 342123912 | F100: Montáž dílců obvodových stěn ze železobetonu s nesvařovanými spoji, v budovách výšky do 18 m, hmotnosti přes 1,5 do 3 t | G100: kus | H100: 3 | I100: 1750 | J100: =ROUND(I100*H100,2) -> 5250 | K100: CS ÚRS 2025 02 | N100: základní | O100: 1.432 | P100: =O100*H100 -> 4.296 | Q100: 0.1321 | R100: =Q100*H100 -> 0.3963 | S100: 0 | T100: =S100*H100 -> 0 | AR100: 4 | AT100: K | AU100: 2 | AY100: ROZPOCET | BE100: =IF(N100="základní",J100,0) -> 5250 | BF100: =IF(N100="snížená",J100,0) -> 0 | BG100: =IF(N100="zákl. přenesená",J100,0) -> 0 | BH100: =IF(N100="sníž. přenesená",J100,0) -> 0 | BI100: =IF(N100="nulová",J100,0) -> 0 | BJ100: 1 | BK100: =ROUND(I100*H100,2) -> 5250 | BL100: 4 | BM100: -2019028459
D101: Online PSC | F101: https://podminky.urs.cz/item/CS_URS_2025_02/342123912 | AT101: Online PSC | AU101: 2
C102: 4 | D102: M | E102: 59332001 | F102: stěna nenosná ŽB včetně výztuže do 120kg/m3 objem prefabrikátu přes 1m3 | G102: m3 | H102: 2.4 | I102: 16200 | J102: =ROUND(I102*H102,2) -> 38880 | K102: CS ÚRS 2025 02 | N102: základní | O102: 0 | P102: =O102*H102 -> 0 | Q102: 2.57 | R102: =Q102*H102 -> 6.168 | S102: 0 | T102: =S102*H102 -> 0 | AR102: 8 | AT102: M | AU102: 2 | AY102: ROZPOCET | BE102: =IF(N102="základní",J102,0) -> 38880 | BF102: =IF(N102="snížená",J102,0) -> 0 | BG102: =IF(N102="zákl. přenesená",J102,0) -> 0 | BH102: =IF(N102="sníž. přenesená",J102,0) -> 0 | BI102: =IF(N102="nulová",J102,0) -> 0 | BJ102: 1 | BK102: =ROUND(I102*H102,2) -> 38880 | BL102: 4 | BM102: 117547734
D103: D | E103: 998 | F103: Přesun hmot | J103: =BK103 -> 59506.27 | P103: =SUM(P104:P110) -> 29.703188 | R103: =SUM(R104:R110) -> 0 | T103: =SUM(T104:T110) -> 0 | AR103: 1 | AT103: D | AU103: 1 | AY103: ROZPOCET | BK103: =SUM(BK104:BK110) -> 59506.27
C104: 5 | D104: K | E104: 998014094 | F104: Přesun hmot pro budovy a haly občanské výstavby, bydlení, výrobu a služby s nosnou svislou konstrukcí montovanou z dílců betonových plošných nebo tyčových s jakýmkoliv obvodovým pláštěm kromě vyzdívaného, i bez pláště Příplatek k cenám za zvětšený přesun přes vymezenou vodorovnou dopravní vzdálenost do 5000 m | G104: t | H104: 13.499 | I104: 564 | J104: =ROUND(I104*H104,2) -> 7613.44 | K104: CS ÚRS 2025 02 | N104: základní | O104: 0.472 | P104: =O104*H104 -> 6.371528 | Q104: 0 | R104: =Q104*H104 -> 0 | S104: 0 | T104: =S104*H104 -> 0 | AR104: 4 | AT104: K | AU104: 2 | AY104: ROZPOCET | BE104: =IF(N104="základní",J104,0) -> 7613.44 | BF104: =IF(N104="snížená",J104,0) -> 0 | BG104: =IF(N104="zákl. přenesená",J104,0) -> 0 | BH104: =IF(N104="sníž. přenesená",J104,0) -> 0 | BI104: =IF(N104="nulová",J104,0) -> 0 | BJ104: 1 | BK104: =ROUND(I104*H104,2) -> 7613.44 | BL104: 4 | BM104: 4871609
D105: Online PSC | F105: https://podminky.urs.cz/item/CS_URS_2025_02/998014094 | AT105: Online PSC | AU105: 2
C106: 6 | D106: K | E106: 998014095 | F106: Přesun hmot pro budovy a haly občanské výstavby, bydlení, výrobu a služby s nosnou svislou konstrukcí montovanou z dílců betonových plošných nebo tyčových s jakýmkoliv obvodovým pláštěm kromě vyzdívaného, i bez pláště Příplatek k cenám za zvětšený přesun přes vymezenou vodorovnou dopravní vzdálenost za každých dalších započatých 5000 m | G106: t | H106: 402.27 | I106: 129 | J106: =ROUND(I106*H106,2) -> 51892.83 | K106: CS ÚRS 2025 02 | N106: základní | O106: 0.058 | P106: =O106*H106 -> 23.33166 | Q106: 0 | R106: =Q106*H106 -> 0 | S106: 0 | T106: =S106*H106 -> 0 | AR106: 4 | AT106: K | AU106: 2 | AY106: ROZPOCET | BE106: =IF(N106="základní",J106,0) -> 51892.83 | BF106: =IF(N106="snížená",J106,0) -> 0 | BG106: =IF(N106="zákl. přenesená",J106,0) -> 0 | BH106: =IF(N106="sníž. přenesená",J106,0) -> 0 | BI106: =IF(N106="nulová",J106,0) -> 0 | BJ106: 1 | BK106: =ROUND(I106*H106,2) -> 51892.83 | BL106: 4 | BM106: -1522593740
D107: Online PSC | F107: https://podminky.urs.cz/item/CS_URS_2025_02/998014095 | AT107: Online PSC | AU107: 2
D108: VV | F108: "154km - 5km | AT108: VV | AU108: 2 | AV108: 1 | AW108: True | AX108: 0 | AY108: ROZPOCET
D109: VV | F109: (154-5)/5 * 13,499 | H109: 402.27 | AT109: VV | AU109: 2 | AV109: 2 | AW109: True | AX109: 0 | AY109: ROZPOCET
D110: VV | F110: Součet | H110: 402.27 | AT110: VV | AU110: 2 | AV110: 4 | AW110: True | AX110: 1 | AY110: ROZPOCET

Sheet ZBV-06b - vícepráce
AT2: {fc369eec-68de-4208-8f19-f6a2101553e0}
AT3: 2
D4: KRYCÍ LIST SOUPISU PRACÍ | M4: v --- níže se nacházejí doplnkové a pomocné údaje k sestavám --- v | AT4: False
D6: Stavba:
E7: ='Rekapitulace stavby'!K6 -> ÚPRAVY HŘBITOVA KBELY- ETAPA1
D8: Objekt:
E9: 01 - Navrhované objekty
D10: Soupis:
E11: 11 - KOLUMBÁRIUM
D12: Úroveň 3:
E13: ZBV-06b - vícepráce
D15: KSO: | F15: 815 9 | I15: CC-CZ:
D16: Místo: | F16: Praha 9-Kbely | I16: Datum: | J16: ='Rekapitulace stavby'!AN8 -> 0
D18: Zadavatel: | I18: IČ: | J18: 00231304
E19: MČ Praha 19, Semilská 43/1, 197 00 Praha 9 - Kbely | I19: DIČ:
D21: Zhotovitel: | I21: IČ: | J21: 07395680
E22: IWU s.r.o. | I22: DIČ: | J22: CZ07395680
D24: Projektant: | I24: IČ:
E25: Ing.Jan Pustějovský, Ph.D. | I25: DIČ:
D27: Zpracovatel: | I27: IČ:
I28: DIČ:
D30: Poznámka:
D34: Cena bez DPH | J34: =ROUND(J94, 2) -> 127697.02
F36: Základ daně | I36: Sazba daně | J36: Výše daně
D37: DPH | E37: základní | F37: =ROUND((SUM(BE94:BE110)), 2) -> 127697.02 | I37: 0.21 | J37: =ROUND(((SUM(BE94:BE110))*I37), 2) -> 26816.37
E38: snížená | F38: =ROUND((SUM(BF94:BF110)), 2) -> 0 | I38: 0.12 | J38: =ROUND(((SUM(BF94:BF110))*I38), 2) -> 0
E39: zákl. přenesená | F39: =ROUND((SUM(BG94:BG110)), 2) -> 0 | I39: 0.21 | J39: =0 -> 0
E40: sníž. přenesená | F40: =ROUND((SUM(BH94:BH110)), 2) -> 0 | I40: 0.12 | J40: =0 -> 0
E41: nulová | F41: =ROUND((SUM(BI94:BI110)), 2) -> 0 | I41: 0 | J41: =0 -> 0
D43: Cena s DPH | G43: v | H43: CZK | J43: =SUM(J34:J41) -> 154513.39
C49: REKAPITULACE ČLENĚNÍ SOUPISU PRACÍ
C51: Stavba:
E52: =E7 -> ÚPRAVY HŘBITOVA KBELY- ETAPA1
C53: Objekt:
E54: 01 - Navrhované objekty
C55: Soupis:
E56: 11 - KOLUMBÁRIUM
C57: Úroveň 3:
E58: =E13 -> ZBV-06b - vícepráce
C60: Místo: | F60: =F16 -> Praha 9-Kbely | I60: Datum: | J60: =IF(J16="","",J16) -> 0
C62: Zadavatel: | F62: =E19 -> MČ Praha 19, Semilská 43/1, 197 00 Praha 9 - Kbely | I62: Projektant: | J62: =E25 -> Ing.Jan Pustějovský, Ph.D.
C63: Zhotovitel: | F63: =IF(E22="","",E22) -> IWU s.r.o. | I63: Zpracovatel: | J63: =E28
C65: Kód dílu - Popis | J65: Cena celkem [CZK]
C67: Náklady stavby celkem | J67: =J94 -> 127697.02 | AU67: -1
D68: HSV - Práce a dodávky HSV | J68: =J95 -> 127697.02
D69: 3 - Svislé a kompletní konstrukce | J69: =J96 -> 80300
D70: 998 - Přesun hmot | J70: =J103 -> 47397.02
C77: SOUPIS PRACÍ
C79: Stavba:
E80: =E7 -> ÚPRAVY HŘBITOVA KBELY- ETAPA1
C81: Objekt:
E82: 01 - Navrhované objekty
C83: Soupis:
E84: 11 - KOLUMBÁRIUM
C85: Úroveň 3:
E86: =E13 -> ZBV-06b - vícepráce
C88: Místo: | F88: =F16 -> Praha 9-Kbely | I88: Datum: | J88: =IF(J16="","",J16) -> 0
C90: Zadavatel: | F90: =E19 -> MČ Praha 19, Semilská 43/1, 197 00 Praha 9 - Kbely | I90: Projektant: | J90: =E25 -> Ing.Jan Pustějovský, Ph.D.
C91: Zhotovitel: | F91: =IF(E22="","",E22) -> IWU s.r.o. | I91: Zpracovatel: | J91: =E28
C93: PČ | D93: Typ | E93: Kód | F93: Popis | G93: MJ | H93: Množství | I93: J.cena [CZK] | J93: Cena celkem [CZK] | K93: Cenová soustava | N93: DPH | O93: J. Nh [h] | P93: Nh celkem [h] | Q93: J. hmotnost [t] | R93: Hmotnost celkem [t] | S93: J. suť [t] | T93: Suť Celkem [t]
C94: Náklady soupisu celkem | J94: =BK94 -> 127697.02 | P94: =P95 -> 29.178724 | R94: =R95 -> 10.75183 | T94: =T95 -> 0 | AT94: D | AU94: -1 | BK94: =BK95 -> 127697.02
D95: D | E95: HSV | F95: Práce a dodávky HSV | J95: =BK95 -> 127697.02 | P95: =P96+P103 -> 29.178724 | R95: =R96+R103 -> 10.75183 | T95: =T96+T103 -> 0 | AR95: 1 | AT95: D | AU95: 0 | AY95: ROZPOCET | BK95: =BK96+BK103 -> 127697.02
D96: D | E96: 3 | F96: Svislé a kompletní konstrukce | J96: =BK96 -> 80300 | P96: =SUM(P97:P102) -> 5.52 | R96: =SUM(R97:R102) -> 10.75183 | T96: =SUM(T97:T102) -> 0 | AR96: 1 | AT96: D | AU96: 1 | AY96: ROZPOCET | BK96: =SUM(BK97:BK102) -> 80300
C97: 1 | D97: K | E97: 342123911 | F97: Montáž dílců obvodových stěn ze železobetonu s nesvařovanými spoji, v budovách výšky do 18 m, hmotnosti do 1,5 t | G97: kus | H97: 1 | I97: 1490 | J97: =ROUND(I97*H97,2) -> 1490 | K97: CS ÚRS 2025 02 | N97: základní | O97: 1.224 | P97: =O97*H97 -> 1.224 | Q97: 0.10753 | R97: =Q97*H97 -> 0.10753 | S97: 0 | T97: =S97*H97 -> 0 | AR97: 4 | AT97: K | AU97: 2 | AY97: ROZPOCET | BE97: =IF(N97="základní",J97,0) -> 1490 | BF97: =IF(N97="snížená",J97,0) -> 0 | BG97: =IF(N97="zákl. přenesená",J97,0) -> 0 | BH97: =IF(N97="sníž. přenesená",J97,0) -> 0 | BI97: =IF(N97="nulová",J97,0) -> 0 | BJ97: 1 | BK97: =ROUND(I97*H97,2) -> 1490 | BL97: 4 | BM97: -365735318
D98: Online PSC | F98: https://podminky.urs.cz/item/CS_URS_2025_02/342123911 | AT98: Online PSC | AU98: 2
C99: 2 | D99: M | E99: 59332000 | F99: stěna nenosná ŽB včetně výztuže do 120kg/m3 objem prefabrikátu do 1m3 | G99: m3 | H99: 1.7 | I99: 20400 | J99: =ROUND(I99*H99,2) -> 34680 | K99: CS ÚRS 2025 02 | N99: základní | O99: 0 | P99: =O99*H99 -> 0 | Q99: 2.4 | R99: =Q99*H99 -> 4.08 | S99: 0 | T99: =S99*H99 -> 0 | AR99: 8 | AT99: M | AU99: 2 | AY99: ROZPOCET | BE99: =IF(N99="základní",J99,0) -> 34680 | BF99: =IF(N99="snížená",J99,0) -> 0 | BG99: =IF(N99="zákl. přenesená",J99,0) -> 0 | BH99: =IF(N99="sníž. přenesená",J99,0) -> 0 | BI99: =IF(N99="nulová",J99,0) -> 0 | BJ99: 1 | BK99: =ROUND(I99*H99,2) -> 34680 | BL99: 4 | BM99: -583740826
C100: 3 | D100: K | E100: 342123912 | F100: Montáž dílců obvodových stěn ze železobetonu s nesvařovanými spoji, v budovách výšky do 18 m, hmotnosti přes 1,5 do 3 t | G100: kus | H100: 3 | I100: 1750 | J100: =ROUND(I100*H100,2) -> 5250 | K100: CS ÚRS 2025 02 | N100: základní | O100: 1.432 | P100: =O100*H100 -> 4.296 | Q100: 0.1321 | R100: =Q100*H100 -> 0.3963 | S100: 0 | T100: =S100*H100 -> 0 | AR100: 4 | AT100: K | AU100: 2 | AY100: ROZPOCET | BE100: =IF(N100="základní",J100,0) -> 5250 | BF100: =IF(N100="snížená",J100,0) -> 0 | BG100: =IF(N100="zákl. přenesená",J100,0) -> 0 | BH100: =IF(N100="sníž. přenesená",J100,0) -> 0 | BI100: =IF(N100="nulová",J100,0) -> 0 | BJ100: 1 | BK100: =ROUND(I100*H100,2) -> 5250 | BL100: 4 | BM100: -801863780
D101: Online PSC | F101: https://podminky.urs.cz/item/CS_URS_2025_02/342123912 | AT101: Online PSC | AU101: 2
C102: 4 | D102: M | E102: 59332001 | F102: stěna nenosná ŽB včetně výztuže do 120kg/m3 objem prefabrikátu přes 1m3 | G102: m3 | H102: 2.4 | I102: 16200 | J102: =ROUND(I102*H102,2) -> 38880 | K102: CS ÚRS 2025 02 | N102: základní | O102: 0 | P102: =O102*H102 -> 0 | Q102: 2.57 | R102: =Q102*H102 -> 6.168 | S102: 0 | T102: =S102*H102 -> 0 | AR102: 8 | AT102: M | AU102: 2 | AY102: ROZPOCET | BE102: =IF(N102="základní",J102,0) -> 38880 | BF102: =IF(N102="snížená",J102,0) -> 0 | BG102: =IF(N102="zákl. přenesená",J102,0) -> 0 | BH102: =IF(N102="sníž. přenesená",J102,0) -> 0 | BI102: =IF(N102="nulová",J102,0) -> 0 | BJ102: 1 | BK102: =ROUND(I102*H102,2) -> 38880 | BL102: 4 | BM102: -940027649
D103: D | E103: 998 | F103: Přesun hmot | J103: =BK103 -> 47397.02 | P103: =SUM(P104:P110) -> 23.658724 | R103: =SUM(R104:R110) -> 0 | T103: =SUM(T104:T110) -> 0 | AR103: 1 | AT103: D | AU103: 1 | AY103: ROZPOCET | BK103: =SUM(BK104:BK110) -> 47397.02
C104: 5 | D104: K | E104: 998014094 | F104: Přesun hmot pro budovy a haly občanské výstavby, bydlení, výrobu a služby s nosnou svislou konstrukcí montovanou z dílců betonových plošných nebo tyčových s jakýmkoliv obvodovým pláštěm kromě vyzdívaného, i bez pláště Příplatek k cenám za zvětšený přesun přes vymezenou vodorovnou dopravní vzdálenost do 5000 m | G104: t | H104: 10.752 | I104: 564 | J104: =ROUND(I104*H104,2) -> 6064.13 | K104: CS ÚRS 2025 02 | N104: základní | O104: 0.472 | P104: =O104*H104 -> 5.074944 | Q104: 0 | R104: =Q104*H104 -> 0 | S104: 0 | T104: =S104*H104 -> 0 | AR104: 4 | AT104: K | AU104: 2 | AY104: ROZPOCET | BE104: =IF(N104="základní",J104,0) -> 6064.13 | BF104: =IF(N104="snížená",J104,0) -> 0 | BG104: =IF(N104="zákl. přenesená",J104,0) -> 0 | BH104: =IF(N104="sníž. přenesená",J104,0) -> 0 | BI104: =IF(N104="nulová",J104,0) -> 0 | BJ104: 1 | BK104: =ROUND(I104*H104,2) -> 6064.13 | BL104: 4 | BM104: 847919981
D105: Online PSC | F105: https://podminky.urs.cz/item/CS_URS_2025_02/998014094 | AT105: Online PSC | AU105: 2
C106: 6 | D106: K | E106: 998014095 | F106: Přesun hmot pro budovy a haly občanské výstavby, bydlení, výrobu a služby s nosnou svislou konstrukcí montovanou z dílců betonových plošných nebo tyčových s jakýmkoliv obvodovým pláštěm kromě vyzdívaného, i bez pláště Příplatek k cenám za zvětšený přesun přes vymezenou vodorovnou dopravní vzdálenost za každých dalších započatých 5000 m | G106: t | H106: 320.41 | I106: 129 | J106: =ROUND(I106*H106,2) -> 41332.89 | K106: CS ÚRS 2025 02 | N106: základní | O106: 0.058 | P106: =O106*H106 -> 18.58378 | Q106: 0 | R106: =Q106*H106 -> 0 | S106: 0 | T106: =S106*H106 -> 0 | AR106: 4 | AT106: K | AU106: 2 | AY106: ROZPOCET | BE106: =IF(N106="základní",J106,0) -> 41332.89 | BF106: =IF(N106="snížená",J106,0) -> 0 | BG106: =IF(N106="zákl. přenesená",J106,0) -> 0 | BH106: =IF(N106="sníž. přenesená",J106,0) -> 0 | BI106: =IF(N106="nulová",J106,0) -> 0 | BJ106: 1 | BK106: =ROUND(I106*H106,2) -> 41332.89 | BL106: 4 | BM106: 123497919
D107: Online PSC | F107: https://podminky.urs.cz/item/CS_URS_2025_02/998014095 | AT107: Online PSC | AU107: 2
D108: VV | F108: "154km - 5km | AT108: VV | AU108: 2 | AV108: 1 | AW108: True | AX108: 0 | AY108: ROZPOCET
D109: VV | F109: (154-5)/5 * 10,752 | H109: 320.41 | AT109: VV | AU109: 2 | AV109: 2 | AW109: True | AX109: 0 | AY109: ROZPOCET
D110: VV | F110: Součet | H110: 320.41 | AT110: VV | AU110: 2 | AV110: 4 | AW110: True | AX110: 1 | AY110: ROZPOCET

Sheet ZBV-07b - vícepráce
AT2: {6f0ea63e-83ba-4d87-9733-d5e6e4af6c76}
AT3: 2
D4: KRYCÍ LIST SOUPISU PRACÍ | M4: v --- níže se nacházejí doplnkové a pomocné údaje k sestavám --- v | AT4: False
D6: Stavba:
E7: ='Rekapitulace stavby'!K6 -> ÚPRAVY HŘBITOVA KBELY- ETAPA1
D8: Objekt:
E9: 01 - Navrhované objekty
D10: Soupis:
E11: 12 - KOLUMBÁRIUM
D12: Úroveň 3:
E13: ZBV-07b - vícepráce
D15: KSO: | F15: 815 9 | I15: CC-CZ:
D16: Místo: | F16: Praha 9-Kbely | I16: Datum: | J16: ='Rekapitulace stavby'!AN8 -> 0
D18: Zadavatel: | I18: IČ: | J18: 00231304
E19: MČ Praha 19, Semilská 43/1, 197 00 Praha 9 - Kbely | I19: DIČ:
D21: Zhotovitel: | I21: IČ: | J21: 07395680
E22: IWU s.r.o. | I22: DIČ: | J22: CZ07395680
D24: Projektant: | I24: IČ:
E25: Ing.Jan Pustějovský, Ph.D. | I25: DIČ:
D27: Zpracovatel: | I27: IČ:
I28: DIČ:
D30: Poznámka:
D34: Cena bez DPH | J34: =ROUND(J94, 2) -> 86454.23
F36: Základ daně | I36: Sazba daně | J36: Výše daně
D37: DPH | E37: základní | F37: =ROUND((SUM(BE94:BE110)), 2) -> 86454.23 | I37: 0.21 | J37: =ROUND(((SUM(BE94:BE110))*I37), 2) -> 18155.39
E38: snížená | F38: =ROUND((SUM(BF94:BF110)), 2) -> 0 | I38: 0.12 | J38: =ROUND(((SUM(BF94:BF110))*I38), 2) -> 0
E39: zákl. přenesená | F39: =ROUND((SUM(BG94:BG110)), 2) -> 0 | I39: 0.21 | J39: =0 -> 0
E40: sníž. přenesená | F40: =ROUND((SUM(BH94:BH110)), 2) -> 0 | I40: 0.12 | J40: =0 -> 0
E41: nulová | F41: =ROUND((SUM(BI94:BI110)), 2) -> 0 | I41: 0 | J41: =0 -> 0
D43: Cena s DPH | G43: v | H43: CZK | J43: =SUM(J34:J41) -> 104609.62
C49: REKAPITULACE ČLENĚNÍ SOUPISU PRACÍ
C51: Stavba:
E52: =E7 -> ÚPRAVY HŘBITOVA KBELY- ETAPA1
C53: Objekt:
E54: 01 - Navrhované objekty
C55: Soupis:
E56: 12 - KOLUMBÁRIUM
C57: Úroveň 3:
E58: =E13 -> ZBV-07b - vícepráce
C60: Místo: | F60: =F16 -> Praha 9-Kbely | I60: Datum: | J60: =IF(J16="","",J16) -> 0
C62: Zadavatel: | F62: =E19 -> MČ Praha 19, Semilská 43/1, 197 00 Praha 9 - Kbely | I62: Projektant: | J62: =E25 -> Ing.Jan Pustějovský, Ph.D.
C63: Zhotovitel: | F63: =IF(E22="","",E22) -> IWU s.r.o. | I63: Zpracovatel: | J63: =E28
C65: Kód dílu - Popis | J65: Cena celkem [CZK]
C67: Náklady stavby celkem | J67: =J94 -> 86454.23 | AU67: -1
D68: HSV - Práce a dodávky HSV | J68: =J95 -> 86454.23
D69: 3 - Svislé a kompletní konstrukce | J69: =J96 -> 55610
D70: 998 - Přesun hmot | J70: =J103 -> 30844.23
C77: SOUPIS PRACÍ
C79: Stavba:
E80: =E7 -> ÚPRAVY HŘBITOVA KBELY- ETAPA1
C81: Objekt:
E82: 01 - Navrhované objekty
C83: Soupis:
E84: 12 - KOLUMBÁRIUM
C85: Úroveň 3:
E86: =E13 -> ZBV-07b - vícepráce
C88: Místo: | F88: =F16 -> Praha 9-Kbely | I88: Datum: | J88: =IF(J16="","",J16) -> 0
C90: Zadavatel: | F90: =E19 -> MČ Praha 19, Semilská 43/1, 197 00 Praha 9 - Kbely | I90: Projektant: | J90: =E25 -> Ing.Jan Pustějovský, Ph.D.
C91: Zhotovitel: | F91: =IF(E22="","",E22) -> IWU s.r.o. | I91: Zpracovatel: | J91: =E28
C93: PČ | D93: Typ | E93: Kód | F93: Popis | G93: MJ | H93: Množství | I93: J.cena [CZK] | J93: Cena celkem [CZK] | K93: Cenová soustava | N93: DPH | O93: J. Nh [h] | P93: Nh celkem [h] | Q93: J. hmotnost [t] | R93: Hmotnost celkem [t] | S93: J. suť [t] | T93: Suť Celkem [t]
C94: Náklady soupisu celkem | J94: =BK94 -> 86454.23 | P94: =P95 -> 19.276222 | R94: =R95 -> 6.99716 | T94: =T95 -> 0 | AT94: D | AU94: -1 | BK94: =BK95 -> 86454.23
D95: D | E95: HSV | F95: Práce a dodávky HSV | J95: =BK95 -> 86454.23 | P95: =P96+P103 -> 19.276222 | R95: =R96+R103 -> 6.99716 | T95: =T96+T103 -> 0 | AR95: 1 | AT95: D | AU95: 0 | AY95: ROZPOCET | BK95: =BK96+BK103 -> 86454.23
D96: D | E96: 3 | F96: Svislé a kompletní konstrukce | J96: =BK96 -> 55610 | P96: =SUM(P97:P102) -> 3.88 | R96: =SUM(R97:R102) -> 6.99716 | T96: =SUM(T97:T102) -> 0 | AR96: 1 | AT96: D | AU96: 1 | AY96: ROZPOCET | BK96: =SUM(BK97:BK102) -> 55610
C97: 1 | D97: K | E97: 342123911 | F97: Montáž dílců obvodových stěn ze železobetonu s nesvařovanými spoji, v budovách výšky do 18 m, hmotnosti do 1,5 t | G97: kus | H97: 2 | I97: 1490 | J97: =ROUND(I97*H97,2) -> 2980 | K97: CS ÚRS 2025 02 | N97: základní | O97: 1.224 | P97: =O97*H97 -> 2.448 | Q97: 0.10753 | R97: =Q97*H97 -> 0.21506 | S97: 0 | T97: =S97*H97 -> 0 | AR97: 4 | AT97: K | AU97: 2 | AY97: ROZPOCET | BE97: =IF(N97="základní",J97,0) -> 2980 | BF97: =IF(N97="snížená",J97,0) -> 0 | BG97: =IF(N97="zákl. přenesená",J97,0) -> 0 | BH97: =IF(N97="sníž. přenesená",J97,0) -> 0 | BI97: =IF(N97="nulová",J97,0) -> 0 | BJ97: 1 | BK97: =ROUND(I97*H97,2) -> 2980 | BL97: 4 | BM97: 1377488217
D98: Online PSC | F98: https://podminky.urs.cz/item/CS_URS_2025_02/342123911 | AT98: Online PSC | AU98: 2
C99: 2 | D99: M | E99: 59332000 | F99: stěna nenosná ŽB včetně výztuže do 120kg/m3 objem prefabrikátu do 1m3 | G99: m3 | H99: 1.7 | I99: 20400 | J99: =ROUND(I99*H99,2) -> 34680 | K99: CS ÚRS 2025 02 | N99: základní | O99: 0 | P99: =O99*H99 -> 0 | Q99: 2.4 | R99: =Q99*H99 -> 4.08 | S99: 0 | T99: =S99*H99 -> 0 | AR99: 8 | AT99: M | AU99: 2 | AY99: ROZPOCET | BE99: =IF(N99="základní",J99,0) -> 34680 | BF99: =IF(N99="snížená",J99,0) -> 0 | BG99: =IF(N99="zákl. přenesená",J99,0) -> 0 | BH99: =IF(N99="sníž. přenesená",J99,0) -> 0 | BI99: =IF(N99="nulová",J99,0) -> 0 | BJ99: 1 | BK99: =ROUND(I99*H99,2) -> 34680 | BL99: 4 | BM99: -459580793
C100: 3 | D100: K | E100: 342123912 | F100: Montáž dílců obvodových stěn ze železobetonu s nesvařovanými spoji, v budovách výšky do 18 m, hmotnosti přes 1,5 do 3 t | G100: kus | H100: 1 | I100: 1750 | J100: =ROUND(I100*H100,2) -> 1750 | K100: CS ÚRS 2025 02 | N100: základní | O100: 1.432 | P100: =O100*H100 -> 1.432 | Q100: 0.1321 | R100: =Q100*H100 -> 0.1321 | S100: 0 | T100: =S100*H100 -> 0 | AR100: 4 | AT100: K | AU100: 2 | AY100: ROZPOCET | BE100: =IF(N100="základní",J100,0) -> 1750 | BF100: =IF(N100="snížená",J100,0) -> 0 | BG100: =IF(N100="zákl. přenesená",J100,0) -> 0 | BH100: =IF(N100="sníž. přenesená",J100,0) -> 0 | BI100: =IF(N100="nulová",J100,0) -> 0 | BJ100: 1 | BK100: =ROUND(I100*H100,2) -> 1750 | BL100: 4 | BM100: 106630849
D101: Online PSC | F101: https://podminky.urs.cz/item/CS_URS_2025_02/342123912 | AT101: Online PSC | AU101: 2
C102: 4 | D102: M | E102: 59332001 | F102: stěna nenosná ŽB včetně výztuže do 120kg/m3 objem prefabrikátu přes 1m3 | G102: m3 | H102: 1 | I102: 16200 | J102: =ROUND(I102*H102,2) -> 16200 | K102: CS ÚRS 2025 02 | N102: základní | O102: 0 | P102: =O102*H102 -> 0 | Q102: 2.57 | R102: =Q102*H102 -> 2.57 | S102: 0 | T102: =S102*H102 -> 0 | AR102: 8 | AT102: M | AU102: 2 | AY102: ROZPOCET | BE102: =IF(N102="základní",J102,0) -> 16200 | BF102: =IF(N102="snížená",J102,0) -> 0 | BG102: =IF(N102="zákl. přenesená",J102,0) -> 0 | BH102: =IF(N102="sníž. přenesená",J102,0) -> 0 | BI102: =IF(N102="nulová",J102,0) -> 0 | BJ102: 1 | BK102: =ROUND(I102*H102,2) -> 16200 | BL102: 4 | BM102: 1703907654
D103: D | E103: 998 | F103: Přesun hmot | J103: =BK103 -> 30844.23 | P103: =SUM(P104:P110) -> 15.396222 | R103: =SUM(R104:R110) -> 0 | T103: =SUM(T104:T110) -> 0 | AR103: 1 | AT103: D | AU103: 1 | AY103: ROZPOCET | BK103: =SUM(BK104:BK110) -> 30844.23
C104: 5 | D104: K | E104: 998014094 | F104: Přesun hmot pro budovy a haly občanské výstavby, bydlení, výrobu a služby s nosnou svislou konstrukcí montovanou z dílců betonových plošných nebo tyčových s jakýmkoliv obvodovým pláštěm kromě vyzdívaného, i bez pláště Příplatek k cenám za zvětšený přesun přes vymezenou vodorovnou dopravní vzdálenost do 5000 m | G104: t | H104: 6.997 | I104: 564 | J104: =ROUND(I104*H104,2) -> 3946.31 | K104: CS ÚRS 2025 02 | N104: základní | O104: 0.472 | P104: =O104*H104 -> 3.302584 | Q104: 0 | R104: =Q104*H104 -> 0 | S104: 0 | T104: =S104*H104 -> 0 | AR104: 4 | AT104: K | AU104: 2 | AY104: ROZPOCET | BE104: =IF(N104="základní",J104,0) -> 3946.31 | BF104: =IF(N104="snížená",J104,0) -> 0 | BG104: =IF(N104="zákl. přenesená",J104,0) -> 0 | BH104: =IF(N104="sníž. přenesená",J104,0) -> 0 | BI104: =IF(N104="nulová",J104,0) -> 0 | BJ104: 1 | BK104: =ROUND(I104*H104,2) -> 3946.31 | BL104: 4 | BM104: 405302640
D105: Online PSC | F105: https://podminky.urs.cz/item/CS_URS_2025_02/998014094 | AT105: Online PSC | AU105: 2
C106: 6 | D106: K | E106: 998014095 | F106: Přesun hmot pro budovy a haly občanské výstavby, bydlení, výrobu a služby s nosnou svislou konstrukcí montovanou z dílců betonových plošných nebo tyčových s jakýmkoliv obvodovým pláštěm kromě vyzdívaného, i bez pláště Příplatek k cenám za zvětšený přesun přes vymezenou vodorovnou dopravní vzdálenost za každých dalších započatých 5000 m | G106: t | H106: 208.511 | I106: 129 | J106: =ROUND(I106*H106,2) -> 26897.92 | K106: CS ÚRS 2025 02 | N106: základní | O106: 0.058 | P106: =O106*H106 -> 12.093638 | Q106: 0 | R106: =Q106*H106 -> 0 | S106: 0 | T106: =S106*H106 -> 0 | AR106: 4 | AT106: K | AU106: 2 | AY106: ROZPOCET | BE106: =IF(N106="základní",J106,0) -> 26897.92 | BF106: =IF(N106="snížená",J106,0) -> 0 | BG106: =IF(N106="zákl. přenesená",J106,0) -> 0 | BH106: =IF(N106="sníž. přenesená",J106,0) -> 0 | BI106: =IF(N106="nulová",J106,0) -> 0 | BJ106: 1 | BK106: =ROUND(I106*H106,2) -> 26897.92 | BL106: 4 | BM106: -938690891
D107: Online PSC | F107: https://podminky.urs.cz/item/CS_URS_2025_02/998014095 | AT107: Online PSC | AU107: 2
D108: VV | F108: "154km - 5km | AT108: VV | AU108: 2 | AV108: 1 | AW108: True | AX108: 0 | AY108: ROZPOCET
D109: VV | F109: (154-5)/5 * 6,997 | H109: 208.511 | AT109: VV | AU109: 2 | AV109: 2 | AW109: True | AX109: 0 | AY109: ROZPOCET
D110: VV | F110: Součet | H110: 208.511 | AT110: VV | AU110: 2 | AV110: 4 | AW110: True | AX110: 1 | AY110: ROZPOCET

Sheet Pokyny pro vyplnění
C3: Struktura údajů, formát souboru a metodika pro zpracování
C4: Struktura
C6: Soubor je složen ze záložky Rekapitulace stavby a záložek s názvem soupisu prací pro jednotlivé objekty ve formátu XLSX. Každá ze záložek přitom obsahuje
C7: ještě samostatné sestavy vymezené orámovaním a nadpisem sestavy.
C9: Rekapitulace stavby obsahuje sestavu Rekapitulace stavby a Rekapitulace objektů stavby a soupisů prací.
D10: V sestavě Rekapitulace stavby jsou uvedeny informace identifikující předmět veřejné zakázky na stavební práce, KSO, CC-CZ, CZ-CPV, CZ-CPA a rekapitulaci
D11: celkové nabídkové ceny účastníka.
D13: Termínem "učastník" (resp. zhotovitel) se myslí "účastník zadávacího řízení" ve smyslu zákona o zadávání veřejných zakázek.
D15: V sestavě Rekapitulace objektů stavby a soupisů prací je uvedena rekapitulace stavebních objektů, inženýrských objektů, provozních souborů,
D16: vedlejších a ostatních nákladů a ostatních nákladů s rekapitulací nabídkové ceny za jednotlivé soupisy prací. Na základě údaje Typ je možné
D17: identifikovat, zda se jedná o objekt nebo soupis prací pro daný objekt:
E18: STA | F18: Stavební objekt pozemní
E19: ING | F19: Stavební objekt inženýrský
E20: PRO | F20: Provozní soubor
E21: VON | F21: Vedlejší a ostatní náklady
E22: OST | F22: Ostatní
E23: Soupis | F23: Soupis prací pro daný typ objektu
C25: Soupis prací pro jednotlivé objekty obsahuje sestavy Krycí list soupisu prací, Rekapitulace členění soupisu prací, Soupis prací. Za soupis prací může být považován
C26: i objekt stavby v případě, že neobsahuje podřízenou zakázku.
D27: Krycí list soupisu obsahuje rekapitulaci informací o předmětu veřejné zakázky ze sestavy Rekapitulace stavby, informaci o zařazení objektu do KSO,
D28: CC-CZ, CZ-CPV, CZ-CPA a rekapitulaci celkové nabídkové ceny účastníka za aktuální soupis prací.
D30: Rekapitulace členění soupisu prací obsahuje rekapitulaci soupisu prací ve všech úrovních členění soupisu tak, jak byla tato členění použita (např.
D31: stavební díly, funkční díly, případně jiné členění) s rekapitulací nabídkové ceny.
D33: Soupis prací obsahuje položky veškerých stavebních nebo montážních prací, dodávek materiálů a služeb nezbytných pro zhotovení stavebního objektu,
D34: inženýrského objektu, provozního souboru, vedlejších a ostatních nákladů.
D35: Pro položky soupisu prací se zobrazují následující informace:
E36: PČ | G36: Pořadové číslo položky v aktuálním soupisu
E37: TYP | G37: Typ položky: K - konstrukce, M - materiál, PP - plný popis, PSC - poznámka k souboru cen, P - poznámka k položce, VV - výkaz výměr, FIG - rozpad figur
E38: Kód | G38: Kód položky
E39: Popis | G39: Zkrácený popis položky
E40: MJ | G40: Měrná jednotka položky
E41: Množství | G41: Množství v měrné jednotce
E42: J.cena | G42: Jednotková cena položky. Zadaní může obsahovat namísto J.ceny sloupce J.materiál a J.montáž, jejichž součet definuje
G43: J.cenu položky.
E44: Cena celkem | G44: Celková cena položky daná jako součin množství a j.ceny
E45: Cenová soustava | G45: Příslušnost položky do cenové soustavy
D47: Ke každé položce soupisu prací se na samostatných řádcích může zobrazovat:
E48: Plný popis položky
E49: Poznámka k souboru cen a poznámka zadavatele
E50: Výkaz výměr
D51: Pokud je k řádku výkazu výměr evidovaný údaj ve sloupci Kód, jedná se o definovaný odkaz, na který se může odvolávat výkaz výměr z jiné položky.
C52: Metodika pro zpracování
C54: Jednotlivé sestavy jsou v souboru provázány. Editovatelné pole jsou zvýrazněny žlutým podbarvením, ostatní pole neslouží k editaci a nesmí být jakkoliv
C55: modifikovány.
C57: Účastník je pro podání nabídky povinen vyplnit žlutě podbarvená pole:
D58: Pole Účastník v sestavě Rekapitulace stavby - zde účastník vyplní svůj název (název subjektu)
D59: Pole IČ a DIČ v sestavě Rekapitulace stavby - zde účastník vyplní svoje IČ a DIČ
D60: Datum v sestavě Rekapitulace stavby - zde účastník vyplní datum vytvoření nabídky
D61: J.cena = jednotková cena v sestavě Soupis prací o maximálním počtu desetinných míst uvedených v poli
D62: - pokud sestavy soupisů prací obsahují pole J.cena, měla by být všechna tato pole vyplněna nenulovými
D63: Poznámka - nepovinný údaj pro položku soupisu
D65: V případě, že sestavy soupisů prací neobsahují pole J.cena, potom ve všech soupisech prací obsahují pole:
D66: - J.materiál - jednotková cena materiálu
D67: - J.montáž - jednotková cena montáže
D68: Účastník v tomto případě by měl vyplnit všechna pole J.materiál a pole J.montáž nenulovými kladnými číslicemi. V případech, kdy položka
D69: neobsahuje žádný materiál je přípustné, aby pole J.materiál bylo vyplněno nulou. V případech, kdy položka neobsahuje žádnou montáž je přípustné,
D70: aby pole J.montáž bylo vyplněno nulou. Obě pole - J.materiál, J.Montáž u jedné položky by však neměly být vyplněny nulou.
C75: Rekapitulace stavby
C76: Název | F76: Povinný | H76: Popis | I76: Typ | J76: Max. počet
C77: atributu | F77: (A/N) | J77: znaků
C79: Kód | F79: A | H79: Kód stavby | I79: String | J79: 20
C80: Stavba | F80: A | H80: Název stavby | I80: String | J80: 120
C81: Místo | F81: N | H81: Místo stavby | I81: String | J81: 50
C82: Datum | F82: A | H82: Datum vykonaného exportu | I82: Date
C83: KSO | F83: N | H83: Klasifikace stavebního objektu | I83: String | J83: 15
C84: CC-CZ | F84: N | H84: Klasifikace stavbeních děl | I84: String | J84: 15
C85: CZ-CPV | F85: N | H85: Společný slovník pro veřejné zakázky | I85: String | J85: 20
C86: CZ-CPA | F86: N | H86: Klasifikace produkce podle činností | I86: String | J86: 20
C87: Zadavatel | F87: N | H87: Zadavatel zadaní | I87: String | J87: 50
C88: IČ | F88: N | H88: IČ zadavatele zadaní | I88: String | J88: 20
C89: DIČ | F89: N | H89: DIČ zadavatele zadaní | I89: String | J89: 20
C90: Účastník | F90: N | H90: Účastník veřejné zakázky | I90: String | J90: 50
C91: Projektant | F91: N | H91: Projektant | I91: String | J91: 50
C92: Poznámka | F92: N | H92: Poznámka k zadání | I92: String | J92: 255
C93: Sazba DPH | F93: A | H93: Rekapitulace sazeb DPH u položek soupisů | I93: eGSazbaDph
C94: Základna DPH | F94: A | H94: Základna DPH určena součtem celkové ceny z položek soupisů | I94: Double
C95: Hodnota DPH | F95: A | H95: Hodnota DPH | I95: Double
C96: Cena bez DPH | F96: A | H96: Celková cena bez DPH za celou stavbu. Sčítává se ze všech listů. | I96: Double
C97: Cena s DPH | F97: A | H97: Celková cena s DPH za celou stavbu | I97: Double
C102: Rekapitulace objektů stavby a soupisů prací
C103: Název | F103: Povinný | H103: Popis | I103: Typ | J103: Max. počet
C104: atributu | F104: (A/N) | J104: znaků
C106: Kód | F106: A | H106: Přebírá se z Rekapitulace stavby | I106: String | J106: 20
C107: Stavba | F107: A | H107: Přebírá se z Rekapitulace stavby | I107: String | J107: 120
C108: Místo | F108: N | H108: Přebírá se z Rekapitulace stavby | I108: String | J108: 50
C109: Datum | F109: A | H109: Přebírá se z Rekapitulace stavby | I109: Date
C110: Zadavatel | F110: N | H110: Přebírá se z Rekapitulace stavby | I110: String | J110: 50
C111: Projektant | F111: N | H111: Přebírá se z Rekapitulace stavby | I111: String | J111: 50
C112: Účastník | F112: N | H112: Přebírá se z Rekapitulace stavby | I112: String | J112: 50
C113: Kód | F113: A | H113: Kód objektu | I113: String | J113: 20
C114: Objektu, Soupis prací | F114: A | H114: Název objektu | I114: String | J114: 120
C115: Cena bez DPH | F115: A | H115: Cena bez DPH za daný objekt | I115: Double
C116: Cena s DPH | F116: A | H116: Cena spolu s DPH za daný objekt | I116: Double
C117: Typ | F117: A | H117: Typ zakázky | I117: eGTypZakazky
C122: Krycí list soupisu
C123: Název | F123: Povinný | H123: Popis | I123: Typ | J123: Max. počet
C124: atributu | F124: (A/N) | J124: znaků
C126: Stavba | F126: A | H126: Přebírá se z Rekapitulace stavby | I126: String | J126: 120
C127: Objekt | F127: A | H127: Kód a název objektu | I127: String | J127: 20 + 120
C128: Soupis | F128: A | H128: Kód a název soupisu | I128: String | J128: 20 + 120
...
