Workbook

Sheet Rekapitulace stavby
A1: Export Komplet | AZ1: VZ | BA1: 2.0 | BB1: ZAMOK | BT1: False | BU1: False | BV1: {e00c9e41-8b45-44f4-a35c-edada5650279}
BS2: 0,01 | BT2: 21
BS3: 0,01 | BT3: 12
D4: REKAPITULACE STAVBY | AS4: v --- níže se nacházejí doplnkové a pomocné údaje k sestavám --- v | BS4: 0,001
D5: Kód: | K5: 05/25 | BS5: 0,01
D6: Stavba: | K6: ÚPRAVY HŘBITOVA KBELY- ETAPA1 | BS6: 0,01
D7: KSO: | K7: 815 9 | AK7: CC-CZ: | AN7: 12 | BS7: 0,01
D8: Místo: | K8: Praha 9-Kbely | AK8: Datum: | BS8: 0,01
D9: CZ-CPV: | K9: 45000000-7 | AK9: CZ-CPA: | AN9: 41 | BS9: 0,01
D10: Zadavatel: | AK10: IČ: | AN10: 00231304 | BS10: 0,01
E11: MČ Praha 19, Semilská 43/1, 197 00 Praha 9 - Kbely | AK11: DIČ: | BS11: 0,01
BS12: 0,01
D13: Zhotovitel: | AK13: IČ: | AN13: 07395680 | BS13: 0,01
E14: IWU s.r.o. | AK14: DIČ: | AN14: CZ07395680 | BS14: 0,01
BS15: False
D16: Projektant: | AK16: IČ: | BS16: False
E17: Ing.Jan Pustějovský, Ph.D. | AK17: DIČ: | BS17: True
BS18: 0,01
D19: Zpracovatel: | AK19: IČ: | BS19: 0,01
AK20: DIČ: | BS20: False
D22: Poznámka:
E23: Položkový rozpočet zpracován v CS ÚRS s CH 2024/II na základě PD -10/2024
D26: Cena bez DPH | AK26: =ROUND(AG54,2) -> 982046.97
L28: Sazba daně | W28: Základ daně | AK28: Výše daně
D29: DPH | F29: základní | L29: 0.21 | W29: =ROUND(AZ54, 2) -> 982046.97 | AK29: =ROUND(AV54, 2) -> 206229.86
F30: snížená | L30: 0.12 | W30: =ROUND(BA54, 2) -> 0 | AK30: =ROUND(AW54, 2) -> 0
F31: zákl. přenesená | L31: 0.21 | W31: =ROUND(BB54, 2) -> 0 | AK31: 0
F32: sníž. přenesená | L32: 0.12 | W32: =ROUND(BC54, 2) -> 0 | AK32: 0
F33: nulová | L33: 0 | W33: =ROUND(BD54, 2) -> 0 | AK33: 0
D35: Cena s DPH | T35: v | X35: CZK | AK35: =SUM(AK26:AK33) -> 1188276.8
C42: REKAPITULACE OBJEKTŮ STAVBY A SOUPISŮ PRACÍ
C44: Kód: | L44: =K5 -> 05/25
C45: Stavba: | L45: =K6 -> ÚPRAVY HŘBITOVA KBELY- ETAPA1
C47: Místo: | L47: =IF(K8="","",K8) -> Praha 9-Kbely | AI47: Datum: | AM47: =IF(AN8= "","",AN8)
C49: Zadavatel: | L49: =IF(E11= "","",E11) -> MČ Praha 19, Semilská 43/1, 197 00 Praha 9 - Kbely | AI49: Projektant: | AM49: =IF(E17="","",E17) -> Ing.Jan Pustějovský, Ph.D. | AS49: Informatívní údaje z listů zakázek
C50: Zhotovitel: | L50: =IF(E14="","",E14) -> IWU s.r.o. | AI50: Zpracovatel: | AM50: =IF(E20="","",E20)
C52: Kód | I52: Popis | AG52: Cena bez DPH [CZK] | AN52: Cena s DPH [CZK] | AQ52: Typ | AS52: z toho Ostat._x000D_ náklady [CZK] | AT52: DPH [CZK] | AU52: Normohodiny [h] | AV52: DPH základní [CZK] | AW52: DPH snížená [CZK] | AX52: DPH základní přenesená_x000D_ [CZK] | AY52: DPH snížená přenesená_x000D_ [CZK] | AZ52: Základna_x000D_ DPH základní | BA52: Základna_x000D_ DPH snížená | BB52: Základna_x000D_ DPH zákl. přenesená | BC52: Základna_x000D_ DPH sníž. přenesená | BD52: Základna_x000D_ DPH nulová
C54: Náklady stavby celkem | AG54: =ROUND(AG55,2) -> 982046.97 | AN54: =SUM(AG54,AT54) -> 1188276.8 | AS54: =ROUND(AS55,2) -> 0 | AT54: =ROUND(SUM(AV54:AW54),2) -> 206229.86 | AU54: =ROUND(AU55,5) -> 220.82697 | AV54: =ROUND(AZ54*L29,2) -> 206229.86 | AW54: =ROUND(BA54*L30,2) -> 0 | AX54: =ROUND(BB54*L29,2) -> 0 | AY54: =ROUND(BC54*L30,2) -> 0 | AZ54: =ROUND(AZ55,2) -> 982046.97 | BA54: =ROUND(BA55,2) -> 0 | BB54: =ROUND(BB55,2) -> 0 | BC54: =ROUND(BC55,2) -> 0 | BD54: =ROUND(BD55,2) -> 0 | BS54: D | BT54: 0 | BU54: ###NOIMPORT### | BV54: IMPORT | BW54: {e00c9e41-8b45-44f4-a35c-edada5650279} | BX54: {00000000-0000-0000-0000-000000000000} | CL54: 815 9
D55: 01 | J55: Navrhované objekty | AG55: =ROUND(AG56+AG58+AG60+AG62+AG64+AG66,2) -> 982046.97 | AN55: =SUM(AG55,AT55) -> 1188276.8 | AQ55: STA | AS55: =ROUND(AS56+AS58+AS60+AS62+AS64+AS66,2) -> 0 | AT55: =ROUND(SUM(AV55:AW55),2) -> 206229.86 | AU55: =ROUND(AU56+AU58+AU60+AU62+AU64+AU66,5) -> 220.82697 | AV55: =ROUND(AZ55*L29,2) -> 206229.86 | AW55: =ROUND(BA55*L30,2) -> 0 | AX55: =ROUND(BB55*L29,2) -> 0 | AY55: =ROUND(BC55*L30,2) -> 0 | AZ55: =ROUND(AZ56+AZ58+AZ60+AZ62+AZ64+AZ66,2) -> 982046.97 | BA55: =ROUND(BA56+BA58+BA60+BA62+BA64+BA66,2) -> 0 | BB55: =ROUND(BB56+BB58+BB60+BB62+BB64+BB66,2) -> 0 | BC55: =ROUND(BC56+BC58+BC60+BC62+BC64+BC66,2) -> 0 | BD55: =ROUND(BD56+BD58+BD60+BD62+BD64+BD66,2) -> 0 | BS55: D | BT55: 1 | BU55: ###NOIMPORT### | BV55: IMPORT | BW55: {1fe41dd8-8cc0-4dd3-96fb-5e5554e15797} | BX55: {e00c9e41-8b45-44f4-a35c-edada5650279} | CL55: 815 9 | CM55: 2
E56: 07 | K56: KOLUMBÁRIUM | AG56: =ROUND(AG57,2) -> 89552.2 | AN56: =SUM(AG56,AT56) -> 108358.16 | AQ56: Soupis | AS56: =ROUND(AS57,2) -> 0 | AT56: =ROUND(SUM(AV56:AW56),2) -> 18805.96 | AU56: =ROUND(AU57,5) -> 19.80432 | AV56: =ROUND(AZ56*L29,2) -> 18805.96 | AW56: =ROUND(BA56*L30,2) -> 0 | AX56: =ROUND(BB56*L29,2) -> 0 | AY56: =ROUND(BC56*L30,2) -> 0 | AZ56: =ROUND(AZ57,2) -> 89552.2 | BA56: =ROUND(BA57,2) -> 0 | BB56: =ROUND(BB57,2) -> 0 | BC56: =ROUND(BC57,2) -> 0 | BD56: =ROUND(BD57,2) -> 0 | BS56: D | BT56: 2 | BU56: ###NOIMPORT### | BV56: IMPORT | BW56: {12e068f8-e123-46e4-89ca-100ec925e7f4} | BX56: {1fe41dd8-8cc0-4dd3-96fb-5e5554e15797} | CL56: 815 9
...

Sheet ZBV-02b - vícepráce
AT2: {bd2d8957-1601-43b4-b23e-5631e3c54041}
AT3: 2
D4: KRYCÍ LIST SOUPISU PRACÍ | M4: v --- níže se nacházejí doplnkové a pomocné údaje k sestavám --- v | AT4: False
D6: Stavba:
E7: ='Rekapitulace stavby'!K6 -> ÚPRAVY HŘBITOVA KBELY- ETAPA1
D8: Objekt:
E9: 01 - Navrhované objekty
D10: Soupis:
E11: 07 - KOLUMBÁRIUM
D12: Úroveň 3:
E13: ZBV-02b - vícepráce
D15: KSO: | F15: 815 9 | I15: CC-CZ:
D16: Místo: | F16: Praha 9-Kbely | I16: Datum: | J16: ='Rekapitulace stavby'!AN8 -> 0
D18: Zadavatel: | I18: IČ: | J18: 00231304
E19: MČ Praha 19, Semilská 43/1, 197 00 Praha 9 - Kbely | I19: DIČ:
D21: Zhotovitel: | I21: IČ: | J21: 07395680
E22: IWU s.r.o. | I22: DIČ: | J22: CZ07395680
D24: Projektant: | I24: IČ:
E25: Ing.Jan Pustějovský, Ph.D. | I25: DIČ:
D27: Zpracovatel: | I27: IČ:
I28: DIČ:
D30: Poznámka:
D34: Cena bez DPH | J34: =ROUND(J94, 2) -> 89552.2
F36: Základ daně | I36: Sazba daně | J36: Výše daně
D37: DPH | E37: základní | F37: =ROUND((SUM(BE94:BE110)), 2) -> 89552.2 | I37: 0.21 | J37: =ROUND(((SUM(BE94:BE110))*I37), 2) -> 18805.96
E38: snížená | F38: =ROUND((SUM(BF94:BF110)), 2) -> 0 | I38: 0.12 | J38: =ROUND(((SUM(BF94:BF110))*I38), 2) -> 0
E39: zákl. přenesená | F39: =ROUND((SUM(BG94:BG110)), 2) -> 0 | I39: 0.21 | J39: =0 -> 0
E40: sníž. přenesená | F40: =ROUND((SUM(BH94:BH110)), 2) -> 0 | I40: 0.12 | J40: =0 -> 0
E41: nulová | F41: =ROUND((SUM(BI94:BI110)), 2) -> 0 | I41: 0 | J41: =0 -> 0
D43: Cena s DPH | G43: v | H43: CZK | J43: =SUM(J34:J41) -> 108358.16
C49: REKAPITULACE ČLENĚNÍ SOUPISU PRACÍ
C51: Stavba:
E52: =E7 -> ÚPRAVY HŘBITOVA KBELY- ETAPA1
C53: Objekt:
E54: 01 - Navrhované objekty
C55: Soupis:
E56: 07 - KOLUMBÁRIUM
C57: Úroveň 3:
E58: =E13 -> ZBV-02b - vícepráce
C60: Místo: | F60: =F16 -> Praha 9-Kbely | I60: Datum: | J60: =IF(J16="","",J16) -> 0
...

Sheet ZBV-03b - vícepráce
AT2: {122bf830-2ec7-4911-8f50-491624c88f16}
AT3: 2
D4: KRYCÍ LIST SOUPISU PRACÍ | M4: v --- níže se nacházejí doplnkové a pomocné údaje k sestavám --- v | AT4: False
D6: Stavba:
E7: ='Rekapitulace stavby'!K6 -> ÚPRAVY HŘBITOVA KBELY- ETAPA1
D8: Objekt:
E9: 01 - Navrhované objekty
D10: Soupis:
E11: 08 - KOLUMBÁRIUM
D12: Úroveň 3:
E13: ZBV-03b - vícepráce
D15: KSO: | F15: 815 9 | I15: CC-CZ:
D16: Místo: | F16: Praha 9-Kbely | I16: Datum: | J16: ='Rekapitulace stavby'!AN8 -> 0
D18: Zadavatel: | I18: IČ: | J18: 00231304
E19: MČ Praha 19, Semilská 43/1, 197 00 Praha 9 - Kbely | I19: DIČ:
D21: Zhotovitel: | I21: IČ: | J21: 07395680
E22: IWU s.r.o. | I22: DIČ: | J22: CZ07395680
D24: Projektant: | I24: IČ:
E25: Ing.Jan Pustějovský, Ph.D. | I25: DIČ:
D27: Zpracovatel: | I27: IČ:
I28: DIČ:
D30: Poznámka:
D34: Cena bez DPH | J34: =ROUND(J94, 2) -> 351561.13
F36: Základ daně | I36: Sazba daně | J36: Výše daně
D37: DPH | E37: základní | F37: =ROUND((SUM(BE94:BE110)), 2) -> 351561.13 | I37: 0.21 | J37: =ROUND(((SUM(BE94:BE110))*I37), 2) -> 73827.84
E38: snížená | F38: =ROUND((SUM(BF94:BF110)), 2) -> 0 | I38: 0.12 | J38: =ROUND(((SUM(BF94:BF110))*I38), 2) -> 0
E39: zákl. přenesená | F39: =ROUND((SUM(BG94:BG110)), 2) -> 0 | I39: 0.21 | J39: =0 -> 0
E40: sníž. přenesená | F40: =ROUND((SUM(BH94:BH110)), 2) -> 0 | I40: 0.12 | J40: =0 -> 0
E41: nulová | F41: =ROUND((SUM(BI94:BI110)), 2) -> 0 | I41: 0 | J41: =0 -> 0
D43: Cena s DPH | G43: v | H43: CZK | J43: =SUM(J34:J41) -> 425388.97
C49: REKAPITULACE ČLENĚNÍ SOUPISU PRACÍ
C51: Stavba:
E52: =E7 -> ÚPRAVY HŘBITOVA KBELY- ETAPA1
C53: Objekt:
E54: 01 - Navrhované objekty
C55: Soupis:
E56: 08 - KOLUMBÁRIUM
C57: Úroveň 3:
E58: =E13 -> ZBV-03b - vícepráce
C60: Místo: | F60: =F16 -> Praha 9-Kbely | I60: Datum: | J60: =IF(J16="","",J16) -> 0
...

Sheet ZBV-04b - vícepráce
AT2: {af2788f6-1399-42c6-a115-91d698fb748b}
AT3: 2
D4: KRYCÍ LIST SOUPISU PRACÍ | M4: v --- níže se nacházejí doplnkové a pomocné údaje k sestavám --- v | AT4: False
D6: Stavba:
E7: ='Rekapitulace stavby'!K6 -> ÚPRAVY HŘBITOVA KBELY- ETAPA1
D8: Objekt:
E9: 01 - Navrhované objekty
D10: Soupis:
E11: 09 - KOLUMBÁRIUM
D12: Úroveň 3:
E13: ZBV-04b - vícepráce
D15: KSO: | F15: 815 9 | I15: CC-CZ:
D16: Místo: | F16: Praha 9-Kbely | I16: Datum: | J16: ='Rekapitulace stavby'!AN8 -> 0
D18: Zadavatel: | I18: IČ: | J18: 00231304
E19: MČ Praha 19, Semilská 43/1, 197 00 Praha 9 - Kbely | I19: DIČ:
D21: Zhotovitel: | I21: IČ: | J21: 07395680
E22: IWU s.r.o. | I22: DIČ: | J22: CZ07395680
D24: Projektant: | I24: IČ:
E25: Ing.Jan Pustějovský, Ph.D. | I25: DIČ:
D27: Zpracovatel: | I27: IČ:
I28: DIČ:
D30: Poznámka:
D34: Cena bez DPH | J34: =ROUND(J94, 2) -> 163046.12
F36: Základ daně | I36: Sazba daně | J36: Výše daně
D37: DPH | E37: základní | F37: =ROUND((SUM(BE94:BE111)), 2) -> 163046.12 | I37: 0.21 | J37: =ROUND(((SUM(BE94:BE111))*I37), 2) -> 34239.69
E38: snížená | F38: =ROUND((SUM(BF94:BF111)), 2) -> 0 | I38: 0.12 | J38: =ROUND(((SUM(BF94:BF111))*I38), 2) -> 0
E39: zákl. přenesená | F39: =ROUND((SUM(BG94:BG111)), 2) -> 0 | I39: 0.21 | J39: =0 -> 0
E40: sníž. přenesená | F40: =ROUND((SUM(BH94:BH111)), 2) -> 0 | I40: 0.12 | J40: =0 -> 0
E41: nulová | F41: =ROUND((SUM(BI94:BI111)), 2) -> 0 | I41: 0 | J41: =0 -> 0
D43: Cena s DPH | G43: v | H43: CZK | J43: =SUM(J34:J41) -> 197285.81
C49: REKAPITULACE ČLENĚNÍ SOUPISU PRACÍ
C51: Stavba:
E52: =E7 -> ÚPRAVY HŘBITOVA KBELY- ETAPA1
C53: Objekt:
E54: 01 - Navrhované objekty
C55: Soupis:
E56: 09 - KOLUMBÁRIUM
C57: Úroveň 3:
E58: =E13 -> ZBV-04b - vícepráce
C60: Místo: | F60: =F16 -> Praha 9-Kbely | I60: Datum: | J60: =IF(J16="","",J16) -> 0
...

Sheet ZBV-05b - vícepráce
AT2: {b4fa2778-3f34-46ef-8f75-3c928f957ad6}
AT3: 2
D4: KRYCÍ LIST SOUPISU PRACÍ | M4: v --- níže se nacházejí doplnkové a pomocné údaje k sestavám --- v | AT4: False
D6: Stavba:
E7: ='Rekapitulace stavby'!K6 -> ÚPRAVY HŘBITOVA KBELY- ETAPA1
D8: Objekt:
E9: 01 - Navrhované objekty
D10: Soupis:
E11: 10 - KOLUMBÁRIUM
D12: Úroveň 3:
E13: ZBV-05b - vícepráce
D15: KSO: | F15: 815 9 | I15: CC-CZ:
D16: Místo: | F16: Praha 9-Kbely | I16: Datum: | J16: ='Rekapitulace stavby'!AN8 -> 0
D18: Zadavatel: | I18: IČ: | J18: 00231304
E19: MČ Praha 19, Semilská 43/1, 197 00 Praha 9 - Kbely | I19: DIČ:
D21: Zhotovitel: | I21: IČ: | J21: 07395680
E22: IWU s.r.o. | I22: DIČ: | J22: CZ07395680
D24: Projektant: | I24: IČ:
E25: Ing.Jan Pustějovský, Ph.D. | I25: DIČ:
D27: Zpracovatel: | I27: IČ:
I28: DIČ:
D30: Poznámka:
D34: Cena bez DPH | J34: =ROUND(J94, 2) -> 163736.27
F36: Základ daně | I36: Sazba daně | J36: Výše daně
D37: DPH | E37: základní | F37: =ROUND((SUM(BE94:BE110)), 2) -> 163736.27 | I37: 0.21 | J37: =ROUND(((SUM(BE94:BE110))*I37), 2) -> 34384.62
E38: snížená | F38: =ROUND((SUM(BF94:BF110)), 2) -> 0 | I38: 0.12 | J38: =ROUND(((SUM(BF94:BF110))*I38), 2) -> 0
E39: zákl. přenesená | F39: =ROUND((SUM(BG94:BG110)), 2) -> 0 | I39: 0.21 | J39: =0 -> 0
E40: sníž. přenesená | F40: =ROUND((SUM(BH94:BH110)), 2) -> 0 | I40: 0.12 | J40: =0 -> 0
E41: nulová | F41: =ROUND((SUM(BI94:BI110)), 2) -> 0 | I41: 0 | J41: =0 -> 0
D43: Cena s DPH | G43: v | H43: CZK | J43: =SUM(J34:J41) -> 198120.89
C49: REKAPITULACE ČLENĚNÍ SOUPISU PRACÍ
C51: Stavba:
E52: =E7 -> ÚPRAVY HŘBITOVA KBELY- ETAPA1
C53: Objekt:
E54: 01 - Navrhované objekty
C55: Soupis:
E56: 10 - KOLUMBÁRIUM
C57: Úroveň 3:
E58: =E13 -> ZBV-05b - vícepráce
C60: Místo: | F60: =F16 -> Praha 9-Kbely | I60: Datum: | J60: =IF(J16="","",J16) -> 0
...

Sheet ZBV-06b - vícepráce
AT2: {fc369eec-68de-4208-8f19-f6a2101553e0}
AT3: 2
D4: KRYCÍ LIST SOUPISU PRACÍ | M4: v --- níže se nacházejí doplnkové a pomocné údaje k sestavám --- v | AT4: False
D6: Stavba:
E7: ='Rekapitulace stavby'!K6 -> ÚPRAVY HŘBITOVA KBELY- ETAPA1
D8: Objekt:
E9: 01 - Navrhované objekty
D10: Soupis:
E11: 11 - KOLUMBÁRIUM
D12: Úroveň 3:
E13: ZBV-06b - vícepráce
D15: KSO: | F15: 815 9 | I15: CC-CZ:
D16: Místo: | F16: Praha 9-Kbely | I16: Datum: | J16: ='Rekapitulace stavby'!AN8 -> 0
D18: Zadavatel: | I18: IČ: | J18: 00231304
E19: MČ Praha 19, Semilská 43/1, 197 00 Praha 9 - Kbely | I19: DIČ:
D21: Zhotovitel: | I21: IČ: | J21: 07395680
E22: IWU s.r.o. | I22: DIČ: | J22: CZ07395680
D24: Projektant: | I24: IČ:
E25: Ing.Jan Pustějovský, Ph.D. | I25: DIČ:
D27: Zpracovatel: | I27: IČ:
I28: DIČ:
D30: Poznámka:
D34: Cena bez DPH | J34: =ROUND(J94, 2) -> 127697.02
F36: Základ daně | I36: Sazba daně | J36: Výše daně
D37: DPH | E37: základní | F37: =ROUND((SUM(BE94:BE110)), 2) -> 127697.02 | I37: 0.21 | J37: =ROUND(((SUM(BE94:BE110))*I37), 2) -> 26816.37
E38: snížená | F38: =ROUND((SUM(BF94:BF110)), 2) -> 0 | I38: 0.12 | J38: =ROUND(((SUM(BF94:BF110))*I38), 2) -> 0
E39: zákl. přenesená | F39: =ROUND((SUM(BG94:BG110)), 2) -> 0 | I39: 0.21 | J39: =0 -> 0
E40: sníž. přenesená | F40: =ROUND((SUM(BH94:BH110)), 2) -> 0 | I40: 0.12 | J40: =0 -> 0
E41: nulová | F41: =ROUND((SUM(BI94:BI110)), 2) -> 0 | I41: 0 | J41: =0 -> 0
D43: Cena s DPH | G43: v | H43: CZK | J43: =SUM(J34:J41) -> 154513.39
C49: REKAPITULACE ČLENĚNÍ SOUPISU PRACÍ
C51: Stavba:
E52: =E7 -> ÚPRAVY HŘBITOVA KBELY- ETAPA1
C53: Objekt:
E54: 01 - Navrhované objekty
C55: Soupis:
E56: 11 - KOLUMBÁRIUM
C57: Úroveň 3:
E58: =E13 -> ZBV-06b - vícepráce
C60: Místo: | F60: =F16 -> Praha 9-Kbely | I60: Datum: | J60: =IF(J16="","",J16) -> 0
...

Sheet ZBV-07b - vícepráce
AT2: {6f0ea63e-83ba-4d87-9733-d5e6e4af6c76}
AT3: 2
D4: KRYCÍ LIST SOUPISU PRACÍ | M4: v --- níže se nacházejí doplnkové a pomocné údaje k sestavám --- v | AT4: False
D6: Stavba:
E7: ='Rekapitulace stavby'!K6 -> ÚPRAVY HŘBITOVA KBELY- ETAPA1
D8: Objekt:
E9: 01 - Navrhované objekty
D10: Soupis:
E11: 12 - KOLUMBÁRIUM
D12: Úroveň 3:
E13: ZBV-07b - vícepráce
D15: KSO: | F15: 815 9 | I15: CC-CZ:
D16: Místo: | F16: Praha 9-Kbely | I16: Datum: | J16: ='Rekapitulace stavby'!AN8 -> 0
D18: Zadavatel: | I18: IČ: | J18: 00231304
E19: MČ Praha 19, Semilská 43/1, 197 00 Praha 9 - Kbely | I19: DIČ:
D21: Zhotovitel: | I21: IČ: | J21: 07395680
E22: IWU s.r.o. | I22: DIČ: | J22: CZ07395680
D24: Projektant: | I24: IČ:
E25: Ing.Jan Pustějovský, Ph.D. | I25: DIČ:
D27: Zpracovatel: | I27: IČ:
I28: DIČ:
D30: Poznámka:
D34: Cena bez DPH | J34: =ROUND(J94, 2) -> 86454.23
F36: Základ daně | I36: Sazba daně | J36: Výše daně
D37: DPH | E37: základní | F37: =ROUND((SUM(BE94:BE110)), 2) -> 86454.23 | I37: 0.21 | J37: =ROUND(((SUM(BE94:BE110))*I37), 2) -> 18155.39
E38: snížená | F38: =ROUND((SUM(BF94:BF110)), 2) -> 0 | I38: 0.12 | J38: =ROUND(((SUM(BF94:BF110))*I38), 2) -> 0
E39: zákl. přenesená | F39: =ROUND((SUM(BG94:BG110)), 2) -> 0 | I39: 0.21 | J39: =0 -> 0
E40: sníž. přenesená | F40: =ROUND((SUM(BH94:BH110)), 2) -> 0 | I40: 0.12 | J40: =0 -> 0
E41: nulová | F41: =ROUND((SUM(BI94:BI110)), 2) -> 0 | I41: 0 | J41: =0 -> 0
D43: Cena s DPH | G43: v | H43: CZK | J43: =SUM(J34:J41) -> 104609.62
C49: REKAPITULACE ČLENĚNÍ SOUPISU PRACÍ
C51: Stavba:
E52: =E7 -> ÚPRAVY HŘBITOVA KBELY- ETAPA1
C53: Objekt:
E54: 01 - Navrhované objekty
C55: Soupis:
E56: 12 - KOLUMBÁRIUM
C57: Úroveň 3:
E58: =E13 -> ZBV-07b - vícepráce
C60: Místo: | F60: =F16 -> Praha 9-Kbely | I60: Datum: | J60: =IF(J16="","",J16) -> 0
...

Sheet Pokyny pro vyplnění
C3: Struktura údajů, formát souboru a metodika pro zpracování
C4: Struktura
C6: Soubor je složen ze záložky Rekapitulace stavby a záložek s názvem soupisu prací pro jednotlivé objekty ve formátu XLSX. Každá ze záložek přitom obsahuje
C7: ještě samostatné sestavy vymezené orámovaním a nadpisem sestavy.
C9: Rekapitulace stavby obsahuje sestavu Rekapitulace stavby a Rekapitulace objektů stavby a soupisů prací.
D10: V sestavě Rekapitulace stavby jsou uvedeny informace identifikující předmět veřejné zakázky na stavební práce, KSO, CC-CZ, CZ-CPV, CZ-CPA a rekapitulaci
D11: celkové nabídkové ceny účastníka.
D13: Termínem "učastník" (resp. zhotovitel) se myslí "účastník zadávacího řízení" ve smyslu zákona o zadávání veřejných zakázek.
D15: V sestavě Rekapitulace objektů stavby a soupisů prací je uvedena rekapitulace stavebních objektů, inženýrských objektů, provozních souborů,
D16: vedlejších a ostatních nákladů a ostatních nákladů s rekapitulací nabídkové ceny za jednotlivé soupisy prací. Na základě údaje Typ je možné
D17: identifikovat, zda se jedná o objekt nebo soupis prací pro daný objekt:
E18: STA | F18: Stavební objekt pozemní
E19: ING | F19: Stavební objekt inženýrský
E20: PRO | F20: Provozní soubor
E21: VON | F21: Vedlejší a ostatní náklady
E22: OST | F22: Ostatní
E23: Soupis | F23: Soupis prací pro daný typ objektu
C25: Soupis prací pro jednotlivé objekty obsahuje sestavy Krycí list soupisu prací, Rekapitulace členění soupisu prací, Soupis prací. Za soupis prací může být považován
C26: i objekt stavby v případě, že neobsahuje podřízenou zakázku.
D27: Krycí list soupisu obsahuje rekapitulaci informací o předmětu veřejné zakázky ze sestavy Rekapitulace stavby, informaci o zařazení objektu do KSO,
D28: CC-CZ, CZ-CPV, CZ-CPA a rekapitulaci celkové nabídkové ceny účastníka za aktuální soupis prací.
D30: Rekapitulace členění soupisu prací obsahuje rekapitulaci soupisu prací ve všech úrovních členění soupisu tak, jak byla tato členění použita (např.
D31: stavební díly, funkční díly, případně jiné členění) s rekapitulací nabídkové ceny.
D33: Soupis prací obsahuje položky veškerých stavebních nebo montážních prací, dodávek materiálů a služeb nezbytných pro zhotovení stavebního objektu,
D34: inženýrského objektu, provozního souboru, vedlejších a ostatních nákladů.
D35: Pro položky soupisu prací se zobrazují následující informace:
E36: PČ | G36: Pořadové číslo položky v aktuálním soupisu
E37: TYP | G37: Typ položky: K - konstrukce, M - materiál, PP - plný popis, PSC - poznámka k souboru cen, P - poznámka k položce, VV - výkaz výměr, FIG - rozpad figur
E38: Kód | G38: Kód položky
E39: Popis | G39: Zkrácený popis položky
E40: MJ | G40: Měrná jednotka položky
E41: Množství | G41: Množství v měrné jednotce
E42: J.cena | G42: Jednotková cena položky. Zadaní může obsahovat namísto J.ceny sloupce J.materiál a J.montáž, jejichž součet definuje
G43: J.cenu položky.
E44: Cena celkem | G44: Celková cena položky daná jako součin množství a j.ceny
E45: Cenová soustava | G45: Příslušnost položky do cenové soustavy
D47: Ke každé položce soupisu prací se na samostatných řádcích může zobrazovat:
E48: Plný popis položky
E49: Poznámka k souboru cen a poznámka zadavatele
E50: Výkaz výměr
...
