Workbook

Sheet Kompletní seznam místností
A1: Podlaží | B1: Označení | C1: Název místnosti | D1: Typ
A2: 1.NP | B2: U.1.01 | C2: Učebna kmenová 2. stupeň | D2: Učebna | G2: 1 | H2: 1 | I2: 1 | K2: 30 | L2: 30 | N2: 2
A3: 1.NP | B3: U.1.02 | C3: Učebna přírodní vědy 2. stupeň | D3: Učebna | G3: 1 | H3: 1 | I3: 1
A4: 1.NP | B4: U.1.03 | C4: Kabinet 2. stupeň | D4: Kabinet | H4: 4 | I4: 4 | J4: 4
A5: 1.NP | B5: U.1.04 | C5: Kabinet 2. stupeň | D5: Kabinet | H5: 4 | I5: 4 | J5: 4
A6: 1.NP | B6: U.1.05 | C6: Učebna kmenová 2. stupeň | D6: Učebna | G6: 1 | H6: 1 | I6: 1
A7: 1.NP | B7: U.1.06 | C7: Kabinet 2. stupeň | D7: Kabinet | H7: 4 | I7: 4 | J7: 4
A8: 1.NP | B8: U.1.07 | C8: Učebna kmenová 2. stupeň | D8: Učebna | G8: 1 | H8: 1 | I8: 1
A9: 1.NP | B9: U.1.08 | C9: Kabinet 2. stupeň | D9: Kabinet | H9: 4 | I9: 4 | J9: 4
A10: 1.NP | B10: U.1.09 | C10: Kabinet 2. stupeň | D10: Kabinet | H10: 4 | I10: 4 | J10: 4
A11: 1.NP | B11: U.1.10 | C11: Učebna kmenová 2. stupeň | D11: Učebna | G11: 1 | H11: 1 | I11: 1
A12: 1.NP | B12: U.1.11 | C12: Učebna výpočetní techniky | D12: Odborná učebna | G12: 1 | I12: 32 | J12: 30 | M12: 1 | T12: 31
A13: 1.NP | B13: U.1.12 | C13: Učebna vaření | D13: Odborná učebna | E13: 1
A14: 1.NP | B14: U.1.13 | C14: Učebna dílny | D14: Odborná učebna | Q14: 1
A15: 1.NP | B15: U.1.14 | C15: Kabinet 2. stupeň | D15: Kabinet | H15: 4 | I15: 4 | J15: 4
A16: 1.NP | B16: U.1.15 | C16: Družina | D16: Družina | E16: 1 | M16: 1
A17: 1.NP | B17: G.1.33 | C17: Jídelna | D17: Jídelna
A18: 1.NP | B18: G.1.06 | C18: Kancelář jídelna | D18: Kancelář | H18: 1 | I18: 1 | M18: 1
A19: 1.NP | B19: G.1.22 | C19: Denní místnost | D19: Zázemí
A20: 1,NP | C20: Recepce | D20: vstup | H20: 1 | I20: 1
A24: 2.NP | B24: U.2.01 | C24: Učebna kmenová 1. stupeň | D24: Učebna | G24: 1 | H24: 1 | I24: 1
A25: 2.NP | B25: U.2.02A | C25: Učebna jazyky | D25: Odborná učebna | G25: 1 | H25: 1 | I25: 1
A26: 2.NP | B26: U.2.02B | C26: Učebna kmenová 1. stupeň | D26: Učebna | G26: 1 | H26: 1 | I26: 1
A27: 2.NP | B27: U.2.03 | C27: Kabinet | D27: Kabinet | H27: 4 | I27: 4 | J27: 4
A28: 2.NP | B28: U.2.04 | C28: Učebna kmenová 1. stupeň | D28: Učebna | G28: 1 | H28: 1 | I28: 1
A29: 2.NP | B29: U.2.05 | C29: Kabinet | D29: Kabinet | H29: 4 | I29: 4 | J29: 4
A30: 2.NP | B30: U.2.06 | C30: Učebna kmenová 1. stupeň | D30: Učebna | G30: 1 | H30: 1 | I30: 1
A31: 2.NP | B31: U.2.07 | C31: Kabinet – psycholog | D31: Kabinet | H31: 1 | I31: 1 | M31: 1
A32: 2.NP | B32: U.2.08 | C32: Kabinet | D32: Kabinet | H32: 4 | I32: 4 | J32: 4
A33: 2.NP | B33: U.2.09 | C33: Učebna kmenová 1. stupeň | D33: Učebna | G33: 1 | H33: 1 | I33: 1
A34: 2.NP | B34: U.2.10 | C34: Učebna přírodní vědy + informatika | D34: Odborná učebna | G34: 1 | H34: 1 | I34: 2 | L34: 30 | M34: 1 | Q34: 1
A35: 2.NP | B35: U.2.11 | C35: Kabinet | D35: Kabinet | H35: 4 | I35: 4 | J35: 4
A36: 2.NP | B36: U.2.12 | C36: Učebna dějepis / zeměpis 2. stupeň | D36: Odborná učebna | G36: 1 | H36: 1 | I36: 1
A37: 2.NP | B37: U.2.13 | C37: Učebna fyzika / chemie 2. stupeň | D37: Odborná učebna | G37: 1 | H37: 1 | I37: 1
A38: 2.NP | B38: U.2.14 | C38: Kabinet | D38: Kabinet | H38: 4 | I38: 4 | J38: 4
A39: 2.NP | B39: U.2.15 | C39: Kabinet | D39: Kabinet | H39: 4 | I39: 4 | J39: 4
A40: 2.NP | B40: U.2.16 | C40: Učebna kmenová 1. stupeň | D40: Učebna | G40: 1 | H40: 1 | I40: 1
A41: 2.NP | B41: U.2.17 | C41: Knihovna | D41: Knihovna | F41: 1 | H41: 1 | I41: 1 | O41: 15
A42: 2.NP | B42: U.2.18 | C42: Učebna kmenová 1. stupeň | D42: Učebna | G42: 1 | H42: 1 | I42: 1
A43: 2.NP | B43: U.2.19 | C43: Učebna kmenová 1. stupeň | D43: Učebna | G43: 1 | H43: 1 | I43: 1
...

Sheet Celkový počet HW
A1: Název | C1: Počet KS | D1: cena za 1 ks / cena s DPH | E1: Cena celkem s DPH | F1: Specifikace požadovaného hardwaru: | G1: Výrobní označení, případný popis nabízeného produktu, prosím vyplnit
A3: Stolní PC | C3: ='Kompletní seznam místností'!H63 -> 90 | F3: Dodávka stolních počítačů s vícejádrovým procesorem o výkonu minimálně 30 000 bodů dle benchmarku PassMark CPU Mark (dle výsledků zveřejněných na www.cpubenchmark.net ke dni zveřejnění výzvy), s operační pamětí minimálně 16 GB DDR5, SSD úložištěm o kapacitě minimálně 512 GB a operačním systémem Microsoft Windows 11 Pro. Požadavek na OS Windows 11 Pro vychází ze stávající infrastruktury zadavatele (doménové prostředí Active Directory na Windows Server 2025). Zařízení musí být kompatibilní se správou přes Microsoft Intune (MDM). PC musí umožňovat připojení minimálně dvou samostatných monitorů prostřednictvím rozhraní HDMI a/nebo DisplayPort, 1× RJ-45 port pro připojení do sítě LAN. PC musí obsahovat minimálně celkem 8× USB portů, z toho alespoň 3× vysokorychlostních (USB 3.x), včetně minimálně 1× USB Type-C umístěného na přední straně skříně a minimálně 2× USB portů přístupných z přední strany PC skříně. Zadavatel požaduje kompaktní provedení skříně (small form factor nebo mini-tower) umožňující umístění na pracovní stůl; maximální výška skříně nesmí přesáhnout 350 mm a maximální šířka 200 mm. Součástí dodávky musí být drátová klávesnice a drátová myš s připojením USB. Záruka minimálně 24 měsíců. Servis je prováděn v místě instalace u zákazníka (on-site), reakční doba maximálně 2 pracovní dny od nahlášení závady. Cena zahrnuje kompletní instalaci počítače včetně přidání do domény Active Directory. Zadavatel zajistí součinnost správce domény při připojování zařízení.
A4: Monitory | C4: ='Kompletní seznam místností'!I63 -> 123 | F4: Dodávka LCD monitorů o úhlopříčce minimálně 23,8″ s panelem technologie IPS nebo ekvivalentní (AH-IPS, PLS, AHVA, IPS Black apod.) zajišťující pozorovací úhly minimálně 178°/178° (H/V), rozlišením minimálně Full HD (1920 × 1080 px), obnovovací frekvencí minimálně 75 Hz, antireflexním povrchem, odezvou maximálně 5 ms (GtG – skutečná odezva panelu), integrovanými reproduktory s celkovým výkonem minimálně 2× 2 W, výškově nastavitelným stojanem s rozsahem nastavení minimálně 100 mm, vstupem min. 1× HDMI nebo 1× DisplayPort, podporou VESA uchycení (rozteč min. 75 × 75 mm nebo 100 × 100 mm). Součástí dodávky musí být propojovací kabel odpovídající vstupnímu rozhraní dodaného monitoru (HDMI nebo DisplayPort), délka minimálně 1,8 m. Záruka minimálně 24 měsíců. Cena včetně dopravy, fyzického umístění monitoru, zapojení kabeláže a ověření funkčnosti.
A5: Držák na monitor | C5: ='Kompletní seznam místností'!J63 -> 94 | F5: Dodávka stolních držáků pro monitory o úhlopříčce cca 24″ s nosností minimálně 8 kg, kloubovou konstrukcí umožňující polohování monitoru, včetně náklonu v rozsahu minimálně +90°/−45°, natočení minimálně 180° a rotace 360°. Držák musí podporovat standard VESA (min. 100 × 100 mm) a umožňovat přichycení k desce stolu (např. pomocí svěrky). Cena zahrnuje kompletní instalaci.
A6: Webkamera / externí na monitory | C6: ='Kompletní seznam místností'!K63 -> 30 | F6: Dodávka webkamer s rozlišením minimálně Full HD (1920 × 1080 px), snímkovou frekvencí minimálně 30 sn./s, vestavěným mikrofonem s funkcí potlačení okolního hluku a připojením k počítači prostřednictvím USB. Univerzální uchycení kompatibilní s monitory různých výrobců. Záruka minimálně 24 měsíců. Cena včetně instalace.
A7: Notebooky | C7: ='Kompletní seznam místností'!L63 -> 60 | F7: Dodávka notebooků s vícejádrovým procesorem o výkonu minimálně 13 000 bodů dle benchmarku PassMark CPU Mark (dle výsledků zveřejněných na www.cpubenchmark.net ke dni zveřejnění výzvy; v případě použití jiného benchmarku je uchazeč povinen doložit metodiku srovnání), operační pamětí minimálně 16 GB DDR5, SSD úložištěm o kapacitě minimálně 512 GB, displejem s technologií IPS nebo ekvivalentní (AH-IPS, PLS, AHVA apod.) s pozorovacími úhly minimálně 170°/170° (H/V), o úhlopříčce minimálně 15,6″ s rozlišením minimálně 1920 × 1080 px, podsvícenou klávesnicí s numerikou, odolnou proti polití, CZ rozložení klávesnice. Materiál konstrukce: kov, uhlíkové vlákno, kompozit nebo jejich kombinace. Konektivita: min. 1× HDMI, 1× RJ-45, 2× USB-A (USB 3.x), minimálně 1× USB-C s podporou Power Delivery (nabíjení zařízení) a přenosem dat. WiFi min. 6 (802.11ax) pro plné využití infrastruktury Ubiquiti WiFi 6 školy; Bluetooth min. 5.0. Operační systém Windows 11 Pro – požadavek vychází ze stávající infrastruktury zadavatele (doménové prostředí Active Directory na Windows Server 2025). Zařízení musí být kompatibilní se správou přes Microsoft Intune (MDM). Záruka minimálně 24 měsíců. Servis je prováděn v místě instalace u zákazníka (on-site), reakční doba maximálně 2 pracovní dny od nahlášení závady. Cena zahrnuje kompletní instalaci včetně přidání do domény Active Directory. Zadavatel zajistí součinnost správce domény. Dodavatel provede fyzické doručení, instalaci OS, základní konfiguraci a připojení do domény v místě plnění.
A8: Tiskárny A4 | C8: ='Kompletní seznam místností'!M63 -> 6 | F8: Dodávka barevných multifunkčních tiskáren formátu A4 s technologií LED nebo laserového tisku, rychlostí tisku minimálně 26 stran za minutu v černobílém i barevném režimu, rozlišením tisku minimálně 2400 × 600 DPI, automatickým oboustranným tiskem, skenerem s automatickým podavačem dokumentů, dotykovým displejem, konektivitou USB, Gigabit LAN (RJ-45) a WiFi min. 5 (802.11ac) nebo vyšší. Záruka minimálně 24 měsíců. Servis je prováděn v místě instalace u zákazníka (on-site), reakční doba maximálně 2 pracovní dny od nahlášení závady. Cena včetně instalace a nastavení tiskových ovladačů.
A9: Tiskárny A3 | C9: ='Kompletní seznam místností'!N63 -> 2 | F9: Dodávka barevného multifunkčního tiskového zařízení formátu A3 s následujícími minimálními parametry: rychlost tisku minimálně 25 stran za minutu v černobílém i barevném režimu, rozlišení minimálně 1200 × 1200 DPI (skutečné optické rozlišení, nikoliv interpolované), automatický oboustranný tisk, skener s oboustranným automatickým podavačem dokumentů (DADF/RADF) o kapacitě minimálně 100 listů, optické rozlišení skeneru minimálně 600 DPI, rychlost skenování minimálně 60 obrazů za minutu (oboustranně), dotykový displej o úhlopříčce minimálně 10″, celková kapacita zásobníků minimálně 1 100 listů (přičemž každý zásobník musí mít kapacitu minimálně 250 listů), operační paměť minimálně 4 GB RAM a SSD úložiště o kapacitě minimálně 128 GB. Zařízení musí být vybaveno minimálně dvěma samostatnými zásobníky papíru (šuplíky), a to alespoň jedním pro formát A4 a jedním pro formát A3. Konektivita: min. 1× Gigabit Ethernet (RJ-45) pro připojení do sítě LAN, WiFi min. 5 (802.11ac) nebo vyšší, min. 2× USB-A. Součástí dodávky musí být také minimálně 60 ks bezkontaktních identifikačních čipů nebo karet určených pro uživatele (učitele). Zařízení musí nativně nebo prostřednictvím dodaného software podporovat: autentizaci uživatelů pomocí bezkontaktní karty, evidenci počtu vytištěných stran (B&W / barevně) na uživatele, export přehledů ve formátu PDF nebo CSV, generování reportů minimálně v měsíčním intervalu. Případný software pro správu tisku musí být součástí dodávky bez dalších licenčních poplatků po dobu záruky. Záruka minimálně 24 měsíců. Servis je prováděn v místě instalace u zákazníka (on-site), reakční doba maximálně 2 pracovní dny od nahlášení závady. Záruka se vztahuje na celé zařízení včetně mechaniky podavačů a skenovací jednotky. Cena zahrnuje dopravu, fyzické umístění, zapojení do sítě LAN, nastavení tiskových ovladačů, naprogramování a přiřazení identifikačních čipů uživatelům, nastavení reportingového modulu a zaškolení správce systému (min. 2 hodiny). Zadavatel zajistí součinnost správce sítě.
A10: Tablety | C10: ='Kompletní seznam místností'!O63 -> 15 | F10: Dodávka tabletů s dotykovým displejem o úhlopříčce minimálně 11″ a rozlišením minimálně 2560 × 1600 px, vícejádrovým ARM procesorem s frekvencí minimálně 2,4 GHz, operační pamětí minimálně 8 GB, interním úložištěm minimálně 256 GB s možností rozšíření paměťovou kartou do minimálně 512 GB, s konektivitou Wi-Fi, Bluetooth a GPS, baterií o kapacitě minimálně 7 000 mAh, operačním systémem Android 15 nebo novějším, či ekvivalentním systemem a včetně ochranného pouzdra typu folio a stylusu včetně USB-C nabíjecího kabelu. Záruka minimálně 24 měsíců. Cena včetně instalace zařízení.
A11: 3D tiskárny | C11: ='Kompletní seznam místností'!Q63 -> 2 | F11: Dodávka uzavřené 3D tiskárny s tiskovým objemem minimálně 256 × 256 × 256 mm, maximální rychlostí tisku minimálně 600 mm/s, zrychlením minimálně 20 000 mm/s², dotykovým displejem o úhlopříčce minimálně 5″, integrovanou kamerou s rozlišením minimálně Full HD, funkcí automatické detekce chyb tisku a vzdáleného připojení. Zařízení musí umožňovat tisk minimálně z jednoho filamentového materiálu (jednobarevný tisk). Záruka minimálně 24 měsíců. Cena zahrnuje instalaci a zaškolení.
A12: Digitální nástěnka do školy | C12: ='Kompletní seznam místností'!R63 -> 1 | F12: Předmětem plnění je dodávka a zprovoznění digitální nástěnky sestávající z velkoformátového zobrazovacího zařízení a softwarového řešení pro zobrazování informací. Řešení musí umožňovat zobrazování obsahu z externích zdrojů (např. webových stránek školy). Součástí dodávky musí být kompletní zobrazovací panel včetně licence na provoz systému po dobu minimálně 4 let. Záruka minimálně 24 měsíců. Cena zahrnuje kompletní instalaci a zaškolení obsluhy.
A13: HDMI kabely | C13: 90 | F13: Dodávka HDMI kabelů podporujících rozlišení minimálně 4K UHD (3840 × 2160 px) při obnovovací frekvenci minimálně 60 Hz, určených pro přenos obrazu i zvuku, o délce minimálně 1,5 m.
A14: Stolní PC s GPU | C14: ='Kompletní seznam místností'!T63 -> 31 | F14: Dodávka vysoce výkonných stolních počítačů s vícejádrovým procesorem o výkonu minimálně 38 000 bodů dle benchmarku PassMark CPU Mark (dle výsledků zveřejněných na www.cpubenchmark.net ke dni zveřejnění výzvy), dedikovanou grafickou kartou třídy NVIDIA RTX nebo AMD Radeon RX s minimálně 8 GB grafické paměti a výkonem minimálně 22 000 bodů dle benchmarku PassMark G3D Mark, operační pamětí minimálně 16 GB DDR5 s možností rozšíření na minimálně 32 GB, SSD úložištěm o kapacitě minimálně 1 TB. Počítač musí disponovat konektivitou zahrnující minimálně analogový vstup/výstup zvuku, sluchátkový výstup, 1× DisplayPort, 1× HDMI, 1× RJ-45 LAN a minimálně 8× USB portů, z toho alespoň 4× USB 3.x, včetně minimálně 1× USB-C. Na přední straně skříně musí být k dispozici minimálně 2× USB porty a 1× USB Type-C. Provedení skříně: přiměřené k požadovanému hardwaru, ale ne větší než midi tower. Počítače budou zavěšené pod stolem. Zařízení musí být vybaveno bezdrátovou konektivitou WiFi min. 6 (802.11ax) pro plné využití infrastruktury Ubiquiti WiFi 6 školy. Operační systém Windows 11 Pro – požadavek vychází ze stávající doménové infrastruktury (Active Directory na Windows Server 2025). Zařízení musí být kompatibilní se správou přes Microsoft Intune (MDM). Součástí dodávky musí být drátová klávesnice a drátová myš s USB připojením. Záruka minimálně 24 měsíců. Servis je prováděn v místě instalace u zákazníka (on-site), reakční doba maximálně 2 pracovní dny od nahlášení závady. Cena zahrnuje kompletní instalaci počítače včetně přidání do domény Active Directory. Zadavatel zajistí součinnost správce domény.
A15: Nabijecí stanice pro tablety | C15: 1 | F15: Dodávka uzamykatelného nabíjecího racku, boxu pro minimálně 15 tabletů, vybaveného zasouvací policí pro jednotlivá zařízení, integrovaným napájecím systémem umožňujícím současné nabíjení všech tabletů (musí obsahovat USB nabíjecí HUB nebo jiné napájení), přepěťovou ochranou a provedením kompatibilním s tablety s nabíjením přes USB-C. Záruka minimálně 24 měsíců.
A16: Kabely USB-A to USB-B | C16: 176 | F16: Dodávka USB kabelů typu USB-A na USB-B o min. délce přibližně 1,5 m, určených pro zajištění funkčnosti dotykového ovládání mezi počítačem nebo notebookem a dotykovým zobrazovacím zařízením.
A19: Instalace HW | F19: Předmětem této zakázky je kompletní instalace všech dodaných HW a SW komponent, včetně součinnosti se správcem sítě školy. Součástí plnění je doprava, instalace, konfigurace a uvedení do plného provozu.
D27: Cena všech zařízení včetně DPH | E27: =SUM(E3:E26) -> 0
