Workbook

Sheet Rekapitulace zakázky
A1: Export Komplet | AZ1: VZ | BA1: 2.0 | BB1: ZAMOK | BT1: False | BU1: False | BV1: {cc0c2eb6-10ad-4f17-b9b0-9ed9c0a9eb93}
BS2: 0,01 | BT2: 21
BS3: 0,01 | BT3: 15
D4: REKAPITULACE ZAKÁZKY | AS4: v --- níže se nacházejí doplnkové a pomocné údaje k sestavám --- v | BE4: Návod na vyplnění | BS4: 0,001
D5: Kód: | K5: PAV | BE5: Měnit lze pouze buňky se žlutým podbarvením!_x000D_ _x000D_ 1) v Rekapitulaci zakázky vyplňte údaje o Uchazeči (přenesou se do ostatních sestav i v jiných listech)_x000D_ _x000D_ 2) na vybraných listech vyplňte v sestavě Soupis prací ceny u položek | BS5: 0,01
D6: Zakázka: | K6: Údržba svodnice P2 | BS6: 0,01
D7: KSO: | AK7: CC-CZ: | BS7: 0,01
D8: Místo: | AK8: Datum: | AN8: 9. 10. 2023 | BS8: 0,01
BS9: 0,01
D10: Zadavatel: | AK10: IČ: | BS10: 0,01
E11: Technické služby, Na Brně 362, Hradec Králové | AK11: DIČ: | BS11: 0,01
BS12: 0,01
D13: Uchazeč: | AK13: IČ: | AN13: Vyplň údaj | BS13: 0,01
E14: Vyplň údaj | AK14: DIČ: | AN14: Vyplň údaj | BS14: 0,01
BS15: False
D16: Projektant: | AK16: IČ: | BS16: False
E17: Agroprojekce Litomyšl, s.r.o. | AK17: DIČ: | BS17: True
BS18: 0,01
D19: Zpracovatel: | AK19: IČ: | BS19: 0,01
AK20: DIČ: | BS20: True
D22: Poznámka:
E23: Soupis prací je sestaven s využitím Cenové soustavy ÚRS. Položky, které pochází z této cenové soustavy, jsou ve sloupci 'Cenová soustava' označeny popisem 'CS ÚRS' a úrovní příslušného kalendářního pololetí. Veškeré další informace vymezující popis a podmínky použití těchto položek z Cenové soustavy, které nejsou uvedeny přímo v soupisu prací, jsou neomezeně dálkově k dispozici na webu podminky.urs.cz.
D26: Cena bez DPH | AK26: =ROUND(AG54,2) -> 0
L28: Sazba daně | W28: Základ daně | AK28: Výše daně
D29: DPH | F29: základní | L29: 0.21 | W29: =ROUND(AZ54, 2) -> 0 | AK29: =ROUND(AV54, 2) -> 0
F30: snížená | L30: 0.15 | W30: =ROUND(BA54, 2) -> 0 | AK30: =ROUND(AW54, 2) -> 0
F31: zákl. přenesená | L31: 0.21 | W31: =ROUND(BB54, 2) -> 0 | AK31: 0
F32: sníž. přenesená | L32: 0.15 | W32: =ROUND(BC54, 2) -> 0 | AK32: 0
F33: nulová | L33: 0 | W33: =ROUND(BD54, 2) -> 0 | AK33: 0
D35: Cena s DPH | T35: v | X35: CZK | AK35: =SUM(AK26:AK33) -> 0
C42: REKAPITULACE OBJEKTŮ ZAKÁZKY A SOUPISŮ PRACÍ
C44: Kód: | L44: =K5 -> PAV
C45: Zakázka: | L45: =K6 -> Údržba svodnice P2
C47: Místo: | L47: =IF(K8="","",K8) | AI47: Datum: | AM47: =IF(AN8= "","",AN8) -> 9. 10. 2023
C49: Zadavatel: | L49: =IF(E11= "","",E11) -> Technické služby, Na Brně 362, Hradec Králové | AI49: Projektant: | AM49: =IF(E17="","",E17) -> Agroprojekce Litomyšl, s.r.o. | AS49: Informatívní údaje z listů zakázek
C50: Uchazeč: | L50: =IF(E14= "Vyplň údaj","",E14) | AI50: Zpracovatel: | AM50: =IF(E20="","",E20)
C52: Kód | I52: Popis | AG52: Cena bez DPH [CZK] | AN52: Cena s DPH [CZK] | AQ52: Typ | AS52: z toho Ostat._x000D_ náklady [CZK] | AT52: DPH [CZK] | AU52: Normohodiny [h] | AV52: DPH základní [CZK] | AW52: DPH snížená [CZK] | AX52: DPH základní přenesená_x000D_ [CZK] | AY52: DPH snížená přenesená_x000D_ [CZK] | AZ52: Základna_x000D_ DPH základní | BA52: Základna_x000D_ DPH snížená | BB52: Základna_x000D_ DPH zákl. přenesená | BC52: Základna_x000D_ DPH sníž. přenesená | BD52: Základna_x000D_ DPH nulová
C54: Náklady zakázky celkem | AG54: =ROUND(SUM(AG55:AG57),2) -> 0 | AN54: =SUM(AG54,AT54) -> 0 | AS54: =ROUND(SUM(AS55:AS57),2) -> 0 | AT54: =ROUND(SUM(AV54:AW54),2) -> 0 | AU54: =ROUND(SUM(AU55:AU57),5) -> 0 | AV54: =ROUND(AZ54*L29,2) -> 0 | AW54: =ROUND(BA54*L30,2) -> 0 | AX54: =ROUND(BB54*L29,2) -> 0 | AY54: =ROUND(BC54*L30,2) -> 0 | AZ54: =ROUND(SUM(AZ55:AZ57),2) -> 0 | BA54: =ROUND(SUM(BA55:BA57),2) -> 0 | BB54: =ROUND(SUM(BB55:BB57),2) -> 0 | BC54: =ROUND(SUM(BC55:BC57),2) -> 0 | BD54: =ROUND(SUM(BD55:BD57),2) -> 0 | BS54: D | BT54: 0 | BU54: ###NOIMPORT### | BV54: IMPORT | BW54: {cc0c2eb6-10ad-4f17-b9b0-9ed9c0a9eb93} | BX54: {00000000-0000-0000-0000-000000000000}
A55: / | D55: SO-01 | J55: Odstranění nánosů - KM 0,020-0,512 | AG55: ='SO-01 - Odstranění nánosů...'!J30 -> 0 | AN55: =SUM(AG55,AT55) -> 0 | AQ55: STA | AS55: 0 | AT55: =ROUND(SUM(AV55:AW55),2) -> 0 | AU55: ='SO-01 - Odstranění nánosů...'!P81 -> 0 | AV55: ='SO-01 - Odstranění nánosů...'!J33 -> 0 | AW55: ='SO-01 - Odstranění nánosů...'!J34 -> 0 | AX55: ='SO-01 - Odstranění nánosů...'!J35 -> 0 | AY55: ='SO-01 - Odstranění nánosů...'!J36 -> 0 | AZ55: ='SO-01 - Odstranění nánosů...'!F33 -> 0 | BA55: ='SO-01 - Odstranění nánosů...'!F34 -> 0 | BB55: ='SO-01 - Odstranění nánosů...'!F35 -> 0 | BC55: ='SO-01 - Odstranění nánosů...'!F36 -> 0 | BD55: ='SO-01 - Odstranění nánosů...'!F37 -> 0 | BT55: 1 | BV55: IMPORT | BW55: {0a1a12ed-1946-450f-9a56-e5e162ba77b2} | BX55: {cc0c2eb6-10ad-4f17-b9b0-9ed9c0a9eb93} | CL55: 833 2 | CM55: 2
A56: / | D56: SO-02 | J56: Odstranění nánosů - KM 0,512-1,489 | AG56: ='SO-02 - Odstranění nánosů...'!J30 -> 0 | AN56: =SUM(AG56,AT56) -> 0 | AQ56: STA | AS56: 0 | AT56: =ROUND(SUM(AV56:AW56),2) -> 0 | AU56: ='SO-02 - Odstranění nánosů...'!P81 -> 0 | AV56: ='SO-02 - Odstranění nánosů...'!J33 -> 0 | AW56: ='SO-02 - Odstranění nánosů...'!J34 -> 0 | AX56: ='SO-02 - Odstranění nánosů...'!J35 -> 0 | AY56: ='SO-02 - Odstranění nánosů...'!J36 -> 0 | AZ56: ='SO-02 - Odstranění nánosů...'!F33 -> 0 | BA56: ='SO-02 - Odstranění nánosů...'!F34 -> 0 | BB56: ='SO-02 - Odstranění nánosů...'!F35 -> 0 | BC56: ='SO-02 - Odstranění nánosů...'!F36 -> 0 | BD56: ='SO-02 - Odstranění nánosů...'!F37 -> 0 | BT56: 1 | BV56: IMPORT | BW56: {aaf15ae8-4c46-431c-be51-9d23424ac57c} | BX56: {cc0c2eb6-10ad-4f17-b9b0-9ed9c0a9eb93} | CL56: 833 2 | CM56: 2
A57: / | D57: VON | J57: Vedlejší a ostatní náklady | AG57: ='VON - Vedlejší a ostatní ...'!J30 -> 0 | AN57: =SUM(AG57,AT57) -> 0 | AQ57: VON | AS57: 0 | AT57: =ROUND(SUM(AV57:AW57),2) -> 0 | AU57: ='VON - Vedlejší a ostatní ...'!P82 -> 0 | AV57: ='VON - Vedlejší a ostatní ...'!J33 -> 0 | AW57: ='VON - Vedlejší a ostatní ...'!J34 -> 0 | AX57: ='VON - Vedlejší a ostatní ...'!J35 -> 0 | AY57: ='VON - Vedlejší a ostatní ...'!J36 -> 0 | AZ57: ='VON - Vedlejší a ostatní ...'!F33 -> 0 | BA57: ='VON - Vedlejší a ostatní ...'!F34 -> 0 | BB57: ='VON - Vedlejší a ostatní ...'!F35 -> 0 | BC57: ='VON - Vedlejší a ostatní ...'!F36 -> 0 | BD57: ='VON - Vedlejší a ostatní ...'!F37 -> 0 | BT57: 1 | BV57: IMPORT | BW57: {453caaa1-21f0-4f9c-963a-f867b0ede70a} | BX57: {cc0c2eb6-10ad-4f17-b9b0-9ed9c0a9eb93} | CM57: 2

Sheet SO-01 - Odstranění nánosů...
AT2: {0a1a12ed-1946-450f-9a56-e5e162ba77b2}
AT3: 2
D4: KRYCÍ LIST SOUPISU PRACÍ | M4: v --- níže se nacházejí doplnkové a pomocné údaje k sestavám --- v | AT4: False
D6: Zakázka:
E7: ='Rekapitulace zakázky'!K6 -> Údržba svodnice P2
D8: Objekt:
E9: SO-01 - Odstranění nánosů - KM 0,020-0,512
D11: KSO: | F11: 833 2 | I11: CC-CZ:
D12: Místo: | I12: Datum: | J12: ='Rekapitulace zakázky'!AN8 -> 9. 10. 2023
D14: Zadavatel: | I14: IČ:
E15: Technické služby, Na Brně 362, Hradec Králové | I15: DIČ:
D17: Uchazeč: | I17: IČ: | J17: ='Rekapitulace zakázky'!AN13 -> Vyplň údaj
E18: ='Rekapitulace zakázky'!E14 -> Vyplň údaj | I18: DIČ: | J18: ='Rekapitulace zakázky'!AN14 -> Vyplň údaj
D20: Projektant: | I20: IČ:
E21: Agroprojekce Litomyšl, s.r.o. | I21: DIČ:
D23: Zpracovatel: | I23: IČ: | J23: =IF('Rekapitulace zakázky'!AN19="","",'Rekapitulace zakázky'!AN19)
E24: =IF('Rekapitulace zakázky'!E20="","",'Rekapitulace zakázky'!E20) | I24: DIČ: | J24: =IF('Rekapitulace zakázky'!AN20="","",'Rekapitulace zakázky'!AN20)
D26: Poznámka:
D30: Cena bez DPH | J30: =ROUND(J81, 2) -> 0
F32: Základ daně | I32: Sazba daně | J32: Výše daně
D33: DPH | E33: základní | F33: =ROUND((SUM(BE81:BE120)), 2) -> 0 | I33: 0.21 | J33: =ROUND(((SUM(BE81:BE120))*I33), 2) -> 0
E34: snížená | F34: =ROUND((SUM(BF81:BF120)), 2) -> 0 | I34: 0.15 | J34: =ROUND(((SUM(BF81:BF120))*I34), 2) -> 0
E35: zákl. přenesená | F35: =ROUND((SUM(BG81:BG120)), 2) -> 0 | I35: 0.21 | J35: =0 -> 0
E36: sníž. přenesená | F36: =ROUND((SUM(BH81:BH120)), 2) -> 0 | I36: 0.15 | J36: =0 -> 0
E37: nulová | F37: =ROUND((SUM(BI81:BI120)), 2) -> 0 | I37: 0 | J37: =0 -> 0
D39: Cena s DPH | G39: v | H39: CZK | J39: =SUM(J30:J37) -> 0
C45: REKAPITULACE ČLENĚNÍ SOUPISU PRACÍ
C47: Zakázka:
E48: =E7 -> Údržba svodnice P2
C49: Objekt:
E50: =E9 -> SO-01 - Odstranění nánosů - KM 0,020-0,512
C52: Místo: | F52: =F12 | I52: Datum: | J52: =IF(J12="","",J12) -> 9. 10. 2023
C54: Zadavatel: | F54: =E15 -> Technické služby, Na Brně 362, Hradec Králové | I54: Projektant: | J54: =E21 -> Agroprojekce Litomyšl, s.r.o.
C55: Uchazeč: | F55: =IF(E18="","",E18) -> Vyplň údaj | I55: Zpracovatel: | J55: =E24
C57: Kód dílu - Popis | J57: Cena celkem [CZK]
C59: Náklady zakázky celkem | J59: =J81 -> 0 | AU59: -1
D60: HSV - Práce a dodávky HSV | J60: =J82 -> 0
D61: 1 - Zemní práce | J61: =J83 -> 0
C68: SOUPIS PRACÍ
C70: Zakázka:
E71: =E7 -> Údržba svodnice P2
C72: Objekt:
E73: =E9 -> SO-01 - Odstranění nánosů - KM 0,020-0,512
C75: Místo: | F75: =F12 | I75: Datum: | J75: =IF(J12="","",J12) -> 9. 10. 2023
C77: Zadavatel: | F77: =E15 -> Technické služby, Na Brně 362, Hradec Králové | I77: Projektant: | J77: =E21 -> Agroprojekce Litomyšl, s.r.o.
C78: Uchazeč: | F78: =IF(E18="","",E18) -> Vyplň údaj | I78: Zpracovatel: | J78: =E24
C80: PČ | D80: Typ | E80: Kód | F80: Popis | G80: MJ | H80: Množství | I80: J.cena [CZK] | J80: Cena celkem [CZK] | K80: Cenová soustava | N80: DPH | O80: J. Nh [h] | P80: Nh celkem [h] | Q80: J. hmotnost [t] | R80: Hmotnost celkem [t] | S80: J. suť [t] | T80: Suť Celkem [t]
C81: Náklady soupisu celkem | J81: =BK81 -> 0 | P81: =P82 -> 0 | R81: =R82 -> 0 | T81: =T82 -> 0 | AT81: D | AU81: -1 | BK81: =BK82 -> 0
D82: D | E82: HSV | F82: Práce a dodávky HSV | J82: =BK82 -> 0 | P82: =P83 -> 0 | R82: =R83 -> 0 | T82: =T83 -> 0 | AR82: 1 | AT82: D | AU82: 0 | AY82: ROZPOCET | BK82: =BK83 -> 0
D83: D | E83: 1 | F83: Zemní práce | J83: =BK83 -> 0 | P83: =SUM(P84:P120) -> 0 | R83: =SUM(R84:R120) -> 0 | T83: =SUM(T84:T120) -> 0 | AR83: 1 | AT83: D | AU83: 1 | AY83: ROZPOCET | BK83: =SUM(BK84:BK120) -> 0
C84: 1 | D84: K | E84: 125703302 | F84: Čištění melioračních kanálů od naplavenin tl do 250 mm dno zpevněné kamenem | G84: m3 | H84: 131 | J84: =ROUND(I84*H84,2) -> 0 | K84: CS ÚRS 2023 02 | N84: základní | P84: =O84*H84 -> 0 | Q84: 0 | R84: =Q84*H84 -> 0 | S84: 0 | T84: =S84*H84 -> 0 | AR84: 4 | AT84: K | AU84: 2 | AY84: ROZPOCET | BE84: =IF(N84="základní",J84,0) -> 0 | BF84: =IF(N84="snížená",J84,0) -> 0 | BG84: =IF(N84="zákl. přenesená",J84,0) -> 0 | BH84: =IF(N84="sníž. přenesená",J84,0) -> 0 | BI84: =IF(N84="nulová",J84,0) -> 0 | BJ84: 1 | BK84: =ROUND(I84*H84,2) -> 0 | BL84: 4 | BM84: 224632459
D85: PP | F85: Čištění melioračních kanálů s úpravou svahu do výšky naplavené vrstvy tloušťky naplavené vrstvy do 250 mm, se dnem zpevněným lomovým kamenem | AT85: PP | AU85: 2
D86: Online PSC | F86: https://podminky.urs.cz/item/CS_URS_2023_02/125703302 | AT86: Online PSC | AU86: 2
D87: VV | F87: "viz. Tabulka kubatur D.1.1.6." 131,0 | H87: 131 | AT87: VV | AU87: 2 | AV87: 2 | AW87: True | AX87: 1 | AY87: ROZPOCET
C88: 2 | D88: K | E88: 162351103 | F88: Vodorovné přemístění přes 50 do 500 m výkopku/sypaniny z horniny třídy těžitelnosti I skupiny 1 až 3 | G88: m3 | H88: 131 | J88: =ROUND(I88*H88,2) -> 0 | K88: CS ÚRS 2023 02 | N88: základní | P88: =O88*H88 -> 0 | Q88: 0 | R88: =Q88*H88 -> 0 | S88: 0 | T88: =S88*H88 -> 0 | AR88: 4 | AT88: K | AU88: 2 | AY88: ROZPOCET | BE88: =IF(N88="základní",J88,0) -> 0 | BF88: =IF(N88="snížená",J88,0) -> 0 | BG88: =IF(N88="zákl. přenesená",J88,0) -> 0 | BH88: =IF(N88="sníž. přenesená",J88,0) -> 0 | BI88: =IF(N88="nulová",J88,0) -> 0 | BJ88: 1 | BK88: =ROUND(I88*H88,2) -> 0 | BL88: 4 | BM88: 228824526
D89: PP | F89: Vodorovné přemístění výkopku nebo sypaniny po suchu na obvyklém dopravním prostředku, bez naložení výkopku, avšak se složením bez rozhrnutí z horniny třídy těžitelnosti I skupiny 1 až 3 na vzdálenost přes 50 do 500 m | AT89: PP | AU89: 2
D90: Online PSC | F90: https://podminky.urs.cz/item/CS_URS_2023_02/162351103 | AT90: Online PSC | AU90: 2
D91: VV | F91: "stažení sedimentu korytem na určená místa" 131,0 | H91: 131 | AT91: VV | AU91: 2 | AV91: 2 | AW91: True | AX91: 1 | AY91: ROZPOCET
C92: 3 | D92: K | E92: 162751117 | F92: Vodorovné přemístění přes 9 000 do 10000 m výkopku/sypaniny z horniny třídy těžitelnosti I skupiny 1 až 3 | G92: m3 | H92: 131 | J92: =ROUND(I92*H92,2) -> 0 | K92: CS ÚRS 2023 02 | N92: základní | P92: =O92*H92 -> 0 | Q92: 0 | R92: =Q92*H92 -> 0 | S92: 0 | T92: =S92*H92 -> 0 | AR92: 4 | AT92: K | AU92: 2 | AY92: ROZPOCET | BE92: =IF(N92="základní",J92,0) -> 0 | BF92: =IF(N92="snížená",J92,0) -> 0 | BG92: =IF(N92="zákl. přenesená",J92,0) -> 0 | BH92: =IF(N92="sníž. přenesená",J92,0) -> 0 | BI92: =IF(N92="nulová",J92,0) -> 0 | BJ92: 1 | BK92: =ROUND(I92*H92,2) -> 0 | BL92: 4 | BM92: 1464944208
D93: PP | F93: Vodorovné přemístění výkopku nebo sypaniny po suchu na obvyklém dopravním prostředku, bez naložení výkopku, avšak se složením bez rozhrnutí z horniny třídy těžitelnosti I skupiny 1 až 3 na vzdálenost přes 9 000 do 10 000 m | AT93: PP | AU93: 2
D94: Online PSC | F94: https://podminky.urs.cz/item/CS_URS_2023_02/162751117 | AT94: Online PSC | AU94: 2
D95: VV | F95: "sediment v mokrém stavu" 131,0 | H95: 131 | AT95: VV | AU95: 2 | AV95: 2 | AW95: True | AX95: 1 | AY95: ROZPOCET
C96: 4 | D96: K | E96: 166151101 | F96: Přehození neulehlého výkopku z horniny třídy těžitelnosti I skupiny 1 až 3 strojně | G96: m3 | H96: 131 | J96: =ROUND(I96*H96,2) -> 0 | K96: CS ÚRS 2023 02 | N96: základní | P96: =O96*H96 -> 0 | Q96: 0 | R96: =Q96*H96 -> 0 | S96: 0 | T96: =S96*H96 -> 0 | AR96: 4 | AT96: K | AU96: 2 | AY96: ROZPOCET | BE96: =IF(N96="základní",J96,0) -> 0 | BF96: =IF(N96="snížená",J96,0) -> 0 | BG96: =IF(N96="zákl. přenesená",J96,0) -> 0 | BH96: =IF(N96="sníž. přenesená",J96,0) -> 0 | BI96: =IF(N96="nulová",J96,0) -> 0 | BJ96: 1 | BK96: =ROUND(I96*H96,2) -> 0 | BL96: 4 | BM96: 344040853
D97: PP | F97: Přehození neulehlého výkopku strojně z horniny třídy těžitelnosti I, skupiny 1 až 3 | AT97: PP | AU97: 2
D98: Online PSC | F98: https://podminky.urs.cz/item/CS_URS_2023_02/166151101 | AT98: Online PSC | AU98: 2
D99: VV | F99: "přehození sedimentu na břeh" 131,0 | H99: 131 | AT99: VV | AU99: 2 | AV99: 2 | AW99: True | AX99: 1 | AY99: ROZPOCET
C100: 5 | D100: K | E100: 167151111 | F100: Nakládání výkopku z hornin třídy těžitelnosti I skupiny 1 až 3 přes 100 m3 | G100: m3 | H100: 262 | J100: =ROUND(I100*H100,2) -> 0 | K100: CS ÚRS 2023 02 | N100: základní | P100: =O100*H100 -> 0 | Q100: 0 | R100: =Q100*H100 -> 0 | S100: 0 | T100: =S100*H100 -> 0 | AR100: 4 | AT100: K | AU100: 2 | AY100: ROZPOCET | BE100: =IF(N100="základní",J100,0) -> 0 | BF100: =IF(N100="snížená",J100,0) -> 0 | BG100: =IF(N100="zákl. přenesená",J100,0) -> 0 | BH100: =IF(N100="sníž. přenesená",J100,0) -> 0 | BI100: =IF(N100="nulová",J100,0) -> 0 | BJ100: 1 | BK100: =ROUND(I100*H100,2) -> 0 | BL100: 4 | BM100: -2049065643
D101: PP | F101: Nakládání, skládání a překládání neulehlého výkopku nebo sypaniny strojně nakládání, množství přes 100 m3, z hornin třídy těžitelnosti I, skupiny 1 až 3 | AT101: PP | AU101: 2
D102: Online PSC | F102: https://podminky.urs.cz/item/CS_URS_2023_02/167151111 | AT102: Online PSC | AU102: 2
D103: VV | F103: "stažení sedimentu korytem na určená místa" 131,0 | H103: 131 | AT103: VV | AU103: 2 | AV103: 2 | AW103: True | AX103: 0 | AY103: ROZPOCET
D104: VV | F104: "přehozený sediment v mokrém stavu" 131,0 | H104: 131 | AT104: VV | AU104: 2 | AV104: 2 | AW104: True | AX104: 0 | AY104: ROZPOCET
C105: 6 | D105: K | E105: 171201221 | F105: Poplatek za uložení na skládce (skládkovné) zeminy a kamení kód odpadu 17 05 04 | G105: t | H105: 262 | J105: =ROUND(I105*H105,2) -> 0 | K105: CS ÚRS 2023 02 | N105: základní | P105: =O105*H105 -> 0 | Q105: 0 | R105: =Q105*H105 -> 0 | S105: 0 | T105: =S105*H105 -> 0 | AR105: 4 | AT105: K | AU105: 2 | AY105: ROZPOCET | BE105: =IF(N105="základní",J105,0) -> 0 | BF105: =IF(N105="snížená",J105,0) -> 0 | BG105: =IF(N105="zákl. přenesená",J105,0) -> 0 | BH105: =IF(N105="sníž. přenesená",J105,0) -> 0 | BI105: =IF(N105="nulová",J105,0) -> 0 | BJ105: 1 | BK105: =ROUND(I105*H105,2) -> 0 | BL105: 4 | BM105: 1534725040
D106: PP | F106: Poplatek za uložení stavebního odpadu na skládce (skládkovné) zeminy a kamení zatříděného do Katalogu odpadů pod kódem 17 05 04 | AT106: PP | AU106: 2
D107: Online PSC | F107: https://podminky.urs.cz/item/CS_URS_2023_02/171201221 | AT107: Online PSC | AU107: 2
D108: VV | F108: "sediment" 131,0*2,0 | H108: 262 | AT108: VV | AU108: 2 | AV108: 2 | AW108: True | AX108: 1 | AY108: ROZPOCET
C109: 7 | D109: K | E109: 171251201 | F109: Uložení sypaniny na skládky nebo meziskládky | G109: m3 | H109: 131 | J109: =ROUND(I109*H109,2) -> 0 | K109: CS ÚRS 2023 02 | N109: základní | P109: =O109*H109 -> 0 | Q109: 0 | R109: =Q109*H109 -> 0 | S109: 0 | T109: =S109*H109 -> 0 | AR109: 4 | AT109: K | AU109: 2 | AY109: ROZPOCET | BE109: =IF(N109="základní",J109,0) -> 0 | BF109: =IF(N109="snížená",J109,0) -> 0 | BG109: =IF(N109="zákl. přenesená",J109,0) -> 0 | BH109: =IF(N109="sníž. přenesená",J109,0) -> 0 | BI109: =IF(N109="nulová",J109,0) -> 0 | BJ109: 1 | BK109: =ROUND(I109*H109,2) -> 0 | BL109: 4 | BM109: 814744448
D110: PP | F110: Uložení sypaniny na skládky nebo meziskládky bez hutnění s upravením uložené sypaniny do předepsaného tvaru | AT110: PP | AU110: 2
D111: Online PSC | F111: https://podminky.urs.cz/item/CS_URS_2023_02/171251201 | AT111: Online PSC | AU111: 2
D112: VV | F112: "sediment" 131,0 | H112: 131 | AT112: VV | AU112: 2 | AV112: 2 | AW112: True | AX112: 1 | AY112: ROZPOCET
C113: 8 | D113: K | E113: 181951111 | F113: Úprava pláně v hornině třídy těžitelnosti I skupiny 1 až 3 bez zhutnění strojně | G113: m2 | H113: 536 | J113: =ROUND(I113*H113,2) -> 0 | K113: CS ÚRS 2023 02 | N113: základní | P113: =O113*H113 -> 0 | Q113: 0 | R113: =Q113*H113 -> 0 | S113: 0 | T113: =S113*H113 -> 0 | AR113: 4 | AT113: K | AU113: 2 | AY113: ROZPOCET | BE113: =IF(N113="základní",J113,0) -> 0 | BF113: =IF(N113="snížená",J113,0) -> 0 | BG113: =IF(N113="zákl. přenesená",J113,0) -> 0 | BH113: =IF(N113="sníž. přenesená",J113,0) -> 0 | BI113: =IF(N113="nulová",J113,0) -> 0 | BJ113: 1 | BK113: =ROUND(I113*H113,2) -> 0 | BL113: 4 | BM113: 2085851892
D114: PP | F114: Úprava pláně vyrovnáním výškových rozdílů strojně v hornině třídy těžitelnosti I, skupiny 1 až 3 bez zhutnění | AT114: PP | AU114: 2
D115: Online PSC | F115: https://podminky.urs.cz/item/CS_URS_2023_02/181951111 | AT115: Online PSC | AU115: 2
D116: VV | F116: "viz. Tabulka kubatur D.1.1.6." 536,0 | H116: 536 | AT116: VV | AU116: 2 | AV116: 2 | AW116: True | AX116: 1 | AY116: ROZPOCET
C117: 9 | D117: K | E117: 182151111 | F117: Svahování v zářezech v hornině třídy těžitelnosti I skupiny 1 až 3 strojně | G117: m2 | H117: 386 | J117: =ROUND(I117*H117,2) -> 0 | K117: CS ÚRS 2023 02 | N117: základní | P117: =O117*H117 -> 0 | Q117: 0 | R117: =Q117*H117 -> 0 | S117: 0 | T117: =S117*H117 -> 0 | AR117: 4 | AT117: K | AU117: 2 | AY117: ROZPOCET | BE117: =IF(N117="základní",J117,0) -> 0 | BF117: =IF(N117="snížená",J117,0) -> 0 | BG117: =IF(N117="zákl. přenesená",J117,0) -> 0 | BH117: =IF(N117="sníž. přenesená",J117,0) -> 0 | BI117: =IF(N117="nulová",J117,0) -> 0 | BJ117: 1 | BK117: =ROUND(I117*H117,2) -> 0 | BL117: 4 | BM117: 1788638393
D118: PP | F118: Svahování trvalých svahů do projektovaných profilů strojně s potřebným přemístěním výkopku při svahování v zářezech v hornině třídy těžitelnosti I, skupiny 1 až 3 | AT118: PP | AU118: 2
D119: Online PSC | F119: https://podminky.urs.cz/item/CS_URS_2023_02/182151111 | AT119: Online PSC | AU119: 2
D120: VV | F120: "viz. Tabulka kubatur D.1.1.6." 386,0 | H120: 386 | AT120: VV | AU120: 2 | AV120: 2 | AW120: True | AX120: 1 | AY120: ROZPOCET

Sheet SO-02 - Odstranění nánosů...
AT2: {aaf15ae8-4c46-431c-be51-9d23424ac57c}
AT3: 2
D4: KRYCÍ LIST SOUPISU PRACÍ | M4: v --- níže se nacházejí doplnkové a pomocné údaje k sestavám --- v | AT4: False
D6: Zakázka:
E7: ='Rekapitulace zakázky'!K6 -> Údržba svodnice P2
D8: Objekt:
E9: SO-02 - Odstranění nánosů - KM 0,512-1,489
D11: KSO: | F11: 833 2 | I11: CC-CZ:
D12: Místo: | I12: Datum: | J12: ='Rekapitulace zakázky'!AN8 -> 9. 10. 2023
D14: Zadavatel: | I14: IČ:
E15: Technické služby, Na Brně 362, Hradec Králové | I15: DIČ:
D17: Uchazeč: | I17: IČ: | J17: ='Rekapitulace zakázky'!AN13 -> Vyplň údaj
E18: ='Rekapitulace zakázky'!E14 -> Vyplň údaj | I18: DIČ: | J18: ='Rekapitulace zakázky'!AN14 -> Vyplň údaj
D20: Projektant: | I20: IČ:
E21: Agroprojekce Litomyšl, s.r.o. | I21: DIČ:
D23: Zpracovatel: | I23: IČ: | J23: =IF('Rekapitulace zakázky'!AN19="","",'Rekapitulace zakázky'!AN19)
E24: =IF('Rekapitulace zakázky'!E20="","",'Rekapitulace zakázky'!E20) | I24: DIČ: | J24: =IF('Rekapitulace zakázky'!AN20="","",'Rekapitulace zakázky'!AN20)
D26: Poznámka:
D30: Cena bez DPH | J30: =ROUND(J81, 2) -> 0
F32: Základ daně | I32: Sazba daně | J32: Výše daně
D33: DPH | E33: základní | F33: =ROUND((SUM(BE81:BE120)), 2) -> 0 | I33: 0.21 | J33: =ROUND(((SUM(BE81:BE120))*I33), 2) -> 0
E34: snížená | F34: =ROUND((SUM(BF81:BF120)), 2) -> 0 | I34: 0.15 | J34: =ROUND(((SUM(BF81:BF120))*I34), 2) -> 0
E35: zákl. přenesená | F35: =ROUND((SUM(BG81:BG120)), 2) -> 0 | I35: 0.21 | J35: =0 -> 0
E36: sníž. přenesená | F36: =ROUND((SUM(BH81:BH120)), 2) -> 0 | I36: 0.15 | J36: =0 -> 0
E37: nulová | F37: =ROUND((SUM(BI81:BI120)), 2) -> 0 | I37: 0 | J37: =0 -> 0
D39: Cena s DPH | G39: v | H39: CZK | J39: =SUM(J30:J37) -> 0
C45: REKAPITULACE ČLENĚNÍ SOUPISU PRACÍ
C47: Zakázka:
E48: =E7 -> Údržba svodnice P2
C49: Objekt:
E50: =E9 -> SO-02 - Odstranění nánosů - KM 0,512-1,489
C52: Místo: | F52: =F12 | I52: Datum: | J52: =IF(J12="","",J12) -> 9. 10. 2023
C54: Zadavatel: | F54: =E15 -> Technické služby, Na Brně 362, Hradec Králové | I54: Projektant: | J54: =E21 -> Agroprojekce Litomyšl, s.r.o.
C55: Uchazeč: | F55: =IF(E18="","",E18) -> Vyplň údaj | I55: Zpracovatel: | J55: =E24
C57: Kód dílu - Popis | J57: Cena celkem [CZK]
C59: Náklady zakázky celkem | J59: =J81 -> 0 | AU59: -1
D60: HSV - Práce a dodávky HSV | J60: =J82 -> 0
D61: 1 - Zemní práce | J61: =J83 -> 0
C68: SOUPIS PRACÍ
C70: Zakázka:
E71: =E7 -> Údržba svodnice P2
C72: Objekt:
E73: =E9 -> SO-02 - Odstranění nánosů - KM 0,512-1,489
C75: Místo: | F75: =F12 | I75: Datum: | J75: =IF(J12="","",J12) -> 9. 10. 2023
C77: Zadavatel: | F77: =E15 -> Technické služby, Na Brně 362, Hradec Králové | I77: Projektant: | J77: =E21 -> Agroprojekce Litomyšl, s.r.o.
C78: Uchazeč: | F78: =IF(E18="","",E18) -> Vyplň údaj | I78: Zpracovatel: | J78: =E24
C80: PČ | D80: Typ | E80: Kód | F80: Popis | G80: MJ | H80: Množství | I80: J.cena [CZK] | J80: Cena celkem [CZK] | K80: Cenová soustava | N80: DPH | O80: J. Nh [h] | P80: Nh celkem [h] | Q80: J. hmotnost [t] | R80: Hmotnost celkem [t] | S80: J. suť [t] | T80: Suť Celkem [t]
C81: Náklady soupisu celkem | J81: =BK81 -> 0 | P81: =P82 -> 0 | R81: =R82 -> 0 | T81: =T82 -> 0 | AT81: D | AU81: -1 | BK81: =BK82 -> 0
D82: D | E82: HSV | F82: Práce a dodávky HSV | J82: =BK82 -> 0 | P82: =P83 -> 0 | R82: =R83 -> 0 | T82: =T83 -> 0 | AR82: 1 | AT82: D | AU82: 0 | AY82: ROZPOCET | BK82: =BK83 -> 0
D83: D | E83: 1 | F83: Zemní práce | J83: =BK83 -> 0 | P83: =SUM(P84:P120) -> 0 | R83: =SUM(R84:R120) -> 0 | T83: =SUM(T84:T120) -> 0 | AR83: 1 | AT83: D | AU83: 1 | AY83: ROZPOCET | BK83: =SUM(BK84:BK120) -> 0
C84: 1 | D84: K | E84: 125703302 | F84: Čištění melioračních kanálů od naplavenin tl do 250 mm dno zpevněné kamenem | G84: m3 | H84: 315 | J84: =ROUND(I84*H84,2) -> 0 | K84: CS ÚRS 2023 02 | N84: základní | P84: =O84*H84 -> 0 | Q84: 0 | R84: =Q84*H84 -> 0 | S84: 0 | T84: =S84*H84 -> 0 | AR84: 4 | AT84: K | AU84: 2 | AY84: ROZPOCET | BE84: =IF(N84="základní",J84,0) -> 0 | BF84: =IF(N84="snížená",J84,0) -> 0 | BG84: =IF(N84="zákl. přenesená",J84,0) -> 0 | BH84: =IF(N84="sníž. přenesená",J84,0) -> 0 | BI84: =IF(N84="nulová",J84,0) -> 0 | BJ84: 1 | BK84: =ROUND(I84*H84,2) -> 0 | BL84: 4 | BM84: -900710053
D85: PP | F85: Čištění melioračních kanálů s úpravou svahu do výšky naplavené vrstvy tloušťky naplavené vrstvy do 250 mm, se dnem zpevněným lomovým kamenem | AT85: PP | AU85: 2
D86: Online PSC | F86: https://podminky.urs.cz/item/CS_URS_2023_02/125703302 | AT86: Online PSC | AU86: 2
D87: VV | F87: "viz. Tabulka kubatur D.1.1.6." 315,0 | H87: 315 | AT87: VV | AU87: 2 | AV87: 2 | AW87: True | AX87: 1 | AY87: ROZPOCET
C88: 2 | D88: K | E88: 162351103 | F88: Vodorovné přemístění přes 50 do 500 m výkopku/sypaniny z horniny třídy těžitelnosti I skupiny 1 až 3 | G88: m3 | H88: 315 | J88: =ROUND(I88*H88,2) -> 0 | K88: CS ÚRS 2023 02 | N88: základní | P88: =O88*H88 -> 0 | Q88: 0 | R88: =Q88*H88 -> 0 | S88: 0 | T88: =S88*H88 -> 0 | AR88: 4 | AT88: K | AU88: 2 | AY88: ROZPOCET | BE88: =IF(N88="základní",J88,0) -> 0 | BF88: =IF(N88="snížená",J88,0) -> 0 | BG88: =IF(N88="zákl. přenesená",J88,0) -> 0 | BH88: =IF(N88="sníž. přenesená",J88,0) -> 0 | BI88: =IF(N88="nulová",J88,0) -> 0 | BJ88: 1 | BK88: =ROUND(I88*H88,2) -> 0 | BL88: 4 | BM88: -1178206453
D89: PP | F89: Vodorovné přemístění výkopku nebo sypaniny po suchu na obvyklém dopravním prostředku, bez naložení výkopku, avšak se složením bez rozhrnutí z horniny třídy těžitelnosti I skupiny 1 až 3 na vzdálenost přes 50 do 500 m | AT89: PP | AU89: 2
D90: Online PSC | F90: https://podminky.urs.cz/item/CS_URS_2023_02/162351103 | AT90: Online PSC | AU90: 2
D91: VV | F91: "stažení sedimentu korytem na určená místa" 315,0 | H91: 315 | AT91: VV | AU91: 2 | AV91: 2 | AW91: True | AX91: 1 | AY91: ROZPOCET
C92: 3 | D92: K | E92: 162751117 | F92: Vodorovné přemístění přes 9 000 do 10000 m výkopku/sypaniny z horniny třídy těžitelnosti I skupiny 1 až 3 | G92: m3 | H92: 315 | J92: =ROUND(I92*H92,2) -> 0 | K92: CS ÚRS 2023 02 | N92: základní | P92: =O92*H92 -> 0 | Q92: 0 | R92: =Q92*H92 -> 0 | S92: 0 | T92: =S92*H92 -> 0 | AR92: 4 | AT92: K | AU92: 2 | AY92: ROZPOCET | BE92: =IF(N92="základní",J92,0) -> 0 | BF92: =IF(N92="snížená",J92,0) -> 0 | BG92: =IF(N92="zákl. přenesená",J92,0) -> 0 | BH92: =IF(N92="sníž. přenesená",J92,0) -> 0 | BI92: =IF(N92="nulová",J92,0) -> 0 | BJ92: 1 | BK92: =ROUND(I92*H92,2) -> 0 | BL92: 4 | BM92: -1487018989
D93: PP | F93: Vodorovné přemístění výkopku nebo sypaniny po suchu na obvyklém dopravním prostředku, bez naložení výkopku, avšak se složením bez rozhrnutí z horniny třídy těžitelnosti I skupiny 1 až 3 na vzdálenost přes 9 000 do 10 000 m | AT93: PP | AU93: 2
D94: Online PSC | F94: https://podminky.urs.cz/item/CS_URS_2023_02/162751117 | AT94: Online PSC | AU94: 2
D95: VV | F95: "sediment v mokrém stavu" 315,0 | H95: 315 | AT95: VV | AU95: 2 | AV95: 2 | AW95: True | AX95: 1 | AY95: ROZPOCET
C96: 4 | D96: K | E96: 166151101 | F96: Přehození neulehlého výkopku z horniny třídy těžitelnosti I skupiny 1 až 3 strojně | G96: m3 | H96: 315 | J96: =ROUND(I96*H96,2) -> 0 | K96: CS ÚRS 2023 02 | N96: základní | P96: =O96*H96 -> 0 | Q96: 0 | R96: =Q96*H96 -> 0 | S96: 0 | T96: =S96*H96 -> 0 | AR96: 4 | AT96: K | AU96: 2 | AY96: ROZPOCET | BE96: =IF(N96="základní",J96,0) -> 0 | BF96: =IF(N96="snížená",J96,0) -> 0 | BG96: =IF(N96="zákl. přenesená",J96,0) -> 0 | BH96: =IF(N96="sníž. přenesená",J96,0) -> 0 | BI96: =IF(N96="nulová",J96,0) -> 0 | BJ96: 1 | BK96: =ROUND(I96*H96,2) -> 0 | BL96: 4 | BM96: 384926405
D97: PP | F97: Přehození neulehlého výkopku strojně z horniny třídy těžitelnosti I, skupiny 1 až 3 | AT97: PP | AU97: 2
D98: Online PSC | F98: https://podminky.urs.cz/item/CS_URS_2023_02/166151101 | AT98: Online PSC | AU98: 2
D99: VV | F99: "přehození sedimentu na břeh" 315,0 | H99: 315 | AT99: VV | AU99: 2 | AV99: 2 | AW99: True | AX99: 1 | AY99: ROZPOCET
C100: 5 | D100: K | E100: 167151111 | F100: Nakládání výkopku z hornin třídy těžitelnosti I skupiny 1 až 3 přes 100 m3 | G100: m3 | H100: 630 | J100: =ROUND(I100*H100,2) -> 0 | K100: CS ÚRS 2023 02 | N100: základní | P100: =O100*H100 -> 0 | Q100: 0 | R100: =Q100*H100 -> 0 | S100: 0 | T100: =S100*H100 -> 0 | AR100: 4 | AT100: K | AU100: 2 | AY100: ROZPOCET | BE100: =IF(N100="základní",J100,0) -> 0 | BF100: =IF(N100="snížená",J100,0) -> 0 | BG100: =IF(N100="zákl. přenesená",J100,0) -> 0 | BH100: =IF(N100="sníž. přenesená",J100,0) -> 0 | BI100: =IF(N100="nulová",J100,0) -> 0 | BJ100: 1 | BK100: =ROUND(I100*H100,2) -> 0 | BL100: 4 | BM100: -329595667
D101: PP | F101: Nakládání, skládání a překládání neulehlého výkopku nebo sypaniny strojně nakládání, množství přes 100 m3, z hornin třídy těžitelnosti I, skupiny 1 až 3 | AT101: PP | AU101: 2
D102: Online PSC | F102: https://podminky.urs.cz/item/CS_URS_2023_02/167151111 | AT102: Online PSC | AU102: 2
D103: VV | F103: "stažení sedimentu korytem na určená místa" 315,0 | H103: 315 | AT103: VV | AU103: 2 | AV103: 2 | AW103: True | AX103: 0 | AY103: ROZPOCET
D104: VV | F104: "přehozený sediment v mokrém stavu" 315,0 | H104: 315 | AT104: VV | AU104: 2 | AV104: 2 | AW104: True | AX104: 0 | AY104: ROZPOCET
C105: 6 | D105: K | E105: 171201221 | F105: Poplatek za uložení na skládce (skládkovné) zeminy a kamení kód odpadu 17 05 04 | G105: t | H105: 630 | J105: =ROUND(I105*H105,2) -> 0 | K105: CS ÚRS 2023 02 | N105: základní | P105: =O105*H105 -> 0 | Q105: 0 | R105: =Q105*H105 -> 0 | S105: 0 | T105: =S105*H105 -> 0 | AR105: 4 | AT105: K | AU105: 2 | AY105: ROZPOCET | BE105: =IF(N105="základní",J105,0) -> 0 | BF105: =IF(N105="snížená",J105,0) -> 0 | BG105: =IF(N105="zákl. přenesená",J105,0) -> 0 | BH105: =IF(N105="sníž. přenesená",J105,0) -> 0 | BI105: =IF(N105="nulová",J105,0) -> 0 | BJ105: 1 | BK105: =ROUND(I105*H105,2) -> 0 | BL105: 4 | BM105: -592215860
D106: PP | F106: Poplatek za uložení stavebního odpadu na skládce (skládkovné) zeminy a kamení zatříděného do Katalogu odpadů pod kódem 17 05 04 | AT106: PP | AU106: 2
D107: Online PSC | F107: https://podminky.urs.cz/item/CS_URS_2023_02/171201221 | AT107: Online PSC | AU107: 2
D108: VV | F108: "sediment" 315,0*2,0 | H108: 630 | AT108: VV | AU108: 2 | AV108: 2 | AW108: True | AX108: 1 | AY108: ROZPOCET
C109: 7 | D109: K | E109: 171251201 | F109: Uložení sypaniny na skládky nebo meziskládky | G109: m3 | H109: 315 | J109: =ROUND(I109*H109,2) -> 0 | K109: CS ÚRS 2023 02 | N109: základní | P109: =O109*H109 -> 0 | Q109: 0 | R109: =Q109*H109 -> 0 | S109: 0 | T109: =S109*H109 -> 0 | AR109: 4 | AT109: K | AU109: 2 | AY109: ROZPOCET | BE109: =IF(N109="základní",J109,0) -> 0 | BF109: =IF(N109="snížená",J109,0) -> 0 | BG109: =IF(N109="zákl. přenesená",J109,0) -> 0 | BH109: =IF(N109="sníž. přenesená",J109,0) -> 0 | BI109: =IF(N109="nulová",J109,0) -> 0 | BJ109: 1 | BK109: =ROUND(I109*H109,2) -> 0 | BL109: 4 | BM109: 1875225999
D110: PP | F110: Uložení sypaniny na skládky nebo meziskládky bez hutnění s upravením uložené sypaniny do předepsaného tvaru | AT110: PP | AU110: 2
D111: Online PSC | F111: https://podminky.urs.cz/item/CS_URS_2023_02/171251201 | AT111: Online PSC | AU111: 2
D112: VV | F112: "sediment" 315,0 | H112: 315 | AT112: VV | AU112: 2 | AV112: 2 | AW112: True | AX112: 1 | AY112: ROZPOCET
C113: 8 | D113: K | E113: 181951111 | F113: Úprava pláně v hornině třídy těžitelnosti I skupiny 1 až 3 bez zhutnění strojně | G113: m2 | H113: 1361 | J113: =ROUND(I113*H113,2) -> 0 | K113: CS ÚRS 2023 02 | N113: základní | P113: =O113*H113 -> 0 | Q113: 0 | R113: =Q113*H113 -> 0 | S113: 0 | T113: =S113*H113 -> 0 | AR113: 4 | AT113: K | AU113: 2 | AY113: ROZPOCET | BE113: =IF(N113="základní",J113,0) -> 0 | BF113: =IF(N113="snížená",J113,0) -> 0 | BG113: =IF(N113="zákl. přenesená",J113,0) -> 0 | BH113: =IF(N113="sníž. přenesená",J113,0) -> 0 | BI113: =IF(N113="nulová",J113,0) -> 0 | BJ113: 1 | BK113: =ROUND(I113*H113,2) -> 0 | BL113: 4 | BM113: 2056371406
D114: PP | F114: Úprava pláně vyrovnáním výškových rozdílů strojně v hornině třídy těžitelnosti I, skupiny 1 až 3 bez zhutnění | AT114: PP | AU114: 2
D115: Online PSC | F115: https://podminky.urs.cz/item/CS_URS_2023_02/181951111 | AT115: Online PSC | AU115: 2
D116: VV | F116: "viz. Tabulka kubatur D.1.1.6." 1361,0 | H116: 1361 | AT116: VV | AU116: 2 | AV116: 2 | AW116: True | AX116: 1 | AY116: ROZPOCET
C117: 9 | D117: K | E117: 182151111 | F117: Svahování v zářezech v hornině třídy těžitelnosti I skupiny 1 až 3 strojně | G117: m2 | H117: 1012 | J117: =ROUND(I117*H117,2) -> 0 | K117: CS ÚRS 2023 02 | N117: základní | P117: =O117*H117 -> 0 | Q117: 0 | R117: =Q117*H117 -> 0 | S117: 0 | T117: =S117*H117 -> 0 | AR117: 4 | AT117: K | AU117: 2 | AY117: ROZPOCET | BE117: =IF(N117="základní",J117,0) -> 0 | BF117: =IF(N117="snížená",J117,0) -> 0 | BG117: =IF(N117="zákl. přenesená",J117,0) -> 0 | BH117: =IF(N117="sníž. přenesená",J117,0) -> 0 | BI117: =IF(N117="nulová",J117,0) -> 0 | BJ117: 1 | BK117: =ROUND(I117*H117,2) -> 0 | BL117: 4 | BM117: -857032094
D118: PP | F118: Svahování trvalých svahů do projektovaných profilů strojně s potřebným přemístěním výkopku při svahování v zářezech v hornině třídy těžitelnosti I, skupiny 1 až 3 | AT118: PP | AU118: 2
D119: Online PSC | F119: https://podminky.urs.cz/item/CS_URS_2023_02/182151111 | AT119: Online PSC | AU119: 2
D120: VV | F120: "viz. Tabulka kubatur D.1.1.6." 1012,0 | H120: 1012 | AT120: VV | AU120: 2 | AV120: 2 | AW120: True | AX120: 1 | AY120: ROZPOCET

Sheet VON - Vedlejší a ostatní ...
AT2: {453caaa1-21f0-4f9c-963a-f867b0ede70a}
AT3: 2
D4: KRYCÍ LIST SOUPISU PRACÍ | M4: v --- níže se nacházejí doplnkové a pomocné údaje k sestavám --- v | AT4: False
D6: Zakázka:
E7: ='Rekapitulace zakázky'!K6 -> Údržba svodnice P2
D8: Objekt:
E9: VON - Vedlejší a ostatní náklady
D11: KSO: | I11: CC-CZ:
D12: Místo: | I12: Datum: | J12: ='Rekapitulace zakázky'!AN8 -> 9. 10. 2023
D14: Zadavatel: | I14: IČ:
E15: Technické služby, Na Brně 362, Hradec Králové | I15: DIČ:
D17: Uchazeč: | I17: IČ: | J17: ='Rekapitulace zakázky'!AN13 -> Vyplň údaj
E18: ='Rekapitulace zakázky'!E14 -> Vyplň údaj | I18: DIČ: | J18: ='Rekapitulace zakázky'!AN14 -> Vyplň údaj
D20: Projektant: | I20: IČ:
E21: Agroprojekce Litomyšl, s.r.o. | I21: DIČ:
D23: Zpracovatel: | I23: IČ: | J23: =IF('Rekapitulace zakázky'!AN19="","",'Rekapitulace zakázky'!AN19)
E24: =IF('Rekapitulace zakázky'!E20="","",'Rekapitulace zakázky'!E20) | I24: DIČ: | J24: =IF('Rekapitulace zakázky'!AN20="","",'Rekapitulace zakázky'!AN20)
D26: Poznámka:
D30: Cena bez DPH | J30: =ROUND(J82, 2) -> 0
F32: Základ daně | I32: Sazba daně | J32: Výše daně
D33: DPH | E33: základní | F33: =ROUND((SUM(BE82:BE111)), 2) -> 0 | I33: 0.21 | J33: =ROUND(((SUM(BE82:BE111))*I33), 2) -> 0
E34: snížená | F34: =ROUND((SUM(BF82:BF111)), 2) -> 0 | I34: 0.15 | J34: =ROUND(((SUM(BF82:BF111))*I34), 2) -> 0
E35: zákl. přenesená | F35: =ROUND((SUM(BG82:BG111)), 2) -> 0 | I35: 0.21 | J35: =0 -> 0
E36: sníž. přenesená | F36: =ROUND((SUM(BH82:BH111)), 2) -> 0 | I36: 0.15 | J36: =0 -> 0
E37: nulová | F37: =ROUND((SUM(BI82:BI111)), 2) -> 0 | I37: 0 | J37: =0 -> 0
D39: Cena s DPH | G39: v | H39: CZK | J39: =SUM(J30:J37) -> 0
C45: REKAPITULACE ČLENĚNÍ SOUPISU PRACÍ
C47: Zakázka:
E48: =E7 -> Údržba svodnice P2
C49: Objekt:
E50: =E9 -> VON - Vedlejší a ostatní náklady
C52: Místo: | F52: =F12 | I52: Datum: | J52: =IF(J12="","",J12) -> 9. 10. 2023
C54: Zadavatel: | F54: =E15 -> Technické služby, Na Brně 362, Hradec Králové | I54: Projektant: | J54: =E21 -> Agroprojekce Litomyšl, s.r.o.
C55: Uchazeč: | F55: =IF(E18="","",E18) -> Vyplň údaj | I55: Zpracovatel: | J55: =E24
C57: Kód dílu - Popis | J57: Cena celkem [CZK]
C59: Náklady zakázky celkem | J59: =J82 -> 0 | AU59: -1
D60: VRN - Vedlejší rozpočtové náklady | J60: =J83 -> 0
D61: VRN2 - Příprava staveniště | J61: =J84 -> 0
D62: VRN9 - Ostatní náklady | J62: =J94 -> 0
C69: SOUPIS PRACÍ
C71: Zakázka:
E72: =E7 -> Údržba svodnice P2
C73: Objekt:
E74: =E9 -> VON - Vedlejší a ostatní náklady
C76: Místo: | F76: =F12 | I76: Datum: | J76: =IF(J12="","",J12) -> 9. 10. 2023
C78: Zadavatel: | F78: =E15 -> Technické služby, Na Brně 362, Hradec Králové | I78: Projektant: | J78: =E21 -> Agroprojekce Litomyšl, s.r.o.
C79: Uchazeč: | F79: =IF(E18="","",E18) -> Vyplň údaj | I79: Zpracovatel: | J79: =E24
C81: PČ | D81: Typ | E81: Kód | F81: Popis | G81: MJ | H81: Množství | I81: J.cena [CZK] | J81: Cena celkem [CZK] | K81: Cenová soustava | N81: DPH | O81: J. Nh [h] | P81: Nh celkem [h] | Q81: J. hmotnost [t] | R81: Hmotnost celkem [t] | S81: J. suť [t] | T81: Suť Celkem [t]
C82: Náklady soupisu celkem | J82: =BK82 -> 0 | P82: =P83 -> 0 | R82: =R83 -> 0 | T82: =T83 -> 0 | AT82: D | AU82: -1 | BK82: =BK83 -> 0
D83: D | E83: VRN | F83: Vedlejší rozpočtové náklady | J83: =BK83 -> 0 | P83: =P84+P94 -> 0 | R83: =R84+R94 -> 0 | T83: =T84+T94 -> 0 | AR83: 5 | AT83: D | AU83: 0 | AY83: ROZPOCET | BK83: =BK84+BK94 -> 0
D84: D | E84: VRN2 | F84: Příprava staveniště | J84: =BK84 -> 0 | P84: =SUM(P85:P93) -> 0 | R84: =SUM(R85:R93) -> 0 | T84: =SUM(T85:T93) -> 0 | AR84: 5 | AT84: D | AU84: 1 | AY84: ROZPOCET | BK84: =SUM(BK85:BK93) -> 0
C85: 1 | D85: K | E85: 031002000 | F85: Zařízení staveniště | G85: soubor | H85: 1 | J85: =ROUND(I85*H85,2) -> 0 | N85: základní | P85: =O85*H85 -> 0 | Q85: 0 | R85: =Q85*H85 -> 0 | S85: 0 | T85: =S85*H85 -> 0 | AR85: 1024 | AT85: K | AU85: 2 | AY85: ROZPOCET | BE85: =IF(N85="základní",J85,0) -> 0 | BF85: =IF(N85="snížená",J85,0) -> 0 | BG85: =IF(N85="zákl. přenesená",J85,0) -> 0 | BH85: =IF(N85="sníž. přenesená",J85,0) -> 0 | BI85: =IF(N85="nulová",J85,0) -> 0 | BJ85: 1 | BK85: =ROUND(I85*H85,2) -> 0 | BL85: 1024 | BM85: -1886255009
D86: PP | F86: Zřízení zařízení staveniště a jeho následné odstranění. | AT86: PP | AU86: 2
D87: P | F87: Poznámka k položce:_x000D_ Zřízení zařízení staveniště, jeho připojení na sítě, oplocení prostoru a jejich následné odstranění. Zajištění přístupu k jednotlivým úsekům stavby za účelem provádění a uvedení do původního stavu po ukončení stavby (včetně případných oprav asfaltových krytů, osetí travním semenem apod.), náhrada za dočasné zábory ploch. Zřízení a odstranění dočasných sjezdů, nájezdů. Zřízení čistících zón před výjezdem z obvodu staveniště. Zajištění bezpečnosti práce a ochrany životního prostředí. Ochrana stromů, porostů a vegetačních ploch dle ČSN 83 9061 – Technologie vegetačních úprav v krajině. | AT87: P | AU87: 2
C88: 2 | D88: K | E88: 031002002 | F88: Dopravní značení na staveništi | G88: soubor | H88: 1 | J88: =ROUND(I88*H88,2) -> 0 | N88: základní | P88: =O88*H88 -> 0 | Q88: 0 | R88: =Q88*H88 -> 0 | S88: 0 | T88: =S88*H88 -> 0 | AR88: 1024 | AT88: K | AU88: 2 | AY88: ROZPOCET | BE88: =IF(N88="základní",J88,0) -> 0 | BF88: =IF(N88="snížená",J88,0) -> 0 | BG88: =IF(N88="zákl. přenesená",J88,0) -> 0 | BH88: =IF(N88="sníž. přenesená",J88,0) -> 0 | BI88: =IF(N88="nulová",J88,0) -> 0 | BJ88: 1 | BK88: =ROUND(I88*H88,2) -> 0 | BL88: 1024 | BM88: -674270768
D89: PP | F89: Dopravní značení na staveništi | AT89: PP | AU89: 2
D90: P | F90: Poznámka k položce:_x000D_ Zajištění dopravního značení k dopravním omezením, řízení provozu vč. případné světelné signalizace, jejich údržba a přemisťování a následné odstranění, a to v rozsahu nezbytném pro řádné a bezpečné provádění stavby. | AT90: P | AU90: 2
C91: 3 | D91: K | E91: 031004000 | F91: Práce v ochranném pásmu | G91: soubor | H91: 1 | J91: =ROUND(I91*H91,2) -> 0 | N91: základní | P91: =O91*H91 -> 0 | Q91: 0 | R91: =Q91*H91 -> 0 | S91: 0 | T91: =S91*H91 -> 0 | AR91: 1024 | AT91: K | AU91: 2 | AY91: ROZPOCET | BE91: =IF(N91="základní",J91,0) -> 0 | BF91: =IF(N91="snížená",J91,0) -> 0 | BG91: =IF(N91="zákl. přenesená",J91,0) -> 0 | BH91: =IF(N91="sníž. přenesená",J91,0) -> 0 | BI91: =IF(N91="nulová",J91,0) -> 0 | BJ91: 1 | BK91: =ROUND(I91*H91,2) -> 0 | BL91: 1024 | BM91: 1229791602
D92: PP | F92: Práce v ochranném pásmu | AT92: PP | AU92: 2
D93: P | F93: Poznámka k položce:_x000D_ Práce v ochranném pásmu nadzemního vedení Cetin. | AT93: P | AU93: 2
D94: D | E94: VRN9 | F94: Ostatní náklady | J94: =BK94 -> 0 | P94: =SUM(P95:P111) -> 0 | R94: =SUM(R95:R111) -> 0 | T94: =SUM(T95:T111) -> 0 | AR94: 4 | AT94: D | AU94: 1 | AY94: ROZPOCET | BK94: =SUM(BK95:BK111) -> 0
C95: 4 | D95: K | E95: 091003001 | F95: Vytýčení podzemních inženýrských sítí | G95: soubor | H95: 1 | J95: =ROUND(I95*H95,2) -> 0 | N95: základní | P95: =O95*H95 -> 0 | Q95: 0 | R95: =Q95*H95 -> 0 | S95: 0 | T95: =S95*H95 -> 0 | AR95: 1024 | AT95: K | AU95: 2 | AY95: ROZPOCET | BE95: =IF(N95="základní",J95,0) -> 0 | BF95: =IF(N95="snížená",J95,0) -> 0 | BG95: =IF(N95="zákl. přenesená",J95,0) -> 0 | BH95: =IF(N95="sníž. přenesená",J95,0) -> 0 | BI95: =IF(N95="nulová",J95,0) -> 0 | BJ95: 1 | BK95: =ROUND(I95*H95,2) -> 0 | BL95: 1024 | BM95: 458939299
D96: PP | F96: Vytýčení podzemních inženýrských sítí | AT96: PP | AU96: 2
D97: P | F97: Poznámka k položce:_x000D_ Zajištění ochrany a vytýčení podzemních inženýrských sítí uvedených v projektové dokumentaci dle podmínek z dokladové části projektu, např. kabel ČEZ TELCO, ČEZ Distribuce, dešťová kanalizace, splašková kanalizace, vodovod, sdělovací vedení Cetin, plynovod, teplovod, optika UHK._x000D_ | AT97: P | AU97: 2
C98: 5 | D98: K | E98: 091704000 | F98: Vypracování Plánu opatření pro případ havárie | G98: soubor | H98: 1 | J98: =ROUND(I98*H98,2) -> 0 | N98: základní | P98: =O98*H98 -> 0 | Q98: 0 | R98: =Q98*H98 -> 0 | S98: 0 | T98: =S98*H98 -> 0 | AR98: 1024 | AT98: K | AU98: 2 | AY98: ROZPOCET | BE98: =IF(N98="základní",J98,0) -> 0 | BF98: =IF(N98="snížená",J98,0) -> 0 | BG98: =IF(N98="zákl. přenesená",J98,0) -> 0 | BH98: =IF(N98="sníž. přenesená",J98,0) -> 0 | BI98: =IF(N98="nulová",J98,0) -> 0 | BJ98: 1 | BK98: =ROUND(I98*H98,2) -> 0 | BL98: 1024 | BM98: 2105216352
D99: PP | F99: Vypracování Plánu opatření pro případ havárie | AT99: PP | AU99: 2
D100: P | F100: Poznámka k položce:_x000D_ Zhotovitelem vypracovaný Plán opatření pro případ úniku závadných látek (např. ropné produkty, cementové výluhy, odpadní vody z těsnících clon,atd.) | AT100: P | AU100: 2
C101: 6 | D101: K | E101: 091804000 | F101: Zpracování povodňového plánu stavby dle §71 zákona č. 254/2001 Sb. včetně zajištění schválení příslušnými orgány správy a Povodím Labe, státní podnik | G101: ks | H101: 1 | J101: =ROUND(I101*H101,2) -> 0 | N101: základní | P101: =O101*H101 -> 0 | Q101: 0 | R101: =Q101*H101 -> 0 | S101: 0 | T101: =S101*H101 -> 0 | AR101: 1024 | AT101: K | AU101: 2 | AY101: ROZPOCET | BE101: =IF(N101="základní",J101,0) -> 0 | BF101: =IF(N101="snížená",J101,0) -> 0 | BG101: =IF(N101="zákl. přenesená",J101,0) -> 0 | BH101: =IF(N101="sníž. přenesená",J101,0) -> 0 | BI101: =IF(N101="nulová",J101,0) -> 0 | BJ101: 1 | BK101: =ROUND(I101*H101,2) -> 0 | BL101: 1024 | BM101: 639003449
D102: PP | F102: Zpracování povodňového plánu stavby dle §71 zákona č. 254/2001 Sb. včetně zajištění schválení příslušnými orgány správy a Povodím Labe, státní podnik | AT102: PP | AU102: 2
C103: 7 | D103: K | E103: 091806001 | F103: Analýza všech druhů odpadů ukládaných na skládku | G103: soubor | H103: 1 | J103: =ROUND(I103*H103,2) -> 0 | N103: základní | P103: =O103*H103 -> 0 | Q103: 0 | R103: =Q103*H103 -> 0 | S103: 0 | T103: =S103*H103 -> 0 | AR103: 1024 | AT103: K | AU103: 2 | AY103: ROZPOCET | BE103: =IF(N103="základní",J103,0) -> 0 | BF103: =IF(N103="snížená",J103,0) -> 0 | BG103: =IF(N103="zákl. přenesená",J103,0) -> 0 | BH103: =IF(N103="sníž. přenesená",J103,0) -> 0 | BI103: =IF(N103="nulová",J103,0) -> 0 | BJ103: 1 | BK103: =ROUND(I103*H103,2) -> 0 | BL103: 1024 | BM103: -1052976563
D104: PP | F104: Analýza všech druhů odpadů ukládaných na skládku | AT104: PP | AU104: 2
D105: P | F105: Poznámka k položce:_x000D_ Před uložením odpadů na skládku je nutné doložit analýzy všech druhů odpadů dodávaných na skládku a současně vypracovat Základní popis odpadu na základě výsledků těchto zkoušek odpadu. Nedílnou součástí protokolu o zkoušce musí být také protokol o odběru vzorku a doložení akreditace příslušné laboratoře. | AT105: P | AU105: 2
C106: 8 | D106: K | E106: 091904001 | F106: Provedení pasportizace stávajících nemovitostí (vč. pozemků) a jejich příslušenství | G106: soubor | H106: 1 | J106: =ROUND(I106*H106,2) -> 0 | N106: základní | P106: =O106*H106 -> 0 | Q106: 0 | R106: =Q106*H106 -> 0 | S106: 0 | T106: =S106*H106 -> 0 | AR106: 262144 | AT106: K | AU106: 2 | AY106: ROZPOCET | BE106: =IF(N106="základní",J106,0) -> 0 | BF106: =IF(N106="snížená",J106,0) -> 0 | BG106: =IF(N106="zákl. přenesená",J106,0) -> 0 | BH106: =IF(N106="sníž. přenesená",J106,0) -> 0 | BI106: =IF(N106="nulová",J106,0) -> 0 | BJ106: 1 | BK106: =ROUND(I106*H106,2) -> 0 | BL106: 262144 | BM106: -320498597
D107: PP | F107: Provedení pasportizace stávajících nemovitostí (vč. pozemků) a jejich příslušenství, konstrukcí průtočných profilů mostů, stávajícího stavu lávek, výustí a přístupových pozemků vč. zajištění fotodokumentace stávajícho stavu | AT107: PP | AU107: 2
D108: P | F108: Poznámka k položce:_x000D_ Pokud dojde k jejich poškození, zhotovitel zajistí jejich opravu. | AT108: P | AU108: 2
C109: 9 | D109: K | E109: 092004009 | F109: Opatření vyplývající z vyjádření Krajského úřadu pro Královéhradecký kraj | G109: soubor | H109: 1 | J109: =ROUND(I109*H109,2) -> 0 | N109: základní | P109: =O109*H109 -> 0 | Q109: 0 | R109: =Q109*H109 -> 0 | S109: 0 | T109: =S109*H109 -> 0 | AR109: 262144 | AT109: K | AU109: 2 | AY109: ROZPOCET | BE109: =IF(N109="základní",J109,0) -> 0 | BF109: =IF(N109="snížená",J109,0) -> 0 | BG109: =IF(N109="zákl. přenesená",J109,0) -> 0 | BH109: =IF(N109="sníž. přenesená",J109,0) -> 0 | BI109: =IF(N109="nulová",J109,0) -> 0 | BJ109: 1 | BK109: =ROUND(I109*H109,2) -> 0 | BL109: 262144 | BM109: -1232185092
D110: PP | F110: Opatření vyplývající z vyjádření Krajského úřadu pro Královéhradecký kraj | AT110: PP | AU110: 2
D111: P | F111: Poznámka k položce:_x000D_ - biologický dozor, záchranný transfér chráněných živočichů ohrožených stavbou | AT111: P | AU111: 2

Sheet Pokyny pro vyplnění
C3: Struktura údajů, formát souboru a metodika pro zpracování
C4: Struktura
C6: Soubor je složen ze záložky Rekapitulace rekonstrukce a záložek s názvem soupisu prací pro jednotlivé objekty ve formátu XLS. Každá ze záložek přitom obsahuje
C7: ještě samostatné sestavy vymezené orámovaním a nadpisem sestavy.
C9: Rekapitulace rekonstrukce obsahuje sestavu Rekapitulace rekonstrukce a Rekapitulace objektů rekonstrukce a soupisů prací.
D10: V sestavě Rekapitulace rekonstrukce jsou uvedeny informace identifikující předmět veřejné zakázky na stavební práce, KSO, CC-CZ, CZ-CPV, CZ-CPA a rekapitulaci
D11: celkové nabídkové ceny uchazeče.
D13: Termínem "uchazeč" (resp. zhotovitel) se myslí "účastník zadávacího řízení" ve smyslu zákona o zadávání veřejných zakázek.
D15: V sestavě Rekapitulace objektů rekonstrukce a soupisů prací je uvedena rekapitulace stavebních objektů, inženýrských objektů, provozních souborů,
D16: vedlejších a ostatních nákladů a ostatních nákladů s rekapitulací nabídkové ceny za jednotlivé soupisy prací. Na základě údaje Typ je možné
D17: identifikovat, zda se jedná o objekt nebo soupis prací pro daný objekt:
E18: STA | F18: Stavební objekt pozemní
E19: ING | F19: Stavební objekt inženýrský
E20: PRO | F20: Provozní soubor
E21: VON | F21: Vedlejší a ostatní náklady
E22: OST | F22: Ostatní
E23: Soupis | F23: Soupis prací pro daný typ objektu
C25: Soupis prací pro jednotlivé objekty obsahuje sestavy Krycí list soupisu prací, Rekapitulace členění soupisu prací, Soupis prací. Za soupis prací může být považován
C26: i objekt rekonstrukce v případě, že neobsahuje podřízenou zakázku.
D27: Krycí list soupisu obsahuje rekapitulaci informací o předmětu veřejné zakázky ze sestavy Rekapitulace rekonstrukce, informaci o zařazení objektu do KSO,
D28: CC-CZ, CZ-CPV, CZ-CPA a rekapitulaci celkové nabídkové ceny uchazeče za aktuální soupis prací.
D30: Rekapitulace členění soupisu prací obsahuje rekapitulaci soupisu prací ve všech úrovních členění soupisu tak, jak byla tato členění použita (např.
D31: stavební díly, funkční díly, případně jiné členění) s rekapitulací nabídkové ceny.
D33: Soupis prací obsahuje položky veškerých stavebních nebo montážních prací, dodávek materiálů a služeb nezbytných pro zhotovení stavebního objektu,
D34: inženýrského objektu, provozního souboru, vedlejších a ostatních nákladů.
D35: Pro položky soupisu prací se zobrazují následující informace:
E36: PČ | G36: Pořadové číslo položky v aktuálním soupisu
E37: TYP | G37: Typ položky: K - konstrukce, M - materiál, PP - plný popis, PSC - poznámka k souboru cen, P - poznámka k položce, VV - výkaz výměr
E38: Kód | G38: Kód položky
E39: Popis | G39: Zkrácený popis položky
E40: MJ | G40: Měrná jednotka položky
E41: Množství | G41: Množství v měrné jednotce
E42: J.cena | G42: Jednotková cena položky. Zadaní může obsahovat namísto J.ceny sloupce J.materiál a J.montáž, jejichž součet definuje
G43: J.cenu položky.
E44: Cena celkem | G44: Celková cena položky daná jako součin množství a j.ceny
E45: Cenová soustava | G45: Příslušnost položky do cenové soustavy
D47: Ke každé položce soupisu prací se na samostatných řádcích může zobrazovat:
E48: Plný popis položky
E49: Poznámka k souboru cen a poznámka zadavatele
E50: Výkaz výměr
D51: Pokud je k řádku výkazu výměr evidovaný údaj ve sloupci Kód, jedná se o definovaný odkaz, na který se může odvolávat výkaz výměr z jiné položky.
C52: Metodika pro zpracování
C54: Jednotlivé sestavy jsou v souboru provázány. Editovatelné pole jsou zvýrazněny žlutým podbarvením, ostatní pole neslouží k editaci a nesmí být jakkoliv
C55: modifikovány.
C57: Uchazeč je pro podání nabídky povinen vyplnit žlutě podbarvená pole:
D58: Pole Uchazeč v sestavě Rekapitulace rekonstrukce - zde uchazeč vyplní svůj název (název subjektu)
D59: Pole IČ a DIČ v sestavě Rekapitulace rekonstrukce - zde uchazeč vyplní svoje IČ a DIČ
D60: Datum v sestavě Rekapitulace rekonstrukce - zde uchazeč vyplní datum vytvoření nabídky
D61: J.cena = jednotková cena v sestavě Soupis prací o maximálním počtu desetinných míst uvedených v poli
D62: - pokud sestavy soupisů prací obsahují pole J.cena, měla by být všechna tato pole vyplněna nenulovými kladnými číslicemi
D63: Poznámka - nepovinný údaj pro položku soupisu
D65: V případě, že sestavy soupisů prací neobsahují pole J.cena, potom ve všech soupisech prací obsahují pole:
D66: - J.materiál - jednotková cena materiálu
D67: - J.montáž - jednotková cena montáže
D68: Uchazeč v tomto případě by měl vyplnit všechna pole J.materiál a pole J.montáž nenulovými kladnými číslicemi. V případech, kdy položka
D69: neobsahuje žádný materiál je přípustné, aby pole J.materiál bylo vyplněno nulou. V případech, kdy položka neobsahuje žádnou montáž je přípustné,
D70: aby pole J.montáž bylo vyplněno nulou. Obě pole - J.materiál, J.Montáž u jedné položky by však neměly být vyplněny nulou.
C75: Rekapitulace rekonstrukce
C76: Název | F76: Povinný | H76: Popis | I76: Typ | J76: Max. počet
C77: atributu | F77: (A/N) | J77: znaků
C79: Kód | F79: A | H79: Kód rekonstrukce | I79: String | J79: 20
C80: Rekonstrukce | F80: A | H80: Název rekonstrukce | I80: String | J80: 120
C81: Místo | F81: N | H81: Místo rekonstrukce | I81: String | J81: 50
C82: Datum | F82: A | H82: Datum vykonaného exportu | I82: Date
C83: KSO | F83: N | H83: Klasifikace stavebního objektu | I83: String | J83: 15
C84: CC-CZ | F84: N | H84: Klasifikace stavbeních děl | I84: String | J84: 15
C85: CZ-CPV | F85: N | H85: Společný slovník pro veřejné zakázky | I85: String | J85: 20
C86: CZ-CPA | F86: N | H86: Klasifikace produkce podle činností | I86: String | J86: 20
C87: Zadavatel | F87: N | H87: Zadavatel zadaní | I87: String | J87: 50
C88: IČ | F88: N | H88: IČ zadavatele zadaní | I88: String | J88: 20
C89: DIČ | F89: N | H89: DIČ zadavatele zadaní | I89: String | J89: 20
C90: Uchazeč | F90: N | H90: Uchazeč veřejné zakázky | I90: String | J90: 50
C91: Projektant | F91: N | H91: Projektant | I91: String | J91: 50
C92: Poznámka | F92: N | H92: Poznámka k zadání | I92: String | J92: 255
C93: Sazba DPH | F93: A | H93: Rekapitulace sazeb DPH u položek soupisů | I93: eGSazbaDph
C94: Základna DPH | F94: A | H94: Základna DPH určena součtem celkové ceny z položek soupisů | I94: Double
C95: Hodnota DPH | F95: A | H95: Hodnota DPH | I95: Double
C96: Cena bez DPH | F96: A | H96: Celková cena bez DPH za celou rekonstrukci. Sčítává se ze všech listů. | I96: Double
C97: Cena s DPH | F97: A | H97: Celková cena s DPH za celou rekonstrukci | I97: Double
C102: Rekapitulace objektů rekonstrukce a soupisů prací
C103: Název | F103: Povinný | H103: Popis | I103: Typ | J103: Max. počet
C104: atributu | F104: (A/N) | J104: znaků
C106: Kód | F106: A | H106: Přebírá se z Rekapitulace rekonstrukce | I106: String | J106: 20
C107: Rekonstrukce | F107: A | H107: Přebírá se z Rekapitulace rekonstrukce | I107: String | J107: 120
C108: Místo | F108: N | H108: Přebírá se z Rekapitulace rekonstrukce | I108: String | J108: 50
C109: Datum | F109: A | H109: Přebírá se z Rekapitulace rekonstrukce | I109: Date
C110: Zadavatel | F110: N | H110: Přebírá se z Rekapitulace rekonstrukce | I110: String | J110: 50
C111: Projektant | F111: N | H111: Přebírá se z Rekapitulace rekonstrukce | I111: String | J111: 50
C112: Uchazeč | F112: N | H112: Přebírá se z Rekapitulace rekonstrukce | I112: String | J112: 50
C113: Kód | F113: A | H113: Kód objektu | I113: String | J113: 20
C114: Objektu, Soupis prací | F114: A | H114: Název objektu | I114: String | J114: 120
C115: Cena bez DPH | F115: A | H115: Cena bez DPH za daný objekt | I115: Double
C116: Cena s DPH | F116: A | H116: Cena spolu s DPH za daný objekt | I116: Double
C117: Typ | F117: A | H117: Typ zakázky | I117: eGTypZakazky
C122: Krycí list soupisu
C123: Název | F123: Povinný | H123: Popis | I123: Typ | J123: Max. počet
C124: atributu | F124: (A/N) | J124: znaků
C126: Rekonstrukce | F126: A | H126: Přebírá se z Rekapitulace rekonstrukce | I126: String | J126: 120
C127: Objekt | F127: A | H127: Kód a název objektu | I127: String | J127: 20 + 120
C128: Soupis | F128: A | H128: Kód a název soupisu | I128: String | J128: 20 + 120
...
