{"text_format":"1","workbook":"xlsx","n_sheets":4,"sheets":["OB4 - Výklopna","OB4 - harmonogram","časový harmonogram","finanční plnění - harmonogram"],"not_rendered":{"charts":0,"images":1,"macros":1,"external_links":0,"defined_names":0,"comments":0,"pivot_tables":0},"unopened":[],"bounds":{"document_bytes":16777216,"sheet_cells":100000,"rows_first":2000,"rows_last":500,"rows_between":2000,"halvings":0,"cell_chars":16384,"cell_head_chars":4096},"cells_cut":0,"cells_raw":0,"read":"whole","date_system":"1900"}

{"sheet":"OB4 - Výklopna","index":0,"n_rows":42,"n_cols":8,"rows_kept":42,"cut":false,"hidden":false,"merged":[[1,0,1,7],[35,0,38,7],[32,0,32,1],[3,7,4,7],[3,0,3,1],[9,0,17,0],[18,0,25,0]]}
[]
["Příloha K zadávací dokumentace - cenová nabídka a časový harmonogram"]
[]
["Nabídková cena na dílo OB 4",null,"Množství","Jednotková cena","Cena dodávka ","Cena montáže ","Cena položky","Poznámka"]
["Milníky","Položka","(KS, m, m2)","(EUR / ks bez DPH)","(EUR bez DPH)","(EUR bez DPH)","(EUR bez DPH)"]
["Závazné technické parametry pro OB 6",null,"-","-",null,"-",{"$f":"E6","v":0}]
["Závazné technické parametry pro ostatní OB",null,"-","-",null,"-",0]
["Prováděcí dokumentace pro OB 4",null,"-","-",null,"-",{"$f":"E8","v":0}]
[null,"Mezisoučet","-","-",{"$f":"SUM(E6:E8)","v":0},null,{"$f":"SUM(G6:G8)","v":0}]
["VÝKLOPNA - Technická část (dle příloh A1-13)","Stacionární vykládací zařízení",null,null,{"$f":"C10*D10","v":0},null,{"$f":"E10+F10","v":0}]
[null,"Vzduchotechnická filtrační jednotka dle DOPV",null,null,{"$f":"C11*D11","v":0},null,{"$f":"E11+F11","v":0}]
[null,"Kabina operátora s klimatizací a vytápěním",null,null,{"$f":"C12*D12","v":0},null,{"$f":"E12+F12","v":0}]
[null,"Kontejner s elektroinstalací",null,null,0,null,0]
[null,"Kontejner s hydraulikou",null,null,{"$f":"C14*D14","v":0},null,{"$f":"E14+F14","v":0}]
[null,"Technologická část elektro",null,null,0,null,0]
[null,"Technologická část ASŘTP",null,null,0,null,0]
[null,"Ostatní",null,null,{"$f":"C17*D17","v":0},null,0]
[null,"Mezisoučet","-","-",{"$f":"SUM(E10:E17)","v":0},{"$f":"SUM(F10:F17)","v":0},{"$f":"SUM(G10:G17)","v":0}]
["VÝKLOPNA - A4.4 Stavební část","Nosná konstrukce pro technologii, zastřešení a kotvení do základů. ",null,null,0,null,0]
[null,"Opláštění vykládky a velínu",null,null,0,null,0]
[null,"Střešní plášť včetně odvodnění střechy",null,null,{"$f":"C21*D21","v":0},null,{"$f":"E21+F21","v":0}]
[null,"Vnitřní nenosné stavební konstrukce",null,null,0,null,0]
[null,"Vnitřní rozvody stavebních instalací TZB (zdravotní technika, UTCH, VZT, elektro).",null,null,0,null,0]
[null,"Technologické ocelové konstrukce, přístupy, lávky, schodiště",null,null,0,null,0]
[null,"Ostatní",null,null,0,null,0]
[null,"Mezisoučet","-","-",{"$f":"SUM(E19:E25)","v":0},0,{"$f":"SUM(G19:G25)","v":0}]
["Školení zaměstnanců provozu",null,"-","-",null,"-",{"$f":"E27","v":0}]
["Příprava ke komplexnímu vyzkoušení",null,"-","-",null,"-",{"$f":"E28","v":0}]
["Komplexní vyzkoušení",null,"-","-",null,"-",{"$f":"E29","v":0}]
["Zkušební provoz",null,"-","-",null,"-",0]
["Garanční test A",null,"-","-",null,"-",0]
["Předběžné převzetí díla PAC",null,"-","-",null,"-",0]
["Celkem *",null,null,null,{"$f":"E9+E18+E26+E27+E29+E30+E31+E32","v":0},null,{"$f":"G9+G18+G26+G27+G29+G30+G31+G32","v":0}]
[]
["Poznámka:"]
["* Položka \"Celkem\" je vždy uvažována jako kompletní za funční celek a zahrnuje ceny veškerých plnění poskytnutých zhotovitelem na základě smlouvy, popřípadě těch, které mají být podle smlouvy poskytnuty k dosažení účelu smlouvy, aniž by taková plnění byla výslovně zde nebo ve smlouvě uvedena. Položky neuvedené, ale potřebné pro funkční celek musí být součástí položky \"Ostatní\"."]
[]
[]
[]
[]
["Zhotovitel vyplňuje ve sloupcích \"C\", \"D\", \"E\" a \"F\" pouze nepodbarvené buňky"]
["*časový harmonogram je nutné vyplnit až po dokončení cenových tabulek"]

{"sheet":"OB4 - harmonogram","index":1,"n_rows":55,"n_cols":63,"rows_kept":55,"cut":false,"hidden":false,"merged":[[4,8,4,62],[4,0,5,0],[4,1,5,1],[4,2,5,2],[4,3,5,3],[4,4,5,4],[4,5,5,5],[4,7,5,7],[28,6,29,6],[9,6,10,6],[11,6,12,6],[13,6,14,6],[16,6,17,6],[18,6,19,6],[22,6,23,6],[24,6,25,6],[26,6,27,6],[28,4,29,4],[26,2,27,2],[28,2,29,2],[30,4,31,4],[9,4,10,4],[11,4,12,4],[13,4,14,4],[16,4,17,4],[18,4,19,4],[9,3,10,3],[11,3,12,3],[13,3,14,3],[16,3,17,3],[22,4,23,4],[24,4,25,4],[26,4,27,4],[30,2,31,2],[18,3,19,3],[22,3,23,3],[24,3,25,3],[16,1,17,1],[16,2,17,2],[18,2,19,2],[18,1,19,1],[22,2,23,2],[26,1,27,1],[28,1,29,1],[26,3,27,3],[28,3,29,3],[32,6,33,6],[11,1,12,1],[13,1,14,1],[9,2,10,2],[9,1,10,1],[11,2,12,2],[13,2,14,2],[9,5,10,5],[11,5,12,5],[13,5,14,5],[16,5,17,5],[18,5,19,5],[30,1,31,1],[22,1,23,1],[24,1,25,1],[24,2,25,2],[36,1,36,7],[32,1,33,1],[36,8,36,62],[16,0,19,0],[32,2,33,2],[24,5,25,5],[22,5,23,5],[26,5,27,5],[28,5,29,5],[30,5,31,5],[32,5,33,5],[35,1,35,7],[30,3,31,3],[32,3,33,3],[32,4,33,4],[30,6,31,6]]}
[]
[null,"Příloha K zadávací dokumentace - cenová nabídka a časový harmonogram"]
[]
[]
["Technologické a stavební celky","Milníky","Komentář","Začátek nejdříve (měsíc)","Konec nejpozději (měsíc)","Cena za položku bez DPH (EUR)",null,"Termín / cena bez DPH (EUR)","Období"]
[null,null,null,null,null,null,null,null,"2024-06-01","2024-07-02","2024-08-02","2024-09-02","2024-10-03","2024-11-03","2024-12-04","2025-01-04","2025-02-04","2025-03-07","2025-04-07","2025-05-08","2025-06-08","2025-07-09","2025-08-09","2025-09-09","2025-10-10","2025-11-10","2025-12-11","2026-01-11","2026-02-11","2026-03-14","2026-04-14","2026-05-15","2026-06-15","2026-07-16","2026-08-16","2026-09-16","2026-10-17","2026-11-17","2026-12-18","2027-01-18","2027-02-18","2027-03-21","2027-04-21","2027-05-22","2027-06-22","2027-07-23","2027-08-23","2027-09-23","2027-10-24","2027-11-24","2027-12-25","2028-01-25","2028-02-25","2028-03-27","2028-04-27","2028-05-28","2028-06-28","2028-07-29","2028-08-29","2028-09-29","2028-10-30","2028-11-30","2028-12-31"]
[1,1,0,null,null,null,null,null,1,2,3,4,5,6,7,8,9,10,11,12,13,14,15,16,17,18,19,20,21,22,23,24,25,26,27,28,29,30,31,32,33,34,35,36,37,38,39,40,41,42,43,44,45,46,47,48,49,50,51,52,53,54,55]
[null,"Podpis smlouvy",null,null,null,null,null,"termín"]
[null,"Vstupní technická jednání ",null,null,null,null,null,"termín"]
[null,"Závazné technické parametry pro OB 6 (Stavba) ","např. rozměry násypky",1,4,{"$f":"SUM(I11:BK11)","v":0},null,"termín"]
[null,null,null,null,null,null,null,"cena"]
[null,"Závazné technické parametry pro ostatní dodavatele technologických celků",null,1,4,{"$f":"SUM(I13:BK13)","v":0},null,"termín"]
[null,null,null,null,null,null,null,"cena"]
[null,"Odsouhlasená prováděcí dokumentace OB4 - Výklopna",null,1,12,{"$f":"SUM(I15:BK15)","v":0},null,"termín"]
[null,null,null,null,null,null,null,"cena"]
[null,"Předání a převzetí staveniště pro OB4",null,1,12,null,null,"termín"]
["VÝKLOPNA - vnější součást objektu SO 101","Technologická část (A1-A13)",null,12,24,{"$f":"SUM(I18:BK18)","v":0},null,"termín"]
[null,null,null,null,null,null,null,"cena"]
[null,"Stavební část - (A4.4) ",null,12,24,{"$f":"SUM(I20:BK20)","v":0},null,"termín"]
[null,null,null,null,null,null,null,"cena"]
[null,"OB4 - dokončení stavebních prací","včetně vrácení zařízení staveniště",1,31,null,null,"termín"]
[null,"OB4 - ukončení montážních prací","včetně vrácení zařízení staveniště",1,31,null,null,"termín"]
[null,"OB4 - školení zaměstnanců provozu",null,1,31,{"$f":"SUM(I24:BK24)","v":0},null,"termín"]
[null,null,null,null,null,null,null,"cena"]
[null,"OB4 - příprava ke kompexnímu vyzkoušení",null,28,31,{"$f":"SUM(I26:BK26)","v":0},null,"termín"]
[null,null,null,null,null,null,null,"cena"]
[null,"OB4 - komplexní vyzkoušení",null,28,31,{"$f":"SUM(I28:BK28)","v":0},null,"termín"]
[null,null,null,null,null,null,null,"cena"]
[null,"OB4 - zkušební provoz",null,28,31,{"$f":"SUM(I30:BK30)","v":0},null,"termín"]
[null,null,null,null,null,null,null,"cena"]
[null,"OB4 - garanční test A",null,28,31,{"$f":"SUM(I32:BK32)","v":0},null,"termín"]
[null,null,null,null,null,null,null,"cena"]
[null,"OB4 - předběžné převzetí díla PAC",null,28,32,{"$f":"SUM(I34:BK34)","v":0},null,"termín"]
[null,null,null,null,null,null,null,"cena"]
[]
[null,"Dílčí ceny po měsících  ",null,null,null,null,null,null,{"$f":"SUM(I8:I34)","v":0},{"$f":"SUM(J8:J34)","v":0},0,0,0,0,0,0,0,0,0,0,0,0,0,0,0,0,0,0,0,0,0,0,0,0,0,0,0,0,0,0,0,0,0,0,0,0,0,0,0,0,0,0,0,0,0,0,0,0,0,0,0,0,0]
[null,"Cena celkem",null,null,null,null,null,null,{"$f":"SUM(I36:BK36)","v":0}]
[]
[null,"Poznámka:"]
[null,"Zhotovitel vyplňuje pouze číselné hodnoty \"předpoklad začátku (týden)\" a \"předpoklad ukončení (týden)\" v oknech, která se otevřou po rozkliknutí \"vyplnit\"",null,null,null,null,null,null,null,null,"Podpis smlouvy"]
[null,null,null,null,null,null,null,null,null,null,"Vstupní technická jednání "]
[null,null,null,null,null,null,null,null,null,null,"Závazné technické parametry pro OB 6 (Stavba) "]
[null,null,null,null,null,null,null,null,null,null,"Závazné technické parametry pro ostatní dodavatele technologických celků"]
[null,null,null,null,null,null,null,null,null,null,"Odsouhlasená prováděcí dokumentace OB4 - Výklopna"]
[null,null,null,null,null,null,null,null,null,null,"Předání a převzetí staveniště pro OB4"]
[null,null,null,null,null,null,null,null,null,null,"Technologická část (A1-A13)"]
[null,null,null,null,null,null,null,null,null,null,"Stavební část - (A4.4) "]
[null,null,null,null,null,null,null,null,null,null,"OB4 - dokončení stavebních prací"]
[null,null,null,null,null,null,null,null,null,null,"OB4 - ukončení montážních prací"]
[null,null,null,null,null,null,null,null,null,null,"OB4 - školení zaměstnanců provozu"]
[null,null,null,null,null,null,null,null,null,null,"OB4 -příprava ke kompexnímu vyzkoušení"]
[null,null,null,null,null,null,null,null,null,null,"OB4 - komplexní vyzkoušení"]
[null,"Údaje o cenách se do tabulky přenášejí z předcházejících listů",null,null,null,null,null,null,null,null,"OB4 - zkušební provoz"]
[null,null,null,null,null,null,null,null,null,null,"OB4 - garanční test A"]
[null,null,null,null,null,null,null,null,null,null,"OB4 - předběžné převzetí díla PAC"]

{"sheet":"časový harmonogram","index":2,"n_rows":51,"n_cols":58,"rows_kept":51,"cut":false,"hidden":false,"merged":[[3,0,4,0],[3,3,3,57],[3,1,4,1],[3,2,4,2],[12,0,13,0]]}
[]
[null,"Příloha K zadávací dokumentace - cenová nabídka a časový harmonogram"]
[]
["Technologické a stavební celky","Milníky","komentář","Období"]
[null,null,null,"2024-06-01","2024-07-02","2024-08-02","2024-09-02","2024-10-03","2024-11-03","2024-12-04","2025-01-04","2025-02-04","2025-03-07","2025-04-07","2025-05-08","2025-06-08","2025-07-09","2025-08-09","2025-09-09","2025-10-10","2025-11-10","2025-12-11","2026-01-11","2026-02-11","2026-03-14","2026-04-14","2026-05-15","2026-06-15","2026-07-16","2026-08-16","2026-09-16","2026-10-17","2026-11-17","2026-12-18","2027-01-18","2027-02-18","2027-03-21","2027-04-21","2027-05-22","2027-06-22","2027-07-23","2027-08-23","2027-09-23","2027-10-24","2027-11-24","2027-12-25","2028-01-25","2028-02-25","2028-03-27","2028-04-27","2028-05-28","2028-06-28","2028-07-29","2028-08-29","2028-09-29","2028-10-30","2028-11-30","2028-12-31"]
[null,1,1,1,2,3,4,5,6,7,8,9,10,11,12,13,14,15,16,17,18,19,20,21,22,23,24,25,26,27,28,29,30,31,32,33,34,35,36,37,38,39,40,41,42,43,44,45,46,47,48,49,50,51,52,53,54,55]
[null,"Podpis smlouvy",null,{"$f":"'OB4 - harmonogram'!I8","v":0},{"$f":"'OB4 - harmonogram'!J8","v":0},{"$f":"'OB4 - harmonogram'!K8","v":0},{"$f":"'OB4 - harmonogram'!L8","v":0},{"$f":"'OB4 - harmonogram'!M8","v":0},{"$f":"'OB4 - harmonogram'!N8","v":0},{"$f":"'OB4 - harmonogram'!O8","v":0},{"$f":"'OB4 - harmonogram'!P8","v":0},{"$f":"'OB4 - harmonogram'!Q8","v":0},{"$f":"'OB4 - harmonogram'!R8","v":0},{"$f":"'OB4 - harmonogram'!S8","v":0},{"$f":"'OB4 - harmonogram'!T8","v":0},{"$f":"'OB4 - harmonogram'!U8","v":0},{"$f":"'OB4 - harmonogram'!V8","v":0},{"$f":"'OB4 - harmonogram'!W8","v":0},{"$f":"'OB4 - harmonogram'!X8","v":0},{"$f":"'OB4 - harmonogram'!Y8","v":0},{"$f":"'OB4 - harmonogram'!Z8","v":0},{"$f":"'OB4 - harmonogram'!AA8","v":0},{"$f":"'OB4 - harmonogram'!AB8","v":0},{"$f":"'OB4 - harmonogram'!AC8","v":0},{"$f":"'OB4 - harmonogram'!AD8","v":0},{"$f":"'OB4 - harmonogram'!AE8","v":0},{"$f":"'OB4 - harmonogram'!AF8","v":0},{"$f":"'OB4 - harmonogram'!AG8","v":0},{"$f":"'OB4 - harmonogram'!AH8","v":0},{"$f":"'OB4 - harmonogram'!AI8","v":0},{"$f":"'OB4 - harmonogram'!AJ8","v":0},{"$f":"'OB4 - harmonogram'!AK8","v":0},{"$f":"'OB4 - harmonogram'!AL8","v":0},{"$f":"'OB4 - harmonogram'!AM8","v":0},{"$f":"'OB4 - harmonogram'!AN8","v":0},{"$f":"'OB4 - harmonogram'!AO8","v":0},{"$f":"'OB4 - harmonogram'!AP8","v":0},{"$f":"'OB4 - harmonogram'!AQ8","v":0},{"$f":"'OB4 - harmonogram'!AR8","v":0},{"$f":"'OB4 - harmonogram'!AS8","v":0},{"$f":"'OB4 - harmonogram'!AT8","v":0},{"$f":"'OB4 - harmonogram'!AU8","v":0},{"$f":"'OB4 - harmonogram'!AV8","v":0},{"$f":"'OB4 - harmonogram'!AW8","v":0},{"$f":"'OB4 - harmonogram'!AX8","v":0},{"$f":"'OB4 - harmonogram'!AY8","v":0},{"$f":"'OB4 - harmonogram'!AZ8","v":0},{"$f":"'OB4 - harmonogram'!BA8","v":0},{"$f":"'OB4 - harmonogram'!BB8","v":0},{"$f":"'OB4 - harmonogram'!BC8","v":0},{"$f":"'OB4 - harmonogram'!BD8","v":0},{"$f":"'OB4 - harmonogram'!BE8","v":0},{"$f":"'OB4 - harmonogram'!BF8","v":0},{"$f":"'OB4 - harmonogram'!BG8","v":0},{"$f":"'OB4 - harmonogram'!BH8","v":0},{"$f":"'OB4 - harmonogram'!BI8","v":0},{"$f":"'OB4 - harmonogram'!BJ8","v":0},{"$f":"'OB4 - harmonogram'!BK8","v":0}]
[null,"OB4 - vstupní technická jednání ",null,{"$f":"'OB4 - harmonogram'!I9","v":0},{"$f":"'OB4 - harmonogram'!J9","v":0},{"$f":"'OB4 - harmonogram'!K9","v":0},{"$f":"'OB4 - harmonogram'!L9","v":0},{"$f":"'OB4 - harmonogram'!M9","v":0},{"$f":"'OB4 - harmonogram'!N9","v":0},{"$f":"'OB4 - harmonogram'!O9","v":0},{"$f":"'OB4 - harmonogram'!P9","v":0},{"$f":"'OB4 - harmonogram'!Q9","v":0},{"$f":"'OB4 - harmonogram'!R9","v":0},{"$f":"'OB4 - harmonogram'!S9","v":0},{"$f":"'OB4 - harmonogram'!T9","v":0},{"$f":"'OB4 - harmonogram'!U9","v":0},{"$f":"'OB4 - harmonogram'!V9","v":0},{"$f":"'OB4 - harmonogram'!W9","v":0},{"$f":"'OB4 - harmonogram'!X9","v":0},{"$f":"'OB4 - harmonogram'!Y9","v":0},{"$f":"'OB4 - harmonogram'!Z9","v":0},{"$f":"'OB4 - harmonogram'!AA9","v":0},{"$f":"'OB4 - harmonogram'!AB9","v":0},{"$f":"'OB4 - harmonogram'!AC9","v":0},{"$f":"'OB4 - harmonogram'!AD9","v":0},{"$f":"'OB4 - harmonogram'!AE9","v":0},{"$f":"'OB4 - harmonogram'!AF9","v":0},{"$f":"'OB4 - harmonogram'!AG9","v":0},{"$f":"'OB4 - harmonogram'!AH9","v":0},{"$f":"'OB4 - harmonogram'!AI9","v":0},{"$f":"'OB4 - harmonogram'!AJ9","v":0},{"$f":"'OB4 - harmonogram'!AK9","v":0},{"$f":"'OB4 - harmonogram'!AL9","v":0},{"$f":"'OB4 - harmonogram'!AM9","v":0},{"$f":"'OB4 - harmonogram'!AN9","v":0},{"$f":"'OB4 - harmonogram'!AO9","v":0},{"$f":"'OB4 - harmonogram'!AP9","v":0},{"$f":"'OB4 - harmonogram'!AQ9","v":0},{"$f":"'OB4 - harmonogram'!AR9","v":0},{"$f":"'OB4 - harmonogram'!AS9","v":0},{"$f":"'OB4 - harmonogram'!AT9","v":0},{"$f":"'OB4 - harmonogram'!AU9","v":0},{"$f":"'OB4 - harmonogram'!AV9","v":0},{"$f":"'OB4 - harmonogram'!AW9","v":0},{"$f":"'OB4 - harmonogram'!AX9","v":0},{"$f":"'OB4 - harmonogram'!AY9","v":0},{"$f":"'OB4 - harmonogram'!AZ9","v":0},{"$f":"'OB4 - harmonogram'!BA9","v":0},{"$f":"'OB4 - harmonogram'!BB9","v":0},{"$f":"'OB4 - harmonogram'!BC9","v":0},{"$f":"'OB4 - harmonogram'!BD9","v":0},{"$f":"'OB4 - harmonogram'!BE9","v":0},{"$f":"'OB4 - harmonogram'!BF9","v":0},{"$f":"'OB4 - harmonogram'!BG9","v":0},{"$f":"'OB4 - harmonogram'!BH9","v":0},{"$f":"'OB4 - harmonogram'!BI9","v":0},{"$f":"'OB4 - harmonogram'!BJ9","v":0},{"$f":"'OB4 - harmonogram'!BK9","v":0}]
[null,"OB4 - závazné technické parametry pro OB 6 (Stavba) ",null,{"$f":"'OB4 - harmonogram'!I10","v":0},{"$f":"'OB4 - harmonogram'!J10","v":0},{"$f":"'OB4 - harmonogram'!K10","v":0},{"$f":"'OB4 - harmonogram'!L10","v":0},{"$f":"'OB4 - harmonogram'!M10","v":0},{"$f":"'OB4 - harmonogram'!N10","v":0},{"$f":"'OB4 - harmonogram'!O10","v":0},{"$f":"'OB4 - harmonogram'!P10","v":0},{"$f":"'OB4 - harmonogram'!Q10","v":0},{"$f":"'OB4 - harmonogram'!R10","v":0},{"$f":"'OB4 - harmonogram'!S10","v":0},{"$f":"'OB4 - harmonogram'!T10","v":0},{"$f":"'OB4 - harmonogram'!U10","v":0},{"$f":"'OB4 - harmonogram'!V10","v":0},{"$f":"'OB4 - harmonogram'!W10","v":0},{"$f":"'OB4 - harmonogram'!X10","v":0},{"$f":"'OB4 - harmonogram'!Y10","v":0},{"$f":"'OB4 - harmonogram'!Z10","v":0},{"$f":"'OB4 - harmonogram'!AA10","v":0},{"$f":"'OB4 - harmonogram'!AB10","v":0},{"$f":"'OB4 - harmonogram'!AC10","v":0},{"$f":"'OB4 - harmonogram'!AD10","v":0},{"$f":"'OB4 - harmonogram'!AE10","v":0},{"$f":"'OB4 - harmonogram'!AF10","v":0},{"$f":"'OB4 - harmonogram'!AG10","v":0},{"$f":"'OB4 - harmonogram'!AH10","v":0},{"$f":"'OB4 - harmonogram'!AI10","v":0},{"$f":"'OB4 - harmonogram'!AJ10","v":0},{"$f":"'OB4 - harmonogram'!AK10","v":0},{"$f":"'OB4 - harmonogram'!AL10","v":0},{"$f":"'OB4 - harmonogram'!AM10","v":0},{"$f":"'OB4 - harmonogram'!AN10","v":0},{"$f":"'OB4 - harmonogram'!AO10","v":0},{"$f":"'OB4 - harmonogram'!AP10","v":0},{"$f":"'OB4 - harmonogram'!AQ10","v":0},{"$f":"'OB4 - harmonogram'!AR10","v":0},{"$f":"'OB4 - harmonogram'!AS10","v":0},{"$f":"'OB4 - harmonogram'!AT10","v":0},{"$f":"'OB4 - harmonogram'!AU10","v":0},{"$f":"'OB4 - harmonogram'!AV10","v":0},{"$f":"'OB4 - harmonogram'!AW10","v":0},{"$f":"'OB4 - harmonogram'!AX10","v":0},{"$f":"'OB4 - harmonogram'!AY10","v":0},{"$f":"'OB4 - harmonogram'!AZ10","v":0},{"$f":"'OB4 - harmonogram'!BA10","v":0},{"$f":"'OB4 - harmonogram'!BB10","v":0},{"$f":"'OB4 - harmonogram'!BC10","v":0},{"$f":"'OB4 - harmonogram'!BD10","v":0},{"$f":"'OB4 - harmonogram'!BE10","v":0},{"$f":"'OB4 - harmonogram'!BF10","v":0},{"$f":"'OB4 - harmonogram'!BG10","v":0},{"$f":"'OB4 - harmonogram'!BH10","v":0},{"$f":"'OB4 - harmonogram'!BI10","v":0},{"$f":"'OB4 - harmonogram'!BJ10","v":0},{"$f":"'OB4 - harmonogram'!BK10","v":0}]
[null,"OB4 - Závazné technické parametry pro ostatní OB",null,{"$f":"'OB4 - harmonogram'!I12","v":0},{"$f":"'OB4 - harmonogram'!J12","v":0},{"$f":"'OB4 - harmonogram'!K12","v":0},{"$f":"'OB4 - harmonogram'!L12","v":0},{"$f":"'OB4 - harmonogram'!M12","v":0},{"$f":"'OB4 - harmonogram'!N12","v":0},{"$f":"'OB4 - harmonogram'!O12","v":0},{"$f":"'OB4 - harmonogram'!P12","v":0},{"$f":"'OB4 - harmonogram'!Q12","v":0},{"$f":"'OB4 - harmonogram'!R12","v":0},{"$f":"'OB4 - harmonogram'!S12","v":0},{"$f":"'OB4 - harmonogram'!T12","v":0},{"$f":"'OB4 - harmonogram'!U12","v":0},{"$f":"'OB4 - harmonogram'!V12","v":0},{"$f":"'OB4 - harmonogram'!W12","v":0},{"$f":"'OB4 - harmonogram'!X12","v":0},{"$f":"'OB4 - harmonogram'!Y12","v":0},{"$f":"'OB4 - harmonogram'!Z12","v":0},{"$f":"'OB4 - harmonogram'!AA12","v":0},{"$f":"'OB4 - harmonogram'!AB12","v":0},{"$f":"'OB4 - harmonogram'!AC12","v":0},{"$f":"'OB4 - harmonogram'!AD12","v":0},{"$f":"'OB4 - harmonogram'!AE12","v":0},{"$f":"'OB4 - harmonogram'!AF12","v":0},{"$f":"'OB4 - harmonogram'!AG12","v":0},{"$f":"'OB4 - harmonogram'!AH12","v":0},{"$f":"'OB4 - harmonogram'!AI12","v":0},{"$f":"'OB4 - harmonogram'!AJ12","v":0},{"$f":"'OB4 - harmonogram'!AK12","v":0},{"$f":"'OB4 - harmonogram'!AL12","v":0},{"$f":"'OB4 - harmonogram'!AM12","v":0},{"$f":"'OB4 - harmonogram'!AN12","v":0},{"$f":"'OB4 - harmonogram'!AO12","v":0},{"$f":"'OB4 - harmonogram'!AP12","v":0},{"$f":"'OB4 - harmonogram'!AQ12","v":0},{"$f":"'OB4 - harmonogram'!AR12","v":0},{"$f":"'OB4 - harmonogram'!AS12","v":0},{"$f":"'OB4 - harmonogram'!AT12","v":0},{"$f":"'OB4 - harmonogram'!AU12","v":0},{"$f":"'OB4 - harmonogram'!AV12","v":0},{"$f":"'OB4 - harmonogram'!AW12","v":0},{"$f":"'OB4 - harmonogram'!AX12","v":0},{"$f":"'OB4 - harmonogram'!AY12","v":0},{"$f":"'OB4 - harmonogram'!AZ12","v":0},{"$f":"'OB4 - harmonogram'!BA12","v":0},{"$f":"'OB4 - harmonogram'!BB12","v":0},{"$f":"'OB4 - harmonogram'!BC12","v":0},{"$f":"'OB4 - harmonogram'!BD12","v":0},{"$f":"'OB4 - harmonogram'!BE12","v":0},{"$f":"'OB4 - harmonogram'!BF12","v":0},{"$f":"'OB4 - harmonogram'!BG12","v":0},{"$f":"'OB4 - harmonogram'!BH12","v":0},{"$f":"'OB4 - harmonogram'!BI12","v":0},{"$f":"'OB4 - harmonogram'!BJ12","v":0},{"$f":"'OB4 - harmonogram'!BK12","v":0}]
[null,"OB4 - odsouhlasená prováděcí dokumentace pro OB4",null,{"$f":"'OB4 - harmonogram'!I14","v":0},{"$f":"'OB4 - harmonogram'!J14","v":0},{"$f":"'OB4 - harmonogram'!K14","v":0},{"$f":"'OB4 - harmonogram'!L14","v":0},{"$f":"'OB4 - harmonogram'!M14","v":0},{"$f":"'OB4 - harmonogram'!N14","v":0},{"$f":"'OB4 - harmonogram'!O14","v":0},{"$f":"'OB4 - harmonogram'!P14","v":0},{"$f":"'OB4 - harmonogram'!Q14","v":0},{"$f":"'OB4 - harmonogram'!R14","v":0},{"$f":"'OB4 - harmonogram'!S14","v":0},{"$f":"'OB4 - harmonogram'!T14","v":0},{"$f":"'OB4 - harmonogram'!U14","v":0},{"$f":"'OB4 - harmonogram'!V14","v":0},{"$f":"'OB4 - harmonogram'!W14","v":0},{"$f":"'OB4 - harmonogram'!X14","v":0},{"$f":"'OB4 - harmonogram'!Y14","v":0},{"$f":"'OB4 - harmonogram'!Z14","v":0},{"$f":"'OB4 - harmonogram'!AA14","v":0},{"$f":"'OB4 - harmonogram'!AB14","v":0},{"$f":"'OB4 - harmonogram'!AC14","v":0},{"$f":"'OB4 - harmonogram'!AD14","v":0},{"$f":"'OB4 - harmonogram'!AE14","v":0},{"$f":"'OB4 - harmonogram'!AF14","v":0},{"$f":"'OB4 - harmonogram'!AG14","v":0},{"$f":"'OB4 - harmonogram'!AH14","v":0},{"$f":"'OB4 - harmonogram'!AI14","v":0},{"$f":"'OB4 - harmonogram'!AJ14","v":0},{"$f":"'OB4 - harmonogram'!AK14","v":0},{"$f":"'OB4 - harmonogram'!AL14","v":0},{"$f":"'OB4 - harmonogram'!AM14","v":0},{"$f":"'OB4 - harmonogram'!AN14","v":0},{"$f":"'OB4 - harmonogram'!AO14","v":0},{"$f":"'OB4 - harmonogram'!AP14","v":0},{"$f":"'OB4 - harmonogram'!AQ14","v":0},{"$f":"'OB4 - harmonogram'!AR14","v":0},{"$f":"'OB4 - harmonogram'!AS14","v":0},{"$f":"'OB4 - harmonogram'!AT14","v":0},{"$f":"'OB4 - harmonogram'!AU14","v":0},{"$f":"'OB4 - harmonogram'!AV14","v":0},{"$f":"'OB4 - harmonogram'!AW14","v":0},{"$f":"'OB4 - harmonogram'!AX14","v":0},{"$f":"'OB4 - harmonogram'!AY14","v":0},{"$f":"'OB4 - harmonogram'!AZ14","v":0},{"$f":"'OB4 - harmonogram'!BA14","v":0},{"$f":"'OB4 - harmonogram'!BB14","v":0},{"$f":"'OB4 - harmonogram'!BC14","v":0},{"$f":"'OB4 - harmonogram'!BD14","v":0},{"$f":"'OB4 - harmonogram'!BE14","v":0},{"$f":"'OB4 - harmonogram'!BF14","v":0},{"$f":"'OB4 - harmonogram'!BG14","v":0},{"$f":"'OB4 - harmonogram'!BH14","v":0},{"$f":"'OB4 - harmonogram'!BI14","v":0},{"$f":"'OB4 - harmonogram'!BJ14","v":0},{"$f":"'OB4 - harmonogram'!BK14","v":0}]
[null,"OB4 - předání a převzetí staveniště",null,{"$f":"'OB4 - harmonogram'!I16","v":0},{"$f":"'OB4 - harmonogram'!J16","v":0},{"$f":"'OB4 - harmonogram'!K16","v":0},{"$f":"'OB4 - harmonogram'!L16","v":0},{"$f":"'OB4 - harmonogram'!M16","v":0},{"$f":"'OB4 - harmonogram'!N16","v":0},{"$f":"'OB4 - harmonogram'!O16","v":0},{"$f":"'OB4 - harmonogram'!P16","v":0},{"$f":"'OB4 - harmonogram'!Q16","v":0},{"$f":"'OB4 - harmonogram'!R16","v":0},{"$f":"'OB4 - harmonogram'!S16","v":0},{"$f":"'OB4 - harmonogram'!T16","v":0},{"$f":"'OB4 - harmonogram'!U16","v":0},{"$f":"'OB4 - harmonogram'!V16","v":0},{"$f":"'OB4 - harmonogram'!W16","v":0},{"$f":"'OB4 - harmonogram'!X16","v":0},{"$f":"'OB4 - harmonogram'!Y16","v":0},{"$f":"'OB4 - harmonogram'!Z16","v":0},{"$f":"'OB4 - harmonogram'!AA16","v":0},{"$f":"'OB4 - harmonogram'!AB16","v":0},{"$f":"'OB4 - harmonogram'!AC16","v":0},{"$f":"'OB4 - harmonogram'!AD16","v":0},{"$f":"'OB4 - harmonogram'!AE16","v":0},{"$f":"'OB4 - harmonogram'!AF16","v":0},{"$f":"'OB4 - harmonogram'!AG16","v":0},{"$f":"'OB4 - harmonogram'!AH16","v":0},{"$f":"'OB4 - harmonogram'!AI16","v":0},{"$f":"'OB4 - harmonogram'!AJ16","v":0},{"$f":"'OB4 - harmonogram'!AK16","v":0},{"$f":"'OB4 - harmonogram'!AL16","v":0},{"$f":"'OB4 - harmonogram'!AM16","v":0},{"$f":"'OB4 - harmonogram'!AN16","v":0},{"$f":"'OB4 - harmonogram'!AO16","v":0},{"$f":"'OB4 - harmonogram'!AP16","v":0},{"$f":"'OB4 - harmonogram'!AQ16","v":0},{"$f":"'OB4 - harmonogram'!AR16","v":0},{"$f":"'OB4 - harmonogram'!AS16","v":0},{"$f":"'OB4 - harmonogram'!AT16","v":0},{"$f":"'OB4 - harmonogram'!AU16","v":0},{"$f":"'OB4 - harmonogram'!AV16","v":0},{"$f":"'OB4 - harmonogram'!AW16","v":0},{"$f":"'OB4 - harmonogram'!AX16","v":0},{"$f":"'OB4 - harmonogram'!AY16","v":0},{"$f":"'OB4 - harmonogram'!AZ16","v":0},{"$f":"'OB4 - harmonogram'!BA16","v":0},{"$f":"'OB4 - harmonogram'!BB16","v":0},{"$f":"'OB4 - harmonogram'!BC16","v":0},{"$f":"'OB4 - harmonogram'!BD16","v":0},{"$f":"'OB4 - harmonogram'!BE16","v":0},{"$f":"'OB4 - harmonogram'!BF16","v":0},{"$f":"'OB4 - harmonogram'!BG16","v":0},{"$f":"'OB4 - harmonogram'!BH16","v":0},{"$f":"'OB4 - harmonogram'!BI16","v":0},{"$f":"'OB4 - harmonogram'!BJ16","v":0},{"$f":"'OB4 - harmonogram'!BK16","v":0}]
["VÝKLOPNA - vnější součást objektu SO 101","OB4 - Technologická část (A1-A13)",null,{"$f":"'OB4 - harmonogram'!I17","v":0},{"$f":"'OB4 - harmonogram'!J17","v":0},{"$f":"'OB4 - harmonogram'!K17","v":0},{"$f":"'OB4 - harmonogram'!L17","v":0},{"$f":"'OB4 - harmonogram'!M17","v":0},{"$f":"'OB4 - harmonogram'!N17","v":0},{"$f":"'OB4 - harmonogram'!O17","v":0},{"$f":"'OB4 - harmonogram'!P17","v":0},{"$f":"'OB4 - harmonogram'!Q17","v":0},{"$f":"'OB4 - harmonogram'!R17","v":0},{"$f":"'OB4 - harmonogram'!S17","v":0},{"$f":"'OB4 - harmonogram'!T17","v":0},{"$f":"'OB4 - harmonogram'!U17","v":0},{"$f":"'OB4 - harmonogram'!V17","v":0},{"$f":"'OB4 - harmonogram'!W17","v":0},{"$f":"'OB4 - harmonogram'!X17","v":0},{"$f":"'OB4 - harmonogram'!Y17","v":0},{"$f":"'OB4 - harmonogram'!Z17","v":0},{"$f":"'OB4 - harmonogram'!AA17","v":0},{"$f":"'OB4 - harmonogram'!AB17","v":0},{"$f":"'OB4 - harmonogram'!AC17","v":0},{"$f":"'OB4 - harmonogram'!AD17","v":0},{"$f":"'OB4 - harmonogram'!AE17","v":0},{"$f":"'OB4 - harmonogram'!AF17","v":0},{"$f":"'OB4 - harmonogram'!AG17","v":0},{"$f":"'OB4 - harmonogram'!AH17","v":0},{"$f":"'OB4 - harmonogram'!AI17","v":0},{"$f":"'OB4 - harmonogram'!AJ17","v":0},{"$f":"'OB4 - harmonogram'!AK17","v":0},{"$f":"'OB4 - harmonogram'!AL17","v":0},{"$f":"'OB4 - harmonogram'!AM17","v":0},{"$f":"'OB4 - harmonogram'!AN17","v":0},{"$f":"'OB4 - harmonogram'!AO17","v":0},{"$f":"'OB4 - harmonogram'!AP17","v":0},{"$f":"'OB4 - harmonogram'!AQ17","v":0},{"$f":"'OB4 - harmonogram'!AR17","v":0},{"$f":"'OB4 - harmonogram'!AS17","v":0},{"$f":"'OB4 - harmonogram'!AT17","v":0},{"$f":"'OB4 - harmonogram'!AU17","v":0},{"$f":"'OB4 - harmonogram'!AV17","v":0},{"$f":"'OB4 - harmonogram'!AW17","v":0},{"$f":"'OB4 - harmonogram'!AX17","v":0},{"$f":"'OB4 - harmonogram'!AY17","v":0},{"$f":"'OB4 - harmonogram'!AZ17","v":0},{"$f":"'OB4 - harmonogram'!BA17","v":0},{"$f":"'OB4 - harmonogram'!BB17","v":0},{"$f":"'OB4 - harmonogram'!BC17","v":0},{"$f":"'OB4 - harmonogram'!BD17","v":0},{"$f":"'OB4 - harmonogram'!BE17","v":0},{"$f":"'OB4 - harmonogram'!BF17","v":0},{"$f":"'OB4 - harmonogram'!BG17","v":0},{"$f":"'OB4 - harmonogram'!BH17","v":0},{"$f":"'OB4 - harmonogram'!BI17","v":0},{"$f":"'OB4 - harmonogram'!BJ17","v":0},{"$f":"'OB4 - harmonogram'!BK17","v":0}]
[null,"OB4 - Stavební část (A4.4)",null,{"$f":"'OB4 - harmonogram'!I19","v":0},{"$f":"'OB4 - harmonogram'!J19","v":0},{"$f":"'OB4 - harmonogram'!K19","v":0},{"$f":"'OB4 - harmonogram'!L19","v":0},{"$f":"'OB4 - harmonogram'!M19","v":0},{"$f":"'OB4 - harmonogram'!N19","v":0},{"$f":"'OB4 - harmonogram'!O19","v":0},{"$f":"'OB4 - harmonogram'!P19","v":0},{"$f":"'OB4 - harmonogram'!Q19","v":0},{"$f":"'OB4 - harmonogram'!R19","v":0},{"$f":"'OB4 - harmonogram'!S19","v":0},{"$f":"'OB4 - harmonogram'!T19","v":0},{"$f":"'OB4 - harmonogram'!U19","v":0},{"$f":"'OB4 - harmonogram'!V19","v":0},{"$f":"'OB4 - harmonogram'!W19","v":0},{"$f":"'OB4 - harmonogram'!X19","v":0},{"$f":"'OB4 - harmonogram'!Y19","v":0},{"$f":"'OB4 - harmonogram'!Z19","v":0},{"$f":"'OB4 - harmonogram'!AA19","v":0},{"$f":"'OB4 - harmonogram'!AB19","v":0},{"$f":"'OB4 - harmonogram'!AC19","v":0},{"$f":"'OB4 - harmonogram'!AD19","v":0},{"$f":"'OB4 - harmonogram'!AE19","v":0},{"$f":"'OB4 - harmonogram'!AF19","v":0},{"$f":"'OB4 - harmonogram'!AG19","v":0},{"$f":"'OB4 - harmonogram'!AH19","v":0},{"$f":"'OB4 - harmonogram'!AI19","v":0},{"$f":"'OB4 - harmonogram'!AJ19","v":0},{"$f":"'OB4 - harmonogram'!AK19","v":0},{"$f":"'OB4 - harmonogram'!AL19","v":0},{"$f":"'OB4 - harmonogram'!AM19","v":0},{"$f":"'OB4 - harmonogram'!AN19","v":0},{"$f":"'OB4 - harmonogram'!AO19","v":0},{"$f":"'OB4 - harmonogram'!AP19","v":0},{"$f":"'OB4 - harmonogram'!AQ19","v":0},{"$f":"'OB4 - harmonogram'!AR19","v":0},{"$f":"'OB4 - harmonogram'!AS19","v":0},{"$f":"'OB4 - harmonogram'!AT19","v":0},{"$f":"'OB4 - harmonogram'!AU19","v":0},{"$f":"'OB4 - harmonogram'!AV19","v":0},{"$f":"'OB4 - harmonogram'!AW19","v":0},{"$f":"'OB4 - harmonogram'!AX19","v":0},{"$f":"'OB4 - harmonogram'!AY19","v":0},{"$f":"'OB4 - harmonogram'!AZ19","v":0},{"$f":"'OB4 - harmonogram'!BA19","v":0},{"$f":"'OB4 - harmonogram'!BB19","v":0},{"$f":"'OB4 - harmonogram'!BC19","v":0},{"$f":"'OB4 - harmonogram'!BD19","v":0},{"$f":"'OB4 - harmonogram'!BE19","v":0},{"$f":"'OB4 - harmonogram'!BF19","v":0},{"$f":"'OB4 - harmonogram'!BG19","v":0},{"$f":"'OB4 - harmonogram'!BH19","v":0},{"$f":"'OB4 - harmonogram'!BI19","v":0},{"$f":"'OB4 - harmonogram'!BJ19","v":0},{"$f":"'OB4 - harmonogram'!BK19","v":0}]
[null,"OB4 - dokončení stavebních prací","včetně vrácení zařízení staveniště",{"$f":"'OB4 - harmonogram'!I21","v":0},{"$f":"'OB4 - harmonogram'!J21","v":0},{"$f":"'OB4 - harmonogram'!K21","v":0},{"$f":"'OB4 - harmonogram'!L21","v":0},{"$f":"'OB4 - harmonogram'!M21","v":0},{"$f":"'OB4 - harmonogram'!N21","v":0},{"$f":"'OB4 - harmonogram'!O21","v":0},{"$f":"'OB4 - harmonogram'!P21","v":0},{"$f":"'OB4 - harmonogram'!Q21","v":0},{"$f":"'OB4 - harmonogram'!R21","v":0},{"$f":"'OB4 - harmonogram'!S21","v":0},{"$f":"'OB4 - harmonogram'!T21","v":0},{"$f":"'OB4 - harmonogram'!U21","v":0},{"$f":"'OB4 - harmonogram'!V21","v":0},{"$f":"'OB4 - harmonogram'!W21","v":0},{"$f":"'OB4 - harmonogram'!X21","v":0},{"$f":"'OB4 - harmonogram'!Y21","v":0},{"$f":"'OB4 - harmonogram'!Z21","v":0},{"$f":"'OB4 - harmonogram'!AA21","v":0},{"$f":"'OB4 - harmonogram'!AB21","v":0},{"$f":"'OB4 - harmonogram'!AC21","v":0},{"$f":"'OB4 - harmonogram'!AD21","v":0},{"$f":"'OB4 - harmonogram'!AE21","v":0},{"$f":"'OB4 - harmonogram'!AF21","v":0},{"$f":"'OB4 - harmonogram'!AG21","v":0},{"$f":"'OB4 - harmonogram'!AH21","v":0},{"$f":"'OB4 - harmonogram'!AI21","v":0},{"$f":"'OB4 - harmonogram'!AJ21","v":0},{"$f":"'OB4 - harmonogram'!AK21","v":0},{"$f":"'OB4 - harmonogram'!AL21","v":0},{"$f":"'OB4 - harmonogram'!AM21","v":0},{"$f":"'OB4 - harmonogram'!AN21","v":0},{"$f":"'OB4 - harmonogram'!AO21","v":0},{"$f":"'OB4 - harmonogram'!AP21","v":0},{"$f":"'OB4 - harmonogram'!AQ21","v":0},{"$f":"'OB4 - harmonogram'!AR21","v":0},{"$f":"'OB4 - harmonogram'!AS21","v":0},{"$f":"'OB4 - harmonogram'!AT21","v":0},{"$f":"'OB4 - harmonogram'!AU21","v":0},{"$f":"'OB4 - harmonogram'!AV21","v":0},{"$f":"'OB4 - harmonogram'!AW21","v":0},{"$f":"'OB4 - harmonogram'!AX21","v":0},{"$f":"'OB4 - harmonogram'!AY21","v":0},{"$f":"'OB4 - harmonogram'!AZ21","v":0},{"$f":"'OB4 - harmonogram'!BA21","v":0},{"$f":"'OB4 - harmonogram'!BB21","v":0},{"$f":"'OB4 - harmonogram'!BC21","v":0},{"$f":"'OB4 - harmonogram'!BD21","v":0},{"$f":"'OB4 - harmonogram'!BE21","v":0},{"$f":"'OB4 - harmonogram'!BF21","v":0},{"$f":"'OB4 - harmonogram'!BG21","v":0},{"$f":"'OB4 - harmonogram'!BH21","v":0},{"$f":"'OB4 - harmonogram'!BI21","v":0},{"$f":"'OB4 - harmonogram'!BJ21","v":0},{"$f":"'OB4 - harmonogram'!BK21","v":0}]
[null,"OB4 - ukončení montážních prací","včetně vrácení zařízení staveniště",{"$f":"'OB4 - harmonogram'!I22","v":0},{"$f":"'OB4 - harmonogram'!J22","v":0},{"$f":"'OB4 - harmonogram'!K22","v":0},{"$f":"'OB4 - harmonogram'!L22","v":0},{"$f":"'OB4 - harmonogram'!M22","v":0},{"$f":"'OB4 - harmonogram'!N22","v":0},{"$f":"'OB4 - harmonogram'!O22","v":0},{"$f":"'OB4 - harmonogram'!P22","v":0},{"$f":"'OB4 - harmonogram'!Q22","v":0},{"$f":"'OB4 - harmonogram'!R22","v":0},{"$f":"'OB4 - harmonogram'!S22","v":0},{"$f":"'OB4 - harmonogram'!T22","v":0},{"$f":"'OB4 - harmonogram'!U22","v":0},{"$f":"'OB4 - harmonogram'!V22","v":0},{"$f":"'OB4 - harmonogram'!W22","v":0},{"$f":"'OB4 - harmonogram'!X22","v":0},{"$f":"'OB4 - harmonogram'!Y22","v":0},{"$f":"'OB4 - harmonogram'!Z22","v":0},{"$f":"'OB4 - harmonogram'!AA22","v":0},{"$f":"'OB4 - harmonogram'!AB22","v":0},{"$f":"'OB4 - harmonogram'!AC22","v":0},{"$f":"'OB4 - harmonogram'!AD22","v":0},{"$f":"'OB4 - harmonogram'!AE22","v":0},{"$f":"'OB4 - harmonogram'!AF22","v":0},{"$f":"'OB4 - harmonogram'!AG22","v":0},{"$f":"'OB4 - harmonogram'!AH22","v":0},{"$f":"'OB4 - harmonogram'!AI22","v":0},{"$f":"'OB4 - harmonogram'!AJ22","v":0},{"$f":"'OB4 - harmonogram'!AK22","v":0},{"$f":"'OB4 - harmonogram'!AL22","v":0},{"$f":"'OB4 - harmonogram'!AM22","v":0},{"$f":"'OB4 - harmonogram'!AN22","v":0},{"$f":"'OB4 - harmonogram'!AO22","v":0},{"$f":"'OB4 - harmonogram'!AP22","v":0},{"$f":"'OB4 - harmonogram'!AQ22","v":0},{"$f":"'OB4 - harmonogram'!AR22","v":0},{"$f":"'OB4 - harmonogram'!AS22","v":0},{"$f":"'OB4 - harmonogram'!AT22","v":0},{"$f":"'OB4 - harmonogram'!AU22","v":0},{"$f":"'OB4 - harmonogram'!AV22","v":0},{"$f":"'OB4 - harmonogram'!AW22","v":0},{"$f":"'OB4 - harmonogram'!AX22","v":0},{"$f":"'OB4 - harmonogram'!AY22","v":0},{"$f":"'OB4 - harmonogram'!AZ22","v":0},{"$f":"'OB4 - harmonogram'!BA22","v":0},{"$f":"'OB4 - harmonogram'!BB22","v":0},{"$f":"'OB4 - harmonogram'!BC22","v":0},{"$f":"'OB4 - harmonogram'!BD22","v":0},{"$f":"'OB4 - harmonogram'!BE22","v":0},{"$f":"'OB4 - harmonogram'!BF22","v":0},{"$f":"'OB4 - harmonogram'!BG22","v":0},{"$f":"'OB4 - harmonogram'!BH22","v":0},{"$f":"'OB4 - harmonogram'!BI22","v":0},{"$f":"'OB4 - harmonogram'!BJ22","v":0},{"$f":"'OB4 - harmonogram'!BK22","v":0}]
[null,"OB4 - školení zaměstnanců provozu",null,{"$f":"'OB4 - harmonogram'!I23","v":0},{"$f":"'OB4 - harmonogram'!J23","v":0},{"$f":"'OB4 - harmonogram'!K23","v":0},{"$f":"'OB4 - harmonogram'!L23","v":0},{"$f":"'OB4 - harmonogram'!M23","v":0},{"$f":"'OB4 - harmonogram'!N23","v":0},{"$f":"'OB4 - harmonogram'!O23","v":0},{"$f":"'OB4 - harmonogram'!P23","v":0},{"$f":"'OB4 - harmonogram'!Q23","v":0},{"$f":"'OB4 - harmonogram'!R23","v":0},{"$f":"'OB4 - harmonogram'!S23","v":0},{"$f":"'OB4 - harmonogram'!T23","v":0},{"$f":"'OB4 - harmonogram'!U23","v":0},{"$f":"'OB4 - harmonogram'!V23","v":0},{"$f":"'OB4 - harmonogram'!W23","v":0},{"$f":"'OB4 - harmonogram'!X23","v":0},{"$f":"'OB4 - harmonogram'!Y23","v":0},{"$f":"'OB4 - harmonogram'!Z23","v":0},{"$f":"'OB4 - harmonogram'!AA23","v":0},{"$f":"'OB4 - harmonogram'!AB23","v":0},{"$f":"'OB4 - harmonogram'!AC23","v":0},{"$f":"'OB4 - harmonogram'!AD23","v":0},{"$f":"'OB4 - harmonogram'!AE23","v":0},{"$f":"'OB4 - harmonogram'!AF23","v":0},{"$f":"'OB4 - harmonogram'!AG23","v":0},{"$f":"'OB4 - harmonogram'!AH23","v":0},{"$f":"'OB4 - harmonogram'!AI23","v":0},{"$f":"'OB4 - harmonogram'!AJ23","v":0},{"$f":"'OB4 - harmonogram'!AK23","v":0},{"$f":"'OB4 - harmonogram'!AL23","v":0},{"$f":"'OB4 - harmonogram'!AM23","v":0},{"$f":"'OB4 - harmonogram'!AN23","v":0},{"$f":"'OB4 - harmonogram'!AO23","v":0},{"$f":"'OB4 - harmonogram'!AP23","v":0},{"$f":"'OB4 - harmonogram'!AQ23","v":0},{"$f":"'OB4 - harmonogram'!AR23","v":0},{"$f":"'OB4 - harmonogram'!AS23","v":0},{"$f":"'OB4 - harmonogram'!AT23","v":0},{"$f":"'OB4 - harmonogram'!AU23","v":0},{"$f":"'OB4 - harmonogram'!AV23","v":0},{"$f":"'OB4 - harmonogram'!AW23","v":0},{"$f":"'OB4 - harmonogram'!AX23","v":0},{"$f":"'OB4 - harmonogram'!AY23","v":0},{"$f":"'OB4 - harmonogram'!AZ23","v":0},{"$f":"'OB4 - harmonogram'!BA23","v":0},{"$f":"'OB4 - harmonogram'!BB23","v":0},{"$f":"'OB4 - harmonogram'!BC23","v":0},{"$f":"'OB4 - harmonogram'!BD23","v":0},{"$f":"'OB4 - harmonogram'!BE23","v":0},{"$f":"'OB4 - harmonogram'!BF23","v":0},{"$f":"'OB4 - harmonogram'!BG23","v":0},{"$f":"'OB4 - harmonogram'!BH23","v":0},{"$f":"'OB4 - harmonogram'!BI23","v":0},{"$f":"'OB4 - harmonogram'!BJ23","v":0},{"$f":"'OB4 - harmonogram'!BK23","v":0}]
[null,"OB4 - příprava ke kompexnímu vyzkoušení",null,{"$f":"'OB4 - harmonogram'!I25","v":0},{"$f":"'OB4 - harmonogram'!J25","v":0},{"$f":"'OB4 - harmonogram'!K25","v":0},{"$f":"'OB4 - harmonogram'!L25","v":0},{"$f":"'OB4 - harmonogram'!M25","v":0},{"$f":"'OB4 - harmonogram'!N25","v":0},{"$f":"'OB4 - harmonogram'!O25","v":0},{"$f":"'OB4 - harmonogram'!P25","v":0},{"$f":"'OB4 - harmonogram'!Q25","v":0},{"$f":"'OB4 - harmonogram'!R25","v":0},{"$f":"'OB4 - harmonogram'!S25","v":0},{"$f":"'OB4 - harmonogram'!T25","v":0},{"$f":"'OB4 - harmonogram'!U25","v":0},{"$f":"'OB4 - harmonogram'!V25","v":0},{"$f":"'OB4 - harmonogram'!W25","v":0},{"$f":"'OB4 - harmonogram'!X25","v":0},{"$f":"'OB4 - harmonogram'!Y25","v":0},{"$f":"'OB4 - harmonogram'!Z25","v":0},{"$f":"'OB4 - harmonogram'!AA25","v":0},{"$f":"'OB4 - harmonogram'!AB25","v":0},{"$f":"'OB4 - harmonogram'!AC25","v":0},{"$f":"'OB4 - harmonogram'!AD25","v":0},{"$f":"'OB4 - harmonogram'!AE25","v":0},{"$f":"'OB4 - harmonogram'!AF25","v":0},{"$f":"'OB4 - harmonogram'!AG25","v":0},{"$f":"'OB4 - harmonogram'!AH25","v":0},{"$f":"'OB4 - harmonogram'!AI25","v":0},{"$f":"'OB4 - harmonogram'!AJ25","v":0},{"$f":"'OB4 - harmonogram'!AK25","v":0},{"$f":"'OB4 - harmonogram'!AL25","v":0},{"$f":"'OB4 - harmonogram'!AM25","v":0},{"$f":"'OB4 - harmonogram'!AN25","v":0},{"$f":"'OB4 - harmonogram'!AO25","v":0},{"$f":"'OB4 - harmonogram'!AP25","v":0},{"$f":"'OB4 - harmonogram'!AQ25","v":0},{"$f":"'OB4 - harmonogram'!AR25","v":0},{"$f":"'OB4 - harmonogram'!AS25","v":0},{"$f":"'OB4 - harmonogram'!AT25","v":0},{"$f":"'OB4 - harmonogram'!AU25","v":0},{"$f":"'OB4 - harmonogram'!AV25","v":0},{"$f":"'OB4 - harmonogram'!AW25","v":0},{"$f":"'OB4 - harmonogram'!AX25","v":0},{"$f":"'OB4 - harmonogram'!AY25","v":0},{"$f":"'OB4 - harmonogram'!AZ25","v":0},{"$f":"'OB4 - harmonogram'!BA25","v":0},{"$f":"'OB4 - harmonogram'!BB25","v":0},{"$f":"'OB4 - harmonogram'!BC25","v":0},{"$f":"'OB4 - harmonogram'!BD25","v":0},{"$f":"'OB4 - harmonogram'!BE25","v":0},{"$f":"'OB4 - harmonogram'!BF25","v":0},{"$f":"'OB4 - harmonogram'!BG25","v":0},{"$f":"'OB4 - harmonogram'!BH25","v":0},{"$f":"'OB4 - harmonogram'!BI25","v":0},{"$f":"'OB4 - harmonogram'!BJ25","v":0},{"$f":"'OB4 - harmonogram'!BK25","v":0}]
[null,"OB4 - komplexní vyzkoušení",null,{"$f":"'OB4 - harmonogram'!I27","v":0},{"$f":"'OB4 - harmonogram'!J27","v":0},{"$f":"'OB4 - harmonogram'!K27","v":0},{"$f":"'OB4 - harmonogram'!L27","v":0},{"$f":"'OB4 - harmonogram'!M27","v":0},{"$f":"'OB4 - harmonogram'!N27","v":0},{"$f":"'OB4 - harmonogram'!O27","v":0},{"$f":"'OB4 - harmonogram'!P27","v":0},{"$f":"'OB4 - harmonogram'!Q27","v":0},{"$f":"'OB4 - harmonogram'!R27","v":0},{"$f":"'OB4 - harmonogram'!S27","v":0},{"$f":"'OB4 - harmonogram'!T27","v":0},{"$f":"'OB4 - harmonogram'!U27","v":0},{"$f":"'OB4 - harmonogram'!V27","v":0},{"$f":"'OB4 - harmonogram'!W27","v":0},{"$f":"'OB4 - harmonogram'!X27","v":0},{"$f":"'OB4 - harmonogram'!Y27","v":0},{"$f":"'OB4 - harmonogram'!Z27","v":0},{"$f":"'OB4 - harmonogram'!AA27","v":0},{"$f":"'OB4 - harmonogram'!AB27","v":0},{"$f":"'OB4 - harmonogram'!AC27","v":0},{"$f":"'OB4 - harmonogram'!AD27","v":0},{"$f":"'OB4 - harmonogram'!AE27","v":0},{"$f":"'OB4 - harmonogram'!AF27","v":0},{"$f":"'OB4 - harmonogram'!AG27","v":0},{"$f":"'OB4 - harmonogram'!AH27","v":0},{"$f":"'OB4 - harmonogram'!AI27","v":0},{"$f":"'OB4 - harmonogram'!AJ27","v":0},{"$f":"'OB4 - harmonogram'!AK27","v":0},{"$f":"'OB4 - harmonogram'!AL27","v":0},{"$f":"'OB4 - harmonogram'!AM27","v":0},{"$f":"'OB4 - harmonogram'!AN27","v":0},{"$f":"'OB4 - harmonogram'!AO27","v":0},{"$f":"'OB4 - harmonogram'!AP27","v":0},{"$f":"'OB4 - harmonogram'!AQ27","v":0},{"$f":"'OB4 - harmonogram'!AR27","v":0},{"$f":"'OB4 - harmonogram'!AS27","v":0},{"$f":"'OB4 - harmonogram'!AT27","v":0},{"$f":"'OB4 - harmonogram'!AU27","v":0},{"$f":"'OB4 - harmonogram'!AV27","v":0},{"$f":"'OB4 - harmonogram'!AW27","v":0},{"$f":"'OB4 - harmonogram'!AX27","v":0},{"$f":"'OB4 - harmonogram'!AY27","v":0},{"$f":"'OB4 - harmonogram'!AZ27","v":0},{"$f":"'OB4 - harmonogram'!BA27","v":0},{"$f":"'OB4 - harmonogram'!BB27","v":0},{"$f":"'OB4 - harmonogram'!BC27","v":0},{"$f":"'OB4 - harmonogram'!BD27","v":0},{"$f":"'OB4 - harmonogram'!BE27","v":0},{"$f":"'OB4 - harmonogram'!BF27","v":0},{"$f":"'OB4 - harmonogram'!BG27","v":0},{"$f":"'OB4 - harmonogram'!BH27","v":0},{"$f":"'OB4 - harmonogram'!BI27","v":0},{"$f":"'OB4 - harmonogram'!BJ27","v":0},{"$f":"'OB4 - harmonogram'!BK27","v":0}]
[null,"OB4 - zkušební provoz",null,{"$f":"'OB4 - harmonogram'!I29","v":0},{"$f":"'OB4 - harmonogram'!J29","v":0},{"$f":"'OB4 - harmonogram'!K29","v":0},{"$f":"'OB4 - harmonogram'!L29","v":0},{"$f":"'OB4 - harmonogram'!M29","v":0},{"$f":"'OB4 - harmonogram'!N29","v":0},{"$f":"'OB4 - harmonogram'!O29","v":0},{"$f":"'OB4 - harmonogram'!P29","v":0},{"$f":"'OB4 - harmonogram'!Q29","v":0},{"$f":"'OB4 - harmonogram'!R29","v":0},{"$f":"'OB4 - harmonogram'!S29","v":0},{"$f":"'OB4 - harmonogram'!T29","v":0},{"$f":"'OB4 - harmonogram'!U29","v":0},{"$f":"'OB4 - harmonogram'!V29","v":0},{"$f":"'OB4 - harmonogram'!W29","v":0},{"$f":"'OB4 - harmonogram'!X29","v":0},{"$f":"'OB4 - harmonogram'!Y29","v":0},{"$f":"'OB4 - harmonogram'!Z29","v":0},{"$f":"'OB4 - harmonogram'!AA29","v":0},{"$f":"'OB4 - harmonogram'!AB29","v":0},{"$f":"'OB4 - harmonogram'!AC29","v":0},{"$f":"'OB4 - harmonogram'!AD29","v":0},{"$f":"'OB4 - harmonogram'!AE29","v":0},{"$f":"'OB4 - harmonogram'!AF29","v":0},{"$f":"'OB4 - harmonogram'!AG29","v":0},{"$f":"'OB4 - harmonogram'!AH29","v":0},{"$f":"'OB4 - harmonogram'!AI29","v":0},{"$f":"'OB4 - harmonogram'!AJ29","v":0},{"$f":"'OB4 - harmonogram'!AK29","v":0},{"$f":"'OB4 - harmonogram'!AL29","v":0},{"$f":"'OB4 - harmonogram'!AM29","v":0},{"$f":"'OB4 - harmonogram'!AN29","v":0},{"$f":"'OB4 - harmonogram'!AO29","v":0},{"$f":"'OB4 - harmonogram'!AP29","v":0},{"$f":"'OB4 - harmonogram'!AQ29","v":0},{"$f":"'OB4 - harmonogram'!AR29","v":0},{"$f":"'OB4 - harmonogram'!AS29","v":0},{"$f":"'OB4 - harmonogram'!AT29","v":0},{"$f":"'OB4 - harmonogram'!AU29","v":0},{"$f":"'OB4 - harmonogram'!AV29","v":0},{"$f":"'OB4 - harmonogram'!AW29","v":0},{"$f":"'OB4 - harmonogram'!AX29","v":0},{"$f":"'OB4 - harmonogram'!AY29","v":0},{"$f":"'OB4 - harmonogram'!AZ29","v":0},{"$f":"'OB4 - harmonogram'!BA29","v":0},{"$f":"'OB4 - harmonogram'!BB29","v":0},{"$f":"'OB4 - harmonogram'!BC29","v":0},{"$f":"'OB4 - harmonogram'!BD29","v":0},{"$f":"'OB4 - harmonogram'!BE29","v":0},{"$f":"'OB4 - harmonogram'!BF29","v":0},{"$f":"'OB4 - harmonogram'!BG29","v":0},{"$f":"'OB4 - harmonogram'!BH29","v":0},{"$f":"'OB4 - harmonogram'!BI29","v":0},{"$f":"'OB4 - harmonogram'!BJ29","v":0},{"$f":"'OB4 - harmonogram'!BK29","v":0}]
[null,"OB4 - garanční test A",null,{"$f":"'OB4 - harmonogram'!I31","v":0},{"$f":"'OB4 - harmonogram'!J31","v":0},{"$f":"'OB4 - harmonogram'!K31","v":0},{"$f":"'OB4 - harmonogram'!L31","v":0},{"$f":"'OB4 - harmonogram'!M31","v":0},{"$f":"'OB4 - harmonogram'!N31","v":0},{"$f":"'OB4 - harmonogram'!O31","v":0},{"$f":"'OB4 - harmonogram'!P31","v":0},{"$f":"'OB4 - harmonogram'!Q31","v":0},{"$f":"'OB4 - harmonogram'!R31","v":0},{"$f":"'OB4 - harmonogram'!S31","v":0},{"$f":"'OB4 - harmonogram'!T31","v":0},{"$f":"'OB4 - harmonogram'!U31","v":0},{"$f":"'OB4 - harmonogram'!V31","v":0},{"$f":"'OB4 - harmonogram'!W31","v":0},{"$f":"'OB4 - harmonogram'!X31","v":0},{"$f":"'OB4 - harmonogram'!Y31","v":0},{"$f":"'OB4 - harmonogram'!Z31","v":0},{"$f":"'OB4 - harmonogram'!AA31","v":0},{"$f":"'OB4 - harmonogram'!AB31","v":0},{"$f":"'OB4 - harmonogram'!AC31","v":0},{"$f":"'OB4 - harmonogram'!AD31","v":0},{"$f":"'OB4 - harmonogram'!AE31","v":0},{"$f":"'OB4 - harmonogram'!AF31","v":0},{"$f":"'OB4 - harmonogram'!AG31","v":0},{"$f":"'OB4 - harmonogram'!AH31","v":0},{"$f":"'OB4 - harmonogram'!AI31","v":0},{"$f":"'OB4 - harmonogram'!AJ31","v":0},{"$f":"'OB4 - harmonogram'!AK31","v":0},{"$f":"'OB4 - harmonogram'!AL31","v":0},{"$f":"'OB4 - harmonogram'!AM31","v":0},{"$f":"'OB4 - harmonogram'!AN31","v":0},{"$f":"'OB4 - harmonogram'!AO31","v":0},{"$f":"'OB4 - harmonogram'!AP31","v":0},{"$f":"'OB4 - harmonogram'!AQ31","v":0},{"$f":"'OB4 - harmonogram'!AR31","v":0},{"$f":"'OB4 - harmonogram'!AS31","v":0},{"$f":"'OB4 - harmonogram'!AT31","v":0},{"$f":"'OB4 - harmonogram'!AU31","v":0},{"$f":"'OB4 - harmonogram'!AV31","v":0},{"$f":"'OB4 - harmonogram'!AW31","v":0},{"$f":"'OB4 - harmonogram'!AX31","v":0},{"$f":"'OB4 - harmonogram'!AY31","v":0},{"$f":"'OB4 - harmonogram'!AZ31","v":0},{"$f":"'OB4 - harmonogram'!BA31","v":0},{"$f":"'OB4 - harmonogram'!BB31","v":0},{"$f":"'OB4 - harmonogram'!BC31","v":0},{"$f":"'OB4 - harmonogram'!BD31","v":0},{"$f":"'OB4 - harmonogram'!BE31","v":0},{"$f":"'OB4 - harmonogram'!BF31","v":0},{"$f":"'OB4 - harmonogram'!BG31","v":0},{"$f":"'OB4 - harmonogram'!BH31","v":0},{"$f":"'OB4 - harmonogram'!BI31","v":0},{"$f":"'OB4 - harmonogram'!BJ31","v":0},{"$f":"'OB4 - harmonogram'!BK31","v":0}]
[null,"OB4 - předběžné převzetí díla PAC",null,{"$f":"'OB4 - harmonogram'!I33","v":0},{"$f":"'OB4 - harmonogram'!J33","v":0},{"$f":"'OB4 - harmonogram'!K33","v":0},{"$f":"'OB4 - harmonogram'!L33","v":0},{"$f":"'OB4 - harmonogram'!M33","v":0},{"$f":"'OB4 - harmonogram'!N33","v":0},{"$f":"'OB4 - harmonogram'!O33","v":0},{"$f":"'OB4 - harmonogram'!P33","v":0},{"$f":"'OB4 - harmonogram'!Q33","v":0},{"$f":"'OB4 - harmonogram'!R33","v":0},{"$f":"'OB4 - harmonogram'!S33","v":0},{"$f":"'OB4 - harmonogram'!T33","v":0},{"$f":"'OB4 - harmonogram'!U33","v":0},{"$f":"'OB4 - harmonogram'!V33","v":0},{"$f":"'OB4 - harmonogram'!W33","v":0},{"$f":"'OB4 - harmonogram'!X33","v":0},{"$f":"'OB4 - harmonogram'!Y33","v":0},{"$f":"'OB4 - harmonogram'!Z33","v":0},{"$f":"'OB4 - harmonogram'!AA33","v":0},{"$f":"'OB4 - harmonogram'!AB33","v":0},{"$f":"'OB4 - harmonogram'!AC33","v":0},{"$f":"'OB4 - harmonogram'!AD33","v":0},{"$f":"'OB4 - harmonogram'!AE33","v":0},{"$f":"'OB4 - harmonogram'!AF33","v":0},{"$f":"'OB4 - harmonogram'!AG33","v":0},{"$f":"'OB4 - harmonogram'!AH33","v":0},{"$f":"'OB4 - harmonogram'!AI33","v":0},{"$f":"'OB4 - harmonogram'!AJ33","v":0},{"$f":"'OB4 - harmonogram'!AK33","v":0},{"$f":"'OB4 - harmonogram'!AL33","v":0},{"$f":"'OB4 - harmonogram'!AM33","v":0},{"$f":"'OB4 - harmonogram'!AN33","v":0},{"$f":"'OB4 - harmonogram'!AO33","v":0},{"$f":"'OB4 - harmonogram'!AP33","v":0},{"$f":"'OB4 - harmonogram'!AQ33","v":0},{"$f":"'OB4 - harmonogram'!AR33","v":0},{"$f":"'OB4 - harmonogram'!AS33","v":0},{"$f":"'OB4 - harmonogram'!AT33","v":0},{"$f":"'OB4 - harmonogram'!AU33","v":0},{"$f":"'OB4 - harmonogram'!AV33","v":0},{"$f":"'OB4 - harmonogram'!AW33","v":0},{"$f":"'OB4 - harmonogram'!AX33","v":0},{"$f":"'OB4 - harmonogram'!AY33","v":0},{"$f":"'OB4 - harmonogram'!AZ33","v":0},{"$f":"'OB4 - harmonogram'!BA33","v":0},{"$f":"'OB4 - harmonogram'!BB33","v":0},{"$f":"'OB4 - harmonogram'!BC33","v":0},{"$f":"'OB4 - harmonogram'!BD33","v":0},{"$f":"'OB4 - harmonogram'!BE33","v":0},{"$f":"'OB4 - harmonogram'!BF33","v":0},{"$f":"'OB4 - harmonogram'!BG33","v":0},{"$f":"'OB4 - harmonogram'!BH33","v":0},{"$f":"'OB4 - harmonogram'!BI33","v":0},{"$f":"'OB4 - harmonogram'!BJ33","v":0},{"$f":"'OB4 - harmonogram'!BK33","v":0}]
[null,"Závazné technické parametry pro OB 1 (Palivové hospodářství) "]
[null,"Poznámka"]
[null,"Zhotovitel na tomto listu nevyplňuje žádné hodnoty. Hodnoty jsou přenášeny z předcházejících listů."]
[null,"Předání a převzetí staveniště pro K20"]
[null,"neobsazeno"]
[null,"OB4 - vlastní kotel včetně všech komponentů"]
[null,"OB4 - provozní zásobníky paliva včetně dopravy štěpky do kotle"]
[null,"OB4 - ventilátory (vzduchové, spalinové, recirkulační) včetně vnitřních spalinovodů"]
[null,"OB4 - tkaninový filtr"]
[null,"OB4 - technologie DSI"]
[null,"OB4 - popelové hospodářství"]
[null,"OB4 - elektroinstalace"]
[null,"OB4 - ASŘ"]
[null,"OB4 - kompresorová stanice"]
[null,"OB4 - připojení médií"]
[null,"OB4 - venkovní rozvody spalinovodů včetně napojení na komín"]
[null,"OB4 - venkovní konstrukce potrubního mostu (připojení popelového hospodářství a SNCR)"]
[null,"OB4 - opláštění a zastřešení, dokončení všech stavebních činností"]
[null,"OB4 - další výše nevyjmenované položky"]
[null,"OB4 - dokončení stavebních prací"]
[null,"OB4 - ukončení montážních prací"]
[null,"OB4 - školení zaměstnanců provozu"]
[null,"OB4 - příprava ke kompexnímu vyzkoušení"]
[null,"OB4 - komplexní vyzkoušení"]
[null,"OB4 - zkušební provoz"]
[null,"OB4 - garanční test A"]
[null,"OB4 - předběžné převzetí díla PAC"]
[null,"OB4 - garanční test B"]
[null,"OB4 - finální převzetí díla FAC"]

{"sheet":"finanční plnění - harmonogram","index":3,"n_rows":23,"n_cols":59,"rows_kept":23,"cut":false,"hidden":false,"merged":[[9,0,10,0],[18,1,18,3],[19,1,19,3],[19,4,19,58],[3,4,3,58],[3,0,4,0],[3,1,4,1],[3,2,4,2],[3,3,4,3]]}
[]
[null,"Příloha K zadávací dokumentace - cenová nabídka a časový harmonogram"]
[]
["Technologické a stavební celky","Milníky","komentář"," Cena bez DPH","Období"]
[null,null,null,null,"2024-06-01","2024-07-02","2024-08-02","2024-09-02","2024-10-03","2024-11-03","2024-12-04","2025-01-04","2025-02-04","2025-03-07","2025-04-07","2025-05-08","2025-06-08","2025-07-09","2025-08-09","2025-09-09","2025-10-10","2025-11-10","2025-12-11","2026-01-11","2026-02-11","2026-03-14","2026-04-14","2026-05-15","2026-06-15","2026-07-16","2026-08-16","2026-09-16","2026-10-17","2026-11-17","2026-12-18","2027-01-18","2027-02-18","2027-03-21","2027-04-21","2027-05-22","2027-06-22","2027-07-23","2027-08-23","2027-09-23","2027-10-24","2027-11-24","2027-12-25","2028-01-25","2028-02-25","2028-03-27","2028-04-27","2028-05-28","2028-06-28","2028-07-29","2028-08-29","2028-09-29","2028-10-30","2028-11-30","2028-12-31"]
[null,1,1,null,1,2,3,4,5,6,7,8,9,10,11,12,13,14,15,16,17,18,19,20,21,22,23,24,25,26,27,28,29,30,31,32,33,34,35,36,37,38,39,40,41,42,43,44,45,46,47,48,49,50,51,52,53,54,55]
[null,"OB4 - závazné technické parametry pro OB 6 (Stavba) ",null,"EUR",{"$f":"'OB4 - harmonogram'!I11","v":0},{"$f":"'OB4 - harmonogram'!J11","v":0},{"$f":"'OB4 - harmonogram'!K11","v":0},{"$f":"'OB4 - harmonogram'!L11","v":0},{"$f":"'OB4 - harmonogram'!M11","v":0},{"$f":"'OB4 - harmonogram'!N11","v":0},{"$f":"'OB4 - harmonogram'!O11","v":0},{"$f":"'OB4 - harmonogram'!P11","v":0},{"$f":"'OB4 - harmonogram'!Q11","v":0},{"$f":"'OB4 - harmonogram'!R11","v":0},{"$f":"'OB4 - harmonogram'!S11","v":0},{"$f":"'OB4 - harmonogram'!T11","v":0},{"$f":"'OB4 - harmonogram'!U11","v":0},{"$f":"'OB4 - harmonogram'!V11","v":0},{"$f":"'OB4 - harmonogram'!W11","v":0},{"$f":"'OB4 - harmonogram'!X11","v":0},{"$f":"'OB4 - harmonogram'!Y11","v":0},{"$f":"'OB4 - harmonogram'!Z11","v":0},{"$f":"'OB4 - harmonogram'!AA11","v":0},{"$f":"'OB4 - harmonogram'!AB11","v":0},{"$f":"'OB4 - harmonogram'!AC11","v":0},{"$f":"'OB4 - harmonogram'!AD11","v":0},{"$f":"'OB4 - harmonogram'!AE11","v":0},{"$f":"'OB4 - harmonogram'!AF11","v":0},{"$f":"'OB4 - harmonogram'!AG11","v":0},{"$f":"'OB4 - harmonogram'!AH11","v":0},{"$f":"'OB4 - harmonogram'!AI11","v":0},{"$f":"'OB4 - harmonogram'!AJ11","v":0},{"$f":"'OB4 - harmonogram'!AK11","v":0},{"$f":"'OB4 - harmonogram'!AL11","v":0},{"$f":"'OB4 - harmonogram'!AM11","v":0},{"$f":"'OB4 - harmonogram'!AN11","v":0},{"$f":"'OB4 - harmonogram'!AO11","v":0},{"$f":"'OB4 - harmonogram'!AP11","v":0},{"$f":"'OB4 - harmonogram'!AQ11","v":0},{"$f":"'OB4 - harmonogram'!AR11","v":0},{"$f":"'OB4 - harmonogram'!AS11","v":0},{"$f":"'OB4 - harmonogram'!AT11","v":0},{"$f":"'OB4 - harmonogram'!AU11","v":0},{"$f":"'OB4 - harmonogram'!AV11","v":0},{"$f":"'OB4 - harmonogram'!AW11","v":0},{"$f":"'OB4 - harmonogram'!AX11","v":0},{"$f":"'OB4 - harmonogram'!AY11","v":0},{"$f":"'OB4 - harmonogram'!AZ11","v":0},{"$f":"'OB4 - harmonogram'!BA11","v":0},{"$f":"'OB4 - harmonogram'!BB11","v":0},{"$f":"'OB4 - harmonogram'!BC11","v":0},{"$f":"'OB4 - harmonogram'!BD11","v":0},{"$f":"'OB4 - harmonogram'!BE11","v":0},{"$f":"'OB4 - harmonogram'!BF11","v":0},{"$f":"'OB4 - harmonogram'!BG11","v":0},{"$f":"'OB4 - harmonogram'!BH11","v":0},{"$f":"'OB4 - harmonogram'!BI11","v":0},{"$f":"'OB4 - harmonogram'!BJ11","v":0},{"$f":"'OB4 - harmonogram'!BK11","v":0}]
[null,"OB4 - Závazné technické parametry pro ostatní OB",null,"EUR",{"$f":"'OB4 - harmonogram'!I13","v":0},{"$f":"'OB4 - harmonogram'!J13","v":0},{"$f":"'OB4 - harmonogram'!K13","v":0},{"$f":"'OB4 - harmonogram'!L13","v":0},{"$f":"'OB4 - harmonogram'!M13","v":0},{"$f":"'OB4 - harmonogram'!N13","v":0},{"$f":"'OB4 - harmonogram'!O13","v":0},{"$f":"'OB4 - harmonogram'!P13","v":0},{"$f":"'OB4 - harmonogram'!Q13","v":0},{"$f":"'OB4 - harmonogram'!R13","v":0},{"$f":"'OB4 - harmonogram'!S13","v":0},{"$f":"'OB4 - harmonogram'!T13","v":0},{"$f":"'OB4 - harmonogram'!U13","v":0},{"$f":"'OB4 - harmonogram'!V13","v":0},{"$f":"'OB4 - harmonogram'!W13","v":0},{"$f":"'OB4 - harmonogram'!X13","v":0},{"$f":"'OB4 - harmonogram'!Y13","v":0},{"$f":"'OB4 - harmonogram'!Z13","v":0},{"$f":"'OB4 - harmonogram'!AA13","v":0},{"$f":"'OB4 - harmonogram'!AB13","v":0},{"$f":"'OB4 - harmonogram'!AC13","v":0},{"$f":"'OB4 - harmonogram'!AD13","v":0},{"$f":"'OB4 - harmonogram'!AE13","v":0},{"$f":"'OB4 - harmonogram'!AF13","v":0},{"$f":"'OB4 - harmonogram'!AG13","v":0},{"$f":"'OB4 - harmonogram'!AH13","v":0},{"$f":"'OB4 - harmonogram'!AI13","v":0},{"$f":"'OB4 - harmonogram'!AJ13","v":0},{"$f":"'OB4 - harmonogram'!AK13","v":0},{"$f":"'OB4 - harmonogram'!AL13","v":0},{"$f":"'OB4 - harmonogram'!AM13","v":0},{"$f":"'OB4 - harmonogram'!AN13","v":0},{"$f":"'OB4 - harmonogram'!AO13","v":0},{"$f":"'OB4 - harmonogram'!AP13","v":0},{"$f":"'OB4 - harmonogram'!AQ13","v":0},{"$f":"'OB4 - harmonogram'!AR13","v":0},{"$f":"'OB4 - harmonogram'!AS13","v":0},{"$f":"'OB4 - harmonogram'!AT13","v":0},{"$f":"'OB4 - harmonogram'!AU13","v":0},{"$f":"'OB4 - harmonogram'!AV13","v":0},{"$f":"'OB4 - harmonogram'!AW13","v":0},{"$f":"'OB4 - harmonogram'!AX13","v":0},{"$f":"'OB4 - harmonogram'!AY13","v":0},{"$f":"'OB4 - harmonogram'!AZ13","v":0},{"$f":"'OB4 - harmonogram'!BA13","v":0},{"$f":"'OB4 - harmonogram'!BB13","v":0},{"$f":"'OB4 - harmonogram'!BC13","v":0},{"$f":"'OB4 - harmonogram'!BD13","v":0},{"$f":"'OB4 - harmonogram'!BE13","v":0},{"$f":"'OB4 - harmonogram'!BF13","v":0},{"$f":"'OB4 - harmonogram'!BG13","v":0},{"$f":"'OB4 - harmonogram'!BH13","v":0},{"$f":"'OB4 - harmonogram'!BI13","v":0},{"$f":"'OB4 - harmonogram'!BJ13","v":0},{"$f":"'OB4 - harmonogram'!BK13","v":0}]
[null,"OB4 - odsouhlasená prováděcí dokumentace OB4",null,"EUR",{"$f":"'OB4 - harmonogram'!I15","v":0},{"$f":"'OB4 - harmonogram'!J15","v":0},{"$f":"'OB4 - harmonogram'!K15","v":0},{"$f":"'OB4 - harmonogram'!L15","v":0},{"$f":"'OB4 - harmonogram'!M15","v":0},{"$f":"'OB4 - harmonogram'!N15","v":0},{"$f":"'OB4 - harmonogram'!O15","v":0},{"$f":"'OB4 - harmonogram'!P15","v":0},{"$f":"'OB4 - harmonogram'!Q15","v":0},{"$f":"'OB4 - harmonogram'!R15","v":0},{"$f":"'OB4 - harmonogram'!S15","v":0},{"$f":"'OB4 - harmonogram'!T15","v":0},{"$f":"'OB4 - harmonogram'!U15","v":0},{"$f":"'OB4 - harmonogram'!V15","v":0},{"$f":"'OB4 - harmonogram'!W15","v":0},{"$f":"'OB4 - harmonogram'!X15","v":0},{"$f":"'OB4 - harmonogram'!Y15","v":0},{"$f":"'OB4 - harmonogram'!Z15","v":0},{"$f":"'OB4 - harmonogram'!AA15","v":0},{"$f":"'OB4 - harmonogram'!AB15","v":0},{"$f":"'OB4 - harmonogram'!AC15","v":0},{"$f":"'OB4 - harmonogram'!AD15","v":0},{"$f":"'OB4 - harmonogram'!AE15","v":0},{"$f":"'OB4 - harmonogram'!AF15","v":0},{"$f":"'OB4 - harmonogram'!AG15","v":0},{"$f":"'OB4 - harmonogram'!AH15","v":0},{"$f":"'OB4 - harmonogram'!AI15","v":0},{"$f":"'OB4 - harmonogram'!AJ15","v":0},{"$f":"'OB4 - harmonogram'!AK15","v":0},{"$f":"'OB4 - harmonogram'!AL15","v":0},{"$f":"'OB4 - harmonogram'!AM15","v":0},{"$f":"'OB4 - harmonogram'!AN15","v":0},{"$f":"'OB4 - harmonogram'!AO15","v":0},{"$f":"'OB4 - harmonogram'!AP15","v":0},{"$f":"'OB4 - harmonogram'!AQ15","v":0},{"$f":"'OB4 - harmonogram'!AR15","v":0},{"$f":"'OB4 - harmonogram'!AS15","v":0},{"$f":"'OB4 - harmonogram'!AT15","v":0},{"$f":"'OB4 - harmonogram'!AU15","v":0},{"$f":"'OB4 - harmonogram'!AV15","v":0},{"$f":"'OB4 - harmonogram'!AW15","v":0},{"$f":"'OB4 - harmonogram'!AX15","v":0},{"$f":"'OB4 - harmonogram'!AY15","v":0},{"$f":"'OB4 - harmonogram'!AZ15","v":0},{"$f":"'OB4 - harmonogram'!BA15","v":0},{"$f":"'OB4 - harmonogram'!BB15","v":0},{"$f":"'OB4 - harmonogram'!BC15","v":0},{"$f":"'OB4 - harmonogram'!BD15","v":0},{"$f":"'OB4 - harmonogram'!BE15","v":0},{"$f":"'OB4 - harmonogram'!BF15","v":0},{"$f":"'OB4 - harmonogram'!BG15","v":0},{"$f":"'OB4 - harmonogram'!BH15","v":0},{"$f":"'OB4 - harmonogram'!BI15","v":0},{"$f":"'OB4 - harmonogram'!BJ15","v":0},{"$f":"'OB4 - harmonogram'!BK15","v":0}]
["VÝKLOPNA - vnější součást objektu SO 101","OB4 - Technologická část (A1-A13)",null,"EUR",{"$f":"'OB4 - harmonogram'!I18","v":0},{"$f":"'OB4 - harmonogram'!J18","v":0},{"$f":"'OB4 - harmonogram'!K18","v":0},{"$f":"'OB4 - harmonogram'!L18","v":0},{"$f":"'OB4 - harmonogram'!M18","v":0},{"$f":"'OB4 - harmonogram'!N18","v":0},{"$f":"'OB4 - harmonogram'!O18","v":0},{"$f":"'OB4 - harmonogram'!P18","v":0},{"$f":"'OB4 - harmonogram'!Q18","v":0},{"$f":"'OB4 - harmonogram'!R18","v":0},{"$f":"'OB4 - harmonogram'!S18","v":0},{"$f":"'OB4 - harmonogram'!T18","v":0},{"$f":"'OB4 - harmonogram'!U18","v":0},{"$f":"'OB4 - harmonogram'!V18","v":0},{"$f":"'OB4 - harmonogram'!W18","v":0},{"$f":"'OB4 - harmonogram'!X18","v":0},{"$f":"'OB4 - harmonogram'!Y18","v":0},{"$f":"'OB4 - harmonogram'!Z18","v":0},{"$f":"'OB4 - harmonogram'!AA18","v":0},{"$f":"'OB4 - harmonogram'!AB18","v":0},{"$f":"'OB4 - harmonogram'!AC18","v":0},{"$f":"'OB4 - harmonogram'!AD18","v":0},{"$f":"'OB4 - harmonogram'!AE18","v":0},{"$f":"'OB4 - harmonogram'!AF18","v":0},{"$f":"'OB4 - harmonogram'!AG18","v":0},{"$f":"'OB4 - harmonogram'!AH18","v":0},{"$f":"'OB4 - harmonogram'!AI18","v":0},{"$f":"'OB4 - harmonogram'!AJ18","v":0},{"$f":"'OB4 - harmonogram'!AK18","v":0},{"$f":"'OB4 - harmonogram'!AL18","v":0},{"$f":"'OB4 - harmonogram'!AM18","v":0},{"$f":"'OB4 - harmonogram'!AN18","v":0},{"$f":"'OB4 - harmonogram'!AO18","v":0},{"$f":"'OB4 - harmonogram'!AP18","v":0},{"$f":"'OB4 - harmonogram'!AQ18","v":0},{"$f":"'OB4 - harmonogram'!AR18","v":0},{"$f":"'OB4 - harmonogram'!AS18","v":0},{"$f":"'OB4 - harmonogram'!AT18","v":0},{"$f":"'OB4 - harmonogram'!AU18","v":0},{"$f":"'OB4 - harmonogram'!AV18","v":0},{"$f":"'OB4 - harmonogram'!AW18","v":0},{"$f":"'OB4 - harmonogram'!AX18","v":0},{"$f":"'OB4 - harmonogram'!AY18","v":0},{"$f":"'OB4 - harmonogram'!AZ18","v":0},{"$f":"'OB4 - harmonogram'!BA18","v":0},{"$f":"'OB4 - harmonogram'!BB18","v":0},{"$f":"'OB4 - harmonogram'!BC18","v":0},{"$f":"'OB4 - harmonogram'!BD18","v":0},{"$f":"'OB4 - harmonogram'!BE18","v":0},{"$f":"'OB4 - harmonogram'!BF18","v":0},{"$f":"'OB4 - harmonogram'!BG18","v":0},{"$f":"'OB4 - harmonogram'!BH18","v":0},{"$f":"'OB4 - harmonogram'!BI18","v":0},{"$f":"'OB4 - harmonogram'!BJ18","v":0},{"$f":"'OB4 - harmonogram'!BK18","v":0}]
[null,"OB4 - Stavební část (A4.4)",null,"EUR",{"$f":"'OB4 - harmonogram'!I20","v":0},{"$f":"'OB4 - harmonogram'!J20","v":0},{"$f":"'OB4 - harmonogram'!K20","v":0},{"$f":"'OB4 - harmonogram'!L20","v":0},{"$f":"'OB4 - harmonogram'!M20","v":0},{"$f":"'OB4 - harmonogram'!N20","v":0},{"$f":"'OB4 - harmonogram'!O20","v":0},{"$f":"'OB4 - harmonogram'!P20","v":0},{"$f":"'OB4 - harmonogram'!Q20","v":0},{"$f":"'OB4 - harmonogram'!R20","v":0},{"$f":"'OB4 - harmonogram'!S20","v":0},{"$f":"'OB4 - harmonogram'!T20","v":0},{"$f":"'OB4 - harmonogram'!U20","v":0},{"$f":"'OB4 - harmonogram'!V20","v":0},{"$f":"'OB4 - harmonogram'!W20","v":0},{"$f":"'OB4 - harmonogram'!X20","v":0},{"$f":"'OB4 - harmonogram'!Y20","v":0},{"$f":"'OB4 - harmonogram'!Z20","v":0},{"$f":"'OB4 - harmonogram'!AA20","v":0},{"$f":"'OB4 - harmonogram'!AB20","v":0},{"$f":"'OB4 - harmonogram'!AC20","v":0},{"$f":"'OB4 - harmonogram'!AD20","v":0},{"$f":"'OB4 - harmonogram'!AE20","v":0},{"$f":"'OB4 - harmonogram'!AF20","v":0},{"$f":"'OB4 - harmonogram'!AG20","v":0},{"$f":"'OB4 - harmonogram'!AH20","v":0},{"$f":"'OB4 - harmonogram'!AI20","v":0},{"$f":"'OB4 - harmonogram'!AJ20","v":0},{"$f":"'OB4 - harmonogram'!AK20","v":0},{"$f":"'OB4 - harmonogram'!AL20","v":0},{"$f":"'OB4 - harmonogram'!AM20","v":0},{"$f":"'OB4 - harmonogram'!AN20","v":0},{"$f":"'OB4 - harmonogram'!AO20","v":0},{"$f":"'OB4 - harmonogram'!AP20","v":0},{"$f":"'OB4 - harmonogram'!AQ20","v":0},{"$f":"'OB4 - harmonogram'!AR20","v":0},{"$f":"'OB4 - harmonogram'!AS20","v":0},{"$f":"'OB4 - harmonogram'!AT20","v":0},{"$f":"'OB4 - harmonogram'!AU20","v":0},{"$f":"'OB4 - harmonogram'!AV20","v":0},{"$f":"'OB4 - harmonogram'!AW20","v":0},{"$f":"'OB4 - harmonogram'!AX20","v":0},{"$f":"'OB4 - harmonogram'!AY20","v":0},{"$f":"'OB4 - harmonogram'!AZ20","v":0},{"$f":"'OB4 - harmonogram'!BA20","v":0},{"$f":"'OB4 - harmonogram'!BB20","v":0},{"$f":"'OB4 - harmonogram'!BC20","v":0},{"$f":"'OB4 - harmonogram'!BD20","v":0},{"$f":"'OB4 - harmonogram'!BE20","v":0},{"$f":"'OB4 - harmonogram'!BF20","v":0},{"$f":"'OB4 - harmonogram'!BG20","v":0},{"$f":"'OB4 - harmonogram'!BH20","v":0},{"$f":"'OB4 - harmonogram'!BI20","v":0},{"$f":"'OB4 - harmonogram'!BJ20","v":0},{"$f":"'OB4 - harmonogram'!BK20","v":0}]
[null,"OB4 - školení zaměstnanců provozu",null,"EUR",{"$f":"'OB4 - harmonogram'!I24","v":0},{"$f":"'OB4 - harmonogram'!J24","v":0},{"$f":"'OB4 - harmonogram'!K24","v":0},{"$f":"'OB4 - harmonogram'!L24","v":0},{"$f":"'OB4 - harmonogram'!M24","v":0},{"$f":"'OB4 - harmonogram'!N24","v":0},{"$f":"'OB4 - harmonogram'!O24","v":0},{"$f":"'OB4 - harmonogram'!P24","v":0},{"$f":"'OB4 - harmonogram'!Q24","v":0},{"$f":"'OB4 - harmonogram'!R24","v":0},{"$f":"'OB4 - harmonogram'!S24","v":0},{"$f":"'OB4 - harmonogram'!T24","v":0},{"$f":"'OB4 - harmonogram'!U24","v":0},{"$f":"'OB4 - harmonogram'!V24","v":0},{"$f":"'OB4 - harmonogram'!W24","v":0},{"$f":"'OB4 - harmonogram'!X24","v":0},{"$f":"'OB4 - harmonogram'!Y24","v":0},{"$f":"'OB4 - harmonogram'!Z24","v":0},{"$f":"'OB4 - harmonogram'!AA24","v":0},{"$f":"'OB4 - harmonogram'!AB24","v":0},{"$f":"'OB4 - harmonogram'!AC24","v":0},{"$f":"'OB4 - harmonogram'!AD24","v":0},{"$f":"'OB4 - harmonogram'!AE24","v":0},{"$f":"'OB4 - harmonogram'!AF24","v":0},{"$f":"'OB4 - harmonogram'!AG24","v":0},{"$f":"'OB4 - harmonogram'!AH24","v":0},{"$f":"'OB4 - harmonogram'!AI24","v":0},{"$f":"'OB4 - harmonogram'!AJ24","v":0},{"$f":"'OB4 - harmonogram'!AK24","v":0},{"$f":"'OB4 - harmonogram'!AL24","v":0},{"$f":"'OB4 - harmonogram'!AM24","v":0},{"$f":"'OB4 - harmonogram'!AN24","v":0},{"$f":"'OB4 - harmonogram'!AO24","v":0},{"$f":"'OB4 - harmonogram'!AP24","v":0},{"$f":"'OB4 - harmonogram'!AQ24","v":0},{"$f":"'OB4 - harmonogram'!AR24","v":0},{"$f":"'OB4 - harmonogram'!AS24","v":0},{"$f":"'OB4 - harmonogram'!AT24","v":0},{"$f":"'OB4 - harmonogram'!AU24","v":0},{"$f":"'OB4 - harmonogram'!AV24","v":0},{"$f":"'OB4 - harmonogram'!AW24","v":0},{"$f":"'OB4 - harmonogram'!AX24","v":0},{"$f":"'OB4 - harmonogram'!AY24","v":0},{"$f":"'OB4 - harmonogram'!AZ24","v":0},{"$f":"'OB4 - harmonogram'!BA24","v":0},{"$f":"'OB4 - harmonogram'!BB24","v":0},{"$f":"'OB4 - harmonogram'!BC24","v":0},{"$f":"'OB4 - harmonogram'!BD24","v":0},{"$f":"'OB4 - harmonogram'!BE24","v":0},{"$f":"'OB4 - harmonogram'!BF24","v":0},{"$f":"'OB4 - harmonogram'!BG24","v":0},{"$f":"'OB4 - harmonogram'!BH24","v":0},{"$f":"'OB4 - harmonogram'!BI24","v":0},{"$f":"'OB4 - harmonogram'!BJ24","v":0},{"$f":"'OB4 - harmonogram'!BK24","v":0}]
[null,"OB4 - příprava ke kompexnímu vyzkoušení",null,"EUR",{"$f":"'OB4 - harmonogram'!I26","v":0},{"$f":"'OB4 - harmonogram'!J26","v":0},{"$f":"'OB4 - harmonogram'!K26","v":0},{"$f":"'OB4 - harmonogram'!L26","v":0},{"$f":"'OB4 - harmonogram'!M26","v":0},{"$f":"'OB4 - harmonogram'!N26","v":0},{"$f":"'OB4 - harmonogram'!O26","v":0},{"$f":"'OB4 - harmonogram'!P26","v":0},{"$f":"'OB4 - harmonogram'!Q26","v":0},{"$f":"'OB4 - harmonogram'!R26","v":0},{"$f":"'OB4 - harmonogram'!S26","v":0},{"$f":"'OB4 - harmonogram'!T26","v":0},{"$f":"'OB4 - harmonogram'!U26","v":0},{"$f":"'OB4 - harmonogram'!V26","v":0},{"$f":"'OB4 - harmonogram'!W26","v":0},{"$f":"'OB4 - harmonogram'!X26","v":0},{"$f":"'OB4 - harmonogram'!Y26","v":0},{"$f":"'OB4 - harmonogram'!Z26","v":0},{"$f":"'OB4 - harmonogram'!AA26","v":0},{"$f":"'OB4 - harmonogram'!AB26","v":0},{"$f":"'OB4 - harmonogram'!AC26","v":0},{"$f":"'OB4 - harmonogram'!AD26","v":0},{"$f":"'OB4 - harmonogram'!AE26","v":0},{"$f":"'OB4 - harmonogram'!AF26","v":0},{"$f":"'OB4 - harmonogram'!AG26","v":0},{"$f":"'OB4 - harmonogram'!AH26","v":0},{"$f":"'OB4 - harmonogram'!AI26","v":0},{"$f":"'OB4 - harmonogram'!AJ26","v":0},{"$f":"'OB4 - harmonogram'!AK26","v":0},{"$f":"'OB4 - harmonogram'!AL26","v":0},{"$f":"'OB4 - harmonogram'!AM26","v":0},{"$f":"'OB4 - harmonogram'!AN26","v":0},{"$f":"'OB4 - harmonogram'!AO26","v":0},{"$f":"'OB4 - harmonogram'!AP26","v":0},{"$f":"'OB4 - harmonogram'!AQ26","v":0},{"$f":"'OB4 - harmonogram'!AR26","v":0},{"$f":"'OB4 - harmonogram'!AS26","v":0},{"$f":"'OB4 - harmonogram'!AT26","v":0},{"$f":"'OB4 - harmonogram'!AU26","v":0},{"$f":"'OB4 - harmonogram'!AV26","v":0},{"$f":"'OB4 - harmonogram'!AW26","v":0},{"$f":"'OB4 - harmonogram'!AX26","v":0},{"$f":"'OB4 - harmonogram'!AY26","v":0},{"$f":"'OB4 - harmonogram'!AZ26","v":0},{"$f":"'OB4 - harmonogram'!BA26","v":0},{"$f":"'OB4 - harmonogram'!BB26","v":0},{"$f":"'OB4 - harmonogram'!BC26","v":0},{"$f":"'OB4 - harmonogram'!BD26","v":0},{"$f":"'OB4 - harmonogram'!BE26","v":0},{"$f":"'OB4 - harmonogram'!BF26","v":0},{"$f":"'OB4 - harmonogram'!BG26","v":0},{"$f":"'OB4 - harmonogram'!BH26","v":0},{"$f":"'OB4 - harmonogram'!BI26","v":0},{"$f":"'OB4 - harmonogram'!BJ26","v":0},{"$f":"'OB4 - harmonogram'!BK26","v":0}]
[null,"OB4 - komplexní vyzkoušení",null,"EUR",{"$f":"'OB4 - harmonogram'!I28","v":0},{"$f":"'OB4 - harmonogram'!J28","v":0},{"$f":"'OB4 - harmonogram'!K28","v":0},{"$f":"'OB4 - harmonogram'!L28","v":0},{"$f":"'OB4 - harmonogram'!M28","v":0},{"$f":"'OB4 - harmonogram'!N28","v":0},{"$f":"'OB4 - harmonogram'!O28","v":0},{"$f":"'OB4 - harmonogram'!P28","v":0},{"$f":"'OB4 - harmonogram'!Q28","v":0},{"$f":"'OB4 - harmonogram'!R28","v":0},{"$f":"'OB4 - harmonogram'!S28","v":0},{"$f":"'OB4 - harmonogram'!T28","v":0},{"$f":"'OB4 - harmonogram'!U28","v":0},{"$f":"'OB4 - harmonogram'!V28","v":0},{"$f":"'OB4 - harmonogram'!W28","v":0},{"$f":"'OB4 - harmonogram'!X28","v":0},{"$f":"'OB4 - harmonogram'!Y28","v":0},{"$f":"'OB4 - harmonogram'!Z28","v":0},{"$f":"'OB4 - harmonogram'!AA28","v":0},{"$f":"'OB4 - harmonogram'!AB28","v":0},{"$f":"'OB4 - harmonogram'!AC28","v":0},{"$f":"'OB4 - harmonogram'!AD28","v":0},{"$f":"'OB4 - harmonogram'!AE28","v":0},{"$f":"'OB4 - harmonogram'!AF28","v":0},{"$f":"'OB4 - harmonogram'!AG28","v":0},{"$f":"'OB4 - harmonogram'!AH28","v":0},{"$f":"'OB4 - harmonogram'!AI28","v":0},{"$f":"'OB4 - harmonogram'!AJ28","v":0},{"$f":"'OB4 - harmonogram'!AK28","v":0},{"$f":"'OB4 - harmonogram'!AL28","v":0},{"$f":"'OB4 - harmonogram'!AM28","v":0},{"$f":"'OB4 - harmonogram'!AN28","v":0},{"$f":"'OB4 - harmonogram'!AO28","v":0},{"$f":"'OB4 - harmonogram'!AP28","v":0},{"$f":"'OB4 - harmonogram'!AQ28","v":0},{"$f":"'OB4 - harmonogram'!AR28","v":0},{"$f":"'OB4 - harmonogram'!AS28","v":0},{"$f":"'OB4 - harmonogram'!AT28","v":0},{"$f":"'OB4 - harmonogram'!AU28","v":0},{"$f":"'OB4 - harmonogram'!AV28","v":0},{"$f":"'OB4 - harmonogram'!AW28","v":0},{"$f":"'OB4 - harmonogram'!AX28","v":0},{"$f":"'OB4 - harmonogram'!AY28","v":0},{"$f":"'OB4 - harmonogram'!AZ28","v":0},{"$f":"'OB4 - harmonogram'!BA28","v":0},{"$f":"'OB4 - harmonogram'!BB28","v":0},{"$f":"'OB4 - harmonogram'!BC28","v":0},{"$f":"'OB4 - harmonogram'!BD28","v":0},{"$f":"'OB4 - harmonogram'!BE28","v":0},{"$f":"'OB4 - harmonogram'!BF28","v":0},{"$f":"'OB4 - harmonogram'!BG28","v":0},{"$f":"'OB4 - harmonogram'!BH28","v":0},{"$f":"'OB4 - harmonogram'!BI28","v":0},{"$f":"'OB4 - harmonogram'!BJ28","v":0},{"$f":"'OB4 - harmonogram'!BK28","v":0}]
[null,"OB4 - zkušební provoz",null,"EUR",{"$f":"'OB4 - harmonogram'!I30","v":0},{"$f":"'OB4 - harmonogram'!J30","v":0},{"$f":"'OB4 - harmonogram'!K30","v":0},{"$f":"'OB4 - harmonogram'!L30","v":0},{"$f":"'OB4 - harmonogram'!M30","v":0},{"$f":"'OB4 - harmonogram'!N30","v":0},{"$f":"'OB4 - harmonogram'!O30","v":0},{"$f":"'OB4 - harmonogram'!P30","v":0},{"$f":"'OB4 - harmonogram'!Q30","v":0},{"$f":"'OB4 - harmonogram'!R30","v":0},{"$f":"'OB4 - harmonogram'!S30","v":0},{"$f":"'OB4 - harmonogram'!T30","v":0},{"$f":"'OB4 - harmonogram'!U30","v":0},{"$f":"'OB4 - harmonogram'!V30","v":0},{"$f":"'OB4 - harmonogram'!W30","v":0},{"$f":"'OB4 - harmonogram'!X30","v":0},{"$f":"'OB4 - harmonogram'!Y30","v":0},{"$f":"'OB4 - harmonogram'!Z30","v":0},{"$f":"'OB4 - harmonogram'!AA30","v":0},{"$f":"'OB4 - harmonogram'!AB30","v":0},{"$f":"'OB4 - harmonogram'!AC30","v":0},{"$f":"'OB4 - harmonogram'!AD30","v":0},{"$f":"'OB4 - harmonogram'!AE30","v":0},{"$f":"'OB4 - harmonogram'!AF30","v":0},{"$f":"'OB4 - harmonogram'!AG30","v":0},{"$f":"'OB4 - harmonogram'!AH30","v":0},{"$f":"'OB4 - harmonogram'!AI30","v":0},{"$f":"'OB4 - harmonogram'!AJ30","v":0},{"$f":"'OB4 - harmonogram'!AK30","v":0},{"$f":"'OB4 - harmonogram'!AL30","v":0},{"$f":"'OB4 - harmonogram'!AM30","v":0},{"$f":"'OB4 - harmonogram'!AN30","v":0},{"$f":"'OB4 - harmonogram'!AO30","v":0},{"$f":"'OB4 - harmonogram'!AP30","v":0},{"$f":"'OB4 - harmonogram'!AQ30","v":0},{"$f":"'OB4 - harmonogram'!AR30","v":0},{"$f":"'OB4 - harmonogram'!AS30","v":0},{"$f":"'OB4 - harmonogram'!AT30","v":0},{"$f":"'OB4 - harmonogram'!AU30","v":0},{"$f":"'OB4 - harmonogram'!AV30","v":0},{"$f":"'OB4 - harmonogram'!AW30","v":0},{"$f":"'OB4 - harmonogram'!AX30","v":0},{"$f":"'OB4 - harmonogram'!AY30","v":0},{"$f":"'OB4 - harmonogram'!AZ30","v":0},{"$f":"'OB4 - harmonogram'!BA30","v":0},{"$f":"'OB4 - harmonogram'!BB30","v":0},{"$f":"'OB4 - harmonogram'!BC30","v":0},{"$f":"'OB4 - harmonogram'!BD30","v":0},{"$f":"'OB4 - harmonogram'!BE30","v":0},{"$f":"'OB4 - harmonogram'!BF30","v":0},{"$f":"'OB4 - harmonogram'!BG30","v":0},{"$f":"'OB4 - harmonogram'!BH30","v":0},{"$f":"'OB4 - harmonogram'!BI30","v":0},{"$f":"'OB4 - harmonogram'!BJ30","v":0},{"$f":"'OB4 - harmonogram'!BK30","v":0}]
[null,"OB4 - garanční test A",null,"EUR",{"$f":"'OB4 - harmonogram'!I32","v":0},{"$f":"'OB4 - harmonogram'!J32","v":0},{"$f":"'OB4 - harmonogram'!K32","v":0},{"$f":"'OB4 - harmonogram'!L32","v":0},{"$f":"'OB4 - harmonogram'!M32","v":0},{"$f":"'OB4 - harmonogram'!N32","v":0},{"$f":"'OB4 - harmonogram'!O32","v":0},{"$f":"'OB4 - harmonogram'!P32","v":0},{"$f":"'OB4 - harmonogram'!Q32","v":0},{"$f":"'OB4 - harmonogram'!R32","v":0},{"$f":"'OB4 - harmonogram'!S32","v":0},{"$f":"'OB4 - harmonogram'!T32","v":0},{"$f":"'OB4 - harmonogram'!U32","v":0},{"$f":"'OB4 - harmonogram'!V32","v":0},{"$f":"'OB4 - harmonogram'!W32","v":0},{"$f":"'OB4 - harmonogram'!X32","v":0},{"$f":"'OB4 - harmonogram'!Y32","v":0},{"$f":"'OB4 - harmonogram'!Z32","v":0},{"$f":"'OB4 - harmonogram'!AA32","v":0},{"$f":"'OB4 - harmonogram'!AB32","v":0},{"$f":"'OB4 - harmonogram'!AC32","v":0},{"$f":"'OB4 - harmonogram'!AD32","v":0},{"$f":"'OB4 - harmonogram'!AE32","v":0},{"$f":"'OB4 - harmonogram'!AF32","v":0},{"$f":"'OB4 - harmonogram'!AG32","v":0},{"$f":"'OB4 - harmonogram'!AH32","v":0},{"$f":"'OB4 - harmonogram'!AI32","v":0},{"$f":"'OB4 - harmonogram'!AJ32","v":0},{"$f":"'OB4 - harmonogram'!AK32","v":0},{"$f":"'OB4 - harmonogram'!AL32","v":0},{"$f":"'OB4 - harmonogram'!AM32","v":0},{"$f":"'OB4 - harmonogram'!AN32","v":0},{"$f":"'OB4 - harmonogram'!AO32","v":0},{"$f":"'OB4 - harmonogram'!AP32","v":0},{"$f":"'OB4 - harmonogram'!AQ32","v":0},{"$f":"'OB4 - harmonogram'!AR32","v":0},{"$f":"'OB4 - harmonogram'!AS32","v":0},{"$f":"'OB4 - harmonogram'!AT32","v":0},{"$f":"'OB4 - harmonogram'!AU32","v":0},{"$f":"'OB4 - harmonogram'!AV32","v":0},{"$f":"'OB4 - harmonogram'!AW32","v":0},{"$f":"'OB4 - harmonogram'!AX32","v":0},{"$f":"'OB4 - harmonogram'!AY32","v":0},{"$f":"'OB4 - harmonogram'!AZ32","v":0},{"$f":"'OB4 - harmonogram'!BA32","v":0},{"$f":"'OB4 - harmonogram'!BB32","v":0},{"$f":"'OB4 - harmonogram'!BC32","v":0},{"$f":"'OB4 - harmonogram'!BD32","v":0},{"$f":"'OB4 - harmonogram'!BE32","v":0},{"$f":"'OB4 - harmonogram'!BF32","v":0},{"$f":"'OB4 - harmonogram'!BG32","v":0},{"$f":"'OB4 - harmonogram'!BH32","v":0},{"$f":"'OB4 - harmonogram'!BI32","v":0},{"$f":"'OB4 - harmonogram'!BJ32","v":0},{"$f":"'OB4 - harmonogram'!BK32","v":0}]
[null,"OB4 - předběžné převzetí díla PAC",null,"EUR",{"$f":"'OB4 - harmonogram'!I34","v":0},{"$f":"'OB4 - harmonogram'!J34","v":0},{"$f":"'OB4 - harmonogram'!K34","v":0},{"$f":"'OB4 - harmonogram'!L34","v":0},{"$f":"'OB4 - harmonogram'!M34","v":0},{"$f":"'OB4 - harmonogram'!N34","v":0},{"$f":"'OB4 - harmonogram'!O34","v":0},{"$f":"'OB4 - harmonogram'!P34","v":0},{"$f":"'OB4 - harmonogram'!Q34","v":0},{"$f":"'OB4 - harmonogram'!R34","v":0},{"$f":"'OB4 - harmonogram'!S34","v":0},{"$f":"'OB4 - harmonogram'!T34","v":0},{"$f":"'OB4 - harmonogram'!U34","v":0},{"$f":"'OB4 - harmonogram'!V34","v":0},{"$f":"'OB4 - harmonogram'!W34","v":0},{"$f":"'OB4 - harmonogram'!X34","v":0},{"$f":"'OB4 - harmonogram'!Y34","v":0},{"$f":"'OB4 - harmonogram'!Z34","v":0},{"$f":"'OB4 - harmonogram'!AA34","v":0},{"$f":"'OB4 - harmonogram'!AB34","v":0},{"$f":"'OB4 - harmonogram'!AC34","v":0},{"$f":"'OB4 - harmonogram'!AD34","v":0},{"$f":"'OB4 - harmonogram'!AE34","v":0},{"$f":"'OB4 - harmonogram'!AF34","v":0},{"$f":"'OB4 - harmonogram'!AG34","v":0},{"$f":"'OB4 - harmonogram'!AH34","v":0},{"$f":"'OB4 - harmonogram'!AI34","v":0},{"$f":"'OB4 - harmonogram'!AJ34","v":0},{"$f":"'OB4 - harmonogram'!AK34","v":0},{"$f":"'OB4 - harmonogram'!AL34","v":0},{"$f":"'OB4 - harmonogram'!AM34","v":0},{"$f":"'OB4 - harmonogram'!AN34","v":0},{"$f":"'OB4 - harmonogram'!AO34","v":0},{"$f":"'OB4 - harmonogram'!AP34","v":0},{"$f":"'OB4 - harmonogram'!AQ34","v":0},{"$f":"'OB4 - harmonogram'!AR34","v":0},{"$f":"'OB4 - harmonogram'!AS34","v":0},{"$f":"'OB4 - harmonogram'!AT34","v":0},{"$f":"'OB4 - harmonogram'!AU34","v":0},{"$f":"'OB4 - harmonogram'!AV34","v":0},{"$f":"'OB4 - harmonogram'!AW34","v":0},{"$f":"'OB4 - harmonogram'!AX34","v":0},{"$f":"'OB4 - harmonogram'!AY34","v":0},{"$f":"'OB4 - harmonogram'!AZ34","v":0},{"$f":"'OB4 - harmonogram'!BA34","v":0},{"$f":"'OB4 - harmonogram'!BB34","v":0},{"$f":"'OB4 - harmonogram'!BC34","v":0},{"$f":"'OB4 - harmonogram'!BD34","v":0},{"$f":"'OB4 - harmonogram'!BE34","v":0},{"$f":"'OB4 - harmonogram'!BF34","v":0},{"$f":"'OB4 - harmonogram'!BG34","v":0},{"$f":"'OB4 - harmonogram'!BH34","v":0},{"$f":"'OB4 - harmonogram'!BI34","v":0},{"$f":"'OB4 - harmonogram'!BJ34","v":0},{"$f":"'OB4 - harmonogram'!BK34","v":0}]
[]
[null,"Dílčí ceny po měsících  ",null,null,{"$f":"SUM(E7:E17)","v":0},0,0,0,0,0,0,0,0,0,0,0,0,0,0,0,0,0,0,0,0,0,0,0,0,0,0,0,0,0,0,0,0,0,0,0,0,0,0,0,0,0,0,0,0,0,0,0,0,0,0,0,0,0,0]
[null,"Cena celkem",null,null,{"$f":"SUM(E19:BG19)","v":0}]
[]
[null,"Poznámka"]
[null,"Zhotovitel na tomto listu nevyplňuje žádné hodnoty. Hodnoty jsou přenášeny z předcházejících listů."]