Workbook

Sheet Rekapitulace stavby
A1: Export Komplet | AZ1: VZ | BA1: 2.0 | BT1: False | BU1: False | BV1: {1ee1edff-903a-4047-b473-5ad25d4aecf2}
AR2: >> skryté sloupce << | BS2: 0,01 | BT2: 21
BS3: 0,01 | BT3: 12
D4: REKAPITULACE STAVBY | AS4: v --- níže se nacházejí doplnkové a pomocné údaje k sestavám --- v | BE4: Návod na vyplnění | BS4: 0,001
D5: Kód: | K5: 2024/062 | BE5: Měnit lze pouze buňky se žlutým podbarvením!_x000D_ _x000D_ 1) v Rekapitulaci stavby vyplňte údaje o Uchazeči (přenesou se do ostatních sestav i v jiných listech)_x000D_ _x000D_ 2) na vybraných listech vyplňte v sestavě Soupis prací ceny u položek | BS5: 0,01
D6: Stavba: | K6: Kněžpole - rekonstrukce vodovodního řadu A-2 | BS6: 0,01
D7: KSO: | AK7: CC-CZ: | BS7: 0,01
D8: Místo: | K8: Kněžpole | AK8: Datum: | AN8: 24. 10. 2024 | BS8: 0,01
BS9: 0,01
D10: Zadavatel: | AK10: IČ: | BS10: 0,01
AK11: DIČ: | BS11: 0,01
BS12: 0,01
D13: Uchazeč: | AK13: IČ: | AN13: Vyplň údaj | BS13: 0,01
E14: Vyplň údaj | AK14: DIČ: | AN14: Vyplň údaj | BS14: 0,01
BS15: False
D16: Projektant: | AK16: IČ: | BS16: False
AK17: DIČ: | BS17: True
BS18: 0,01
D19: Zpracovatel: | AK19: IČ: | BS19: 0,01
AK20: DIČ: | BS20: False
D22: Poznámka:
E23: Soupis prací je sestaven s využitím Cenové soustavy ÚRS. Položky, které pochází z této cenové soustavy, jsou ve sloupci 'Cenová soustava' označeny popisem 'CS ÚRS' a úrovní příslušného kalendářního pololetí. Veškeré další informace vymezující popis a podmínky použití těchto položek z Cenové soustavy, které nejsou uvedeny přímo v soupisu prací, jsou neomezeně dálkově k dispozici na webu podminky.urs.cz.
D26: Cena bez DPH | AK26: =ROUND(AG54,2) -> 0
L28: Sazba daně | W28: Základ daně | AK28: Výše daně
D29: DPH | F29: základní | L29: 0.21 | W29: =ROUND(AZ54, 2) -> 0 | AK29: =ROUND(AV54, 2) -> 0
F30: snížená | L30: 0.12 | W30: =ROUND(BA54, 2) -> 0 | AK30: =ROUND(AW54, 2) -> 0
F31: zákl. přenesená | L31: 0.21 | W31: =ROUND(BB54, 2) -> 0 | AK31: 0
F32: sníž. přenesená | L32: 0.12 | W32: =ROUND(BC54, 2) -> 0 | AK32: 0
F33: nulová | L33: 0 | W33: =ROUND(BD54, 2) -> 0 | AK33: 0
D35: Cena s DPH | T35: v | X35: CZK | AK35: =SUM(AK26:AK33) -> 0
C42: REKAPITULACE OBJEKTŮ STAVBY A SOUPISŮ PRACÍ
C44: Kód: | L44: =K5 -> 2024/062
C45: Stavba: | L45: =K6 -> Kněžpole - rekonstrukce vodovodního řadu A-2
C47: Místo: | L47: =IF(K8="","",K8) -> Kněžpole | AI47: Datum: | AM47: =IF(AN8= "","",AN8) -> 24. 10. 2024
C49: Zadavatel: | L49: =IF(E11= "","",E11) | AI49: Projektant: | AM49: =IF(E17="","",E17) | AS49: Informatívní údaje z listů zakázek
C50: Uchazeč: | L50: =IF(E14= "Vyplň údaj","",E14) | AI50: Zpracovatel: | AM50: =IF(E20="","",E20)
C52: Kód | I52: Popis | AG52: Cena bez DPH [CZK] | AN52: Cena s DPH [CZK] | AQ52: Typ | AS52: z toho Ostat._x000D_ náklady [CZK] | AT52: DPH [CZK] | AU52: Normohodiny [h] | AV52: DPH základní [CZK] | AW52: DPH snížená [CZK] | AX52: DPH základní přenesená_x000D_ [CZK] | AY52: DPH snížená přenesená_x000D_ [CZK] | AZ52: Základna_x000D_ DPH základní | BA52: Základna_x000D_ DPH snížená | BB52: Základna_x000D_ DPH zákl. přenesená | BC52: Základna_x000D_ DPH sníž. přenesená | BD52: Základna_x000D_ DPH nulová
C54: Náklady stavby celkem | AG54: =ROUND(SUM(AG55:AG58),2) -> 0 | AN54: =SUM(AG54,AT54) -> 0 | AS54: =ROUND(SUM(AS55:AS58),2) -> 0 | AT54: =ROUND(SUM(AV54:AW54),2) -> 0 | AU54: =ROUND(SUM(AU55:AU58),5) -> 0 | AV54: =ROUND(AZ54*L29,2) -> 0 | AW54: =ROUND(BA54*L30,2) -> 0 | AX54: =ROUND(BB54*L29,2) -> 0 | AY54: =ROUND(BC54*L30,2) -> 0 | AZ54: =ROUND(SUM(AZ55:AZ58),2) -> 0 | BA54: =ROUND(SUM(BA55:BA58),2) -> 0 | BB54: =ROUND(SUM(BB55:BB58),2) -> 0 | BC54: =ROUND(SUM(BC55:BC58),2) -> 0 | BD54: =ROUND(SUM(BD55:BD58),2) -> 0 | BS54: D | BT54: 0 | BU54: ###NOIMPORT### | BV54: IMPORT | BW54: {1ee1edff-903a-4047-b473-5ad25d4aecf2} | BX54: {00000000-0000-0000-0000-000000000000}
A55: / | D55: 001 | J55: Výkopové práce a obnova povrchů | AG55: ='001 - Výkopové práce a ob...'!J30 -> 0 | AN55: =SUM(AG55,AT55) -> 0 | AQ55: STA | AS55: 0 | AT55: =ROUND(SUM(AV55:AW55),2) -> 0 | AU55: ='001 - Výkopové práce a ob...'!P86 -> 0 | AV55: ='001 - Výkopové práce a ob...'!J33 -> 0 | AW55: ='001 - Výkopové práce a ob...'!J34 -> 0 | AX55: ='001 - Výkopové práce a ob...'!J35 -> 0 | AY55: ='001 - Výkopové práce a ob...'!J36 -> 0 | AZ55: ='001 - Výkopové práce a ob...'!F33 -> 0 | BA55: ='001 - Výkopové práce a ob...'!F34 -> 0 | BB55: ='001 - Výkopové práce a ob...'!F35 -> 0 | BC55: ='001 - Výkopové práce a ob...'!F36 -> 0 | BD55: ='001 - Výkopové práce a ob...'!F37 -> 0 | BT55: 1 | BV55: IMPORT | BW55: {1e65234f-1e08-4b22-a470-19fccc502e7a} | BX55: {1ee1edff-903a-4047-b473-5ad25d4aecf2} | CM55: 2
A56: / | D56: 002 | J56: Rekonstrukce vodovodního řadu A-2 - řad (výpis materiálu) | AG56: ='002 - Rekonstrukce vodovo...'!J30 -> 0 | AN56: =SUM(AG56,AT56) -> 0 | AQ56: STA | AS56: 0 | AT56: =ROUND(SUM(AV56:AW56),2) -> 0 | AU56: ='002 - Rekonstrukce vodovo...'!P84 -> 0 | AV56: ='002 - Rekonstrukce vodovo...'!J33 -> 0 | AW56: ='002 - Rekonstrukce vodovo...'!J34 -> 0 | AX56: ='002 - Rekonstrukce vodovo...'!J35 -> 0 | AY56: ='002 - Rekonstrukce vodovo...'!J36 -> 0 | AZ56: ='002 - Rekonstrukce vodovo...'!F33 -> 0 | BA56: ='002 - Rekonstrukce vodovo...'!F34 -> 0 | BB56: ='002 - Rekonstrukce vodovo...'!F35 -> 0 | BC56: ='002 - Rekonstrukce vodovo...'!F36 -> 0 | BD56: ='002 - Rekonstrukce vodovo...'!F37 -> 0 | BT56: 1 | BV56: IMPORT | BW56: {0e38d6d4-dac9-481b-ad69-c716a637f89d} | BX56: {1ee1edff-903a-4047-b473-5ad25d4aecf2} | CM56: 2
A57: / | D57: 003 | J57: Rekonstrukce vodovodního řadu A-2 - přepojení přípojek (výpis materiálu) | AG57: ='003 - Rekonstrukce vodovo...'!J30 -> 0 | AN57: =SUM(AG57,AT57) -> 0 | AQ57: STA | AS57: 0 | AT57: =ROUND(SUM(AV57:AW57),2) -> 0 | AU57: ='003 - Rekonstrukce vodovo...'!P83 -> 0 | AV57: ='003 - Rekonstrukce vodovo...'!J33 -> 0 | AW57: ='003 - Rekonstrukce vodovo...'!J34 -> 0 | AX57: ='003 - Rekonstrukce vodovo...'!J35 -> 0 | AY57: ='003 - Rekonstrukce vodovo...'!J36 -> 0 | AZ57: ='003 - Rekonstrukce vodovo...'!F33 -> 0 | BA57: ='003 - Rekonstrukce vodovo...'!F34 -> 0 | BB57: ='003 - Rekonstrukce vodovo...'!F35 -> 0 | BC57: ='003 - Rekonstrukce vodovo...'!F36 -> 0 | BD57: ='003 - Rekonstrukce vodovo...'!F37 -> 0 | BT57: 1 | BV57: IMPORT | BW57: {80b6af0f-b66b-4fdb-ac22-0683bebdbcd2} | BX57: {1ee1edff-903a-4047-b473-5ad25d4aecf2} | CM57: 2
A58: / | D58: 090 | J58: Vedlejší a ostatní náklady | AG58: ='090 - Vedlejší a ostatní ...'!J30 -> 0 | AN58: =SUM(AG58,AT58) -> 0 | AQ58: STA | AS58: 0 | AT58: =ROUND(SUM(AV58:AW58),2) -> 0 | AU58: ='090 - Vedlejší a ostatní ...'!P80 -> 0 | AV58: ='090 - Vedlejší a ostatní ...'!J33 -> 0 | AW58: ='090 - Vedlejší a ostatní ...'!J34 -> 0 | AX58: ='090 - Vedlejší a ostatní ...'!J35 -> 0 | AY58: ='090 - Vedlejší a ostatní ...'!J36 -> 0 | AZ58: ='090 - Vedlejší a ostatní ...'!F33 -> 0 | BA58: ='090 - Vedlejší a ostatní ...'!F34 -> 0 | BB58: ='090 - Vedlejší a ostatní ...'!F35 -> 0 | BC58: ='090 - Vedlejší a ostatní ...'!F36 -> 0 | BD58: ='090 - Vedlejší a ostatní ...'!F37 -> 0 | BT58: 1 | BV58: IMPORT | BW58: {0d8741c4-9b3b-4ba6-a379-e96df5b32fb1} | BX58: {1ee1edff-903a-4047-b473-5ad25d4aecf2} | CM58: 2

Sheet 001 - Výkopové práce a ob...
L2: >> skryté sloupce << | AT2: {1e65234f-1e08-4b22-a470-19fccc502e7a}
AT3: 2
D4: KRYCÍ LIST SOUPISU PRACÍ | M4: v --- níže se nacházejí doplnkové a pomocné údaje k sestavám --- v | AT4: False
D6: Stavba:
E7: ='Rekapitulace stavby'!K6 -> Kněžpole - rekonstrukce vodovodního řadu A-2
D8: Objekt:
E9: 001 - Výkopové práce a obnova povrchů
D11: KSO: | I11: CC-CZ:
D12: Místo: | F12: Kněžpole | I12: Datum: | J12: ='Rekapitulace stavby'!AN8 -> 24. 10. 2024
D14: Zadavatel: | I14: IČ: | J14: =IF('Rekapitulace stavby'!AN10="","",'Rekapitulace stavby'!AN10)
E15: =IF('Rekapitulace stavby'!E11="","",'Rekapitulace stavby'!E11) | I15: DIČ: | J15: =IF('Rekapitulace stavby'!AN11="","",'Rekapitulace stavby'!AN11)
D17: Uchazeč: | I17: IČ: | J17: ='Rekapitulace stavby'!AN13 -> Vyplň údaj
E18: ='Rekapitulace stavby'!E14 -> Vyplň údaj | I18: DIČ: | J18: ='Rekapitulace stavby'!AN14 -> Vyplň údaj
D20: Projektant: | I20: IČ: | J20: =IF('Rekapitulace stavby'!AN16="","",'Rekapitulace stavby'!AN16)
E21: =IF('Rekapitulace stavby'!E17="","",'Rekapitulace stavby'!E17) | I21: DIČ: | J21: =IF('Rekapitulace stavby'!AN17="","",'Rekapitulace stavby'!AN17)
D23: Zpracovatel: | I23: IČ: | J23: =IF('Rekapitulace stavby'!AN19="","",'Rekapitulace stavby'!AN19)
E24: =IF('Rekapitulace stavby'!E20="","",'Rekapitulace stavby'!E20) | I24: DIČ: | J24: =IF('Rekapitulace stavby'!AN20="","",'Rekapitulace stavby'!AN20)
D26: Poznámka:
D30: Cena bez DPH | J30: =ROUND(J86, 2) -> 0
F32: Základ daně | I32: Sazba daně | J32: Výše daně
D33: DPH | E33: základní | F33: =ROUND((SUM(BE86:BE498)), 2) -> 0 | I33: 0.21 | J33: =ROUND(((SUM(BE86:BE498))*I33), 2) -> 0
E34: snížená | F34: =ROUND((SUM(BF86:BF498)), 2) -> 0 | I34: 0.12 | J34: =ROUND(((SUM(BF86:BF498))*I34), 2) -> 0
E35: zákl. přenesená | F35: =ROUND((SUM(BG86:BG498)), 2) -> 0 | I35: 0.21 | J35: =0 -> 0
E36: sníž. přenesená | F36: =ROUND((SUM(BH86:BH498)), 2) -> 0 | I36: 0.12 | J36: =0 -> 0
E37: nulová | F37: =ROUND((SUM(BI86:BI498)), 2) -> 0 | I37: 0 | J37: =0 -> 0
D39: Cena s DPH | G39: v | H39: CZK | J39: =SUM(J30:J37) -> 0
C45: REKAPITULACE ČLENĚNÍ SOUPISU PRACÍ
C47: Stavba:
E48: =E7 -> Kněžpole - rekonstrukce vodovodního řadu A-2
C49: Objekt:
E50: =E9 -> 001 - Výkopové práce a obnova povrchů
C52: Místo: | F52: =F12 -> Kněžpole | I52: Datum: | J52: =IF(J12="","",J12) -> 24. 10. 2024
C54: Zadavatel: | F54: =E15 | I54: Projektant: | J54: =E21
C55: Uchazeč: | F55: =IF(E18="","",E18) -> Vyplň údaj | I55: Zpracovatel: | J55: =E24
C57: Kód dílu - Popis | J57: Cena celkem [CZK]
C59: Náklady stavby celkem | J59: =J86 -> 0 | AU59: -1
D60: HSV - Práce a dodávky HSV | J60: =J87 -> 0
D61: 1 - Zemní práce | J61: =J88 -> 0
D62: 4 - Vodorovné konstrukce | J62: =J376 -> 0
D63: 5 - Komunikace pozemní | J63: =J398 -> 0
D64: 9 - Ostatní konstrukce a práce, bourání | J64: =J440 -> 0
D65: 997 - Přesun sutě | J65: =J463 -> 0
D66: 998 - Přesun hmot | J66: =J496 -> 0
C73: SOUPIS PRACÍ
C75: Stavba:
E76: =E7 -> Kněžpole - rekonstrukce vodovodního řadu A-2
C77: Objekt:
E78: =E9 -> 001 - Výkopové práce a obnova povrchů
C80: Místo: | F80: =F12 -> Kněžpole | I80: Datum: | J80: =IF(J12="","",J12) -> 24. 10. 2024
C82: Zadavatel: | F82: =E15 | I82: Projektant: | J82: =E21
C83: Uchazeč: | F83: =IF(E18="","",E18) -> Vyplň údaj | I83: Zpracovatel: | J83: =E24
C85: PČ | D85: Typ | E85: Kód | F85: Popis | G85: MJ | H85: Množství | I85: J.cena [CZK] | J85: Cena celkem [CZK] | K85: Cenová soustava | N85: DPH | O85: J. Nh [h] | P85: Nh celkem [h] | Q85: J. hmotnost [t] | R85: Hmotnost celkem [t] | S85: J. suť [t] | T85: Suť Celkem [t]
C86: Náklady soupisu celkem | J86: =BK86 -> 0 | P86: =P87 -> 0 | R86: =R87 -> 2.3641 | T86: =T87 -> 78.04575 | AT86: D | AU86: -1 | BK86: =BK87 -> 0
D87: D | E87: HSV | F87: Práce a dodávky HSV | J87: =BK87 -> 0 | P87: =P88+P376+P398+P440+P463+P496 -> 0 | R87: =R88+R376+R398+R440+R463+R496 -> 2.3641 | T87: =T88+T376+T398+T440+T463+T496 -> 78.04575 | AR87: 1 | AT87: D | AU87: 0 | AY87: ROZPOCET | BK87: =BK88+BK376+BK398+BK440+BK463+BK496 -> 0
D88: D | E88: 1 | F88: Zemní práce | J88: =BK88 -> 0 | P88: =SUM(P89:P375) -> 0 | R88: =SUM(R89:R375) -> 2.287343 | T88: =SUM(T89:T375) -> 78.04575 | AR88: 1 | AT88: D | AU88: 1 | AY88: ROZPOCET | BK88: =SUM(BK89:BK375) -> 0
C89: 1 | D89: K | E89: 113106134 | F89: Rozebrání dlažeb komunikací pro pěší s přemístěním hmot na skládku na vzdálenost do 3 m nebo s naložením na dopravní prostředek s ložem z kameniva nebo živice a s jakoukoliv výplní spár strojně plochy jednotlivě do 50 m2 ze zámkové dlažby | G89: m2 | H89: 15 | J89: =ROUND(I89*H89,2) -> 0 | K89: CS ÚRS 2024 02 | N89: základní | P89: =O89*H89 -> 0 | Q89: 0 | R89: =Q89*H89 -> 0 | S89: 0.26 | T89: =S89*H89 -> 3.9 | AR89: 4 | AT89: K | AU89: 2 | AY89: ROZPOCET | BE89: =IF(N89="základní",J89,0) -> 0 | BF89: =IF(N89="snížená",J89,0) -> 0 | BG89: =IF(N89="zákl. přenesená",J89,0) -> 0 | BH89: =IF(N89="sníž. přenesená",J89,0) -> 0 | BI89: =IF(N89="nulová",J89,0) -> 0 | BJ89: 1 | BK89: =ROUND(I89*H89,2) -> 0 | BL89: 4 | BM89: 905845466
D90: Online PSC | F90: https://podminky.urs.cz/item/CS_URS_2024_02/113106134 | AT90: Online PSC | AU90: 2
D91: VV | F91: "Rozebrání a obnova povrchu nad rýhou a v rozšíření dle C4." | AT91: VV | AU91: 2 | AV91: 1 | AW91: True | AX91: 0 | AY91: ROZPOCET
D92: VV | F92: "Chodník, dlažba:" 15 | H92: 15 | AT92: VV | AU92: 2 | AV92: 2 | AW92: True | AX92: 0 | AY92: ROZPOCET
D93: VV | F93: Součet | H93: 15 | AT93: VV | AU93: 2 | AV93: 4 | AW93: True | AX93: 1 | AY93: ROZPOCET
C94: 2 | D94: K | E94: 113106187 | F94: Rozebrání dlažeb vozovek a ploch s přemístěním hmot na skládku na vzdálenost do 3 m nebo s naložením na dopravní prostředek, s jakoukoliv výplní spár strojně plochy jednotlivě do 50 m2 ze zámkové dlažby s ložem z kameniva | G94: m2 | H94: 7 | J94: =ROUND(I94*H94,2) -> 0 | K94: CS ÚRS 2024 02 | N94: základní | P94: =O94*H94 -> 0 | Q94: 0 | R94: =Q94*H94 -> 0 | S94: 0.295 | T94: =S94*H94 -> 2.065 | AR94: 4 | AT94: K | AU94: 2 | AY94: ROZPOCET | BE94: =IF(N94="základní",J94,0) -> 0 | BF94: =IF(N94="snížená",J94,0) -> 0 | BG94: =IF(N94="zákl. přenesená",J94,0) -> 0 | BH94: =IF(N94="sníž. přenesená",J94,0) -> 0 | BI94: =IF(N94="nulová",J94,0) -> 0 | BJ94: 1 | BK94: =ROUND(I94*H94,2) -> 0 | BL94: 4 | BM94: -675659921
D95: Online PSC | F95: https://podminky.urs.cz/item/CS_URS_2024_02/113106187 | AT95: Online PSC | AU95: 2
D96: VV | F96: "Rozebrání a obnova povrchu nad rýhou a v rozšíření dle C4." | AT96: VV | AU96: 2 | AV96: 1 | AW96: True | AX96: 0 | AY96: ROZPOCET
D97: VV | F97: "Vjezd, dlažba:" 7 | H97: 7 | AT97: VV | AU97: 2 | AV97: 2 | AW97: True | AX97: 0 | AY97: ROZPOCET
D98: VV | F98: Součet | H98: 7 | AT98: VV | AU98: 2 | AV98: 4 | AW98: True | AX98: 1 | AY98: ROZPOCET
C99: 3 | D99: K | E99: 113107423 | F99: Odstranění podkladů nebo krytů při překopech inženýrských sítí s přemístěním hmot na skládku ve vzdálenosti do 3 m nebo s naložením na dopravní prostředek strojně plochy jednotlivě do 15 m2 z kameniva hrubého drceného, o tl. vrstvy přes 200 do 300 mm | G99: m2 | H99: 68.5 | J99: =ROUND(I99*H99,2) -> 0 | K99: CS ÚRS 2024 02 | N99: základní | P99: =O99*H99 -> 0 | Q99: 0 | R99: =Q99*H99 -> 0 | S99: 0.44 | T99: =S99*H99 -> 30.14 | AR99: 4 | AT99: K | AU99: 2 | AY99: ROZPOCET | BE99: =IF(N99="základní",J99,0) -> 0 | BF99: =IF(N99="snížená",J99,0) -> 0 | BG99: =IF(N99="zákl. přenesená",J99,0) -> 0 | BH99: =IF(N99="sníž. přenesená",J99,0) -> 0 | BI99: =IF(N99="nulová",J99,0) -> 0 | BJ99: 1 | BK99: =ROUND(I99*H99,2) -> 0 | BL99: 4 | BM99: -425717841
D100: Online PSC | F100: https://podminky.urs.cz/item/CS_URS_2024_02/113107423 | AT100: Online PSC | AU100: 2
D101: VV | F101: "Rozebrání a obnova povrchu nad rýhou dle C4." | AT101: VV | AU101: 2 | AV101: 1 | AW101: True | AX101: 0 | AY101: ROZPOCET
D102: VV | F102: "MK živice:" 3,5 | H102: 3.5 | AT102: VV | AU102: 2 | AV102: 2 | AW102: True | AX102: 0 | AY102: ROZPOCET
D103: VV | F103: "MK živice (provizorium):" 53 | H103: 53 | AT103: VV | AU103: 2 | AV103: 2 | AW103: True | AX103: 0 | AY103: ROZPOCET
D104: VV | F104: "Chodník, dlažba:" 12 | H104: 12 | AT104: VV | AU104: 2 | AV104: 2 | AW104: True | AX104: 0 | AY104: ROZPOCET
D105: VV | F105: Součet | H105: 68.5 | AT105: VV | AU105: 2 | AV105: 4 | AW105: True | AX105: 1 | AY105: ROZPOCET
C106: 4 | D106: K | E106: 113107424 | F106: Odstranění podkladů nebo krytů při překopech inženýrských sítí s přemístěním hmot na skládku ve vzdálenosti do 3 m nebo s naložením na dopravní prostředek strojně plochy jednotlivě do 15 m2 z kameniva hrubého drceného, o tl. vrstvy přes 300 do 400 mm | G106: m2 | H106: 5 | J106: =ROUND(I106*H106,2) -> 0 | K106: CS ÚRS 2024 02 | N106: základní | P106: =O106*H106 -> 0 | Q106: 0 | R106: =Q106*H106 -> 0 | S106: 0.58 | T106: =S106*H106 -> 2.9 | AR106: 4 | AT106: K | AU106: 2 | AY106: ROZPOCET | BE106: =IF(N106="základní",J106,0) -> 0 | BF106: =IF(N106="snížená",J106,0) -> 0 | BG106: =IF(N106="zákl. přenesená",J106,0) -> 0 | BH106: =IF(N106="sníž. přenesená",J106,0) -> 0 | BI106: =IF(N106="nulová",J106,0) -> 0 | BJ106: 1 | BK106: =ROUND(I106*H106,2) -> 0 | BL106: 4 | BM106: -261833416
D107: Online PSC | F107: https://podminky.urs.cz/item/CS_URS_2024_02/113107424 | AT107: Online PSC | AU107: 2
D108: VV | F108: "Rozebrání a obnova povrchu nad rýhou dle C4." | AT108: VV | AU108: 2 | AV108: 1 | AW108: True | AX108: 0 | AY108: ROZPOCET
D109: VV | F109: "Vjezd, dlažba:" 5 | H109: 5 | AT109: VV | AU109: 2 | AV109: 2 | AW109: True | AX109: 0 | AY109: ROZPOCET
D110: VV | F110: Součet | H110: 5 | AT110: VV | AU110: 2 | AV110: 4 | AW110: True | AX110: 1 | AY110: ROZPOCET
C111: 5 | D111: K | E111: 113107443 | F111: Odstranění podkladů nebo krytů při překopech inženýrských sítí s přemístěním hmot na skládku ve vzdálenosti do 3 m nebo s naložením na dopravní prostředek strojně plochy jednotlivě do 15 m2 živičných, o tl. vrstvy přes 100 do 150 mm | G111: m2 | H111: 53 | J111: =ROUND(I111*H111,2) -> 0 | K111: CS ÚRS 2024 02 | N111: základní | P111: =O111*H111 -> 0 | Q111: 0 | R111: =Q111*H111 -> 0 | S111: 0.316 | T111: =S111*H111 -> 16.748 | AR111: 4 | AT111: K | AU111: 2 | AY111: ROZPOCET | BE111: =IF(N111="základní",J111,0) -> 0 | BF111: =IF(N111="snížená",J111,0) -> 0 | BG111: =IF(N111="zákl. přenesená",J111,0) -> 0 | BH111: =IF(N111="sníž. přenesená",J111,0) -> 0 | BI111: =IF(N111="nulová",J111,0) -> 0 | BJ111: 1 | BK111: =ROUND(I111*H111,2) -> 0 | BL111: 4 | BM111: -1482228428
D112: Online PSC | F112: https://podminky.urs.cz/item/CS_URS_2024_02/113107443 | AT112: Online PSC | AU112: 2
D113: VV | F113: "Rozebrání a obnova povrchu nad rýhou dle C4." | AT113: VV | AU113: 2 | AV113: 1 | AW113: True | AX113: 0 | AY113: ROZPOCET
D114: VV | F114: "MK živice (provizorium):" 53 | H114: 53 | AT114: VV | AU114: 2 | AV114: 2 | AW114: True | AX114: 0 | AY114: ROZPOCET
D115: VV | F115: Součet | H115: 53 | AT115: VV | AU115: 2 | AV115: 4 | AW115: True | AX115: 1 | AY115: ROZPOCET
C116: 6 | D116: K | E116: 113154523 | F116: Frézování živičného podkladu nebo krytu s naložením hmot na dopravní prostředek plochy do 500 m2 pruhu šířky přes 0,5 m, tloušťky vrstvy 50 mm | G116: m2 | H116: =8+103.25 -> 111.25 | J116: =ROUND(I116*H116,2) -> 0 | K116: CS ÚRS 2024 02 | N116: základní | P116: =O116*H116 -> 0 | Q116: 1.428e-05 | R116: =Q116*H116 -> 0.00158865 | S116: 0.115 | T116: =S116*H116 -> 12.79375 | AR116: 4 | AT116: K | AU116: 2 | AY116: ROZPOCET | BE116: =IF(N116="základní",J116,0) -> 0 | BF116: =IF(N116="snížená",J116,0) -> 0 | BG116: =IF(N116="zákl. přenesená",J116,0) -> 0 | BH116: =IF(N116="sníž. přenesená",J116,0) -> 0 | BI116: =IF(N116="nulová",J116,0) -> 0 | BJ116: 1 | BK116: =ROUND(I116*H116,2) -> 0 | BL116: 4 | BM116: 1787774005
D117: Online PSC | F117: https://podminky.urs.cz/item/CS_URS_2024_02/113154523 | AT117: Online PSC | AU117: 2
D118: VV | F118: "Rozebrání a obnova povrchu nad rýhou a v rozšíření dle C4." | AT118: VV | AU118: 2 | AV118: 1 | AW118: True | AX118: 0 | AY118: ROZPOCET
D119: VV | F119: "MK živice:" 8 + 103,25 | H119: 8 | AT119: VV | AU119: 2 | AV119: 2 | AW119: True | AX119: 0 | AY119: ROZPOCET
D120: VV | F120: Součet | H120: 8 | AT120: VV | AU120: 2 | AV120: 4 | AW120: True | AX120: 1 | AY120: ROZPOCET
C121: 7 | D121: K | E121: 113154525 | F121: Frézování živičného podkladu nebo krytu s naložením hmot na dopravní prostředek plochy do 500 m2 pruhu šířky přes 0,5 m, tloušťky vrstvy 70 mm | G121: m2 | H121: =6+53 -> 59 | J121: =ROUND(I121*H121,2) -> 0 | K121: CS ÚRS 2024 02 | N121: základní | P121: =O121*H121 -> 0 | Q121: 2e-05 | R121: =Q121*H121 -> 0.00118 | S121: 0.161 | T121: =S121*H121 -> 9.499 | AR121: 4 | AT121: K | AU121: 2 | AY121: ROZPOCET | BE121: =IF(N121="základní",J121,0) -> 0 | BF121: =IF(N121="snížená",J121,0) -> 0 | BG121: =IF(N121="zákl. přenesená",J121,0) -> 0 | BH121: =IF(N121="sníž. přenesená",J121,0) -> 0 | BI121: =IF(N121="nulová",J121,0) -> 0 | BJ121: 1 | BK121: =ROUND(I121*H121,2) -> 0 | BL121: 4 | BM121: 1188730881
D122: Online PSC | F122: https://podminky.urs.cz/item/CS_URS_2024_02/113154525 | AT122: Online PSC | AU122: 2
D123: VV | F123: "Rozebrání a obnova povrchu nad rýhou a v rozšíření dle C4." | AT123: VV | AU123: 2 | AV123: 1 | AW123: True | AX123: 0 | AY123: ROZPOCET
D124: VV | F124: "MK živice:" 6 + 53 | H124: 6 | AT124: VV | AU124: 2 | AV124: 2 | AW124: True | AX124: 0 | AY124: ROZPOCET
D125: VV | F125: Součet | H125: 6 | AT125: VV | AU125: 2 | AV125: 4 | AW125: True | AX125: 1 | AY125: ROZPOCET
C126: 8 | D126: K | E126: 119001405 | F126: Dočasné zajištění podzemního potrubí nebo vedení ve výkopišti ve stavu i poloze, ve kterých byla na začátku zemních prací a to s podepřením, vzepřením nebo vyvěšením, případně s ochranným bedněním, se zřízením a odstraněním zajišťovací konstrukce, s opotřebením hmot potrubí plastového, jmenovité světlosti DN do 200 mm | G126: m | H126: 18 | J126: =ROUND(I126*H126,2) -> 0 | K126: CS ÚRS 2024 02 | N126: základní | P126: =O126*H126 -> 0 | Q126: 0.0369043 | R126: =Q126*H126 -> 0.6642774 | S126: 0 | T126: =S126*H126 -> 0 | AR126: 4 | AT126: K | AU126: 2 | AY126: ROZPOCET | BE126: =IF(N126="základní",J126,0) -> 0 | BF126: =IF(N126="snížená",J126,0) -> 0 | BG126: =IF(N126="zákl. přenesená",J126,0) -> 0 | BH126: =IF(N126="sníž. přenesená",J126,0) -> 0 | BI126: =IF(N126="nulová",J126,0) -> 0 | BJ126: 1 | BK126: =ROUND(I126*H126,2) -> 0 | BL126: 4 | BM126: -49264690
D127: Online PSC | F127: https://podminky.urs.cz/item/CS_URS_2024_02/119001405 | AT127: Online PSC | AU127: 2
D128: VV | F128: "Předpokládané křížení inženýrských sítí při přepojování přípojek." | AT128: VV | AU128: 2 | AV128: 1 | AW128: True | AX128: 0 | AY128: ROZPOCET
D129: VV | F129: "Vodovod, plynovod, kanalizace:" 6*(1+1+1) | H129: 18 | AT129: VV | AU129: 2 | AV129: 2 | AW129: True | AX129: 0 | AY129: ROZPOCET
D130: VV | F130: Součet | H130: 18 | AT130: VV | AU130: 2 | AV130: 4 | AW130: True | AX130: 1 | AY130: ROZPOCET
C131: 9 | D131: K | E131: 119001421 | F131: Dočasné zajištění podzemního potrubí nebo vedení ve výkopišti ve stavu i poloze, ve kterých byla na začátku zemních prací a to s podepřením, vzepřením nebo vyvěšením, případně s ochranným bedněním, se zřízením a odstraněním zajišťovací konstrukce, s opotřebením hmot kabelů a kabelových tratí z volně ložených kabelů a to do 3 kabelů | G131: m | H131: 18 | J131: =ROUND(I131*H131,2) -> 0 | K131: CS ÚRS 2024 02 | N131: základní | P131: =O131*H131 -> 0 | Q131: 0.0369043 | R131: =Q131*H131 -> 0.6642774 | S131: 0 | T131: =S131*H131 -> 0 | AR131: 4 | AT131: K | AU131: 2 | AY131: ROZPOCET | BE131: =IF(N131="základní",J131,0) -> 0 | BF131: =IF(N131="snížená",J131,0) -> 0 | BG131: =IF(N131="zákl. přenesená",J131,0) -> 0 | BH131: =IF(N131="sníž. přenesená",J131,0) -> 0 | BI131: =IF(N131="nulová",J131,0) -> 0 | BJ131: 1 | BK131: =ROUND(I131*H131,2) -> 0 | BL131: 4 | BM131: -624719814
D132: Online PSC | F132: https://podminky.urs.cz/item/CS_URS_2024_02/119001421 | AT132: Online PSC | AU132: 2
D133: VV | F133: "Předpokládané křížení inženýrských sítí při přepojování přípojek." | AT133: VV | AU133: 2 | AV133: 1 | AW133: True | AX133: 0 | AY133: ROZPOCET
...

Sheet 002 - Rekonstrukce vodovo...
L2: >> skryté sloupce << | AT2: {0e38d6d4-dac9-481b-ad69-c716a637f89d}
AT3: 2
D4: KRYCÍ LIST SOUPISU PRACÍ | M4: v --- níže se nacházejí doplnkové a pomocné údaje k sestavám --- v | AT4: False
D6: Stavba:
E7: ='Rekapitulace stavby'!K6 -> Kněžpole - rekonstrukce vodovodního řadu A-2
D8: Objekt:
E9: 002 - Rekonstrukce vodovodního řadu A-2 - řad (výpis materiálu)
D11: KSO: | I11: CC-CZ:
D12: Místo: | F12: Kněžpole | I12: Datum: | J12: ='Rekapitulace stavby'!AN8 -> 24. 10. 2024
D14: Zadavatel: | I14: IČ: | J14: =IF('Rekapitulace stavby'!AN10="","",'Rekapitulace stavby'!AN10)
E15: =IF('Rekapitulace stavby'!E11="","",'Rekapitulace stavby'!E11) | I15: DIČ: | J15: =IF('Rekapitulace stavby'!AN11="","",'Rekapitulace stavby'!AN11)
D17: Uchazeč: | I17: IČ: | J17: ='Rekapitulace stavby'!AN13 -> Vyplň údaj
E18: ='Rekapitulace stavby'!E14 -> Vyplň údaj | I18: DIČ: | J18: ='Rekapitulace stavby'!AN14 -> Vyplň údaj
D20: Projektant: | I20: IČ: | J20: =IF('Rekapitulace stavby'!AN16="","",'Rekapitulace stavby'!AN16)
E21: =IF('Rekapitulace stavby'!E17="","",'Rekapitulace stavby'!E17) | I21: DIČ: | J21: =IF('Rekapitulace stavby'!AN17="","",'Rekapitulace stavby'!AN17)
D23: Zpracovatel: | I23: IČ: | J23: =IF('Rekapitulace stavby'!AN19="","",'Rekapitulace stavby'!AN19)
E24: =IF('Rekapitulace stavby'!E20="","",'Rekapitulace stavby'!E20) | I24: DIČ: | J24: =IF('Rekapitulace stavby'!AN20="","",'Rekapitulace stavby'!AN20)
D26: Poznámka:
D30: Cena bez DPH | J30: =ROUND(J84, 2) -> 0
F32: Základ daně | I32: Sazba daně | J32: Výše daně
D33: DPH | E33: základní | F33: =ROUND((SUM(BE84:BE228)), 2) -> 0 | I33: 0.21 | J33: =ROUND(((SUM(BE84:BE228))*I33), 2) -> 0
E34: snížená | F34: =ROUND((SUM(BF84:BF228)), 2) -> 0 | I34: 0.12 | J34: =ROUND(((SUM(BF84:BF228))*I34), 2) -> 0
E35: zákl. přenesená | F35: =ROUND((SUM(BG84:BG228)), 2) -> 0 | I35: 0.21 | J35: =0 -> 0
E36: sníž. přenesená | F36: =ROUND((SUM(BH84:BH228)), 2) -> 0 | I36: 0.12 | J36: =0 -> 0
E37: nulová | F37: =ROUND((SUM(BI84:BI228)), 2) -> 0 | I37: 0 | J37: =0 -> 0
D39: Cena s DPH | G39: v | H39: CZK | J39: =SUM(J30:J37) -> 0
C45: REKAPITULACE ČLENĚNÍ SOUPISU PRACÍ
C47: Stavba:
E48: =E7 -> Kněžpole - rekonstrukce vodovodního řadu A-2
C49: Objekt:
E50: =E9 -> 002 - Rekonstrukce vodovodního řadu A-2 - řad (výpis materiálu)
C52: Místo: | F52: =F12 -> Kněžpole | I52: Datum: | J52: =IF(J12="","",J12) -> 24. 10. 2024
C54: Zadavatel: | F54: =E15 | I54: Projektant: | J54: =E21
C55: Uchazeč: | F55: =IF(E18="","",E18) -> Vyplň údaj | I55: Zpracovatel: | J55: =E24
C57: Kód dílu - Popis | J57: Cena celkem [CZK]
C59: Náklady stavby celkem | J59: =J84 -> 0 | AU59: -1
D60: HSV - Práce a dodávky HSV | J60: =J85 -> 0
D61: 8 - Trubní vedení | J61: =J86 -> 0
D62: 85 - Potrubí z trub litinových | J62: =J176 -> 0
D63: 89 - Ostatní konstrukce | J63: =J179 -> 0
D64: 998 - Přesun hmot | J64: =J226 -> 0
C71: SOUPIS PRACÍ
C73: Stavba:
E74: =E7 -> Kněžpole - rekonstrukce vodovodního řadu A-2
C75: Objekt:
E76: =E9 -> 002 - Rekonstrukce vodovodního řadu A-2 - řad (výpis materiálu)
C78: Místo: | F78: =F12 -> Kněžpole | I78: Datum: | J78: =IF(J12="","",J12) -> 24. 10. 2024
C80: Zadavatel: | F80: =E15 | I80: Projektant: | J80: =E21
C81: Uchazeč: | F81: =IF(E18="","",E18) -> Vyplň údaj | I81: Zpracovatel: | J81: =E24
C83: PČ | D83: Typ | E83: Kód | F83: Popis | G83: MJ | H83: Množství | I83: J.cena [CZK] | J83: Cena celkem [CZK] | K83: Cenová soustava | N83: DPH | O83: J. Nh [h] | P83: Nh celkem [h] | Q83: J. hmotnost [t] | R83: Hmotnost celkem [t] | S83: J. suť [t] | T83: Suť Celkem [t]
C84: Náklady soupisu celkem | J84: =BK84 -> 0 | P84: =P85 -> 0 | R84: =R85 -> 2.4940291 | T84: =T85 -> 0 | AT84: D | AU84: -1 | BK84: =BK85 -> 0
D85: D | E85: HSV | F85: Práce a dodávky HSV | J85: =BK85 -> 0 | P85: =P86+P176+P179+P226 -> 0 | R85: =R86+R176+R179+R226 -> 2.4940291 | T85: =T86+T176+T179+T226 -> 0 | AR85: 1 | AT85: D | AU85: 0 | AY85: ROZPOCET | BK85: =BK86+BK176+BK179+BK226 -> 0
D86: D | E86: 8 | F86: Trubní vedení | J86: =BK86 -> 0 | P86: =SUM(P87:P175) -> 0 | R86: =SUM(R87:R175) -> 1.9763332 | T86: =SUM(T87:T175) -> 0 | AR86: 1 | AT86: D | AU86: 1 | AY86: ROZPOCET | BK86: =SUM(BK87:BK175) -> 0
C87: 1 | D87: K | E87: 857242122 | F87: Montáž litinových tvarovek na potrubí litinovém tlakovém jednoosých na potrubí z trub přírubových v otevřeném výkopu, kanálu nebo v šachtě DN 80 | G87: kus | H87: 6 | J87: =ROUND(I87*H87,2) -> 0 | K87: CS ÚRS 2024 02 | N87: základní | P87: =O87*H87 -> 0 | Q87: 0.0016692 | R87: =Q87*H87 -> 0.0100152 | S87: 0 | T87: =S87*H87 -> 0 | AR87: 4 | AT87: K | AU87: 2 | AY87: ROZPOCET | BE87: =IF(N87="základní",J87,0) -> 0 | BF87: =IF(N87="snížená",J87,0) -> 0 | BG87: =IF(N87="zákl. přenesená",J87,0) -> 0 | BH87: =IF(N87="sníž. přenesená",J87,0) -> 0 | BI87: =IF(N87="nulová",J87,0) -> 0 | BJ87: 1 | BK87: =ROUND(I87*H87,2) -> 0 | BL87: 4 | BM87: -518926446
D88: Online PSC | F88: https://podminky.urs.cz/item/CS_URS_2024_02/857242122 | AT88: Online PSC | AU88: 2
C89: 2 | D89: M | E89: R552003 | F89: přírubové koleno s patkou DN80 PN16 tvárná litina epoxidový nástřik médium pitná voda | G89: kus | H89: 1 | J89: =ROUND(I89*H89,2) -> 0 | N89: základní | P89: =O89*H89 -> 0 | Q89: 0.01 | R89: =Q89*H89 -> 0.01 | S89: 0 | T89: =S89*H89 -> 0 | AR89: 8 | AT89: M | AU89: 2 | AY89: ROZPOCET | BE89: =IF(N89="základní",J89,0) -> 0 | BF89: =IF(N89="snížená",J89,0) -> 0 | BG89: =IF(N89="zákl. přenesená",J89,0) -> 0 | BH89: =IF(N89="sníž. přenesená",J89,0) -> 0 | BI89: =IF(N89="nulová",J89,0) -> 0 | BJ89: 1 | BK89: =ROUND(I89*H89,2) -> 0 | BL89: 4 | BM89: -592595516
D90: P | F90: Poznámka k položce:_x000D_ Přírubové patkové koleno 90° (N-kus) DN 80 PN 10/16 dle ČSN EN 545/2015_x000D_ - těleso tvárná litina_x000D_ - vně i uvnitř nástřik epoxidové pryskyřice_x000D_ - médium pitná voda | AT90: P | AU90: 2
D91: VV | F91: "Řad A-2, dle výpisu materiálu D8, pozice 9:" 1 | H91: 1 | AT91: VV | AU91: 2 | AV91: 2 | AW91: True | AX91: 0 | AY91: ROZPOCET
D92: VV | F92: Součet | H92: 1 | AT92: VV | AU92: 2 | AV92: 4 | AW92: True | AX92: 1 | AY92: ROZPOCET
C93: 3 | D93: M | E93: R552004 | F93: FF kus dl. 200 mm DN80 PN16 tvárná litina epoxidový nástřik médium pitná voda | G93: kus | H93: 1 | J93: =ROUND(I93*H93,2) -> 0 | N93: základní | P93: =O93*H93 -> 0 | Q93: 0.018 | R93: =Q93*H93 -> 0.018 | S93: 0 | T93: =S93*H93 -> 0 | AR93: 8 | AT93: M | AU93: 2 | AY93: ROZPOCET | BE93: =IF(N93="základní",J93,0) -> 0 | BF93: =IF(N93="snížená",J93,0) -> 0 | BG93: =IF(N93="zákl. přenesená",J93,0) -> 0 | BH93: =IF(N93="sníž. přenesená",J93,0) -> 0 | BI93: =IF(N93="nulová",J93,0) -> 0 | BJ93: 1 | BK93: =ROUND(I93*H93,2) -> 0 | BL93: 4 | BM93: 1065912363
D94: P | F94: Poznámka k položce:_x000D_ Přírubová tvarovka: FF-kus DN 80 dl. 200 mm PN 10/16_x000D_ - tělo tvárná litina_x000D_ - vně i uvnitř nástřik epoxidové pryskyřice_x000D_ -médium pitná voda | AT94: P | AU94: 2
D95: VV | F95: "Řad A-2, dle výpisu materiálu D8, pozice 10:" 1 | H95: 1 | AT95: VV | AU95: 2 | AV95: 2 | AW95: True | AX95: 0 | AY95: ROZPOCET
D96: VV | F96: Součet | H96: 1 | AT96: VV | AU96: 2 | AV96: 4 | AW96: True | AX96: 1 | AY96: ROZPOCET
C97: 4 | D97: M | E97: R552006 | F97: přírubová redukce FFR kus DN 100/80 PN16 tvárná litina epoxidový nástřik médium pitná voda | G97: kus | H97: 2 | J97: =ROUND(I97*H97,2) -> 0 | N97: základní | P97: =O97*H97 -> 0 | Q97: 0.01 | R97: =Q97*H97 -> 0.02 | S97: 0 | T97: =S97*H97 -> 0 | AR97: 8 | AT97: M | AU97: 2 | AY97: ROZPOCET | BE97: =IF(N97="základní",J97,0) -> 0 | BF97: =IF(N97="snížená",J97,0) -> 0 | BG97: =IF(N97="zákl. přenesená",J97,0) -> 0 | BH97: =IF(N97="sníž. přenesená",J97,0) -> 0 | BI97: =IF(N97="nulová",J97,0) -> 0 | BJ97: 1 | BK97: =ROUND(I97*H97,2) -> 0 | BL97: 4 | BM97: -1175682928
D98: P | F98: Poznámka k položce:_x000D_ FFR-kus - přírubový přechod DN 100/80 PN 10/16_x000D_ - tělo tvárná litina_x000D_ - vně i uvnitř nástřik epoxidové pryskyřice_x000D_ -médium pitná voda | AT98: P | AU98: 2
D99: VV | F99: "Řad A-2, dle výpisu materiálu D8, pozice 11:" 2 | H99: 2 | AT99: VV | AU99: 2 | AV99: 2 | AW99: True | AX99: 0 | AY99: ROZPOCET
D100: VV | F100: Součet | H100: 2 | AT100: VV | AU100: 2 | AV100: 4 | AW100: True | AX100: 1 | AY100: ROZPOCET
C101: 5 | D101: M | E101: R552007 | F101: přírubová spojka s hrdlem jištěná proti posunu DN 80 PN10/16 médium pitná voda | G101: kus | H101: 1 | J101: =ROUND(I101*H101,2) -> 0 | N101: základní | P101: =O101*H101 -> 0 | Q101: 0.0012 | R101: =Q101*H101 -> 0.0012 | S101: 0 | T101: =S101*H101 -> 0 | AR101: 8 | AT101: M | AU101: 2 | AY101: ROZPOCET | BE101: =IF(N101="základní",J101,0) -> 0 | BF101: =IF(N101="snížená",J101,0) -> 0 | BG101: =IF(N101="zákl. přenesená",J101,0) -> 0 | BH101: =IF(N101="sníž. přenesená",J101,0) -> 0 | BI101: =IF(N101="nulová",J101,0) -> 0 | BJ101: 1 | BK101: =ROUND(I101*H101,2) -> 0 | BL101: 4 | BM101: 1707056273
D102: P | F102: Poznámka k položce:_x000D_ Přírubová spojka s hrdlem jištěná proti posunu DN 80 PN10/16 pro různé druhy potrubí s _x000D_ velkým rozsahem vnějšího průměru potrubí a s možností vyosení potrubí_x000D_ - těleso a přítlačný kroužek tvárná litina vně i uvnitř těžká protikorozní ochrana GSK_x000D_ - jistící prvky nerez_x000D_ - médium pitná voda | AT102: P | AU102: 2
D103: VV | F103: "Řad A-2, dle výpisu materiálu D8, pozice 12:" 1 | H103: 1 | AT103: VV | AU103: 2 | AV103: 2 | AW103: True | AX103: 0 | AY103: ROZPOCET
D104: VV | F104: Součet | H104: 1 | AT104: VV | AU104: 2 | AV104: 4 | AW104: True | AX104: 1 | AY104: ROZPOCET
C105: 6 | D105: M | E105: R552008 | F105: multitoleranční jištěná spojka DN80 PN16 | G105: kus | H105: 1 | J105: =ROUND(I105*H105,2) -> 0 | N105: základní | P105: =O105*H105 -> 0 | Q105: 0.0012 | R105: =Q105*H105 -> 0.0012 | S105: 0 | T105: =S105*H105 -> 0 | AR105: 8 | AT105: M | AU105: 2 | AY105: ROZPOCET | BE105: =IF(N105="základní",J105,0) -> 0 | BF105: =IF(N105="snížená",J105,0) -> 0 | BG105: =IF(N105="zákl. přenesená",J105,0) -> 0 | BH105: =IF(N105="sníž. přenesená",J105,0) -> 0 | BI105: =IF(N105="nulová",J105,0) -> 0 | BJ105: 1 | BK105: =ROUND(I105*H105,2) -> 0 | BL105: 4 | BM105: -1843407197
D106: P | F106: Poznámka k položce:_x000D_ Spojka pro PE a PVC potrubí jištěná proti posunu DN 80 (D 90)_x000D_ - s možností vyosení +/- 3,5 °_x000D_ - tělo a víko z litiny GJS-400 s ochranou proti korozi GSK_x000D_ - těsnění EPDM pryž_x000D_ - podložka a šroub nerez A2_x000D_ - matky nerez A4 | AT106: P | AU106: 2
D107: VV | F107: "Řad A-2, dle výpisu materiálu D8, pozice 13:" 1 | H107: 1 | AT107: VV | AU107: 2 | AV107: 2 | AW107: True | AX107: 0 | AY107: ROZPOCET
D108: VV | F108: Součet | H108: 1 | AT108: VV | AU108: 2 | AV108: 4 | AW108: True | AX108: 1 | AY108: ROZPOCET
C109: 7 | D109: K | E109: 857262122 | F109: Montáž litinových tvarovek na potrubí litinovém tlakovém jednoosých na potrubí z trub přírubových v otevřeném výkopu, kanálu nebo v šachtě DN 100 | G109: kus | H109: 7 | J109: =ROUND(I109*H109,2) -> 0 | K109: CS ÚRS 2024 02 | N109: základní | P109: =O109*H109 -> 0 | Q109: 0.0016692 | R109: =Q109*H109 -> 0.0116844 | S109: 0 | T109: =S109*H109 -> 0 | AR109: 4 | AT109: K | AU109: 2 | AY109: ROZPOCET | BE109: =IF(N109="základní",J109,0) -> 0 | BF109: =IF(N109="snížená",J109,0) -> 0 | BG109: =IF(N109="zákl. přenesená",J109,0) -> 0 | BH109: =IF(N109="sníž. přenesená",J109,0) -> 0 | BI109: =IF(N109="nulová",J109,0) -> 0 | BJ109: 1 | BK109: =ROUND(I109*H109,2) -> 0 | BL109: 4 | BM109: -2028574289
D110: Online PSC | F110: https://podminky.urs.cz/item/CS_URS_2024_02/857262122 | AT110: Online PSC | AU110: 2
C111: 8 | D111: M | E111: R554001 | F111: příruba PP-ocel d 90 DN 80 PN 10/16 | G111: kus | H111: 1 | J111: =ROUND(I111*H111,2) -> 0 | N111: základní | P111: =O111*H111 -> 0 | Q111: 0.0012 | R111: =Q111*H111 -> 0.0012 | S111: 0 | T111: =S111*H111 -> 0 | AR111: 8 | AT111: M | AU111: 2 | AY111: ROZPOCET | BE111: =IF(N111="základní",J111,0) -> 0 | BF111: =IF(N111="snížená",J111,0) -> 0 | BG111: =IF(N111="zákl. přenesená",J111,0) -> 0 | BH111: =IF(N111="sníž. přenesená",J111,0) -> 0 | BI111: =IF(N111="nulová",J111,0) -> 0 | BJ111: 1 | BK111: =ROUND(I111*H111,2) -> 0 | BL111: 4 | BM111: -2078187354
D112: P | F112: Poznámka k položce:_x000D_ Příruba PP-ocel d 90 DN 80 PN 10/16_x000D_ - příruba z PP s 30% skelných vláken s ocelovým jádrem_x000D_ - pro PE lemový nákružek_x000D_ - médium pitná voda | AT112: P | AU112: 2
D113: VV | F113: "Řad A-2, dle výpisu materiálu D8, pozice 22:" 1 | H113: 1 | AT113: VV | AU113: 2 | AV113: 2 | AW113: True | AX113: 0 | AY113: ROZPOCET
D114: VV | F114: Součet | H114: 1 | AT114: VV | AU114: 2 | AV114: 4 | AW114: True | AX114: 1 | AY114: ROZPOCET
C115: 9 | D115: M | E115: R554002 | F115: příruba PP-ocel d 110 DN 80 PN 10/16 | G115: kus | H115: 6 | J115: =ROUND(I115*H115,2) -> 0 | N115: základní | P115: =O115*H115 -> 0 | Q115: 0.0012 | R115: =Q115*H115 -> 0.0072 | S115: 0 | T115: =S115*H115 -> 0 | AR115: 8 | AT115: M | AU115: 2 | AY115: ROZPOCET | BE115: =IF(N115="základní",J115,0) -> 0 | BF115: =IF(N115="snížená",J115,0) -> 0 | BG115: =IF(N115="zákl. přenesená",J115,0) -> 0 | BH115: =IF(N115="sníž. přenesená",J115,0) -> 0 | BI115: =IF(N115="nulová",J115,0) -> 0 | BJ115: 1 | BK115: =ROUND(I115*H115,2) -> 0 | BL115: 4 | BM115: 807720949
D116: P | F116: Poznámka k položce:_x000D_ Příruba PP-ocel d 110 DN 80 PN 10/16_x000D_ - příruba z PP s 30% skelných vláken s ocelovým jádrem_x000D_ - pro PE lemový nákružek_x000D_ - médium pitná voda | AT116: P | AU116: 2
D117: VV | F117: "Řad A-2, dle výpisu materiálu D8, pozice 21:" 6 | H117: 6 | AT117: VV | AU117: 2 | AV117: 2 | AW117: True | AX117: 0 | AY117: ROZPOCET
D118: VV | F118: Součet | H118: 6 | AT118: VV | AU118: 2 | AV118: 4 | AW118: True | AX118: 1 | AY118: ROZPOCET
C119: 10 | D119: K | E119: 857264122 | F119: Montáž litinových tvarovek na potrubí litinovém tlakovém odbočných na potrubí z trub přírubových v otevřeném výkopu, kanálu nebo v šachtě DN 100 | G119: kus | H119: 3 | J119: =ROUND(I119*H119,2) -> 0 | K119: CS ÚRS 2024 02 | N119: základní | P119: =O119*H119 -> 0 | Q119: 0.0017147 | R119: =Q119*H119 -> 0.0051441 | S119: 0 | T119: =S119*H119 -> 0 | AR119: 4 | AT119: K | AU119: 2 | AY119: ROZPOCET | BE119: =IF(N119="základní",J119,0) -> 0 | BF119: =IF(N119="snížená",J119,0) -> 0 | BG119: =IF(N119="zákl. přenesená",J119,0) -> 0 | BH119: =IF(N119="sníž. přenesená",J119,0) -> 0 | BI119: =IF(N119="nulová",J119,0) -> 0 | BJ119: 1 | BK119: =ROUND(I119*H119,2) -> 0 | BL119: 4 | BM119: -1175996433
D120: Online PSC | F120: https://podminky.urs.cz/item/CS_URS_2024_02/857264122 | AT120: Online PSC | AU120: 2
C121: 11 | D121: M | E121: R555001 | F121: přírubový T-kus DN100/100 PN16 tvárná litina epoxidový nástřik médium pitná voda | G121: kus | H121: 1 | J121: =ROUND(I121*H121,2) -> 0 | N121: základní | P121: =O121*H121 -> 0 | Q121: 0.02 | R121: =Q121*H121 -> 0.02 | S121: 0 | T121: =S121*H121 -> 0 | AR121: 8 | AT121: M | AU121: 2 | AY121: ROZPOCET | BE121: =IF(N121="základní",J121,0) -> 0 | BF121: =IF(N121="snížená",J121,0) -> 0 | BG121: =IF(N121="zákl. přenesená",J121,0) -> 0 | BH121: =IF(N121="sníž. přenesená",J121,0) -> 0 | BI121: =IF(N121="nulová",J121,0) -> 0 | BJ121: 1 | BK121: =ROUND(I121*H121,2) -> 0 | BL121: 4 | BM121: -1255625104
D122: P | F122: Poznámka k položce:_x000D_ Přírubová tvarovka s přír. odbočkou T-kus DN 100 PN 10/16 dle ČSN EN 545/2015_x000D_ - těleso tvárná litina_x000D_ - vně i uvnitř nástřik epoxidové pryskyřice_x000D_ - médium pitná voda | AT122: P | AU122: 2
D123: VV | F123: "Řad A-2, dle výpisu materiálu D8, pozice 8:" 1 | H123: 1 | AT123: VV | AU123: 2 | AV123: 2 | AW123: True | AX123: 0 | AY123: ROZPOCET
D124: VV | F124: Součet | H124: 1 | AT124: VV | AU124: 2 | AV124: 4 | AW124: True | AX124: 1 | AY124: ROZPOCET
C125: 12 | D125: M | E125: R555002 | F125: přírubový T-kus DN100/80 PN16 tvárná litina epoxidový nástřik médium pitná voda | G125: kus | H125: 2 | J125: =ROUND(I125*H125,2) -> 0 | N125: základní | P125: =O125*H125 -> 0 | Q125: 0.02 | R125: =Q125*H125 -> 0.04 | S125: 0 | T125: =S125*H125 -> 0 | AR125: 8 | AT125: M | AU125: 2 | AY125: ROZPOCET | BE125: =IF(N125="základní",J125,0) -> 0 | BF125: =IF(N125="snížená",J125,0) -> 0 | BG125: =IF(N125="zákl. přenesená",J125,0) -> 0 | BH125: =IF(N125="sníž. přenesená",J125,0) -> 0 | BI125: =IF(N125="nulová",J125,0) -> 0 | BJ125: 1 | BK125: =ROUND(I125*H125,2) -> 0 | BL125: 4 | BM125: 331180569
D126: P | F126: Poznámka k položce:_x000D_ Přírubová tvarovka s přír. odbočkou T-kus DN 100/80 PN 10/16 dle ČSN EN 545/2015_x000D_ - těleso tvárná litina_x000D_ - vně i uvnitř nástřik epoxidové pryskyřice_x000D_ - médium pitná voda | AT126: P | AU126: 2
D127: VV | F127: "Řad A-2, dle výpisu materiálu D8, pozice 7:" 2 | H127: 2 | AT127: VV | AU127: 2 | AV127: 2 | AW127: True | AX127: 0 | AY127: ROZPOCET
D128: VV | F128: Součet | H128: 2 | AT128: VV | AU128: 2 | AV128: 4 | AW128: True | AX128: 1 | AY128: ROZPOCET
C129: 13 | D129: K | E129: 871251211 | F129: Montáž vodovodního potrubí z polyetylenu PE100 RC v otevřeném výkopu svařovaných elektrotvarovkou SDR 11/PN16 d 110 x 10,0 mm | G129: m | H129: 272.5 | J129: =ROUND(I129*H129,2) -> 0 | K129: CS ÚRS 2024 02 | N129: základní | P129: =O129*H129 -> 0 | Q129: 0 | R129: =Q129*H129 -> 0 | S129: 0 | T129: =S129*H129 -> 0 | AR129: 4 | AT129: K | AU129: 2 | AY129: ROZPOCET | BE129: =IF(N129="základní",J129,0) -> 0 | BF129: =IF(N129="snížená",J129,0) -> 0 | BG129: =IF(N129="zákl. přenesená",J129,0) -> 0 | BH129: =IF(N129="sníž. přenesená",J129,0) -> 0 | BI129: =IF(N129="nulová",J129,0) -> 0 | BJ129: 1 | BK129: =ROUND(I129*H129,2) -> 0 | BL129: 4 | BM129: 27090139
D130: Online PSC | F130: https://podminky.urs.cz/item/CS_URS_2024_02/871251211 | AT130: Online PSC | AU130: 2
D131: VV | F131: "Řad A-2, dle výpisu materiálu D8, pozice 1:" 272,5 | H131: 272.5 | AT131: VV | AU131: 2 | AV131: 2 | AW131: True | AX131: 0 | AY131: ROZPOCET
D132: VV | F132: Součet | H132: 272.5 | AT132: VV | AU132: 2 | AV132: 4 | AW132: True | AX132: 1 | AY132: ROZPOCET
C133: 14 | D133: M | E133: 28613550 | F133: potrubí vodovodní dvouvrstvé PE100 RC SDR11 110x10mm | G133: m | H133: 276.588 | J133: =ROUND(I133*H133,2) -> 0 | K133: CS ÚRS 2024 02 | N133: základní | P133: =O133*H133 -> 0 | Q133: 0.00318 | R133: =Q133*H133 -> 0.87954984 | S133: 0 | T133: =S133*H133 -> 0 | AR133: 8 | AT133: M | AU133: 2 | AY133: ROZPOCET | BE133: =IF(N133="základní",J133,0) -> 0 | BF133: =IF(N133="snížená",J133,0) -> 0 | BG133: =IF(N133="zákl. přenesená",J133,0) -> 0 | BH133: =IF(N133="sníž. přenesená",J133,0) -> 0 | BI133: =IF(N133="nulová",J133,0) -> 0 | BJ133: 1 | BK133: =ROUND(I133*H133,2) -> 0 | BL133: 4 | BM133: 1990596822
...

Sheet 003 - Rekonstrukce vodovo...
L2: >> skryté sloupce << | AT2: {80b6af0f-b66b-4fdb-ac22-0683bebdbcd2}
AT3: 2
D4: KRYCÍ LIST SOUPISU PRACÍ | M4: v --- níže se nacházejí doplnkové a pomocné údaje k sestavám --- v | AT4: False
D6: Stavba:
E7: ='Rekapitulace stavby'!K6 -> Kněžpole - rekonstrukce vodovodního řadu A-2
D8: Objekt:
E9: 003 - Rekonstrukce vodovodního řadu A-2 - přepojení přípojek (výpis materiálu)
D11: KSO: | I11: CC-CZ:
D12: Místo: | F12: Kněžpole | I12: Datum: | J12: ='Rekapitulace stavby'!AN8 -> 24. 10. 2024
D14: Zadavatel: | I14: IČ: | J14: =IF('Rekapitulace stavby'!AN10="","",'Rekapitulace stavby'!AN10)
E15: =IF('Rekapitulace stavby'!E11="","",'Rekapitulace stavby'!E11) | I15: DIČ: | J15: =IF('Rekapitulace stavby'!AN11="","",'Rekapitulace stavby'!AN11)
D17: Uchazeč: | I17: IČ: | J17: ='Rekapitulace stavby'!AN13 -> Vyplň údaj
E18: ='Rekapitulace stavby'!E14 -> Vyplň údaj | I18: DIČ: | J18: ='Rekapitulace stavby'!AN14 -> Vyplň údaj
D20: Projektant: | I20: IČ: | J20: =IF('Rekapitulace stavby'!AN16="","",'Rekapitulace stavby'!AN16)
E21: =IF('Rekapitulace stavby'!E17="","",'Rekapitulace stavby'!E17) | I21: DIČ: | J21: =IF('Rekapitulace stavby'!AN17="","",'Rekapitulace stavby'!AN17)
D23: Zpracovatel: | I23: IČ: | J23: =IF('Rekapitulace stavby'!AN19="","",'Rekapitulace stavby'!AN19)
E24: =IF('Rekapitulace stavby'!E20="","",'Rekapitulace stavby'!E20) | I24: DIČ: | J24: =IF('Rekapitulace stavby'!AN20="","",'Rekapitulace stavby'!AN20)
D26: Poznámka:
D30: Cena bez DPH | J30: =ROUND(J83, 2) -> 0
F32: Základ daně | I32: Sazba daně | J32: Výše daně
D33: DPH | E33: základní | F33: =ROUND((SUM(BE83:BE225)), 2) -> 0 | I33: 0.21 | J33: =ROUND(((SUM(BE83:BE225))*I33), 2) -> 0
E34: snížená | F34: =ROUND((SUM(BF83:BF225)), 2) -> 0 | I34: 0.12 | J34: =ROUND(((SUM(BF83:BF225))*I34), 2) -> 0
E35: zákl. přenesená | F35: =ROUND((SUM(BG83:BG225)), 2) -> 0 | I35: 0.21 | J35: =0 -> 0
E36: sníž. přenesená | F36: =ROUND((SUM(BH83:BH225)), 2) -> 0 | I36: 0.12 | J36: =0 -> 0
E37: nulová | F37: =ROUND((SUM(BI83:BI225)), 2) -> 0 | I37: 0 | J37: =0 -> 0
D39: Cena s DPH | G39: v | H39: CZK | J39: =SUM(J30:J37) -> 0
C45: REKAPITULACE ČLENĚNÍ SOUPISU PRACÍ
C47: Stavba:
E48: =E7 -> Kněžpole - rekonstrukce vodovodního řadu A-2
C49: Objekt:
E50: =E9 -> 003 - Rekonstrukce vodovodního řadu A-2 - přepojení přípojek (výpis materiálu)
C52: Místo: | F52: =F12 -> Kněžpole | I52: Datum: | J52: =IF(J12="","",J12) -> 24. 10. 2024
C54: Zadavatel: | F54: =E15 | I54: Projektant: | J54: =E21
C55: Uchazeč: | F55: =IF(E18="","",E18) -> Vyplň údaj | I55: Zpracovatel: | J55: =E24
C57: Kód dílu - Popis | J57: Cena celkem [CZK]
C59: Náklady stavby celkem | J59: =J83 -> 0 | AU59: -1
D60: HSV - Práce a dodávky HSV | J60: =J84 -> 0
D61: 8 - Trubní vedení | J61: =J85 -> 0
D62: 89 - Ostatní konstrukce | J62: =J176 -> 0
D63: 998 - Přesun hmot | J63: =J223 -> 0
C70: SOUPIS PRACÍ
C72: Stavba:
E73: =E7 -> Kněžpole - rekonstrukce vodovodního řadu A-2
C74: Objekt:
E75: =E9 -> 003 - Rekonstrukce vodovodního řadu A-2 - přepojení přípojek (výpis materiálu)
C77: Místo: | F77: =F12 -> Kněžpole | I77: Datum: | J77: =IF(J12="","",J12) -> 24. 10. 2024
C79: Zadavatel: | F79: =E15 | I79: Projektant: | J79: =E21
C80: Uchazeč: | F80: =IF(E18="","",E18) -> Vyplň údaj | I80: Zpracovatel: | J80: =E24
C82: PČ | D82: Typ | E82: Kód | F82: Popis | G82: MJ | H82: Množství | I82: J.cena [CZK] | J82: Cena celkem [CZK] | K82: Cenová soustava | N82: DPH | O82: J. Nh [h] | P82: Nh celkem [h] | Q82: J. hmotnost [t] | R82: Hmotnost celkem [t] | S82: J. suť [t] | T82: Suť Celkem [t]
C83: Náklady soupisu celkem | J83: =BK83 -> 0 | P83: =P84 -> 0 | R83: =R84 -> 1.3102439 | T83: =T84 -> 0 | AT83: D | AU83: -1 | BK83: =BK84 -> 0
D84: D | E84: HSV | F84: Práce a dodávky HSV | J84: =BK84 -> 0 | P84: =P85+P176+P223 -> 0 | R84: =R85+R176+R223 -> 1.3102439 | T84: =T85+T176+T223 -> 0 | AR84: 1 | AT84: D | AU84: 0 | AY84: ROZPOCET | BK84: =BK85+BK176+BK223 -> 0
D85: D | E85: 8 | F85: Trubní vedení | J85: =BK85 -> 0 | P85: =SUM(P86:P175) -> 0 | R85: =SUM(R86:R175) -> 0.14082742 | T85: =SUM(T86:T175) -> 0 | AR85: 1 | AT85: D | AU85: 1 | AY85: ROZPOCET | BK85: =SUM(BK86:BK175) -> 0
C86: 1 | D86: K | E86: 857241131 | F86: Montáž litinových tvarovek na potrubí litinovém tlakovém jednoosých na potrubí z trub hrdlových v otevřeném výkopu, kanálu nebo v šachtě s integrovaným těsněním DN 80 | G86: kus | H86: 1 | J86: =ROUND(I86*H86,2) -> 0 | K86: CS ÚRS 2024 02 | N86: základní | P86: =O86*H86 -> 0 | Q86: 0 | R86: =Q86*H86 -> 0 | S86: 0 | T86: =S86*H86 -> 0 | AR86: 4 | AT86: K | AU86: 2 | AY86: ROZPOCET | BE86: =IF(N86="základní",J86,0) -> 0 | BF86: =IF(N86="snížená",J86,0) -> 0 | BG86: =IF(N86="zákl. přenesená",J86,0) -> 0 | BH86: =IF(N86="sníž. přenesená",J86,0) -> 0 | BI86: =IF(N86="nulová",J86,0) -> 0 | BJ86: 1 | BK86: =ROUND(I86*H86,2) -> 0 | BL86: 4 | BM86: 1792752786
D87: Online PSC | F87: https://podminky.urs.cz/item/CS_URS_2024_02/857241131 | AT87: Online PSC | AU87: 2
C88: 2 | D88: M | E88: R551001 | F88: spojka se dvěma hrdly DN 80 jištěná proti posunu PN10/16 | G88: kus | H88: 1 | J88: =ROUND(I88*H88,2) -> 0 | N88: základní | P88: =O88*H88 -> 0 | Q88: 0.0012 | R88: =Q88*H88 -> 0.0012 | S88: 0 | T88: =S88*H88 -> 0 | AR88: 8 | AT88: M | AU88: 2 | AY88: ROZPOCET | BE88: =IF(N88="základní",J88,0) -> 0 | BF88: =IF(N88="snížená",J88,0) -> 0 | BG88: =IF(N88="zákl. přenesená",J88,0) -> 0 | BH88: =IF(N88="sníž. přenesená",J88,0) -> 0 | BI88: =IF(N88="nulová",J88,0) -> 0 | BJ88: 1 | BK88: =ROUND(I88*H88,2) -> 0 | BL88: 4 | BM88: -2047224611
D89: P | F89: Poznámka k položce:_x000D_ Spojka se dvěma hrdly DN 80 jištěná proti posunu PN10/16 pro různé _x000D_ druhy potrubí s velkým rozsahem vnějšího průměru potrubí a s _x000D_ možností vyosení potrubí_x000D_ - těleso a přítlačný kroužek tvárná litina vně i uvnitř těžká protikorozní _x000D_ ochrana GSK_x000D_ - jistící prvky nerez_x000D_ - médium pitná voda | AT89: P | AU89: 2
D90: VV | F90: "Řad A-2, dle výpisu materiálu D8, pozice 15 (přípojky):" 1 | H90: 1 | AT90: VV | AU90: 2 | AV90: 2 | AW90: True | AX90: 0 | AY90: ROZPOCET
D91: VV | F91: Součet | H91: 1 | AT91: VV | AU91: 2 | AV91: 4 | AW91: True | AX91: 1 | AY91: ROZPOCET
C92: 3 | D92: K | E92: 857262122 | F92: Montáž litinových tvarovek na potrubí litinovém tlakovém jednoosých na potrubí z trub přírubových v otevřeném výkopu, kanálu nebo v šachtě DN 100 | G92: kus | H92: 1 | J92: =ROUND(I92*H92,2) -> 0 | K92: CS ÚRS 2024 02 | N92: základní | P92: =O92*H92 -> 0 | Q92: 0.0016692 | R92: =Q92*H92 -> 0.0016692 | S92: 0 | T92: =S92*H92 -> 0 | AR92: 4 | AT92: K | AU92: 2 | AY92: ROZPOCET | BE92: =IF(N92="základní",J92,0) -> 0 | BF92: =IF(N92="snížená",J92,0) -> 0 | BG92: =IF(N92="zákl. přenesená",J92,0) -> 0 | BH92: =IF(N92="sníž. přenesená",J92,0) -> 0 | BI92: =IF(N92="nulová",J92,0) -> 0 | BJ92: 1 | BK92: =ROUND(I92*H92,2) -> 0 | BL92: 4 | BM92: -999146255
D93: Online PSC | F93: https://podminky.urs.cz/item/CS_URS_2024_02/857262122 | AT93: Online PSC | AU93: 2
C94: 4 | D94: M | E94: R554001 | F94: příruba PP-ocel d 90 DN 80 PN 10/16 | G94: kus | H94: 1 | J94: =ROUND(I94*H94,2) -> 0 | N94: základní | P94: =O94*H94 -> 0 | Q94: 0.0012 | R94: =Q94*H94 -> 0.0012 | S94: 0 | T94: =S94*H94 -> 0 | AR94: 8 | AT94: M | AU94: 2 | AY94: ROZPOCET | BE94: =IF(N94="základní",J94,0) -> 0 | BF94: =IF(N94="snížená",J94,0) -> 0 | BG94: =IF(N94="zákl. přenesená",J94,0) -> 0 | BH94: =IF(N94="sníž. přenesená",J94,0) -> 0 | BI94: =IF(N94="nulová",J94,0) -> 0 | BJ94: 1 | BK94: =ROUND(I94*H94,2) -> 0 | BL94: 4 | BM94: -1027019721
D95: P | F95: Poznámka k položce:_x000D_ Příruba PP-ocel d 90 DN 80 PN 10/16_x000D_ - příruba z PP s 30% skelných vláken s ocelovým jádrem_x000D_ - pro PE lemový nákružek_x000D_ - médium pitná voda | AT95: P | AU95: 2
D96: VV | F96: "Řad A-2, dle výpisu materiálu D8, pozice 14 (přípojky):" 1 | H96: 1 | AT96: VV | AU96: 2 | AV96: 2 | AW96: True | AX96: 0 | AY96: ROZPOCET
D97: VV | F97: Součet | H97: 1 | AT97: VV | AU97: 2 | AV97: 4 | AW97: True | AX97: 1 | AY97: ROZPOCET
C98: 5 | D98: K | E98: 871161211 | F98: Montáž vodovodního potrubí z polyetylenu PE100 RC v otevřeném výkopu svařovaných elektrotvarovkou SDR 11/PN16 d 32 x 3,0 mm | G98: m | H98: 48 | J98: =ROUND(I98*H98,2) -> 0 | K98: CS ÚRS 2024 02 | N98: základní | P98: =O98*H98 -> 0 | Q98: 0 | R98: =Q98*H98 -> 0 | S98: 0 | T98: =S98*H98 -> 0 | AR98: 4 | AT98: K | AU98: 2 | AY98: ROZPOCET | BE98: =IF(N98="základní",J98,0) -> 0 | BF98: =IF(N98="snížená",J98,0) -> 0 | BG98: =IF(N98="zákl. přenesená",J98,0) -> 0 | BH98: =IF(N98="sníž. přenesená",J98,0) -> 0 | BI98: =IF(N98="nulová",J98,0) -> 0 | BJ98: 1 | BK98: =ROUND(I98*H98,2) -> 0 | BL98: 4 | BM98: -1000215426
D99: Online PSC | F99: https://podminky.urs.cz/item/CS_URS_2024_02/871161211 | AT99: Online PSC | AU99: 2
D100: VV | F100: "Řad A-2, dle výpisu materiálu D8, pozice 1 (přípojky):" 48 | H100: 48 | AT100: VV | AU100: 2 | AV100: 2 | AW100: True | AX100: 0 | AY100: ROZPOCET
D101: VV | F101: Součet | H101: 48 | AT101: VV | AU101: 2 | AV101: 4 | AW101: True | AX101: 1 | AY101: ROZPOCET
C102: 6 | D102: M | E102: R280001 | F102: HDPE PE100RC SDR7,4 32x4,4 mm | G102: m | H102: 50.4 | J102: =ROUND(I102*H102,2) -> 0 | N102: základní | P102: =O102*H102 -> 0 | Q102: 0.0005 | R102: =Q102*H102 -> 0.0252 | S102: 0 | T102: =S102*H102 -> 0 | AR102: 8 | AT102: M | AU102: 2 | AY102: ROZPOCET | BE102: =IF(N102="základní",J102,0) -> 0 | BF102: =IF(N102="snížená",J102,0) -> 0 | BG102: =IF(N102="zákl. přenesená",J102,0) -> 0 | BH102: =IF(N102="sníž. přenesená",J102,0) -> 0 | BI102: =IF(N102="nulová",J102,0) -> 0 | BJ102: 1 | BK102: =ROUND(I102*H102,2) -> 0 | BL102: 4 | BM102: -1649847882
D103: P | F103: Poznámka k položce:_x000D_ potrubí HDPE PE100RC SDR7,4 32x4,4 mm _x000D_ - dle ČSN EN 12201 a PAS 1075 _x000D_ - potrubí modré barvy _x000D_ - médium pitná voda | AT103: P | AU103: 2
D104: VV | F104: "Řad A-2, dle výpisu materiálu D8, pozice 1 (přípojky):" 48 | H104: 48 | AT104: VV | AU104: 2 | AV104: 2 | AW104: True | AX104: 0 | AY104: ROZPOCET
D105: VV | F105: Součet | H105: 48 | AT105: VV | AU105: 2 | AV105: 4 | AW105: True | AX105: 1 | AY105: ROZPOCET
D106: VV | F106: 48*1,05 'Přepočtené koeficientem množství | H106: 50.4 | AT106: VV | AU106: 2 | AV106: 2 | AW106: False | AX106: 1 | AY106: ROZPOCET
C107: 7 | D107: K | E107: 871211211 | F107: Montáž vodovodního potrubí z polyetylenu PE100 RC v otevřeném výkopu svařovaných elektrotvarovkou SDR 11/PN16 d 63 x 5,8 mm | G107: m | H107: 43 | J107: =ROUND(I107*H107,2) -> 0 | K107: CS ÚRS 2024 02 | N107: základní | P107: =O107*H107 -> 0 | Q107: 0 | R107: =Q107*H107 -> 0 | S107: 0 | T107: =S107*H107 -> 0 | AR107: 4 | AT107: K | AU107: 2 | AY107: ROZPOCET | BE107: =IF(N107="základní",J107,0) -> 0 | BF107: =IF(N107="snížená",J107,0) -> 0 | BG107: =IF(N107="zákl. přenesená",J107,0) -> 0 | BH107: =IF(N107="sníž. přenesená",J107,0) -> 0 | BI107: =IF(N107="nulová",J107,0) -> 0 | BJ107: 1 | BK107: =ROUND(I107*H107,2) -> 0 | BL107: 4 | BM107: 793603200
D108: Online PSC | F108: https://podminky.urs.cz/item/CS_URS_2024_02/871211211 | AT108: Online PSC | AU108: 2
D109: VV | F109: "Řad A-2, dle výpisu materiálu D8, pozice 3 (přípojky):" 20 | H109: 20 | AT109: VV | AU109: 2 | AV109: 2 | AW109: True | AX109: 0 | AY109: ROZPOCET
D110: VV | F110: "Řad A-2, dle výpisu materiálu D8, pozice 4 (přípojky):" 23 | H110: 23 | AT110: VV | AU110: 2 | AV110: 2 | AW110: True | AX110: 0 | AY110: ROZPOCET
D111: VV | F111: Součet | H111: 43 | AT111: VV | AU111: 2 | AV111: 4 | AW111: True | AX111: 1 | AY111: ROZPOCET
C112: 8 | D112: M | E112: R280003 | F112: potrubí HDPE PE100RC SDR17 63x3,8 mm | G112: m | H112: 24.15 | J112: =ROUND(I112*H112,2) -> 0 | N112: základní | P112: =O112*H112 -> 0 | Q112: 0.0007 | R112: =Q112*H112 -> 0.016905 | S112: 0 | T112: =S112*H112 -> 0 | AR112: 8 | AT112: M | AU112: 2 | AY112: ROZPOCET | BE112: =IF(N112="základní",J112,0) -> 0 | BF112: =IF(N112="snížená",J112,0) -> 0 | BG112: =IF(N112="zákl. přenesená",J112,0) -> 0 | BH112: =IF(N112="sníž. přenesená",J112,0) -> 0 | BI112: =IF(N112="nulová",J112,0) -> 0 | BJ112: 1 | BK112: =ROUND(I112*H112,2) -> 0 | BL112: 4 | BM112: 2112501638
D113: P | F113: Poznámka k položce:_x000D_ Potrubí HDPE PE100RC SDR17 d 63x3,8 mm pro protlak zemní raketou, potrubí dle ČSN EN 12201 a PAS 1075_x000D_ - potrubí modré barvy_x000D_ - médium pitná voda | AT113: P | AU113: 2
D114: VV | F114: "Řad A-2, dle výpisu materiálu D8, pozice 4 (přípojky):" 23 | H114: 23 | AT114: VV | AU114: 2 | AV114: 2 | AW114: True | AX114: 0 | AY114: ROZPOCET
D115: VV | F115: Součet | H115: 23 | AT115: VV | AU115: 2 | AV115: 4 | AW115: True | AX115: 1 | AY115: ROZPOCET
D116: VV | F116: 23*1,05 'Přepočtené koeficientem množství | H116: 24.15 | AT116: VV | AU116: 2 | AV116: 2 | AW116: False | AX116: 1 | AY116: ROZPOCET
C117: 9 | D117: M | E117: 34571352 | F117: trubka elektroinstalační ohebná dvouplášťová korugovaná HDPE+LDPE (chránička) D 52/63mm | G117: m | H117: 21 | J117: =ROUND(I117*H117,2) -> 0 | K117: CS ÚRS 2024 02 | N117: základní | P117: =O117*H117 -> 0 | Q117: 0.00035 | R117: =Q117*H117 -> 0.00735 | S117: 0 | T117: =S117*H117 -> 0 | AR117: 8 | AT117: M | AU117: 2 | AY117: ROZPOCET | BE117: =IF(N117="základní",J117,0) -> 0 | BF117: =IF(N117="snížená",J117,0) -> 0 | BG117: =IF(N117="zákl. přenesená",J117,0) -> 0 | BH117: =IF(N117="sníž. přenesená",J117,0) -> 0 | BI117: =IF(N117="nulová",J117,0) -> 0 | BJ117: 1 | BK117: =ROUND(I117*H117,2) -> 0 | BL117: 4 | BM117: 548621003
D118: VV | F118: "Řad A-2, dle výpisu materiálu D8, pozice 3 (přípojky):" 20 | H118: 20 | AT118: VV | AU118: 2 | AV118: 2 | AW118: True | AX118: 0 | AY118: ROZPOCET
D119: VV | F119: Součet | H119: 20 | AT119: VV | AU119: 2 | AV119: 4 | AW119: True | AX119: 1 | AY119: ROZPOCET
D120: VV | F120: 20*1,05 'Přepočtené koeficientem množství | H120: 21 | AT120: VV | AU120: 2 | AV120: 2 | AW120: False | AX120: 1 | AY120: ROZPOCET
C121: 10 | D121: K | E121: 871241211 | F121: Montáž vodovodního potrubí z polyetylenu PE100 RC v otevřeném výkopu svařovaných elektrotvarovkou SDR 11/PN16 d 90 x 8,2 mm | G121: m | H121: 15 | J121: =ROUND(I121*H121,2) -> 0 | K121: CS ÚRS 2024 02 | N121: základní | P121: =O121*H121 -> 0 | Q121: 0 | R121: =Q121*H121 -> 0 | S121: 0 | T121: =S121*H121 -> 0 | AR121: 4 | AT121: K | AU121: 2 | AY121: ROZPOCET | BE121: =IF(N121="základní",J121,0) -> 0 | BF121: =IF(N121="snížená",J121,0) -> 0 | BG121: =IF(N121="zákl. přenesená",J121,0) -> 0 | BH121: =IF(N121="sníž. přenesená",J121,0) -> 0 | BI121: =IF(N121="nulová",J121,0) -> 0 | BJ121: 1 | BK121: =ROUND(I121*H121,2) -> 0 | BL121: 4 | BM121: 896176698
D122: Online PSC | F122: https://podminky.urs.cz/item/CS_URS_2024_02/871241211 | AT122: Online PSC | AU122: 2
D123: VV | F123: "Řad A-2, dle výpisu materiálu D8, pozice 2 (přípojky):" 15 | H123: 15 | AT123: VV | AU123: 2 | AV123: 2 | AW123: True | AX123: 0 | AY123: ROZPOCET
D124: VV | F124: Součet | H124: 15 | AT124: VV | AU124: 2 | AV124: 4 | AW124: True | AX124: 1 | AY124: ROZPOCET
C125: 11 | D125: M | E125: R280004 | F125: potrubí HDPE PE100RC SDR11 d 90x8,2 mm | G125: m | H125: 15.75 | J125: =ROUND(I125*H125,2) -> 0 | N125: základní | P125: =O125*H125 -> 0 | Q125: 0.00214 | R125: =Q125*H125 -> 0.033705 | S125: 0 | T125: =S125*H125 -> 0 | AR125: 8 | AT125: M | AU125: 2 | AY125: ROZPOCET | BE125: =IF(N125="základní",J125,0) -> 0 | BF125: =IF(N125="snížená",J125,0) -> 0 | BG125: =IF(N125="zákl. přenesená",J125,0) -> 0 | BH125: =IF(N125="sníž. přenesená",J125,0) -> 0 | BI125: =IF(N125="nulová",J125,0) -> 0 | BJ125: 1 | BK125: =ROUND(I125*H125,2) -> 0 | BL125: 4 | BM125: -507524730
D126: P | F126: Poznámka k položce:_x000D_ Potrubí HDPE PE100RC SDR11 d 90x8,2 mm_x000D_ - materiál dle ČSN EN 12201 a PAS 1075_x000D_ - koextrudované dvouvrstvé polyetylenové potrubí_x000D_ - vnější barevně odlišená vrstva v tl. min. 10%_x000D_ - potrubí modré barvy dodávané v tyčích délky 12 nebo 6 m_x000D_ - médium pitná voda_x000D_ - spojování potrubí natupo nebo pomocí elektrotvarovek | AT126: P | AU126: 2
D127: VV | F127: "Řad A-2, dle výpisu materiálu D8, pozice 2 (přípojky):" 15 | H127: 15 | AT127: VV | AU127: 2 | AV127: 2 | AW127: True | AX127: 0 | AY127: ROZPOCET
D128: VV | F128: Součet | H128: 15 | AT128: VV | AU128: 2 | AV128: 4 | AW128: True | AX128: 1 | AY128: ROZPOCET
D129: VV | F129: 15*1,05 'Přepočtené koeficientem množství | H129: 15.75 | AT129: VV | AU129: 2 | AV129: 2 | AW129: False | AX129: 1 | AY129: ROZPOCET
C130: 12 | D130: K | E130: 877161101 | F130: Montáž tvarovek na vodovodním plastovém potrubí z polyetylenu PE 100 elektrotvarovek SDR 11/PN16 spojek, oblouků nebo redukcí d 32 | G130: kus | H130: 24 | J130: =ROUND(I130*H130,2) -> 0 | K130: CS ÚRS 2024 02 | N130: základní | P130: =O130*H130 -> 0 | Q130: 0 | R130: =Q130*H130 -> 0 | S130: 0 | T130: =S130*H130 -> 0 | AR130: 4 | AT130: K | AU130: 2 | AY130: ROZPOCET | BE130: =IF(N130="základní",J130,0) -> 0 | BF130: =IF(N130="snížená",J130,0) -> 0 | BG130: =IF(N130="zákl. přenesená",J130,0) -> 0 | BH130: =IF(N130="sníž. přenesená",J130,0) -> 0 | BI130: =IF(N130="nulová",J130,0) -> 0 | BJ130: 1 | BK130: =ROUND(I130*H130,2) -> 0 | BL130: 4 | BM130: 999438690
D131: Online PSC | F131: https://podminky.urs.cz/item/CS_URS_2024_02/877161101 | AT131: Online PSC | AU131: 2
C132: 13 | D132: M | E132: R282001 | F132: spojka na PE potrubí d32/G1¨ s vnějším závitem | G132: kus | H132: 12 | J132: =ROUND(I132*H132,2) -> 0 | N132: základní | P132: =O132*H132 -> 0 | Q132: 0.003 | R132: =Q132*H132 -> 0.036 | S132: 0 | T132: =S132*H132 -> 0 | AR132: 8 | AT132: M | AU132: 2 | AY132: ROZPOCET | BE132: =IF(N132="základní",J132,0) -> 0 | BF132: =IF(N132="snížená",J132,0) -> 0 | BG132: =IF(N132="zákl. přenesená",J132,0) -> 0 | BH132: =IF(N132="sníž. přenesená",J132,0) -> 0 | BI132: =IF(N132="nulová",J132,0) -> 0 | BJ132: 1 | BK132: =ROUND(I132*H132,2) -> 0 | BL132: 4 | BM132: -1436708334
D133: VV | F133: "Řad A-2, dle výpisu materiálu D8, pozice 16 (přípojky):" 12 | H133: 12 | AT133: VV | AU133: 2 | AV133: 2 | AW133: True | AX133: 0 | AY133: ROZPOCET
...

Sheet 090 - Vedlejší a ostatní ...
L2: >> skryté sloupce << | AT2: {0d8741c4-9b3b-4ba6-a379-e96df5b32fb1}
AT3: 2
D4: KRYCÍ LIST SOUPISU PRACÍ | M4: v --- níže se nacházejí doplnkové a pomocné údaje k sestavám --- v | AT4: False
D6: Stavba:
E7: ='Rekapitulace stavby'!K6 -> Kněžpole - rekonstrukce vodovodního řadu A-2
D8: Objekt:
E9: 090 - Vedlejší a ostatní náklady
D11: KSO: | I11: CC-CZ:
D12: Místo: | F12: Kněžpole | I12: Datum: | J12: ='Rekapitulace stavby'!AN8 -> 24. 10. 2024
D14: Zadavatel: | I14: IČ: | J14: =IF('Rekapitulace stavby'!AN10="","",'Rekapitulace stavby'!AN10)
E15: =IF('Rekapitulace stavby'!E11="","",'Rekapitulace stavby'!E11) | I15: DIČ: | J15: =IF('Rekapitulace stavby'!AN11="","",'Rekapitulace stavby'!AN11)
D17: Uchazeč: | I17: IČ: | J17: ='Rekapitulace stavby'!AN13 -> Vyplň údaj
E18: ='Rekapitulace stavby'!E14 -> Vyplň údaj | I18: DIČ: | J18: ='Rekapitulace stavby'!AN14 -> Vyplň údaj
D20: Projektant: | I20: IČ: | J20: =IF('Rekapitulace stavby'!AN16="","",'Rekapitulace stavby'!AN16)
E21: =IF('Rekapitulace stavby'!E17="","",'Rekapitulace stavby'!E17) | I21: DIČ: | J21: =IF('Rekapitulace stavby'!AN17="","",'Rekapitulace stavby'!AN17)
D23: Zpracovatel: | I23: IČ: | J23: =IF('Rekapitulace stavby'!AN19="","",'Rekapitulace stavby'!AN19)
E24: =IF('Rekapitulace stavby'!E20="","",'Rekapitulace stavby'!E20) | I24: DIČ: | J24: =IF('Rekapitulace stavby'!AN20="","",'Rekapitulace stavby'!AN20)
D26: Poznámka:
D30: Cena bez DPH | J30: =ROUND(J80, 2) -> 0
F32: Základ daně | I32: Sazba daně | J32: Výše daně
D33: DPH | E33: základní | F33: =ROUND((SUM(BE80:BE99)), 2) -> 0 | I33: 0.21 | J33: =ROUND(((SUM(BE80:BE99))*I33), 2) -> 0
E34: snížená | F34: =ROUND((SUM(BF80:BF99)), 2) -> 0 | I34: 0.12 | J34: =ROUND(((SUM(BF80:BF99))*I34), 2) -> 0
E35: zákl. přenesená | F35: =ROUND((SUM(BG80:BG99)), 2) -> 0 | I35: 0.21 | J35: =0 -> 0
E36: sníž. přenesená | F36: =ROUND((SUM(BH80:BH99)), 2) -> 0 | I36: 0.12 | J36: =0 -> 0
E37: nulová | F37: =ROUND((SUM(BI80:BI99)), 2) -> 0 | I37: 0 | J37: =0 -> 0
D39: Cena s DPH | G39: v | H39: CZK | J39: =SUM(J30:J37) -> 0
C45: REKAPITULACE ČLENĚNÍ SOUPISU PRACÍ
C47: Stavba:
E48: =E7 -> Kněžpole - rekonstrukce vodovodního řadu A-2
C49: Objekt:
E50: =E9 -> 090 - Vedlejší a ostatní náklady
C52: Místo: | F52: =F12 -> Kněžpole | I52: Datum: | J52: =IF(J12="","",J12) -> 24. 10. 2024
C54: Zadavatel: | F54: =E15 | I54: Projektant: | J54: =E21
C55: Uchazeč: | F55: =IF(E18="","",E18) -> Vyplň údaj | I55: Zpracovatel: | J55: =E24
C57: Kód dílu - Popis | J57: Cena celkem [CZK]
C59: Náklady stavby celkem | J59: =J80 -> 0 | AU59: -1
D60: OST,VRN - Ostatní náklady a vedlejší rozpočtové náklady | J60: =J81 -> 0
C67: SOUPIS PRACÍ
C69: Stavba:
E70: =E7 -> Kněžpole - rekonstrukce vodovodního řadu A-2
C71: Objekt:
E72: =E9 -> 090 - Vedlejší a ostatní náklady
C74: Místo: | F74: =F12 -> Kněžpole | I74: Datum: | J74: =IF(J12="","",J12) -> 24. 10. 2024
C76: Zadavatel: | F76: =E15 | I76: Projektant: | J76: =E21
C77: Uchazeč: | F77: =IF(E18="","",E18) -> Vyplň údaj | I77: Zpracovatel: | J77: =E24
C79: PČ | D79: Typ | E79: Kód | F79: Popis | G79: MJ | H79: Množství | I79: J.cena [CZK] | J79: Cena celkem [CZK] | K79: Cenová soustava | N79: DPH | O79: J. Nh [h] | P79: Nh celkem [h] | Q79: J. hmotnost [t] | R79: Hmotnost celkem [t] | S79: J. suť [t] | T79: Suť Celkem [t]
C80: Náklady soupisu celkem | J80: =BK80 -> 0 | P80: =P81 -> 0 | R80: =R81 -> 0 | T80: =T81 -> 0 | AT80: D | AU80: -1 | BK80: =BK81 -> 0
D81: D | E81: OST,VRN | F81: Ostatní náklady a vedlejší rozpočtové náklady | J81: =BK81 -> 0 | P81: =SUM(P82:P99) -> 0 | R81: =SUM(R82:R99) -> 0 | T81: =SUM(T82:T99) -> 0 | AR81: 1 | AT81: D | AU81: 0 | AY81: ROZPOCET | BK81: =SUM(BK82:BK99) -> 0
C82: 1 | D82: K | E82: 900001 | F82: Vybudování zařízení staveniště včetně skládek materiálů a zabezpečení staveniště | G82: soubor | H82: 1 | J82: =ROUND(I82*H82,2) -> 0 | N82: základní | P82: =O82*H82 -> 0 | Q82: 0 | R82: =Q82*H82 -> 0 | S82: 0 | T82: =S82*H82 -> 0 | AR82: 4 | AT82: K | AU82: 1 | AY82: ROZPOCET | BE82: =IF(N82="základní",J82,0) -> 0 | BF82: =IF(N82="snížená",J82,0) -> 0 | BG82: =IF(N82="zákl. přenesená",J82,0) -> 0 | BH82: =IF(N82="sníž. přenesená",J82,0) -> 0 | BI82: =IF(N82="nulová",J82,0) -> 0 | BJ82: 1 | BK82: =ROUND(I82*H82,2) -> 0 | BL82: 4 | BM82: 808651610
C83: 2 | D83: K | E83: 900002 | F83: Provoz zařízení staveniště včetně dodávky, montáže a rozebrání provizorních komunikací, včetně montáže, pronájmu a údržby a demontáže dočasného oplocení, včetně zázemí vedení stavby, zázemí pracovníků a podobně | G83: soubor | H83: 1 | J83: =ROUND(I83*H83,2) -> 0 | N83: základní | P83: =O83*H83 -> 0 | Q83: 0 | R83: =Q83*H83 -> 0 | S83: 0 | T83: =S83*H83 -> 0 | AR83: 4 | AT83: K | AU83: 1 | AY83: ROZPOCET | BE83: =IF(N83="základní",J83,0) -> 0 | BF83: =IF(N83="snížená",J83,0) -> 0 | BG83: =IF(N83="zákl. přenesená",J83,0) -> 0 | BH83: =IF(N83="sníž. přenesená",J83,0) -> 0 | BI83: =IF(N83="nulová",J83,0) -> 0 | BJ83: 1 | BK83: =ROUND(I83*H83,2) -> 0 | BL83: 4 | BM83: -1309332113
C84: 3 | D84: K | E84: 900003 | F84: Odstranění zařízení staveniště včetně skládek materiálu a uvedení do původního stavu | G84: soubor | H84: 1 | J84: =ROUND(I84*H84,2) -> 0 | N84: základní | P84: =O84*H84 -> 0 | Q84: 0 | R84: =Q84*H84 -> 0 | S84: 0 | T84: =S84*H84 -> 0 | AR84: 4 | AT84: K | AU84: 1 | AY84: ROZPOCET | BE84: =IF(N84="základní",J84,0) -> 0 | BF84: =IF(N84="snížená",J84,0) -> 0 | BG84: =IF(N84="zákl. přenesená",J84,0) -> 0 | BH84: =IF(N84="sníž. přenesená",J84,0) -> 0 | BI84: =IF(N84="nulová",J84,0) -> 0 | BJ84: 1 | BK84: =ROUND(I84*H84,2) -> 0 | BL84: 4 | BM84: 803556824
C85: 4 | D85: K | E85: 900004 | F85: Předání a převzetí zařízení staveniště | G85: soubor | H85: 1 | J85: =ROUND(I85*H85,2) -> 0 | N85: základní | P85: =O85*H85 -> 0 | Q85: 0 | R85: =Q85*H85 -> 0 | S85: 0 | T85: =S85*H85 -> 0 | AR85: 4 | AT85: K | AU85: 1 | AY85: ROZPOCET | BE85: =IF(N85="základní",J85,0) -> 0 | BF85: =IF(N85="snížená",J85,0) -> 0 | BG85: =IF(N85="zákl. přenesená",J85,0) -> 0 | BH85: =IF(N85="sníž. přenesená",J85,0) -> 0 | BI85: =IF(N85="nulová",J85,0) -> 0 | BJ85: 1 | BK85: =ROUND(I85*H85,2) -> 0 | BL85: 4 | BM85: -1410805658
C86: 5 | D86: K | E86: 900005 | F86: Zhotovení dokumentace skutečného provedení stavby | G86: soubor | H86: 1 | J86: =ROUND(I86*H86,2) -> 0 | N86: základní | P86: =O86*H86 -> 0 | Q86: 0 | R86: =Q86*H86 -> 0 | S86: 0 | T86: =S86*H86 -> 0 | AR86: 4 | AT86: K | AU86: 1 | AY86: ROZPOCET | BE86: =IF(N86="základní",J86,0) -> 0 | BF86: =IF(N86="snížená",J86,0) -> 0 | BG86: =IF(N86="zákl. přenesená",J86,0) -> 0 | BH86: =IF(N86="sníž. přenesená",J86,0) -> 0 | BI86: =IF(N86="nulová",J86,0) -> 0 | BJ86: 1 | BK86: =ROUND(I86*H86,2) -> 0 | BL86: 4 | BM86: -1787303773
C87: 6 | D87: K | E87: 900006 | F87: Geodetické zaměření skutečného provedení stavby včetně zpracování geometrického plánu | G87: soubor | H87: 1 | J87: =ROUND(I87*H87,2) -> 0 | N87: základní | P87: =O87*H87 -> 0 | Q87: 0 | R87: =Q87*H87 -> 0 | S87: 0 | T87: =S87*H87 -> 0 | AR87: 4 | AT87: K | AU87: 1 | AY87: ROZPOCET | BE87: =IF(N87="základní",J87,0) -> 0 | BF87: =IF(N87="snížená",J87,0) -> 0 | BG87: =IF(N87="zákl. přenesená",J87,0) -> 0 | BH87: =IF(N87="sníž. přenesená",J87,0) -> 0 | BI87: =IF(N87="nulová",J87,0) -> 0 | BJ87: 1 | BK87: =ROUND(I87*H87,2) -> 0 | BL87: 4 | BM87: -1960525419
C88: 7 | D88: K | E88: 900008 | F88: Zaměření a vytýčení stávajících inženýrských sítí včetně stávajíícho vodovodního řadu za přítomnosti oprávněných osob investora a dodavatele | G88: soubor | H88: 1 | J88: =ROUND(I88*H88,2) -> 0 | N88: základní | P88: =O88*H88 -> 0 | Q88: 0 | R88: =Q88*H88 -> 0 | S88: 0 | T88: =S88*H88 -> 0 | AR88: 4 | AT88: K | AU88: 1 | AY88: ROZPOCET | BE88: =IF(N88="základní",J88,0) -> 0 | BF88: =IF(N88="snížená",J88,0) -> 0 | BG88: =IF(N88="zákl. přenesená",J88,0) -> 0 | BH88: =IF(N88="sníž. přenesená",J88,0) -> 0 | BI88: =IF(N88="nulová",J88,0) -> 0 | BJ88: 1 | BK88: =ROUND(I88*H88,2) -> 0 | BL88: 4 | BM88: -2128208949
C89: 8 | D89: K | E89: 900010 | F89: Veškeré projektem předepsané komplexní zkoušky, revize a odběry vzorků a provádění rozborů včetně předání veškeré dokumentace, včetně nákladů na použité chemikálie (certifikace, protokoly a rev. zprávy) prokazující soulad s proj. dokumentací a plat. předpisy | G89: soubor | H89: 1 | J89: =ROUND(I89*H89,2) -> 0 | N89: základní | P89: =O89*H89 -> 0 | Q89: 0 | R89: =Q89*H89 -> 0 | S89: 0 | T89: =S89*H89 -> 0 | AR89: 4 | AT89: K | AU89: 1 | AY89: ROZPOCET | BE89: =IF(N89="základní",J89,0) -> 0 | BF89: =IF(N89="snížená",J89,0) -> 0 | BG89: =IF(N89="zákl. přenesená",J89,0) -> 0 | BH89: =IF(N89="sníž. přenesená",J89,0) -> 0 | BI89: =IF(N89="nulová",J89,0) -> 0 | BJ89: 1 | BK89: =ROUND(I89*H89,2) -> 0 | BL89: 4 | BM89: -476383511
C90: 9 | D90: K | E90: 900011 | F90: Dočasná dopravní opatření včetně značení a provozní vlivy, výstražné osvětlení apod včetně vypracování dokumntace DIO a DIR | G90: soubor | H90: 1 | J90: =ROUND(I90*H90,2) -> 0 | N90: základní | P90: =O90*H90 -> 0 | Q90: 0 | R90: =Q90*H90 -> 0 | S90: 0 | T90: =S90*H90 -> 0 | AR90: 4 | AT90: K | AU90: 1 | AY90: ROZPOCET | BE90: =IF(N90="základní",J90,0) -> 0 | BF90: =IF(N90="snížená",J90,0) -> 0 | BG90: =IF(N90="zákl. přenesená",J90,0) -> 0 | BH90: =IF(N90="sníž. přenesená",J90,0) -> 0 | BI90: =IF(N90="nulová",J90,0) -> 0 | BJ90: 1 | BK90: =ROUND(I90*H90,2) -> 0 | BL90: 4 | BM90: -1036021888
C91: 10 | D91: K | E91: 900012 | F91: Užívání veřejných prostranství a ploch, poplatky spojené se záborem komunikací místních a komunikací II a III třídy, či tříd vyšších | G91: soubor | H91: 1 | J91: =ROUND(I91*H91,2) -> 0 | N91: základní | P91: =O91*H91 -> 0 | Q91: 0 | R91: =Q91*H91 -> 0 | S91: 0 | T91: =S91*H91 -> 0 | AR91: 4 | AT91: K | AU91: 1 | AY91: ROZPOCET | BE91: =IF(N91="základní",J91,0) -> 0 | BF91: =IF(N91="snížená",J91,0) -> 0 | BG91: =IF(N91="zákl. přenesená",J91,0) -> 0 | BH91: =IF(N91="sníž. přenesená",J91,0) -> 0 | BI91: =IF(N91="nulová",J91,0) -> 0 | BJ91: 1 | BK91: =ROUND(I91*H91,2) -> 0 | BL91: 4 | BM91: 410329961
C92: 11 | D92: K | E92: 900013 | F92: Vytýčení všech částí díla akreditovaným geodetem | G92: soubor | H92: 1 | J92: =ROUND(I92*H92,2) -> 0 | N92: základní | P92: =O92*H92 -> 0 | Q92: 0 | R92: =Q92*H92 -> 0 | S92: 0 | T92: =S92*H92 -> 0 | AR92: 4 | AT92: K | AU92: 1 | AY92: ROZPOCET | BE92: =IF(N92="základní",J92,0) -> 0 | BF92: =IF(N92="snížená",J92,0) -> 0 | BG92: =IF(N92="zákl. přenesená",J92,0) -> 0 | BH92: =IF(N92="sníž. přenesená",J92,0) -> 0 | BI92: =IF(N92="nulová",J92,0) -> 0 | BJ92: 1 | BK92: =ROUND(I92*H92,2) -> 0 | BL92: 4 | BM92: -315288542
C93: 12 | D93: K | E93: 900014 | F93: Náklady spojené s případným čerpáním podzemních vod při přítocích vody do výkopu | G93: soubor | H93: 1 | J93: =ROUND(I93*H93,2) -> 0 | N93: základní | P93: =O93*H93 -> 0 | Q93: 0 | R93: =Q93*H93 -> 0 | S93: 0 | T93: =S93*H93 -> 0 | AR93: 4 | AT93: K | AU93: 1 | AY93: ROZPOCET | BE93: =IF(N93="základní",J93,0) -> 0 | BF93: =IF(N93="snížená",J93,0) -> 0 | BG93: =IF(N93="zákl. přenesená",J93,0) -> 0 | BH93: =IF(N93="sníž. přenesená",J93,0) -> 0 | BI93: =IF(N93="nulová",J93,0) -> 0 | BJ93: 1 | BK93: =ROUND(I93*H93,2) -> 0 | BL93: 4 | BM93: -791745999
... C99: 18 | D99: K | E99: 900023 | F99: Náklady vzniklé v souvislosti s realizací stavby, uvedení dotčených ploch do původního stavu, průběžné a finální čištění komunikací, zalévání a kosení zeleně, obnova vodorovného značení komunikací | G99: soubor | H99: 1 | J99: =ROUND(I99*H99,2) -> 0 | N99: základní | P99: =O99*H99 -> 0 | Q99: 0 | R99: =Q99*H99 -> 0 | S99: 0 | T99: =S99*H99 -> 0 | AR99: 4 | AT99: K | AU99: 1 | AY99: ROZPOCET | BE99: =IF(N99="základní",J99,0) -> 0 | BF99: =IF(N99="snížená",J99,0) -> 0 | BG99: =IF(N99="zákl. přenesená",J99,0) -> 0 | BH99: =IF(N99="sníž. přenesená",J99,0) -> 0 | BI99: =IF(N99="nulová",J99,0) -> 0 | BJ99: 1 | BK99: =ROUND(I99*H99,2) -> 0 | BL99: 4 | BM99: 875706

Sheet Pokyny pro vyplnění
C3: Struktura údajů, formát souboru a metodika pro zpracování
C4: Struktura
C6: Soubor je složen ze záložky Rekapitulace stavby a záložek s názvem soupisu prací pro jednotlivé objekty ve formátu XLSX. Každá ze záložek přitom obsahuje
C7: ještě samostatné sestavy vymezené orámovaním a nadpisem sestavy.
C9: Rekapitulace stavby obsahuje sestavu Rekapitulace stavby a Rekapitulace objektů stavby a soupisů prací.
D10: V sestavě Rekapitulace stavby jsou uvedeny informace identifikující předmět veřejné zakázky na stavební práce, KSO, CC-CZ, CZ-CPV, CZ-CPA a rekapitulaci
D11: celkové nabídkové ceny uchazeče.
D13: Termínem "uchazeč" (resp. zhotovitel) se myslí "účastník zadávacího řízení" ve smyslu zákona o zadávání veřejných zakázek.
D15: V sestavě Rekapitulace objektů stavby a soupisů prací je uvedena rekapitulace stavebních objektů, inženýrských objektů, provozních souborů,
D16: vedlejších a ostatních nákladů a ostatních nákladů s rekapitulací nabídkové ceny za jednotlivé soupisy prací. Na základě údaje Typ je možné
D17: identifikovat, zda se jedná o objekt nebo soupis prací pro daný objekt:
E18: STA | F18: Stavební objekt pozemní
E19: ING | F19: Stavební objekt inženýrský
E20: PRO | F20: Provozní soubor
E21: VON | F21: Vedlejší a ostatní náklady
E22: OST | F22: Ostatní
E23: Soupis | F23: Soupis prací pro daný typ objektu
C25: Soupis prací pro jednotlivé objekty obsahuje sestavy Krycí list soupisu prací, Rekapitulace členění soupisu prací, Soupis prací. Za soupis prací může být považován
C26: i objekt stavby v případě, že neobsahuje podřízenou zakázku.
D27: Krycí list soupisu obsahuje rekapitulaci informací o předmětu veřejné zakázky ze sestavy Rekapitulace stavby, informaci o zařazení objektu do KSO,
D28: CC-CZ, CZ-CPV, CZ-CPA a rekapitulaci celkové nabídkové ceny uchazeče za aktuální soupis prací.
D30: Rekapitulace členění soupisu prací obsahuje rekapitulaci soupisu prací ve všech úrovních členění soupisu tak, jak byla tato členění použita (např.
D31: stavební díly, funkční díly, případně jiné členění) s rekapitulací nabídkové ceny.
D33: Soupis prací obsahuje položky veškerých stavebních nebo montážních prací, dodávek materiálů a služeb nezbytných pro zhotovení stavebního objektu,
D34: inženýrského objektu, provozního souboru, vedlejších a ostatních nákladů.
D35: Pro položky soupisu prací se zobrazují následující informace:
E36: PČ | G36: Pořadové číslo položky v aktuálním soupisu
E37: TYP | G37: Typ položky: K - konstrukce, M - materiál, PP - plný popis, PSC - poznámka k souboru cen, P - poznámka k položce, VV - výkaz výměr, FIG - rozpad figur
E38: Kód | G38: Kód položky
E39: Popis | G39: Zkrácený popis položky
E40: MJ | G40: Měrná jednotka položky
E41: Množství | G41: Množství v měrné jednotce
E42: J.cena | G42: Jednotková cena položky. Zadaní může obsahovat namísto J.ceny sloupce J.materiál a J.montáž, jejichž součet definuje
G43: J.cenu položky.
E44: Cena celkem | G44: Celková cena položky daná jako součin množství a j.ceny
E45: Cenová soustava | G45: Příslušnost položky do cenové soustavy
D47: Ke každé položce soupisu prací se na samostatných řádcích může zobrazovat:
E48: Plný popis položky
E49: Poznámka k souboru cen a poznámka zadavatele
E50: Výkaz výměr
D51: Pokud je k řádku výkazu výměr evidovaný údaj ve sloupci Kód, jedná se o definovaný odkaz, na který se může odvolávat výkaz výměr z jiné položky.
C52: Metodika pro zpracování
C54: Jednotlivé sestavy jsou v souboru provázány. Editovatelné pole jsou zvýrazněny žlutým podbarvením, ostatní pole neslouží k editaci a nesmí být jakkoliv
C55: modifikovány.
C57: Uchazeč je pro podání nabídky povinen vyplnit žlutě podbarvená pole:
D58: Pole Uchazeč v sestavě Rekapitulace stavby - zde uchazeč vyplní svůj název (název subjektu)
D59: Pole IČ a DIČ v sestavě Rekapitulace stavby - zde uchazeč vyplní svoje IČ a DIČ
D60: Datum v sestavě Rekapitulace stavby - zde uchazeč vyplní datum vytvoření nabídky
D61: J.cena = jednotková cena v sestavě Soupis prací o maximálním počtu desetinných míst uvedených v poli
D62: - pokud sestavy soupisů prací obsahují pole J.cena, měla by být všechna tato pole vyplněna nenulovými
D63: Poznámka - nepovinný údaj pro položku soupisu
D65: V případě, že sestavy soupisů prací neobsahují pole J.cena, potom ve všech soupisech prací obsahují pole:
D66: - J.materiál - jednotková cena materiálu
D67: - J.montáž - jednotková cena montáže
D68: Uchazeč v tomto případě by měl vyplnit všechna pole J.materiál a pole J.montáž nenulovými kladnými číslicemi. V případech, kdy položka
D69: neobsahuje žádný materiál je přípustné, aby pole J.materiál bylo vyplněno nulou. V případech, kdy položka neobsahuje žádnou montáž je přípustné,
D70: aby pole J.montáž bylo vyplněno nulou. Obě pole - J.materiál, J.Montáž u jedné položky by však neměly být vyplněny nulou.
C75: Rekapitulace stavby
C76: Název | F76: Povinný | H76: Popis | I76: Typ | J76: Max. počet
C77: atributu | F77: (A/N) | J77: znaků
C79: Kód | F79: A | H79: Kód stavby | I79: String | J79: 20
C80: Stavba | F80: A | H80: Název stavby | I80: String | J80: 120
C81: Místo | F81: N | H81: Místo stavby | I81: String | J81: 50
C82: Datum | F82: A | H82: Datum vykonaného exportu | I82: Date
C83: KSO | F83: N | H83: Klasifikace stavebního objektu | I83: String | J83: 15
C84: CC-CZ | F84: N | H84: Klasifikace stavbeních děl | I84: String | J84: 15
C85: CZ-CPV | F85: N | H85: Společný slovník pro veřejné zakázky | I85: String | J85: 20
C86: CZ-CPA | F86: N | H86: Klasifikace produkce podle činností | I86: String | J86: 20
C87: Zadavatel | F87: N | H87: Zadavatel zadaní | I87: String | J87: 50
C88: IČ | F88: N | H88: IČ zadavatele zadaní | I88: String | J88: 20
C89: DIČ | F89: N | H89: DIČ zadavatele zadaní | I89: String | J89: 20
C90: Uchazeč | F90: N | H90: Uchazeč veřejné zakázky | I90: String | J90: 50
C91: Projektant | F91: N | H91: Projektant | I91: String | J91: 50
C92: Poznámka | F92: N | H92: Poznámka k zadání | I92: String | J92: 255
C93: Sazba DPH | F93: A | H93: Rekapitulace sazeb DPH u položek soupisů | I93: eGSazbaDph
C94: Základna DPH | F94: A | H94: Základna DPH určena součtem celkové ceny z položek soupisů | I94: Double
C95: Hodnota DPH | F95: A | H95: Hodnota DPH | I95: Double
C96: Cena bez DPH | F96: A | H96: Celková cena bez DPH za celou stavbu. Sčítává se ze všech listů. | I96: Double
C97: Cena s DPH | F97: A | H97: Celková cena s DPH za celou stavbu | I97: Double
C102: Rekapitulace objektů stavby a soupisů prací
C103: Název | F103: Povinný | H103: Popis | I103: Typ | J103: Max. počet
C104: atributu | F104: (A/N) | J104: znaků
C106: Kód | F106: A | H106: Přebírá se z Rekapitulace stavby | I106: String | J106: 20
C107: Stavba | F107: A | H107: Přebírá se z Rekapitulace stavby | I107: String | J107: 120
C108: Místo | F108: N | H108: Přebírá se z Rekapitulace stavby | I108: String | J108: 50
C109: Datum | F109: A | H109: Přebírá se z Rekapitulace stavby | I109: Date
C110: Zadavatel | F110: N | H110: Přebírá se z Rekapitulace stavby | I110: String | J110: 50
C111: Projektant | F111: N | H111: Přebírá se z Rekapitulace stavby | I111: String | J111: 50
C112: Uchazeč | F112: N | H112: Přebírá se z Rekapitulace stavby | I112: String | J112: 50
C113: Kód | F113: A | H113: Kód objektu | I113: String | J113: 20
C114: Objektu, Soupis prací | F114: A | H114: Název objektu | I114: String | J114: 120
C115: Cena bez DPH | F115: A | H115: Cena bez DPH za daný objekt | I115: Double
C116: Cena s DPH | F116: A | H116: Cena spolu s DPH za daný objekt | I116: Double
C117: Typ | F117: A | H117: Typ zakázky | I117: eGTypZakazky
C122: Krycí list soupisu
C123: Název | F123: Povinný | H123: Popis | I123: Typ | J123: Max. počet
C124: atributu | F124: (A/N) | J124: znaků
C126: Stavba | F126: A | H126: Přebírá se z Rekapitulace stavby | I126: String | J126: 120
C127: Objekt | F127: A | H127: Kód a název objektu | I127: String | J127: 20 + 120
C128: Soupis | F128: A | H128: Kód a název soupisu | I128: String | J128: 20 + 120
...
