Workbook

Sheet Rekapitulace stavby
A1: Export Komplet | BA1: 2.0 | BB1: ZAMOK | BT1: False | BU1: False | BV1: {f38e7b34-5110-46ed-9c3a-3f45d26b411e}
BS2: 0,01 | BT2: 21
BS3: 0,01 | BT3: 15
D4: REKAPITULACE STAVBY | AS4: v --- níže se nacházejí doplnkové a pomocné údaje k sestavám --- v | BE4: Návod na vyplnění | BS4: 0,001
D5: Kód: | K5: VL0420-01 | BE5: Měnit lze pouze buňky se žlutým podbarvením!_x000D_ _x000D_ 1) na prvním listu Rekapitulace stavby vyplňte v sestavě_x000D_ _x000D_ a) Souhrnný list_x000D_ - údaje o Uchazeči_x000D_ (přenesou se do ostatních sestav i v jiných listech)_x000D_ _x000D_ b) Rekapitulace objektů_x000D_ - potřebné Ostatní náklady_x000D_ _x000D_ 2) na vybraných listech vyplňte v sestavě_x000D_ _x000D_ a) Krycí list_x000D_ - údaje o Uchazeči, pokud se liší od údajů o Uchazeči na Souhrnném listu_x000D_ (údaje se přenesou do ostatních sestav v daném listu)_x000D_ _x000D_ b) Rekapitulace rozpočtu_x000D_ - potřebné Ostatní náklady_x000D_ _x000D_ c) Celkové náklady za stavbu_x000D_ - ceny u položek_x000D_ - množství, pokud má žluté podbarvení_x000D_ - a v případě potřeby poznámku (ta je ve skrytém sloupci) | BS5: 0,01
D6: Stavba: | K6: Venkovní žaluzie 1. stupeň a ředitelství ZŠ Svobodná Písek, p.č. st. 1033, k.ú. Písek | BS6: 0,01
D7: KSO: | AK7: CC-CZ: | BS7: 0,01
D8: Místo: | K8: Písek | AK8: Datum: | AN8: 22. 4. 2020 | BS8: 0,01
BS9: 0,01
D10: Zadavatel: | AK10: IČ: | BS10: 0,01
E11: Základní škola Svobodná a Mateřská škola Písek, Šo | AK11: DIČ: | BS11: 0,01
BS12: 0,01
D13: Uchazeč: | AK13: IČ: | AN13: Vyplň údaj | BS13: 0,01
E14: Vyplň údaj | AK14: DIČ: | AN14: Vyplň údaj | BS14: 0,01
BS15: False
D16: Projektant: | AK16: IČ: | AN16: 60078936_x000D_ | BS16: False
E17: VL projekt | AK17: DIČ: | AN17: CZ60078936_x000D_ | BS17: True
BS18: 0,01
D19: Zpracovatel: | AK19: IČ: | BS19: 0,01
E20: Jindřich J u k l tel.: 602558222 | AK20: DIČ: | BS20: True
D22: Poznámka:
D26: Cena bez DPH | AK26: =ROUND(AG94,2) -> 0
L28: Sazba daně | W28: Základ daně | AK28: Výše daně
D29: DPH | F29: základní | L29: 0.21 | W29: =ROUND(AZ94, 2) -> 0 | AK29: =ROUND(AV94, 2) -> 0
F30: snížená | L30: 0.15 | W30: =ROUND(BA94, 2) -> 0 | AK30: =ROUND(AW94, 2) -> 0
F31: zákl. přenesená | L31: 0.21 | W31: =ROUND(BB94, 2) -> 0 | AK31: 0
F32: sníž. přenesená | L32: 0.15 | W32: =ROUND(BC94, 2) -> 0 | AK32: 0
F33: nulová | L33: 0 | W33: =ROUND(BD94, 2) -> 0 | AK33: 0
D35: Cena s DPH | T35: v | X35: CZK | AK35: =SUM(AK26:AK33) -> 0
D49: Projektant | AH49: Zpracovatel
D60: Datum a podpis: | V60: Razítko | AH60: Datum a podpis: | AM60: Razítko
D64: Objednavatel | AH64: Uchazeč
D75: Datum a podpis: | V75: Razítko | AH75: Datum a podpis: | AM75: Razítko
C82: REKAPITULACE OBJEKTŮ STAVBY A SOUPISŮ PRACÍ
C84: Kód: | L84: =K5 -> VL0420-01
C85: Stavba: | L85: =K6 -> Venkovní žaluzie 1. stupeň a ředitelství ZŠ Svobodná Písek, p.č. st. 1033, k.ú. Písek
C87: Místo: | L87: =IF(K8="","",K8) -> Písek | AI87: Datum: | AM87: =IF(AN8= "","",AN8) -> 22. 4. 2020
C89: Zadavatel: | L89: =IF(E11= "","",E11) -> Základní škola Svobodná a Mateřská škola Písek, Šo | AI89: Projektant: | AM89: =IF(E17="","",E17) -> VL projekt | AS89: Informatívní údaje z listů zakázek
C90: Uchazeč: | L90: =IF(E14= "Vyplň údaj","",E14) | AI90: Zpracovatel: | AM90: =IF(E20="","",E20) -> Jindřich J u k l tel.: 602558222
C92: Kód | I92: Popis | AG92: Cena bez DPH [CZK] | AN92: Cena s DPH [CZK] | AQ92: Typ | AS92: z toho Ostat._x000D_ náklady [CZK] | AT92: DPH [CZK] | AU92: Normohodiny [h] | AV92: DPH základní [CZK] | AW92: DPH snížená [CZK] | AX92: DPH základní přenesená_x000D_ [CZK] | AY92: DPH snížená přenesená_x000D_ [CZK] | AZ92: Základna_x000D_ DPH základní | BA92: Základna_x000D_ DPH snížená | BB92: Základna_x000D_ DPH zákl. přenesená | BC92: Základna_x000D_ DPH sníž. přenesená | BD92: Základna_x000D_ DPH nulová
...

Sheet 0420-01 - Venkovní žalu...
AT2: {f38e7b34-5110-46ed-9c3a-3f45d26b411e}
AT3: 2
D4: KRYCÍ LIST SOUPISU PRACÍ | M4: v --- níže se nacházejí doplnkové a pomocné údaje k sestavám --- v | AT4: False
D6: Stavba:
E7: Venkovní žaluzie 1. stupeň a ředitelství ZŠ Svobodná Písek, p.č. st. 1033, k.ú. Písek
D9: KSO: | I9: CC-CZ:
D10: Místo: | F10: Písek | I10: Datum: | J10: ='Rekapitulace stavby'!AN8 -> 22. 4. 2020
D12: Zadavatel: | I12: IČ:
E13: Základní škola Svobodná a Mateřská škola Písek, Šo | I13: DIČ:
D15: Uchazeč: | I15: IČ: | J15: ='Rekapitulace stavby'!AN13 -> Vyplň údaj
E16: ='Rekapitulace stavby'!E14 -> Vyplň údaj | I16: DIČ: | J16: ='Rekapitulace stavby'!AN14 -> Vyplň údaj
D18: Projektant: | I18: IČ: | J18: 60078936_x000D_
E19: VL projekt | I19: DIČ: | J19: CZ60078936_x000D_
D21: Zpracovatel: | I21: IČ:
E22: Jindřich J u k l tel.: 602558222 | I22: DIČ:
D24: Poznámka:
D28: Náklady z rozpočtu | J28: =J94 -> 0
D29: Ostatní náklady | J29: =J105 -> 0
D30: Cena bez DPH | J30: =ROUND(J28 + J29, 2) -> 0
F32: Základ daně | I32: Sazba daně | J32: Výše daně
D33: DPH | E33: základní | F33: =ROUND((SUM(BE105:BE112) + SUM(BE130:BE193)), 2) -> 0 | I33: 0.21 | J33: =ROUND(((SUM(BE105:BE112) + SUM(BE130:BE193))*I33), 2) -> 0
E34: snížená | F34: =ROUND((SUM(BF105:BF112) + SUM(BF130:BF193)), 2) -> 0 | I34: 0.15 | J34: =ROUND(((SUM(BF105:BF112) + SUM(BF130:BF193))*I34), 2) -> 0
E35: zákl. přenesená | F35: =ROUND((SUM(BG105:BG112) + SUM(BG130:BG193)), 2) -> 0 | I35: 0.21 | J35: =0 -> 0
E36: sníž. přenesená | F36: =ROUND((SUM(BH105:BH112) + SUM(BH130:BH193)), 2) -> 0 | I36: 0.15 | J36: =0 -> 0
E37: nulová | F37: =ROUND((SUM(BI105:BI112) + SUM(BI130:BI193)), 2) -> 0 | I37: 0 | J37: =0 -> 0
D39: Cena s DPH | G39: v | H39: CZK | J39: =SUM(J30:J37) -> 0
D50: Projektant | G50: Zpracovatel
D61: Datum a podpis: | F61: Razítko | G61: Datum a podpis: | J61: Razítko
D65: Objednavatel | G65: Uchazeč
D76: Datum a podpis: | F76: Razítko | G76: Datum a podpis: | J76: Razítko
C82: REKAPITULACE ČLENĚNÍ SOUPISU PRACÍ
C84: Stavba:
E85: =E7 -> Venkovní žaluzie 1. stupeň a ředitelství ZŠ Svobodná Písek, p.č. st. 1033, k.ú. Písek
C87: Místo: | F87: =F10 -> Písek | I87: Datum: | J87: =IF(J10="","",J10) -> 22. 4. 2020
C89: Zadavatel: | F89: =E13 -> Základní škola Svobodná a Mateřská škola Písek, Šo | I89: Projektant: | J89: =E19 -> VL projekt
C90: Uchazeč: | F90: =IF(E16="","",E16) -> Vyplň údaj | I90: Zpracovatel: | J90: =E22 -> Jindřich J u k l tel.: 602558222
C92: Kód dílu - Popis | J92: Cena celkem [CZK]
C94: 1) Náklady ze soupisu prací | J94: =J130 -> 0 | AU94: -1
D95: HSV - Práce a dodávky HSV | J95: =J131 -> 0
D96: 9 - Ostatní konstrukce a práce, bourání | J96: =J135 -> 0
...
