Workbook

Sheet Rekapitulace stavby
A1: Export Komplet | BA1: 2.0 | BB1: ZAMOK | BT1: False | BU1: False | BV1: {f38e7b34-5110-46ed-9c3a-3f45d26b411e}
BS2: 0,01 | BT2: 21
BS3: 0,01 | BT3: 15
D4: REKAPITULACE STAVBY | AS4: v --- níže se nacházejí doplnkové a pomocné údaje k sestavám --- v | BE4: Návod na vyplnění | BS4: 0,001
D5: Kód: | K5: VL0420-01 | BE5: Měnit lze pouze buňky se žlutým podbarvením!_x000D_ _x000D_ 1) na prvním listu Rekapitulace stavby vyplňte v sestavě_x000D_ _x000D_ a) Souhrnný list_x000D_ - údaje o Uchazeči_x000D_ (přenesou se do ostatních sestav i v jiných listech)_x000D_ _x000D_ b) Rekapitulace objektů_x000D_ - potřebné Ostatní náklady_x000D_ _x000D_ 2) na vybraných listech vyplňte v sestavě_x000D_ _x000D_ a) Krycí list_x000D_ - údaje o Uchazeči, pokud se liší od údajů o Uchazeči na Souhrnném listu_x000D_ (údaje se přenesou do ostatních sestav v daném listu)_x000D_ _x000D_ b) Rekapitulace rozpočtu_x000D_ - potřebné Ostatní náklady_x000D_ _x000D_ c) Celkové náklady za stavbu_x000D_ - ceny u položek_x000D_ - množství, pokud má žluté podbarvení_x000D_ - a v případě potřeby poznámku (ta je ve skrytém sloupci) | BS5: 0,01
D6: Stavba: | K6: Venkovní žaluzie 1. stupeň a ředitelství ZŠ Svobodná Písek, p.č. st. 1033, k.ú. Písek | BS6: 0,01
D7: KSO: | AK7: CC-CZ: | BS7: 0,01
D8: Místo: | K8: Písek | AK8: Datum: | AN8: 22. 4. 2020 | BS8: 0,01
BS9: 0,01
D10: Zadavatel: | AK10: IČ: | BS10: 0,01
E11: Základní škola Svobodná a Mateřská škola Písek, Šo | AK11: DIČ: | BS11: 0,01
BS12: 0,01
D13: Uchazeč: | AK13: IČ: | AN13: Vyplň údaj | BS13: 0,01
E14: Vyplň údaj | AK14: DIČ: | AN14: Vyplň údaj | BS14: 0,01
BS15: False
D16: Projektant: | AK16: IČ: | AN16: 60078936_x000D_ | BS16: False
E17: VL projekt | AK17: DIČ: | AN17: CZ60078936_x000D_ | BS17: True
BS18: 0,01
D19: Zpracovatel: | AK19: IČ: | BS19: 0,01
E20: Jindřich J u k l tel.: 602558222 | AK20: DIČ: | BS20: True
D22: Poznámka:
D26: Cena bez DPH | AK26: =ROUND(AG94,2) -> 0
L28: Sazba daně | W28: Základ daně | AK28: Výše daně
D29: DPH | F29: základní | L29: 0.21 | W29: =ROUND(AZ94, 2) -> 0 | AK29: =ROUND(AV94, 2) -> 0
F30: snížená | L30: 0.15 | W30: =ROUND(BA94, 2) -> 0 | AK30: =ROUND(AW94, 2) -> 0
F31: zákl. přenesená | L31: 0.21 | W31: =ROUND(BB94, 2) -> 0 | AK31: 0
F32: sníž. přenesená | L32: 0.15 | W32: =ROUND(BC94, 2) -> 0 | AK32: 0
F33: nulová | L33: 0 | W33: =ROUND(BD94, 2) -> 0 | AK33: 0
D35: Cena s DPH | T35: v | X35: CZK | AK35: =SUM(AK26:AK33) -> 0
D49: Projektant | AH49: Zpracovatel
D60: Datum a podpis: | V60: Razítko | AH60: Datum a podpis: | AM60: Razítko
D64: Objednavatel | AH64: Uchazeč
D75: Datum a podpis: | V75: Razítko | AH75: Datum a podpis: | AM75: Razítko
C82: REKAPITULACE OBJEKTŮ STAVBY A SOUPISŮ PRACÍ
C84: Kód: | L84: =K5 -> VL0420-01
C85: Stavba: | L85: =K6 -> Venkovní žaluzie 1. stupeň a ředitelství ZŠ Svobodná Písek, p.č. st. 1033, k.ú. Písek
C87: Místo: | L87: =IF(K8="","",K8) -> Písek | AI87: Datum: | AM87: =IF(AN8= "","",AN8) -> 22. 4. 2020
C89: Zadavatel: | L89: =IF(E11= "","",E11) -> Základní škola Svobodná a Mateřská škola Písek, Šo | AI89: Projektant: | AM89: =IF(E17="","",E17) -> VL projekt | AS89: Informatívní údaje z listů zakázek
C90: Uchazeč: | L90: =IF(E14= "Vyplň údaj","",E14) | AI90: Zpracovatel: | AM90: =IF(E20="","",E20) -> Jindřich J u k l tel.: 602558222
C92: Kód | I92: Popis | AG92: Cena bez DPH [CZK] | AN92: Cena s DPH [CZK] | AQ92: Typ | AS92: z toho Ostat._x000D_ náklady [CZK] | AT92: DPH [CZK] | AU92: Normohodiny [h] | AV92: DPH základní [CZK] | AW92: DPH snížená [CZK] | AX92: DPH základní přenesená_x000D_ [CZK] | AY92: DPH snížená přenesená_x000D_ [CZK] | AZ92: Základna_x000D_ DPH základní | BA92: Základna_x000D_ DPH snížená | BB92: Základna_x000D_ DPH zákl. přenesená | BC92: Základna_x000D_ DPH sníž. přenesená | BD92: Základna_x000D_ DPH nulová
C94: Náklady z rozpočtů | AG94: =ROUND(AG95,2) -> 0 | AN94: =SUM(AG94,AT94) -> 0 | AS94: =ROUND(AS95,2) -> 0 | AT94: =ROUND(SUM(AV94:AW94),2) -> 0 | AU94: =ROUND(AU95,5) -> 0 | AV94: =ROUND(AZ94*L29,2) -> 0 | AW94: =ROUND(BA94*L30,2) -> 0 | AX94: =ROUND(BB94*L29,2) -> 0 | AY94: =ROUND(BC94*L30,2) -> 0 | AZ94: =ROUND(AZ95,2) -> 0 | BA94: =ROUND(BA95,2) -> 0 | BB94: =ROUND(BB95,2) -> 0 | BC94: =ROUND(BC95,2) -> 0 | BD94: =ROUND(BD95,2) -> 0 | BS94: D | BT94: 0 | BV94: IMPORT | BW94: {f38e7b34-5110-46ed-9c3a-3f45d26b411e} | BX94: {00000000-0000-0000-0000-000000000000}
A95: / | D95: VL0420-01 | J95: Venkovní žaluzie 1. stupeň a ředitelství ZŠ Svobodná Písek, p.č. st. 1033, k.ú. Písek | AG95: ='0420-01 - Venkovní žalu...'!J30 -> 0 | AN95: =SUM(AG95,AT95) -> 0 | AQ95: STA | AS95: 0 | AT95: =ROUND(SUM(AV95:AW95),2) -> 0 | AU95: ='0420-01 - Venkovní žalu...'!P130 -> 0 | AV95: ='0420-01 - Venkovní žalu...'!J33 -> 0 | AW95: ='0420-01 - Venkovní žalu...'!J34 -> 0 | AX95: ='0420-01 - Venkovní žalu...'!J35 -> 0 | AY95: ='0420-01 - Venkovní žalu...'!J36 -> 0 | AZ95: ='0420-01 - Venkovní žalu...'!F33 -> 0 | BA95: ='0420-01 - Venkovní žalu...'!F34 -> 0 | BB95: ='0420-01 - Venkovní žalu...'!F35 -> 0 | BC95: ='0420-01 - Venkovní žalu...'!F36 -> 0 | BD95: ='0420-01 - Venkovní žalu...'!F37 -> 0 | BT95: 1 | BU95: ###NOINSERT### | BV95: IMPORT | BW95: {f38e7b34-5110-46ed-9c3a-3f45d26b411e} | BX95: {00000000-0000-0000-0000-000000000000}

Sheet 0420-01 - Venkovní žalu...
AT2: {f38e7b34-5110-46ed-9c3a-3f45d26b411e}
AT3: 2
D4: KRYCÍ LIST SOUPISU PRACÍ | M4: v --- níže se nacházejí doplnkové a pomocné údaje k sestavám --- v | AT4: False
D6: Stavba:
E7: Venkovní žaluzie 1. stupeň a ředitelství ZŠ Svobodná Písek, p.č. st. 1033, k.ú. Písek
D9: KSO: | I9: CC-CZ:
D10: Místo: | F10: Písek | I10: Datum: | J10: ='Rekapitulace stavby'!AN8 -> 22. 4. 2020
D12: Zadavatel: | I12: IČ:
E13: Základní škola Svobodná a Mateřská škola Písek, Šo | I13: DIČ:
D15: Uchazeč: | I15: IČ: | J15: ='Rekapitulace stavby'!AN13 -> Vyplň údaj
E16: ='Rekapitulace stavby'!E14 -> Vyplň údaj | I16: DIČ: | J16: ='Rekapitulace stavby'!AN14 -> Vyplň údaj
D18: Projektant: | I18: IČ: | J18: 60078936_x000D_
E19: VL projekt | I19: DIČ: | J19: CZ60078936_x000D_
D21: Zpracovatel: | I21: IČ:
E22: Jindřich J u k l tel.: 602558222 | I22: DIČ:
D24: Poznámka:
D28: Náklady z rozpočtu | J28: =J94 -> 0
D29: Ostatní náklady | J29: =J105 -> 0
D30: Cena bez DPH | J30: =ROUND(J28 + J29, 2) -> 0
F32: Základ daně | I32: Sazba daně | J32: Výše daně
D33: DPH | E33: základní | F33: =ROUND((SUM(BE105:BE112) + SUM(BE130:BE193)), 2) -> 0 | I33: 0.21 | J33: =ROUND(((SUM(BE105:BE112) + SUM(BE130:BE193))*I33), 2) -> 0
E34: snížená | F34: =ROUND((SUM(BF105:BF112) + SUM(BF130:BF193)), 2) -> 0 | I34: 0.15 | J34: =ROUND(((SUM(BF105:BF112) + SUM(BF130:BF193))*I34), 2) -> 0
E35: zákl. přenesená | F35: =ROUND((SUM(BG105:BG112) + SUM(BG130:BG193)), 2) -> 0 | I35: 0.21 | J35: =0 -> 0
E36: sníž. přenesená | F36: =ROUND((SUM(BH105:BH112) + SUM(BH130:BH193)), 2) -> 0 | I36: 0.15 | J36: =0 -> 0
E37: nulová | F37: =ROUND((SUM(BI105:BI112) + SUM(BI130:BI193)), 2) -> 0 | I37: 0 | J37: =0 -> 0
D39: Cena s DPH | G39: v | H39: CZK | J39: =SUM(J30:J37) -> 0
D50: Projektant | G50: Zpracovatel
D61: Datum a podpis: | F61: Razítko | G61: Datum a podpis: | J61: Razítko
D65: Objednavatel | G65: Uchazeč
D76: Datum a podpis: | F76: Razítko | G76: Datum a podpis: | J76: Razítko
C82: REKAPITULACE ČLENĚNÍ SOUPISU PRACÍ
C84: Stavba:
E85: =E7 -> Venkovní žaluzie 1. stupeň a ředitelství ZŠ Svobodná Písek, p.č. st. 1033, k.ú. Písek
C87: Místo: | F87: =F10 -> Písek | I87: Datum: | J87: =IF(J10="","",J10) -> 22. 4. 2020
C89: Zadavatel: | F89: =E13 -> Základní škola Svobodná a Mateřská škola Písek, Šo | I89: Projektant: | J89: =E19 -> VL projekt
C90: Uchazeč: | F90: =IF(E16="","",E16) -> Vyplň údaj | I90: Zpracovatel: | J90: =E22 -> Jindřich J u k l tel.: 602558222
C92: Kód dílu - Popis | J92: Cena celkem [CZK]
C94: 1) Náklady ze soupisu prací | J94: =J130 -> 0 | AU94: -1
D95: HSV - Práce a dodávky HSV | J95: =J131 -> 0
D96: 9 - Ostatní konstrukce a práce, bourání | J96: =J135 -> 0
D97: PSV - Práce a dodávky PSV | J97: =J150 -> 0
D98: 741 - Elektroinstalace - silnoproud | J98: =J151 -> 0
D99: 786 - Dokončovací práce - čalounické úpravy | J99: =J178 -> 0
D100: VRN - Vedlejší rozpočtové náklady | J100: =J189 -> 0
D101: VRN3 - Zařízení staveniště | J101: =J190 -> 0
D102: VRN7 - Provozní vlivy | J102: =J192 -> 0
C105: 2) Ostatní náklady | J105: =ROUND(J106 + J107 + J108 + J109 + J110 + J111,2) -> 0 | N105: DPH
D106: Zařízení staveniště | J106: 0 | N106: základní | AY106: VRN | BE106: =IF(N106="základní",J106,0) -> 0 | BF106: =IF(N106="snížená",J106,0) -> 0 | BG106: =IF(N106="zákl. přenesená",J106,0) -> 0 | BH106: =IF(N106="sníž. přenesená",J106,0) -> 0 | BI106: =IF(N106="nulová",J106,0) -> 0 | BJ106: 1
D107: Projektové práce | J107: 0 | N107: základní | AY107: VRN | BE107: =IF(N107="základní",J107,0) -> 0 | BF107: =IF(N107="snížená",J107,0) -> 0 | BG107: =IF(N107="zákl. přenesená",J107,0) -> 0 | BH107: =IF(N107="sníž. přenesená",J107,0) -> 0 | BI107: =IF(N107="nulová",J107,0) -> 0 | BJ107: 1
D108: Územní vlivy | J108: 0 | N108: základní | AY108: VRN | BE108: =IF(N108="základní",J108,0) -> 0 | BF108: =IF(N108="snížená",J108,0) -> 0 | BG108: =IF(N108="zákl. přenesená",J108,0) -> 0 | BH108: =IF(N108="sníž. přenesená",J108,0) -> 0 | BI108: =IF(N108="nulová",J108,0) -> 0 | BJ108: 1
D109: Provozní vlivy | J109: 0 | N109: základní | AY109: VRN | BE109: =IF(N109="základní",J109,0) -> 0 | BF109: =IF(N109="snížená",J109,0) -> 0 | BG109: =IF(N109="zákl. přenesená",J109,0) -> 0 | BH109: =IF(N109="sníž. přenesená",J109,0) -> 0 | BI109: =IF(N109="nulová",J109,0) -> 0 | BJ109: 1
D110: Jiné VRN | J110: 0 | N110: základní | AY110: VRN | BE110: =IF(N110="základní",J110,0) -> 0 | BF110: =IF(N110="snížená",J110,0) -> 0 | BG110: =IF(N110="zákl. přenesená",J110,0) -> 0 | BH110: =IF(N110="sníž. přenesená",J110,0) -> 0 | BI110: =IF(N110="nulová",J110,0) -> 0 | BJ110: 1
D111: Kompletační činnost | J111: =ROUND(J28*T111,2) -> 0 | N111: základní | AY111: KOMPLETACNA | BE111: =IF(N111="základní",J111,0) -> 0 | BF111: =IF(N111="snížená",J111,0) -> 0 | BG111: =IF(N111="zákl. přenesená",J111,0) -> 0 | BH111: =IF(N111="sníž. přenesená",J111,0) -> 0 | BI111: =IF(N111="nulová",J111,0) -> 0 | BJ111: 1
C113: Celkové náklady za stavbu 1) + 2) | J113: =ROUND(J94+J105,2) -> 0
C119: SOUPIS PRACÍ
C121: Stavba:
E122: =E7 -> Venkovní žaluzie 1. stupeň a ředitelství ZŠ Svobodná Písek, p.č. st. 1033, k.ú. Písek
C124: Místo: | F124: =F10 -> Písek | I124: Datum: | J124: =IF(J10="","",J10) -> 22. 4. 2020
C126: Zadavatel: | F126: =E13 -> Základní škola Svobodná a Mateřská škola Písek, Šo | I126: Projektant: | J126: =E19 -> VL projekt
C127: Uchazeč: | F127: =IF(E16="","",E16) -> Vyplň údaj | I127: Zpracovatel: | J127: =E22 -> Jindřich J u k l tel.: 602558222
C129: PČ | D129: Typ | E129: Kód | F129: Popis | G129: MJ | H129: Množství | I129: J.cena [CZK] | J129: Cena celkem [CZK] | K129: Cenová soustava | N129: DPH | O129: J. Nh [h] | P129: Nh celkem [h] | Q129: J. hmotnost [t] | R129: Hmotnost celkem [t] | S129: J. suť [t] | T129: Suť Celkem [t]
C130: Náklady soupisu celkem | J130: =BK130 -> 0 | P130: =P131+P150+P189 -> 0 | R130: =R131+R150+R189 -> 0.2809563 | T130: =T131+T150+T189 -> 0 | AT130: D | AU130: -1 | BK130: =BK131+BK150+BK189 -> 0
D131: D | E131: HSV | F131: Práce a dodávky HSV | J131: =BK131 -> 0 | P131: =P132+SUM(P133:P135) -> 0 | R131: =R132+SUM(R133:R135) -> 0.0025194 | T131: =T132+SUM(T133:T135) -> 0 | AR131: 1 | AT131: D | AU131: 0 | AY131: ROZPOCET | BK131: =BK132+SUM(BK133:BK135) -> 0
C132: 1 | D132: K | E132: 000000001 | F132: Poznámky a upozornění | H132: 0 | J132: =ROUND(I132*H132,2) -> 0 | N132: základní | P132: =O132*H132 -> 0 | Q132: 0 | R132: =Q132*H132 -> 0 | S132: 0 | T132: =S132*H132 -> 0 | AR132: 4 | AT132: K | AU132: 1 | AY132: ROZPOCET | BE132: =IF(N132="základní",J132,0) -> 0 | BF132: =IF(N132="snížená",J132,0) -> 0 | BG132: =IF(N132="zákl. přenesená",J132,0) -> 0 | BH132: =IF(N132="sníž. přenesená",J132,0) -> 0 | BI132: =IF(N132="nulová",J132,0) -> 0 | BJ132: 1 | BK132: =ROUND(I132*H132,2) -> 0 | BL132: 4 | BM132: 1896822770
D133: VV | F133: "- rozpočet je zpracován v cenové databázi ÚRS Praha 2020/1 - dle stupně PD_DPS 03.2020" | AT133: VV | AU133: 1 | AV133: 1 | AW133: True | AX133: 0 | AY133: ROZPOCET
D134: VV | F134: Součet | H134: 0 | AT134: VV | AU134: 1 | AV134: 4 | AW134: True | AX134: 1 | AY134: ROZPOCET
D135: D | E135: 9 | F135: Ostatní konstrukce a práce, bourání | J135: =BK135 -> 0 | P135: =SUM(P136:P149) -> 0 | R135: =SUM(R136:R149) -> 0.0025194 | T135: =SUM(T136:T149) -> 0 | AR135: 1 | AT135: D | AU135: 1 | AY135: ROZPOCET | BK135: =SUM(BK136:BK149) -> 0
C136: 2 | D136: K | E136: 941211111 | F136: Montáž lešení řadového rámového lehkého zatížení do 200 kg/m2 š do 0,9 m v do 10 m | G136: m2 | H136: 378 | J136: =ROUND(I136*H136,2) -> 0 | N136: základní | P136: =O136*H136 -> 0 | Q136: 0 | R136: =Q136*H136 -> 0 | S136: 0 | T136: =S136*H136 -> 0 | AR136: 4 | AT136: K | AU136: 2 | AY136: ROZPOCET | BE136: =IF(N136="základní",J136,0) -> 0 | BF136: =IF(N136="snížená",J136,0) -> 0 | BG136: =IF(N136="zákl. přenesená",J136,0) -> 0 | BH136: =IF(N136="sníž. přenesená",J136,0) -> 0 | BI136: =IF(N136="nulová",J136,0) -> 0 | BJ136: 1 | BK136: =ROUND(I136*H136,2) -> 0 | BL136: 4 | BM136: -291260224
D137: VV | F137: 6,00*7,00*9 | H137: 378 | AT137: VV | AU137: 2 | AV137: 2 | AW137: True | AX137: 0 | AY137: ROZPOCET
D138: VV | F138: Součet | H138: 378 | AT138: VV | AU138: 2 | AV138: 4 | AW138: True | AX138: 1 | AY138: ROZPOCET
C139: 3 | D139: K | E139: 941211211 | F139: Příplatek k lešení řadovému rámovému lehkému š 0,9 m v do 25 m za první a ZKD den použití | G139: m2 | H139: 11340 | J139: =ROUND(I139*H139,2) -> 0 | N139: základní | P139: =O139*H139 -> 0 | Q139: 0 | R139: =Q139*H139 -> 0 | S139: 0 | T139: =S139*H139 -> 0 | AR139: 4 | AT139: K | AU139: 2 | AY139: ROZPOCET | BE139: =IF(N139="základní",J139,0) -> 0 | BF139: =IF(N139="snížená",J139,0) -> 0 | BG139: =IF(N139="zákl. přenesená",J139,0) -> 0 | BH139: =IF(N139="sníž. přenesená",J139,0) -> 0 | BI139: =IF(N139="nulová",J139,0) -> 0 | BJ139: 1 | BK139: =ROUND(I139*H139,2) -> 0 | BL139: 4 | BM139: 242669706
D140: VV | F140: 378*30 'Přepočtené koeficientem množství | H140: 11340 | AT140: VV | AU140: 2 | AV140: 2 | AW140: False | AX140: 1 | AY140: ROZPOCET
C141: 4 | D141: K | E141: 941211811 | F141: Demontáž lešení řadového rámového lehkého zatížení do 200 kg/m2 š do 0,9 m v do 10 m | G141: m2 | H141: 378 | J141: =ROUND(I141*H141,2) -> 0 | N141: základní | P141: =O141*H141 -> 0 | Q141: 0 | R141: =Q141*H141 -> 0 | S141: 0 | T141: =S141*H141 -> 0 | AR141: 4 | AT141: K | AU141: 2 | AY141: ROZPOCET | BE141: =IF(N141="základní",J141,0) -> 0 | BF141: =IF(N141="snížená",J141,0) -> 0 | BG141: =IF(N141="zákl. přenesená",J141,0) -> 0 | BH141: =IF(N141="sníž. přenesená",J141,0) -> 0 | BI141: =IF(N141="nulová",J141,0) -> 0 | BJ141: 1 | BK141: =ROUND(I141*H141,2) -> 0 | BL141: 4 | BM141: 148146155
C142: 5 | D142: K | E142: 949009101 | F142: Přesun hmot samostatně budovaných lešení do 50 m | G142: t | H142: 3.78 | J142: =ROUND(I142*H142,2) -> 0 | N142: základní | P142: =O142*H142 -> 0 | Q142: 0 | R142: =Q142*H142 -> 0 | S142: 0 | T142: =S142*H142 -> 0 | AR142: 4 | AT142: K | AU142: 2 | AY142: ROZPOCET | BE142: =IF(N142="základní",J142,0) -> 0 | BF142: =IF(N142="snížená",J142,0) -> 0 | BG142: =IF(N142="zákl. přenesená",J142,0) -> 0 | BH142: =IF(N142="sníž. přenesená",J142,0) -> 0 | BI142: =IF(N142="nulová",J142,0) -> 0 | BJ142: 1 | BK142: =ROUND(I142*H142,2) -> 0 | BL142: 4 | BM142: -947395051
D143: VV | F143: 378,00*2*0,005 | H143: 3.78 | AT143: VV | AU143: 2 | AV143: 2 | AW143: True | AX143: 0 | AY143: ROZPOCET
D144: VV | F144: Součet | H144: 3.78 | AT144: VV | AU144: 2 | AV144: 4 | AW144: True | AX144: 1 | AY144: ROZPOCET
C145: 6 | D145: K | E145: 949009194 | F145: Příplatek k přesunu hmot samostatně budovaných lešení za zvětšený přesun do 1000 m | G145: t | H145: 3.78 | J145: =ROUND(I145*H145,2) -> 0 | N145: základní | P145: =O145*H145 -> 0 | Q145: 0 | R145: =Q145*H145 -> 0 | S145: 0 | T145: =S145*H145 -> 0 | AR145: 4 | AT145: K | AU145: 2 | AY145: ROZPOCET | BE145: =IF(N145="základní",J145,0) -> 0 | BF145: =IF(N145="snížená",J145,0) -> 0 | BG145: =IF(N145="zákl. přenesená",J145,0) -> 0 | BH145: =IF(N145="sníž. přenesená",J145,0) -> 0 | BI145: =IF(N145="nulová",J145,0) -> 0 | BJ145: 1 | BK145: =ROUND(I145*H145,2) -> 0 | BL145: 4 | BM145: 1194440526
C146: 7 | D146: K | E146: 949101111 | F146: Lešení pomocné pro objekty pozemních staveb s lešeňovou podlahou v do 1,9 m zatížení do 150 kg/m2 | G146: m2 | H146: 19.38 | J146: =ROUND(I146*H146,2) -> 0 | N146: základní | P146: =O146*H146 -> 0 | Q146: 0.00013 | R146: =Q146*H146 -> 0.0025194 | S146: 0 | T146: =S146*H146 -> 0 | AR146: 4 | AT146: K | AU146: 2 | AY146: ROZPOCET | BE146: =IF(N146="základní",J146,0) -> 0 | BF146: =IF(N146="snížená",J146,0) -> 0 | BG146: =IF(N146="zákl. přenesená",J146,0) -> 0 | BH146: =IF(N146="sníž. přenesená",J146,0) -> 0 | BI146: =IF(N146="nulová",J146,0) -> 0 | BJ146: 1 | BK146: =ROUND(I146*H146,2) -> 0 | BL146: 4 | BM146: 717433801
D147: VV | F147: "ředitelství" | AT147: VV | AU147: 2 | AV147: 1 | AW147: True | AX147: 0 | AY147: ROZPOCET
D148: VV | F148: (1,25*3+1,55*8)*1,20 | H148: 19.38 | AT148: VV | AU148: 2 | AV148: 2 | AW148: True | AX148: 0 | AY148: ROZPOCET
D149: VV | F149: Součet | H149: 19.38 | AT149: VV | AU149: 2 | AV149: 4 | AW149: True | AX149: 1 | AY149: ROZPOCET
D150: D | E150: PSV | F150: Práce a dodávky PSV | J150: =BK150 -> 0 | P150: =P151+P178 -> 0 | R150: =R151+R178 -> 0.2784369 | T150: =T151+T178 -> 0 | AR150: 2 | AT150: D | AU150: 0 | AY150: ROZPOCET | BK150: =BK151+BK178 -> 0
D151: D | E151: 741 | F151: Elektroinstalace - silnoproud | J151: =BK151 -> 0 | P151: =SUM(P152:P177) -> 0 | R151: =SUM(R152:R177) -> 0.04312 | T151: =SUM(T152:T177) -> 0 | AR151: 2 | AT151: D | AU151: 1 | AY151: ROZPOCET | BK151: =SUM(BK152:BK177) -> 0
C152: 8 | D152: K | E152: 741110511 | F152: Montáž lišta a kanálek vkládací šířky do 60 mm s víčkem | G152: m | H152: 40 | J152: =ROUND(I152*H152,2) -> 0 | N152: základní | P152: =O152*H152 -> 0 | Q152: 0 | R152: =Q152*H152 -> 0 | S152: 0 | T152: =S152*H152 -> 0 | AR152: 16 | AT152: K | AU152: 2 | AY152: ROZPOCET | BE152: =IF(N152="základní",J152,0) -> 0 | BF152: =IF(N152="snížená",J152,0) -> 0 | BG152: =IF(N152="zákl. přenesená",J152,0) -> 0 | BH152: =IF(N152="sníž. přenesená",J152,0) -> 0 | BI152: =IF(N152="nulová",J152,0) -> 0 | BJ152: 1 | BK152: =ROUND(I152*H152,2) -> 0 | BL152: 16 | BM152: -236273426
D153: VV | F153: 20,00+20,00 | H153: 40 | AT153: VV | AU153: 2 | AV153: 2 | AW153: True | AX153: 1 | AY153: ROZPOCET
C154: 9 | D154: M | E154: 34571003 | F154: lišta elektroinstalační hranatá bílá 17x17 | G154: m | H154: 42 | J154: =ROUND(I154*H154,2) -> 0 | N154: základní | P154: =O154*H154 -> 0 | Q154: 0.00011 | R154: =Q154*H154 -> 0.00462 | S154: 0 | T154: =S154*H154 -> 0 | AR154: 32 | AT154: M | AU154: 2 | AY154: ROZPOCET | BE154: =IF(N154="základní",J154,0) -> 0 | BF154: =IF(N154="snížená",J154,0) -> 0 | BG154: =IF(N154="zákl. přenesená",J154,0) -> 0 | BH154: =IF(N154="sníž. přenesená",J154,0) -> 0 | BI154: =IF(N154="nulová",J154,0) -> 0 | BJ154: 1 | BK154: =ROUND(I154*H154,2) -> 0 | BL154: 16 | BM154: 391376576
D155: VV | F155: 40*1,05 'Přepočtené koeficientem množství | H155: 42 | AT155: VV | AU155: 2 | AV155: 2 | AW155: False | AX155: 1 | AY155: ROZPOCET
C156: 10 | D156: K | E156: 741112061 | F156: Montáž krabice přístrojová zapuštěná plastová kruhová | G156: kus | H156: 11 | J156: =ROUND(I156*H156,2) -> 0 | N156: základní | P156: =O156*H156 -> 0 | Q156: 0 | R156: =Q156*H156 -> 0 | S156: 0 | T156: =S156*H156 -> 0 | AR156: 16 | AT156: K | AU156: 2 | AY156: ROZPOCET | BE156: =IF(N156="základní",J156,0) -> 0 | BF156: =IF(N156="snížená",J156,0) -> 0 | BG156: =IF(N156="zákl. přenesená",J156,0) -> 0 | BH156: =IF(N156="sníž. přenesená",J156,0) -> 0 | BI156: =IF(N156="nulová",J156,0) -> 0 | BJ156: 1 | BK156: =ROUND(I156*H156,2) -> 0 | BL156: 16 | BM156: -1033576304
C157: 11 | D157: M | E157: 34571563 | F157: rozvodka krabicová z PH s víčkem a svorkovnicí krabicovou šroubovací s vodiči 20x4mm2, D 103mmx50mm | G157: kus | H157: 11 | J157: =ROUND(I157*H157,2) -> 0 | N157: základní | P157: =O157*H157 -> 0 | Q157: 0.00019 | R157: =Q157*H157 -> 0.00209 | S157: 0 | T157: =S157*H157 -> 0 | AR157: 32 | AT157: M | AU157: 2 | AY157: ROZPOCET | BE157: =IF(N157="základní",J157,0) -> 0 | BF157: =IF(N157="snížená",J157,0) -> 0 | BG157: =IF(N157="zákl. přenesená",J157,0) -> 0 | BH157: =IF(N157="sníž. přenesená",J157,0) -> 0 | BI157: =IF(N157="nulová",J157,0) -> 0 | BJ157: 1 | BK157: =ROUND(I157*H157,2) -> 0 | BL157: 16 | BM157: -838210252
C158: 12 | D158: K | E158: 741112063 | F158: Montáž krabice přístrojová zapuštěná plastová čtyřhranná | G158: kus | H158: 5 | J158: =ROUND(I158*H158,2) -> 0 | N158: základní | P158: =O158*H158 -> 0 | Q158: 0 | R158: =Q158*H158 -> 0 | S158: 0 | T158: =S158*H158 -> 0 | AR158: 16 | AT158: K | AU158: 2 | AY158: ROZPOCET | BE158: =IF(N158="základní",J158,0) -> 0 | BF158: =IF(N158="snížená",J158,0) -> 0 | BG158: =IF(N158="zákl. přenesená",J158,0) -> 0 | BH158: =IF(N158="sníž. přenesená",J158,0) -> 0 | BI158: =IF(N158="nulová",J158,0) -> 0 | BJ158: 1 | BK158: =ROUND(I158*H158,2) -> 0 | BL158: 16 | BM158: -676025552
C159: 13 | D159: M | E159: 34571524 | F159: krabice přístrojová odbočná s víčkem z PH, 132x132mm, hloubka 72mm | G159: kus | H159: 5 | J159: =ROUND(I159*H159,2) -> 0 | N159: základní | P159: =O159*H159 -> 0 | Q159: 0.00023 | R159: =Q159*H159 -> 0.00115 | S159: 0 | T159: =S159*H159 -> 0 | AR159: 32 | AT159: M | AU159: 2 | AY159: ROZPOCET | BE159: =IF(N159="základní",J159,0) -> 0 | BF159: =IF(N159="snížená",J159,0) -> 0 | BG159: =IF(N159="zákl. přenesená",J159,0) -> 0 | BH159: =IF(N159="sníž. přenesená",J159,0) -> 0 | BI159: =IF(N159="nulová",J159,0) -> 0 | BJ159: 1 | BK159: =ROUND(I159*H159,2) -> 0 | BL159: 16 | BM159: -1757024652
C160: 14 | D160: K | E160: 741112101 | F160: Montáž rozvodka zapuštěná plastová kruhová | G160: kus | H160: 30 | J160: =ROUND(I160*H160,2) -> 0 | N160: základní | P160: =O160*H160 -> 0 | Q160: 0 | R160: =Q160*H160 -> 0 | S160: 0 | T160: =S160*H160 -> 0 | AR160: 16 | AT160: K | AU160: 2 | AY160: ROZPOCET | BE160: =IF(N160="základní",J160,0) -> 0 | BF160: =IF(N160="snížená",J160,0) -> 0 | BG160: =IF(N160="zákl. přenesená",J160,0) -> 0 | BH160: =IF(N160="sníž. přenesená",J160,0) -> 0 | BI160: =IF(N160="nulová",J160,0) -> 0 | BJ160: 1 | BK160: =ROUND(I160*H160,2) -> 0 | BL160: 16 | BM160: 242144409
D161: VV | F161: 25+5 | H161: 30 | AT161: VV | AU161: 2 | AV161: 2 | AW161: True | AX161: 1 | AY161: ROZPOCET
C162: 15 | D162: M | E162: 34562690 | F162: svorkovnice krabicová šroubovací s vodiči 12x4mm2, 400V | G162: kus | H162: 30 | J162: =ROUND(I162*H162,2) -> 0 | N162: základní | P162: =O162*H162 -> 0 | Q162: 4e-05 | R162: =Q162*H162 -> 0.0012 | S162: 0 | T162: =S162*H162 -> 0 | AR162: 32 | AT162: M | AU162: 2 | AY162: ROZPOCET | BE162: =IF(N162="základní",J162,0) -> 0 | BF162: =IF(N162="snížená",J162,0) -> 0 | BG162: =IF(N162="zákl. přenesená",J162,0) -> 0 | BH162: =IF(N162="sníž. přenesená",J162,0) -> 0 | BI162: =IF(N162="nulová",J162,0) -> 0 | BJ162: 1 | BK162: =ROUND(I162*H162,2) -> 0 | BL162: 16 | BM162: -2015462183
C163: 16 | D163: K | E163: 741122122 | F163: Montáž kabel Cu plný kulatý žíla 3x1,5 až 6 mm2 zatažený v trubkách (CYKY) | G163: m | H163: 190 | J163: =ROUND(I163*H163,2) -> 0 | N163: základní | P163: =O163*H163 -> 0 | Q163: 0 | R163: =Q163*H163 -> 0 | S163: 0 | T163: =S163*H163 -> 0 | AR163: 16 | AT163: K | AU163: 2 | AY163: ROZPOCET | BE163: =IF(N163="základní",J163,0) -> 0 | BF163: =IF(N163="snížená",J163,0) -> 0 | BG163: =IF(N163="zákl. přenesená",J163,0) -> 0 | BH163: =IF(N163="sníž. přenesená",J163,0) -> 0 | BI163: =IF(N163="nulová",J163,0) -> 0 | BJ163: 1 | BK163: =ROUND(I163*H163,2) -> 0 | BL163: 16 | BM163: -1083223118
D164: VV | F164: 70,00+40,00+80,00 | H164: 190 | AT164: VV | AU164: 2 | AV164: 2 | AW164: True | AX164: 1 | AY164: ROZPOCET
C165: 17 | D165: M | E165: 34111030 | F165: kabel silový s Cu jádrem 1kV 3x1,5mm2 | G165: m | H165: 132 | J165: =ROUND(I165*H165,2) -> 0 | N165: základní | P165: =O165*H165 -> 0 | Q165: 0.00012 | R165: =Q165*H165 -> 0.01584 | S165: 0 | T165: =S165*H165 -> 0 | AR165: 32 | AT165: M | AU165: 2 | AY165: ROZPOCET | BE165: =IF(N165="základní",J165,0) -> 0 | BF165: =IF(N165="snížená",J165,0) -> 0 | BG165: =IF(N165="zákl. přenesená",J165,0) -> 0 | BH165: =IF(N165="sníž. přenesená",J165,0) -> 0 | BI165: =IF(N165="nulová",J165,0) -> 0 | BJ165: 1 | BK165: =ROUND(I165*H165,2) -> 0 | BL165: 16 | BM165: -1150416006
D166: VV | F166: 110*1,2 'Přepočtené koeficientem množství | H166: 132 | AT166: VV | AU166: 2 | AV166: 2 | AW166: False | AX166: 1 | AY166: ROZPOCET
C167: 18 | D167: M | E167: 34111036 | F167: kabel silový s Cu jádrem 1kV 3x2,5mm2 | G167: m | H167: 96 | J167: =ROUND(I167*H167,2) -> 0 | N167: základní | P167: =O167*H167 -> 0 | Q167: 0.00017 | R167: =Q167*H167 -> 0.01632 | S167: 0 | T167: =S167*H167 -> 0 | AR167: 32 | AT167: M | AU167: 2 | AY167: ROZPOCET | BE167: =IF(N167="základní",J167,0) -> 0 | BF167: =IF(N167="snížená",J167,0) -> 0 | BG167: =IF(N167="zákl. přenesená",J167,0) -> 0 | BH167: =IF(N167="sníž. přenesená",J167,0) -> 0 | BI167: =IF(N167="nulová",J167,0) -> 0 | BJ167: 1 | BK167: =ROUND(I167*H167,2) -> 0 | BL167: 16 | BM167: 313530480
D168: VV | F168: 80*1,2 'Přepočtené koeficientem množství | H168: 96 | AT168: VV | AU168: 2 | AV168: 2 | AW168: False | AX168: 1 | AY168: ROZPOCET
...
