Workbook

Sheet Rekapitulace stavby
A1: Export Komplet | AZ1: VZ | BA1: 2.0 | BB1: ZAMOK | BT1: False | BU1: False | BV1: {f292d56d-cf2b-4b98-8dd3-d71c64677da0}
BS2: 0,01 | BT2: 21
BS3: 0,01 | BT3: 12
D4: REKAPITULACE STAVBY | AS4: v --- níže se nacházejí doplnkové a pomocné údaje k sestavám --- v | BE4: Návod na vyplnění | BS4: 0,001
D5: Kód: | K5: PFP-25-14 | BE5: Měnit lze pouze buňky se žlutým podbarvením!_x000D_ _x000D_ 1) v Rekapitulaci stavby vyplňte údaje o Účastníkovi (přenesou se do ostatních sestav i v jiných listech)_x000D_ _x000D_ 2) na vybraných listech vyplňte v sestavě Soupis prací ceny u položek | BS5: 0,01
D6: Stavba: | K6: Tuchlovice, oprava MK v ulici Za Starou poštou | BS6: 0,01
D7: KSO: | AK7: CC-CZ: | BS7: 0,01
D8: Místo: | K8: Tuchlovice | AK8: Datum: | AN8: 12. 11. 2025 | BS8: 0,01
BS9: 0,01
D10: Zadavatel: | AK10: IČ: | BS10: 0,01
E11: Obec Tuchlovice | AK11: DIČ: | BS11: 0,01
BS12: 0,01
D13: Účastník: | AK13: IČ: | AN13: Vyplň údaj | BS13: 0,01
E14: Vyplň údaj | AK14: DIČ: | AN14: Vyplň údaj | BS14: 0,01
BS15: False
D16: Projektant: | AK16: IČ: | BS16: False
E17: PFProjekt s.r.o. | AK17: DIČ: | BS17: True
BS18: 0,01
D19: Zpracovatel: | AK19: IČ: | BS19: 0,01
E20: NOKU s.r.o. | AK20: DIČ: | BS20: False
D22: Poznámka:
E23: Soupis prací je sestaven s využitím Cenové soustavy ÚRS. Položky, které pochází z této cenové soustavy, jsou ve sloupci 'Cenová soustava' označeny popisem 'CS ÚRS' a úrovní příslušného kalendářního pololetí. Veškeré další informace vymezující popis a podmínky použití těchto položek z Cenové soustavy, které nejsou uvedeny přímo v soupisu prací, jsou neomezeně dálkově k dispozici na webu podminky.urs.cz.
D26: Cena bez DPH | AK26: =ROUND(AG54,2) -> 0
L28: Sazba daně | W28: Základ daně | AK28: Výše daně
D29: DPH | F29: základní | L29: 0.21 | W29: =ROUND(AZ54, 2) -> 0 | AK29: =ROUND(AV54, 2) -> 0
F30: snížená | L30: 0.12 | W30: =ROUND(BA54, 2) -> 0 | AK30: =ROUND(AW54, 2) -> 0
F31: zákl. přenesená | L31: 0.21 | W31: =ROUND(BB54, 2) -> 0 | AK31: 0
F32: sníž. přenesená | L32: 0.12 | W32: =ROUND(BC54, 2) -> 0 | AK32: 0
F33: nulová | L33: 0 | W33: =ROUND(BD54, 2) -> 0 | AK33: 0
D35: Cena s DPH | T35: v | X35: CZK | AK35: =SUM(AK26:AK33) -> 0
C42: REKAPITULACE OBJEKTŮ STAVBY A SOUPISŮ PRACÍ
C44: Kód: | L44: =K5 -> PFP-25-14
C45: Stavba: | L45: =K6 -> Tuchlovice, oprava MK v ulici Za Starou poštou
C47: Místo: | L47: =IF(K8="","",K8) -> Tuchlovice | AI47: Datum: | AM47: =IF(AN8= "","",AN8) -> 12. 11. 2025
C49: Zadavatel: | L49: =IF(E11= "","",E11) -> Obec Tuchlovice | AI49: Projektant: | AM49: =IF(E17="","",E17) -> PFProjekt s.r.o. | AS49: Informatívní údaje z listů zakázek
C50: Účastník: | L50: =IF(E14= "Vyplň údaj","",E14) | AI50: Zpracovatel: | AM50: =IF(E20="","",E20) -> NOKU s.r.o.
C52: Kód | I52: Popis | AG52: Cena bez DPH [CZK] | AN52: Cena s DPH [CZK] | AQ52: Typ | AS52: z toho Ostat._x000D_ náklady [CZK] | AT52: DPH [CZK] | AU52: Normohodiny [h] | AV52: DPH základní [CZK] | AW52: DPH snížená [CZK] | AX52: DPH základní přenesená_x000D_ [CZK] | AY52: DPH snížená přenesená_x000D_ [CZK] | AZ52: Základna_x000D_ DPH základní | BA52: Základna_x000D_ DPH snížená | BB52: Základna_x000D_ DPH zákl. přenesená | BC52: Základna_x000D_ DPH sníž. přenesená | BD52: Základna_x000D_ DPH nulová
C54: Náklady stavby celkem | AG54: =ROUND(SUM(AG55:AG58),2) -> 0 | AN54: =SUM(AG54,AT54) -> 0 | AS54: =ROUND(SUM(AS55:AS58),2) -> 0 | AT54: =ROUND(SUM(AV54:AW54),2) -> 0 | AU54: =ROUND(SUM(AU55:AU58),5) -> 0 | AV54: =ROUND(AZ54*L29,2) -> 0 | AW54: =ROUND(BA54*L30,2) -> 0 | AX54: =ROUND(BB54*L29,2) -> 0 | AY54: =ROUND(BC54*L30,2) -> 0 | AZ54: =ROUND(SUM(AZ55:AZ58),2) -> 0 | BA54: =ROUND(SUM(BA55:BA58),2) -> 0 | BB54: =ROUND(SUM(BB55:BB58),2) -> 0 | BC54: =ROUND(SUM(BC55:BC58),2) -> 0 | BD54: =ROUND(SUM(BD55:BD58),2) -> 0 | BS54: D | BT54: 0 | BU54: ###NOIMPORT### | BV54: IMPORT | BW54: {f292d56d-cf2b-4b98-8dd3-d71c64677da0} | BX54: {00000000-0000-0000-0000-000000000000}
A55: / | D55: SO 101 | J55: Komunikace a zpevněné plochy - 1. úsek | AG55: ='SO 101 - Komunikace a zpe...'!J30 -> 0 | AN55: =SUM(AG55,AT55) -> 0 | AQ55: STA | AS55: 0 | AT55: =ROUND(SUM(AV55:AW55),2) -> 0 | AU55: ='SO 101 - Komunikace a zpe...'!P94 -> 0 | AV55: ='SO 101 - Komunikace a zpe...'!J33 -> 0 | AW55: ='SO 101 - Komunikace a zpe...'!J34 -> 0 | AX55: ='SO 101 - Komunikace a zpe...'!J35 -> 0 | AY55: ='SO 101 - Komunikace a zpe...'!J36 -> 0 | AZ55: ='SO 101 - Komunikace a zpe...'!F33 -> 0 | BA55: ='SO 101 - Komunikace a zpe...'!F34 -> 0 | BB55: ='SO 101 - Komunikace a zpe...'!F35 -> 0 | BC55: ='SO 101 - Komunikace a zpe...'!F36 -> 0 | BD55: ='SO 101 - Komunikace a zpe...'!F37 -> 0 | BT55: 1 | BV55: IMPORT | BW55: {7af6ae94-2155-41d4-b88a-8e4cf0e7b6ab} | BX55: {f292d56d-cf2b-4b98-8dd3-d71c64677da0} | CM55: 2
A56: / | D56: SO 301 | J56: Kanalizace a odvodnění | AG56: ='SO 301 - Kanalizace a odv...'!J30 -> 0 | AN56: =SUM(AG56,AT56) -> 0 | AQ56: STA | AS56: 0 | AT56: =ROUND(SUM(AV56:AW56),2) -> 0 | AU56: ='SO 301 - Kanalizace a odv...'!P91 -> 0 | AV56: ='SO 301 - Kanalizace a odv...'!J33 -> 0 | AW56: ='SO 301 - Kanalizace a odv...'!J34 -> 0 | AX56: ='SO 301 - Kanalizace a odv...'!J35 -> 0 | AY56: ='SO 301 - Kanalizace a odv...'!J36 -> 0 | AZ56: ='SO 301 - Kanalizace a odv...'!F33 -> 0 | BA56: ='SO 301 - Kanalizace a odv...'!F34 -> 0 | BB56: ='SO 301 - Kanalizace a odv...'!F35 -> 0 | BC56: ='SO 301 - Kanalizace a odv...'!F36 -> 0 | BD56: ='SO 301 - Kanalizace a odv...'!F37 -> 0 | BT56: 1 | BV56: IMPORT | BW56: {61d0f7b8-7fe1-4554-ad68-8a91023caa54} | BX56: {f292d56d-cf2b-4b98-8dd3-d71c64677da0} | CM56: 2
A57: / | D57: SO 401 | J57: Veřejně osvětlení | AG57: ='SO 401 - Veřejně osvětlení'!J30 -> 0 | AN57: =SUM(AG57,AT57) -> 0 | AQ57: STA | AS57: 0 | AT57: =ROUND(SUM(AV57:AW57),2) -> 0 | AU57: ='SO 401 - Veřejně osvětlení'!P92 -> 0 | AV57: ='SO 401 - Veřejně osvětlení'!J33 -> 0 | AW57: ='SO 401 - Veřejně osvětlení'!J34 -> 0 | AX57: ='SO 401 - Veřejně osvětlení'!J35 -> 0 | AY57: ='SO 401 - Veřejně osvětlení'!J36 -> 0 | AZ57: ='SO 401 - Veřejně osvětlení'!F33 -> 0 | BA57: ='SO 401 - Veřejně osvětlení'!F34 -> 0 | BB57: ='SO 401 - Veřejně osvětlení'!F35 -> 0 | BC57: ='SO 401 - Veřejně osvětlení'!F36 -> 0 | BD57: ='SO 401 - Veřejně osvětlení'!F37 -> 0 | BT57: 1 | BV57: IMPORT | BW57: {59e62e23-8e08-4a75-923f-cd1f7a0ddc4e} | BX57: {f292d56d-cf2b-4b98-8dd3-d71c64677da0} | CM57: 2
A58: / | D58: SO 801 | J58: Sadové úpravy | AG58: ='SO 801 - Sadové úpravy'!J30 -> 0 | AN58: =SUM(AG58,AT58) -> 0 | AQ58: STA | AS58: 0 | AT58: =ROUND(SUM(AV58:AW58),2) -> 0 | AU58: ='SO 801 - Sadové úpravy'!P92 -> 0 | AV58: ='SO 801 - Sadové úpravy'!J33 -> 0 | AW58: ='SO 801 - Sadové úpravy'!J34 -> 0 | AX58: ='SO 801 - Sadové úpravy'!J35 -> 0 | AY58: ='SO 801 - Sadové úpravy'!J36 -> 0 | AZ58: ='SO 801 - Sadové úpravy'!F33 -> 0 | BA58: ='SO 801 - Sadové úpravy'!F34 -> 0 | BB58: ='SO 801 - Sadové úpravy'!F35 -> 0 | BC58: ='SO 801 - Sadové úpravy'!F36 -> 0 | BD58: ='SO 801 - Sadové úpravy'!F37 -> 0 | BT58: 1 | BV58: IMPORT | BW58: {8898b05e-deab-4662-839b-992b56fbaa83} | BX58: {f292d56d-cf2b-4b98-8dd3-d71c64677da0} | CM58: 2

Sheet SO 101 - Komunikace a zpe...
AT2: {7af6ae94-2155-41d4-b88a-8e4cf0e7b6ab}
AT3: 2
D4: KRYCÍ LIST SOUPISU PRACÍ | M4: v --- níže se nacházejí doplnkové a pomocné údaje k sestavám --- v | AT4: False
D6: Stavba:
E7: ='Rekapitulace stavby'!K6 -> Tuchlovice, oprava MK v ulici Za Starou poštou
D8: Objekt:
E9: SO 101 - Komunikace a zpevněné plochy - 1. úsek
D11: KSO: | I11: CC-CZ:
D12: Místo: | F12: obec Tuchlovice | I12: Datum: | J12: ='Rekapitulace stavby'!AN8 -> 12. 11. 2025
D14: Zadavatel: | I14: IČ:
E15: Obec Tuchlovice | I15: DIČ:
D17: Účastník: | I17: IČ: | J17: ='Rekapitulace stavby'!AN13 -> Vyplň údaj
E18: ='Rekapitulace stavby'!E14 -> Vyplň údaj | I18: DIČ: | J18: ='Rekapitulace stavby'!AN14 -> Vyplň údaj
D20: Projektant: | I20: IČ:
E21: PFProjekt s.r.o. | I21: DIČ:
D23: Zpracovatel: | I23: IČ:
E24: Jaroslav Kudláček | I24: DIČ:
D26: Poznámka:
D30: Cena bez DPH | J30: =ROUND(J94, 2) -> 0
F32: Základ daně | I32: Sazba daně | J32: Výše daně
D33: DPH | E33: základní | F33: =ROUND((SUM(BE94:BE455)), 2) -> 0 | I33: 0.21 | J33: =ROUND(((SUM(BE94:BE455))*I33), 2) -> 0
E34: snížená | F34: =ROUND((SUM(BF94:BF455)), 2) -> 0 | I34: 0.12 | J34: =ROUND(((SUM(BF94:BF455))*I34), 2) -> 0
E35: zákl. přenesená | F35: =ROUND((SUM(BG94:BG455)), 2) -> 0 | I35: 0.21 | J35: =0 -> 0
E36: sníž. přenesená | F36: =ROUND((SUM(BH94:BH455)), 2) -> 0 | I36: 0.12 | J36: =0 -> 0
E37: nulová | F37: =ROUND((SUM(BI94:BI455)), 2) -> 0 | I37: 0 | J37: =0 -> 0
D39: Cena s DPH | G39: v | H39: CZK | J39: =SUM(J30:J37) -> 0
C45: REKAPITULACE ČLENĚNÍ SOUPISU PRACÍ
C47: Stavba:
E48: =E7 -> Tuchlovice, oprava MK v ulici Za Starou poštou
C49: Objekt:
E50: =E9 -> SO 101 - Komunikace a zpevněné plochy - 1. úsek
C52: Místo: | F52: =F12 -> obec Tuchlovice | I52: Datum: | J52: =IF(J12="","",J12) -> 12. 11. 2025
C54: Zadavatel: | F54: =E15 -> Obec Tuchlovice | I54: Projektant: | J54: =E21 -> PFProjekt s.r.o.
C55: Účastník: | F55: =IF(E18="","",E18) -> Vyplň údaj | I55: Zpracovatel: | J55: =E24 -> Jaroslav Kudláček
C57: Kód dílu - Popis | J57: Cena celkem [CZK]
C59: Náklady stavby celkem | J59: =J94 -> 0 | AU59: -1
D60: HSV - Práce a dodávky HSV | J60: =J95 -> 0
D61: 1 - Zemní práce | J61: =J96 -> 0
D62: 1a - Výsadba stromů | J62: =J203 -> 0
D63: 2 - Zakládání | J63: =J224 -> 0
D64: 5 - Komunikace pozemní | J64: =J231 -> 0
D65: 9 - Ostatní konstrukce a práce, bourání | J65: =J319 -> 0
D66: 997 - Přesun sutě | J66: =J388 -> 0
D67: 998 - Přesun hmot | J67: =J420 -> 0
D68: PSV - Práce a dodávky PSV | J68: =J423 -> 0
D69: 711 - Izolace proti vodě, vlhkosti a plynům | J69: =J424 -> 0
D70: HZS - Hodinové zúčtovací sazby | J70: =J433 -> 0
D71: VRN - Vedlejší rozpočtové náklady | J71: =J436 -> 0
D72: VRN1 - Průzkumné, geodetické a projektové práce | J72: =J437 -> 0
D73: VRN3 - Zařízení staveniště | J73: =J446 -> 0
D74: VRN4 - Inženýrská činnost | J74: =J454 -> 0
C81: SOUPIS PRACÍ
C83: Stavba:
E84: =E7 -> Tuchlovice, oprava MK v ulici Za Starou poštou
C85: Objekt:
E86: =E9 -> SO 101 - Komunikace a zpevněné plochy - 1. úsek
C88: Místo: | F88: =F12 -> obec Tuchlovice | I88: Datum: | J88: =IF(J12="","",J12) -> 12. 11. 2025
C90: Zadavatel: | F90: =E15 -> Obec Tuchlovice | I90: Projektant: | J90: =E21 -> PFProjekt s.r.o.
C91: Účastník: | F91: =IF(E18="","",E18) -> Vyplň údaj | I91: Zpracovatel: | J91: =E24 -> Jaroslav Kudláček
C93: PČ | D93: Typ | E93: Kód | F93: Popis | G93: MJ | H93: Množství | I93: J.cena [CZK] | J93: Cena celkem [CZK] | K93: Cenová soustava | N93: DPH | O93: J. Nh [h] | P93: Nh celkem [h] | Q93: J. hmotnost [t] | R93: Hmotnost celkem [t] | S93: J. suť [t] | T93: Suť Celkem [t]
C94: Náklady soupisu celkem | J94: =BK94 -> 0 | P94: =P95+P423+P433+P436 -> 0 | R94: =R95+R423+R433+R436 -> 1285.5855 | T94: =T95+T423+T433+T436 -> 2127.719 | AT94: D | AU94: -1 | BK94: =BK95+BK423+BK433+BK436 -> 0
D95: D | E95: HSV | F95: Práce a dodávky HSV | J95: =BK95 -> 0 | P95: =P96+P203+P224+P231+P319+P388+P420 -> 0 | R95: =R96+R203+R224+R231+R319+R388+R420 -> 1285.5146 | T95: =T96+T203+T224+T231+T319+T388+T420 -> 2127.719 | AR95: 1 | AT95: D | AU95: 0 | AY95: ROZPOCET | BK95: =BK96+BK203+BK224+BK231+BK319+BK388+BK420 -> 0
D96: D | E96: 1 | F96: Zemní práce | J96: =BK96 -> 0 | P96: =SUM(P97:P202) -> 0 | R96: =SUM(R97:R202) -> 180.43243 | T96: =SUM(T97:T202) -> 2127.637 | AR96: 1 | AT96: D | AU96: 1 | AY96: ROZPOCET | BK96: =SUM(BK97:BK202) -> 0
C97: 1 | D97: K | E97: 113106123 | F97: Rozebrání dlažeb komunikací pro pěší s přemístěním hmot na skládku na vzdálenost do 3 m nebo s naložením na dopravní prostředek s ložem z kameniva nebo živice a s jakoukoliv výplní spár ručně ze zámkové dlažby | G97: m2 | H97: 651 | J97: =ROUND(I97*H97,2) -> 0 | K97: CS ÚRS 2025 02 | N97: základní | P97: =O97*H97 -> 0 | Q97: 0 | R97: =Q97*H97 -> 0 | S97: 0.26 | T97: =S97*H97 -> 169.26 | AR97: 4 | AT97: K | AU97: 2 | AY97: ROZPOCET | BE97: =IF(N97="základní",J97,0) -> 0 | BF97: =IF(N97="snížená",J97,0) -> 0 | BG97: =IF(N97="zákl. přenesená",J97,0) -> 0 | BH97: =IF(N97="sníž. přenesená",J97,0) -> 0 | BI97: =IF(N97="nulová",J97,0) -> 0 | BJ97: 1 | BK97: =ROUND(I97*H97,2) -> 0 | BL97: 4 | BM97: -1841322464
D98: Online PSC | F98: https://podminky.urs.cz/item/CS_URS_2025_02/113106123 | AT98: Online PSC | AU98: 2
D99: VV | F99: chodníky a vjezdy z dlažby | AT99: VV | AU99: 2 | AV99: 1 | AW99: True | AX99: 0 | AY99: ROZPOCET
D100: VV | F100: 651 | H100: 651 | AT100: VV | AU100: 2 | AV100: 2 | AW100: True | AX100: 1 | AY100: ROZPOCET
C101: 2 | D101: K | E101: 113107222 | F101: Odstranění podkladů nebo krytů strojně plochy jednotlivě přes 200 m2 s přemístěním hmot na skládku na vzdálenost do 20 m nebo s naložením na dopravní prostředek z kameniva hrubého drceného, o tl. vrstvy přes 100 do 200 mm | G101: m2 | H101: 651 | J101: =ROUND(I101*H101,2) -> 0 | K101: CS ÚRS 2025 02 | N101: základní | P101: =O101*H101 -> 0 | Q101: 0 | R101: =Q101*H101 -> 0 | S101: 0.29 | T101: =S101*H101 -> 188.79 | AR101: 4 | AT101: K | AU101: 2 | AY101: ROZPOCET | BE101: =IF(N101="základní",J101,0) -> 0 | BF101: =IF(N101="snížená",J101,0) -> 0 | BG101: =IF(N101="zákl. přenesená",J101,0) -> 0 | BH101: =IF(N101="sníž. přenesená",J101,0) -> 0 | BI101: =IF(N101="nulová",J101,0) -> 0 | BJ101: 1 | BK101: =ROUND(I101*H101,2) -> 0 | BL101: 4 | BM101: -562604848
D102: Online PSC | F102: https://podminky.urs.cz/item/CS_URS_2025_02/113107222 | AT102: Online PSC | AU102: 2
D103: VV | F103: chodníky a vjezdy z dlažby | AT103: VV | AU103: 2 | AV103: 1 | AW103: True | AX103: 0 | AY103: ROZPOCET
D104: VV | F104: 651 | H104: 651 | AT104: VV | AU104: 2 | AV104: 2 | AW104: True | AX104: 1 | AY104: ROZPOCET
C105: 3 | D105: K | E105: 113107223 | F105: Odstranění podkladů nebo krytů strojně plochy jednotlivě přes 200 m2 s přemístěním hmot na skládku na vzdálenost do 20 m nebo s naložením na dopravní prostředek z kameniva hrubého drceného, o tl. vrstvy přes 200 do 300 mm | G105: m2 | H105: 2023 | J105: =ROUND(I105*H105,2) -> 0 | K105: CS ÚRS 2025 02 | N105: základní | P105: =O105*H105 -> 0 | Q105: 0 | R105: =Q105*H105 -> 0 | S105: 0.44 | T105: =S105*H105 -> 890.12 | AR105: 4 | AT105: K | AU105: 2 | AY105: ROZPOCET | BE105: =IF(N105="základní",J105,0) -> 0 | BF105: =IF(N105="snížená",J105,0) -> 0 | BG105: =IF(N105="zákl. přenesená",J105,0) -> 0 | BH105: =IF(N105="sníž. přenesená",J105,0) -> 0 | BI105: =IF(N105="nulová",J105,0) -> 0 | BJ105: 1 | BK105: =ROUND(I105*H105,2) -> 0 | BL105: 4 | BM105: -806464112
D106: Online PSC | F106: https://podminky.urs.cz/item/CS_URS_2025_02/113107223 | AT106: Online PSC | AU106: 2
D107: VV | F107: komunikace - živice | AT107: VV | AU107: 2 | AV107: 1 | AW107: True | AX107: 0 | AY107: ROZPOCET
D108: VV | F108: 2023 | H108: 2023 | AT108: VV | AU108: 2 | AV108: 2 | AW108: True | AX108: 1 | AY108: ROZPOCET
C109: 4 | D109: K | E109: 113107243 | F109: Odstranění podkladů nebo krytů strojně plochy jednotlivě přes 200 m2 s přemístěním hmot na skládku na vzdálenost do 20 m nebo s naložením na dopravní prostředek živičných, o tl. vrstvy přes 100 do 150 mm | G109: m2 | H109: 2023 | J109: =ROUND(I109*H109,2) -> 0 | K109: CS ÚRS 2025 02 | N109: základní | P109: =O109*H109 -> 0 | Q109: 0 | R109: =Q109*H109 -> 0 | S109: 0.316 | T109: =S109*H109 -> 639.268 | AR109: 4 | AT109: K | AU109: 2 | AY109: ROZPOCET | BE109: =IF(N109="základní",J109,0) -> 0 | BF109: =IF(N109="snížená",J109,0) -> 0 | BG109: =IF(N109="zákl. přenesená",J109,0) -> 0 | BH109: =IF(N109="sníž. přenesená",J109,0) -> 0 | BI109: =IF(N109="nulová",J109,0) -> 0 | BJ109: 1 | BK109: =ROUND(I109*H109,2) -> 0 | BL109: 4 | BM109: -646600461
D110: Online PSC | F110: https://podminky.urs.cz/item/CS_URS_2025_02/113107243 | AT110: Online PSC | AU110: 2
D111: VV | F111: komunikace - živice | AT111: VV | AU111: 2 | AV111: 1 | AW111: True | AX111: 0 | AY111: ROZPOCET
D112: VV | F112: 2023 | H112: 2023 | AT112: VV | AU112: 2 | AV112: 2 | AW112: True | AX112: 1 | AY112: ROZPOCET
C113: 5 | D113: K | E113: 113107163 | F113: Odstranění podkladů nebo krytů strojně plochy jednotlivě přes 50 m2 do 200 m2 s přemístěním hmot na skládku na vzdálenost do 20 m nebo s naložením na dopravní prostředek z kameniva hrubého drceného, o tl. vrstvy přes 200 do 300 mm | G113: m2 | H113: 150 | J113: =ROUND(I113*H113,2) -> 0 | K113: CS ÚRS 2025 02 | N113: základní | P113: =O113*H113 -> 0 | Q113: 0 | R113: =Q113*H113 -> 0 | S113: 0.44 | T113: =S113*H113 -> 66 | AR113: 4 | AT113: K | AU113: 2 | AY113: ROZPOCET | BE113: =IF(N113="základní",J113,0) -> 0 | BF113: =IF(N113="snížená",J113,0) -> 0 | BG113: =IF(N113="zákl. přenesená",J113,0) -> 0 | BH113: =IF(N113="sníž. přenesená",J113,0) -> 0 | BI113: =IF(N113="nulová",J113,0) -> 0 | BJ113: 1 | BK113: =ROUND(I113*H113,2) -> 0 | BL113: 4 | BM113: 44058535
D114: Online PSC | F114: https://podminky.urs.cz/item/CS_URS_2025_02/113107163 | AT114: Online PSC | AU114: 2
D115: VV | F115: komunikace - štěrk, recyklát | AT115: VV | AU115: 2 | AV115: 1 | AW115: True | AX115: 0 | AY115: ROZPOCET
D116: VV | F116: 150 | H116: 150 | AT116: VV | AU116: 2 | AV116: 2 | AW116: True | AX116: 1 | AY116: ROZPOCET
C117: 6 | D117: K | E117: 113107332 | F117: Odstranění podkladů nebo krytů strojně plochy jednotlivě do 50 m2 s přemístěním hmot na skládku na vzdálenost do 3 m nebo s naložením na dopravní prostředek z betonu prostého, o tl. vrstvy přes 150 do 300 mm | G117: m2 | H117: 50 | J117: =ROUND(I117*H117,2) -> 0 | K117: CS ÚRS 2025 02 | N117: základní | P117: =O117*H117 -> 0 | Q117: 0 | R117: =Q117*H117 -> 0 | S117: 0.625 | T117: =S117*H117 -> 31.25 | AR117: 4 | AT117: K | AU117: 2 | AY117: ROZPOCET | BE117: =IF(N117="základní",J117,0) -> 0 | BF117: =IF(N117="snížená",J117,0) -> 0 | BG117: =IF(N117="zákl. přenesená",J117,0) -> 0 | BH117: =IF(N117="sníž. přenesená",J117,0) -> 0 | BI117: =IF(N117="nulová",J117,0) -> 0 | BJ117: 1 | BK117: =ROUND(I117*H117,2) -> 0 | BL117: 4 | BM117: -2067493650
D118: Online PSC | F118: https://podminky.urs.cz/item/CS_URS_2025_02/113107332 | AT118: Online PSC | AU118: 2
D119: VV | F119: bourání betonových konstrukcí | AT119: VV | AU119: 2 | AV119: 1 | AW119: True | AX119: 0 | AY119: ROZPOCET
D120: VV | F120: 50 | H120: 50 | AT120: VV | AU120: 2 | AV120: 2 | AW120: True | AX120: 1 | AY120: ROZPOCET
C121: 7 | D121: K | E121: 113154513 | F121: Frézování živičného podkladu nebo krytu s naložením hmot na dopravní prostředek plochy do 500 m2 pruhu šířky do 0,5 m, tloušťky vrstvy 50 mm | G121: m2 | H121: 113 | J121: =ROUND(I121*H121,2) -> 0 | K121: CS ÚRS 2025 02 | N121: základní | P121: =O121*H121 -> 0 | Q121: 1e-05 | R121: =Q121*H121 -> 0.00113 | S121: 0.115 | T121: =S121*H121 -> 12.995 | AR121: 4 | AT121: K | AU121: 2 | AY121: ROZPOCET | BE121: =IF(N121="základní",J121,0) -> 0 | BF121: =IF(N121="snížená",J121,0) -> 0 | BG121: =IF(N121="zákl. přenesená",J121,0) -> 0 | BH121: =IF(N121="sníž. přenesená",J121,0) -> 0 | BI121: =IF(N121="nulová",J121,0) -> 0 | BJ121: 1 | BK121: =ROUND(I121*H121,2) -> 0 | BL121: 4 | BM121: 1401051351
D122: Online PSC | F122: https://podminky.urs.cz/item/CS_URS_2025_02/113154513 | AT122: Online PSC | AU122: 2
C123: 8 | D123: K | E123: 113154514 | F123: Frézování živičného podkladu nebo krytu s naložením hmot na dopravní prostředek plochy do 500 m2 pruhu šířky do 0,5 m, tloušťky vrstvy 60 mm | G123: m2 | H123: 113 | J123: =ROUND(I123*H123,2) -> 0 | K123: CS ÚRS 2025 02 | N123: základní | P123: =O123*H123 -> 0 | Q123: 2e-05 | R123: =Q123*H123 -> 0.00226 | S123: 0.138 | T123: =S123*H123 -> 15.594 | AR123: 4 | AT123: K | AU123: 2 | AY123: ROZPOCET | BE123: =IF(N123="základní",J123,0) -> 0 | BF123: =IF(N123="snížená",J123,0) -> 0 | BG123: =IF(N123="zákl. přenesená",J123,0) -> 0 | BH123: =IF(N123="sníž. přenesená",J123,0) -> 0 | BI123: =IF(N123="nulová",J123,0) -> 0 | BJ123: 1 | BK123: =ROUND(I123*H123,2) -> 0 | BL123: 4 | BM123: -187086170
D124: Online PSC | F124: https://podminky.urs.cz/item/CS_URS_2025_02/113154514 | AT124: Online PSC | AU124: 2
C125: 9 | D125: K | E125: 113201111 | F125: Vytrhání obrub s vybouráním lože, s přemístěním hmot na skládku na vzdálenost do 3 m nebo s naložením na dopravní prostředek chodníkových ležatých | G125: m | H125: 327 | J125: =ROUND(I125*H125,2) -> 0 | K125: CS ÚRS 2025 02 | N125: základní | P125: =O125*H125 -> 0 | Q125: 0 | R125: =Q125*H125 -> 0 | S125: 0.23 | T125: =S125*H125 -> 75.21 | AR125: 4 | AT125: K | AU125: 2 | AY125: ROZPOCET | BE125: =IF(N125="základní",J125,0) -> 0 | BF125: =IF(N125="snížená",J125,0) -> 0 | BG125: =IF(N125="zákl. přenesená",J125,0) -> 0 | BH125: =IF(N125="sníž. přenesená",J125,0) -> 0 | BI125: =IF(N125="nulová",J125,0) -> 0 | BJ125: 1 | BK125: =ROUND(I125*H125,2) -> 0 | BL125: 4 | BM125: 1285444226
D126: Online PSC | F126: https://podminky.urs.cz/item/CS_URS_2025_02/113201111 | AT126: Online PSC | AU126: 2
D127: VV | F127: 135+192 | H127: 327 | AT127: VV | AU127: 2 | AV127: 2 | AW127: True | AX127: 1 | AY127: ROZPOCET
C128: 10 | D128: K | E128: 113201112 | F128: Vytrhání obrub s vybouráním lože, s přemístěním hmot na skládku na vzdálenost do 3 m nebo s naložením na dopravní prostředek silničních ležatých | G128: m | H128: 135 | J128: =ROUND(I128*H128,2) -> 0 | K128: CS ÚRS 2025 02 | N128: základní | P128: =O128*H128 -> 0 | Q128: 0 | R128: =Q128*H128 -> 0 | S128: 0.29 | T128: =S128*H128 -> 39.15 | AR128: 4 | AT128: K | AU128: 2 | AY128: ROZPOCET | BE128: =IF(N128="základní",J128,0) -> 0 | BF128: =IF(N128="snížená",J128,0) -> 0 | BG128: =IF(N128="zákl. přenesená",J128,0) -> 0 | BH128: =IF(N128="sníž. přenesená",J128,0) -> 0 | BI128: =IF(N128="nulová",J128,0) -> 0 | BJ128: 1 | BK128: =ROUND(I128*H128,2) -> 0 | BL128: 4 | BM128: -1945221502
D129: Online PSC | F129: https://podminky.urs.cz/item/CS_URS_2025_02/113201112 | AT129: Online PSC | AU129: 2
D130: VV | F130: 135 | H130: 135 | AT130: VV | AU130: 2 | AV130: 2 | AW130: True | AX130: 1 | AY130: ROZPOCET
C131: 11 | D131: K | E131: 121151123 | F131: Sejmutí ornice strojně při souvislé ploše přes 500 m2, tl. vrstvy do 200 mm | G131: m2 | H131: 1436 | J131: =ROUND(I131*H131,2) -> 0 | K131: CS ÚRS 2025 02 | N131: základní | P131: =O131*H131 -> 0 | Q131: 0 | R131: =Q131*H131 -> 0 | S131: 0 | T131: =S131*H131 -> 0 | AR131: 4 | AT131: K | AU131: 2 | AY131: ROZPOCET | BE131: =IF(N131="základní",J131,0) -> 0 | BF131: =IF(N131="snížená",J131,0) -> 0 | BG131: =IF(N131="zákl. přenesená",J131,0) -> 0 | BH131: =IF(N131="sníž. přenesená",J131,0) -> 0 | BI131: =IF(N131="nulová",J131,0) -> 0 | BJ131: 1 | BK131: =ROUND(I131*H131,2) -> 0 | BL131: 4 | BM131: -152216860
D132: Online PSC | F132: https://podminky.urs.cz/item/CS_URS_2025_02/121151123 | AT132: Online PSC | AU132: 2
C133: 12 | D133: K | E133: 122251106 | F133: Odkopávky a prokopávky nezapažené strojně v hornině třídy těžitelnosti I skupiny 3 přes 1 000 do 5 000 m3 | G133: m3 | H133: 1734.28 | J133: =ROUND(I133*H133,2) -> 0 | K133: CS ÚRS 2025 02 | N133: základní | P133: =O133*H133 -> 0 | Q133: 0 | R133: =Q133*H133 -> 0 | S133: 0 | T133: =S133*H133 -> 0 | AR133: 4 | AT133: K | AU133: 2 | AY133: ROZPOCET | BE133: =IF(N133="základní",J133,0) -> 0 | BF133: =IF(N133="snížená",J133,0) -> 0 | BG133: =IF(N133="zákl. přenesená",J133,0) -> 0 | BH133: =IF(N133="sníž. přenesená",J133,0) -> 0 | BI133: =IF(N133="nulová",J133,0) -> 0 | BJ133: 1 | BK133: =ROUND(I133*H133,2) -> 0 | BL133: 4 | BM133: 2080739817
...

Sheet SO 301 - Kanalizace a odv...
AT2: {61d0f7b8-7fe1-4554-ad68-8a91023caa54}
AT3: 2
D4: KRYCÍ LIST SOUPISU PRACÍ | M4: v --- níže se nacházejí doplnkové a pomocné údaje k sestavám --- v | AT4: False
D6: Stavba:
E7: ='Rekapitulace stavby'!K6 -> Tuchlovice, oprava MK v ulici Za Starou poštou
D8: Objekt:
E9: SO 301 - Kanalizace a odvodnění
D11: KSO: | I11: CC-CZ:
D12: Místo: | F12: obec Tuchlovice | I12: Datum: | J12: ='Rekapitulace stavby'!AN8 -> 12. 11. 2025
D14: Zadavatel: | I14: IČ:
E15: Obec Tuchlovice | I15: DIČ:
D17: Účastník: | I17: IČ: | J17: ='Rekapitulace stavby'!AN13 -> Vyplň údaj
E18: ='Rekapitulace stavby'!E14 -> Vyplň údaj | I18: DIČ: | J18: ='Rekapitulace stavby'!AN14 -> Vyplň údaj
D20: Projektant: | I20: IČ:
E21: PFProjekt s.r.o. | I21: DIČ:
D23: Zpracovatel: | I23: IČ:
E24: Jaroslav Kudláček | I24: DIČ:
D26: Poznámka:
D30: Cena bez DPH | J30: =ROUND(J91, 2) -> 0
F32: Základ daně | I32: Sazba daně | J32: Výše daně
D33: DPH | E33: základní | F33: =ROUND((SUM(BE91:BE305)), 2) -> 0 | I33: 0.21 | J33: =ROUND(((SUM(BE91:BE305))*I33), 2) -> 0
E34: snížená | F34: =ROUND((SUM(BF91:BF305)), 2) -> 0 | I34: 0.12 | J34: =ROUND(((SUM(BF91:BF305))*I34), 2) -> 0
E35: zákl. přenesená | F35: =ROUND((SUM(BG91:BG305)), 2) -> 0 | I35: 0.21 | J35: =0 -> 0
E36: sníž. přenesená | F36: =ROUND((SUM(BH91:BH305)), 2) -> 0 | I36: 0.12 | J36: =0 -> 0
E37: nulová | F37: =ROUND((SUM(BI91:BI305)), 2) -> 0 | I37: 0 | J37: =0 -> 0
D39: Cena s DPH | G39: v | H39: CZK | J39: =SUM(J30:J37) -> 0
C45: REKAPITULACE ČLENĚNÍ SOUPISU PRACÍ
C47: Stavba:
E48: =E7 -> Tuchlovice, oprava MK v ulici Za Starou poštou
C49: Objekt:
E50: =E9 -> SO 301 - Kanalizace a odvodnění
C52: Místo: | F52: =F12 -> obec Tuchlovice | I52: Datum: | J52: =IF(J12="","",J12) -> 12. 11. 2025
C54: Zadavatel: | F54: =E15 -> Obec Tuchlovice | I54: Projektant: | J54: =E21 -> PFProjekt s.r.o.
C55: Účastník: | F55: =IF(E18="","",E18) -> Vyplň údaj | I55: Zpracovatel: | J55: =E24 -> Jaroslav Kudláček
C57: Kód dílu - Popis | J57: Cena celkem [CZK]
C59: Náklady stavby celkem | J59: =J91 -> 0 | AU59: -1
D60: HSV - Práce a dodávky HSV | J60: =J92 -> 0
D61: 1 - Zemní práce | J61: =J93 -> 0
D62: 4 - Vodorovné konstrukce | J62: =J153 -> 0
D63: 8 - Trubní vedení | J63: =J164 -> 0
D64: 9 - Ostatní konstrukce a práce, bourání | J64: =J265 -> 0
D65: 997 - Přesun sutě | J65: =J276 -> 0
D66: 998 - Přesun hmot | J66: =J288 -> 0
D67: PSV - Práce a dodávky PSV | J67: =J291 -> 0
D68: 721 - Zdravotechnika - vnitřní kanalizace | J68: =J292 -> 0
D69: VRN - Vedlejší rozpočtové náklady | J69: =J297 -> 0
D70: VRN1 - Průzkumné, geodetické a projektové práce | J70: =J298 -> 0
D71: VRN3 - Zařízení staveniště | J71: =J304 -> 0
C78: SOUPIS PRACÍ
C80: Stavba:
E81: =E7 -> Tuchlovice, oprava MK v ulici Za Starou poštou
C82: Objekt:
E83: =E9 -> SO 301 - Kanalizace a odvodnění
C85: Místo: | F85: =F12 -> obec Tuchlovice | I85: Datum: | J85: =IF(J12="","",J12) -> 12. 11. 2025
C87: Zadavatel: | F87: =E15 -> Obec Tuchlovice | I87: Projektant: | J87: =E21 -> PFProjekt s.r.o.
C88: Účastník: | F88: =IF(E18="","",E18) -> Vyplň údaj | I88: Zpracovatel: | J88: =E24 -> Jaroslav Kudláček
C90: PČ | D90: Typ | E90: Kód | F90: Popis | G90: MJ | H90: Množství | I90: J.cena [CZK] | J90: Cena celkem [CZK] | K90: Cenová soustava | N90: DPH | O90: J. Nh [h] | P90: Nh celkem [h] | Q90: J. hmotnost [t] | R90: Hmotnost celkem [t] | S90: J. suť [t] | T90: Suť Celkem [t]
C91: Náklady soupisu celkem | J91: =BK91 -> 0 | P91: =P92+P291+P297 -> 0 | R91: =R92+R291+R297 -> 880.51246 | T91: =T92+T291+T297 -> 193.9 | AT91: D | AU91: -1 | BK91: =BK92+BK291+BK297 -> 0
D92: D | E92: HSV | F92: Práce a dodávky HSV | J92: =BK92 -> 0 | P92: =P93+P153+P164+P265+P276+P288 -> 0 | R92: =R93+R153+R164+R265+R276+R288 -> 880.50046 | T92: =T93+T153+T164+T265+T276+T288 -> 193.9 | AR92: 1 | AT92: D | AU92: 0 | AY92: ROZPOCET | BK92: =BK93+BK153+BK164+BK265+BK276+BK288 -> 0
D93: D | E93: 1 | F93: Zemní práce | J93: =BK93 -> 0 | P93: =SUM(P94:P152) -> 0 | R93: =SUM(R94:R152) -> 646.22426 | T93: =SUM(T94:T152) -> 0 | AR93: 1 | AT93: D | AU93: 1 | AY93: ROZPOCET | BK93: =SUM(BK94:BK152) -> 0
C94: 1 | D94: K | E94: 131251104 | F94: Hloubení nezapažených jam a zářezů strojně s urovnáním dna do předepsaného profilu a spádu v hornině třídy těžitelnosti I skupiny 3 přes 100 do 500 m3 | G94: m3 | H94: 131.625 | J94: =ROUND(I94*H94,2) -> 0 | K94: CS ÚRS 2025 02 | N94: základní | P94: =O94*H94 -> 0 | Q94: 0 | R94: =Q94*H94 -> 0 | S94: 0 | T94: =S94*H94 -> 0 | AR94: 4 | AT94: K | AU94: 2 | AY94: ROZPOCET | BE94: =IF(N94="základní",J94,0) -> 0 | BF94: =IF(N94="snížená",J94,0) -> 0 | BG94: =IF(N94="zákl. přenesená",J94,0) -> 0 | BH94: =IF(N94="sníž. přenesená",J94,0) -> 0 | BI94: =IF(N94="nulová",J94,0) -> 0 | BJ94: 1 | BK94: =ROUND(I94*H94,2) -> 0 | BL94: 4 | BM94: -335248041
D95: Online PSC | F95: https://podminky.urs.cz/item/CS_URS_2025_02/131251104 | AT95: Online PSC | AU95: 2
D96: VV | F96: šachty | AT96: VV | AU96: 2 | AV96: 1 | AW96: True | AX96: 0 | AY96: ROZPOCET
D97: VV | F97: 1,5*1,5*3*14 | H97: 94.5 | AT97: VV | AU97: 2 | AV97: 2 | AW97: True | AX97: 0 | AY97: ROZPOCET
D98: VV | F98: 1,5*1,5*1,5*11 | H98: 37.125 | AT98: VV | AU98: 2 | AV98: 2 | AW98: True | AX98: 0 | AY98: ROZPOCET
D99: VV | F99: Součet | H99: 131.625 | AT99: VV | AU99: 2 | AV99: 4 | AW99: True | AX99: 1 | AY99: ROZPOCET
C100: 2 | D100: K | E100: 132254104 | F100: Hloubení zapažených rýh šířky do 800 mm strojně s urovnáním dna do předepsaného profilu a spádu v hornině třídy těžitelnosti I skupiny 3 přes 100 m3 | G100: m3 | H100: 114.091 | J100: =ROUND(I100*H100,2) -> 0 | K100: CS ÚRS 2025 02 | N100: základní | P100: =O100*H100 -> 0 | Q100: 0 | R100: =Q100*H100 -> 0 | S100: 0 | T100: =S100*H100 -> 0 | AR100: 4 | AT100: K | AU100: 2 | AY100: ROZPOCET | BE100: =IF(N100="základní",J100,0) -> 0 | BF100: =IF(N100="snížená",J100,0) -> 0 | BG100: =IF(N100="zákl. přenesená",J100,0) -> 0 | BH100: =IF(N100="sníž. přenesená",J100,0) -> 0 | BI100: =IF(N100="nulová",J100,0) -> 0 | BJ100: 1 | BK100: =ROUND(I100*H100,2) -> 0 | BL100: 4 | BM100: 694705251
D101: Online PSC | F101: https://podminky.urs.cz/item/CS_URS_2025_02/132254104 | AT101: Online PSC | AU101: 2
D102: VV | F102: kanalizace - přípojky | AT102: VV | AU102: 2 | AV102: 1 | AW102: True | AX102: 0 | AY102: ROZPOCET
D103: VV | F103: 79,23*1,8*0,8 | H103: 114.091 | AT103: VV | AU103: 2 | AV103: 2 | AW103: True | AX103: 1 | AY103: ROZPOCET
C104: 3 | D104: K | E104: 132254205 | F104: Hloubení zapažených rýh šířky přes 800 do 2 000 mm strojně s urovnáním dna do předepsaného profilu a spádu v hornině třídy těžitelnosti I skupiny 3 přes 500 do 1 000 m3 | G104: m3 | H104: 735.2 | J104: =ROUND(I104*H104,2) -> 0 | K104: CS ÚRS 2025 02 | N104: základní | P104: =O104*H104 -> 0 | Q104: 0 | R104: =Q104*H104 -> 0 | S104: 0 | T104: =S104*H104 -> 0 | AR104: 4 | AT104: K | AU104: 2 | AY104: ROZPOCET | BE104: =IF(N104="základní",J104,0) -> 0 | BF104: =IF(N104="snížená",J104,0) -> 0 | BG104: =IF(N104="zákl. přenesená",J104,0) -> 0 | BH104: =IF(N104="sníž. přenesená",J104,0) -> 0 | BI104: =IF(N104="nulová",J104,0) -> 0 | BJ104: 1 | BK104: =ROUND(I104*H104,2) -> 0 | BL104: 4 | BM104: 59591559
D105: Online PSC | F105: https://podminky.urs.cz/item/CS_URS_2025_02/132254205 | AT105: Online PSC | AU105: 2
D106: VV | F106: kanalizace | AT106: VV | AU106: 2 | AV106: 1 | AW106: True | AX106: 0 | AY106: ROZPOCET
D107: VV | F107: 367,6*2*1 | H107: 735.2 | AT107: VV | AU107: 2 | AV107: 2 | AW107: True | AX107: 1 | AY107: ROZPOCET
C108: 4 | D108: K | E108: 151811131 | F108: Zřízení pažicích boxů pro pažení a rozepření stěn rýh podzemního vedení hloubka výkopu do 4 m, šířka do 1,2 m | G108: m2 | H108: 1755.628 | J108: =ROUND(I108*H108,2) -> 0 | K108: CS ÚRS 2025 02 | N108: základní | P108: =O108*H108 -> 0 | Q108: 0.00058 | R108: =Q108*H108 -> 1.0182642 | S108: 0 | T108: =S108*H108 -> 0 | AR108: 4 | AT108: K | AU108: 2 | AY108: ROZPOCET | BE108: =IF(N108="základní",J108,0) -> 0 | BF108: =IF(N108="snížená",J108,0) -> 0 | BG108: =IF(N108="zákl. přenesená",J108,0) -> 0 | BH108: =IF(N108="sníž. přenesená",J108,0) -> 0 | BI108: =IF(N108="nulová",J108,0) -> 0 | BJ108: 1 | BK108: =ROUND(I108*H108,2) -> 0 | BL108: 4 | BM108: -388494073
D109: Online PSC | F109: https://podminky.urs.cz/item/CS_URS_2025_02/151811131 | AT109: Online PSC | AU109: 2
D110: VV | F110: kanalizace | AT110: VV | AU110: 2 | AV110: 1 | AW110: True | AX110: 0 | AY110: ROZPOCET
D111: VV | F111: 367,6*2*2 | H111: 1470.4 | AT111: VV | AU111: 2 | AV111: 2 | AW111: True | AX111: 0 | AY111: ROZPOCET
D112: VV | F112: kanalizace - přípojky | AT112: VV | AU112: 2 | AV112: 1 | AW112: True | AX112: 0 | AY112: ROZPOCET
D113: VV | F113: 79,23*1,8*2 | H113: 285.228 | AT113: VV | AU113: 2 | AV113: 2 | AW113: True | AX113: 0 | AY113: ROZPOCET
D114: VV | F114: Součet | H114: 1755.628 | AT114: VV | AU114: 2 | AV114: 4 | AW114: True | AX114: 1 | AY114: ROZPOCET
C115: 5 | D115: K | E115: 151811231 | F115: Odstranění pažicích boxů pro pažení a rozepření stěn rýh podzemního vedení hloubka výkopu do 4 m, šířka do 1,2 m | G115: m2 | H115: 1755.628 | J115: =ROUND(I115*H115,2) -> 0 | K115: CS ÚRS 2025 02 | N115: základní | P115: =O115*H115 -> 0 | Q115: 0 | R115: =Q115*H115 -> 0 | S115: 0 | T115: =S115*H115 -> 0 | AR115: 4 | AT115: K | AU115: 2 | AY115: ROZPOCET | BE115: =IF(N115="základní",J115,0) -> 0 | BF115: =IF(N115="snížená",J115,0) -> 0 | BG115: =IF(N115="zákl. přenesená",J115,0) -> 0 | BH115: =IF(N115="sníž. přenesená",J115,0) -> 0 | BI115: =IF(N115="nulová",J115,0) -> 0 | BJ115: 1 | BK115: =ROUND(I115*H115,2) -> 0 | BL115: 4 | BM115: 1907568627
D116: Online PSC | F116: https://podminky.urs.cz/item/CS_URS_2025_02/151811231 | AT116: Online PSC | AU116: 2
C117: 6 | D117: K | E117: 162751117 | F117: Vodorovné přemístění výkopku nebo sypaniny po suchu na obvyklém dopravním prostředku, bez naložení výkopku, avšak se složením bez rozhrnutí z horniny třídy těžitelnosti I skupiny 1 až 3 na vzdálenost přes 9 000 do 10 000 m | G117: m3 | H117: 518.876 | J117: =ROUND(I117*H117,2) -> 0 | K117: CS ÚRS 2025 02 | N117: základní | P117: =O117*H117 -> 0 | Q117: 0 | R117: =Q117*H117 -> 0 | S117: 0 | T117: =S117*H117 -> 0 | AR117: 4 | AT117: K | AU117: 2 | AY117: ROZPOCET | BE117: =IF(N117="základní",J117,0) -> 0 | BF117: =IF(N117="snížená",J117,0) -> 0 | BG117: =IF(N117="zákl. přenesená",J117,0) -> 0 | BH117: =IF(N117="sníž. přenesená",J117,0) -> 0 | BI117: =IF(N117="nulová",J117,0) -> 0 | BJ117: 1 | BK117: =ROUND(I117*H117,2) -> 0 | BL117: 4 | BM117: -1366074857
D118: Online PSC | F118: https://podminky.urs.cz/item/CS_URS_2025_02/162751117 | AT118: Online PSC | AU118: 2
D119: VV | F119: 131,625 | H119: 131.625 | AT119: VV | AU119: 2 | AV119: 2 | AW119: True | AX119: 0 | AY119: ROZPOCET
D120: VV | F120: 114,091 | H120: 114.091 | AT120: VV | AU120: 2 | AV120: 2 | AW120: True | AX120: 0 | AY120: ROZPOCET
D121: VV | F121: 735,2 | H121: 735.2 | AT121: VV | AU121: 2 | AV121: 2 | AW121: True | AX121: 0 | AY121: ROZPOCET
D122: VV | F122: -462,04 | H122: -462.04 | AT122: VV | AU122: 2 | AV122: 2 | AW122: True | AX122: 0 | AY122: ROZPOCET
D123: VV | F123: Součet | H123: 518.876 | AT123: VV | AU123: 2 | AV123: 4 | AW123: True | AX123: 1 | AY123: ROZPOCET
C124: 7 | D124: K | E124: 162751119 | F124: Vodorovné přemístění výkopku nebo sypaniny po suchu na obvyklém dopravním prostředku, bez naložení výkopku, avšak se složením bez rozhrnutí z horniny třídy těžitelnosti I skupiny 1 až 3 na vzdálenost Příplatek k ceně za každých dalších i započatých 1 000 | G124: m3 | H124: 7783.14 | J124: =ROUND(I124*H124,2) -> 0 | K124: CS ÚRS 2025 02 | N124: základní | P124: =O124*H124 -> 0 | Q124: 0 | R124: =Q124*H124 -> 0 | S124: 0 | T124: =S124*H124 -> 0 | AR124: 4 | AT124: K | AU124: 2 | AY124: ROZPOCET | BE124: =IF(N124="základní",J124,0) -> 0 | BF124: =IF(N124="snížená",J124,0) -> 0 | BG124: =IF(N124="zákl. přenesená",J124,0) -> 0 | BH124: =IF(N124="sníž. přenesená",J124,0) -> 0 | BI124: =IF(N124="nulová",J124,0) -> 0 | BJ124: 1 | BK124: =ROUND(I124*H124,2) -> 0 | BL124: 4 | BM124: 1008274764
D125: Online PSC | F125: https://podminky.urs.cz/item/CS_URS_2025_02/162751119 | AT125: Online PSC | AU125: 2
D126: VV | F126: 518,876*15 | H126: 7783.14 | AT126: VV | AU126: 2 | AV126: 2 | AW126: True | AX126: 1 | AY126: ROZPOCET
C127: 8 | D127: K | E127: 167151111 | F127: Nakládání, skládání a překládání neulehlého výkopku nebo sypaniny strojně nakládání, množství přes 100 m3, z hornin třídy těžitelnosti I, skupiny 1 až 3 | G127: m3 | H127: 518.876 | J127: =ROUND(I127*H127,2) -> 0 | K127: CS ÚRS 2025 02 | N127: základní | P127: =O127*H127 -> 0 | Q127: 0 | R127: =Q127*H127 -> 0 | S127: 0 | T127: =S127*H127 -> 0 | AR127: 4 | AT127: K | AU127: 2 | AY127: ROZPOCET | BE127: =IF(N127="základní",J127,0) -> 0 | BF127: =IF(N127="snížená",J127,0) -> 0 | BG127: =IF(N127="zákl. přenesená",J127,0) -> 0 | BH127: =IF(N127="sníž. přenesená",J127,0) -> 0 | BI127: =IF(N127="nulová",J127,0) -> 0 | BJ127: 1 | BK127: =ROUND(I127*H127,2) -> 0 | BL127: 4 | BM127: -2052918132
D128: Online PSC | F128: https://podminky.urs.cz/item/CS_URS_2025_02/167151111 | AT128: Online PSC | AU128: 2
D129: VV | F129: 518,876 | H129: 518.876 | AT129: VV | AU129: 2 | AV129: 2 | AW129: True | AX129: 1 | AY129: ROZPOCET
C130: 9 | D130: K | E130: 171201231 | F130: Poplatek za uložení stavebního odpadu na recyklační skládce (skládkovné) zeminy a kamení zatříděného do Katalogu odpadů pod kódem 17 05 04 | G130: t | H130: 933.977 | J130: =ROUND(I130*H130,2) -> 0 | K130: CS ÚRS 2025 02 | N130: základní | P130: =O130*H130 -> 0 | Q130: 0 | R130: =Q130*H130 -> 0 | S130: 0 | T130: =S130*H130 -> 0 | AR130: 4 | AT130: K | AU130: 2 | AY130: ROZPOCET | BE130: =IF(N130="základní",J130,0) -> 0 | BF130: =IF(N130="snížená",J130,0) -> 0 | BG130: =IF(N130="zákl. přenesená",J130,0) -> 0 | BH130: =IF(N130="sníž. přenesená",J130,0) -> 0 | BI130: =IF(N130="nulová",J130,0) -> 0 | BJ130: 1 | BK130: =ROUND(I130*H130,2) -> 0 | BL130: 4 | BM130: -1523437696
D131: Online PSC | F131: https://podminky.urs.cz/item/CS_URS_2025_02/171201231 | AT131: Online PSC | AU131: 2
D132: VV | F132: 518,876*1,8 | H132: 933.977 | AT132: VV | AU132: 2 | AV132: 2 | AW132: True | AX132: 1 | AY132: ROZPOCET
C133: 10 | D133: K | E133: 171251201 | F133: Uložení sypaniny na skládky nebo meziskládky bez hutnění s upravením uložené sypaniny do předepsaného tvaru | G133: m3 | H133: 518.876 | J133: =ROUND(I133*H133,2) -> 0 | K133: CS ÚRS 2025 02 | N133: základní | P133: =O133*H133 -> 0 | Q133: 0 | R133: =Q133*H133 -> 0 | S133: 0 | T133: =S133*H133 -> 0 | AR133: 4 | AT133: K | AU133: 2 | AY133: ROZPOCET | BE133: =IF(N133="základní",J133,0) -> 0 | BF133: =IF(N133="snížená",J133,0) -> 0 | BG133: =IF(N133="zákl. přenesená",J133,0) -> 0 | BH133: =IF(N133="sníž. přenesená",J133,0) -> 0 | BI133: =IF(N133="nulová",J133,0) -> 0 | BJ133: 1 | BK133: =ROUND(I133*H133,2) -> 0 | BL133: 4 | BM133: 159849546
...

Sheet SO 401 - Veřejně osvětlení
AT2: {59e62e23-8e08-4a75-923f-cd1f7a0ddc4e}
AT3: 2
D4: KRYCÍ LIST SOUPISU PRACÍ | M4: v --- níže se nacházejí doplnkové a pomocné údaje k sestavám --- v | AT4: False
D6: Stavba:
E7: ='Rekapitulace stavby'!K6 -> Tuchlovice, oprava MK v ulici Za Starou poštou
D8: Objekt:
E9: SO 401 - Veřejně osvětlení
D11: KSO: | I11: CC-CZ:
D12: Místo: | F12: obec Tuchlovice | I12: Datum: | J12: ='Rekapitulace stavby'!AN8 -> 12. 11. 2025
D14: Zadavatel: | I14: IČ:
E15: Obec Tuchlovice | I15: DIČ:
D17: Účastník: | I17: IČ: | J17: ='Rekapitulace stavby'!AN13 -> Vyplň údaj
E18: ='Rekapitulace stavby'!E14 -> Vyplň údaj | I18: DIČ: | J18: ='Rekapitulace stavby'!AN14 -> Vyplň údaj
D20: Projektant: | I20: IČ:
E21: PFProjekt s.r.o. | I21: DIČ:
D23: Zpracovatel: | I23: IČ:
E24: Jaroslav Kudláček | I24: DIČ:
D26: Poznámka:
D30: Cena bez DPH | J30: =ROUND(J92, 2) -> 0
F32: Základ daně | I32: Sazba daně | J32: Výše daně
D33: DPH | E33: základní | F33: =ROUND((SUM(BE92:BE216)), 2) -> 0 | I33: 0.21 | J33: =ROUND(((SUM(BE92:BE216))*I33), 2) -> 0
E34: snížená | F34: =ROUND((SUM(BF92:BF216)), 2) -> 0 | I34: 0.12 | J34: =ROUND(((SUM(BF92:BF216))*I34), 2) -> 0
E35: zákl. přenesená | F35: =ROUND((SUM(BG92:BG216)), 2) -> 0 | I35: 0.21 | J35: =0 -> 0
E36: sníž. přenesená | F36: =ROUND((SUM(BH92:BH216)), 2) -> 0 | I36: 0.12 | J36: =0 -> 0
E37: nulová | F37: =ROUND((SUM(BI92:BI216)), 2) -> 0 | I37: 0 | J37: =0 -> 0
D39: Cena s DPH | G39: v | H39: CZK | J39: =SUM(J30:J37) -> 0
C45: REKAPITULACE ČLENĚNÍ SOUPISU PRACÍ
C47: Stavba:
E48: =E7 -> Tuchlovice, oprava MK v ulici Za Starou poštou
C49: Objekt:
E50: =E9 -> SO 401 - Veřejně osvětlení
C52: Místo: | F52: =F12 -> obec Tuchlovice | I52: Datum: | J52: =IF(J12="","",J12) -> 12. 11. 2025
C54: Zadavatel: | F54: =E15 -> Obec Tuchlovice | I54: Projektant: | J54: =E21 -> PFProjekt s.r.o.
C55: Účastník: | F55: =IF(E18="","",E18) -> Vyplň údaj | I55: Zpracovatel: | J55: =E24 -> Jaroslav Kudláček
C57: Kód dílu - Popis | J57: Cena celkem [CZK]
C59: Náklady stavby celkem | J59: =J92 -> 0 | AU59: -1
D60: HSV - Práce a dodávky HSV | J60: =J93 -> 0
D61: 1 - Zemní práce | J61: =J94 -> 0
D62: 998 - Přesun hmot | J62: =J130 -> 0
D63: PSV - Práce a dodávky PSV | J63: =J133 -> 0
D64: 741 - Elektroinstalace - silnoproud | J64: =J134 -> 0
D65: M - Práce a dodávky M | J65: =J141 -> 0
D66: 21-M - Elektromontáže | J66: =J142 -> 0
D67: 46-M - Zemní práce při extr.mont.pracích | J67: =J180 -> 0
D68: HZS - Hodinové zúčtovací sazby | J68: =J200 -> 0
D69: VRN - Vedlejší rozpočtové náklady | J69: =J203 -> 0
D70: VRN1 - Průzkumné, geodetické a projektové práce | J70: =J204 -> 0
D71: VRN3 - Zařízení staveniště | J71: =J211 -> 0
D72: VRN9 - Ostatní náklady | J72: =J215 -> 0
C79: SOUPIS PRACÍ
C81: Stavba:
E82: =E7 -> Tuchlovice, oprava MK v ulici Za Starou poštou
C83: Objekt:
E84: =E9 -> SO 401 - Veřejně osvětlení
C86: Místo: | F86: =F12 -> obec Tuchlovice | I86: Datum: | J86: =IF(J12="","",J12) -> 12. 11. 2025
C88: Zadavatel: | F88: =E15 -> Obec Tuchlovice | I88: Projektant: | J88: =E21 -> PFProjekt s.r.o.
C89: Účastník: | F89: =IF(E18="","",E18) -> Vyplň údaj | I89: Zpracovatel: | J89: =E24 -> Jaroslav Kudláček
C91: PČ | D91: Typ | E91: Kód | F91: Popis | G91: MJ | H91: Množství | I91: J.cena [CZK] | J91: Cena celkem [CZK] | K91: Cenová soustava | N91: DPH | O91: J. Nh [h] | P91: Nh celkem [h] | Q91: J. hmotnost [t] | R91: Hmotnost celkem [t] | S91: J. suť [t] | T91: Suť Celkem [t]
C92: Náklady soupisu celkem | J92: =BK92 -> 0 | P92: =P93+P133+P141+P200+P203 -> 0 | R92: =R93+R133+R141+R200+R203 -> 78.276991 | T92: =T93+T133+T141+T200+T203 -> 0 | AT92: D | AU92: -1 | BK92: =BK93+BK133+BK141+BK200+BK203 -> 0
D93: D | E93: HSV | F93: Práce a dodávky HSV | J93: =BK93 -> 0 | P93: =P94+P130 -> 0 | R93: =R94+R130 -> 59.2 | T93: =T94+T130 -> 0 | AR93: 1 | AT93: D | AU93: 0 | AY93: ROZPOCET | BK93: =BK94+BK130 -> 0
D94: D | E94: 1 | F94: Zemní práce | J94: =BK94 -> 0 | P94: =SUM(P95:P129) -> 0 | R94: =SUM(R95:R129) -> 59.2 | T94: =SUM(T95:T129) -> 0 | AR94: 1 | AT94: D | AU94: 1 | AY94: ROZPOCET | BK94: =SUM(BK95:BK129) -> 0
C95: 1 | D95: K | E95: 131251100 | F95: Hloubení nezapažených jam a zářezů strojně s urovnáním dna do předepsaného profilu a spádu v hornině třídy těžitelnosti I skupiny 3 do 20 m3 | G95: m3 | H95: 4.896 | J95: =ROUND(I95*H95,2) -> 0 | K95: CS ÚRS 2025 02 | N95: základní | P95: =O95*H95 -> 0 | Q95: 0 | R95: =Q95*H95 -> 0 | S95: 0 | T95: =S95*H95 -> 0 | AR95: 4 | AT95: K | AU95: 2 | AY95: ROZPOCET | BE95: =IF(N95="základní",J95,0) -> 0 | BF95: =IF(N95="snížená",J95,0) -> 0 | BG95: =IF(N95="zákl. přenesená",J95,0) -> 0 | BH95: =IF(N95="sníž. přenesená",J95,0) -> 0 | BI95: =IF(N95="nulová",J95,0) -> 0 | BJ95: 1 | BK95: =ROUND(I95*H95,2) -> 0 | BL95: 4 | BM95: -1907247258
D96: Online PSC | F96: https://podminky.urs.cz/item/CS_URS_2025_02/131251100 | AT96: Online PSC | AU96: 2
D97: VV | F97: základ pro stožáry | AT97: VV | AU97: 2 | AV97: 1 | AW97: True | AX97: 0 | AY97: ROZPOCET
D98: VV | F98: 0,6*0,6*0,8*17 | H98: 4.896 | AT98: VV | AU98: 2 | AV98: 2 | AW98: True | AX98: 1 | AY98: ROZPOCET
C99: 2 | D99: K | E99: 132251103 | F99: Hloubení nezapažených rýh šířky do 800 mm strojně s urovnáním dna do předepsaného profilu a spádu v hornině třídy těžitelnosti I skupiny 3 přes 50 do 100 m3 | G99: m3 | H99: 88.8 | J99: =ROUND(I99*H99,2) -> 0 | K99: CS ÚRS 2025 02 | N99: základní | P99: =O99*H99 -> 0 | Q99: 0 | R99: =Q99*H99 -> 0 | S99: 0 | T99: =S99*H99 -> 0 | AR99: 4 | AT99: K | AU99: 2 | AY99: ROZPOCET | BE99: =IF(N99="základní",J99,0) -> 0 | BF99: =IF(N99="snížená",J99,0) -> 0 | BG99: =IF(N99="zákl. přenesená",J99,0) -> 0 | BH99: =IF(N99="sníž. přenesená",J99,0) -> 0 | BI99: =IF(N99="nulová",J99,0) -> 0 | BJ99: 1 | BK99: =ROUND(I99*H99,2) -> 0 | BL99: 4 | BM99: 201744094
D100: Online PSC | F100: https://podminky.urs.cz/item/CS_URS_2025_02/132251103 | AT100: Online PSC | AU100: 2
D101: VV | F101: 0,4*0,6*370 | H101: 88.8 | AT101: VV | AU101: 2 | AV101: 2 | AW101: True | AX101: 1 | AY101: ROZPOCET
C102: 3 | D102: K | E102: 162211311 | F102: Vodorovné přemístění výkopku nebo sypaniny stavebním kolečkem s vyprázdněním kolečka na hromady nebo do dopravního prostředku na vzdálenost do 10 m z horniny třídy těžitelnosti I, skupiny 1 až 3 | G102: m3 | H102: 34.496 | J102: =ROUND(I102*H102,2) -> 0 | K102: CS ÚRS 2025 02 | N102: základní | P102: =O102*H102 -> 0 | Q102: 0 | R102: =Q102*H102 -> 0 | S102: 0 | T102: =S102*H102 -> 0 | AR102: 4 | AT102: K | AU102: 2 | AY102: ROZPOCET | BE102: =IF(N102="základní",J102,0) -> 0 | BF102: =IF(N102="snížená",J102,0) -> 0 | BG102: =IF(N102="zákl. přenesená",J102,0) -> 0 | BH102: =IF(N102="sníž. přenesená",J102,0) -> 0 | BI102: =IF(N102="nulová",J102,0) -> 0 | BJ102: 1 | BK102: =ROUND(I102*H102,2) -> 0 | BL102: 4 | BM102: 1642614909
D103: Online PSC | F103: https://podminky.urs.cz/item/CS_URS_2025_02/162211311 | AT103: Online PSC | AU103: 2
D104: VV | F104: 4,896+88,8 | H104: 93.696 | AT104: VV | AU104: 2 | AV104: 2 | AW104: True | AX104: 0 | AY104: ROZPOCET
D105: VV | F105: -59,2 | H105: -59.2 | AT105: VV | AU105: 2 | AV105: 2 | AW105: True | AX105: 0 | AY105: ROZPOCET
D106: VV | F106: Součet | H106: 34.496 | AT106: VV | AU106: 2 | AV106: 4 | AW106: True | AX106: 1 | AY106: ROZPOCET
C107: 4 | D107: K | E107: 162751117 | F107: Vodorovné přemístění výkopku nebo sypaniny po suchu na obvyklém dopravním prostředku, bez naložení výkopku, avšak se složením bez rozhrnutí z horniny třídy těžitelnosti I skupiny 1 až 3 na vzdálenost přes 9 000 do 10 000 m | G107: m3 | H107: 34.496 | J107: =ROUND(I107*H107,2) -> 0 | K107: CS ÚRS 2025 02 | N107: základní | P107: =O107*H107 -> 0 | Q107: 0 | R107: =Q107*H107 -> 0 | S107: 0 | T107: =S107*H107 -> 0 | AR107: 4 | AT107: K | AU107: 2 | AY107: ROZPOCET | BE107: =IF(N107="základní",J107,0) -> 0 | BF107: =IF(N107="snížená",J107,0) -> 0 | BG107: =IF(N107="zákl. přenesená",J107,0) -> 0 | BH107: =IF(N107="sníž. přenesená",J107,0) -> 0 | BI107: =IF(N107="nulová",J107,0) -> 0 | BJ107: 1 | BK107: =ROUND(I107*H107,2) -> 0 | BL107: 4 | BM107: 204170684
D108: Online PSC | F108: https://podminky.urs.cz/item/CS_URS_2025_02/162751117 | AT108: Online PSC | AU108: 2
C109: 5 | D109: K | E109: 162751119 | F109: Vodorovné přemístění výkopku nebo sypaniny po suchu na obvyklém dopravním prostředku, bez naložení výkopku, avšak se složením bez rozhrnutí z horniny třídy těžitelnosti I skupiny 1 až 3 na vzdálenost Příplatek k ceně za každých dalších i započatých 1 000 m | G109: m3 | H109: 517.44 | J109: =ROUND(I109*H109,2) -> 0 | K109: CS ÚRS 2025 02 | N109: základní | P109: =O109*H109 -> 0 | Q109: 0 | R109: =Q109*H109 -> 0 | S109: 0 | T109: =S109*H109 -> 0 | AR109: 4 | AT109: K | AU109: 2 | AY109: ROZPOCET | BE109: =IF(N109="základní",J109,0) -> 0 | BF109: =IF(N109="snížená",J109,0) -> 0 | BG109: =IF(N109="zákl. přenesená",J109,0) -> 0 | BH109: =IF(N109="sníž. přenesená",J109,0) -> 0 | BI109: =IF(N109="nulová",J109,0) -> 0 | BJ109: 1 | BK109: =ROUND(I109*H109,2) -> 0 | BL109: 4 | BM109: -520163785
D110: Online PSC | F110: https://podminky.urs.cz/item/CS_URS_2025_02/162751119 | AT110: Online PSC | AU110: 2
D111: VV | F111: 34,496*15 | H111: 517.44 | AT111: VV | AU111: 2 | AV111: 2 | AW111: True | AX111: 1 | AY111: ROZPOCET
C112: 6 | D112: K | E112: 167151101 | F112: Nakládání, skládání a překládání neulehlého výkopku nebo sypaniny strojně nakládání, množství do 100 m3, z horniny třídy těžitelnosti I, skupiny 1 až 3 | G112: m3 | H112: 34.496 | J112: =ROUND(I112*H112,2) -> 0 | K112: CS ÚRS 2025 02 | N112: základní | P112: =O112*H112 -> 0 | Q112: 0 | R112: =Q112*H112 -> 0 | S112: 0 | T112: =S112*H112 -> 0 | AR112: 4 | AT112: K | AU112: 2 | AY112: ROZPOCET | BE112: =IF(N112="základní",J112,0) -> 0 | BF112: =IF(N112="snížená",J112,0) -> 0 | BG112: =IF(N112="zákl. přenesená",J112,0) -> 0 | BH112: =IF(N112="sníž. přenesená",J112,0) -> 0 | BI112: =IF(N112="nulová",J112,0) -> 0 | BJ112: 1 | BK112: =ROUND(I112*H112,2) -> 0 | BL112: 4 | BM112: -413191402
D113: Online PSC | F113: https://podminky.urs.cz/item/CS_URS_2025_02/167151101 | AT113: Online PSC | AU113: 2
C114: 7 | D114: K | E114: 171201231 | F114: Poplatek za uložení stavebního odpadu na recyklační skládce (skládkovné) zeminy a kamení zatříděného do Katalogu odpadů pod kódem 17 05 04 | G114: t | H114: 62.093 | J114: =ROUND(I114*H114,2) -> 0 | K114: CS ÚRS 2025 02 | N114: základní | P114: =O114*H114 -> 0 | Q114: 0 | R114: =Q114*H114 -> 0 | S114: 0 | T114: =S114*H114 -> 0 | AR114: 4 | AT114: K | AU114: 2 | AY114: ROZPOCET | BE114: =IF(N114="základní",J114,0) -> 0 | BF114: =IF(N114="snížená",J114,0) -> 0 | BG114: =IF(N114="zákl. přenesená",J114,0) -> 0 | BH114: =IF(N114="sníž. přenesená",J114,0) -> 0 | BI114: =IF(N114="nulová",J114,0) -> 0 | BJ114: 1 | BK114: =ROUND(I114*H114,2) -> 0 | BL114: 4 | BM114: -556425077
D115: Online PSC | F115: https://podminky.urs.cz/item/CS_URS_2025_02/171201231 | AT115: Online PSC | AU115: 2
D116: VV | F116: 34,496*1,8 | H116: 62.093 | AT116: VV | AU116: 2 | AV116: 2 | AW116: True | AX116: 1 | AY116: ROZPOCET
C117: 8 | D117: K | E117: 171251201 | F117: Uložení sypaniny na skládky nebo meziskládky bez hutnění s upravením uložené sypaniny do předepsaného tvaru | G117: m3 | H117: 34.496 | J117: =ROUND(I117*H117,2) -> 0 | K117: CS ÚRS 2025 02 | N117: základní | P117: =O117*H117 -> 0 | Q117: 0 | R117: =Q117*H117 -> 0 | S117: 0 | T117: =S117*H117 -> 0 | AR117: 4 | AT117: K | AU117: 2 | AY117: ROZPOCET | BE117: =IF(N117="základní",J117,0) -> 0 | BF117: =IF(N117="snížená",J117,0) -> 0 | BG117: =IF(N117="zákl. přenesená",J117,0) -> 0 | BH117: =IF(N117="sníž. přenesená",J117,0) -> 0 | BI117: =IF(N117="nulová",J117,0) -> 0 | BJ117: 1 | BK117: =ROUND(I117*H117,2) -> 0 | BL117: 4 | BM117: -2037338713
D118: Online PSC | F118: https://podminky.urs.cz/item/CS_URS_2025_02/171251201 | AT118: Online PSC | AU118: 2
D119: VV | F119: 34,496 | H119: 34.496 | AT119: VV | AU119: 2 | AV119: 2 | AW119: True | AX119: 1 | AY119: ROZPOCET
C120: 9 | D120: K | E120: 174111101 | F120: Zásyp sypaninou z jakékoliv horniny ručně s uložením výkopku ve vrstvách se zhutněním jam, šachet, rýh nebo kolem objektů v těchto vykopávkách | G120: m3 | H120: 59.2 | J120: =ROUND(I120*H120,2) -> 0 | K120: CS ÚRS 2025 02 | N120: základní | P120: =O120*H120 -> 0 | Q120: 0 | R120: =Q120*H120 -> 0 | S120: 0 | T120: =S120*H120 -> 0 | AR120: 4 | AT120: K | AU120: 2 | AY120: ROZPOCET | BE120: =IF(N120="základní",J120,0) -> 0 | BF120: =IF(N120="snížená",J120,0) -> 0 | BG120: =IF(N120="zákl. přenesená",J120,0) -> 0 | BH120: =IF(N120="sníž. přenesená",J120,0) -> 0 | BI120: =IF(N120="nulová",J120,0) -> 0 | BJ120: 1 | BK120: =ROUND(I120*H120,2) -> 0 | BL120: 4 | BM120: -610709097
D121: Online PSC | F121: https://podminky.urs.cz/item/CS_URS_2025_02/174111101 | AT121: Online PSC | AU121: 2
D122: VV | F122: 88,8 | H122: 88.8 | AT122: VV | AU122: 2 | AV122: 2 | AW122: True | AX122: 0 | AY122: ROZPOCET
D123: VV | F123: -29,6 | H123: -29.6 | AT123: VV | AU123: 2 | AV123: 2 | AW123: True | AX123: 0 | AY123: ROZPOCET
D124: VV | F124: Součet | H124: 59.2 | AT124: VV | AU124: 2 | AV124: 4 | AW124: True | AX124: 1 | AY124: ROZPOCET
C125: 10 | D125: K | E125: 175111101 | F125: Obsypání potrubí ručně sypaninou z vhodných hornin třídy těžitelnosti I a II, skupiny 1 až 4 nebo materiálem připraveným podél výkopu ve vzdálenosti do 3 m od jeho kraje pro jakoukoliv hloubku výkopu a míru zhutnění bez prohození sypaniny | G125: m3 | H125: 29.6 | J125: =ROUND(I125*H125,2) -> 0 | K125: CS ÚRS 2025 02 | N125: základní | P125: =O125*H125 -> 0 | Q125: 0 | R125: =Q125*H125 -> 0 | S125: 0 | T125: =S125*H125 -> 0 | AR125: 4 | AT125: K | AU125: 2 | AY125: ROZPOCET | BE125: =IF(N125="základní",J125,0) -> 0 | BF125: =IF(N125="snížená",J125,0) -> 0 | BG125: =IF(N125="zákl. přenesená",J125,0) -> 0 | BH125: =IF(N125="sníž. přenesená",J125,0) -> 0 | BI125: =IF(N125="nulová",J125,0) -> 0 | BJ125: 1 | BK125: =ROUND(I125*H125,2) -> 0 | BL125: 4 | BM125: 113409472
D126: Online PSC | F126: https://podminky.urs.cz/item/CS_URS_2025_02/175111101 | AT126: Online PSC | AU126: 2
D127: VV | F127: 370*0,2*0,4 | H127: 29.6 | AT127: VV | AU127: 2 | AV127: 2 | AW127: True | AX127: 1 | AY127: ROZPOCET
C128: 11 | D128: M | E128: 58331200 | F128: štěrkopísek netříděný | G128: t | H128: 59.2 | J128: =ROUND(I128*H128,2) -> 0 | K128: CS ÚRS 2025 02 | N128: základní | P128: =O128*H128 -> 0 | Q128: 1 | R128: =Q128*H128 -> 59.2 | S128: 0 | T128: =S128*H128 -> 0 | AR128: 8 | AT128: M | AU128: 2 | AY128: ROZPOCET | BE128: =IF(N128="základní",J128,0) -> 0 | BF128: =IF(N128="snížená",J128,0) -> 0 | BG128: =IF(N128="zákl. přenesená",J128,0) -> 0 | BH128: =IF(N128="sníž. přenesená",J128,0) -> 0 | BI128: =IF(N128="nulová",J128,0) -> 0 | BJ128: 1 | BK128: =ROUND(I128*H128,2) -> 0 | BL128: 4 | BM128: -708472038
D129: VV | F129: 29,6*2 'Přepočtené koeficientem množství | H129: 59.2 | AT129: VV | AU129: 2 | AV129: 2 | AW129: False | AX129: 1 | AY129: ROZPOCET
D130: D | E130: 998 | F130: Přesun hmot | J130: =BK130 -> 0 | P130: =SUM(P131:P132) -> 0 | R130: =SUM(R131:R132) -> 0 | T130: =SUM(T131:T132) -> 0 | AR130: 1 | AT130: D | AU130: 1 | AY130: ROZPOCET | BK130: =SUM(BK131:BK132) -> 0
C131: 12 | D131: K | E131: 998225111 | F131: Přesun hmot pro komunikace s krytem z kameniva, monolitickým betonovým nebo živičným dopravní vzdálenost do 200 m jakékoliv délky objektu | G131: t | H131: 59.2 | J131: =ROUND(I131*H131,2) -> 0 | K131: CS ÚRS 2025 02 | N131: základní | P131: =O131*H131 -> 0 | Q131: 0 | R131: =Q131*H131 -> 0 | S131: 0 | T131: =S131*H131 -> 0 | AR131: 4 | AT131: K | AU131: 2 | AY131: ROZPOCET | BE131: =IF(N131="základní",J131,0) -> 0 | BF131: =IF(N131="snížená",J131,0) -> 0 | BG131: =IF(N131="zákl. přenesená",J131,0) -> 0 | BH131: =IF(N131="sníž. přenesená",J131,0) -> 0 | BI131: =IF(N131="nulová",J131,0) -> 0 | BJ131: 1 | BK131: =ROUND(I131*H131,2) -> 0 | BL131: 4 | BM131: 174791492
D132: Online PSC | F132: https://podminky.urs.cz/item/CS_URS_2025_02/998225111 | AT132: Online PSC | AU132: 2
D133: D | E133: PSV | F133: Práce a dodávky PSV | J133: =BK133 -> 0 | P133: =P134 -> 0 | R133: =R134 -> 0 | T133: =T134 -> 0 | AR133: 2 | AT133: D | AU133: 0 | AY133: ROZPOCET | BK133: =BK134 -> 0
...

Sheet SO 801 - Sadové úpravy
AT2: {8898b05e-deab-4662-839b-992b56fbaa83}
AT3: 2
D4: KRYCÍ LIST SOUPISU PRACÍ | M4: v --- níže se nacházejí doplnkové a pomocné údaje k sestavám --- v | AT4: False
D6: Stavba:
E7: ='Rekapitulace stavby'!K6 -> Tuchlovice, oprava MK v ulici Za Starou poštou
D8: Objekt:
E9: SO 801 - Sadové úpravy
D11: KSO: | I11: CC-CZ:
D12: Místo: | I12: Datum: | J12: ='Rekapitulace stavby'!AN8 -> 12. 11. 2025
D14: Zadavatel: | I14: IČ: | J14: =IF('Rekapitulace stavby'!AN10="","",'Rekapitulace stavby'!AN10)
E15: =IF('Rekapitulace stavby'!E11="","",'Rekapitulace stavby'!E11) -> Obec Tuchlovice | I15: DIČ: | J15: =IF('Rekapitulace stavby'!AN11="","",'Rekapitulace stavby'!AN11)
D17: Účastník: | I17: IČ: | J17: ='Rekapitulace stavby'!AN13 -> Vyplň údaj
E18: ='Rekapitulace stavby'!E14 -> Vyplň údaj | I18: DIČ: | J18: ='Rekapitulace stavby'!AN14 -> Vyplň údaj
D20: Projektant: | I20: IČ: | J20: =IF('Rekapitulace stavby'!AN16="","",'Rekapitulace stavby'!AN16)
E21: =IF('Rekapitulace stavby'!E17="","",'Rekapitulace stavby'!E17) -> PFProjekt s.r.o. | I21: DIČ: | J21: =IF('Rekapitulace stavby'!AN17="","",'Rekapitulace stavby'!AN17)
D23: Zpracovatel: | I23: IČ: | J23: =IF('Rekapitulace stavby'!AN19="","",'Rekapitulace stavby'!AN19)
E24: =IF('Rekapitulace stavby'!E20="","",'Rekapitulace stavby'!E20) -> NOKU s.r.o. | I24: DIČ: | J24: =IF('Rekapitulace stavby'!AN20="","",'Rekapitulace stavby'!AN20)
D26: Poznámka:
D30: Cena bez DPH | J30: =ROUND(J92, 2) -> 0
F32: Základ daně | I32: Sazba daně | J32: Výše daně
D33: DPH | E33: základní | F33: =ROUND((SUM(BE92:BE168)), 2) -> 0 | I33: 0.21 | J33: =ROUND(((SUM(BE92:BE168))*I33), 2) -> 0
E34: snížená | F34: =ROUND((SUM(BF92:BF168)), 2) -> 0 | I34: 0.12 | J34: =ROUND(((SUM(BF92:BF168))*I34), 2) -> 0
E35: zákl. přenesená | F35: =ROUND((SUM(BG92:BG168)), 2) -> 0 | I35: 0.21 | J35: =0 -> 0
E36: sníž. přenesená | F36: =ROUND((SUM(BH92:BH168)), 2) -> 0 | I36: 0.12 | J36: =0 -> 0
E37: nulová | F37: =ROUND((SUM(BI92:BI168)), 2) -> 0 | I37: 0 | J37: =0 -> 0
D39: Cena s DPH | G39: v | H39: CZK | J39: =SUM(J30:J37) -> 0
C45: REKAPITULACE ČLENĚNÍ SOUPISU PRACÍ
C47: Stavba:
E48: =E7 -> Tuchlovice, oprava MK v ulici Za Starou poštou
C49: Objekt:
E50: =E9 -> SO 801 - Sadové úpravy
C52: Místo: | F52: =F12 | I52: Datum: | J52: =IF(J12="","",J12) -> 12. 11. 2025
C54: Zadavatel: | F54: =E15 -> Obec Tuchlovice | I54: Projektant: | J54: =E21 -> PFProjekt s.r.o.
C55: Účastník: | F55: =IF(E18="","",E18) -> Vyplň údaj | I55: Zpracovatel: | J55: =E24 -> NOKU s.r.o.
C57: Kód dílu - Popis | J57: Cena celkem [CZK]
C59: Náklady stavby celkem | J59: =J92 -> 0 | AU59: -1
D60: S01 - Rostlinný materiál | J60: =J93 -> 0
D61: S02 - Kácení dřevin | J61: =J96 -> 0
D62: D2 - Kácení stromu, průměr kmene 100 - 200 mm | J62: =J97 -> 0
D63: D3 - Kácení stromu, průměr kmene 200 – 300 mm | J63: =J101 -> 0
D64: D4 - Kácení stromu, průměr kmene 300 – 400 mm | J64: =J105 -> 0
D65: D5 - Kácení stromu, průměr kmene 400 – 500 mm | J65: =J109 -> 0
D66: D6 - Kácení stromu, průměr kmene 500 – 600 mm | J66: =J113 -> 0
D67: D7 - Kácení stromu, průměr kmene 600 - 700 mm | J67: =J117 -> 0
D68: D8 - Kácení stromu, průměr kmene 800 – 900 mm | J68: =J121 -> 0
D69: D9 - Kácení stromu, průměr kmene 900 – 1000 mm | J69: =J125 -> 0
D70: S03 - Sadové úpravy | J70: =J129 -> 0
D71: D10 - Výsadba alejového stromu s balem | J71: =J130 -> 0
D72: D11 - Založení trávníku zahradnickým způsobem včetně ceny osiva a první seče | J72: =J152 -> 0
C79: SOUPIS PRACÍ
C81: Stavba:
E82: =E7 -> Tuchlovice, oprava MK v ulici Za Starou poštou
C83: Objekt:
E84: =E9 -> SO 801 - Sadové úpravy
C86: Místo: | F86: =F12 | I86: Datum: | J86: =IF(J12="","",J12) -> 12. 11. 2025
C88: Zadavatel: | F88: =E15 -> Obec Tuchlovice | I88: Projektant: | J88: =E21 -> PFProjekt s.r.o.
C89: Účastník: | F89: =IF(E18="","",E18) -> Vyplň údaj | I89: Zpracovatel: | J89: =E24 -> NOKU s.r.o.
C91: PČ | D91: Typ | E91: Kód | F91: Popis | G91: MJ | H91: Množství | I91: J.cena [CZK] | J91: Cena celkem [CZK] | K91: Cenová soustava | N91: DPH | O91: J. Nh [h] | P91: Nh celkem [h] | Q91: J. hmotnost [t] | R91: Hmotnost celkem [t] | S91: J. suť [t] | T91: Suť Celkem [t]
C92: Náklady soupisu celkem | J92: =BK92 -> 0 | P92: =P93+P96+P129 -> 0 | R92: =R93+R96+R129 -> 0 | T92: =T93+T96+T129 -> 0 | AT92: D | AU92: -1 | BK92: =BK93+BK96+BK129 -> 0
D93: D | E93: S01 | F93: Rostlinný materiál | J93: =BK93 -> 0 | P93: =SUM(P94:P95) -> 0 | R93: =SUM(R94:R95) -> 0 | T93: =SUM(T94:T95) -> 0 | AR93: 1 | AT93: D | AU93: 0 | AY93: ROZPOCET | BK93: =SUM(BK94:BK95) -> 0
C94: 1 | D94: M | E94: M1681 | F94: Crataegus laevigata 'Paul's Scarlet' - hluh obecný, výsadbová velikost 12-14, s balem | G94: kus | H94: 16 | J94: =ROUND(I94*H94,2) -> 0 | N94: základní | P94: =O94*H94 -> 0 | Q94: 0 | R94: =Q94*H94 -> 0 | S94: 0 | T94: =S94*H94 -> 0 | AR94: 8 | AT94: M | AU94: 1 | AY94: ROZPOCET | BE94: =IF(N94="základní",J94,0) -> 0 | BF94: =IF(N94="snížená",J94,0) -> 0 | BG94: =IF(N94="zákl. přenesená",J94,0) -> 0 | BH94: =IF(N94="sníž. přenesená",J94,0) -> 0 | BI94: =IF(N94="nulová",J94,0) -> 0 | BJ94: 1 | BK94: =ROUND(I94*H94,2) -> 0 | BL94: 4 | BM94: 844611937
C95: 2 | D95: K | E95: R1891 | F95: Doprava rostlinněého materiálu | G95: kpl | H95: 1 | J95: =ROUND(I95*H95,2) -> 0 | N95: základní | P95: =O95*H95 -> 0 | Q95: 0 | R95: =Q95*H95 -> 0 | S95: 0 | T95: =S95*H95 -> 0 | AR95: 4 | AT95: K | AU95: 1 | AY95: ROZPOCET | BE95: =IF(N95="základní",J95,0) -> 0 | BF95: =IF(N95="snížená",J95,0) -> 0 | BG95: =IF(N95="zákl. přenesená",J95,0) -> 0 | BH95: =IF(N95="sníž. přenesená",J95,0) -> 0 | BI95: =IF(N95="nulová",J95,0) -> 0 | BJ95: 1 | BK95: =ROUND(I95*H95,2) -> 0 | BL95: 4 | BM95: -1361897619
D96: D | E96: S02 | F96: Kácení dřevin | J96: =BK96 -> 0 | P96: =P97+P101+P105+P109+P113+P117+P121+P125 -> 0 | R96: =R97+R101+R105+R109+R113+R117+R121+R125 -> 0 | T96: =T97+T101+T105+T109+T113+T117+T121+T125 -> 0 | AR96: 1 | AT96: D | AU96: 0 | AY96: ROZPOCET | BK96: =BK97+BK101+BK105+BK109+BK113+BK117+BK121+BK125 -> 0
D97: D | E97: D2 | F97: Kácení stromu, průměr kmene 100 - 200 mm | J97: =BK97 -> 0 | P97: =SUM(P98:P100) -> 0 | R97: =SUM(R98:R100) -> 0 | T97: =SUM(T98:T100) -> 0 | AR97: 1 | AT97: D | AU97: 1 | AY97: ROZPOCET | BK97: =SUM(BK98:BK100) -> 0
C98: 3 | D98: K | E98: 112 15-1311 | F98: Pokácení stromu postupné do 200 mm průměru kmene, vč. odklizení částí kmene a větví na vzdálenost do 20 m se složením na hromady nebo naložením na dopravní prostředek | G98: ks | H98: 4 | J98: =ROUND(I98*H98,2) -> 0 | N98: základní | P98: =O98*H98 -> 0 | Q98: 0 | R98: =Q98*H98 -> 0 | S98: 0 | T98: =S98*H98 -> 0 | AR98: 4 | AT98: K | AU98: 2 | AY98: ROZPOCET | BE98: =IF(N98="základní",J98,0) -> 0 | BF98: =IF(N98="snížená",J98,0) -> 0 | BG98: =IF(N98="zákl. přenesená",J98,0) -> 0 | BH98: =IF(N98="sníž. přenesená",J98,0) -> 0 | BI98: =IF(N98="nulová",J98,0) -> 0 | BJ98: 1 | BK98: =ROUND(I98*H98,2) -> 0 | BL98: 4 | BM98: 2
C99: 4 | D99: K | E99: 112 20-1111 | F99: Odstranění pařezu (v rovině nebo svahu do 1:5) o průměru do 200 mm do hloubky min. 30 cm, vč. odstranění náběhových kořenů,likvidace vytěženého odpadu do 20 m, zasypání jámy, doplnění zeminy, zhutnění a úpravy terénu | G99: ks | H99: 4 | J99: =ROUND(I99*H99,2) -> 0 | N99: základní | P99: =O99*H99 -> 0 | Q99: 0 | R99: =Q99*H99 -> 0 | S99: 0 | T99: =S99*H99 -> 0 | AR99: 4 | AT99: K | AU99: 2 | AY99: ROZPOCET | BE99: =IF(N99="základní",J99,0) -> 0 | BF99: =IF(N99="snížená",J99,0) -> 0 | BG99: =IF(N99="zákl. přenesená",J99,0) -> 0 | BH99: =IF(N99="sníž. přenesená",J99,0) -> 0 | BI99: =IF(N99="nulová",J99,0) -> 0 | BJ99: 1 | BK99: =ROUND(I99*H99,2) -> 0 | BL99: 4 | BM99: 4
C100: 5 | D100: K | E100: Pol3 | F100: Dodávka tříděné zeminy bonity I. včetně dopravy | G100: m3 | H100: 0.036 | J100: =ROUND(I100*H100,2) -> 0 | N100: základní | P100: =O100*H100 -> 0 | Q100: 0 | R100: =Q100*H100 -> 0 | S100: 0 | T100: =S100*H100 -> 0 | AR100: 4 | AT100: K | AU100: 2 | AY100: ROZPOCET | BE100: =IF(N100="základní",J100,0) -> 0 | BF100: =IF(N100="snížená",J100,0) -> 0 | BG100: =IF(N100="zákl. přenesená",J100,0) -> 0 | BH100: =IF(N100="sníž. přenesená",J100,0) -> 0 | BI100: =IF(N100="nulová",J100,0) -> 0 | BJ100: 1 | BK100: =ROUND(I100*H100,2) -> 0 | BL100: 4 | BM100: 6
D101: D | E101: D3 | F101: Kácení stromu, průměr kmene 200 – 300 mm | J101: =BK101 -> 0 | P101: =SUM(P102:P104) -> 0 | R101: =SUM(R102:R104) -> 0 | T101: =SUM(T102:T104) -> 0 | AR101: 1 | AT101: D | AU101: 1 | AY101: ROZPOCET | BK101: =SUM(BK102:BK104) -> 0
C102: 6 | D102: K | E102: 112 15-1312 | F102: Pokácení stromu postupné 200 - 300 mm, vč. odklizení částí kmene a větví na vzdálenost do 20 m se složením na hromady nebo naložením na dopravní prostředek | G102: ks | H102: 2 | J102: =ROUND(I102*H102,2) -> 0 | N102: základní | P102: =O102*H102 -> 0 | Q102: 0 | R102: =Q102*H102 -> 0 | S102: 0 | T102: =S102*H102 -> 0 | AR102: 4 | AT102: K | AU102: 2 | AY102: ROZPOCET | BE102: =IF(N102="základní",J102,0) -> 0 | BF102: =IF(N102="snížená",J102,0) -> 0 | BG102: =IF(N102="zákl. přenesená",J102,0) -> 0 | BH102: =IF(N102="sníž. přenesená",J102,0) -> 0 | BI102: =IF(N102="nulová",J102,0) -> 0 | BJ102: 1 | BK102: =ROUND(I102*H102,2) -> 0 | BL102: 4 | BM102: 8
C103: 7 | D103: K | E103: 112 20-1112 | F103: Odstranění pařezu (v rovině nebo svahu do 1:5) o průměru 200 - 300 mm do hloubky min. 30 cm, vč. odstranění náběhových kořenů,likvidace vytěženého odpadu do 20 m, zasypání jámy, doplnění zeminy, zhutnění a úpravy terénu | G103: ks | H103: 2 | J103: =ROUND(I103*H103,2) -> 0 | N103: základní | P103: =O103*H103 -> 0 | Q103: 0 | R103: =Q103*H103 -> 0 | S103: 0 | T103: =S103*H103 -> 0 | AR103: 4 | AT103: K | AU103: 2 | AY103: ROZPOCET | BE103: =IF(N103="základní",J103,0) -> 0 | BF103: =IF(N103="snížená",J103,0) -> 0 | BG103: =IF(N103="zákl. přenesená",J103,0) -> 0 | BH103: =IF(N103="sníž. přenesená",J103,0) -> 0 | BI103: =IF(N103="nulová",J103,0) -> 0 | BJ103: 1 | BK103: =ROUND(I103*H103,2) -> 0 | BL103: 4 | BM103: 10
C104: 8 | D104: K | E104: Pol3 | F104: Dodávka tříděné zeminy bonity I. včetně dopravy | G104: m3 | H104: 0.028 | J104: =ROUND(I104*H104,2) -> 0 | N104: základní | P104: =O104*H104 -> 0 | Q104: 0 | R104: =Q104*H104 -> 0 | S104: 0 | T104: =S104*H104 -> 0 | AR104: 4 | AT104: K | AU104: 2 | AY104: ROZPOCET | BE104: =IF(N104="základní",J104,0) -> 0 | BF104: =IF(N104="snížená",J104,0) -> 0 | BG104: =IF(N104="zákl. přenesená",J104,0) -> 0 | BH104: =IF(N104="sníž. přenesená",J104,0) -> 0 | BI104: =IF(N104="nulová",J104,0) -> 0 | BJ104: 1 | BK104: =ROUND(I104*H104,2) -> 0 | BL104: 4 | BM104: 12
D105: D | E105: D4 | F105: Kácení stromu, průměr kmene 300 – 400 mm | J105: =BK105 -> 0 | P105: =SUM(P106:P108) -> 0 | R105: =SUM(R106:R108) -> 0 | T105: =SUM(T106:T108) -> 0 | AR105: 1 | AT105: D | AU105: 1 | AY105: ROZPOCET | BK105: =SUM(BK106:BK108) -> 0
C106: 9 | D106: K | E106: 112 15-1313 | F106: Pokácení stromu postupné 300 - 400 mm, vč. odklizení částí kmene a větví na vzdálenost do 20 m se složením na hromady nebo naložením na dopravní prostředek | G106: ks | H106: 4 | J106: =ROUND(I106*H106,2) -> 0 | N106: základní | P106: =O106*H106 -> 0 | Q106: 0 | R106: =Q106*H106 -> 0 | S106: 0 | T106: =S106*H106 -> 0 | AR106: 4 | AT106: K | AU106: 2 | AY106: ROZPOCET | BE106: =IF(N106="základní",J106,0) -> 0 | BF106: =IF(N106="snížená",J106,0) -> 0 | BG106: =IF(N106="zákl. přenesená",J106,0) -> 0 | BH106: =IF(N106="sníž. přenesená",J106,0) -> 0 | BI106: =IF(N106="nulová",J106,0) -> 0 | BJ106: 1 | BK106: =ROUND(I106*H106,2) -> 0 | BL106: 4 | BM106: 14
C107: 10 | D107: K | E107: 112 20-1113 | F107: Odstranění pařezu (v rovině nebo svahu do 1:5) o průměru 300 - 400 mm do hloubky min. 30 cm , vč. odstranění náběhových kořenů,likvidace vytěženého odpadu do 20 m, zasypání jámy, doplnění zeminy, zhutnění a úpravy terénu | G107: ks | H107: 4 | J107: =ROUND(I107*H107,2) -> 0 | N107: základní | P107: =O107*H107 -> 0 | Q107: 0 | R107: =Q107*H107 -> 0 | S107: 0 | T107: =S107*H107 -> 0 | AR107: 4 | AT107: K | AU107: 2 | AY107: ROZPOCET | BE107: =IF(N107="základní",J107,0) -> 0 | BF107: =IF(N107="snížená",J107,0) -> 0 | BG107: =IF(N107="zákl. přenesená",J107,0) -> 0 | BH107: =IF(N107="sníž. přenesená",J107,0) -> 0 | BI107: =IF(N107="nulová",J107,0) -> 0 | BJ107: 1 | BK107: =ROUND(I107*H107,2) -> 0 | BL107: 4 | BM107: 16
C108: 11 | D108: K | E108: Pol3 | F108: Dodávka tříděné zeminy bonity I. včetně dopravy | G108: m3 | H108: 0.1 | J108: =ROUND(I108*H108,2) -> 0 | N108: základní | P108: =O108*H108 -> 0 | Q108: 0 | R108: =Q108*H108 -> 0 | S108: 0 | T108: =S108*H108 -> 0 | AR108: 4 | AT108: K | AU108: 2 | AY108: ROZPOCET | BE108: =IF(N108="základní",J108,0) -> 0 | BF108: =IF(N108="snížená",J108,0) -> 0 | BG108: =IF(N108="zákl. přenesená",J108,0) -> 0 | BH108: =IF(N108="sníž. přenesená",J108,0) -> 0 | BI108: =IF(N108="nulová",J108,0) -> 0 | BJ108: 1 | BK108: =ROUND(I108*H108,2) -> 0 | BL108: 4 | BM108: 18
D109: D | E109: D5 | F109: Kácení stromu, průměr kmene 400 – 500 mm | J109: =BK109 -> 0 | P109: =SUM(P110:P112) -> 0 | R109: =SUM(R110:R112) -> 0 | T109: =SUM(T110:T112) -> 0 | AR109: 1 | AT109: D | AU109: 1 | AY109: ROZPOCET | BK109: =SUM(BK110:BK112) -> 0
C110: 12 | D110: K | E110: 112 15-1314 | F110: Pokácení stromu postupné 400 - 500 mm, vč. odklizení částí kmene a větví na vzdálenost do 20 m se složením na hromady nebo naložením na dopravní prostředek | G110: ks | H110: 3 | J110: =ROUND(I110*H110,2) -> 0 | N110: základní | P110: =O110*H110 -> 0 | Q110: 0 | R110: =Q110*H110 -> 0 | S110: 0 | T110: =S110*H110 -> 0 | AR110: 4 | AT110: K | AU110: 2 | AY110: ROZPOCET | BE110: =IF(N110="základní",J110,0) -> 0 | BF110: =IF(N110="snížená",J110,0) -> 0 | BG110: =IF(N110="zákl. přenesená",J110,0) -> 0 | BH110: =IF(N110="sníž. přenesená",J110,0) -> 0 | BI110: =IF(N110="nulová",J110,0) -> 0 | BJ110: 1 | BK110: =ROUND(I110*H110,2) -> 0 | BL110: 4 | BM110: 20
C111: 13 | D111: K | E111: 112 20-1114 | F111: Odstranění pařezu (v rovině nebo svahu do 1:5) o průměru 400 - 500 mm do hloubky min. 30 cm , vč. odstranění náběhových kořenů,likvidace vytěženého odpadu do 20 m, zasypání jámy, doplnění zeminy, zhutnění a úpravy terénu | G111: ks | H111: 3 | J111: =ROUND(I111*H111,2) -> 0 | N111: základní | P111: =O111*H111 -> 0 | Q111: 0 | R111: =Q111*H111 -> 0 | S111: 0 | T111: =S111*H111 -> 0 | AR111: 4 | AT111: K | AU111: 2 | AY111: ROZPOCET | BE111: =IF(N111="základní",J111,0) -> 0 | BF111: =IF(N111="snížená",J111,0) -> 0 | BG111: =IF(N111="zákl. přenesená",J111,0) -> 0 | BH111: =IF(N111="sníž. přenesená",J111,0) -> 0 | BI111: =IF(N111="nulová",J111,0) -> 0 | BJ111: 1 | BK111: =ROUND(I111*H111,2) -> 0 | BL111: 4 | BM111: 22
C112: 14 | D112: K | E112: Pol3 | F112: Dodávka tříděné zeminy bonity I. včetně dopravy | G112: m3 | H112: 0.12 | J112: =ROUND(I112*H112,2) -> 0 | N112: základní | P112: =O112*H112 -> 0 | Q112: 0 | R112: =Q112*H112 -> 0 | S112: 0 | T112: =S112*H112 -> 0 | AR112: 4 | AT112: K | AU112: 2 | AY112: ROZPOCET | BE112: =IF(N112="základní",J112,0) -> 0 | BF112: =IF(N112="snížená",J112,0) -> 0 | BG112: =IF(N112="zákl. přenesená",J112,0) -> 0 | BH112: =IF(N112="sníž. přenesená",J112,0) -> 0 | BI112: =IF(N112="nulová",J112,0) -> 0 | BJ112: 1 | BK112: =ROUND(I112*H112,2) -> 0 | BL112: 4 | BM112: 24
D113: D | E113: D6 | F113: Kácení stromu, průměr kmene 500 – 600 mm | J113: =BK113 -> 0 | P113: =SUM(P114:P116) -> 0 | R113: =SUM(R114:R116) -> 0 | T113: =SUM(T114:T116) -> 0 | AR113: 1 | AT113: D | AU113: 1 | AY113: ROZPOCET | BK113: =SUM(BK114:BK116) -> 0
C114: 15 | D114: K | E114: 112 15-1315 | F114: Pokácení stromu postupné 500 - 600 mm, vč. odklizení částí kmene a větví na vzdálenost do 20 m se složením na hromady nebo naložením na dopravní prostředek | G114: ks | H114: 1 | J114: =ROUND(I114*H114,2) -> 0 | N114: základní | P114: =O114*H114 -> 0 | Q114: 0 | R114: =Q114*H114 -> 0 | S114: 0 | T114: =S114*H114 -> 0 | AR114: 4 | AT114: K | AU114: 2 | AY114: ROZPOCET | BE114: =IF(N114="základní",J114,0) -> 0 | BF114: =IF(N114="snížená",J114,0) -> 0 | BG114: =IF(N114="zákl. přenesená",J114,0) -> 0 | BH114: =IF(N114="sníž. přenesená",J114,0) -> 0 | BI114: =IF(N114="nulová",J114,0) -> 0 | BJ114: 1 | BK114: =ROUND(I114*H114,2) -> 0 | BL114: 4 | BM114: 26
C115: 16 | D115: K | E115: 112 20-1115 | F115: vč. odstranění náběhových kořenů,likvidace vytěženého odpadu do 20 m, zasypání jámy, doplnění zeminy, zhutnění a úpravy terénuvč. likvidace vytěženého odpadu do 20 m a doplnění zeminy | G115: ks | H115: 1 | J115: =ROUND(I115*H115,2) -> 0 | N115: základní | P115: =O115*H115 -> 0 | Q115: 0 | R115: =Q115*H115 -> 0 | S115: 0 | T115: =S115*H115 -> 0 | AR115: 4 | AT115: K | AU115: 2 | AY115: ROZPOCET | BE115: =IF(N115="základní",J115,0) -> 0 | BF115: =IF(N115="snížená",J115,0) -> 0 | BG115: =IF(N115="zákl. přenesená",J115,0) -> 0 | BH115: =IF(N115="sníž. přenesená",J115,0) -> 0 | BI115: =IF(N115="nulová",J115,0) -> 0 | BJ115: 1 | BK115: =ROUND(I115*H115,2) -> 0 | BL115: 4 | BM115: 28
C116: 17 | D116: K | E116: Pol3 | F116: Dodávka tříděné zeminy bonity I. včetně dopravy | G116: m3 | H116: 0.057 | J116: =ROUND(I116*H116,2) -> 0 | N116: základní | P116: =O116*H116 -> 0 | Q116: 0 | R116: =Q116*H116 -> 0 | S116: 0 | T116: =S116*H116 -> 0 | AR116: 4 | AT116: K | AU116: 2 | AY116: ROZPOCET | BE116: =IF(N116="základní",J116,0) -> 0 | BF116: =IF(N116="snížená",J116,0) -> 0 | BG116: =IF(N116="zákl. přenesená",J116,0) -> 0 | BH116: =IF(N116="sníž. přenesená",J116,0) -> 0 | BI116: =IF(N116="nulová",J116,0) -> 0 | BJ116: 1 | BK116: =ROUND(I116*H116,2) -> 0 | BL116: 4 | BM116: 30
D117: D | E117: D7 | F117: Kácení stromu, průměr kmene 600 - 700 mm | J117: =BK117 -> 0 | P117: =SUM(P118:P120) -> 0 | R117: =SUM(R118:R120) -> 0 | T117: =SUM(T118:T120) -> 0 | AR117: 1 | AT117: D | AU117: 1 | AY117: ROZPOCET | BK117: =SUM(BK118:BK120) -> 0
C118: 18 | D118: K | E118: 112 15-1316 | F118: Pokácení stromu 600 - 700 mm, vč. odklizení částí kmene a větví na vzdálenost do 20 m se složením na hromady nebo naložením na dopravní prostředek | G118: ks | H118: 1 | J118: =ROUND(I118*H118,2) -> 0 | N118: základní | P118: =O118*H118 -> 0 | Q118: 0 | R118: =Q118*H118 -> 0 | S118: 0 | T118: =S118*H118 -> 0 | AR118: 4 | AT118: K | AU118: 2 | AY118: ROZPOCET | BE118: =IF(N118="základní",J118,0) -> 0 | BF118: =IF(N118="snížená",J118,0) -> 0 | BG118: =IF(N118="zákl. přenesená",J118,0) -> 0 | BH118: =IF(N118="sníž. přenesená",J118,0) -> 0 | BI118: =IF(N118="nulová",J118,0) -> 0 | BJ118: 1 | BK118: =ROUND(I118*H118,2) -> 0 | BL118: 4 | BM118: 32
C119: 19 | D119: K | E119: 112 20-1116 | F119: Odstranění pařezu (v rovině nebo svahu do 1:5) o průměru 600 - 700 mm do hloubky min. 30 cm ,vč. odstranění náběhových kořenů,likvidace vytěženého odpadu do 20 m, zasypání jámy, doplnění zeminy, zhutnění a úpravy terénu | G119: ks | H119: 1 | J119: =ROUND(I119*H119,2) -> 0 | N119: základní | P119: =O119*H119 -> 0 | Q119: 0 | R119: =Q119*H119 -> 0 | S119: 0 | T119: =S119*H119 -> 0 | AR119: 4 | AT119: K | AU119: 2 | AY119: ROZPOCET | BE119: =IF(N119="základní",J119,0) -> 0 | BF119: =IF(N119="snížená",J119,0) -> 0 | BG119: =IF(N119="zákl. přenesená",J119,0) -> 0 | BH119: =IF(N119="sníž. přenesená",J119,0) -> 0 | BI119: =IF(N119="nulová",J119,0) -> 0 | BJ119: 1 | BK119: =ROUND(I119*H119,2) -> 0 | BL119: 4 | BM119: 34
C120: 20 | D120: K | E120: Pol3 | F120: Dodávka tříděné zeminy bonity I. včetně dopravy | G120: m3 | H120: 0.077 | J120: =ROUND(I120*H120,2) -> 0 | N120: základní | P120: =O120*H120 -> 0 | Q120: 0 | R120: =Q120*H120 -> 0 | S120: 0 | T120: =S120*H120 -> 0 | AR120: 4 | AT120: K | AU120: 2 | AY120: ROZPOCET | BE120: =IF(N120="základní",J120,0) -> 0 | BF120: =IF(N120="snížená",J120,0) -> 0 | BG120: =IF(N120="zákl. přenesená",J120,0) -> 0 | BH120: =IF(N120="sníž. přenesená",J120,0) -> 0 | BI120: =IF(N120="nulová",J120,0) -> 0 | BJ120: 1 | BK120: =ROUND(I120*H120,2) -> 0 | BL120: 4 | BM120: 36
D121: D | E121: D8 | F121: Kácení stromu, průměr kmene 800 – 900 mm | J121: =BK121 -> 0 | P121: =SUM(P122:P124) -> 0 | R121: =SUM(R122:R124) -> 0 | T121: =SUM(T122:T124) -> 0 | AR121: 1 | AT121: D | AU121: 1 | AY121: ROZPOCET | BK121: =SUM(BK122:BK124) -> 0
C122: 21 | D122: K | E122: 112 15-1318 | F122: Pokácení stromu 800 - 900 mm, vč. odklizení částí kmene a větví na vzdálenost do 20 m se složením na hromady nebo naložením na dopravní prostředek | G122: ks | H122: 1 | J122: =ROUND(I122*H122,2) -> 0 | N122: základní | P122: =O122*H122 -> 0 | Q122: 0 | R122: =Q122*H122 -> 0 | S122: 0 | T122: =S122*H122 -> 0 | AR122: 4 | AT122: K | AU122: 2 | AY122: ROZPOCET | BE122: =IF(N122="základní",J122,0) -> 0 | BF122: =IF(N122="snížená",J122,0) -> 0 | BG122: =IF(N122="zákl. přenesená",J122,0) -> 0 | BH122: =IF(N122="sníž. přenesená",J122,0) -> 0 | BI122: =IF(N122="nulová",J122,0) -> 0 | BJ122: 1 | BK122: =ROUND(I122*H122,2) -> 0 | BL122: 4 | BM122: 38
C123: 22 | D123: K | E123: 112 20-1118 | F123: Odstranění pařezu (v rovině nebo svahu do 1:5) o průměru 800 - 900 mm do hloubky min. 30 cm , vč. odstranění náběhových kořenů,likvidace vytěženého odpadu do 20 m, zasypání jámy, doplnění zeminy, zhutnění a úpravy terénu | G123: ks | H123: 1 | J123: =ROUND(I123*H123,2) -> 0 | N123: základní | P123: =O123*H123 -> 0 | Q123: 0 | R123: =Q123*H123 -> 0 | S123: 0 | T123: =S123*H123 -> 0 | AR123: 4 | AT123: K | AU123: 2 | AY123: ROZPOCET | BE123: =IF(N123="základní",J123,0) -> 0 | BF123: =IF(N123="snížená",J123,0) -> 0 | BG123: =IF(N123="zákl. přenesená",J123,0) -> 0 | BH123: =IF(N123="sníž. přenesená",J123,0) -> 0 | BI123: =IF(N123="nulová",J123,0) -> 0 | BJ123: 1 | BK123: =ROUND(I123*H123,2) -> 0 | BL123: 4 | BM123: 40
C124: 23 | D124: K | E124: Pol3 | F124: Dodávka tříděné zeminy bonity I. včetně dopravy | G124: m3 | H124: 0.2 | J124: =ROUND(I124*H124,2) -> 0 | N124: základní | P124: =O124*H124 -> 0 | Q124: 0 | R124: =Q124*H124 -> 0 | S124: 0 | T124: =S124*H124 -> 0 | AR124: 4 | AT124: K | AU124: 2 | AY124: ROZPOCET | BE124: =IF(N124="základní",J124,0) -> 0 | BF124: =IF(N124="snížená",J124,0) -> 0 | BG124: =IF(N124="zákl. přenesená",J124,0) -> 0 | BH124: =IF(N124="sníž. přenesená",J124,0) -> 0 | BI124: =IF(N124="nulová",J124,0) -> 0 | BJ124: 1 | BK124: =ROUND(I124*H124,2) -> 0 | BL124: 4 | BM124: 42
D125: D | E125: D9 | F125: Kácení stromu, průměr kmene 900 – 1000 mm | J125: =BK125 -> 0 | P125: =SUM(P126:P128) -> 0 | R125: =SUM(R126:R128) -> 0 | T125: =SUM(T126:T128) -> 0 | AR125: 1 | AT125: D | AU125: 1 | AY125: ROZPOCET | BK125: =SUM(BK126:BK128) -> 0
C126: 24 | D126: K | E126: 112 15-1319 | F126: Pokácení stromu 900 - 1000 mm, vč. odklizení částí kmene a větví na vzdálenost do 20 m se složením na hromady nebo naložením na dopravní prostředek | G126: ks | H126: 9 | J126: =ROUND(I126*H126,2) -> 0 | N126: základní | P126: =O126*H126 -> 0 | Q126: 0 | R126: =Q126*H126 -> 0 | S126: 0 | T126: =S126*H126 -> 0 | AR126: 4 | AT126: K | AU126: 2 | AY126: ROZPOCET | BE126: =IF(N126="základní",J126,0) -> 0 | BF126: =IF(N126="snížená",J126,0) -> 0 | BG126: =IF(N126="zákl. přenesená",J126,0) -> 0 | BH126: =IF(N126="sníž. přenesená",J126,0) -> 0 | BI126: =IF(N126="nulová",J126,0) -> 0 | BJ126: 1 | BK126: =ROUND(I126*H126,2) -> 0 | BL126: 4 | BM126: 44
C127: 25 | D127: K | E127: 112 20-1119 | F127: Odstranění pařezu (v rovině nebo svahu do 1:5) o průměru 900 - 1000 mm do hloubky min. 30 cm , vč. odstranění náběhových kořenů,likvidace vytěženého odpadu do 20 m, zasypání jámy, doplnění zeminy, zhutnění a úpravy terénu | G127: ks | H127: 9 | J127: =ROUND(I127*H127,2) -> 0 | N127: základní | P127: =O127*H127 -> 0 | Q127: 0 | R127: =Q127*H127 -> 0 | S127: 0 | T127: =S127*H127 -> 0 | AR127: 4 | AT127: K | AU127: 2 | AY127: ROZPOCET | BE127: =IF(N127="základní",J127,0) -> 0 | BF127: =IF(N127="snížená",J127,0) -> 0 | BG127: =IF(N127="zákl. přenesená",J127,0) -> 0 | BH127: =IF(N127="sníž. přenesená",J127,0) -> 0 | BI127: =IF(N127="nulová",J127,0) -> 0 | BJ127: 1 | BK127: =ROUND(I127*H127,2) -> 0 | BL127: 4 | BM127: 46
C128: 26 | D128: K | E128: Pol3 | F128: Dodávka tříděné zeminy bonity I. včetně dopravy | G128: m3 | H128: 2.07 | J128: =ROUND(I128*H128,2) -> 0 | N128: základní | P128: =O128*H128 -> 0 | Q128: 0 | R128: =Q128*H128 -> 0 | S128: 0 | T128: =S128*H128 -> 0 | AR128: 4 | AT128: K | AU128: 2 | AY128: ROZPOCET | BE128: =IF(N128="základní",J128,0) -> 0 | BF128: =IF(N128="snížená",J128,0) -> 0 | BG128: =IF(N128="zákl. přenesená",J128,0) -> 0 | BH128: =IF(N128="sníž. přenesená",J128,0) -> 0 | BI128: =IF(N128="nulová",J128,0) -> 0 | BJ128: 1 | BK128: =ROUND(I128*H128,2) -> 0 | BL128: 4 | BM128: 48
D129: D | E129: S03 | F129: Sadové úpravy | J129: =BK129 -> 0 | P129: =P130+P152 -> 0 | R129: =R130+R152 -> 0 | T129: =T130+T152 -> 0 | AR129: 1 | AT129: D | AU129: 0 | AY129: ROZPOCET | BK129: =BK130+BK152 -> 0
D130: D | E130: D10 | F130: Výsadba alejového stromu s balem | J130: =BK130 -> 0 | P130: =SUM(P131:P151) -> 0 | R130: =SUM(R131:R151) -> 0 | T130: =SUM(T131:T151) -> 0 | AR130: 1 | AT130: D | AU130: 1 | AY130: ROZPOCET | BK130: =SUM(BK131:BK151) -> 0
C131: 27 | D131: K | E131: 119005155 | F131: Vytyčení výsadeb s rozmístěním solitérních rostlin přes 50 kusů | G131: ks | H131: 16 | J131: =ROUND(I131*H131,2) -> 0 | N131: základní | P131: =O131*H131 -> 0 | Q131: 0 | R131: =Q131*H131 -> 0 | S131: 0 | T131: =S131*H131 -> 0 | AR131: 4 | AT131: K | AU131: 2 | AY131: ROZPOCET | BE131: =IF(N131="základní",J131,0) -> 0 | BF131: =IF(N131="snížená",J131,0) -> 0 | BG131: =IF(N131="zákl. přenesená",J131,0) -> 0 | BH131: =IF(N131="sníž. přenesená",J131,0) -> 0 | BI131: =IF(N131="nulová",J131,0) -> 0 | BJ131: 1 | BK131: =ROUND(I131*H131,2) -> 0 | BL131: 4 | BM131: 50
C132: 28 | D132: K | E132: 183 10-1221 | F132: Hloubení jamek pro vysazování rostlin v zemině 1 až 4 s výměnou půdy na 50 % v rovině nebo na svahu do 1:5, objemu přes 0,40 m3 do 1,00 m3 | G132: ks | H132: 16 | J132: =ROUND(I132*H132,2) -> 0 | N132: základní | P132: =O132*H132 -> 0 | Q132: 0 | R132: =Q132*H132 -> 0 | S132: 0 | T132: =S132*H132 -> 0 | AR132: 4 | AT132: K | AU132: 2 | AY132: ROZPOCET | BE132: =IF(N132="základní",J132,0) -> 0 | BF132: =IF(N132="snížená",J132,0) -> 0 | BG132: =IF(N132="zákl. přenesená",J132,0) -> 0 | BH132: =IF(N132="sníž. přenesená",J132,0) -> 0 | BI132: =IF(N132="nulová",J132,0) -> 0 | BJ132: 1 | BK132: =ROUND(I132*H132,2) -> 0 | BL132: 4 | BM132: 52
C133: 29 | D133: K | E133: 184 10-2114 | F133: Výsadba dřeviny s balem do předem vyhloubené jamky se zalitím v rovině nebo ve svahu 1:5 při průměru balu přes 400 do 500 mm | G133: ks | H133: 16 | J133: =ROUND(I133*H133,2) -> 0 | N133: základní | P133: =O133*H133 -> 0 | Q133: 0 | R133: =Q133*H133 -> 0 | S133: 0 | T133: =S133*H133 -> 0 | AR133: 4 | AT133: K | AU133: 2 | AY133: ROZPOCET | BE133: =IF(N133="základní",J133,0) -> 0 | BF133: =IF(N133="snížená",J133,0) -> 0 | BG133: =IF(N133="zákl. přenesená",J133,0) -> 0 | BH133: =IF(N133="sníž. přenesená",J133,0) -> 0 | BI133: =IF(N133="nulová",J133,0) -> 0 | BJ133: 1 | BK133: =ROUND(I133*H133,2) -> 0 | BL133: 4 | BM133: 54
...

Sheet Pokyny pro vyplnění
C3: Struktura údajů, formát souboru a metodika pro zpracování
C4: Struktura
C6: Soubor je složen ze záložky Rekapitulace stavby a záložek s názvem soupisu prací pro jednotlivé objekty ve formátu XLSX. Každá ze záložek přitom obsahuje
C7: ještě samostatné sestavy vymezené orámovaním a nadpisem sestavy.
C9: Rekapitulace stavby obsahuje sestavu Rekapitulace stavby a Rekapitulace objektů stavby a soupisů prací.
D10: V sestavě Rekapitulace stavby jsou uvedeny informace identifikující předmět veřejné zakázky na stavební práce, KSO, CC-CZ, CZ-CPV, CZ-CPA a rekapitulaci
D11: celkové nabídkové ceny účastníka.
D13: Termínem "učastník" (resp. zhotovitel) se myslí "účastník zadávacího řízení" ve smyslu zákona o zadávání veřejných zakázek.
D15: V sestavě Rekapitulace objektů stavby a soupisů prací je uvedena rekapitulace stavebních objektů, inženýrských objektů, provozních souborů,
D16: vedlejších a ostatních nákladů a ostatních nákladů s rekapitulací nabídkové ceny za jednotlivé soupisy prací. Na základě údaje Typ je možné
D17: identifikovat, zda se jedná o objekt nebo soupis prací pro daný objekt:
E18: STA | F18: Stavební objekt pozemní
E19: ING | F19: Stavební objekt inženýrský
E20: PRO | F20: Provozní soubor
E21: VON | F21: Vedlejší a ostatní náklady
E22: OST | F22: Ostatní
E23: Soupis | F23: Soupis prací pro daný typ objektu
C25: Soupis prací pro jednotlivé objekty obsahuje sestavy Krycí list soupisu prací, Rekapitulace členění soupisu prací, Soupis prací. Za soupis prací může být považován
C26: i objekt stavby v případě, že neobsahuje podřízenou zakázku.
D27: Krycí list soupisu obsahuje rekapitulaci informací o předmětu veřejné zakázky ze sestavy Rekapitulace stavby, informaci o zařazení objektu do KSO,
D28: CC-CZ, CZ-CPV, CZ-CPA a rekapitulaci celkové nabídkové ceny účastníka za aktuální soupis prací.
D30: Rekapitulace členění soupisu prací obsahuje rekapitulaci soupisu prací ve všech úrovních členění soupisu tak, jak byla tato členění použita (např.
D31: stavební díly, funkční díly, případně jiné členění) s rekapitulací nabídkové ceny.
D33: Soupis prací obsahuje položky veškerých stavebních nebo montážních prací, dodávek materiálů a služeb nezbytných pro zhotovení stavebního objektu,
D34: inženýrského objektu, provozního souboru, vedlejších a ostatních nákladů.
D35: Pro položky soupisu prací se zobrazují následující informace:
E36: PČ | G36: Pořadové číslo položky v aktuálním soupisu
E37: TYP | G37: Typ položky: K - konstrukce, M - materiál, PP - plný popis, PSC - poznámka k souboru cen, P - poznámka k položce, VV - výkaz výměr, FIG - rozpad figur
E38: Kód | G38: Kód položky
E39: Popis | G39: Zkrácený popis položky
E40: MJ | G40: Měrná jednotka položky
E41: Množství | G41: Množství v měrné jednotce
E42: J.cena | G42: Jednotková cena položky. Zadaní může obsahovat namísto J.ceny sloupce J.materiál a J.montáž, jejichž součet definuje
G43: J.cenu položky.
E44: Cena celkem | G44: Celková cena položky daná jako součin množství a j.ceny
E45: Cenová soustava | G45: Příslušnost položky do cenové soustavy
D47: Ke každé položce soupisu prací se na samostatných řádcích může zobrazovat:
E48: Plný popis položky
E49: Poznámka k souboru cen a poznámka zadavatele
E50: Výkaz výměr
D51: Pokud je k řádku výkazu výměr evidovaný údaj ve sloupci Kód, jedná se o definovaný odkaz, na který se může odvolávat výkaz výměr z jiné položky.
C52: Metodika pro zpracování
C54: Jednotlivé sestavy jsou v souboru provázány. Editovatelné pole jsou zvýrazněny žlutým podbarvením, ostatní pole neslouží k editaci a nesmí být jakkoliv
C55: modifikovány.
C57: Účastník je pro podání nabídky povinen vyplnit žlutě podbarvená pole:
D58: Pole Účastník v sestavě Rekapitulace stavby - zde účastník vyplní svůj název (název subjektu)
D59: Pole IČ a DIČ v sestavě Rekapitulace stavby - zde účastník vyplní svoje IČ a DIČ
D60: Datum v sestavě Rekapitulace stavby - zde účastník vyplní datum vytvoření nabídky
D61: J.cena = jednotková cena v sestavě Soupis prací o maximálním počtu desetinných míst uvedených v poli
D62: - pokud sestavy soupisů prací obsahují pole J.cena, měla by být všechna tato pole vyplněna nenulovými
D63: Poznámka - nepovinný údaj pro položku soupisu
D65: V případě, že sestavy soupisů prací neobsahují pole J.cena, potom ve všech soupisech prací obsahují pole:
D66: - J.materiál - jednotková cena materiálu
D67: - J.montáž - jednotková cena montáže
D68: Účastník v tomto případě by měl vyplnit všechna pole J.materiál a pole J.montáž nenulovými kladnými číslicemi. V případech, kdy položka
D69: neobsahuje žádný materiál je přípustné, aby pole J.materiál bylo vyplněno nulou. V případech, kdy položka neobsahuje žádnou montáž je přípustné,
D70: aby pole J.montáž bylo vyplněno nulou. Obě pole - J.materiál, J.Montáž u jedné položky by však neměly být vyplněny nulou.
C75: Rekapitulace stavby
C76: Název | F76: Povinný | H76: Popis | I76: Typ | J76: Max. počet
C77: atributu | F77: (A/N) | J77: znaků
C79: Kód | F79: A | H79: Kód stavby | I79: String | J79: 20
C80: Stavba | F80: A | H80: Název stavby | I80: String | J80: 120
C81: Místo | F81: N | H81: Místo stavby | I81: String | J81: 50
C82: Datum | F82: A | H82: Datum vykonaného exportu | I82: Date
C83: KSO | F83: N | H83: Klasifikace stavebního objektu | I83: String | J83: 15
C84: CC-CZ | F84: N | H84: Klasifikace stavbeních děl | I84: String | J84: 15
C85: CZ-CPV | F85: N | H85: Společný slovník pro veřejné zakázky | I85: String | J85: 20
C86: CZ-CPA | F86: N | H86: Klasifikace produkce podle činností | I86: String | J86: 20
C87: Zadavatel | F87: N | H87: Zadavatel zadaní | I87: String | J87: 50
C88: IČ | F88: N | H88: IČ zadavatele zadaní | I88: String | J88: 20
C89: DIČ | F89: N | H89: DIČ zadavatele zadaní | I89: String | J89: 20
C90: Účastník | F90: N | H90: Účastník veřejné zakázky | I90: String | J90: 50
C91: Projektant | F91: N | H91: Projektant | I91: String | J91: 50
C92: Poznámka | F92: N | H92: Poznámka k zadání | I92: String | J92: 255
C93: Sazba DPH | F93: A | H93: Rekapitulace sazeb DPH u položek soupisů | I93: eGSazbaDph
C94: Základna DPH | F94: A | H94: Základna DPH určena součtem celkové ceny z položek soupisů | I94: Double
C95: Hodnota DPH | F95: A | H95: Hodnota DPH | I95: Double
C96: Cena bez DPH | F96: A | H96: Celková cena bez DPH za celou stavbu. Sčítává se ze všech listů. | I96: Double
C97: Cena s DPH | F97: A | H97: Celková cena s DPH za celou stavbu | I97: Double
C102: Rekapitulace objektů stavby a soupisů prací
C103: Název | F103: Povinný | H103: Popis | I103: Typ | J103: Max. počet
C104: atributu | F104: (A/N) | J104: znaků
C106: Kód | F106: A | H106: Přebírá se z Rekapitulace stavby | I106: String | J106: 20
C107: Stavba | F107: A | H107: Přebírá se z Rekapitulace stavby | I107: String | J107: 120
C108: Místo | F108: N | H108: Přebírá se z Rekapitulace stavby | I108: String | J108: 50
C109: Datum | F109: A | H109: Přebírá se z Rekapitulace stavby | I109: Date
C110: Zadavatel | F110: N | H110: Přebírá se z Rekapitulace stavby | I110: String | J110: 50
C111: Projektant | F111: N | H111: Přebírá se z Rekapitulace stavby | I111: String | J111: 50
C112: Účastník | F112: N | H112: Přebírá se z Rekapitulace stavby | I112: String | J112: 50
C113: Kód | F113: A | H113: Kód objektu | I113: String | J113: 20
C114: Objektu, Soupis prací | F114: A | H114: Název objektu | I114: String | J114: 120
C115: Cena bez DPH | F115: A | H115: Cena bez DPH za daný objekt | I115: Double
C116: Cena s DPH | F116: A | H116: Cena spolu s DPH za daný objekt | I116: Double
C117: Typ | F117: A | H117: Typ zakázky | I117: eGTypZakazky
C122: Krycí list soupisu
C123: Název | F123: Povinný | H123: Popis | I123: Typ | J123: Max. počet
C124: atributu | F124: (A/N) | J124: znaků
C126: Stavba | F126: A | H126: Přebírá se z Rekapitulace stavby | I126: String | J126: 120
C127: Objekt | F127: A | H127: Kód a název objektu | I127: String | J127: 20 + 120
C128: Soupis | F128: A | H128: Kód a název soupisu | I128: String | J128: 20 + 120
...
