Workbook

Sheet Rekapitulace stavby
A1: Export VZ | D1: List obsahuje: | K1: 1) Rekapitulace stavby | W1: 2) Rekapitulace objektů stavby a soupisů prací | BA1: 3.0 | BB1: ZAMOK | BT1: False | BU1: False | BV1: {260a1864-7643-49dd-b408-1809fb2c6bbf}
BS2: 0,01 | BT2: 21
BS3: 0,01 | BT3: 15
D4: REKAPITULACE STAVBY | AS4: v --- níže se nacházejí doplnkové a pomocné údaje k sestavám --- v | BE4: Návod na vyplnění | BS4: 0,001
D5: Kód: | K5: STAKO990045 | BE5: Měnit lze pouze buňky se žlutým podbarvením!_x000D_ _x000D_ 1) v Rekapitulaci stavby vyplňte údaje o Uchazeči (přenesou se do ostatních sestav i v jiných listech)_x000D_ _x000D_ 2) na vybraných listech vyplňte v sestavě Soupis prací ceny u položek_x000D_ _x000D_ Podrobnosti k vyplnění naleznete na poslední záložce s Pokyny pro vyplnění | BS5: 0,01
D6: Stavba: | K6: OBYTNÝ AREÁL RTYNĚ V PODKRKONOŠÍ NA PARCELÁCH 1085/2, 3632/1, K.Ú. RTYNĚ V P. | BS6: 0,1
D7: KSO: | AK7: CC-CZ: | BS7: 1
D8: Místo: | K8: RTYNĚ V PODKRKONOŠÍ | AK8: Datum: | AN8: 3.3.2016 | BS8: 10
BS9: 100
D10: Zadavatel: | AK10: IČ: | BS10: 0,1
E11: MĚSTO RTYNĚ V PODKRKONOŠÍ | AK11: DIČ: | BS11: 0,1
BS12: 0,1
D13: Uchazeč: | AK13: IČ: | AN13: Vyplň údaj | BS13: 0,1
E14: Vyplň údaj | AK14: DIČ: | AN14: Vyplň údaj | BS14: 0,1
BS15: False
D16: Projektant: | AK16: IČ: | BS16: False
E17: STAKO ČERVENÝ KOSTELEC s.r.o., JOSTA s.r.o. | AK17: DIČ: | BS17: True
BS18: 0,01
D19: Poznámka: | BS19: 0,01
BS20: True
D23: Cena bez DPH | AK23: =ROUND(AG51,2) -> #VALUE!
L25: Sazba daně | W25: Základ daně | AK25: Výše daně
D26: DPH | F26: základní | L26: 0.21 | W26: =ROUND(AZ51,2) -> #VALUE! | AK26: =ROUND(AV51,2) -> #VALUE!
F27: snížená | L27: 0.15 | W27: =ROUND(BA51,2) -> #REF! | AK27: =ROUND(AW51,2) -> #REF!
F28: zákl. přenesená | L28: 0.21 | W28: =ROUND(BB51,2) -> #REF! | AK28: 0
F29: sníž. přenesená | L29: 0.15 | W29: =ROUND(BC51,2) -> #REF! | AK29: 0
F30: nulová | L30: 0 | W30: =ROUND(BD51,2) -> #REF! | AK30: 0
D32: Cena s DPH | T32: v | X32: CZK | AK32: =SUM(AK23:AK30) -> #VALUE!
C39: REKAPITULACE OBJEKTŮ STAVBY A SOUPISŮ PRACÍ
C41: Kód: | L41: =K5 -> STAKO990045
C42: Stavba: | L42: =K6 -> OBYTNÝ AREÁL RTYNĚ V PODKRKONOŠÍ NA PARCELÁCH 1085/2, 3632/1, K.Ú. RTYNĚ V P.
C44: Místo: | L44: =IF(K8="","",K8) -> RTYNĚ V PODKRKONOŠÍ | AI44: Datum: | AM44: =IF(AN8= "","",AN8) -> 3.3.2016
C46: Zadavatel: | L46: =IF(E11= "","",E11) -> MĚSTO RTYNĚ V PODKRKONOŠÍ | AI46: Projektant: | AM46: =IF(E17="","",E17) -> STAKO ČERVENÝ KOSTELEC s.r.o., JOSTA s.r.o. | AS46: Informatívní údaje z listů zakázek
C47: Uchazeč: | L47: =IF(E14= "Vyplň údaj","",E14)
C49: Kód | I49: Objekt, Soupis prací | AG49: Cena bez DPH [CZK] | AN49: Cena s DPH [CZK] | AQ49: Typ | AS49: z toho Ostat._x000D_ náklady [CZK] | AT49: DPH [CZK] | AU49: Normohodiny [h] | AV49: DPH základní [CZK] | AW49: DPH snížená [CZK] | AX49: DPH základní přenesená_x000D_ [CZK] | AY49: DPH snížená přenesená_x000D_ [CZK] | AZ49: Základna_x000D_ DPH základní | BA49: Základna_x000D_ DPH snížená | BB49: Základna_x000D_ DPH zákl. přenesená | BC49: Základna_x000D_ DPH sníž. přenesená | BD49: Základna_x000D_ DPH nulová
C51: Náklady stavby celkem | AG51: =ROUND(SUM(AG52:AG53),2) -> #VALUE! | AN51: =SUM(AG51,AT51) -> #VALUE! | AS51: =ROUND(SUM(AS52:AS53),2) -> 0 | AT51: =ROUND(SUM(AV51:AW51),2) -> #VALUE! | AU51: =ROUND(SUM(AU52:AU53),5) -> #REF! | AV51: =ROUND(AZ51*L26,2) -> #VALUE! | AW51: =ROUND(BA51*L27,2) -> #REF! | AX51: =ROUND(BB51*L26,2) -> #REF! | AY51: =ROUND(BC51*L27,2) -> #REF! | AZ51: =ROUND(SUM(AZ52:AZ53),2) -> #VALUE! | BA51: =ROUND(SUM(BA52:BA53),2) -> #REF! | BB51: =ROUND(SUM(BB52:BB53),2) -> #REF! | BC51: =ROUND(SUM(BC52:BC53),2) -> #REF! | BD51: =ROUND(SUM(BD52:BD53),2) -> #REF! | BS51: D | BT51: 0 | BU51: ###NOIMPORT### | BV51: IMPORT | BW51: {260a1864-7643-49dd-b408-1809fb2c6bbf} | BX51: {00000000-0000-0000-0000-000000000000}
A52: / | D52: 001 | J52: TRASA A = KOMUNIKACE - SJEZDY | AG52: ='001 - TRASA A = KOMUNIKAC...'!J27 -> #VALUE! | AN52: =SUM(AG52,AT52) -> #VALUE! | AQ52: STA | AS52: 0 | AT52: =ROUND(SUM(AV52:AW52),2) -> #VALUE! | AU52: ='001 - TRASA A = KOMUNIKAC...'!P86 -> 0 | AV52: ='001 - TRASA A = KOMUNIKAC...'!J30 -> #VALUE! | AW52: ='001 - TRASA A = KOMUNIKAC...'!J31 -> 0 | AX52: ='001 - TRASA A = KOMUNIKAC...'!J32 -> 0 | AY52: ='001 - TRASA A = KOMUNIKAC...'!J33 -> 0 | AZ52: ='001 - TRASA A = KOMUNIKAC...'!F30 -> #VALUE! | BA52: ='001 - TRASA A = KOMUNIKAC...'!F31 -> 0 | BB52: ='001 - TRASA A = KOMUNIKAC...'!F32 -> 0 | BC52: ='001 - TRASA A = KOMUNIKAC...'!F33 -> 0 | BD52: ='001 - TRASA A = KOMUNIKAC...'!F34 -> 0 | BT52: 1 | BV52: IMPORT | BW52: {7a2d7d9e-4eee-4c80-83e5-2a4bb1710584} | BX52: {260a1864-7643-49dd-b408-1809fb2c6bbf} | CM52: 2
A53: / | D53: 002 | J53: TRASA B = KOMUNIKACE - SJEZDY | AG53: =#REF! -> #REF! | AN53: =SUM(AG53,AT53) -> #REF! | AQ53: STA | AS53: 0 | AT53: =ROUND(SUM(AV53:AW53),2) -> #REF! | AU53: =#REF! -> #REF! | AV53: =#REF! -> #REF! | AW53: =#REF! -> #REF! | AX53: =#REF! -> #REF! | AY53: =#REF! -> #REF! | AZ53: =#REF! -> #REF! | BA53: =#REF! -> #REF! | BB53: =#REF! -> #REF! | ... BD53: =#REF! -> #REF! | BT53: 1 | BV53: IMPORT | BW53: {b171578e-9d09-447f-a772-bfc04a20b159} | BX53: {260a1864-7643-49dd-b408-1809fb2c6bbf} | CM53: 2

Sheet 001 - TRASA A = KOMUNIKAC...
D1: List obsahuje: | F1: 1) Krycí list soupisu | G1: 2) Rekapitulace | J1: 3) Soupis prací | K1: Zpět na list: | L1: Rekapitulace stavby
AT2: {7a2d7d9e-4eee-4c80-83e5-2a4bb1710584}
AT3: 2
D4: KRYCÍ LIST SOUPISU | M4: v --- níže se nacházejí doplnkové a pomocné údaje k sestavám --- v | AT4: False
D6: Stavba:
E7: ='Rekapitulace stavby'!K6 -> OBYTNÝ AREÁL RTYNĚ V PODKRKONOŠÍ NA PARCELÁCH 1085/2, 3632/1, K.Ú. RTYNĚ V P.
D8: Objekt:
E9: 001 - TRASA A = KOMUNIKACE - SJEZDY
D11: KSO: | I11: CC-CZ:
D12: Místo: | F12: RTYNĚ V PODKRKONOŠÍ | I12: Datum: | J12: ='Rekapitulace stavby'!AN8 -> 3.3.2016
D14: Zadavatel: | I14: IČ:
E15: MĚSTO RTYNĚ V PODKRKONOŠÍ | I15: DIČ:
D17: Uchazeč: | I17: IČ: | J17: =IF('Rekapitulace stavby'!AN13="Vyplň údaj","",IF('Rekapitulace stavby'!AN13="","",'Rekapitulace stavby'!AN13))
E18: =IF('Rekapitulace stavby'!E14="Vyplň údaj","",IF('Rekapitulace stavby'!E14="","",'Rekapitulace stavby'!E14)) | I18: DIČ: | J18: =IF('Rekapitulace stavby'!AN14="Vyplň údaj","",IF('Rekapitulace stavby'!AN14="","",'Rekapitulace stavby'!AN14))
D20: Projektant: | I20: IČ:
E21: STAKO ČERVENÝ KOSTELEC s.r.o., JOSTA s.r.o. | I21: DIČ:
D23: Poznámka:
D27: Cena bez DPH | J27: =ROUND(J86,2) -> #VALUE!
F29: Základ daně | I29: Sazba daně | J29: Výše daně
D30: DPH | E30: základní | F30: =ROUND(SUM(BE86:BE220), 2) -> #VALUE! | I30: 0.21 | J30: =ROUND(ROUND((SUM(BE86:BE220)), 2)*I30, 2) -> #VALUE!
E31: snížená | F31: =ROUND(SUM(BF86:BF220), 2) -> 0 | I31: 0.15 | J31: =ROUND(ROUND((SUM(BF86:BF220)), 2)*I31, 2) -> 0
E32: zákl. přenesená | F32: =ROUND(SUM(BG86:BG220), 2) -> 0 | I32: 0.21 | J32: 0
E33: sníž. přenesená | F33: =ROUND(SUM(BH86:BH220), 2) -> 0 | I33: 0.15 | J33: 0
E34: nulová | F34: =ROUND(SUM(BI86:BI220), 2) -> 0 | I34: 0 | J34: 0
D36: Cena s DPH | G36: v | H36: CZK | J36: =SUM(J27:J34) -> #VALUE!
C42: REKAPITULACE ČLENĚNÍ SOUPISU PRACÍ
C44: Stavba:
E45: =E7 -> OBYTNÝ AREÁL RTYNĚ V PODKRKONOŠÍ NA PARCELÁCH 1085/2, 3632/1, K.Ú. RTYNĚ V P.
C46: Objekt:
E47: =E9 -> 001 - TRASA A = KOMUNIKACE - SJEZDY
C49: Místo: | F49: =F12 -> RTYNĚ V PODKRKONOŠÍ | I49: Datum: | J49: =IF(J12="","",J12) -> 3.3.2016
C51: Zadavatel: | F51: =E15 -> MĚSTO RTYNĚ V PODKRKONOŠÍ | I51: Projektant: | J51: =E21 -> STAKO ČERVENÝ KOSTELEC s.r.o., JOSTA s.r.o.
C52: Uchazeč: | F52: =IF(E18="","",E18)
C54: Kód dílu - Popis | J54: Cena celkem [CZK]
C56: Náklady soupisu celkem | J56: =J86 -> #VALUE! | AU56: -1
D57: HSV - Práce a dodávky HSV | J57: =J87 -> #VALUE!
D58: 1 - Zemní práce | J58: =J88 -> #VALUE!
D59: 56 - Podkladní vrstvy komunikací, letišť a ploch | J59: =J128 -> 0
D60: 57 - Kryty pozemních komunikací letišť a ploch z kameniva nebo živičné | J60: =J139 -> 0
D61: 59 - Kryty pozemních komunikací, letišť a ploch dlážděných (předlažby) | J61: =J144 -> 0
D62: 89 - Ostatní konstrukce | J62: =J163 -> 0
D63: 91 - Doplňující konstrukce a práce pozemních komunikací, letišť a ploch | J63: =J171 -> 0
D64: 96 - Bourání konstrukcí | J64: =J193 -> 0
D65: 998 - Přesun hmot | J65: =J201 -> 0
D66: VRN - Vedlejší rozpočtové náklady | J66: =J203 -> 0
C73: SOUPIS PRACÍ
C75: Stavba:
E76: =E7 -> OBYTNÝ AREÁL RTYNĚ V PODKRKONOŠÍ NA PARCELÁCH 1085/2, 3632/1, K.Ú. RTYNĚ V P.
C77: Objekt:
E78: =E9 -> 001 - TRASA A = KOMUNIKACE - SJEZDY
C80: Místo: | F80: =F12 -> RTYNĚ V PODKRKONOŠÍ | I80: Datum: | J80: =IF(J12="","",J12) -> 3.3.2016
C82: Zadavatel: | F82: =E15 -> MĚSTO RTYNĚ V PODKRKONOŠÍ | I82: Projektant: | J82: =E21 -> STAKO ČERVENÝ KOSTELEC s.r.o., JOSTA s.r.o.
C83: Uchazeč: | F83: =IF(E18="","",E18)
C85: PČ | D85: Typ | E85: Kód | F85: Popis | G85: MJ | H85: Množství | I85: J.cena [CZK] | J85: Cena celkem [CZK] | K85: Cenová soustava | M85: Poznámka | N85: DPH | O85: J. Nh [h] | P85: Nh celkem [h] | Q85: J. hmotnost_x000D_ [t] | R85: Hmotnost_x000D_ celkem [t] | S85: J. suť [t] | T85: Suť Celkem [t]
C86: Náklady soupisu celkem | J86: =BK86 -> #VALUE! | P86: =P87+P203 -> 0 | R86: =R87+R203 -> 489.09294 | T86: =T87+T203 -> 20.21 | AT86: D | AU86: -1 | BK86: =BK87+BK203 -> #VALUE!
D87: D | E87: HSV | F87: Práce a dodávky HSV | J87: =BK87 -> #VALUE! | P87: =P88+P128+P139+P144+P163+P171+P193+P201 -> 0 | R87: =R88+R128+R139+R144+R163+R171+R193+R201 -> 489.09294 | T87: =T88+T128+T139+T144+T163+T171+T193+T201 -> 20.21 | AR87: 1 | AT87: D | AU87: 0 | AY87: ROZPOCET | BK87: =BK88+BK128+BK139+BK144+BK163+BK171+BK193+BK201 -> #VALUE!
D88: D | E88: 1 | F88: Zemní práce | J88: =BK88 -> #VALUE! | P88: =SUM(P89:P127) -> 0 | R88: =SUM(R89:R127) -> 0.009278 | T88: =SUM(T89:T127) -> 0 | AR88: 1 | AT88: D | AU88: 1 | AY88: ROZPOCET | BK88: =SUM(BK89:BK127) -> #VALUE!
C89: 1 | D89: K | E89: 122102201 | F89: Odkopávky a prokopávky nezapažené pro silnice objemu do 100 m3 v hornině tř. 1 a 2 | G89: m3 | H89: 86.596 | J89: =ROUND(I89*H89,2) -> 0 | K89: CS ÚRS 2016 01 | N89: základní | P89: =O89*H89 -> 0 | Q89: 0 | R89: =Q89*H89 -> 0 | S89: 0 | T89: =S89*H89 -> 0 | AR89: 4 | AT89: K | AU89: 2 | AY89: ROZPOCET | BE89: =IF(N89="základní",J89,0) -> 0 | BF89: =IF(N89="snížená",J89,0) -> 0 | BG89: =IF(N89="zákl. přenesená",J89,0) -> 0 | BH89: =IF(N89="sníž. přenesená",J89,0) -> 0 | BI89: =IF(N89="nulová",J89,0) -> 0 | BJ89: 1 | BK89: =ROUND(I89*H89,2) -> 0 | BL89: 4 | BM89: -475368926
D90: VV | F90: pro obrubníky po vnějších stranách komunikace | AT90: VV | AU90: 2 | AV90: 1 | AW90: True | AX90: 0 | AY90: ROZPOCET
D91: VV | F91: (278,61+276,9+58,53+4,5)*0,4*0,35 | H91: 86.596 | AT91: VV | AU91: 2 | AV91: 2 | AW91: True | AX91: 1 | AY91: ROZPOCET
C92: 2 | D92: K | E92: 162301101 | F92: Vodorovné přemístění do 500 m výkopku/sypaniny z horniny tř. 1 až 4 | G92: m3 | H92: 129.894 | J92: =ROUND(I92*H92,2) -> #VALUE! | K92: CS ÚRS 2016 01 | N92: základní | P92: =O92*H92 -> 0 | Q92: 0 | R92: =Q92*H92 -> 0 | S92: 0 | T92: =S92*H92 -> 0 | AR92: 4 | AT92: K | AU92: 2 | AY92: ROZPOCET | BE92: =IF(N92="základní",J92,0) -> #VALUE! | BF92: =IF(N92="snížená",J92,0) -> 0 | BG92: =IF(N92="zákl. přenesená",J92,0) -> 0 | BH92: =IF(N92="sníž. přenesená",J92,0) -> 0 | BI92: =IF(N92="nulová",J92,0) -> 0 | BJ92: 1 | BK92: =ROUND(I92*H92,2) -> #VALUE! | BL92: 4 | BM92: 839353115
D93: VV | F93: "odvoz výkopku na meziskládku" 86,596 | H93: 86.596 | AT93: VV | AU93: 2 | AV93: 2 | AW93: True | AX93: 0 | AY93: ROZPOCET
D94: VV | F94: "zpětný odvoz na obsypy" 43,298 | H94: 43.298 | AT94: VV | AU94: 2 | AV94: 2 | AW94: True | AX94: 0 | AY94: ROZPOCET
D95: VV | F95: Součet | H95: 129.894 | AT95: VV | AU95: 2 | AV95: 4 | AW95: True | AX95: 1 | AY95: ROZPOCET
C96: 3 | D96: K | E96: 162501101 | F96: Vodorovné přemístění do 2500 m výkopku z horniny tř. 1 až 4 | G96: m3 | H96: 43.298 | J96: =ROUND(I96*H96,2) -> 0 | N96: základní | P96: =O96*H96 -> 0 | Q96: 0 | R96: =Q96*H96 -> 0 | S96: 0 | T96: =S96*H96 -> 0 | AR96: 4 | AT96: K | AU96: 2 | AY96: ROZPOCET | BE96: =IF(N96="základní",J96,0) -> 0 | BF96: =IF(N96="snížená",J96,0) -> 0 | BG96: =IF(N96="zákl. přenesená",J96,0) -> 0 | BH96: =IF(N96="sníž. přenesená",J96,0) -> 0 | BI96: =IF(N96="nulová",J96,0) -> 0 | BJ96: 1 | BK96: =ROUND(I96*H96,2) -> 0 | BL96: 4 | BM96: -2083277266
D97: VV | F97: "odvoz přebytečného výkopku na skládku" 86,596-43,298 | H97: 43.298 | AT97: VV | AU97: 2 | AV97: 2 | AW97: True | AX97: 1 | AY97: ROZPOCET
C98: 4 | D98: K | E98: 167101101 | F98: Nakládání výkopku z hornin tř. 1 až 4 do 100 m3 | G98: m3 | H98: 86.596 | J98: =ROUND(I98*H98,2) -> 0 | K98: CS ÚRS 2016 01 | N98: základní | P98: =O98*H98 -> 0 | Q98: 0 | R98: =Q98*H98 -> 0 | S98: 0 | T98: =S98*H98 -> 0 | AR98: 4 | AT98: K | AU98: 2 | AY98: ROZPOCET | BE98: =IF(N98="základní",J98,0) -> 0 | BF98: =IF(N98="snížená",J98,0) -> 0 | BG98: =IF(N98="zákl. přenesená",J98,0) -> 0 | BH98: =IF(N98="sníž. přenesená",J98,0) -> 0 | BI98: =IF(N98="nulová",J98,0) -> 0 | BJ98: 1 | BK98: =ROUND(I98*H98,2) -> 0 | BL98: 4 | BM98: -2029316336
D99: VV | F99: nakládání výkopku na meziskládce | AT99: VV | AU99: 2 | AV99: 1 | AW99: True | AX99: 0 | AY99: ROZPOCET
D100: VV | F100: "pro zásypy kolem obrubníků" 43,298 | H100: 43.298 | AT100: VV | AU100: 2 | AV100: 2 | AW100: True | AX100: 0 | AY100: ROZPOCET
D101: VV | F101: "přebytečný výkopek" 43,298 | H101: 43.298 | AT101: VV | AU101: 2 | AV101: 2 | AW101: True | AX101: 0 | AY101: ROZPOCET
D102: VV | F102: Součet | H102: 86.596 | AT102: VV | AU102: 2 | AV102: 4 | AW102: True | AX102: 1 | AY102: ROZPOCET
C103: 5 | D103: K | E103: 174101101 | F103: Zásyp jam, šachet rýh nebo kolem objektů sypaninou se zhutněním | G103: m3 | H103: 43.298 | J103: =ROUND(I103*H103,2) -> 0 | K103: CS ÚRS 2016 01 | N103: základní | P103: =O103*H103 -> 0 | Q103: 0 | R103: =Q103*H103 -> 0 | S103: 0 | T103: =S103*H103 -> 0 | AR103: 4 | AT103: K | AU103: 2 | AY103: ROZPOCET | BE103: =IF(N103="základní",J103,0) -> 0 | BF103: =IF(N103="snížená",J103,0) -> 0 | BG103: =IF(N103="zákl. přenesená",J103,0) -> 0 | BH103: =IF(N103="sníž. přenesená",J103,0) -> 0 | BI103: =IF(N103="nulová",J103,0) -> 0 | BJ103: 1 | BK103: =ROUND(I103*H103,2) -> 0 | BL103: 4 | BM103: 1258659898
D104: VV | F104: obsyp obrubníků | AT104: VV | AU104: 2 | AV104: 1 | AW104: True | AX104: 0 | AY104: ROZPOCET
D105: VV | F105: (278,61+276,9+58,53+4,5)*0,4*0,35 | H105: 86.596 | AT105: VV | AU105: 2 | AV105: 2 | AW105: True | AX105: 0 | AY105: ROZPOCET
D106: VV | F106: odpočet obrubníků včetně beton. lože a beton. opěry | AT106: VV | AU106: 2 | AV106: 1 | AW106: True | AX106: 0 | AY106: ROZPOCET
D107: VV | F107: -(278,61+276,9+58,53+4,5)*0,2*0,35 | H107: -43.298 | AT107: VV | AU107: 2 | AV107: 2 | AW107: True | AX107: 0 | AY107: ROZPOCET
D108: VV | F108: Součet | H108: 43.298 | AT108: VV | AU108: 2 | AV108: 4 | AW108: True | AX108: 1 | AY108: ROZPOCET
C109: 6 | D109: K | E109: 171201211 | F109: Poplatek za uložení odpadu ze sypaniny na skládce (skládkovné) | G109: t | H109: 77.936 | J109: =ROUND(I109*H109,2) -> 0 | N109: základní | P109: =O109*H109 -> 0 | Q109: 0 | R109: =Q109*H109 -> 0 | S109: 0 | T109: =S109*H109 -> 0 | AR109: 4 | AT109: K | AU109: 2 | AY109: ROZPOCET | BE109: =IF(N109="základní",J109,0) -> 0 | BF109: =IF(N109="snížená",J109,0) -> 0 | BG109: =IF(N109="zákl. přenesená",J109,0) -> 0 | BH109: =IF(N109="sníž. přenesená",J109,0) -> 0 | BI109: =IF(N109="nulová",J109,0) -> 0 | BJ109: 1 | BK109: =ROUND(I109*H109,2) -> 0 | BL109: 4 | BM109: 1567859123
D110: VV | F110: 43,298*1,8 | H110: 77.936 | AT110: VV | AU110: 2 | AV110: 2 | AW110: True | AX110: 1 | AY110: ROZPOCET
C111: 7 | D111: K | E111: 180402111 | F111: Založení parkového trávníku výsevem v rovině a ve svahu do 1:5 | G111: m2 | H111: 185.562 | J111: =ROUND(I111*H111,2) -> 0 | N111: základní | P111: =O111*H111 -> 0 | Q111: 0 | R111: =Q111*H111 -> 0 | S111: 0 | T111: =S111*H111 -> 0 | AR111: 4 | AT111: K | AU111: 2 | AY111: ROZPOCET | BE111: =IF(N111="základní",J111,0) -> 0 | BF111: =IF(N111="snížená",J111,0) -> 0 | BG111: =IF(N111="zákl. přenesená",J111,0) -> 0 | BH111: =IF(N111="sníž. přenesená",J111,0) -> 0 | BI111: =IF(N111="nulová",J111,0) -> 0 | BJ111: 1 | BK111: =ROUND(I111*H111,2) -> 0 | BL111: 4 | BM111: -1777733543
D112: VV | F112: kolem vnějších obrubníků | AT112: VV | AU112: 2 | AV112: 1 | AW112: True | AX112: 0 | AY112: ROZPOCET
D113: VV | F113: (278,61+276,9+58,53+4,5)*0,3 | H113: 185.562 | AT113: VV | AU113: 2 | AV113: 2 | AW113: True | AX113: 1 | AY113: ROZPOCET
C114: 8 | D114: K | E114: 181101102 | F114: Úprava pláně v zářezech v hornině tř. 1 až 4 se zhutněním | G114: m2 | H114: 185.562 | J114: =ROUND(I114*H114,2) -> 0 | N114: základní | P114: =O114*H114 -> 0 | Q114: 0 | R114: =Q114*H114 -> 0 | S114: 0 | T114: =S114*H114 -> 0 | AR114: 4 | AT114: K | AU114: 2 | AY114: ROZPOCET | BE114: =IF(N114="základní",J114,0) -> 0 | BF114: =IF(N114="snížená",J114,0) -> 0 | BG114: =IF(N114="zákl. přenesená",J114,0) -> 0 | BH114: =IF(N114="sníž. přenesená",J114,0) -> 0 | BI114: =IF(N114="nulová",J114,0) -> 0 | BJ114: 1 | BK114: =ROUND(I114*H114,2) -> 0 | BL114: 4 | BM114: 1530406418
D115: VV | F115: po osazení obrubníků | AT115: VV | AU115: 2 | AV115: 1 | AW115: True | AX115: 0 | AY115: ROZPOCET
D116: VV | F116: (278,61+276,9+58,53+4,5)*0,3 | H116: 185.562 | AT116: VV | AU116: 2 | AV116: 2 | AW116: True | AX116: 1 | AY116: ROZPOCET
C117: 9 | D117: K | E117: 182303111a | F117: Doplnění ornice na travnatých plochách tl 50 mm rovina v rovinně a svahu do 1:5 včetně její dodávky | G117: m2 | H117: 185.562 | J117: =ROUND(I117*H117,2) -> 0 | N117: základní | P117: =O117*H117 -> 0 | Q117: 0 | R117: =Q117*H117 -> 0 | S117: 0 | T117: =S117*H117 -> 0 | AR117: 4 | AT117: K | AU117: 2 | AY117: ROZPOCET | BE117: =IF(N117="základní",J117,0) -> 0 | BF117: =IF(N117="snížená",J117,0) -> 0 | BG117: =IF(N117="zákl. přenesená",J117,0) -> 0 | BH117: =IF(N117="sníž. přenesená",J117,0) -> 0 | BI117: =IF(N117="nulová",J117,0) -> 0 | BJ117: 1 | BK117: =ROUND(I117*H117,2) -> 0 | BL117: 4 | BM117: -1841769148
D118: VV | F118: po osazení záhonových obrubníků | AT118: VV | AU118: 2 | AV118: 1 | AW118: True | AX118: 0 | AY118: ROZPOCET
D119: VV | F119: (278,61+276,9+58,53+4,5)*0,3 | H119: 185.562 | AT119: VV | AU119: 2 | AV119: 2 | AW119: True | AX119: 1 | AY119: ROZPOCET
C120: 10 | D120: M | E120: 005724100 | F120: osivo směs travní parková rekreační | G120: kg | H120: 9.278 | J120: =ROUND(I120*H120,2) -> 0 | N120: základní | P120: =O120*H120 -> 0 | Q120: 0.001 | R120: =Q120*H120 -> 0.009278 | S120: 0 | T120: =S120*H120 -> 0 | AR120: 8 | AT120: M | AU120: 2 | AY120: ROZPOCET | BE120: =IF(N120="základní",J120,0) -> 0 | BF120: =IF(N120="snížená",J120,0) -> 0 | BG120: =IF(N120="zákl. přenesená",J120,0) -> 0 | BH120: =IF(N120="sníž. přenesená",J120,0) -> 0 | BI120: =IF(N120="nulová",J120,0) -> 0 | BJ120: 1 | BK120: =ROUND(I120*H120,2) -> 0 | BL120: 4 | BM120: 1433661720
D121: VV | F121: po osazení záhonových obrubníků | AT121: VV | AU121: 2 | AV121: 1 | AW121: True | AX121: 0 | AY121: ROZPOCET
D122: VV | F122: 185,562/20 | H122: 9.278 | AT122: VV | AU122: 2 | AV122: 2 | AW122: True | AX122: 1 | AY122: ROZPOCET
C123: 11 | D123: K | E123: 215901101 | F123: Zhutnění podloží z hornin soudržných do 92% PS nebo nesoudržných sypkých I(d) do 0,8 | G123: m2 | H123: 2555.515 | J123: =ROUND(I123*H123,2) -> 0 | N123: základní | P123: =O123*H123 -> 0 | Q123: 0 | R123: =Q123*H123 -> 0 | S123: 0 | T123: =S123*H123 -> 0 | AR123: 4 | AT123: K | AU123: 2 | AY123: ROZPOCET | BE123: =IF(N123="základní",J123,0) -> 0 | BF123: =IF(N123="snížená",J123,0) -> 0 | BG123: =IF(N123="zákl. přenesená",J123,0) -> 0 | BH123: =IF(N123="sníž. přenesená",J123,0) -> 0 | BI123: =IF(N123="nulová",J123,0) -> 0 | BJ123: 1 | BK123: =ROUND(I123*H123,2) -> 0 | BL123: 4 | BM123: 1877081968
D124: VV | F124: "ozn. 1 - skladba komunikace vozidlová - živice" 1722,25 | H124: 1722.25 | AT124: VV | AU124: 2 | AV124: 2 | AW124: True | AX124: 0 | AY124: ROZPOCET
D125: VV | F125: ozn. 2 - vjezdy k RD a chodníky | AT125: VV | AU125: 2 | AV125: 1 | AW125: True | AX125: 0 | AY125: ROZPOCET
D126: VV | F126: (278,61+276,9)*1,5 | H126: 833.265 | AT126: VV | AU126: 2 | AV126: 2 | AW126: True | AX126: 0 | AY126: ROZPOCET
D127: VV | F127: Součet | H127: 2555.515 | AT127: VV | AU127: 2 | AV127: 4 | AW127: True | AX127: 1 | AY127: ROZPOCET
D128: D | E128: 56 | F128: Podkladní vrstvy komunikací, letišť a ploch | J128: =BK128 -> 0 | P128: =SUM(P129:P138) -> 0 | R128: =SUM(R129:R138) -> 0 | T128: =SUM(T129:T138) -> 0 | AR128: 1 | AT128: D | AU128: 1 | AY128: ROZPOCET | BK128: =SUM(BK129:BK138) -> 0
C129: 12 | D129: K | E129: 564801111a | F129: Podklad ze štěrkodrtě ŠD tl 25 mm | G129: m2 | H129: 1722.25 | J129: =ROUND(I129*H129,2) -> 0 | N129: základní | P129: =O129*H129 -> 0 | Q129: 0 | R129: =Q129*H129 -> 0 | S129: 0 | T129: =S129*H129 -> 0 | AR129: 4 | AT129: K | AU129: 2 | AY129: ROZPOCET | BE129: =IF(N129="základní",J129,0) -> 0 | BF129: =IF(N129="snížená",J129,0) -> 0 | BG129: =IF(N129="zákl. přenesená",J129,0) -> 0 | BH129: =IF(N129="sníž. přenesená",J129,0) -> 0 | BI129: =IF(N129="nulová",J129,0) -> 0 | BJ129: 1 | BK129: =ROUND(I129*H129,2) -> 0 | BL129: 4 | BM129: 1518021049
D130: VV | F130: průměrná tloušťka podkladní vrstvy 25 mm | AT130: VV | AU130: 2 | AV130: 1 | AW130: True | AX130: 0 | AY130: ROZPOCET
D131: VV | F131: "ozn. 1 - skladba komunikace vozidlová - živice" 1722,25 | H131: 1722.25 | AT131: VV | AU131: 2 | AV131: 2 | AW131: True | AX131: 1 | AY131: ROZPOCET
...

Sheet Pokyny pro vyplnění
C3: Struktura údajů, formát souboru a metodika pro zpracování
C4: Struktura
C6: Soubor je složen ze záložky Rekapitulace stavby a záložek s názvem soupisu prací pro jednotlivé objekty ve formátu XLS. Každá ze záložek přitom obsahuje
C7: ještě samostatné sestavy vymezené orámovaním a nadpisem sestavy.
C9: Rekapitulace stavby obsahuje sestavu Rekapitulace stavby a Rekapitulace objektů stavby a soupisů prací.
D10: V sestavě Rekapitulace stavby jsou uvedeny informace identifikující předmět veřejné zakázky na stavební práce, KSO, CC-CZ, CZ-CPV, CZ-CPA a rekapitulaci
D11: celkové nabídkové ceny uchazeče.
D13: V sestavě Rekapitulace objektů stavby a soupisů prací je uvedena rekapitulace stavebních objektů, inženýrských objektů, provozních souborů,
D14: vedlejších a ostatních nákladů a ostatních nákladů s rekapitulací nabídkové ceny za jednotlivé soupisy prací. Na základě údaje Typ je možné
D15: identifikovat, zda se jedná o objekt nebo soupis prací pro daný objekt:
E16: STA | F16: Stavební objekt pozemní
E17: ING | F17: Stavební objekt inženýrský
E18: PRO | F18: Provozní soubor
E19: VON | F19: Vedlejší a ostatní náklady
E20: OST | F20: Ostatní
E21: Soupis | F21: Soupis prací pro daný typ objektu
C23: Soupis prací pro jednotlivé objekty obsahuje sestavy Krycí list soupisu, Rekapitulace členění soupisu prací, Soupis prací. Za soupis prací může být považován
C24: i objekt stavby v případě, že neobsahuje podřízenou zakázku.
D25: Krycí list soupisu obsahuje rekapitulaci informací o předmětu veřejné zakázky ze sestavy Rekapitulace stavby, informaci o zařazení objektu do KSO,
D26: CC-CZ, CZ-CPV, CZ-CPA a rekapitulaci celkové nabídkové ceny uchazeče za aktuální soupis prací.
D28: Rekapitulace členění soupisu prací obsahuje rekapitulaci soupisu prací ve všech úrovních členění soupisu tak, jak byla tato členění použita (např.
D29: stavební díly, funkční díly, případně jiné členění) s rekapitulací nabídkové ceny.
D31: Soupis prací obsahuje položky veškerých stavebních nebo montážních prací, dodávek materiálů a služeb nezbytných pro zhotovení stavebního objektu,
D32: inženýrského objektu, provozního souboru, vedlejších a ostatních nákladů.
D33: Pro položky soupisu prací se zobrazují následující informace:
E34: PČ | G34: Pořadové číslo položky v aktuálním soupisu
E35: TYP | G35: Typ položky: K - konstrukce, M - materiál, PP - plný popis, PSC - poznámka k souboru cen, P - poznámka k položce, VV - výkaz výměr
E36: Kód | G36: Kód položky
E37: Popis | G37: Zkrácený popis položky
E38: MJ | G38: Měrná jednotka položky
E39: Množství | G39: Množství v měrné jednotce
E40: J.cena | G40: Jednotková cena položky. Zadaní může obsahovat namísto J.ceny sloupce J.materiál a J.montáž, jejichž součet definuje
G41: J.cenu položky.
E42: Cena celkem | G42: Celková cena položky daná jako součin množství a j.ceny
E43: Cenová soustava | G43: Příslušnost položky do cenové soustavy
D45: Ke každé položce soupisu prací se na samostatných řádcích může zobrazovat:
E46: Plný popis položky
E47: Poznámka k souboru cen a poznámka zadavatele
E48: Výkaz výměr
D49: Pokud je k řádku výkazu výměr evidovaný údaj ve sloupci Kód, jedná se o definovaný odkaz, na který se může odvolávat výkaz výměr z jiné položky.
C50: Metodika pro zpracování
C52: Jednotlivé sestavy jsou v souboru provázány. Editovatelné pole jsou zvýrazněny žlutým podbarvením, ostatní pole neslouží k editaci a nesmí být jakkoliv
C53: modifikovány.
C55: Uchazeč je pro podání nabídky povinen vyplnit žlutě podbarvená pole:
D56: Pole Uchazeč v sestavě Rekapitulace stavby - zde uchazeč vyplní svůj název (název subjektu)
D57: Pole IČ a DIČ v sestavě Rekapitulace stavby - zde uchazeč vyplní svoje IČ a DIČ
D58: Datum v sestavě Rekapitulace stavby - zde uchazeč vyplní datum vytvoření nabídky
D59: J.cena = jednotková cena v sestavě Soupis prací o maximálním počtu desetinných míst uvedených v poli
D60: - pokud sestavy soupisů prací obsahují pole J.cena, musí být všechna tato pole vyplněna nenulovými kladnými číslicemi
D61: Poznámka - nepovinný údaj pro položku soupisu
D63: V případě, že sestavy soupisů prací neobsahují pole J.cena, potom ve všech soupisech prací obsahují pole:
D64: - J.materiál - jednotková cena materiálu
D65: - J.montáž - jednotková cena montáže
D66: Uchazeč je v tomto případě povinen vyplnit všechna pole J.materiál a pole J.montáž nenulovými kladnými číslicemi. V případech, kdy položka
D67: neobsahuje žádný materiál je přípustné, aby pole J.materiál bylo vyplněno nulou. V případech, kdy položka neobsahuje žádnou montáž je přípustné,
D68: aby pole J.montáž bylo vyplněno nulou. Není však přípustné, aby obě pole - J.materiál, J.Montáž byly u jedné položky vyplněny nulou.
C73: Rekapitulace stavby
C74: Název | F74: Povinný | H74: Popis | I74: Typ | J74: Max. počet
C75: atributu | F75: (A/N) | J75: znaků
C77: Kód | F77: A | H77: Kód stavby | I77: String | J77: 20
C78: Stavba | F78: A | H78: Název stavby | I78: String | J78: 120
C79: Místo | F79: N | H79: Místo stavby | I79: String | J79: 50
C80: Datum | F80: A | H80: Datum vykonaného exportu | I80: Date
C81: KSO | F81: N | H81: Klasifikace stavebního objektu | I81: String | J81: 15
C82: CC-CZ | F82: N | H82: Klasifikace stavbeních děl | I82: String | J82: 15
C83: CZ-CPV | F83: N | H83: Společný slovník pro veřejné zakázky | I83: String | J83: 20
C84: CZ-CPA | F84: N | H84: Klasifikace produkce podle činností | I84: String | J84: 20
C85: Zadavatel | F85: N | H85: Zadavatel zadaní | I85: String | J85: 50
C86: IČ | F86: N | H86: IČ zadavatele zadaní | I86: String | J86: 20
C87: DIČ | F87: N | H87: DIČ zadavatele zadaní | I87: String | J87: 20
C88: Uchazeč | F88: N | H88: Uchazeč veřejné zakázky | I88: String | J88: 50
C89: Projektant | F89: N | H89: Projektant | I89: String | J89: 50
C90: Poznámka | F90: N | H90: Poznámka k zadání | I90: String | J90: 255
C91: Sazba DPH | F91: A | H91: Rekapitulace sazeb DPH u položek soupisů | I91: eGSazbaDph
C92: Základna DPH | F92: A | H92: Základna DPH určena součtem celkové ceny z položek soupisů | I92: Double
C93: Hodnota DPH | F93: A | H93: Hodnota DPH | I93: Double
C94: Cena bez DPH | F94: A | H94: Celková cena bez DPH za celou stavbu. Sčítává se ze všech listů. | I94: Double
C95: Cena s DPH | F95: A | H95: Celková cena s DPH za celou stavbu | I95: Double
C100: Rekapitulace objektů stavby a soupisů prací
C101: Název | F101: Povinný | H101: Popis | I101: Typ | J101: Max. počet
C102: atributu | F102: (A/N) | J102: znaků
C104: Kód | F104: A | H104: Přebírá se z Rekapitulace stavby | I104: String | J104: 20
C105: Stavba | F105: A | H105: Přebírá se z Rekapitulace stavby | I105: String | J105: 120
C106: Místo | F106: N | H106: Přebírá se z Rekapitulace stavby | I106: String | J106: 50
C107: Datum | F107: A | H107: Přebírá se z Rekapitulace stavby | I107: Date
C108: Zadavatel | F108: N | H108: Přebírá se z Rekapitulace stavby | I108: String | J108: 50
C109: Projektant | F109: N | H109: Přebírá se z Rekapitulace stavby | I109: String | J109: 50
C110: Uchazeč | F110: N | H110: Přebírá se z Rekapitulace stavby | I110: String | J110: 50
C111: Kód | F111: A | H111: Kód objektu | I111: String | J111: 20
C112: Objektu, Soupis prací | F112: A | H112: Název objektu | I112: String | J112: 120
C113: Cena bez DPH | F113: A | H113: Cena bez DPH za daný objekt | I113: Double
C114: Cena s DPH | F114: A | H114: Cena spolu s DPH za daný objekt | I114: Double
C115: Typ | F115: A | H115: Typ zakázky | I115: eGTypZakazky
C120: Krycí list soupisu
C121: Název | F121: Povinný | H121: Popis | I121: Typ | J121: Max. počet
C122: atributu | F122: (A/N) | J122: znaků
C124: Stavba | F124: A | H124: Přebírá se z Rekapitulace stavby | I124: String | J124: 120
C125: Objekt | F125: A | H125: Kód a název objektu | I125: String | J125: 20 + 120
C126: Soupis | F126: A | H126: Kód a název soupisu | I126: String | J126: 20 + 120
C127: KSO | F127: N | H127: Klasifikace stavebního objektu | I127: String | J127: 15
...
