Workbook

Sheet Rekapitulace stavby
A1: Export VZ | D1: List obsahuje: | K1: 1) Rekapitulace stavby | W1: 2) Rekapitulace objektů stavby a soupisů prací | BA1: 3.0 | BB1: ZAMOK | BT1: False | BU1: False | BV1: {260a1864-7643-49dd-b408-1809fb2c6bbf}
BS2: 0,01 | BT2: 21
BS3: 0,01 | BT3: 15
D4: REKAPITULACE STAVBY | AS4: v --- níže se nacházejí doplnkové a pomocné údaje k sestavám --- v | BE4: Návod na vyplnění | BS4: 0,001
D5: Kód: | K5: STAKO990045 | BE5: Měnit lze pouze buňky se žlutým podbarvením!_x000D_ _x000D_ 1) v Rekapitulaci stavby vyplňte údaje o Uchazeči (přenesou se do ostatních sestav i v jiných listech)_x000D_ _x000D_ 2) na vybraných listech vyplňte v sestavě Soupis prací ceny u položek_x000D_ _x000D_ Podrobnosti k vyplnění naleznete na poslední záložce s Pokyny pro vyplnění | BS5: 0,01
D6: Stavba: | K6: OBYTNÝ AREÁL RTYNĚ V PODKRKONOŠÍ NA PARCELÁCH 1085/2, 3632/1, K.Ú. RTYNĚ V P. | BS6: 0,1
D7: KSO: | AK7: CC-CZ: | BS7: 1
D8: Místo: | K8: RTYNĚ V PODKRKONOŠÍ | AK8: Datum: | AN8: 3.3.2016 | BS8: 10
BS9: 100
D10: Zadavatel: | AK10: IČ: | BS10: 0,1
E11: MĚSTO RTYNĚ V PODKRKONOŠÍ | AK11: DIČ: | BS11: 0,1
BS12: 0,1
D13: Uchazeč: | AK13: IČ: | AN13: Vyplň údaj | BS13: 0,1
E14: Vyplň údaj | AK14: DIČ: | AN14: Vyplň údaj | BS14: 0,1
BS15: False
D16: Projektant: | AK16: IČ: | BS16: False
E17: STAKO ČERVENÝ KOSTELEC s.r.o., JOSTA s.r.o. | AK17: DIČ: | BS17: True
BS18: 0,01
D19: Poznámka: | BS19: 0,01
BS20: True
D23: Cena bez DPH | AK23: =ROUND(AG51,2) -> #VALUE!
L25: Sazba daně | W25: Základ daně | AK25: Výše daně
D26: DPH | F26: základní | L26: 0.21 | W26: =ROUND(AZ51,2) -> #VALUE! | AK26: =ROUND(AV51,2) -> #VALUE!
F27: snížená | L27: 0.15 | W27: =ROUND(BA51,2) -> #REF! | AK27: =ROUND(AW51,2) -> #REF!
F28: zákl. přenesená | L28: 0.21 | W28: =ROUND(BB51,2) -> #REF! | AK28: 0
F29: sníž. přenesená | L29: 0.15 | W29: =ROUND(BC51,2) -> #REF! | AK29: 0
F30: nulová | L30: 0 | W30: =ROUND(BD51,2) -> #REF! | AK30: 0
D32: Cena s DPH | T32: v | X32: CZK | AK32: =SUM(AK23:AK30) -> #VALUE!
C39: REKAPITULACE OBJEKTŮ STAVBY A SOUPISŮ PRACÍ
C41: Kód: | L41: =K5 -> STAKO990045
C42: Stavba: | L42: =K6 -> OBYTNÝ AREÁL RTYNĚ V PODKRKONOŠÍ NA PARCELÁCH 1085/2, 3632/1, K.Ú. RTYNĚ V P.
C44: Místo: | L44: =IF(K8="","",K8) -> RTYNĚ V PODKRKONOŠÍ | AI44: Datum: | AM44: =IF(AN8= "","",AN8) -> 3.3.2016
C46: Zadavatel: | L46: =IF(E11= "","",E11) -> MĚSTO RTYNĚ V PODKRKONOŠÍ | AI46: Projektant: | AM46: =IF(E17="","",E17) -> STAKO ČERVENÝ KOSTELEC s.r.o., JOSTA s.r.o. | AS46: Informatívní údaje z listů zakázek
C47: Uchazeč: | L47: =IF(E14= "Vyplň údaj","",E14)
C49: Kód | I49: Objekt, Soupis prací | AG49: Cena bez DPH [CZK] | AN49: Cena s DPH [CZK] | AQ49: Typ | AS49: z toho Ostat._x000D_ náklady [CZK] | AT49: DPH [CZK] | AU49: Normohodiny [h] | AV49: DPH základní [CZK] | AW49: DPH snížená [CZK] | AX49: DPH základní přenesená_x000D_ [CZK] | AY49: DPH snížená přenesená_x000D_ [CZK] | AZ49: Základna_x000D_ DPH základní | BA49: Základna_x000D_ DPH snížená | BB49: Základna_x000D_ DPH zákl. přenesená | BC49: Základna_x000D_ DPH sníž. přenesená | BD49: Základna_x000D_ DPH nulová
C51: Náklady stavby celkem | AG51: =ROUND(SUM(AG52:AG53),2) -> #VALUE! | AN51: =SUM(AG51,AT51) -> #VALUE! | AS51: =ROUND(SUM(AS52:AS53),2) -> 0 | AT51: =ROUND(SUM(AV51:AW51),2) -> #VALUE! | AU51: =ROUND(SUM(AU52:AU53),5) -> #REF! | AV51: =ROUND(AZ51*L26,2) -> #VALUE! | AW51: =ROUND(BA51*L27,2) -> #REF! | AX51: =ROUND(BB51*L26,2) -> #REF! | AY51: =ROUND(BC51*L27,2) -> #REF! | AZ51: =ROUND(SUM(AZ52:AZ53),2) -> #VALUE! | BA51: =ROUND(SUM(BA52:BA53),2) -> #REF! | BB51: =ROUND(SUM(BB52:BB53),2) -> #REF! | BC51: =ROUND(SUM(BC52:BC53),2) -> #REF! | BD51: =ROUND(SUM(BD52:BD53),2) -> #REF! | BS51: D | BT51: 0 | BU51: ###NOIMPORT### | BV51: IMPORT | BW51: {260a1864-7643-49dd-b408-1809fb2c6bbf} | BX51: {00000000-0000-0000-0000-000000000000}
A52: / | D52: 001 | J52: TRASA A = KOMUNIKACE - SJEZDY | AG52: ='001 - TRASA A = KOMUNIKAC...'!J27 -> #VALUE! | AN52: =SUM(AG52,AT52) -> #VALUE! | AQ52: STA | AS52: 0 | AT52: =ROUND(SUM(AV52:AW52),2) -> #VALUE! | AU52: ='001 - TRASA A = KOMUNIKAC...'!P86 -> 0 | AV52: ='001 - TRASA A = KOMUNIKAC...'!J30 -> #VALUE! | AW52: ='001 - TRASA A = KOMUNIKAC...'!J31 -> 0 | AX52: ='001 - TRASA A = KOMUNIKAC...'!J32 -> 0 | AY52: ='001 - TRASA A = KOMUNIKAC...'!J33 -> 0 | AZ52: ='001 - TRASA A = KOMUNIKAC...'!F30 -> #VALUE! | BA52: ='001 - TRASA A = KOMUNIKAC...'!F31 -> 0 | BB52: ='001 - TRASA A = KOMUNIKAC...'!F32 -> 0 | BC52: ='001 - TRASA A = KOMUNIKAC...'!F33 -> 0 | BD52: ='001 - TRASA A = KOMUNIKAC...'!F34 -> 0 | BT52: 1 | BV52: IMPORT | BW52: {7a2d7d9e-4eee-4c80-83e5-2a4bb1710584} | BX52: {260a1864-7643-49dd-b408-1809fb2c6bbf} | CM52: 2
A53: / | D53: 002 | J53: TRASA B = KOMUNIKACE - SJEZDY | AG53: =#REF! -> #REF! | AN53: =SUM(AG53,AT53) -> #REF! | AQ53: STA | AS53: 0 | AT53: =ROUND(SUM(AV53:AW53),2) -> #REF! | AU53: =#REF! -> #REF! | AV53: =#REF! -> #REF! | AW53: =#REF! -> #REF! | AX53: =#REF! -> #REF! | AY53: =#REF! -> #REF! | AZ53: =#REF! -> #REF! | BA53: =#REF! -> #REF! | BB53: =#REF! -> #REF! | ... BD53: =#REF! -> #REF! | BT53: 1 | BV53: IMPORT | BW53: {b171578e-9d09-447f-a772-bfc04a20b159} | BX53: {260a1864-7643-49dd-b408-1809fb2c6bbf} | CM53: 2

Sheet 001 - TRASA A = KOMUNIKAC...
D1: List obsahuje: | F1: 1) Krycí list soupisu | G1: 2) Rekapitulace | J1: 3) Soupis prací | K1: Zpět na list: | L1: Rekapitulace stavby
AT2: {7a2d7d9e-4eee-4c80-83e5-2a4bb1710584}
AT3: 2
D4: KRYCÍ LIST SOUPISU | M4: v --- níže se nacházejí doplnkové a pomocné údaje k sestavám --- v | AT4: False
D6: Stavba:
E7: ='Rekapitulace stavby'!K6 -> OBYTNÝ AREÁL RTYNĚ V PODKRKONOŠÍ NA PARCELÁCH 1085/2, 3632/1, K.Ú. RTYNĚ V P.
D8: Objekt:
E9: 001 - TRASA A = KOMUNIKACE - SJEZDY
D11: KSO: | I11: CC-CZ:
D12: Místo: | F12: RTYNĚ V PODKRKONOŠÍ | I12: Datum: | J12: ='Rekapitulace stavby'!AN8 -> 3.3.2016
D14: Zadavatel: | I14: IČ:
E15: MĚSTO RTYNĚ V PODKRKONOŠÍ | I15: DIČ:
D17: Uchazeč: | I17: IČ: | J17: =IF('Rekapitulace stavby'!AN13="Vyplň údaj","",IF('Rekapitulace stavby'!AN13="","",'Rekapitulace stavby'!AN13))
E18: =IF('Rekapitulace stavby'!E14="Vyplň údaj","",IF('Rekapitulace stavby'!E14="","",'Rekapitulace stavby'!E14)) | I18: DIČ: | J18: =IF('Rekapitulace stavby'!AN14="Vyplň údaj","",IF('Rekapitulace stavby'!AN14="","",'Rekapitulace stavby'!AN14))
D20: Projektant: | I20: IČ:
E21: STAKO ČERVENÝ KOSTELEC s.r.o., JOSTA s.r.o. | I21: DIČ:
D23: Poznámka:
D27: Cena bez DPH | J27: =ROUND(J86,2) -> #VALUE!
F29: Základ daně | I29: Sazba daně | J29: Výše daně
D30: DPH | E30: základní | F30: =ROUND(SUM(BE86:BE220), 2) -> #VALUE! | I30: 0.21 | J30: =ROUND(ROUND((SUM(BE86:BE220)), 2)*I30, 2) -> #VALUE!
E31: snížená | F31: =ROUND(SUM(BF86:BF220), 2) -> 0 | I31: 0.15 | J31: =ROUND(ROUND((SUM(BF86:BF220)), 2)*I31, 2) -> 0
E32: zákl. přenesená | F32: =ROUND(SUM(BG86:BG220), 2) -> 0 | I32: 0.21 | J32: 0
E33: sníž. přenesená | F33: =ROUND(SUM(BH86:BH220), 2) -> 0 | I33: 0.15 | J33: 0
E34: nulová | F34: =ROUND(SUM(BI86:BI220), 2) -> 0 | I34: 0 | J34: 0
D36: Cena s DPH | G36: v | H36: CZK | J36: =SUM(J27:J34) -> #VALUE!
C42: REKAPITULACE ČLENĚNÍ SOUPISU PRACÍ
C44: Stavba:
E45: =E7 -> OBYTNÝ AREÁL RTYNĚ V PODKRKONOŠÍ NA PARCELÁCH 1085/2, 3632/1, K.Ú. RTYNĚ V P.
C46: Objekt:
E47: =E9 -> 001 - TRASA A = KOMUNIKACE - SJEZDY
C49: Místo: | F49: =F12 -> RTYNĚ V PODKRKONOŠÍ | I49: Datum: | J49: =IF(J12="","",J12) -> 3.3.2016
C51: Zadavatel: | F51: =E15 -> MĚSTO RTYNĚ V PODKRKONOŠÍ | I51: Projektant: | J51: =E21 -> STAKO ČERVENÝ KOSTELEC s.r.o., JOSTA s.r.o.
C52: Uchazeč: | F52: =IF(E18="","",E18)
C54: Kód dílu - Popis | J54: Cena celkem [CZK]
C56: Náklady soupisu celkem | J56: =J86 -> #VALUE! | AU56: -1
D57: HSV - Práce a dodávky HSV | J57: =J87 -> #VALUE!
D58: 1 - Zemní práce | J58: =J88 -> #VALUE!
D59: 56 - Podkladní vrstvy komunikací, letišť a ploch | J59: =J128 -> 0
D60: 57 - Kryty pozemních komunikací letišť a ploch z kameniva nebo živičné | J60: =J139 -> 0
D61: 59 - Kryty pozemních komunikací, letišť a ploch dlážděných (předlažby) | J61: =J144 -> 0
...

Sheet Pokyny pro vyplnění
C3: Struktura údajů, formát souboru a metodika pro zpracování
C4: Struktura
C6: Soubor je složen ze záložky Rekapitulace stavby a záložek s názvem soupisu prací pro jednotlivé objekty ve formátu XLS. Každá ze záložek přitom obsahuje
C7: ještě samostatné sestavy vymezené orámovaním a nadpisem sestavy.
C9: Rekapitulace stavby obsahuje sestavu Rekapitulace stavby a Rekapitulace objektů stavby a soupisů prací.
D10: V sestavě Rekapitulace stavby jsou uvedeny informace identifikující předmět veřejné zakázky na stavební práce, KSO, CC-CZ, CZ-CPV, CZ-CPA a rekapitulaci
D11: celkové nabídkové ceny uchazeče.
D13: V sestavě Rekapitulace objektů stavby a soupisů prací je uvedena rekapitulace stavebních objektů, inženýrských objektů, provozních souborů,
D14: vedlejších a ostatních nákladů a ostatních nákladů s rekapitulací nabídkové ceny za jednotlivé soupisy prací. Na základě údaje Typ je možné
D15: identifikovat, zda se jedná o objekt nebo soupis prací pro daný objekt:
E16: STA | F16: Stavební objekt pozemní
E17: ING | F17: Stavební objekt inženýrský
E18: PRO | F18: Provozní soubor
E19: VON | F19: Vedlejší a ostatní náklady
E20: OST | F20: Ostatní
E21: Soupis | F21: Soupis prací pro daný typ objektu
C23: Soupis prací pro jednotlivé objekty obsahuje sestavy Krycí list soupisu, Rekapitulace členění soupisu prací, Soupis prací. Za soupis prací může být považován
C24: i objekt stavby v případě, že neobsahuje podřízenou zakázku.
D25: Krycí list soupisu obsahuje rekapitulaci informací o předmětu veřejné zakázky ze sestavy Rekapitulace stavby, informaci o zařazení objektu do KSO,
D26: CC-CZ, CZ-CPV, CZ-CPA a rekapitulaci celkové nabídkové ceny uchazeče za aktuální soupis prací.
D28: Rekapitulace členění soupisu prací obsahuje rekapitulaci soupisu prací ve všech úrovních členění soupisu tak, jak byla tato členění použita (např.
D29: stavební díly, funkční díly, případně jiné členění) s rekapitulací nabídkové ceny.
D31: Soupis prací obsahuje položky veškerých stavebních nebo montážních prací, dodávek materiálů a služeb nezbytných pro zhotovení stavebního objektu,
D32: inženýrského objektu, provozního souboru, vedlejších a ostatních nákladů.
D33: Pro položky soupisu prací se zobrazují následující informace:
E34: PČ | G34: Pořadové číslo položky v aktuálním soupisu
E35: TYP | G35: Typ položky: K - konstrukce, M - materiál, PP - plný popis, PSC - poznámka k souboru cen, P - poznámka k položce, VV - výkaz výměr
E36: Kód | G36: Kód položky
E37: Popis | G37: Zkrácený popis položky
E38: MJ | G38: Měrná jednotka položky
E39: Množství | G39: Množství v měrné jednotce
E40: J.cena | G40: Jednotková cena položky. Zadaní může obsahovat namísto J.ceny sloupce J.materiál a J.montáž, jejichž součet definuje
G41: J.cenu položky.
E42: Cena celkem | G42: Celková cena položky daná jako součin množství a j.ceny
E43: Cenová soustava | G43: Příslušnost položky do cenové soustavy
D45: Ke každé položce soupisu prací se na samostatných řádcích může zobrazovat:
E46: Plný popis položky
E47: Poznámka k souboru cen a poznámka zadavatele
E48: Výkaz výměr
D49: Pokud je k řádku výkazu výměr evidovaný údaj ve sloupci Kód, jedná se o definovaný odkaz, na který se může odvolávat výkaz výměr z jiné položky.
...
