Workbook

Sheet Rekapitulace stavby
A1: Export Komplet | BA1: 2.0 | BB1: ZAMOK | BT1: False | BU1: False | BV1: {5d767106-730e-47d7-b181-261747aee2a9}
BS2: 0,01 | BT2: 21
BS3: 0,01 | BT3: 12
D4: REKAPITULACE STAVBY | AS4: v --- níže se nacházejí doplnkové a pomocné údaje k sestavám --- v | BE4: Návod na vyplnění | BS4: 0,001
D5: Kód: | K5: 25P-AUS003 | BE5: Měnit lze pouze buňky se žlutým podbarvením!_x000D_ _x000D_ 1) na prvním listu Rekapitulace stavby vyplňte v sestavě_x000D_ _x000D_ a) Souhrnný list_x000D_ - údaje o Uchazeči_x000D_ (přenesou se do ostatních sestav i v jiných listech)_x000D_ _x000D_ b) Rekapitulace objektů_x000D_ - potřebné Ostatní náklady_x000D_ _x000D_ 2) na vybraných listech vyplňte v sestavě_x000D_ _x000D_ a) Krycí list_x000D_ - údaje o Uchazeči, pokud se liší od údajů o Uchazeči na Souhrnném listu_x000D_ (údaje se přenesou do ostatních sestav v daném listu)_x000D_ _x000D_ b) Rekapitulace rozpočtu_x000D_ - potřebné Ostatní náklady_x000D_ _x000D_ c) Celkové náklady za stavbu_x000D_ - ceny u položek_x000D_ - množství, pokud má žluté podbarvení_x000D_ - a v případě potřeby poznámku (ta je ve skrytém sloupci) | BS5: 0,01
D6: Stavba: | K6: Štětí - Čakovice - sklad a zázemí pro dětské hřiště | BS6: 0,01
D7: KSO: | AK7: CC-CZ: | BS7: 0,01
D8: Místo: | AK8: Datum: | AN8: 46065 | BS8: 0,01
BS9: 0,01
D10: Zadavatel: | AK10: IČ: | BS10: 0,01
AK11: DIČ: | BS11: 0,01
BS12: 0,01
D13: Uchazeč: | AK13: IČ: | AN13: Vyplň údaj | BS13: 0,01
E14: Vyplň údaj | AK14: DIČ: | AN14: Vyplň údaj | BS14: 0,01
BS15: False
D16: Projektant: | AK16: IČ: | BS16: False
AK17: DIČ: | BS17: True
BS18: 0,01
D19: Zpracovatel: | AK19: IČ: | BS19: 0,01
AK20: DIČ: | BS20: True
D22: Poznámka:
D26: Cena bez DPH | AK26: =ROUND(AG94,2) -> 0
L28: Sazba daně | W28: Základ daně | AK28: Výše daně
D29: DPH | F29: základní | L29: 0.21 | W29: =ROUND(AZ94, 2) -> 0 | AK29: =ROUND(AV94, 2) -> 0
F30: snížená | L30: 0.12 | W30: =ROUND(BA94, 2) -> 0 | AK30: =ROUND(AW94, 2) -> 0
F31: zákl. přenesená | L31: 0.21 | W31: =ROUND(BB94, 2) -> 0 | AK31: 0
F32: sníž. přenesená | L32: 0.12 | W32: =ROUND(BC94, 2) -> 0 | AK32: 0
F33: nulová | L33: 0 | W33: =ROUND(BD94, 2) -> 0 | AK33: 0
D35: Cena s DPH | T35: v | X35: CZK | AK35: =SUM(AK26:AK33) -> 0
D49: Projektant | AH49: Zpracovatel
D60: Datum a podpis: | V60: Razítko | AH60: Datum a podpis: | AM60: Razítko
D64: Objednavatel | AH64: Uchazeč
D75: Datum a podpis: | V75: Razítko | AH75: Datum a podpis: | AM75: Razítko
C82: REKAPITULACE OBJEKTŮ STAVBY A SOUPISŮ PRACÍ
C84: Kód: | L84: =K5 -> 25P-AUS003
C85: Stavba: | L85: =K6 -> Štětí - Čakovice - sklad a zázemí pro dětské hřiště
C87: Místo: | L87: =IF(K8="","",K8) | AI87: Datum: | AM87: =IF(AN8= "","",AN8) -> 46065
C89: Zadavatel: | L89: =IF(E11= "","",E11) | AI89: Projektant: | AM89: =IF(E17="","",E17) | AS89: Informatívní údaje z listů zakázek
C90: Uchazeč: | L90: =IF(E14= "Vyplň údaj","",E14) | AI90: Zpracovatel: | AM90: =IF(E20="","",E20)
C92: Kód | I92: Popis | AG92: Cena bez DPH [CZK] | AN92: Cena s DPH [CZK] | AQ92: Typ | AS92: z toho Ostat._x000D_ náklady [CZK] | AT92: DPH [CZK] | AU92: Normohodiny [h] | AV92: DPH základní [CZK] | AW92: DPH snížená [CZK] | AX92: DPH základní přenesená_x000D_ [CZK] | AY92: DPH snížená přenesená_x000D_ [CZK] | AZ92: Základna_x000D_ DPH základní | BA92: Základna_x000D_ DPH snížená | BB92: Základna_x000D_ DPH zákl. přenesená | BC92: Základna_x000D_ DPH sníž. přenesená | BD92: Základna_x000D_ DPH nulová
C94: Náklady z rozpočtů | AG94: =ROUND(AG95,2) -> 0 | AN94: =SUM(AG94,AT94) -> 0 | AS94: =ROUND(AS95,2) -> 0 | AT94: =ROUND(SUM(AV94:AW94),2) -> 0 | AU94: =ROUND(AU95,5) -> 0 | AV94: =ROUND(AZ94*L29,2) -> 0 | AW94: =ROUND(BA94*L30,2) -> 0 | AX94: =ROUND(BB94*L29,2) -> 0 | AY94: =ROUND(BC94*L30,2) -> 0 | AZ94: =ROUND(AZ95,2) -> 0 | BA94: =ROUND(BA95,2) -> 0 | BB94: =ROUND(BB95,2) -> 0 | BC94: =ROUND(BC95,2) -> 0 | BD94: =ROUND(BD95,2) -> 0 | BS94: D | BT94: 0 | BV94: IMPORT | BW94: {5d767106-730e-47d7-b181-261747aee2a9} | BX94: {00000000-0000-0000-0000-000000000000}
A95: / | D95: 25P-AUS003 | J95: Štětí - Čakovice - sklad a zázemí pro dětské hřiště | AG95: ='25P-AUS003 - Štětí - Čako...'!J28 -> 0 | AN95: =SUM(AG95,AT95) -> 0 | AQ95: STA | AS95: 0 | AT95: =ROUND(SUM(AV95:AW95),2) -> 0 | AU95: ='25P-AUS003 - Štětí - Čako...'!P127 -> 0 | AV95: ='25P-AUS003 - Štětí - Čako...'!J31 -> 0 | AW95: ='25P-AUS003 - Štětí - Čako...'!J32 -> 0 | AX95: ='25P-AUS003 - Štětí - Čako...'!J33 -> 0 | AY95: ='25P-AUS003 - Štětí - Čako...'!J34 -> 0 | AZ95: ='25P-AUS003 - Štětí - Čako...'!F31 -> 0 | BA95: ='25P-AUS003 - Štětí - Čako...'!F32 -> 0 | BB95: ='25P-AUS003 - Štětí - Čako...'!F33 -> 0 | BC95: ='25P-AUS003 - Štětí - Čako...'!F34 -> 0 | BD95: ='25P-AUS003 - Štětí - Čako...'!F35 -> 0 | BT95: 1 | BU95: ###NOINSERT### | BV95: IMPORT | BW95: {5d767106-730e-47d7-b181-261747aee2a9} | BX95: {00000000-0000-0000-0000-000000000000}

Sheet 25P-AUS003 - Štětí - Čako...
AT2: {5d767106-730e-47d7-b181-261747aee2a9}
AT3: 2
D4: KRYCÍ LIST SOUPISU PRACÍ | M4: v --- níže se nacházejí doplnkové a pomocné údaje k sestavám --- v | AT4: False
D6: Stavba:
E7: Štětí - Čakovice - sklad a zázemí pro dětské hřiště
D9: KSO: | I9: CC-CZ:
D10: Místo: | I10: Datum: | J10: ='Rekapitulace stavby'!AN8 -> 46065
D12: Zadavatel: | I12: IČ: | J12: =IF('Rekapitulace stavby'!AN10="","",'Rekapitulace stavby'!AN10)
E13: =IF('Rekapitulace stavby'!E11="","",'Rekapitulace stavby'!E11) | I13: DIČ: | J13: =IF('Rekapitulace stavby'!AN11="","",'Rekapitulace stavby'!AN11)
D15: Uchazeč: | I15: IČ: | J15: ='Rekapitulace stavby'!AN13 -> Vyplň údaj
E16: ='Rekapitulace stavby'!E14 -> Vyplň údaj | I16: DIČ: | J16: ='Rekapitulace stavby'!AN14 -> Vyplň údaj
D18: Projektant: | I18: IČ: | J18: =IF('Rekapitulace stavby'!AN16="","",'Rekapitulace stavby'!AN16)
E19: =IF('Rekapitulace stavby'!E17="","",'Rekapitulace stavby'!E17) | I19: DIČ: | J19: =IF('Rekapitulace stavby'!AN17="","",'Rekapitulace stavby'!AN17)
D21: Zpracovatel: | I21: IČ: | J21: =IF('Rekapitulace stavby'!AN19="","",'Rekapitulace stavby'!AN19)
E22: =IF('Rekapitulace stavby'!E20="","",'Rekapitulace stavby'!E20) | I22: DIČ: | J22: =IF('Rekapitulace stavby'!AN20="","",'Rekapitulace stavby'!AN20)
D24: Poznámka:
D28: Cena bez DPH | J28: =ROUND(J127, 2) -> 0
F30: Základ daně | I30: Sazba daně | J30: Výše daně
D31: DPH | E31: základní | F31: =ROUND((SUM(BE127:BE402)), 2) -> 0 | I31: 0.21 | J31: =ROUND(((SUM(BE127:BE402))*I31), 2) -> 0
E32: snížená | F32: =ROUND((SUM(BF127:BF402)), 2) -> 0 | I32: 0.12 | J32: =ROUND(((SUM(BF127:BF402))*I32), 2) -> 0
E33: zákl. přenesená | F33: =ROUND((SUM(BG127:BG402)), 2) -> 0 | I33: 0.21 | J33: =0 -> 0
E34: sníž. přenesená | F34: =ROUND((SUM(BH127:BH402)), 2) -> 0 | I34: 0.12 | J34: =0 -> 0
E35: nulová | F35: =ROUND((SUM(BI127:BI402)), 2) -> 0 | I35: 0 | J35: =0 -> 0
D37: Cena s DPH | G37: v | H37: CZK | J37: =SUM(J28:J35) -> 0
D50: Projektant | G50: Zpracovatel
D61: Datum a podpis: | F61: Razítko | G61: Datum a podpis: | J61: Razítko
D65: Objednavatel | G65: Uchazeč
D76: Datum a podpis: | F76: Razítko | G76: Datum a podpis: | J76: Razítko
C82: REKAPITULACE ČLENĚNÍ SOUPISU PRACÍ
C84: Stavba:
E85: =E7 -> Štětí - Čakovice - sklad a zázemí pro dětské hřiště
C87: Místo: | F87: =F10 | I87: Datum: | J87: =IF(J10="","",J10) -> 46065
C89: Zadavatel: | F89: =E13 | I89: Projektant: | J89: =E19
C90: Uchazeč: | F90: =IF(E16="","",E16) -> Vyplň údaj | I90: Zpracovatel: | J90: =E22
C92: Kód dílu - Popis | J92: Cena celkem [CZK]
C94: Náklady ze soupisu prací | J94: =J127 -> 0 | AU94: -1
D95: HSV - Práce a dodávky HSV | J95: =J128 -> 0
D96: 1 - Zemní práce | J96: =J129 -> 0
D97: 2 - Zakládání | J97: =J204 -> 0
D98: 3 - Svislé a kompletní konstrukce | J98: =J235 -> 0
D99: 5 - Komunikace pozemní | J99: =J289 -> 0
D100: 9 - Ostatní konstrukce a práce, bourání | J100: =J305 -> 0
D101: 998 - Přesun hmot | J101: =J324 -> 0
D102: PSV - Práce a dodávky PSV | J102: =J328 -> 0
D103: 762 - Konstrukce tesařské | J103: =J329 -> 0
D104: 764 - Konstrukce klempířské | J104: =J340 -> 0
D105: 767 - Konstrukce zámečnické | J105: =J362 -> 0
D106: VRN - Vedlejší rozpočtové náklady | J106: =J390 -> 0
D107: VRN4 - Inženýrská činnost | J107: =J391 -> 0
D108: VRN7 - Provozní vlivy | J108: =J394 -> 0
D109: VRN9 - Ostatní náklady | J109: =J398 -> 0
C116: SOUPIS PRACÍ
C118: Stavba:
E119: =E7 -> Štětí - Čakovice - sklad a zázemí pro dětské hřiště
C121: Místo: | F121: =F10 | I121: Datum: | J121: =IF(J10="","",J10) -> 46065
C123: Zadavatel: | F123: =E13 | I123: Projektant: | J123: =E19
C124: Uchazeč: | F124: =IF(E16="","",E16) -> Vyplň údaj | I124: Zpracovatel: | J124: =E22
C126: PČ | D126: Typ | E126: Kód | F126: Popis | G126: MJ | H126: Množství | I126: J.cena [CZK] | J126: Cena celkem [CZK] | K126: Cenová soustava | N126: DPH | O126: J. Nh [h] | P126: Nh celkem [h] | Q126: J. hmotnost [t] | R126: Hmotnost celkem [t] | S126: J. suť [t] | T126: Suť Celkem [t] | U126: Dodavatel
C127: Náklady soupisu celkem | J127: =BK127 -> 0 | P127: =P128+P328+P390 -> 0 | R127: =R128+R328+R390 -> 45.806072 | T127: =T128+T328+T390 -> 0 | AT127: D | AU127: -1 | BK127: =BK128+BK328+BK390 -> 0
D128: D | E128: HSV | F128: Práce a dodávky HSV | J128: =BK128 -> 0 | P128: =P129+P204+P235+P289+P305+P324 -> 0 | R128: =R129+R204+R235+R289+R305+R324 -> 45.213062 | T128: =T129+T204+T235+T289+T305+T324 -> 0 | AR128: 1 | AT128: D | AU128: 0 | AY128: ROZPOCET | BK128: =BK129+BK204+BK235+BK289+BK305+BK324 -> 0
D129: D | E129: 1 | F129: Zemní práce | J129: =BK129 -> 0 | P129: =SUM(P130:P203) -> 0 | R129: =SUM(R130:R203) -> 0.000937 | T129: =SUM(T130:T203) -> 0 | AR129: 1 | AT129: D | AU129: 1 | AY129: ROZPOCET | BK129: =SUM(BK130:BK203) -> 0
C130: 1 | D130: K | E130: 121151103 | F130: Sejmutí ornice plochy do 100 m2 tl vrstvy do 200 mm strojně | G130: m2 | H130: 128 | J130: =ROUND(I130*H130,2) -> 0 | K130: CS ÚRS 2025 01 | N130: základní | P130: =O130*H130 -> 0 | Q130: 0 | R130: =Q130*H130 -> 0 | S130: 0 | T130: =S130*H130 -> 0 | AR130: 4 | AT130: K | AU130: 2 | AY130: ROZPOCET | BE130: =IF(N130="základní",J130,0) -> 0 | BF130: =IF(N130="snížená",J130,0) -> 0 | BG130: =IF(N130="zákl. přenesená",J130,0) -> 0 | BH130: =IF(N130="sníž. přenesená",J130,0) -> 0 | BI130: =IF(N130="nulová",J130,0) -> 0 | BJ130: 1 | BK130: =ROUND(I130*H130,2) -> 0 | BL130: 4 | BM130: 252194171
D131: PP | F131: Sejmutí ornice strojně při souvislé ploše do 100 m2, tl. vrstvy do 200 mm | AT131: PP | AU131: 2
D132: Online PSC | F132: https://podminky.urs.cz/item/CS_URS_2025_01/121151103 | AT132: Online PSC | AU132: 2
D133: VV | F133: plochy výstavby | AT133: VV | AU133: 2 | AV133: 1 | AW133: True | AX133: 0 | AY133: ROZPOCET
D134: VV | F134: 16,00*8,00 | H134: 128 | AT134: VV | AU134: 2 | AV134: 2 | AW134: True | AX134: 0 | AY134: ROZPOCET
D135: VV | F135: Součet | H135: 128 | AT135: VV | AU135: 2 | AV135: 4 | AW135: True | AX135: 1 | AY135: ROZPOCET
C136: 2 | D136: K | E136: 132251101 | F136: Hloubení rýh nezapažených š do 800 mm v hornině třídy těžitelnosti I skupiny 3 objem do 20 m3 strojně | G136: m3 | H136: 8.134 | J136: =ROUND(I136*H136,2) -> 0 | K136: CS ÚRS 2025 01 | N136: základní | P136: =O136*H136 -> 0 | Q136: 0 | R136: =Q136*H136 -> 0 | S136: 0 | T136: =S136*H136 -> 0 | AR136: 4 | AT136: K | AU136: 2 | AY136: ROZPOCET | BE136: =IF(N136="základní",J136,0) -> 0 | BF136: =IF(N136="snížená",J136,0) -> 0 | BG136: =IF(N136="zákl. přenesená",J136,0) -> 0 | BH136: =IF(N136="sníž. přenesená",J136,0) -> 0 | BI136: =IF(N136="nulová",J136,0) -> 0 | BJ136: 1 | BK136: =ROUND(I136*H136,2) -> 0 | BL136: 4 | BM136: -1204570221
D137: PP | F137: Hloubení nezapažených rýh šířky do 800 mm strojně s urovnáním dna do předepsaného profilu a spádu v hornině třídy těžitelnosti I skupiny 3 do 20 m3 | AT137: PP | AU137: 2
D138: Online PSC | F138: https://podminky.urs.cz/item/CS_URS_2025_01/132251101 | AT138: Online PSC | AU138: 2
D139: VV | F139: pro základ buňky | AT139: VV | AU139: 2 | AV139: 1 | AW139: True | AX139: 0 | AY139: ROZPOCET
D140: VV | F140: (7,305+5,405)*2*0,40*0,80 | H140: 8.134 | AT140: VV | AU140: 2 | AV140: 2 | AW140: True | AX140: 0 | AY140: ROZPOCET
D141: VV | F141: Součet | H141: 8.134 | AT141: VV | AU141: 2 | AV141: 4 | AW141: True | AX141: 1 | AY141: ROZPOCET
C142: 3 | D142: K | E142: 133251101 | F142: Hloubení šachet nezapažených v hornině třídy těžitelnosti I skupiny 3 objem do 20 m3 | G142: m3 | H142: 4.8 | J142: =ROUND(I142*H142,2) -> 0 | K142: CS ÚRS 2025 01 | N142: základní | P142: =O142*H142 -> 0 | Q142: 0 | R142: =Q142*H142 -> 0 | S142: 0 | T142: =S142*H142 -> 0 | AR142: 4 | AT142: K | AU142: 2 | AY142: ROZPOCET | BE142: =IF(N142="základní",J142,0) -> 0 | BF142: =IF(N142="snížená",J142,0) -> 0 | BG142: =IF(N142="zákl. přenesená",J142,0) -> 0 | BH142: =IF(N142="sníž. přenesená",J142,0) -> 0 | BI142: =IF(N142="nulová",J142,0) -> 0 | BJ142: 1 | BK142: =ROUND(I142*H142,2) -> 0 | BL142: 4 | BM142: -769539947
D143: PP | F143: Hloubení nezapažených šachet strojně v hornině třídy těžitelnosti I skupiny 3 do 20 m3 | AT143: PP | AU143: 2
D144: Online PSC | F144: https://podminky.urs.cz/item/CS_URS_2025_01/133251101 | AT144: Online PSC | AU144: 2
D145: VV | F145: patky | AT145: VV | AU145: 2 | AV145: 1 | AW145: True | AX145: 0 | AY145: ROZPOCET
D146: VV | F146: 1,00*1,00*0,80*6 | H146: 4.8 | AT146: VV | AU146: 2 | AV146: 2 | AW146: True | AX146: 0 | AY146: ROZPOCET
D147: VV | F147: Součet | H147: 4.8 | AT147: VV | AU147: 2 | AV147: 4 | AW147: True | AX147: 1 | AY147: ROZPOCET
C148: 4 | D148: K | E148: 162351103 | F148: Vodorovné přemístění přes 50 do 500 m výkopku/sypaniny z horniny třídy těžitelnosti I skupiny 1 až 3 | G148: m3 | H148: 34.974 | J148: =ROUND(I148*H148,2) -> 0 | K148: CS ÚRS 2025 01 | N148: základní | P148: =O148*H148 -> 0 | Q148: 0 | R148: =Q148*H148 -> 0 | S148: 0 | T148: =S148*H148 -> 0 | AR148: 4 | AT148: K | AU148: 2 | AY148: ROZPOCET | BE148: =IF(N148="základní",J148,0) -> 0 | BF148: =IF(N148="snížená",J148,0) -> 0 | BG148: =IF(N148="zákl. přenesená",J148,0) -> 0 | BH148: =IF(N148="sníž. přenesená",J148,0) -> 0 | BI148: =IF(N148="nulová",J148,0) -> 0 | BJ148: 1 | BK148: =ROUND(I148*H148,2) -> 0 | BL148: 4 | BM148: -666258437
D149: PP | F149: Vodorovné přemístění výkopku nebo sypaniny po suchu na obvyklém dopravním prostředku, bez naložení výkopku, avšak se složením bez rozhrnutí z horniny třídy těžitelnosti I skupiny 1 až 3 na vzdálenost přes 50 do 500 m | AT149: PP | AU149: 2
D150: Online PSC | F150: https://podminky.urs.cz/item/CS_URS_2025_01/162351103 | AT150: Online PSC | AU150: 2
D151: VV | F151: ornice | AT151: VV | AU151: 2 | AV151: 1 | AW151: True | AX151: 0 | AY151: ROZPOCET
D152: VV | F152: 128,00*0,20 | H152: 25.6 | AT152: VV | AU152: 2 | AV152: 2 | AW152: True | AX152: 0 | AY152: ROZPOCET
D153: VV | F153: ornice pro zpětní úpravy | AT153: VV | AU153: 2 | AV153: 1 | AW153: True | AX153: 0 | AY153: ROZPOCET
D154: VV | F154: 46,87*0,20 | H154: 9.374 | AT154: VV | AU154: 2 | AV154: 2 | AW154: True | AX154: 0 | AY154: ROZPOCET
D155: VV | F155: Součet | H155: 34.974 | AT155: VV | AU155: 2 | AV155: 4 | AW155: True | AX155: 1 | AY155: ROZPOCET
C156: 5 | D156: K | E156: 162751117 | F156: Vodorovné přemístění přes 9 000 do 10000 m výkopku/sypaniny z horniny třídy těžitelnosti I skupiny 1 až 3 | G156: m3 | H156: 12.934 | J156: =ROUND(I156*H156,2) -> 0 | K156: CS ÚRS 2025 01 | N156: základní | P156: =O156*H156 -> 0 | Q156: 0 | R156: =Q156*H156 -> 0 | S156: 0 | T156: =S156*H156 -> 0 | AR156: 4 | AT156: K | AU156: 2 | AY156: ROZPOCET | BE156: =IF(N156="základní",J156,0) -> 0 | BF156: =IF(N156="snížená",J156,0) -> 0 | BG156: =IF(N156="zákl. přenesená",J156,0) -> 0 | BH156: =IF(N156="sníž. přenesená",J156,0) -> 0 | BI156: =IF(N156="nulová",J156,0) -> 0 | BJ156: 1 | BK156: =ROUND(I156*H156,2) -> 0 | BL156: 4 | BM156: -1321936550
D157: PP | F157: Vodorovné přemístění výkopku nebo sypaniny po suchu na obvyklém dopravním prostředku, bez naložení výkopku, avšak se složením bez rozhrnutí z horniny třídy těžitelnosti I skupiny 1 až 3 na vzdálenost přes 9 000 do 10 000 m | AT157: PP | AU157: 2
D158: Online PSC | F158: https://podminky.urs.cz/item/CS_URS_2025_01/162751117 | AT158: Online PSC | AU158: 2
D159: VV | F159: odvoz na skládku | AT159: VV | AU159: 2 | AV159: 1 | AW159: True | AX159: 0 | AY159: ROZPOCET
D160: VV | F160: 8,134+4,80 | H160: 12.934 | AT160: VV | AU160: 2 | AV160: 2 | AW160: True | AX160: 0 | AY160: ROZPOCET
D161: VV | F161: Součet | H161: 12.934 | AT161: VV | AU161: 2 | AV161: 4 | AW161: True | AX161: 1 | AY161: ROZPOCET
C162: 6 | D162: K | E162: 167151101 | F162: Nakládání výkopku z hornin třídy těžitelnosti I skupiny 1 až 3 do 100 m3 | G162: m3 | H162: 9.374 | J162: =ROUND(I162*H162,2) -> 0 | K162: CS ÚRS 2025 01 | N162: základní | P162: =O162*H162 -> 0 | Q162: 0 | R162: =Q162*H162 -> 0 | S162: 0 | T162: =S162*H162 -> 0 | AR162: 4 | AT162: K | AU162: 2 | AY162: ROZPOCET | BE162: =IF(N162="základní",J162,0) -> 0 | BF162: =IF(N162="snížená",J162,0) -> 0 | BG162: =IF(N162="zákl. přenesená",J162,0) -> 0 | BH162: =IF(N162="sníž. přenesená",J162,0) -> 0 | BI162: =IF(N162="nulová",J162,0) -> 0 | BJ162: 1 | BK162: =ROUND(I162*H162,2) -> 0 | BL162: 4 | BM162: 1200136530
D163: PP | F163: Nakládání, skládání a překládání neulehlého výkopku nebo sypaniny strojně nakládání, množství do 100 m3, z horniny třídy těžitelnosti I, skupiny 1 až 3 | AT163: PP | AU163: 2
D164: Online PSC | F164: https://podminky.urs.cz/item/CS_URS_2025_01/167151101 | AT164: Online PSC | AU164: 2
D165: VV | F165: ornice pro zpětní úpravy | AT165: VV | AU165: 2 | AV165: 1 | AW165: True | AX165: 0 | AY165: ROZPOCET
D166: VV | F166: 46,87*0,20 | H166: 9.374 | AT166: VV | AU166: 2 | AV166: 2 | AW166: True | AX166: 0 | AY166: ROZPOCET
D167: VV | F167: Součet | H167: 9.374 | AT167: VV | AU167: 2 | AV167: 4 | AW167: True | AX167: 1 | AY167: ROZPOCET
C168: 7 | D168: K | E168: 171201221 | F168: Poplatek za uložení na skládce (skládkovné) zeminy a kamení kód odpadu 17 05 04 | G168: t | H168: 4.656 | J168: =ROUND(I168*H168,2) -> 0 | K168: CS ÚRS 2025 01 | N168: základní | P168: =O168*H168 -> 0 | Q168: 0 | R168: =Q168*H168 -> 0 | S168: 0 | T168: =S168*H168 -> 0 | AR168: 4 | AT168: K | AU168: 2 | AY168: ROZPOCET | BE168: =IF(N168="základní",J168,0) -> 0 | BF168: =IF(N168="snížená",J168,0) -> 0 | BG168: =IF(N168="zákl. přenesená",J168,0) -> 0 | BH168: =IF(N168="sníž. přenesená",J168,0) -> 0 | BI168: =IF(N168="nulová",J168,0) -> 0 | BJ168: 1 | BK168: =ROUND(I168*H168,2) -> 0 | BL168: 4 | BM168: -1019572533
...
