Workbook

Sheet Rekapitulace stavby
A1: Export VZ | D1: List obsahuje: | K1: 1) Rekapitulace stavby | W1: 2) Rekapitulace objektů stavby a soupisů prací | BA1: 3.0 | BB1: ZAMOK | BT1: False | BU1: False | BV1: {92a87e33-38cd-424b-961c-7996cb7a00e5}
BS2: 0,01 | BT2: 21
BS3: 0,01 | BT3: 15
D4: REKAPITULACE STAVBY | AS4: v --- níže se nacházejí doplnkové a pomocné údaje k sestavám --- v | BE4: Návod na vyplnění | BS4: 0,001
D5: Kód: | K5: Z_15_065 | BE5: Měnit lze pouze buňky se žlutým podbarvením!_x000D_ _x000D_ 1) v Rekapitulaci stavby vyplňte údaje o Uchazeči (přenesou se do ostatních sestav i v jiných listech)_x000D_ _x000D_ 2) na vybraných listech vyplňte v sestavě Soupis prací ceny u položek_x000D_ _x000D_ Podrobnosti k vyplnění naleznete na poslední záložce s Pokyny pro vyplnění | BS5: 0,01
D6: Stavba: | K6: Výměna výplní otvorů budovy č.p. 97, Čechtín | BS6: 0,1
D7: KSO: | AK7: CC-CZ: | BS7: 1
D8: Místo: | K8: Čechtín | AK8: Datum: | AN8: 2.9.2015 | BS8: 10
BS9: 100
D10: Zadavatel: | AK10: IČ: | BS10: 0,1
E11: ZD Podlesí, Čechtín | AK11: DIČ: | BS11: 0,1
BS12: 0,1
D13: Uchazeč: | AK13: IČ: | AN13: Vyplň údaj | BS13: 0,1
E14: Vyplň údaj | AK14: DIČ: | AN14: Vyplň údaj | BS14: 0,1
BS15: False
D16: Projektant: | AK16: IČ: | BS16: False
AK17: DIČ: | BS17: True
BS18: 0,01
D19: Poznámka: | BS19: 0,01
BS20: False
D23: Cena bez DPH | AK23: =ROUND(AG51,2) -> 0
L25: Sazba daně | W25: Základ daně | AK25: Výše daně
D26: DPH | F26: základní | L26: 0.21 | W26: =ROUND(AZ51,2) -> 0 | AK26: =ROUND(AV51,2) -> 0
F27: snížená | L27: 0.15 | W27: =ROUND(BA51,2) -> 0 | AK27: =ROUND(AW51,2) -> 0
F28: zákl. přenesená | L28: 0.21 | W28: =ROUND(BB51,2) -> 0 | AK28: 0
F29: sníž. přenesená | L29: 0.15 | W29: =ROUND(BC51,2) -> 0 | AK29: 0
F30: nulová | L30: 0 | W30: =ROUND(BD51,2) -> 0 | AK30: 0
D32: Cena s DPH | T32: v | X32: CZK | AK32: =SUM(AK23:AK30) -> 0
C39: REKAPITULACE OBJEKTŮ STAVBY A SOUPISŮ PRACÍ
C41: Kód: | L41: =K5 -> Z_15_065
C42: Stavba: | L42: =K6 -> Výměna výplní otvorů budovy č.p. 97, Čechtín
C44: Místo: | L44: =IF(K8="","",K8) -> Čechtín | AI44: Datum: | AM44: =IF(AN8= "","",AN8) -> 2.9.2015
C46: Zadavatel: | L46: =IF(E11= "","",E11) -> ZD Podlesí, Čechtín | AI46: Projektant: | AM46: =IF(E17="","",E17) | AS46: Informatívní údaje z listů zakázek
C47: Uchazeč: | L47: =IF(E14= "Vyplň údaj","",E14)
C49: Kód | I49: Objekt, Soupis prací | AG49: Cena bez DPH [CZK] | AN49: Cena s DPH [CZK] | AQ49: Typ | AS49: z toho Ostat._x000D_ náklady [CZK] | AT49: DPH [CZK] | AU49: Normohodiny [h] | AV49: DPH základní [CZK] | AW49: DPH snížená [CZK] | AX49: DPH základní přenesená_x000D_ [CZK] | AY49: DPH snížená přenesená_x000D_ [CZK] | AZ49: Základna_x000D_ DPH základní | BA49: Základna_x000D_ DPH snížená | BB49: Základna_x000D_ DPH zákl. přenesená | BC49: Základna_x000D_ DPH sníž. přenesená | BD49: Základna_x000D_ DPH nulová
C51: Náklady stavby celkem | AG51: =ROUND(SUM(AG52:AG53),2) -> 0 | AN51: =SUM(AG51,AT51) -> 0 | AS51: =ROUND(SUM(AS52:AS53),2) -> 0 | AT51: =ROUND(SUM(AV51:AW51),2) -> 0 | AU51: =ROUND(SUM(AU52:AU53),5) -> 0 | AV51: =ROUND(AZ51*L26,2) -> 0 | AW51: =ROUND(BA51*L27,2) -> 0 | AX51: =ROUND(BB51*L26,2) -> 0 | AY51: =ROUND(BC51*L27,2) -> 0 | AZ51: =ROUND(SUM(AZ52:AZ53),2) -> 0 | BA51: =ROUND(SUM(BA52:BA53),2) -> 0 | BB51: =ROUND(SUM(BB52:BB53),2) -> 0 | BC51: =ROUND(SUM(BC52:BC53),2) -> 0 | BD51: =ROUND(SUM(BD52:BD53),2) -> 0 | BS51: D | BT51: 0 | BV51: IMPORT | BW51: {92a87e33-38cd-424b-961c-7996cb7a00e5} | BX51: {00000000-0000-0000-0000-000000000000}
A52: / | D52: Z_15_065 | J52: Výměna výplní otvorů budovy č.p. 97, Čechtín | AG52: ='Z_15_065 - Výměna výplní ...'!J25 -> 0 | AN52: =SUM(AG52,AT52) -> 0 | AQ52: STA | AS52: 0 | AT52: =ROUND(SUM(AV52:AW52),2) -> 0 | AU52: ='Z_15_065 - Výměna výplní ...'!P82 -> 0 | AV52: ='Z_15_065 - Výměna výplní ...'!J28 -> 0 | AW52: ='Z_15_065 - Výměna výplní ...'!J29 -> 0 | AX52: ='Z_15_065 - Výměna výplní ...'!J30 -> 0 | AY52: ='Z_15_065 - Výměna výplní ...'!J31 -> 0 | AZ52: ='Z_15_065 - Výměna výplní ...'!F28 -> 0 | BA52: ='Z_15_065 - Výměna výplní ...'!F29 -> 0 | BB52: ='Z_15_065 - Výměna výplní ...'!F30 -> 0 | BC52: ='Z_15_065 - Výměna výplní ...'!F31 -> 0 | BD52: ='Z_15_065 - Výměna výplní ...'!F32 -> 0 | BT52: 1 | BU52: ###NOINSERT### | BV52: IMPORT | BW52: {92a87e33-38cd-424b-961c-7996cb7a00e5} | BX52: {00000000-0000-0000-0000-000000000000}
A53: / | D53: Z_15_065 | J53: Výměna výplní otvorů budovy č.p. 97, Čechtín | AG53: ='Z_15_065 - Výměna výplní ..._01'!J27 -> 0 | AN53: =SUM(AG53,AT53) -> 0 | AQ53: VON | AS53: 0 | AT53: =ROUND(SUM(AV53:AW53),2) -> 0 | AU53: ='Z_15_065 - Výměna výplní ..._01'!P78 -> 0 | AV53: ='Z_15_065 - Výměna výplní ..._01'!J30 -> 0 | AW53: ='Z_15_065 - Výměna výplní ..._01'!J31 -> 0 | AX53: ='Z_15_065 - Výměna výplní ..._01'!J32 -> 0 | AY53: ='Z_15_065 - Výměna výplní ..._01'!J33 -> 0 | AZ53: ='Z_15_065 - Výměna výplní ..._01'!F30 -> 0 | BA53: ='Z_15_065 - Výměna výplní ..._01'!F31 -> 0 | BB53: ='Z_15_065 - Výměna výplní ..._01'!F32 -> 0 | BC53: ='Z_15_065 - Výměna výplní ..._01'!F33 -> 0 | BD53: ='Z_15_065 - Výměna výplní ..._01'!F34 -> 0 | BT53: 1 | BV53: IMPORT | BW53: {e92f4f62-aa1c-4470-89ec-007ef4f96dd3} | BX53: {92a87e33-38cd-424b-961c-7996cb7a00e5} | CM53: 2

Sheet Z_15_065 - Výměna výplní ...
D1: List obsahuje: | F1: 1) Krycí list soupisu | G1: 2) Rekapitulace | J1: 3) Soupis prací | K1: Zpět na list: | L1: Rekapitulace stavby
AT2: {92a87e33-38cd-424b-961c-7996cb7a00e5}
AT3: 2
D4: KRYCÍ LIST SOUPISU | M4: v --- níže se nacházejí doplnkové a pomocné údaje k sestavám --- v | AT4: False
D6: Stavba:
E7: Výměna výplní otvorů budovy č.p. 97, Čechtín
D9: KSO: | I9: CC-CZ:
D10: Místo: | F10: Čechtín | I10: Datum: | J10: ='Rekapitulace stavby'!AN8 -> 2.9.2015
D12: Zadavatel: | I12: IČ:
E13: ZD Podlesí, Čechtín | I13: DIČ:
D15: Uchazeč: | I15: IČ: | J15: =IF('Rekapitulace stavby'!AN13="Vyplň údaj","",IF('Rekapitulace stavby'!AN13="","",'Rekapitulace stavby'!AN13))
E16: =IF('Rekapitulace stavby'!E14="Vyplň údaj","",IF('Rekapitulace stavby'!E14="","",'Rekapitulace stavby'!E14)) | I16: DIČ: | J16: =IF('Rekapitulace stavby'!AN14="Vyplň údaj","",IF('Rekapitulace stavby'!AN14="","",'Rekapitulace stavby'!AN14))
D18: Projektant: | I18: IČ: | J18: =IF('Rekapitulace stavby'!AN16="","",'Rekapitulace stavby'!AN16)
E19: =IF('Rekapitulace stavby'!E17="","",'Rekapitulace stavby'!E17) | I19: DIČ: | J19: =IF('Rekapitulace stavby'!AN17="","",'Rekapitulace stavby'!AN17)
D21: Poznámka:
D25: Cena bez DPH | J25: =ROUND(J82,2) -> 0
F27: Základ daně | I27: Sazba daně | J27: Výše daně
D28: DPH | E28: základní | F28: =ROUND(SUM(BE82:BE388), 2) -> 0 | I28: 0.21 | J28: =ROUND(ROUND((SUM(BE82:BE388)), 2)*I28, 2) -> 0
E29: snížená | F29: =ROUND(SUM(BF82:BF388), 2) -> 0 | I29: 0.15 | J29: =ROUND(ROUND((SUM(BF82:BF388)), 2)*I29, 2) -> 0
E30: zákl. přenesená | F30: =ROUND(SUM(BG82:BG388), 2) -> 0 | I30: 0.21 | J30: 0
E31: sníž. přenesená | F31: =ROUND(SUM(BH82:BH388), 2) -> 0 | I31: 0.15 | J31: 0
E32: nulová | F32: =ROUND(SUM(BI82:BI388), 2) -> 0 | I32: 0 | J32: 0
D34: Cena s DPH | G34: v | H34: CZK | J34: =SUM(J25:J32) -> 0
C40: REKAPITULACE ČLENĚNÍ SOUPISU PRACÍ
C42: Stavba:
E43: =E7 -> Výměna výplní otvorů budovy č.p. 97, Čechtín
C45: Místo: | F45: =F10 -> Čechtín | I45: Datum: | J45: =IF(J10="","",J10) -> 2.9.2015
C47: Zadavatel: | F47: =E13 -> ZD Podlesí, Čechtín | I47: Projektant: | J47: =E19
C48: Uchazeč: | F48: =IF(E16="","",E16)
C50: Kód dílu - Popis | J50: Cena celkem [CZK]
C52: Náklady soupisu celkem | J52: =J82 -> 0 | AU52: -1
D53: HSV - Práce a dodávky HSV | J53: =J83 -> 0
D54: 3 - Svislé a kompletní konstrukce | J54: =J84 -> 0
D55: 6 - Úpravy povrchů, podlahy a osazování výplní | J55: =J92 -> 0
D56: 9 - Ostatní konstrukce a práce, bourání | J56: =J212 -> 0
D57: 997 - Přesun sutě | J57: =J248 -> 0
D58: 998 - Přesun hmot | J58: =J270 -> 0
D59: PSV - Práce a dodávky PSV | J59: =J274 -> 0
D60: 711 - Izolace proti vodě, vlhkosti a plynům | J60: =J275 -> 0
D61: 764 - Konstrukce klempířské | J61: =J290 -> 0
...

Sheet Z_15_065 - Výměna výplní ..._01
D1: List obsahuje: | F1: 1) Krycí list soupisu | G1: 2) Rekapitulace | J1: 3) Soupis prací | K1: Zpět na list: | L1: Rekapitulace stavby
AT2: {e92f4f62-aa1c-4470-89ec-007ef4f96dd3}
AT3: 2
D4: KRYCÍ LIST SOUPISU | M4: v --- níže se nacházejí doplnkové a pomocné údaje k sestavám --- v | AT4: False
D6: Stavba:
E7: ='Rekapitulace stavby'!K6 -> Výměna výplní otvorů budovy č.p. 97, Čechtín
D8: Objekt:
E9: Z_15_065 - Výměna výplní otvorů budovy č.p. 97, Čechtín
D11: KSO: | I11: CC-CZ:
D12: Místo: | F12: Čechtín | I12: Datum: | J12: ='Rekapitulace stavby'!AN8 -> 2.9.2015
D14: Zadavatel: | I14: IČ:
E15: ZD Podlesí, Čechtín | I15: DIČ:
D17: Uchazeč: | I17: IČ: | J17: =IF('Rekapitulace stavby'!AN13="Vyplň údaj","",IF('Rekapitulace stavby'!AN13="","",'Rekapitulace stavby'!AN13))
E18: =IF('Rekapitulace stavby'!E14="Vyplň údaj","",IF('Rekapitulace stavby'!E14="","",'Rekapitulace stavby'!E14)) | I18: DIČ: | J18: =IF('Rekapitulace stavby'!AN14="Vyplň údaj","",IF('Rekapitulace stavby'!AN14="","",'Rekapitulace stavby'!AN14))
D20: Projektant: | I20: IČ: | J20: =IF('Rekapitulace stavby'!AN16="","",'Rekapitulace stavby'!AN16)
E21: =IF('Rekapitulace stavby'!E17="","",'Rekapitulace stavby'!E17) | I21: DIČ: | J21: =IF('Rekapitulace stavby'!AN17="","",'Rekapitulace stavby'!AN17)
D23: Poznámka:
D27: Cena bez DPH | J27: =ROUND(J78,2) -> 0
F29: Základ daně | I29: Sazba daně | J29: Výše daně
D30: DPH | E30: základní | F30: =ROUND(SUM(BE78:BE82), 2) -> 0 | I30: 0.21 | J30: =ROUND(ROUND((SUM(BE78:BE82)), 2)*I30, 2) -> 0
E31: snížená | F31: =ROUND(SUM(BF78:BF82), 2) -> 0 | I31: 0.15 | J31: =ROUND(ROUND((SUM(BF78:BF82)), 2)*I31, 2) -> 0
E32: zákl. přenesená | F32: =ROUND(SUM(BG78:BG82), 2) -> 0 | I32: 0.21 | J32: 0
E33: sníž. přenesená | F33: =ROUND(SUM(BH78:BH82), 2) -> 0 | I33: 0.15 | J33: 0
E34: nulová | F34: =ROUND(SUM(BI78:BI82), 2) -> 0 | I34: 0 | J34: 0
D36: Cena s DPH | G36: v | H36: CZK | J36: =SUM(J27:J34) -> 0
C42: REKAPITULACE ČLENĚNÍ SOUPISU PRACÍ
C44: Stavba:
E45: =E7 -> Výměna výplní otvorů budovy č.p. 97, Čechtín
C46: Objekt:
E47: =E9 -> Z_15_065 - Výměna výplní otvorů budovy č.p. 97, Čechtín
C49: Místo: | F49: =F12 -> Čechtín | I49: Datum: | J49: =IF(J12="","",J12) -> 2.9.2015
C51: Zadavatel: | F51: =E15 -> ZD Podlesí, Čechtín | I51: Projektant: | J51: =E21
C52: Uchazeč: | F52: =IF(E18="","",E18)
C54: Kód dílu - Popis | J54: Cena celkem [CZK]
C56: Náklady soupisu celkem | J56: =J78 -> 0 | AU56: -1
D57: VRN - Vedlejší rozpočtové náklady | J57: =J79 -> 0
D58: VRN4 - Inženýrská činnost | J58: =J80 -> 0
C65: SOUPIS PRACÍ
C67: Stavba:
E68: =E7 -> Výměna výplní otvorů budovy č.p. 97, Čechtín
...

Sheet Pokyny pro vyplnění
C3: Struktura údajů, formát souboru a metodika pro zpracování
C4: Struktura
C6: Soubor je složen ze záložky Rekapitulace stavby a záložek s názvem soupisu prací pro jednotlivé objekty ve formátu XLS. Každá ze záložek přitom obsahuje
C7: ještě samostatné sestavy vymezené orámovaním a nadpisem sestavy.
C9: Rekapitulace stavby obsahuje sestavu Rekapitulace stavby a Rekapitulace objektů stavby a soupisů prací.
D10: V sestavě Rekapitulace stavby jsou uvedeny informace identifikující předmět veřejné zakázky na stavební práce, KSO, CC-CZ, CZ-CPV, CZ-CPA a rekapitulaci
D11: celkové nabídkové ceny uchazeče.
D13: V sestavě Rekapitulace objektů stavby a soupisů prací je uvedena rekapitulace stavebních objektů, inženýrských objektů, provozních souborů,
D14: vedlejších a ostatních nákladů a ostatních nákladů s rekapitulací nabídkové ceny za jednotlivé soupisy prací. Na základě údaje Typ je možné
D15: identifikovat, zda se jedná o objekt nebo soupis prací pro daný objekt:
E16: STA | F16: Stavební objekt pozemní
E17: ING | F17: Stavební objekt inženýrský
E18: PRO | F18: Provozní soubor
E19: VON | F19: Vedlejší a ostatní náklady
E20: OST | F20: Ostatní
E21: Soupis | F21: Soupis prací pro daný typ objektu
C23: Soupis prací pro jednotlivé objekty obsahuje sestavy Krycí list soupisu, Rekapitulace členění soupisu prací, Soupis prací. Za soupis prací může být považován
C24: i objekt stavby v případě, že neobsahuje podřízenou zakázku.
D25: Krycí list soupisu obsahuje rekapitulaci informací o předmětu veřejné zakázky ze sestavy Rekapitulace stavby, informaci o zařazení objektu do KSO,
D26: CC-CZ, CZ-CPV, CZ-CPA a rekapitulaci celkové nabídkové ceny uchazeče za aktuální soupis prací.
D28: Rekapitulace členění soupisu prací obsahuje rekapitulaci soupisu prací ve všech úrovních členění soupisu tak, jak byla tato členění použita (např.
D29: stavební díly, funkční díly, případně jiné členění) s rekapitulací nabídkové ceny.
D31: Soupis prací obsahuje položky veškerých stavebních nebo montážních prací, dodávek materiálů a služeb nezbytných pro zhotovení stavebního objektu,
D32: inženýrského objektu, provozního souboru, vedlejších a ostatních nákladů.
D33: Pro položky soupisu prací se zobrazují následující informace:
E34: PČ | G34: Pořadové číslo položky v aktuálním soupisu
E35: TYP | G35: Typ položky: K - konstrukce, M - materiál, PP - plný popis, PSC - poznámka k souboru cen, P - poznámka k položce, VV - výkaz výměr
E36: Kód | G36: Kód položky
E37: Popis | G37: Zkrácený popis položky
E38: MJ | G38: Měrná jednotka položky
E39: Množství | G39: Množství v měrné jednotce
E40: J.cena | G40: Jednotková cena položky. Zadaní může obsahovat namísto J.ceny sloupce J.materiál a J.montáž, jejichž součet definuje
G41: J.cenu položky.
E42: Cena celkem | G42: Celková cena položky daná jako součin množství a j.ceny
E43: Cenová soustava | G43: Příslušnost položky do cenové soustavy
D45: Ke každé položce soupisu prací se na samostatných řádcích může zobrazovat:
E46: Plný popis položky
E47: Poznámka k souboru cen a poznámka zadavatele
E48: Výkaz výměr
D49: Pokud je k řádku výkazu výměr evidovaný údaj ve sloupci Kód, jedná se o definovaný odkaz, na který se může odvolávat výkaz výměr z jiné položky.
...
