Workbook

Sheet Rekapitulace stavby
A1: Export VZ | D1: List obsahuje: | K1: 1) Rekapitulace stavby | W1: 2) Rekapitulace objektů stavby a soupisů prací | BA1: 3.0 | BB1: ZAMOK | BT1: False | BU1: False | BV1: {92a87e33-38cd-424b-961c-7996cb7a00e5}
BS2: 0,01 | BT2: 21
BS3: 0,01 | BT3: 15
D4: REKAPITULACE STAVBY | AS4: v --- níže se nacházejí doplnkové a pomocné údaje k sestavám --- v | BE4: Návod na vyplnění | BS4: 0,001
D5: Kód: | K5: Z_15_065 | BE5: Měnit lze pouze buňky se žlutým podbarvením!_x000D_ _x000D_ 1) v Rekapitulaci stavby vyplňte údaje o Uchazeči (přenesou se do ostatních sestav i v jiných listech)_x000D_ _x000D_ 2) na vybraných listech vyplňte v sestavě Soupis prací ceny u položek_x000D_ _x000D_ Podrobnosti k vyplnění naleznete na poslední záložce s Pokyny pro vyplnění | BS5: 0,01
D6: Stavba: | K6: Výměna výplní otvorů budovy č.p. 97, Čechtín | BS6: 0,1
D7: KSO: | AK7: CC-CZ: | BS7: 1
D8: Místo: | K8: Čechtín | AK8: Datum: | AN8: 2.9.2015 | BS8: 10
BS9: 100
D10: Zadavatel: | AK10: IČ: | BS10: 0,1
E11: ZD Podlesí, Čechtín | AK11: DIČ: | BS11: 0,1
BS12: 0,1
D13: Uchazeč: | AK13: IČ: | AN13: Vyplň údaj | BS13: 0,1
E14: Vyplň údaj | AK14: DIČ: | AN14: Vyplň údaj | BS14: 0,1
BS15: False
D16: Projektant: | AK16: IČ: | BS16: False
AK17: DIČ: | BS17: True
BS18: 0,01
D19: Poznámka: | BS19: 0,01
BS20: False
D23: Cena bez DPH | AK23: =ROUND(AG51,2) -> 0
L25: Sazba daně | W25: Základ daně | AK25: Výše daně
D26: DPH | F26: základní | L26: 0.21 | W26: =ROUND(AZ51,2) -> 0 | AK26: =ROUND(AV51,2) -> 0
F27: snížená | L27: 0.15 | W27: =ROUND(BA51,2) -> 0 | AK27: =ROUND(AW51,2) -> 0
F28: zákl. přenesená | L28: 0.21 | W28: =ROUND(BB51,2) -> 0 | AK28: 0
F29: sníž. přenesená | L29: 0.15 | W29: =ROUND(BC51,2) -> 0 | AK29: 0
F30: nulová | L30: 0 | W30: =ROUND(BD51,2) -> 0 | AK30: 0
D32: Cena s DPH | T32: v | X32: CZK | AK32: =SUM(AK23:AK30) -> 0
C39: REKAPITULACE OBJEKTŮ STAVBY A SOUPISŮ PRACÍ
C41: Kód: | L41: =K5 -> Z_15_065
C42: Stavba: | L42: =K6 -> Výměna výplní otvorů budovy č.p. 97, Čechtín
C44: Místo: | L44: =IF(K8="","",K8) -> Čechtín | AI44: Datum: | AM44: =IF(AN8= "","",AN8) -> 2.9.2015
C46: Zadavatel: | L46: =IF(E11= "","",E11) -> ZD Podlesí, Čechtín | AI46: Projektant: | AM46: =IF(E17="","",E17) | AS46: Informatívní údaje z listů zakázek
C47: Uchazeč: | L47: =IF(E14= "Vyplň údaj","",E14)
C49: Kód | I49: Objekt, Soupis prací | AG49: Cena bez DPH [CZK] | AN49: Cena s DPH [CZK] | AQ49: Typ | AS49: z toho Ostat._x000D_ náklady [CZK] | AT49: DPH [CZK] | AU49: Normohodiny [h] | AV49: DPH základní [CZK] | AW49: DPH snížená [CZK] | AX49: DPH základní přenesená_x000D_ [CZK] | AY49: DPH snížená přenesená_x000D_ [CZK] | AZ49: Základna_x000D_ DPH základní | BA49: Základna_x000D_ DPH snížená | BB49: Základna_x000D_ DPH zákl. přenesená | BC49: Základna_x000D_ DPH sníž. přenesená | BD49: Základna_x000D_ DPH nulová
C51: Náklady stavby celkem | AG51: =ROUND(SUM(AG52:AG53),2) -> 0 | AN51: =SUM(AG51,AT51) -> 0 | AS51: =ROUND(SUM(AS52:AS53),2) -> 0 | AT51: =ROUND(SUM(AV51:AW51),2) -> 0 | AU51: =ROUND(SUM(AU52:AU53),5) -> 0 | AV51: =ROUND(AZ51*L26,2) -> 0 | AW51: =ROUND(BA51*L27,2) -> 0 | AX51: =ROUND(BB51*L26,2) -> 0 | AY51: =ROUND(BC51*L27,2) -> 0 | AZ51: =ROUND(SUM(AZ52:AZ53),2) -> 0 | BA51: =ROUND(SUM(BA52:BA53),2) -> 0 | BB51: =ROUND(SUM(BB52:BB53),2) -> 0 | BC51: =ROUND(SUM(BC52:BC53),2) -> 0 | BD51: =ROUND(SUM(BD52:BD53),2) -> 0 | BS51: D | BT51: 0 | BV51: IMPORT | BW51: {92a87e33-38cd-424b-961c-7996cb7a00e5} | BX51: {00000000-0000-0000-0000-000000000000}
A52: / | D52: Z_15_065 | J52: Výměna výplní otvorů budovy č.p. 97, Čechtín | AG52: ='Z_15_065 - Výměna výplní ...'!J25 -> 0 | AN52: =SUM(AG52,AT52) -> 0 | AQ52: STA | AS52: 0 | AT52: =ROUND(SUM(AV52:AW52),2) -> 0 | AU52: ='Z_15_065 - Výměna výplní ...'!P82 -> 0 | AV52: ='Z_15_065 - Výměna výplní ...'!J28 -> 0 | AW52: ='Z_15_065 - Výměna výplní ...'!J29 -> 0 | AX52: ='Z_15_065 - Výměna výplní ...'!J30 -> 0 | AY52: ='Z_15_065 - Výměna výplní ...'!J31 -> 0 | AZ52: ='Z_15_065 - Výměna výplní ...'!F28 -> 0 | BA52: ='Z_15_065 - Výměna výplní ...'!F29 -> 0 | BB52: ='Z_15_065 - Výměna výplní ...'!F30 -> 0 | BC52: ='Z_15_065 - Výměna výplní ...'!F31 -> 0 | BD52: ='Z_15_065 - Výměna výplní ...'!F32 -> 0 | BT52: 1 | BU52: ###NOINSERT### | BV52: IMPORT | BW52: {92a87e33-38cd-424b-961c-7996cb7a00e5} | BX52: {00000000-0000-0000-0000-000000000000}
A53: / | D53: Z_15_065 | J53: Výměna výplní otvorů budovy č.p. 97, Čechtín | AG53: ='Z_15_065 - Výměna výplní ..._01'!J27 -> 0 | AN53: =SUM(AG53,AT53) -> 0 | AQ53: VON | AS53: 0 | AT53: =ROUND(SUM(AV53:AW53),2) -> 0 | AU53: ='Z_15_065 - Výměna výplní ..._01'!P78 -> 0 | AV53: ='Z_15_065 - Výměna výplní ..._01'!J30 -> 0 | AW53: ='Z_15_065 - Výměna výplní ..._01'!J31 -> 0 | AX53: ='Z_15_065 - Výměna výplní ..._01'!J32 -> 0 | AY53: ='Z_15_065 - Výměna výplní ..._01'!J33 -> 0 | AZ53: ='Z_15_065 - Výměna výplní ..._01'!F30 -> 0 | BA53: ='Z_15_065 - Výměna výplní ..._01'!F31 -> 0 | BB53: ='Z_15_065 - Výměna výplní ..._01'!F32 -> 0 | BC53: ='Z_15_065 - Výměna výplní ..._01'!F33 -> 0 | BD53: ='Z_15_065 - Výměna výplní ..._01'!F34 -> 0 | BT53: 1 | BV53: IMPORT | BW53: {e92f4f62-aa1c-4470-89ec-007ef4f96dd3} | BX53: {92a87e33-38cd-424b-961c-7996cb7a00e5} | CM53: 2

Sheet Z_15_065 - Výměna výplní ...
D1: List obsahuje: | F1: 1) Krycí list soupisu | G1: 2) Rekapitulace | J1: 3) Soupis prací | K1: Zpět na list: | L1: Rekapitulace stavby
AT2: {92a87e33-38cd-424b-961c-7996cb7a00e5}
AT3: 2
D4: KRYCÍ LIST SOUPISU | M4: v --- níže se nacházejí doplnkové a pomocné údaje k sestavám --- v | AT4: False
D6: Stavba:
E7: Výměna výplní otvorů budovy č.p. 97, Čechtín
D9: KSO: | I9: CC-CZ:
D10: Místo: | F10: Čechtín | I10: Datum: | J10: ='Rekapitulace stavby'!AN8 -> 2.9.2015
D12: Zadavatel: | I12: IČ:
E13: ZD Podlesí, Čechtín | I13: DIČ:
D15: Uchazeč: | I15: IČ: | J15: =IF('Rekapitulace stavby'!AN13="Vyplň údaj","",IF('Rekapitulace stavby'!AN13="","",'Rekapitulace stavby'!AN13))
E16: =IF('Rekapitulace stavby'!E14="Vyplň údaj","",IF('Rekapitulace stavby'!E14="","",'Rekapitulace stavby'!E14)) | I16: DIČ: | J16: =IF('Rekapitulace stavby'!AN14="Vyplň údaj","",IF('Rekapitulace stavby'!AN14="","",'Rekapitulace stavby'!AN14))
D18: Projektant: | I18: IČ: | J18: =IF('Rekapitulace stavby'!AN16="","",'Rekapitulace stavby'!AN16)
E19: =IF('Rekapitulace stavby'!E17="","",'Rekapitulace stavby'!E17) | I19: DIČ: | J19: =IF('Rekapitulace stavby'!AN17="","",'Rekapitulace stavby'!AN17)
D21: Poznámka:
D25: Cena bez DPH | J25: =ROUND(J82,2) -> 0
F27: Základ daně | I27: Sazba daně | J27: Výše daně
D28: DPH | E28: základní | F28: =ROUND(SUM(BE82:BE388), 2) -> 0 | I28: 0.21 | J28: =ROUND(ROUND((SUM(BE82:BE388)), 2)*I28, 2) -> 0
E29: snížená | F29: =ROUND(SUM(BF82:BF388), 2) -> 0 | I29: 0.15 | J29: =ROUND(ROUND((SUM(BF82:BF388)), 2)*I29, 2) -> 0
E30: zákl. přenesená | F30: =ROUND(SUM(BG82:BG388), 2) -> 0 | I30: 0.21 | J30: 0
E31: sníž. přenesená | F31: =ROUND(SUM(BH82:BH388), 2) -> 0 | I31: 0.15 | J31: 0
E32: nulová | F32: =ROUND(SUM(BI82:BI388), 2) -> 0 | I32: 0 | J32: 0
D34: Cena s DPH | G34: v | H34: CZK | J34: =SUM(J25:J32) -> 0
C40: REKAPITULACE ČLENĚNÍ SOUPISU PRACÍ
C42: Stavba:
E43: =E7 -> Výměna výplní otvorů budovy č.p. 97, Čechtín
C45: Místo: | F45: =F10 -> Čechtín | I45: Datum: | J45: =IF(J10="","",J10) -> 2.9.2015
C47: Zadavatel: | F47: =E13 -> ZD Podlesí, Čechtín | I47: Projektant: | J47: =E19
C48: Uchazeč: | F48: =IF(E16="","",E16)
C50: Kód dílu - Popis | J50: Cena celkem [CZK]
C52: Náklady soupisu celkem | J52: =J82 -> 0 | AU52: -1
D53: HSV - Práce a dodávky HSV | J53: =J83 -> 0
D54: 3 - Svislé a kompletní konstrukce | J54: =J84 -> 0
D55: 6 - Úpravy povrchů, podlahy a osazování výplní | J55: =J92 -> 0
D56: 9 - Ostatní konstrukce a práce, bourání | J56: =J212 -> 0
D57: 997 - Přesun sutě | J57: =J248 -> 0
D58: 998 - Přesun hmot | J58: =J270 -> 0
D59: PSV - Práce a dodávky PSV | J59: =J274 -> 0
D60: 711 - Izolace proti vodě, vlhkosti a plynům | J60: =J275 -> 0
D61: 764 - Konstrukce klempířské | J61: =J290 -> 0
D62: 766 - Konstrukce truhlářské | J62: =J301 -> 0
D63: 767 - Konstrukce zámečnické | J63: =J321 -> 0
D64: 784 - Dokončovací práce - malby a tapety | J64: =J349 -> 0
C71: SOUPIS PRACÍ
C73: Stavba:
E74: =E7 -> Výměna výplní otvorů budovy č.p. 97, Čechtín
C76: Místo: | F76: =F10 -> Čechtín | I76: Datum: | J76: =IF(J10="","",J10) -> 2.9.2015
C78: Zadavatel: | F78: =E13 -> ZD Podlesí, Čechtín | I78: Projektant: | J78: =E19
C79: Uchazeč: | F79: =IF(E16="","",E16)
C81: PČ | D81: Typ | E81: Kód | F81: Popis | G81: MJ | H81: Množství | I81: J.cena [CZK] | J81: Cena celkem [CZK] | K81: Cenová soustava | M81: Poznámka | N81: DPH | O81: J. Nh [h] | P81: Nh celkem [h] | Q81: J. hmotnost_x000D_ [t] | R81: Hmotnost_x000D_ celkem [t] | S81: J. suť [t] | T81: Suť Celkem [t]
C82: Náklady soupisu celkem | J82: =BK82 -> 0 | P82: =P83+P274 -> 0 | R82: =R83+R274 -> 13.181833 | T82: =T83+T274 -> 12.390098 | AT82: D | AU82: -1 | BK82: =BK83+BK274 -> 0
D83: D | E83: HSV | F83: Práce a dodávky HSV | J83: =BK83 -> 0 | P83: =P84+P92+P212+P248+P270 -> 0 | R83: =R84+R92+R212+R248+R270 -> 10.790201 | T83: =T84+T92+T212+T248+T270 -> 12.207939 | AR83: 1 | AT83: D | AU83: 0 | AY83: ROZPOCET | BK83: =BK84+BK92+BK212+BK248+BK270 -> 0
D84: D | E84: 3 | F84: Svislé a kompletní konstrukce | J84: =BK84 -> 0 | P84: =SUM(P85:P91) -> 0 | R84: =SUM(R85:R91) -> 4.5700491 | T84: =SUM(T85:T91) -> 0 | AR84: 1 | AT84: D | AU84: 1 | AY84: ROZPOCET | BK84: =SUM(BK85:BK91) -> 0
C85: 1 | D85: K | E85: 311238647 | F85: Zdivo nosné vnější tepelně izolační z cihel broušených tl 440 mm U = 0,115W/m2K na PUR pěnu | G85: m2 | H85: 15.736 | J85: =ROUND(I85*H85,2) -> 0 | K85: CS ÚRS 2015 01 | N85: základní | P85: =O85*H85 -> 0 | Q85: 0.29042 | R85: =Q85*H85 -> 4.5700491 | S85: 0 | T85: =S85*H85 -> 0 | AR85: 4 | AT85: K | AU85: 2 | AY85: ROZPOCET | BE85: =IF(N85="základní",J85,0) -> 0 | BF85: =IF(N85="snížená",J85,0) -> 0 | BG85: =IF(N85="zákl. přenesená",J85,0) -> 0 | BH85: =IF(N85="sníž. přenesená",J85,0) -> 0 | BI85: =IF(N85="nulová",J85,0) -> 0 | BJ85: 1 | BK85: =ROUND(I85*H85,2) -> 0 | BL85: 4 | BM85: -841009351
D86: PP | F86: Zdivo nosné jednovrstvé z cihel děrovaných tepelně izolačních spojené na pero a drážku broušené, lepené PUR pěnou, součinitel prostupu tepla U = 0,19, tl. zdiva 440 mm | AT86: PP | AU86: 2
D87: PSC | F87: Poznámka k souboru cen: 1. Množství jednotek se určuje v m2 plochy konstrukce. 2. Do plochy zdiva se započítává plocha vyzdívky nosných ocelových koster svislých i šikmých. Tato plocha se započítává plně bez odpočtu plochy ocelových koster nosníků. 3. Od plochy zdiva se odečítá: a) plocha otvorů jednotlivě větší než 0,25 m2, b) plocha otvorů okenních, dveřních a jiných (vnějších i vnitřních) stanovená z rozměrů kótovaných ve výkresech. Při zalomeném ostění oken a balkónových dveří se šířka zmenšuje o 100 mm. c) plocha překladů, obetonovaných hlav ocelových nosníků, věnců a jiných konstrukcí betonových a železobetonových. 4. Množství měrných jednotek se určuje u položek: -8911 a -8912 v m délky kapes obvodového zdiva, -8921 až -8924 v m délky vrstvy zdiva. 5. V cenách jsou započteny i náklady na doplňkové cihly. 6. Jednotka U (W/m2K) - součinitel prostupu tepla udává tepelně izolační vlastnosti neomítnutého zdiva. | AT87: PSC | AU87: 2
D88: P | F88: Poznámka k položce: zazdívky otvorů vrat 2 ks budova C | AT88: P | AU88: 2
D89: VV | F89: 2,66*2,77*2 | H89: 14.736 | AT89: VV | AU89: 2 | AV89: 2 | AW89: True | AX89: 0 | AY89: ROZPOCET
D90: VV | F90: 1 "zavázání do kapes" | H90: 1 | AT90: VV | AU90: 2 | AV90: 2 | AW90: True | AX90: 0 | AY90: ROZPOCET
D91: VV | F91: Součet | H91: 15.736 | AT91: VV | AU91: 2 | AV91: 4 | AW91: True | AX91: 1 | AY91: ROZPOCET
D92: D | E92: 6 | F92: Úpravy povrchů, podlahy a osazování výplní | J92: =BK92 -> 0 | P92: =SUM(P93:P211) -> 0 | R92: =SUM(R93:R211) -> 6.2097518 | T92: =SUM(T93:T211) -> 0 | AR92: 1 | AT92: D | AU92: 1 | AY92: ROZPOCET | BK92: =SUM(BK93:BK211) -> 0
C93: 2 | D93: K | E93: 612135001 | F93: Vyrovnání podkladu vnitřních stěn maltou vápenocementovou tl do 10 mm | G93: m2 | H93: 35.364 | J93: =ROUND(I93*H93,2) -> 0 | K93: CS ÚRS 2015 01 | N93: základní | P93: =O93*H93 -> 0 | Q93: 0.02048 | R93: =Q93*H93 -> 0.72425472 | S93: 0 | T93: =S93*H93 -> 0 | AR93: 4 | AT93: K | AU93: 2 | AY93: ROZPOCET | BE93: =IF(N93="základní",J93,0) -> 0 | BF93: =IF(N93="snížená",J93,0) -> 0 | BG93: =IF(N93="zákl. přenesená",J93,0) -> 0 | BH93: =IF(N93="sníž. přenesená",J93,0) -> 0 | BI93: =IF(N93="nulová",J93,0) -> 0 | BJ93: 1 | BK93: =ROUND(I93*H93,2) -> 0 | BL93: 4 | BM93: 910176075
D94: PP | F94: Vyrovnání nerovností podkladu vnitřních omítaných ploch maltou, tloušťky do 10 mm vápenocementovou stěn | AT94: PP | AU94: 2
D95: PSC | F95: Poznámka k souboru cen: 1. V cenách nejsou započteny náklady na případné vkládání výztuže do vyrovnávací vrstvy; tyto se ocení cenami souboru cen 61.-14-10.. Potažení vnitřních ploch pletivem v části A04, katalogu 801-1 Budovy a haly - zděné a monolitické. 2. Ceny -5011 nelze použít, je-li předepsáno vkládání výztužné tkaniny; náklady se ocení cenami 61. 14-1001 v části A04, katalogu 801-1 Budovy a haly - zděné a monolitické. 3. Ceny lze použít i pro ocenění vyrovnání nerovností podkladu ploch určených k omítání u novostaveb. 4. Vyrovnáním se rozumí: a) vrstva omítky pro vyrovnání nerovností podkladu (výtluků apod.), b) vrstva omítky pro vyrovnání křivě postavené zdi, v tomto případě se uvádí průměrná tloušťka vrstvy omítky. | AT95: PSC | AU95: 2
D96: P | F96: Poznámka k položce: Zapravení vnitřníhoo ostění po vybourání výplní otvorů | AT96: P | AU96: 2
D97: VV | F97: (2,77+3,36+3,88+3,93)*0,3*2 "ostění vrata" | H97: 8.364 | AT97: VV | AU97: 2 | AV97: 2 | AW97: True | AX97: 0 | AY97: ROZPOCET
D98: VV | F98: 1,8*2*0,3*25 "ostění okna" | H98: 27 | AT98: VV | AU98: 2 | AV98: 2 | AW98: True | AX98: 0 | AY98: ROZPOCET
D99: VV | F99: Součet | H99: 35.364 | AT99: VV | AU99: 2 | AV99: 4 | AW99: True | AX99: 1 | AY99: ROZPOCET
C100: 3 | D100: K | E100: 612135091 | F100: Příplatek k vyrovnání vnitřních stěn maltou vápenocementovou za každých dalších 5 mm tl | G100: m2 | H100: 70.728 | J100: =ROUND(I100*H100,2) -> 0 | K100: CS ÚRS 2015 01 | N100: základní | P100: =O100*H100 -> 0 | Q100: 0.0079 | R100: =Q100*H100 -> 0.5587512 | S100: 0 | T100: =S100*H100 -> 0 | AR100: 4 | AT100: K | AU100: 2 | AY100: ROZPOCET | BE100: =IF(N100="základní",J100,0) -> 0 | BF100: =IF(N100="snížená",J100,0) -> 0 | BG100: =IF(N100="zákl. přenesená",J100,0) -> 0 | BH100: =IF(N100="sníž. přenesená",J100,0) -> 0 | BI100: =IF(N100="nulová",J100,0) -> 0 | BJ100: 1 | BK100: =ROUND(I100*H100,2) -> 0 | BL100: 4 | BM100: 378473436
D101: PP | F101: Vyrovnání nerovností podkladu vnitřních omítaných ploch tmelem, tloušťky do 2 mm Příplatek k ceně za každých dalších 5 mm tloušťky podkladní vrstvy přes 10 mm maltou vápenocementovou stěn | AT101: PP | AU101: 2
D102: PSC | F102: Poznámka k souboru cen: 1. V cenách nejsou započteny náklady na případné vkládání výztuže do vyrovnávací vrstvy; tyto se ocení cenami souboru cen 61.-14-10.. Potažení vnitřních ploch pletivem v části A04, katalogu 801-1 Budovy a haly - zděné a monolitické. 2. Ceny -5011 nelze použít, je-li předepsáno vkládání výztužné tkaniny; náklady se ocení cenami 61. 14-1001 v části A04, katalogu 801-1 Budovy a haly - zděné a monolitické. 3. Ceny lze použít i pro ocenění vyrovnání nerovností podkladu ploch určených k omítání u novostaveb. 4. Vyrovnáním se rozumí: a) vrstva omítky pro vyrovnání nerovností podkladu (výtluků apod.), b) vrstva omítky pro vyrovnání křivě postavené zdi, v tomto případě se uvádí průměrná tloušťka vrstvy omítky. | AT102: PSC | AU102: 2
D103: VV | F103: (2,77+3,36+3,88+3,93)*0,3*2*2 "ostění vrata" | H103: 16.728 | AT103: VV | AU103: 2 | AV103: 2 | AW103: True | AX103: 0 | AY103: ROZPOCET
D104: VV | F104: (1,8*2*0,3*25)*2 "ostění okna" | H104: 54 | AT104: VV | AU104: 2 | AV104: 2 | AW104: True | AX104: 0 | AY104: ROZPOCET
D105: VV | F105: Součet | H105: 70.728 | AT105: VV | AU105: 2 | AV105: 4 | AW105: True | AX105: 1 | AY105: ROZPOCET
C106: 4 | D106: K | E106: 612321141 | F106: Vápenocementová omítka štuková dvouvrstvá vnitřních stěn nanášená ručně | G106: m2 | H106: 14.736 | J106: =ROUND(I106*H106,2) -> 0 | K106: CS ÚRS 2015 01 | N106: základní | P106: =O106*H106 -> 0 | Q106: 0.01838 | R106: =Q106*H106 -> 0.27084768 | S106: 0 | T106: =S106*H106 -> 0 | AR106: 4 | AT106: K | AU106: 2 | AY106: ROZPOCET | BE106: =IF(N106="základní",J106,0) -> 0 | BF106: =IF(N106="snížená",J106,0) -> 0 | BG106: =IF(N106="zákl. přenesená",J106,0) -> 0 | BH106: =IF(N106="sníž. přenesená",J106,0) -> 0 | BI106: =IF(N106="nulová",J106,0) -> 0 | BJ106: 1 | BK106: =ROUND(I106*H106,2) -> 0 | BL106: 4 | BM106: 917563291
D107: PP | F107: Omítka vápenocementová vnitřních ploch nanášená ručně dvouvrstvá, tloušťky jádrové omítky do 10 mm a tloušťky štuku do 3 mm štuková svislých konstrukcí stěn | AT107: PP | AU107: 2
D108: PSC | F108: Poznámka k souboru cen: 1. Pro ocenění nanášení omítek v tloušťce jádrové omítky přes 10 mm se použije příplatek za každých dalších i započatých 5 mm. 2. Omítky stropních konstrukcí nanášené na pletivo se oceňují cenami omítek žebrových stropů nebo osamělých trámů. 3. Podkladní a spojovací vrstvy se oceňují cenami souboru cen 61.13-1... této části katalogu. | AT108: PSC | AU108: 2
D109: P | F109: Poznámka k položce: Vnitřní omítka zazdívaných otvorů | AT109: P | AU109: 2
C110: 5 | D110: K | E110: 612325302 | F110: Vápenocementová štuková omítka ostění nebo nadpraží | G110: m2 | H110: 49.635 | J110: =ROUND(I110*H110,2) -> 0 | K110: CS ÚRS 2015 01 | N110: základní | P110: =O110*H110 -> 0 | Q110: 0.03358 | R110: =Q110*H110 -> 1.6667433 | S110: 0 | T110: =S110*H110 -> 0 | AR110: 4 | AT110: K | AU110: 2 | AY110: ROZPOCET | BE110: =IF(N110="základní",J110,0) -> 0 | BF110: =IF(N110="snížená",J110,0) -> 0 | BG110: =IF(N110="zákl. přenesená",J110,0) -> 0 | BH110: =IF(N110="sníž. přenesená",J110,0) -> 0 | BI110: =IF(N110="nulová",J110,0) -> 0 | BJ110: 1 | BK110: =ROUND(I110*H110,2) -> 0 | BL110: 4 | BM110: 1133296778
D111: PP | F111: Vápenocementová nebo vápenná omítka ostění nebo nadpraží štuková | AT111: PP | AU111: 2
D112: PSC | F112: Poznámka k souboru cen: 1. Ceny lze použít jen pro ocenění samostatně upravovaného ostění a nadpraží ( např. při dodatečné výměně oken nebo zárubní ) v šířce do 300 mm okolo upravovaného otvoru. | AT112: PSC | AU112: 2
D113: P | F113: Poznámka k položce: Omítka vnitřního ostění | AT113: P | AU113: 2
D114: VV | F114: (2,66+2,99+3,82+3,90)*0,3 "nadpraží vrata" | H114: 4.011 | AT114: VV | AU114: 2 | AV114: 2 | AW114: True | AX114: 0 | AY114: ROZPOCET
D115: VV | F115: 1,8*0,3*23 "nadpraží okna" | H115: 12.42 | AT115: VV | AU115: 2 | AV115: 2 | AW115: True | AX115: 0 | AY115: ROZPOCET
D116: VV | F116: Mezisoučet | H116: 16.431 | AT116: VV | AU116: 2 | AV116: 3 | AW116: True | AX116: 0 | AY116: ROZPOCET
D117: VV | F117: (2,77+3,36+3,88+3,93)*0,3*2 "ostění vrata" | H117: 8.364 | AT117: VV | AU117: 2 | AV117: 2 | AW117: True | AX117: 0 | AY117: ROZPOCET
D118: VV | F118: 1,8*2*0,3*23 "ostění okna" | H118: 24.84 | AT118: VV | AU118: 2 | AV118: 2 | AW118: True | AX118: 0 | AY118: ROZPOCET
D119: VV | F119: Součet | H119: 49.635 | AT119: VV | AU119: 2 | AV119: 4 | AW119: True | AX119: 1 | AY119: ROZPOCET
C120: 6 | D120: K | E120: 622131101 | F120: Cementový postřik vnějších stěn nanášený celoplošně ručně | G120: m2 | H120: 14.736 | J120: =ROUND(I120*H120,2) -> 0 | K120: CS ÚRS 2015 01 | N120: základní | P120: =O120*H120 -> 0 | Q120: 0.00735 | R120: =Q120*H120 -> 0.1083096 | S120: 0 | T120: =S120*H120 -> 0 | AR120: 4 | AT120: K | AU120: 2 | AY120: ROZPOCET | BE120: =IF(N120="základní",J120,0) -> 0 | BF120: =IF(N120="snížená",J120,0) -> 0 | BG120: =IF(N120="zákl. přenesená",J120,0) -> 0 | BH120: =IF(N120="sníž. přenesená",J120,0) -> 0 | BI120: =IF(N120="nulová",J120,0) -> 0 | BJ120: 1 | BK120: =ROUND(I120*H120,2) -> 0 | BL120: 4 | BM120: 1496745244
D121: PP | F121: Podkladní a spojovací vrstva vnějších omítaných ploch cementový postřik nanášený ručně celoplošně stěn | AT121: PP | AU121: 2
D122: P | F122: Poznámka k položce: vnitřní omítka zazdívaných otvorů vrat budova C | AT122: P | AU122: 2
D123: VV | F123: 2,66*2,77*2 | H123: 14.736 | AT123: VV | AU123: 2 | AV123: 2 | AW123: True | AX123: 1 | AY123: ROZPOCET
C124: 7 | D124: K | E124: 622143003 | F124: Montáž omítkových plastových nebo pozinkovaných rohových profilů s tkaninou | G124: m | H124: 206.85 | J124: =ROUND(I124*H124,2) -> 0 | K124: CS ÚRS 2015 02 | N124: základní | P124: =O124*H124 -> 0 | Q124: 0 | R124: =Q124*H124 -> 0 | S124: 0 | T124: =S124*H124 -> 0 | AR124: 4 | AT124: K | AU124: 2 | AY124: ROZPOCET | BE124: =IF(N124="základní",J124,0) -> 0 | BF124: =IF(N124="snížená",J124,0) -> 0 | BG124: =IF(N124="zákl. přenesená",J124,0) -> 0 | BH124: =IF(N124="sníž. přenesená",J124,0) -> 0 | BI124: =IF(N124="nulová",J124,0) -> 0 | BJ124: 1 | BK124: =ROUND(I124*H124,2) -> 0 | BL124: 4 | BM124: 1708386495
D125: PP | F125: Montáž omítkových profilů plastových nebo pozinkovaných, upevněných vtlačením do podkladní vrstvy nebo přibitím rohových s tkaninou | AT125: PP | AU125: 2
D126: PSC | F126: Poznámka k souboru cen: 1. V cenách jsou započteny náklady na montáž profilů včetně úchytného materiálu. 2. V cenách nejsou započteny náklady na dodávku profilů, tyto se oceňují ve specifikaci, ztratné lze stanovit ve výši 5%. 3. V ceně -3004 nejsou započteny náklady na ochrannou fólii pro okna a dveře; tyto se oceňují cenou 629 99-1012 podle příslušné plochy otvoru. | AT126: PSC | AU126: 2
D127: VV | F127: 1,8*23 "parapetní profil" | H127: 41.4 | AT127: VV | AU127: 2 | AV127: 2 | AW127: True | AX127: 0 | AY127: ROZPOCET
D128: VV | F128: (2,66+2,99+3,82+3,90) "nadpraží vrata" | H128: 13.37 | AT128: VV | AU128: 2 | AV128: 2 | AW128: True | AX128: 0 | AY128: ROZPOCET
D129: VV | F129: (2,77+3,36+3,88+3,93)*2 "ostění vrata" | H129: 27.88 | AT129: VV | AU129: 2 | AV129: 2 | AW129: True | AX129: 0 | AY129: ROZPOCET
D130: VV | F130: 1,8*3*23 "okna" | H130: 124.2 | AT130: VV | AU130: 2 | AV130: 2 | AW130: True | AX130: 0 | AY130: ROZPOCET
D131: VV | F131: Součet | H131: 206.85 | AT131: VV | AU131: 2 | AV131: 4 | AW131: True | AX131: 1 | AY131: ROZPOCET
...

Sheet Z_15_065 - Výměna výplní ..._01
D1: List obsahuje: | F1: 1) Krycí list soupisu | G1: 2) Rekapitulace | J1: 3) Soupis prací | K1: Zpět na list: | L1: Rekapitulace stavby
AT2: {e92f4f62-aa1c-4470-89ec-007ef4f96dd3}
AT3: 2
D4: KRYCÍ LIST SOUPISU | M4: v --- níže se nacházejí doplnkové a pomocné údaje k sestavám --- v | AT4: False
D6: Stavba:
E7: ='Rekapitulace stavby'!K6 -> Výměna výplní otvorů budovy č.p. 97, Čechtín
D8: Objekt:
E9: Z_15_065 - Výměna výplní otvorů budovy č.p. 97, Čechtín
D11: KSO: | I11: CC-CZ:
D12: Místo: | F12: Čechtín | I12: Datum: | J12: ='Rekapitulace stavby'!AN8 -> 2.9.2015
D14: Zadavatel: | I14: IČ:
E15: ZD Podlesí, Čechtín | I15: DIČ:
D17: Uchazeč: | I17: IČ: | J17: =IF('Rekapitulace stavby'!AN13="Vyplň údaj","",IF('Rekapitulace stavby'!AN13="","",'Rekapitulace stavby'!AN13))
E18: =IF('Rekapitulace stavby'!E14="Vyplň údaj","",IF('Rekapitulace stavby'!E14="","",'Rekapitulace stavby'!E14)) | I18: DIČ: | J18: =IF('Rekapitulace stavby'!AN14="Vyplň údaj","",IF('Rekapitulace stavby'!AN14="","",'Rekapitulace stavby'!AN14))
D20: Projektant: | I20: IČ: | J20: =IF('Rekapitulace stavby'!AN16="","",'Rekapitulace stavby'!AN16)
E21: =IF('Rekapitulace stavby'!E17="","",'Rekapitulace stavby'!E17) | I21: DIČ: | J21: =IF('Rekapitulace stavby'!AN17="","",'Rekapitulace stavby'!AN17)
D23: Poznámka:
D27: Cena bez DPH | J27: =ROUND(J78,2) -> 0
F29: Základ daně | I29: Sazba daně | J29: Výše daně
D30: DPH | E30: základní | F30: =ROUND(SUM(BE78:BE82), 2) -> 0 | I30: 0.21 | J30: =ROUND(ROUND((SUM(BE78:BE82)), 2)*I30, 2) -> 0
E31: snížená | F31: =ROUND(SUM(BF78:BF82), 2) -> 0 | I31: 0.15 | J31: =ROUND(ROUND((SUM(BF78:BF82)), 2)*I31, 2) -> 0
E32: zákl. přenesená | F32: =ROUND(SUM(BG78:BG82), 2) -> 0 | I32: 0.21 | J32: 0
E33: sníž. přenesená | F33: =ROUND(SUM(BH78:BH82), 2) -> 0 | I33: 0.15 | J33: 0
E34: nulová | F34: =ROUND(SUM(BI78:BI82), 2) -> 0 | I34: 0 | J34: 0
D36: Cena s DPH | G36: v | H36: CZK | J36: =SUM(J27:J34) -> 0
C42: REKAPITULACE ČLENĚNÍ SOUPISU PRACÍ
C44: Stavba:
E45: =E7 -> Výměna výplní otvorů budovy č.p. 97, Čechtín
C46: Objekt:
E47: =E9 -> Z_15_065 - Výměna výplní otvorů budovy č.p. 97, Čechtín
C49: Místo: | F49: =F12 -> Čechtín | I49: Datum: | J49: =IF(J12="","",J12) -> 2.9.2015
C51: Zadavatel: | F51: =E15 -> ZD Podlesí, Čechtín | I51: Projektant: | J51: =E21
C52: Uchazeč: | F52: =IF(E18="","",E18)
C54: Kód dílu - Popis | J54: Cena celkem [CZK]
C56: Náklady soupisu celkem | J56: =J78 -> 0 | AU56: -1
D57: VRN - Vedlejší rozpočtové náklady | J57: =J79 -> 0
D58: VRN4 - Inženýrská činnost | J58: =J80 -> 0
C65: SOUPIS PRACÍ
C67: Stavba:
E68: =E7 -> Výměna výplní otvorů budovy č.p. 97, Čechtín
C69: Objekt:
E70: =E9 -> Z_15_065 - Výměna výplní otvorů budovy č.p. 97, Čechtín
C72: Místo: | F72: =F12 -> Čechtín | I72: Datum: | J72: =IF(J12="","",J12) -> 2.9.2015
C74: Zadavatel: | F74: =E15 -> ZD Podlesí, Čechtín | I74: Projektant: | J74: =E21
C75: Uchazeč: | F75: =IF(E18="","",E18)
C77: PČ | D77: Typ | E77: Kód | F77: Popis | G77: MJ | H77: Množství | I77: J.cena [CZK] | J77: Cena celkem [CZK] | K77: Cenová soustava | M77: Poznámka | N77: DPH | O77: J. Nh [h] | P77: Nh celkem [h] | Q77: J. hmotnost_x000D_ [t] | R77: Hmotnost_x000D_ celkem [t] | S77: J. suť [t] | T77: Suť Celkem [t]
C78: Náklady soupisu celkem | J78: =BK78 -> 0 | P78: =P79 -> 0 | R78: =R79 -> 0 | T78: =T79 -> 0 | AT78: D | AU78: -1 | BK78: =BK79 -> 0
D79: D | E79: VRN | F79: Vedlejší rozpočtové náklady | J79: =BK79 -> 0 | P79: =P80 -> 0 | R79: =R80 -> 0 | T79: =T80 -> 0 | AR79: 5 | AT79: D | AU79: 0 | AY79: ROZPOCET | BK79: =BK80 -> 0
D80: D | E80: VRN4 | F80: Inženýrská činnost | J80: =BK80 -> 0 | P80: =SUM(P81:P82) -> 0 | R80: =SUM(R81:R82) -> 0 | T80: =SUM(T81:T82) -> 0 | AR80: 5 | AT80: D | AU80: 1 | AY80: ROZPOCET | BK80: =SUM(BK81:BK82) -> 0
C81: 1 | D81: K | E81: 045002000 | F81: Kompletační a koordinační činnost | G81: % | J81: =ROUND(I81*H81,2) -> 0 | K81: CS ÚRS 2015 01 | N81: základní | P81: =O81*H81 -> 0 | Q81: 0 | R81: =Q81*H81 -> 0 | S81: 0 | T81: =S81*H81 -> 0 | AR81: 1024 | AT81: K | AU81: 2 | AY81: ROZPOCET | BE81: =IF(N81="základní",J81,0) -> 0 | BF81: =IF(N81="snížená",J81,0) -> 0 | BG81: =IF(N81="zákl. přenesená",J81,0) -> 0 | BH81: =IF(N81="sníž. přenesená",J81,0) -> 0 | BI81: =IF(N81="nulová",J81,0) -> 0 | BJ81: 1 | BK81: =ROUND(I81*H81,2) -> 0 | BL81: 1024 | BM81: -534610993
D82: PP | F82: Hlavní tituly průvodních činností a nákladů inženýrská činnost kompletační a koordinační činnost | AT82: PP | AU82: 2

Sheet Pokyny pro vyplnění
C3: Struktura údajů, formát souboru a metodika pro zpracování
C4: Struktura
C6: Soubor je složen ze záložky Rekapitulace stavby a záložek s názvem soupisu prací pro jednotlivé objekty ve formátu XLS. Každá ze záložek přitom obsahuje
C7: ještě samostatné sestavy vymezené orámovaním a nadpisem sestavy.
C9: Rekapitulace stavby obsahuje sestavu Rekapitulace stavby a Rekapitulace objektů stavby a soupisů prací.
D10: V sestavě Rekapitulace stavby jsou uvedeny informace identifikující předmět veřejné zakázky na stavební práce, KSO, CC-CZ, CZ-CPV, CZ-CPA a rekapitulaci
D11: celkové nabídkové ceny uchazeče.
D13: V sestavě Rekapitulace objektů stavby a soupisů prací je uvedena rekapitulace stavebních objektů, inženýrských objektů, provozních souborů,
D14: vedlejších a ostatních nákladů a ostatních nákladů s rekapitulací nabídkové ceny za jednotlivé soupisy prací. Na základě údaje Typ je možné
D15: identifikovat, zda se jedná o objekt nebo soupis prací pro daný objekt:
E16: STA | F16: Stavební objekt pozemní
E17: ING | F17: Stavební objekt inženýrský
E18: PRO | F18: Provozní soubor
E19: VON | F19: Vedlejší a ostatní náklady
E20: OST | F20: Ostatní
E21: Soupis | F21: Soupis prací pro daný typ objektu
C23: Soupis prací pro jednotlivé objekty obsahuje sestavy Krycí list soupisu, Rekapitulace členění soupisu prací, Soupis prací. Za soupis prací může být považován
C24: i objekt stavby v případě, že neobsahuje podřízenou zakázku.
D25: Krycí list soupisu obsahuje rekapitulaci informací o předmětu veřejné zakázky ze sestavy Rekapitulace stavby, informaci o zařazení objektu do KSO,
D26: CC-CZ, CZ-CPV, CZ-CPA a rekapitulaci celkové nabídkové ceny uchazeče za aktuální soupis prací.
D28: Rekapitulace členění soupisu prací obsahuje rekapitulaci soupisu prací ve všech úrovních členění soupisu tak, jak byla tato členění použita (např.
D29: stavební díly, funkční díly, případně jiné členění) s rekapitulací nabídkové ceny.
D31: Soupis prací obsahuje položky veškerých stavebních nebo montážních prací, dodávek materiálů a služeb nezbytných pro zhotovení stavebního objektu,
D32: inženýrského objektu, provozního souboru, vedlejších a ostatních nákladů.
D33: Pro položky soupisu prací se zobrazují následující informace:
E34: PČ | G34: Pořadové číslo položky v aktuálním soupisu
E35: TYP | G35: Typ položky: K - konstrukce, M - materiál, PP - plný popis, PSC - poznámka k souboru cen, P - poznámka k položce, VV - výkaz výměr
E36: Kód | G36: Kód položky
E37: Popis | G37: Zkrácený popis položky
E38: MJ | G38: Měrná jednotka položky
E39: Množství | G39: Množství v měrné jednotce
E40: J.cena | G40: Jednotková cena položky. Zadaní může obsahovat namísto J.ceny sloupce J.materiál a J.montáž, jejichž součet definuje
G41: J.cenu položky.
E42: Cena celkem | G42: Celková cena položky daná jako součin množství a j.ceny
E43: Cenová soustava | G43: Příslušnost položky do cenové soustavy
D45: Ke každé položce soupisu prací se na samostatných řádcích může zobrazovat:
E46: Plný popis položky
E47: Poznámka k souboru cen a poznámka zadavatele
E48: Výkaz výměr
D49: Pokud je k řádku výkazu výměr evidovaný údaj ve sloupci Kód, jedná se o definovaný odkaz, na který se může odvolávat výkaz výměr z jiné položky.
C50: Metodika pro zpracování
C52: Jednotlivé sestavy jsou v souboru provázány. Editovatelné pole jsou zvýrazněny žlutým podbarvením, ostatní pole neslouží k editaci a nesmí být jakkoliv
C53: modifikovány.
C55: Uchazeč je pro podání nabídky povinen vyplnit žlutě podbarvená pole:
D56: Pole Uchazeč v sestavě Rekapitulace stavby - zde uchazeč vyplní svůj název (název subjektu)
D57: Pole IČ a DIČ v sestavě Rekapitulace stavby - zde uchazeč vyplní svoje IČ a DIČ
D58: Datum v sestavě Rekapitulace stavby - zde uchazeč vyplní datum vytvoření nabídky
D59: J.cena = jednotková cena v sestavě Soupis prací o maximálním počtu desetinných míst uvedených v poli
D60: - pokud sestavy soupisů prací obsahují pole J.cena, musí být všechna tato pole vyplněna nenulovými kladnými číslicemi
D61: Poznámka - nepovinný údaj pro položku soupisu
D63: V případě, že sestavy soupisů prací neobsahují pole J.cena, potom ve všech soupisech prací obsahují pole:
D64: - J.materiál - jednotková cena materiálu
D65: - J.montáž - jednotková cena montáže
D66: Uchazeč je v tomto případě povinen vyplnit všechna pole J.materiál a pole J.montáž nenulovými kladnými číslicemi. V případech, kdy položka
D67: neobsahuje žádný materiál je přípustné, aby pole J.materiál bylo vyplněno nulou. V případech, kdy položka neobsahuje žádnou montáž je přípustné,
D68: aby pole J.montáž bylo vyplněno nulou. Není však přípustné, aby obě pole - J.materiál, J.Montáž byly u jedné položky vyplněny nulou.
C73: Rekapitulace stavby
C74: Název | F74: Povinný | H74: Popis | I74: Typ | J74: Max. počet
C75: atributu | F75: (A/N) | J75: znaků
C77: Kód | F77: A | H77: Kód stavby | I77: String | J77: 20
C78: Stavba | F78: A | H78: Název stavby | I78: String | J78: 120
C79: Místo | F79: N | H79: Místo stavby | I79: String | J79: 50
C80: Datum | F80: A | H80: Datum vykonaného exportu | I80: Date
C81: KSO | F81: N | H81: Klasifikace stavebního objektu | I81: String | J81: 15
C82: CC-CZ | F82: N | H82: Klasifikace stavbeních děl | I82: String | J82: 15
C83: CZ-CPV | F83: N | H83: Společný slovník pro veřejné zakázky | I83: String | J83: 20
C84: CZ-CPA | F84: N | H84: Klasifikace produkce podle činností | I84: String | J84: 20
C85: Zadavatel | F85: N | H85: Zadavatel zadaní | I85: String | J85: 50
C86: IČ | F86: N | H86: IČ zadavatele zadaní | I86: String | J86: 20
C87: DIČ | F87: N | H87: DIČ zadavatele zadaní | I87: String | J87: 20
C88: Uchazeč | F88: N | H88: Uchazeč veřejné zakázky | I88: String | J88: 50
C89: Projektant | F89: N | H89: Projektant | I89: String | J89: 50
C90: Poznámka | F90: N | H90: Poznámka k zadání | I90: String | J90: 255
C91: Sazba DPH | F91: A | H91: Rekapitulace sazeb DPH u položek soupisů | I91: eGSazbaDph
C92: Základna DPH | F92: A | H92: Základna DPH určena součtem celkové ceny z položek soupisů | I92: Double
C93: Hodnota DPH | F93: A | H93: Hodnota DPH | I93: Double
C94: Cena bez DPH | F94: A | H94: Celková cena bez DPH za celou stavbu. Sčítává se ze všech listů. | I94: Double
C95: Cena s DPH | F95: A | H95: Celková cena s DPH za celou stavbu | I95: Double
C100: Rekapitulace objektů stavby a soupisů prací
C101: Název | F101: Povinný | H101: Popis | I101: Typ | J101: Max. počet
C102: atributu | F102: (A/N) | J102: znaků
C104: Kód | F104: A | H104: Přebírá se z Rekapitulace stavby | I104: String | J104: 20
C105: Stavba | F105: A | H105: Přebírá se z Rekapitulace stavby | I105: String | J105: 120
C106: Místo | F106: N | H106: Přebírá se z Rekapitulace stavby | I106: String | J106: 50
C107: Datum | F107: A | H107: Přebírá se z Rekapitulace stavby | I107: Date
C108: Zadavatel | F108: N | H108: Přebírá se z Rekapitulace stavby | I108: String | J108: 50
C109: Projektant | F109: N | H109: Přebírá se z Rekapitulace stavby | I109: String | J109: 50
C110: Uchazeč | F110: N | H110: Přebírá se z Rekapitulace stavby | I110: String | J110: 50
C111: Kód | F111: A | H111: Kód objektu | I111: String | J111: 20
C112: Objektu, Soupis prací | F112: A | H112: Název objektu | I112: String | J112: 120
C113: Cena bez DPH | F113: A | H113: Cena bez DPH za daný objekt | I113: Double
C114: Cena s DPH | F114: A | H114: Cena spolu s DPH za daný objekt | I114: Double
C115: Typ | F115: A | H115: Typ zakázky | I115: eGTypZakazky
C120: Krycí list soupisu
C121: Název | F121: Povinný | H121: Popis | I121: Typ | J121: Max. počet
C122: atributu | F122: (A/N) | J122: znaků
C124: Stavba | F124: A | H124: Přebírá se z Rekapitulace stavby | I124: String | J124: 120
C125: Objekt | F125: A | H125: Kód a název objektu | I125: String | J125: 20 + 120
C126: Soupis | F126: A | H126: Kód a název soupisu | I126: String | J126: 20 + 120
C127: KSO | F127: N | H127: Klasifikace stavebního objektu | I127: String | J127: 15
...
