Workbook

Sheet Suma
B1: Krycí list FVE
B2: číslo akce: | E2: 7221301091
B3: název akce: | E3: FVE 114,38 kW – Obec Bohušovice nad Ohří
B4: objekt: | E4: MěÚ, MŠ a ZŠ
I5: vyplňovat pouze podbarvené buňky
B6: objekt: | E6: FVE 49,5 kW Městský úřad, akumulace 48,3 kWh
B7: p.č. | C7: popis položky | E7: cena bez DPH | F7: DPH | G7: cena s DPH
B8: A. | C8: Dodávky zařízení | E8: ='Soupis položek FVE MěÚ'!G19 -> 0 | F8: =G8-E8 -> 0 | G8: =E8*1.21 -> 0
B9: B. | C9: Materiál elektromontážní | E9: ='Soupis položek FVE MěÚ'!G30 -> 0 | F9: =G9-E9 -> 0 | G9: =E9*1.21 -> 0
B10: C. | C10: Elektromontáže | E10: ='Soupis položek FVE MěÚ'!G51 -> 0 | F10: =G10-E10 -> 0 | G10: =E10*1.21 -> 0
B11: D. | C11: LPS materiál | E11: ='Soupis položek FVE MěÚ'!G75 -> 0 | F11: =G11-E11 -> 0 | G11: =E11*1.21 -> 0
B12: E. | C12: LPS montáž | E12: ='Soupis položek FVE MěÚ'!G101 -> 0 | F12: =G12-E12 -> 0 | G12: =E12*1.21 -> 0
B13: F. | C13: Silnoproud materiál | E13: ='Soupis položek FVE MěÚ'!G110 -> 0 | F13: =G13-E13 -> 0 | G13: =E13*1.21 -> 0
B14: G. | C14: Silnoproud montáž | E14: ='Soupis položek FVE MěÚ'!G119 -> 0 | F14: =G14-E14 -> 0 | G14: =E14*1.21 -> 0
B15: H. | C15: Ostatní náklady | E15: ='Soupis položek FVE MěÚ'!G133 -> 0 | F15: =G15-E15 -> 0 | G15: =E15*1.21 -> 0
B16: suma | E16: =SUM(E8:E15) -> 0 | F16: =SUM(F8:F15) -> 0 | G16: =SUM(G8:G15) -> 0
B17: objekt: | E17: FVE 48,95 kWp MŠ
B18: p.č. | C18: popis položky | E18: cena bez DPH | F18: DPH | G18: cena s DPH
B19: A. | C19: Dodávky zařízení | E19: ='Soupis položek FVE MŠ'!G18 -> 0 | F19: =G19-E19 -> 0 | G19: =E19*1.21 -> 0
B20: B. | C20: Materiál elektromontážní | E20: ='Soupis položek FVE MŠ'!G28 -> 0 | F20: =G20-E20 -> 0 | G20: =E20*1.21 -> 0
B21: C. | C21: Elektromontáže | E21: ='Soupis položek FVE MŠ'!G47 -> 0 | F21: =G21-E21 -> 0 | G21: =E21*1.21 -> 0
B22: D. | C22: LPS materiál | E22: ='Soupis položek FVE MŠ'!G69 -> 0 | F22: =G22-E22 -> 0 | G22: =E22*1.21 -> 0
B23: E. | C23: LPS montáž | E23: ='Soupis položek FVE MŠ'!G92 -> 0 | F23: =G23-E23 -> 0 | G23: =E23*1.21 -> 0
B24: F. | C24: Silnoproud materiál | E24: ='Soupis položek FVE MŠ'!G101 -> 0 | F24: =G24-E24 -> 0 | G24: =E24*1.21 -> 0
B25: G. | C25: Silnoproud montáž | E25: ='Soupis položek FVE MŠ'!G110 -> 0 | F25: =G25-E25 -> 0 | G25: =E25*1.21 -> 0
B26: H. | C26: Ostatní náklady | E26: ='Soupis položek FVE MŠ'!G124 -> 0 | F26: =G26-E26 -> 0 | G26: =E26*1.21 -> 0
B27: suma | E27: =SUM(E19:E26) -> 0 | F27: =SUM(F19:F26) -> 0 | G27: =SUM(G19:G26) -> 0
B28: objekt: | E28: FVE 14,3 kWp ZŠ
B29: p.č. | C29: popis položky | E29: cena bez DPH | F29: DPH | G29: cena s DPH
B30: A. | C30: Dodávky zařízení | E30: ='Soupis položek FVE ZŠ'!G17 -> 0 | F30: =G30-E30 -> 0 | G30: =E30*1.21 -> 0
B31: B. | C31: Materiál elektromontážní | E31: ='Soupis položek FVE ZŠ'!G26 -> 0 | F31: =G31-E31 -> 0 | G31: =E31*1.21 -> 0
B32: C. | C32: Elektromontáže | E32: ='Soupis položek FVE ZŠ'!G44 -> 0 | F32: =G32-E32 -> 0 | G32: =E32*1.21 -> 0
B33: D. | C33: LPS materiál | E33: ='Soupis položek FVE ZŠ'!G71 -> 0 | F33: =G33-E33 -> 0 | G33: =E33*1.21 -> 0
B34: E. | C34: LPS montáž | E34: ='Soupis položek FVE ZŠ'!G102 -> 0 | F34: =G34-E34 -> 0 | G34: =E34*1.21 -> 0
B35: F. | C35: Silnoproud materiál | E35: ='Soupis položek FVE ZŠ'!G109 -> 0 | F35: =G35-E35 -> 0 | G35: =E35*1.21 -> 0
B36: G. | C36: Silnoproud montáž | E36: ='Soupis položek FVE ZŠ'!G116 -> 0 | F36: =G36-E36 -> 0 | G36: =E36*1.21 -> 0
B37: H. | C37: Ostatní náklady | E37: ='Soupis položek FVE ZŠ'!G130 -> 0 | F37: =G37-E37 -> 0 | G37: =E37*1.21 -> 0
B38: suma | E38: =SUM(E30:E37) -> 0 | F38: =SUM(F30:F37) -> 0 | G38: =SUM(G30:G37) -> 0
B39: objekt: | E39: OM VO Husovo náměstí 42
B40: p.č. | C40: popis položky | E40: cena bez DPH | F40: DPH | G40: cena s DPH
...

Sheet Soupis položek FVE MěÚ
B1: Soupis položek FVE MěÚ
B2: číslo akce: | D2: 7221301091
B3: název akce: | D3: FVE 114,38 kW – Obec Bohušovice nad Ohří
B4: objekt: | D4: FVE 49,5 kW Městský úřad, akumulace 48,3 kWh
B6: A. Dodávky zařízení
B7: p.č. | C7: popis položky | D7: mj. | E7: množství | F7: cena/mj. | G7: cena celkem | H7: Nh/mj. | I7: Nh celkem | J7: VKP | K7: kap.
B8: 1 | C8: fotovoltaický panel 550Wp | D8: ks | E8: 90 | G8: =E8*F8 -> 0 | H8: 0 | I8: =E8*H8 -> 0 | J8: * | K8: DE
B9: 2 | C9: střídač hybridní FVE 25kW | D9: ks | E9: 1 | G9: =E9*F9 -> 0 | H9: 0 | I9: =E9*H9 -> 0 | J9: * | K9: DE
B10: 3 | C10: střídač hybridní FVE 20kW | D10: ks | E10: 1 | G10: =E10*F10 -> 0 | H10: 0 | I10: =E10*H10 -> 0 | J10: * | K10: DE
B11: 4 | C11: konstrukce FV panelů dle PD | D11: kpl | E11: 1 | G11: =E11*F11 -> 0 | H11: 0 | I11: =E11*H11 -> 0 | J11: * | K11: DE
B12: 5 | C12: úprava rozvaděče RE v.č. 10 | D12: ks | E12: 1 | G12: =E12*F12 -> 0 | H12: 0 | I12: =E12*H12 -> 0 | J12: * | K12: DE
B13: 6 | C13: rozvaděč RH-FVE v.č. 11 | D13: ks | E13: 1 | G13: =E13*F13 -> 0 | H13: 0 | I13: =E13*H13 -> 0 | J13: * | K13: DE
B14: 7 | C14: rozvaděč R-FVE-DC v.č. 11 | D14: ks | E14: 2 | G14: =E14*F14 -> 0 | H14: 0 | I14: =E14*H14 -> 0 | J14: * | K14: DE
B15: 8 | C15: optimizér s bezpečnostní funkcí STOP | D15: ks | E15: 90 | G15: =E15*F15 -> 0 | H15: 0 | I15: =E15*H15 -> 0 | J15: * | K15: DE
B16: 9 | C16: přístupový bod pro optimizéry | D16: ks | E16: 2 | G16: =E16*F16 -> 0 | H16: 0 | I16: =E16*H16 -> 0 | J16: * | K16: DE
B17: 10 | C17: bateriový blok FVE 25.3 kWh | D17: ks | E17: 1 | G17: =E17*F17 -> 0 | H17: 0 | I17: =E17*H17 -> 0 | J17: * | K17: DE
B18: 11 | C18: bateriový blok 23 kWh | D18: ks | E18: 1 | G18: =E18*F18 -> 0 | H18: 0 | I18: =E18*H18 -> 0 | J18: * | K18: DE
B19: součet | G19: =SUM(G8:G18) -> 0 | I19: =SUM(I8:I18) -> 0
B20: B. Materiál elektromontážní
B21: p.č. | C21: popis položky | D21: mj. | E21: množství | F21: cena/mj. | G21: cena celkem | H21: Nh/mj. | I21: Nh celkem | J21: VKP | K21: kap.
B22: 12 | C22: kab žlab plný FeZn 50x125x0.75 s víkem vč.kostruk | D22: m | E22: 50 | G22: =E22*F22 -> 0 | H22: 0 | I22: =E22*H22 -> 0 | J22: * | K22: ME
B23: 13 | C23: kab žlab plný FeZn 50x62x0.75 s víkem vč.konstruk | D23: m | E23: 105 | G23: =E23*F23 -> 0 | H23: 0 | I23: =E23*H23 -> 0 | J23: * | K23: ME
B24: 14 | C24: vodič CYA 16 zel.žl. /H07V-K/ | D24: m | E24: 230 | G24: =E24*F24 -> 0 | H24: 0 | I24: =E24*H24 -> 0 | J24: * | K24: ME
B25: 15 | C25: kabel CYKY 2x1,5 | D25: m | E25: 120 | G25: =E25*F25 -> 0 | H25: 0 | I25: =E25*H25 -> 0 | J25: * | K25: ME
B26: 16 | C26: kabel FlexSol 6mm2 | D26: m | E26: 360 | G26: =E26*F26 -> 0 | H26: 0 | I26: =E26*H26 -> 0 | J26: * | K26: ME
B27: 17 | C27: kabel CYKY 2x6 | D27: m | E27: 120 | G27: =E27*F27 -> 0 | H27: 0 | I27: =E27*H27 -> 0 | J27: * | K27: ME
B28: 18 | C28: kabel 1kV CYKY 4x25 | D28: m | E28: 60 | G28: =E28*F28 -> 0 | H28: 0 | I28: =E28*H28 -> 0 | J28: * | K28: ME
B29: 19 | C29: kabel CYKY 5x10 | D29: m | E29: 16 | G29: =E29*F29 -> 0 | H29: 0 | I29: =E29*H29 -> 0 | J29: * | K29: ME
B30: součet | G30: =SUM(G22:G29) -> 0 | I30: =SUM(I22:I29) -> 0
B31: C. Elektromontáže
B32: p.č. | C32: popis položky | D32: mj. | E32: množství | F32: cena/mj. | G32: cena celkem | H32: Nh/mj. | I32: Nh celkem | J32: VKP | K32: kap.
B33: 20 | C33: montáž fotovoltaického panelu | D33: ks | E33: 90 | G33: =E33*F33 -> 0 | H33: 2.665 | I33: =E33*H33 -> 239.85 | K33: CE
B34: 21 | C34: montáž střídače do 25kWp vč. zapojení | D34: ks | E34: 2 | G34: =E34*F34 -> 0 | H34: 21.19 | I34: =E34*H34 -> 42.38 | K34: CE
B35: 22 | C35: montáž konstrukcí FV panelů | D35: ks | E35: 1 | G35: =E35*F35 -> 0 | H35: 86 | I35: =E35*H35 -> 86 | K35: CE
B36: 23 | C36: úprava rozvaděče RE | D36: ks | E36: 1 | G36: =E36*F36 -> 0 | H36: 11.148 | I36: =E36*H36 -> 11.148 | K36: CE
B37: 24 | C37: rozvodnice/elektrozařízení do hmotnosti 50kg | D37: ks | E37: 1 | G37: =E37*F37 -> 0 | H37: 0.865 | I37: =E37*H37 -> 0.865 | K37: CE
B38: 25 | C38: skříň litinová, Al nebo plast do hmotnosti 10kg | D38: ks | E38: 2 | G38: =E38*F38 -> 0 | H38: 0.464 | I38: =E38*H38 -> 0.928 | K38: CE
B39: 26 | C39: montáž optimizéru | D39: ks | E39: 90 | G39: =E39*F39 -> 0 | H39: 1.04 | I39: =E39*H39 -> 93.6 | K39: CE
B40: 27 | C40: montáž přístupového bodu optimizérů | D40: ks | E40: 2 | G40: =E40*F40 -> 0 | H40: 2.929 | I40: =E40*H40 -> 5.858 | K40: CE
B41: 28 | C41: kabelový žlab MARS 125/50 úplný | D41: m | E41: 50 | G41: =E41*F41 -> 0 | H41: 0.644 | I41: =E41*H41 -> 32.2 | K41: CE
...

Sheet Soupis položek FVE MŠ
B1: Soupis položek FVE MŠ
B2: číslo akce: | D2: 7221301091
B3: název akce: | D3: FVE 114,38 kW – Obec Bohušovice nad Ohří
B4: objekt: | D4: FVE 48,95 kWp MŠ
B6: A. Dodávky zařízení
B7: p.č. | C7: popis položky | D7: mj. | E7: množství | F7: cena/mj. | G7: cena celkem | H7: Nh/mj. | I7: Nh celkem | J7: VKP | K7: kap.
B8: 1 | C8: fotovoltaický panel 550Wp | D8: ks | E8: 89 | G8: =E8*F8 -> 0 | H8: 0 | I8: =E8*H8 -> 0 | J8: * | K8: DE
B9: 2 | C9: střídač hybridní FVE 25kWp | D9: ks | E9: 1 | G9: =E9*F9 -> 0 | H9: 0 | I9: =E9*H9 -> 0 | J9: * | K9: DE
B10: 3 | C10: střídač hybridní FVE 20kW | D10: ks | E10: 1 | G10: =E10*F10 -> 0 | H10: 0 | I10: =E10*H10 -> 0 | K10: DE
B11: 4 | C11: konstrukce FV panelů dle PD | D11: kpl | E11: 1 | G11: =E11*F11 -> 0 | H11: 0 | I11: =E11*H11 -> 0 | J11: * | K11: DE
B12: 5 | C12: úprava rozvaděče RH v.č. 09 | D12: ks | E12: 1 | G12: =E12*F12 -> 0 | H12: 0 | I12: =E12*H12 -> 0 | J12: * | K12: DE
B13: 6 | C13: rozvaděč RH-FVE v.č. 10 | D13: ks | E13: 1 | G13: =E13*F13 -> 0 | H13: 0 | I13: =E13*H13 -> 0 | J13: * | K13: DE
B14: 7 | C14: rozvaděč R-FVE-AC v.č. 11,12 | D14: ks | E14: 2 | G14: =E14*F14 -> 0 | H14: 0 | I14: =E14*H14 -> 0 | K14: DE
B15: 8 | C15: rozvaděč R-FVE-DC v.č. 13,14 | D15: ks | E15: 2 | G15: =E15*F15 -> 0 | H15: 0 | I15: =E15*H15 -> 0 | J15: * | K15: DE
B16: 9 | C16: optimizér s bezpečnostní funkcí STOP | D16: ks | E16: 89 | G16: =E16*F16 -> 0 | H16: 0 | I16: =E16*H16 -> 0 | J16: * | K16: DE
B17: 10 | C17: přístupový bod pro optimizéry | D17: ks | E17: 4 | G17: =E17*F17 -> 0 | H17: 0 | I17: =E17*H17 -> 0 | J17: * | K17: DE
B18: součet | G18: =SUM(G8:G17) -> 0 | I18: =SUM(I8:I17) -> 0
B19: B. Materiál elektromontážní
B20: p.č. | C20: popis položky | D20: mj. | E20: množství | F20: cena/mj. | G20: cena celkem | H20: Nh/mj. | I20: Nh celkem | J20: VKP | K20: kap.
B21: 11 | C21: kab žlab plný FeZn 50x125x0.75 s víkem vč.kostruk | D21: m | E21: 160 | G21: =E21*F21 -> 0 | H21: 0 | I21: =E21*H21 -> 0 | J21: * | K21: ME
B22: 12 | C22: kab žlab plný FeZn 50x62x0.75 s víkem vč.konstruk | D22: m | E22: 130 | G22: =E22*F22 -> 0 | H22: 0 | I22: =E22*H22 -> 0 | J22: * | K22: ME
B23: 13 | C23: vodič CYA 16 zel.žl. /H07V-K/ | D23: m | E23: 380 | G23: =E23*F23 -> 0 | H23: 0 | I23: =E23*H23 -> 0 | J23: * | K23: ME
B24: 14 | C24: kabel CYKY 2x1,5 | D24: m | E24: 120 | G24: =E24*F24 -> 0 | H24: 0 | I24: =E24*H24 -> 0 | J24: * | K24: ME
B25: 15 | C25: kabel FlexSol 6mm2 | D25: m | E25: 680 | G25: =E25*F25 -> 0 | H25: 0 | I25: =E25*H25 -> 0 | J25: * | K25: ME
B26: 16 | C26: kabel 1kV CYKY 4x25 | D26: m | E26: 60 | G26: =E26*F26 -> 0 | H26: 0 | I26: =E26*H26 -> 0 | J26: * | K26: ME
B27: 17 | C27: kabel CYKY 5x10 | D27: m | E27: 55 | G27: =E27*F27 -> 0 | H27: 0 | I27: =E27*H27 -> 0 | J27: * | K27: ME
B28: součet | G28: =SUM(G21:G27) -> 0 | I28: =SUM(I21:I27) -> 0
B29: C. Elektromontáže
B30: p.č. | C30: popis položky | D30: mj. | E30: množství | F30: cena/mj. | G30: cena celkem | H30: Nh/mj. | I30: Nh celkem | J30: VKP | K30: kap.
B31: 18 | C31: montáž fotovoltaického panelu | D31: ks | E31: 89 | G31: =E31*F31 -> 0 | H31: 2.665 | I31: =E31*H31 -> 237.185 | K31: CE
B32: 19 | C32: montáž střídače do 25kWp vč. zapojení | D32: ks | E32: 1 | G32: =E32*F32 -> 0 | H32: 21.19 | I32: =E32*H32 -> 21.19 | K32: CE
B33: 20 | C33: montáž konstrukcí FV panelů | D33: ks | E33: 1 | G33: =E33*F33 -> 0 | H33: 56.735 | I33: =E33*H33 -> 56.735 | K33: CE
B34: 21 | C34: úprava rozvaděče RH | D34: ks | E34: 1 | G34: =E34*F34 -> 0 | H34: 2.86 | I34: =E34*H34 -> 2.86 | K34: CE
B35: 22 | C35: rozvodnice/elektrozařízení do hmotnosti 50kg | D35: ks | E35: 1 | G35: =E35*F35 -> 0 | H35: 0.865 | I35: =E35*H35 -> 0.865 | K35: CE
B36: 23 | C36: skříň litinová, Al nebo plast do hmotnosti 10kg | D36: ks | E36: 2 | G36: =E36*F36 -> 0 | H36: 0.464 | I36: =E36*H36 -> 0.928 | K36: CE
B37: 24 | C37: montáž optimizéru | D37: ks | E37: 89 | G37: =E37*F37 -> 0 | H37: 1.04 | I37: =E37*H37 -> 92.56 | K37: CE
B38: 25 | C38: montáž přístupového bodu optimizérů | D38: ks | E38: 4 | G38: =E38*F38 -> 0 | H38: 2.929 | I38: =E38*H38 -> 11.716 | K38: CE
B39: 26 | C39: kabelový žlab MARS 125/50 úplný | D39: m | E39: 160 | G39: =E39*F39 -> 0 | H39: 0.644 | I39: =E39*H39 -> 103.04 | K39: CE
B40: 27 | C40: kabelový žlab MARS 65/50 úplný | D40: m | E40: 130 | G40: =E40*F40 -> 0 | H40: 0.58 | I40: =E40*H40 -> 75.4 | K40: CE
B41: 28 | C41: vodič Cu(-CY,CYA) pevně uložený do 1x35 | D41: m | E41: 380 | G41: =E41*F41 -> 0 | H41: 0.091 | I41: =E41*H41 -> 34.58 | K41: CE
...

Sheet Soupis položek FVE ZŠ
B1: Soupis položek FVE ZŠ
B2: číslo akce: | D2: 7221301091
B3: název akce: | D3: FVE 114,38 kW – Obec Bohušovice nad Ohří
B4: objekt: | D4: FVE 14,3 kWp ZŠ
B6: A. Dodávky zařízení
B7: p.č. | C7: popis položky | D7: mj. | E7: množství | F7: cena/mj. | G7: cena celkem | H7: Nh/mj. | I7: Nh celkem | J7: VKP | K7: kap.
B8: 1 | C8: fotovoltaický panel 550Wp | D8: ks | E8: 26 | G8: =E8*F8 -> 0 | H8: 0 | I8: =E8*H8 -> 0 | J8: * | K8: DE
B9: 2 | C9: střídac FVE 10kWp | D9: ks | E9: 1 | G9: =E9*F9 -> 0 | H9: 0 | I9: =E9*H9 -> 0 | J9: * | K9: DE
B10: 3 | C10: konstrukce FV panelů dle PD | D10: kpl | E10: 1 | G10: =E10*F10 -> 0 | H10: 0 | I10: =E10*H10 -> 0 | J10: * | K10: DE
B11: 4 | C11: úprava rozvaděče RE v.č. 09 | D11: ks | E11: 1 | G11: =E11*F11 -> 0 | H11: 0 | I11: =E11*H11 -> 0 | J11: * | K11: DE
B12: 5 | C12: úprava rozvaděče RH | D12: ks | E12: 1 | G12: =E12*F12 -> 0 | H12: 0 | I12: =E12*H12 -> 0 | J12: * | K12: DE
B13: 6 | C13: rozvaděč RH-FVE v.č. 10 | D13: ks | E13: 1 | G13: =E13*F13 -> 0 | H13: 0 | I13: =E13*H13 -> 0 | J13: * | K13: DE
B14: 7 | C14: rozvaděč R-FVE-DC v.č. 11 | D14: ks | E14: 1 | G14: =E14*F14 -> 0 | H14: 0 | I14: =E14*H14 -> 0 | J14: * | K14: DE
B15: 8 | C15: optimizér s bezpečnostní funkcí STOP | D15: ks | E15: 26 | G15: =E15*F15 -> 0 | H15: 0 | I15: =E15*H15 -> 0 | J15: * | K15: DE
B16: 9 | C16: přístupový bod pro optimizéry | D16: ks | E16: 1 | G16: =E16*F16 -> 0 | H16: 0 | I16: =E16*H16 -> 0 | J16: * | K16: DE
B17: součet | G17: =SUM(G8:G16) -> 0 | I17: =SUM(I8:I16) -> 0
B18: B. Materiál elektromontážní
B19: p.č. | C19: popis položky | D19: mj. | E19: množství | F19: cena/mj. | G19: cena celkem | H19: Nh/mj. | I19: Nh celkem | J19: VKP | K19: kap.
B20: 10 | C20: kab žlab plný FeZn 50x125x0.75 s víkem vč.kostruk | D20: m | E20: 50 | G20: =E20*F20 -> 0 | H20: 0 | I20: =E20*H20 -> 0 | J20: * | K20: ME
B21: 11 | C21: kab žlab plný FeZn 50x62x0.75 s víkem vč.konstruk | D21: m | E21: 105 | G21: =E21*F21 -> 0 | H21: 0 | I21: =E21*H21 -> 0 | J21: * | K21: ME
B22: 12 | C22: vodič CYA 16 zel.žl. /H07V-K/ | D22: m | E22: 160 | G22: =E22*F22 -> 0 | H22: 0 | I22: =E22*H22 -> 0 | J22: * | K22: ME
B23: 13 | C23: kabel CYKY 2x1,5 | D23: m | E23: 80 | G23: =E23*F23 -> 0 | H23: 0 | I23: =E23*H23 -> 0 | J23: * | K23: ME
B24: 14 | C24: kabel CYKY 5x6 | D24: m | E24: 35 | G24: =E24*F24 -> 0 | H24: 0 | I24: =E24*H24 -> 0 | J24: * | K24: ME
B25: 15 | C25: kabel FlexSol 6mm2 | D25: m | E25: 180 | G25: =E25*F25 -> 0 | H25: 0 | I25: =E25*H25 -> 0 | J25: * | K25: ME
B26: součet | G26: =SUM(G20:G25) -> 0 | I26: =SUM(I20:I25) -> 0
B27: C. Elektromontáže
B28: p.č. | C28: popis položky | D28: mj. | E28: množství | F28: cena/mj. | G28: cena celkem | H28: Nh/mj. | I28: Nh celkem | J28: VKP | K28: kap.
B29: 16 | C29: montáž fotovoltaického panelu | D29: ks | E29: 26 | G29: =E29*F29 -> 0 | H29: 2.665 | I29: =E29*H29 -> 69.29 | K29: CE
B30: 17 | C30: montáž střídače do 15kWp vč. zapojení | D30: ks | E30: 1 | G30: =E30*F30 -> 0 | H30: 13.5 | I30: =E30*H30 -> 13.5 | K30: CE
B31: 18 | C31: montáž konstrukcí FV panelů | D31: ks | E31: 1 | G31: =E31*F31 -> 0 | H31: 56.735 | I31: =E31*H31 -> 56.735 | K31: CE
B32: 19 | C32: úprava rozvaděče RE | D32: ks | E32: 1 | G32: =E32*F32 -> 0 | H32: 11.148 | I32: =E32*H32 -> 11.148 | K32: CE
B33: 20 | C33: úprava rozvaděče RH | D33: ks | E33: 1 | G33: =E33*F33 -> 0 | H33: 2.86 | I33: =E33*H33 -> 2.86 | K33: CE
B34: 21 | C34: rozvodnice/elektrozařízení do hmotnosti 50kg | D34: ks | E34: 1 | G34: =E34*F34 -> 0 | H34: 0.865 | I34: =E34*H34 -> 0.865 | K34: CE
B35: 22 | C35: skříň litinová, Al nebo plast do hmotnosti 10kg | D35: ks | E35: 1 | G35: =E35*F35 -> 0 | H35: 0.464 | I35: =E35*H35 -> 0.464 | K35: CE
B36: 23 | C36: montáž optimizéru | D36: ks | E36: 26 | G36: =E36*F36 -> 0 | H36: 1.04 | I36: =E36*H36 -> 27.04 | K36: CE
B37: 24 | C37: montáž přístupového bodu optimizérů | D37: ks | E37: 1 | G37: =E37*F37 -> 0 | H37: 2.929 | I37: =E37*H37 -> 2.929 | K37: CE
B38: 25 | C38: kabelový žlab MARS 125/50 úplný | D38: m | E38: 50 | G38: =E38*F38 -> 0 | H38: 0.644 | I38: =E38*H38 -> 32.2 | K38: CE
B39: 26 | C39: kabelový žlab MARS 65/50 úplný | D39: m | E39: 105 | G39: =E39*F39 -> 0 | H39: 0.58 | I39: =E39*H39 -> 60.9 | K39: CE
B40: 27 | C40: vodič Cu(-CY,CYA) pevně uložený do 1x35 | D40: m | E40: 160 | G40: =E40*F40 -> 0 | H40: 0.091 | I40: =E40*H40 -> 14.56 | K40: CE
... B43: 30 | C43: vodič Cu(-CY,CYA) pevně uložený do 1x35 | D43: m | E43: 180 | G43: =E43*F43 -> 0 | H43: 0.091 | I43: =E43*H43 -> 16.38 | K43: CE
...
