Workbook

Sheet Suma
B1: Krycí list FVE
B2: číslo akce: | E2: 7221301091
B3: název akce: | E3: FVE 114,38 kW – Obec Bohušovice nad Ohří
B4: objekt: | E4: MěÚ, MŠ a ZŠ
I5: vyplňovat pouze podbarvené buňky
B6: objekt: | E6: FVE 49,5 kW Městský úřad, akumulace 48,3 kWh
B7: p.č. | C7: popis položky | E7: cena bez DPH | F7: DPH | G7: cena s DPH
B8: A. | C8: Dodávky zařízení | E8: ='Soupis položek FVE MěÚ'!G19 -> 0 | F8: =G8-E8 -> 0 | G8: =E8*1.21 -> 0
B9: B. | C9: Materiál elektromontážní | E9: ='Soupis položek FVE MěÚ'!G30 -> 0 | F9: =G9-E9 -> 0 | G9: =E9*1.21 -> 0
B10: C. | C10: Elektromontáže | E10: ='Soupis položek FVE MěÚ'!G51 -> 0 | F10: =G10-E10 -> 0 | G10: =E10*1.21 -> 0
B11: D. | C11: LPS materiál | E11: ='Soupis položek FVE MěÚ'!G75 -> 0 | F11: =G11-E11 -> 0 | G11: =E11*1.21 -> 0
B12: E. | C12: LPS montáž | E12: ='Soupis položek FVE MěÚ'!G101 -> 0 | F12: =G12-E12 -> 0 | G12: =E12*1.21 -> 0
B13: F. | C13: Silnoproud materiál | E13: ='Soupis položek FVE MěÚ'!G110 -> 0 | F13: =G13-E13 -> 0 | G13: =E13*1.21 -> 0
B14: G. | C14: Silnoproud montáž | E14: ='Soupis položek FVE MěÚ'!G119 -> 0 | F14: =G14-E14 -> 0 | G14: =E14*1.21 -> 0
B15: H. | C15: Ostatní náklady | E15: ='Soupis položek FVE MěÚ'!G133 -> 0 | F15: =G15-E15 -> 0 | G15: =E15*1.21 -> 0
B16: suma | E16: =SUM(E8:E15) -> 0 | F16: =SUM(F8:F15) -> 0 | G16: =SUM(G8:G15) -> 0
B17: objekt: | E17: FVE 48,95 kWp MŠ
B18: p.č. | C18: popis položky | E18: cena bez DPH | F18: DPH | G18: cena s DPH
B19: A. | C19: Dodávky zařízení | E19: ='Soupis položek FVE MŠ'!G18 -> 0 | F19: =G19-E19 -> 0 | G19: =E19*1.21 -> 0
B20: B. | C20: Materiál elektromontážní | E20: ='Soupis položek FVE MŠ'!G28 -> 0 | F20: =G20-E20 -> 0 | G20: =E20*1.21 -> 0
B21: C. | C21: Elektromontáže | E21: ='Soupis položek FVE MŠ'!G47 -> 0 | F21: =G21-E21 -> 0 | G21: =E21*1.21 -> 0
B22: D. | C22: LPS materiál | E22: ='Soupis položek FVE MŠ'!G69 -> 0 | F22: =G22-E22 -> 0 | G22: =E22*1.21 -> 0
B23: E. | C23: LPS montáž | E23: ='Soupis položek FVE MŠ'!G92 -> 0 | F23: =G23-E23 -> 0 | G23: =E23*1.21 -> 0
B24: F. | C24: Silnoproud materiál | E24: ='Soupis položek FVE MŠ'!G101 -> 0 | F24: =G24-E24 -> 0 | G24: =E24*1.21 -> 0
B25: G. | C25: Silnoproud montáž | E25: ='Soupis položek FVE MŠ'!G110 -> 0 | F25: =G25-E25 -> 0 | G25: =E25*1.21 -> 0
B26: H. | C26: Ostatní náklady | E26: ='Soupis položek FVE MŠ'!G124 -> 0 | F26: =G26-E26 -> 0 | G26: =E26*1.21 -> 0
B27: suma | E27: =SUM(E19:E26) -> 0 | F27: =SUM(F19:F26) -> 0 | G27: =SUM(G19:G26) -> 0
B28: objekt: | E28: FVE 14,3 kWp ZŠ
B29: p.č. | C29: popis položky | E29: cena bez DPH | F29: DPH | G29: cena s DPH
B30: A. | C30: Dodávky zařízení | E30: ='Soupis položek FVE ZŠ'!G17 -> 0 | F30: =G30-E30 -> 0 | G30: =E30*1.21 -> 0
B31: B. | C31: Materiál elektromontážní | E31: ='Soupis položek FVE ZŠ'!G26 -> 0 | F31: =G31-E31 -> 0 | G31: =E31*1.21 -> 0
B32: C. | C32: Elektromontáže | E32: ='Soupis položek FVE ZŠ'!G44 -> 0 | F32: =G32-E32 -> 0 | G32: =E32*1.21 -> 0
B33: D. | C33: LPS materiál | E33: ='Soupis položek FVE ZŠ'!G71 -> 0 | F33: =G33-E33 -> 0 | G33: =E33*1.21 -> 0
B34: E. | C34: LPS montáž | E34: ='Soupis položek FVE ZŠ'!G102 -> 0 | F34: =G34-E34 -> 0 | G34: =E34*1.21 -> 0
B35: F. | C35: Silnoproud materiál | E35: ='Soupis položek FVE ZŠ'!G109 -> 0 | F35: =G35-E35 -> 0 | G35: =E35*1.21 -> 0
B36: G. | C36: Silnoproud montáž | E36: ='Soupis položek FVE ZŠ'!G116 -> 0 | F36: =G36-E36 -> 0 | G36: =E36*1.21 -> 0
B37: H. | C37: Ostatní náklady | E37: ='Soupis položek FVE ZŠ'!G130 -> 0 | F37: =G37-E37 -> 0 | G37: =E37*1.21 -> 0
B38: suma | E38: =SUM(E30:E37) -> 0 | F38: =SUM(F30:F37) -> 0 | G38: =SUM(G30:G37) -> 0
B39: objekt: | E39: OM VO Husovo náměstí 42
B40: p.č. | C40: popis položky | E40: cena bez DPH | F40: DPH | G40: cena s DPH
B41: 1. | C41: Měřidlo vč. instalace v OM VO Husovo náměstí 42 - Smart Meter (průběhové měření se záznamem) | F41: =G41-E41 -> 0 | G41: =E41*1.21 -> 0
B42: suma | E42: =SUM(E41) -> 0 | F42: =SUM(F41) -> 0 | G42: =SUM(G41) -> 0
B44: Suma celkem | E44: =E16+E27+E38+E42 -> 0 | F44: =F16+F27+F38+F42 -> 0 | G44: =G16+G27+G38+G42 -> 0

Sheet Soupis položek FVE MěÚ
B1: Soupis položek FVE MěÚ
B2: číslo akce: | D2: 7221301091
B3: název akce: | D3: FVE 114,38 kW – Obec Bohušovice nad Ohří
B4: objekt: | D4: FVE 49,5 kW Městský úřad, akumulace 48,3 kWh
B6: A. Dodávky zařízení
B7: p.č. | C7: popis položky | D7: mj. | E7: množství | F7: cena/mj. | G7: cena celkem | H7: Nh/mj. | I7: Nh celkem | J7: VKP | K7: kap.
B8: 1 | C8: fotovoltaický panel 550Wp | D8: ks | E8: 90 | G8: =E8*F8 -> 0 | H8: 0 | I8: =E8*H8 -> 0 | J8: * | K8: DE
B9: 2 | C9: střídač hybridní FVE 25kW | D9: ks | E9: 1 | G9: =E9*F9 -> 0 | H9: 0 | I9: =E9*H9 -> 0 | J9: * | K9: DE
B10: 3 | C10: střídač hybridní FVE 20kW | D10: ks | E10: 1 | G10: =E10*F10 -> 0 | H10: 0 | I10: =E10*H10 -> 0 | J10: * | K10: DE
B11: 4 | C11: konstrukce FV panelů dle PD | D11: kpl | E11: 1 | G11: =E11*F11 -> 0 | H11: 0 | I11: =E11*H11 -> 0 | J11: * | K11: DE
B12: 5 | C12: úprava rozvaděče RE v.č. 10 | D12: ks | E12: 1 | G12: =E12*F12 -> 0 | H12: 0 | I12: =E12*H12 -> 0 | J12: * | K12: DE
B13: 6 | C13: rozvaděč RH-FVE v.č. 11 | D13: ks | E13: 1 | G13: =E13*F13 -> 0 | H13: 0 | I13: =E13*H13 -> 0 | J13: * | K13: DE
B14: 7 | C14: rozvaděč R-FVE-DC v.č. 11 | D14: ks | E14: 2 | G14: =E14*F14 -> 0 | H14: 0 | I14: =E14*H14 -> 0 | J14: * | K14: DE
B15: 8 | C15: optimizér s bezpečnostní funkcí STOP | D15: ks | E15: 90 | G15: =E15*F15 -> 0 | H15: 0 | I15: =E15*H15 -> 0 | J15: * | K15: DE
B16: 9 | C16: přístupový bod pro optimizéry | D16: ks | E16: 2 | G16: =E16*F16 -> 0 | H16: 0 | I16: =E16*H16 -> 0 | J16: * | K16: DE
B17: 10 | C17: bateriový blok FVE 25.3 kWh | D17: ks | E17: 1 | G17: =E17*F17 -> 0 | H17: 0 | I17: =E17*H17 -> 0 | J17: * | K17: DE
B18: 11 | C18: bateriový blok 23 kWh | D18: ks | E18: 1 | G18: =E18*F18 -> 0 | H18: 0 | I18: =E18*H18 -> 0 | J18: * | K18: DE
B19: součet | G19: =SUM(G8:G18) -> 0 | I19: =SUM(I8:I18) -> 0
B20: B. Materiál elektromontážní
B21: p.č. | C21: popis položky | D21: mj. | E21: množství | F21: cena/mj. | G21: cena celkem | H21: Nh/mj. | I21: Nh celkem | J21: VKP | K21: kap.
B22: 12 | C22: kab žlab plný FeZn 50x125x0.75 s víkem vč.kostruk | D22: m | E22: 50 | G22: =E22*F22 -> 0 | H22: 0 | I22: =E22*H22 -> 0 | J22: * | K22: ME
B23: 13 | C23: kab žlab plný FeZn 50x62x0.75 s víkem vč.konstruk | D23: m | E23: 105 | G23: =E23*F23 -> 0 | H23: 0 | I23: =E23*H23 -> 0 | J23: * | K23: ME
B24: 14 | C24: vodič CYA 16 zel.žl. /H07V-K/ | D24: m | E24: 230 | G24: =E24*F24 -> 0 | H24: 0 | I24: =E24*H24 -> 0 | J24: * | K24: ME
B25: 15 | C25: kabel CYKY 2x1,5 | D25: m | E25: 120 | G25: =E25*F25 -> 0 | H25: 0 | I25: =E25*H25 -> 0 | J25: * | K25: ME
B26: 16 | C26: kabel FlexSol 6mm2 | D26: m | E26: 360 | G26: =E26*F26 -> 0 | H26: 0 | I26: =E26*H26 -> 0 | J26: * | K26: ME
B27: 17 | C27: kabel CYKY 2x6 | D27: m | E27: 120 | G27: =E27*F27 -> 0 | H27: 0 | I27: =E27*H27 -> 0 | J27: * | K27: ME
B28: 18 | C28: kabel 1kV CYKY 4x25 | D28: m | E28: 60 | G28: =E28*F28 -> 0 | H28: 0 | I28: =E28*H28 -> 0 | J28: * | K28: ME
B29: 19 | C29: kabel CYKY 5x10 | D29: m | E29: 16 | G29: =E29*F29 -> 0 | H29: 0 | I29: =E29*H29 -> 0 | J29: * | K29: ME
B30: součet | G30: =SUM(G22:G29) -> 0 | I30: =SUM(I22:I29) -> 0
B31: C. Elektromontáže
B32: p.č. | C32: popis položky | D32: mj. | E32: množství | F32: cena/mj. | G32: cena celkem | H32: Nh/mj. | I32: Nh celkem | J32: VKP | K32: kap.
B33: 20 | C33: montáž fotovoltaického panelu | D33: ks | E33: 90 | G33: =E33*F33 -> 0 | H33: 2.665 | I33: =E33*H33 -> 239.85 | K33: CE
B34: 21 | C34: montáž střídače do 25kWp vč. zapojení | D34: ks | E34: 2 | G34: =E34*F34 -> 0 | H34: 21.19 | I34: =E34*H34 -> 42.38 | K34: CE
B35: 22 | C35: montáž konstrukcí FV panelů | D35: ks | E35: 1 | G35: =E35*F35 -> 0 | H35: 86 | I35: =E35*H35 -> 86 | K35: CE
B36: 23 | C36: úprava rozvaděče RE | D36: ks | E36: 1 | G36: =E36*F36 -> 0 | H36: 11.148 | I36: =E36*H36 -> 11.148 | K36: CE
B37: 24 | C37: rozvodnice/elektrozařízení do hmotnosti 50kg | D37: ks | E37: 1 | G37: =E37*F37 -> 0 | H37: 0.865 | I37: =E37*H37 -> 0.865 | K37: CE
B38: 25 | C38: skříň litinová, Al nebo plast do hmotnosti 10kg | D38: ks | E38: 2 | G38: =E38*F38 -> 0 | H38: 0.464 | I38: =E38*H38 -> 0.928 | K38: CE
B39: 26 | C39: montáž optimizéru | D39: ks | E39: 90 | G39: =E39*F39 -> 0 | H39: 1.04 | I39: =E39*H39 -> 93.6 | K39: CE
B40: 27 | C40: montáž přístupového bodu optimizérů | D40: ks | E40: 2 | G40: =E40*F40 -> 0 | H40: 2.929 | I40: =E40*H40 -> 5.858 | K40: CE
B41: 28 | C41: kabelový žlab MARS 125/50 úplný | D41: m | E41: 50 | G41: =E41*F41 -> 0 | H41: 0.644 | I41: =E41*H41 -> 32.2 | K41: CE
B42: 29 | C42: kabelový žlab MARS 65/50 úplný | D42: m | E42: 105 | G42: =E42*F42 -> 0 | H42: 0.58 | I42: =E42*H42 -> 60.9 | K42: CE
B43: 30 | C43: vodič Cu(-CY,CYA) pevně uložený do 1x35 | D43: m | E43: 230 | G43: =E43*F43 -> 0 | H43: 0.091 | I43: =E43*H43 -> 20.93 | K43: CE
B44: 31 | C44: kabel(-CYKY) pevně uložený do 3x6/4x4/7x2,5 | D44: m | E44: 120 | G44: =E44*F44 -> 0 | H44: 0.09 | I44: =E44*H44 -> 10.8 | K44: CE
... B50: 37 | C50: bateriový blok 23 kWh zapojení | D50: ks | E50: 1 | G50: =E50*F50 -> 0 | H50: 8.01 | I50: =E50*H50 -> 8.01 | K50: CE
B51: součet | G51: =SUM(G33:G50) -> 0 | I51: =SUM(I33:I50) -> 686.859
B52: D. LPS materiál
B53: p.č. | C53: popis položky | D53: mj. | E53: množství | F53: cena/mj. | G53: cena celkem | H53: Nh/mj. | I53: Nh celkem | J53: VKP | K53: kap.
B54: 38 | C54: distanční vzpěra DEHN 106228/1000 | D54: ks | E54: 4 | G54: =E54*F54 -> 0
B55: 39 | C55: drát D10 AlMgSi0.5 stáčený | D55: m | E55: 8 | G55: =E55*F55 -> 0
B56: 40 | C56: drát D10 FeZn | D56: m | E56: 25 | G56: =E56*F56 -> 0
B57: 41 | C57: drát D8 AlMgSi0.5 stáčený | D57: m | E57: 340 | G57: =E57*F57 -> 0
B58: 42 | C58: držák jímací tyče TREMIS V545/PB19/<3,0m | D58: ks | E58: 2 | G58: =E58*F58 -> 0
B59: 43 | C59: držák jímací tyče V2A 1259/2,0 | D59: ks | E59: 3 | G59: =E59*F59 -> 0
B60: 44 | C60: držák zemního přívodu 274260 | D60: ks | E60: 28 | G60: =E60*F60 -> 0
B61: 45 | C61: jímací tyč 103231, 2,5mc/M16 | D61: ks | E61: 5 | G61: =E61*F61 -> 0
B62: 46 | C62: krabice 182x180x90/IP66 | D62: ks | E62: 2 | G62: =E62*F62 -> 0
B63: 47 | C63: pásovina 30x4 FeZn | D63: m | E63: 190 | G63: =E63*F63 -> 0
B64: 48 | C64: podpěra vedení 253030 grip | D64: ks | E64: 25 | G64: =E64*F64 -> 0
B65: 49 | C65: podpěra vedení PRÖPSTER 110080 NC/volný | D65: ks | E65: 175 | G65: =E65*F65 -> 0
... B74: 58 | C74: zemní přívod DEHN 480020, 2,0m | D74: ks | E74: 14 | G74: =E74*F74 -> 0
B75: součet | G75: =SUM(G54:G74) -> 0
B76: E. LPS montáž
B77: p.č. | C77: popis položky | D77: mj. | E77: množství | F77: cena/mj. | G77: cena celkem | H77: Nh/mj. | I77: Nh celkem | J77: VKP | K77: kap.
B78: 59 | C78: distanční vzpěra DEHN 106228/1000 | D78: montáž | E78: 1 | G78: =E78*F78 -> 0
B79: 60 | C79: dlažba betonová zámková pokládka | D79: montáž | E79: 1 | G79: =E79*F79 -> 0
B80: 61 | C80: dlažba betonová zámková vytrhání | D80: montáž | E80: 1 | G80: =E80*F80 -> 0
B81: 62 | C81: drát D10 AlMgSi0.5 stáčený | D81: montáž | E81: 1 | G81: =E81*F81 -> 0
B82: 63 | C82: drát D10 FeZn | D82: montáž | E82: 1 | G82: =E82*F82 -> 0
B83: 64 | C83: drát D8 AlMgSi0.5 stáčený | D83: montáž | E83: 1 | G83: =E83*F83 -> 0
B84: 65 | C84: držák zemního přívodu 274260 | D84: montáž | E84: 1 | G84: =E84*F84 -> 0
B85: 66 | C85: hloubení rýhy ručně 35x90 | D85: montáž | E85: 1 | G85: =E85*F85 -> 0
B86: 67 | C86: jímací tyč 103231, 2,5mc/M16 | D86: montáž | E86: 1 | G86: =E86*F86 -> 0
B87: 68 | C87: krabice 182x180x90/IP66 | D87: montáž | E87: 1 | G87: =E87*F87 -> 0
B88: 69 | C88: pásovina 30x4 FeZn | D88: montáž | E88: 1 | G88: =E88*F88 -> 0
B89: 70 | C89: podpěra vedení 253030 grip | D89: montáž | E89: 1 | G89: =E89*F89 -> 0
... B100: 81 | C100: zemní přívod DEHN 480020, 2,0m | D100: montáž | E100: 1 | G100: =E100*F100 -> 0
B101: součet | G101: =SUM(G78:G100) -> 0
B102: F. Silnoproud materiál | C102: Silnoproud materiál
B103: p.č. | C103: popis položky | D103: mj. | E103: množství | F103: cena/mj. | G103: cena celkem | H103: Nh/mj. | I103: Nh celkem | J103: VKP | K103: kap.
B104: 82 | C104: rozvodnice KAEDRA 01M/1x1, IP65/N | D104: ks | E104: 1 | G104: =E104*F104 -> 0
B105: 83 | C105: rozvodnice KAEDRA 04M/1x4, IP65/N | D105: ks | E105: 1 | G105: =E105*F105 -> 0
B106: 84 | C106: svodič přep. SALTEK FLP-12,5 V/3 | D106: ks | E106: 1 | G106: =E106*F106 -> 0
B107: 85 | C107: svodič přep. SALTEK FLP-B+C MAXI V/3 | D107: ks | E107: 1 | G107: =E107*F107 -> 0
B108: 86 | C108: svodič přep. SALTEK HX-090 N50 F/F | D108: ks | E108: 3 | G108: =E108*F108 -> 0
B109: 87 | C109: vodič H07V-K CYA25 žlutozelený | D109: m | E109: 100 | G109: =E109*F109 -> 0
B110: součet | G110: =SUM(G104:G109) -> 0
B111: G. Silnoproud montáž
B112: p.č. | C112: popis položky | D112: mj. | E112: množství | F112: cena/mj. | G112: cena celkem | H112: Nh/mj. | I112: Nh celkem | J112: VKP | K112: kap.
B113: 88 | C113: rozvodnice KAEDRA 01M/1x1, IP65/N | D113: montáž | E113: 1 | G113: =E113*F113 -> 0
B114: 89 | C114: rozvodnice KAEDRA 04M/1x4, IP65/N | D114: montáž | E114: 1 | G114: =E114*F114 -> 0
B115: 90 | C115: svodič přep. SALTEK FLP-12,5 V/3 | D115: montáž | E115: 1 | G115: =E115*F115 -> 0
B116: 91 | C116: svodič přep. SALTEK FLP-B+C MAXI V/3 | D116: montáž | E116: 1 | G116: =E116*F116 -> 0
B117: 92 | C117: svodič přep. SALTEK HX-090 N50 F/F | D117: montáž | E117: 1 | G117: =E117*F117 -> 0
B118: 93 | C118: vodič H07V-K CYA25 žlutozelený | D118: montáž | E118: 1 | G118: =E118*F118 -> 0
B119: součet | G119: =SUM(G113:G118) -> 0
B120: H. Ostatní náklady
B121: p.č. | C121: popis položky | D121: mj. | E121: množství | F121: cena/mj. | G121: cena celkem | H121: Nh/mj. | I121: Nh celkem | J121: VKP | K121: kap.
B122: 94 | C122: podružný materiál | D122: soubor | E122: 1 | G122: =E122*F122 -> 0
B123: 95 | C123: doprava a přesun dodávek | D123: soubor | E123: 1 | G123: =E123*F123 -> 0
B124: 96 | C124: doprava a přesun materiálu | D124: soubor | E124: 1 | G124: =E124*F124 -> 0
...

Sheet Soupis položek FVE MŠ
B1: Soupis položek FVE MŠ
B2: číslo akce: | D2: 7221301091
B3: název akce: | D3: FVE 114,38 kW – Obec Bohušovice nad Ohří
B4: objekt: | D4: FVE 48,95 kWp MŠ
B6: A. Dodávky zařízení
B7: p.č. | C7: popis položky | D7: mj. | E7: množství | F7: cena/mj. | G7: cena celkem | H7: Nh/mj. | I7: Nh celkem | J7: VKP | K7: kap.
B8: 1 | C8: fotovoltaický panel 550Wp | D8: ks | E8: 89 | G8: =E8*F8 -> 0 | H8: 0 | I8: =E8*H8 -> 0 | J8: * | K8: DE
B9: 2 | C9: střídač hybridní FVE 25kWp | D9: ks | E9: 1 | G9: =E9*F9 -> 0 | H9: 0 | I9: =E9*H9 -> 0 | J9: * | K9: DE
B10: 3 | C10: střídač hybridní FVE 20kW | D10: ks | E10: 1 | G10: =E10*F10 -> 0 | H10: 0 | I10: =E10*H10 -> 0 | K10: DE
B11: 4 | C11: konstrukce FV panelů dle PD | D11: kpl | E11: 1 | G11: =E11*F11 -> 0 | H11: 0 | I11: =E11*H11 -> 0 | J11: * | K11: DE
B12: 5 | C12: úprava rozvaděče RH v.č. 09 | D12: ks | E12: 1 | G12: =E12*F12 -> 0 | H12: 0 | I12: =E12*H12 -> 0 | J12: * | K12: DE
B13: 6 | C13: rozvaděč RH-FVE v.č. 10 | D13: ks | E13: 1 | G13: =E13*F13 -> 0 | H13: 0 | I13: =E13*H13 -> 0 | J13: * | K13: DE
B14: 7 | C14: rozvaděč R-FVE-AC v.č. 11,12 | D14: ks | E14: 2 | G14: =E14*F14 -> 0 | H14: 0 | I14: =E14*H14 -> 0 | K14: DE
B15: 8 | C15: rozvaděč R-FVE-DC v.č. 13,14 | D15: ks | E15: 2 | G15: =E15*F15 -> 0 | H15: 0 | I15: =E15*H15 -> 0 | J15: * | K15: DE
B16: 9 | C16: optimizér s bezpečnostní funkcí STOP | D16: ks | E16: 89 | G16: =E16*F16 -> 0 | H16: 0 | I16: =E16*H16 -> 0 | J16: * | K16: DE
B17: 10 | C17: přístupový bod pro optimizéry | D17: ks | E17: 4 | G17: =E17*F17 -> 0 | H17: 0 | I17: =E17*H17 -> 0 | J17: * | K17: DE
B18: součet | G18: =SUM(G8:G17) -> 0 | I18: =SUM(I8:I17) -> 0
B19: B. Materiál elektromontážní
B20: p.č. | C20: popis položky | D20: mj. | E20: množství | F20: cena/mj. | G20: cena celkem | H20: Nh/mj. | I20: Nh celkem | J20: VKP | K20: kap.
B21: 11 | C21: kab žlab plný FeZn 50x125x0.75 s víkem vč.kostruk | D21: m | E21: 160 | G21: =E21*F21 -> 0 | H21: 0 | I21: =E21*H21 -> 0 | J21: * | K21: ME
B22: 12 | C22: kab žlab plný FeZn 50x62x0.75 s víkem vč.konstruk | D22: m | E22: 130 | G22: =E22*F22 -> 0 | H22: 0 | I22: =E22*H22 -> 0 | J22: * | K22: ME
B23: 13 | C23: vodič CYA 16 zel.žl. /H07V-K/ | D23: m | E23: 380 | G23: =E23*F23 -> 0 | H23: 0 | I23: =E23*H23 -> 0 | J23: * | K23: ME
B24: 14 | C24: kabel CYKY 2x1,5 | D24: m | E24: 120 | G24: =E24*F24 -> 0 | H24: 0 | I24: =E24*H24 -> 0 | J24: * | K24: ME
B25: 15 | C25: kabel FlexSol 6mm2 | D25: m | E25: 680 | G25: =E25*F25 -> 0 | H25: 0 | I25: =E25*H25 -> 0 | J25: * | K25: ME
B26: 16 | C26: kabel 1kV CYKY 4x25 | D26: m | E26: 60 | G26: =E26*F26 -> 0 | H26: 0 | I26: =E26*H26 -> 0 | J26: * | K26: ME
B27: 17 | C27: kabel CYKY 5x10 | D27: m | E27: 55 | G27: =E27*F27 -> 0 | H27: 0 | I27: =E27*H27 -> 0 | J27: * | K27: ME
B28: součet | G28: =SUM(G21:G27) -> 0 | I28: =SUM(I21:I27) -> 0
B29: C. Elektromontáže
B30: p.č. | C30: popis položky | D30: mj. | E30: množství | F30: cena/mj. | G30: cena celkem | H30: Nh/mj. | I30: Nh celkem | J30: VKP | K30: kap.
B31: 18 | C31: montáž fotovoltaického panelu | D31: ks | E31: 89 | G31: =E31*F31 -> 0 | H31: 2.665 | I31: =E31*H31 -> 237.185 | K31: CE
B32: 19 | C32: montáž střídače do 25kWp vč. zapojení | D32: ks | E32: 1 | G32: =E32*F32 -> 0 | H32: 21.19 | I32: =E32*H32 -> 21.19 | K32: CE
B33: 20 | C33: montáž konstrukcí FV panelů | D33: ks | E33: 1 | G33: =E33*F33 -> 0 | H33: 56.735 | I33: =E33*H33 -> 56.735 | K33: CE
B34: 21 | C34: úprava rozvaděče RH | D34: ks | E34: 1 | G34: =E34*F34 -> 0 | H34: 2.86 | I34: =E34*H34 -> 2.86 | K34: CE
B35: 22 | C35: rozvodnice/elektrozařízení do hmotnosti 50kg | D35: ks | E35: 1 | G35: =E35*F35 -> 0 | H35: 0.865 | I35: =E35*H35 -> 0.865 | K35: CE
B36: 23 | C36: skříň litinová, Al nebo plast do hmotnosti 10kg | D36: ks | E36: 2 | G36: =E36*F36 -> 0 | H36: 0.464 | I36: =E36*H36 -> 0.928 | K36: CE
B37: 24 | C37: montáž optimizéru | D37: ks | E37: 89 | G37: =E37*F37 -> 0 | H37: 1.04 | I37: =E37*H37 -> 92.56 | K37: CE
B38: 25 | C38: montáž přístupového bodu optimizérů | D38: ks | E38: 4 | G38: =E38*F38 -> 0 | H38: 2.929 | I38: =E38*H38 -> 11.716 | K38: CE
B39: 26 | C39: kabelový žlab MARS 125/50 úplný | D39: m | E39: 160 | G39: =E39*F39 -> 0 | H39: 0.644 | I39: =E39*H39 -> 103.04 | K39: CE
B40: 27 | C40: kabelový žlab MARS 65/50 úplný | D40: m | E40: 130 | G40: =E40*F40 -> 0 | H40: 0.58 | I40: =E40*H40 -> 75.4 | K40: CE
B41: 28 | C41: vodič Cu(-CY,CYA) pevně uložený do 1x35 | D41: m | E41: 380 | G41: =E41*F41 -> 0 | H41: 0.091 | I41: =E41*H41 -> 34.58 | K41: CE
B42: 29 | C42: kabel(-CYKY) pevně uložený do 3x6/4x4/7x2,5 | D42: m | E42: 120 | G42: =E42*F42 -> 0 | H42: 0.09 | I42: =E42*H42 -> 10.8 | K42: CE
... B46: 33 | C46: skříň litinová, Al nebo plast do hmotnosti 10kg | D46: ks | E46: 2 | G46: =E46*F46 -> 0 | H46: 0.464 | I46: =E46*H46 -> 0.928 | K46: CE
B47: součet | G47: =SUM(G31:G46) -> 0 | I47: =SUM(I31:I46) -> 724.062
B48: D. LPS materiál
B49: p.č. | C49: popis položky | D49: mj. | E49: množství | F49: cena/mj. | G49: cena celkem | H49: Nh/mj. | I49: Nh celkem | J49: VKP | K49: kap.
B50: 34 | C50: distanční vzpěra 106228/1000 | D50: ks | E50: 2 | G50: =E50*F50 -> 0
B51: 35 | C51: drát D10 FeZn | D51: m | E51: 20 | G51: =E51*F51 -> 0
B52: 36 | C52: drát D8 AlMgSi0.5 stáčený | D52: m | E52: 450 | G52: =E52*F52 -> 0
B53: 37 | C53: držák jímací tyče V545/PB19/<3,0m | D53: ks | E53: 17 | G53: =E53*F53 -> 0
B54: 38 | C54: držák zemního přívodu 274260 | D54: ks | E54: 32 | G54: =E54*F54 -> 0
B55: 39 | C55: jímací tyč JR2,5, 2,5mc/M16 | D55: ks | E55: 17 | G55: =E55*F55 -> 0
B56: 40 | C56: pásovina 30x4 FeZn | D56: m | E56: 275 | G56: =E56*F56 -> 0
B57: 41 | C57: podložka pod podstavec V540/PB19 | D57: ks | E57: 17 | G57: =E57*F57 -> 0
B58: 42 | C58: podpěra vedení Niro-Clip 110080 | D58: ks | E58: 80 | G58: =E58*F58 -> 0
B59: 43 | C59: podpěra vedení Niro-Clip 1117301 | D59: ks | E59: 285 | G59: =E59*F59 -> 0
B60: 44 | C60: svorka 314310 křížová | D60: ks | E60: 12 | G60: =E60*F60 -> 0
B61: 45 | C61: svorka D16/8 Al zkušební | D61: ks | E61: 16 | G61: =E61*F61 -> 0
... B68: 52 | C68: zemní přívod 480019, 1,75m | D68: ks | E68: 16 | G68: =E68*F68 -> 0
B69: součet | G69: =SUM(G50:G68) -> 0
B70: E. LPS montáž
B71: p.č. | C71: popis položky | D71: mj. | E71: množství | F71: cena/mj. | G71: cena celkem | H71: Nh/mj. | I71: Nh celkem | J71: VKP | K71: kap.
B72: 53 | C72: distanční vzpěra 106228/1000 | D72: montáž | E72: 1 | G72: =E72*F72 -> 0
B73: 54 | C73: drát D10 FeZn | D73: montáž | E73: 1 | G73: =E73*F73 -> 0
B74: 55 | C74: drát D8 AlMgSi0.5 stáčený | D74: montáž | E74: 1 | G74: =E74*F74 -> 0
B75: 56 | C75: držák jímací tyče V545/PB19/<3,0m | D75: montáž | E75: 1 | G75: =E75*F75 -> 0
B76: 57 | C76: držák zemního přívodu 274260 | D76: montáž | E76: 1 | G76: =E76*F76 -> 0
B77: 58 | C77: hloubení rýhy ručně 35x90 | D77: montáž | E77: 1 | G77: =E77*F77 -> 0
B78: 59 | C78: jímací tyč JR2,5, 2,5mc/M16 | D78: montáž | E78: 1 | G78: =E78*F78 -> 0
B79: 60 | C79: pásovina 30x4 FeZn | D79: montáž | E79: 1 | G79: =E79*F79 -> 0
B80: 61 | C80: podpěra vedení Niro-Clip 110080 | D80: montáž | E80: 1 | G80: =E80*F80 -> 0
B81: 62 | C81: podpěra vedení Niro-Clip 1117301 | D81: montáž | E81: 1 | G81: =E81*F81 -> 0
B82: 63 | C82: svorka 314310 křížová | D82: montáž | E82: 1 | G82: =E82*F82 -> 0
B83: 64 | C83: svorka D16/8 Al zkušební | D83: montáž | E83: 1 | G83: =E83*F83 -> 0
... B91: 72 | C91: zemní přívod 480019, 1,75m | D91: montáž | E91: 1 | G91: =E91*F91 -> 0
B92: součet | G92: =SUM(G72:G91) -> 0
B93: F. Silnoproud materiál | C93: Silnoproud materiál
B94: p.č. | C94: popis položky | D94: mj. | E94: množství | F94: cena/mj. | G94: cena celkem | H94: Nh/mj. | I94: Nh celkem | J94: VKP | K94: kap.
B95: 73 | C95: rozvodnice KAEDRA 01M/1x1, IP65/N | D95: ks | E95: 1 | G95: =E95*F95 -> 0
B96: 74 | C96: rozvodnice KAEDRA 04M/1x4, IP65/N | D96: ks | E96: 1 | G96: =E96*F96 -> 0
B97: 75 | C97: svodič přep. SALTEK FLP-12,5 V/4 | D97: ks | E97: 1 | G97: =E97*F97 -> 0
B98: 76 | C98: svodič přep. SALTEK FLP-B+C MAXI V/3 | D98: ks | E98: 1 | G98: =E98*F98 -> 0
B99: 77 | C99: svodič přep. SALTEK FX-090F75T F/F | D99: ks | E99: 1 | G99: =E99*F99 -> 0
B100: 78 | C100: vodič H07V-K CYA25 žlutozelený | D100: m | E100: 35 | G100: =E100*F100 -> 0
B101: součet | G101: =SUM(G95:G100) -> 0
B102: G. Silnoproud montáž
B103: p.č. | C103: popis položky | D103: mj. | E103: množství | F103: cena/mj. | G103: cena celkem | H103: Nh/mj. | I103: Nh celkem | J103: VKP | K103: kap.
B104: 79 | C104: rozvodnice KAEDRA 01M/1x1, IP65/N | D104: montáž | E104: 1 | G104: =E104*F104 -> 0
B105: 80 | C105: rozvodnice KAEDRA 04M/1x4, IP65/N | D105: montáž | E105: 1 | G105: =E105*F105 -> 0
B106: 81 | C106: svodič přep. SALTEK FLP-12,5 V/4 | D106: montáž | E106: 1 | G106: =E106*F106 -> 0
B107: 82 | C107: svodič přep. SALTEK FLP-B+C MAXI V/3 | D107: montáž | E107: 1 | G107: =E107*F107 -> 0
B108: 83 | C108: svodič přep. SALTEK FX-090F75T F/F | D108: montáž | E108: 1 | G108: =E108*F108 -> 0
B109: 84 | C109: vodič H07V-K CYA25 žlutozelený | D109: montáž | E109: 1 | G109: =E109*F109 -> 0
B110: součet | G110: =SUM(G104:G109) -> 0
B111: H. Ostatní náklady
B112: p.č. | C112: popis položky | D112: mj. | E112: množství | F112: cena/mj. | G112: cena celkem | H112: Nh/mj. | I112: Nh celkem | J112: VKP | K112: kap.
B113: 85 | C113: podružný materiál | D113: soubor | E113: 1 | G113: =E113*F113 -> 0
B114: 86 | C114: doprava a přesun dodávek | D114: soubor | E114: 1 | G114: =E114*F114 -> 0
B115: 87 | C115: doprava a přesun materiálu | D115: soubor | E115: 1 | G115: =E115*F115 -> 0
B116: 88 | C116: prořez | D116: soubor | E116: 1 | G116: =E116*F116 -> 0
B117: 89 | C117: PPV pro elektromontáže | D117: soubor | E117: 1 | G117: =E117*F117 -> 0
...

Sheet Soupis položek FVE ZŠ
B1: Soupis položek FVE ZŠ
B2: číslo akce: | D2: 7221301091
B3: název akce: | D3: FVE 114,38 kW – Obec Bohušovice nad Ohří
B4: objekt: | D4: FVE 14,3 kWp ZŠ
B6: A. Dodávky zařízení
B7: p.č. | C7: popis položky | D7: mj. | E7: množství | F7: cena/mj. | G7: cena celkem | H7: Nh/mj. | I7: Nh celkem | J7: VKP | K7: kap.
B8: 1 | C8: fotovoltaický panel 550Wp | D8: ks | E8: 26 | G8: =E8*F8 -> 0 | H8: 0 | I8: =E8*H8 -> 0 | J8: * | K8: DE
B9: 2 | C9: střídac FVE 10kWp | D9: ks | E9: 1 | G9: =E9*F9 -> 0 | H9: 0 | I9: =E9*H9 -> 0 | J9: * | K9: DE
B10: 3 | C10: konstrukce FV panelů dle PD | D10: kpl | E10: 1 | G10: =E10*F10 -> 0 | H10: 0 | I10: =E10*H10 -> 0 | J10: * | K10: DE
B11: 4 | C11: úprava rozvaděče RE v.č. 09 | D11: ks | E11: 1 | G11: =E11*F11 -> 0 | H11: 0 | I11: =E11*H11 -> 0 | J11: * | K11: DE
B12: 5 | C12: úprava rozvaděče RH | D12: ks | E12: 1 | G12: =E12*F12 -> 0 | H12: 0 | I12: =E12*H12 -> 0 | J12: * | K12: DE
B13: 6 | C13: rozvaděč RH-FVE v.č. 10 | D13: ks | E13: 1 | G13: =E13*F13 -> 0 | H13: 0 | I13: =E13*H13 -> 0 | J13: * | K13: DE
B14: 7 | C14: rozvaděč R-FVE-DC v.č. 11 | D14: ks | E14: 1 | G14: =E14*F14 -> 0 | H14: 0 | I14: =E14*H14 -> 0 | J14: * | K14: DE
B15: 8 | C15: optimizér s bezpečnostní funkcí STOP | D15: ks | E15: 26 | G15: =E15*F15 -> 0 | H15: 0 | I15: =E15*H15 -> 0 | J15: * | K15: DE
B16: 9 | C16: přístupový bod pro optimizéry | D16: ks | E16: 1 | G16: =E16*F16 -> 0 | H16: 0 | I16: =E16*H16 -> 0 | J16: * | K16: DE
B17: součet | G17: =SUM(G8:G16) -> 0 | I17: =SUM(I8:I16) -> 0
B18: B. Materiál elektromontážní
B19: p.č. | C19: popis položky | D19: mj. | E19: množství | F19: cena/mj. | G19: cena celkem | H19: Nh/mj. | I19: Nh celkem | J19: VKP | K19: kap.
B20: 10 | C20: kab žlab plný FeZn 50x125x0.75 s víkem vč.kostruk | D20: m | E20: 50 | G20: =E20*F20 -> 0 | H20: 0 | I20: =E20*H20 -> 0 | J20: * | K20: ME
B21: 11 | C21: kab žlab plný FeZn 50x62x0.75 s víkem vč.konstruk | D21: m | E21: 105 | G21: =E21*F21 -> 0 | H21: 0 | I21: =E21*H21 -> 0 | J21: * | K21: ME
B22: 12 | C22: vodič CYA 16 zel.žl. /H07V-K/ | D22: m | E22: 160 | G22: =E22*F22 -> 0 | H22: 0 | I22: =E22*H22 -> 0 | J22: * | K22: ME
B23: 13 | C23: kabel CYKY 2x1,5 | D23: m | E23: 80 | G23: =E23*F23 -> 0 | H23: 0 | I23: =E23*H23 -> 0 | J23: * | K23: ME
B24: 14 | C24: kabel CYKY 5x6 | D24: m | E24: 35 | G24: =E24*F24 -> 0 | H24: 0 | I24: =E24*H24 -> 0 | J24: * | K24: ME
B25: 15 | C25: kabel FlexSol 6mm2 | D25: m | E25: 180 | G25: =E25*F25 -> 0 | H25: 0 | I25: =E25*H25 -> 0 | J25: * | K25: ME
B26: součet | G26: =SUM(G20:G25) -> 0 | I26: =SUM(I20:I25) -> 0
B27: C. Elektromontáže
B28: p.č. | C28: popis položky | D28: mj. | E28: množství | F28: cena/mj. | G28: cena celkem | H28: Nh/mj. | I28: Nh celkem | J28: VKP | K28: kap.
B29: 16 | C29: montáž fotovoltaického panelu | D29: ks | E29: 26 | G29: =E29*F29 -> 0 | H29: 2.665 | I29: =E29*H29 -> 69.29 | K29: CE
B30: 17 | C30: montáž střídače do 15kWp vč. zapojení | D30: ks | E30: 1 | G30: =E30*F30 -> 0 | H30: 13.5 | I30: =E30*H30 -> 13.5 | K30: CE
B31: 18 | C31: montáž konstrukcí FV panelů | D31: ks | E31: 1 | G31: =E31*F31 -> 0 | H31: 56.735 | I31: =E31*H31 -> 56.735 | K31: CE
B32: 19 | C32: úprava rozvaděče RE | D32: ks | E32: 1 | G32: =E32*F32 -> 0 | H32: 11.148 | I32: =E32*H32 -> 11.148 | K32: CE
B33: 20 | C33: úprava rozvaděče RH | D33: ks | E33: 1 | G33: =E33*F33 -> 0 | H33: 2.86 | I33: =E33*H33 -> 2.86 | K33: CE
B34: 21 | C34: rozvodnice/elektrozařízení do hmotnosti 50kg | D34: ks | E34: 1 | G34: =E34*F34 -> 0 | H34: 0.865 | I34: =E34*H34 -> 0.865 | K34: CE
B35: 22 | C35: skříň litinová, Al nebo plast do hmotnosti 10kg | D35: ks | E35: 1 | G35: =E35*F35 -> 0 | H35: 0.464 | I35: =E35*H35 -> 0.464 | K35: CE
B36: 23 | C36: montáž optimizéru | D36: ks | E36: 26 | G36: =E36*F36 -> 0 | H36: 1.04 | I36: =E36*H36 -> 27.04 | K36: CE
B37: 24 | C37: montáž přístupového bodu optimizérů | D37: ks | E37: 1 | G37: =E37*F37 -> 0 | H37: 2.929 | I37: =E37*H37 -> 2.929 | K37: CE
B38: 25 | C38: kabelový žlab MARS 125/50 úplný | D38: m | E38: 50 | G38: =E38*F38 -> 0 | H38: 0.644 | I38: =E38*H38 -> 32.2 | K38: CE
B39: 26 | C39: kabelový žlab MARS 65/50 úplný | D39: m | E39: 105 | G39: =E39*F39 -> 0 | H39: 0.58 | I39: =E39*H39 -> 60.9 | K39: CE
B40: 27 | C40: vodič Cu(-CY,CYA) pevně uložený do 1x35 | D40: m | E40: 160 | G40: =E40*F40 -> 0 | H40: 0.091 | I40: =E40*H40 -> 14.56 | K40: CE
... B43: 30 | C43: vodič Cu(-CY,CYA) pevně uložený do 1x35 | D43: m | E43: 180 | G43: =E43*F43 -> 0 | H43: 0.091 | I43: =E43*H43 -> 16.38 | K43: CE
B44: součet | G44: =SUM(G29:G43) -> 0 | I44: =SUM(I29:I43) -> 319.396
B45: D. LPS materiál
B46: p.č. | C46: popis položky | D46: mj. | E46: množství | F46: cena/mj. | G46: cena celkem | H46: Nh/mj. | I46: Nh celkem | J46: VKP | K46: kap.
B47: 31 | C47: distanční vzpěra 106228/1000 | D47: ks | E47: 2 | G47: =E47*F47 -> 0
B48: 32 | C48: drát D10 FeZn | D48: m | E48: 24 | G48: =E48*F48 -> 0
B49: 33 | C49: drát D8 AlMgSi0.5 stáčený | D49: m | E49: 395 | G49: =E49*F49 -> 0
B50: 34 | C50: držák jímací tyče V2A 1259/2,0 | D50: ks | E50: 4 | G50: =E50*F50 -> 0
B51: 35 | C51: držák zemního přívodu 274260 | D51: ks | E51: 22 | G51: =E51*F51 -> 0
B52: 36 | C52: jímací sada 912068, 3,5m/20 | D52: ks | E52: 2 | G52: =E52*F52 -> 0
B53: 37 | C53: jímací tyč 103231, 2,5mc/M16 | D53: ks | E53: 2 | G53: =E53*F53 -> 0
B54: 38 | C54: krabice 182x180x90/IP66 | D54: ks | E54: 2 | G54: =E54*F54 -> 0
B55: 39 | C55: pásovina 30x4 FeZn | D55: m | E55: 165 | G55: =E55*F55 -> 0
B56: 40 | C56: podpěra vedení 110080 NC/volný | D56: ks | E56: 130 | G56: =E56*F56 -> 0
B57: 41 | C57: podpěra vedení 111019 RO UNI niro | D57: ks | E57: 55 | G57: =E57*F57 -> 0
B58: 42 | C58: podpěra vedení 204949 grip | D58: ks | E58: 25 | G58: =E58*F58 -> 0
... B70: 54 | C70: zemní přívod 480020, 2,0m | D70: ks | E70: 11 | G70: =E70*F70 -> 0
B71: součet | G71: =SUM(G47:G70) -> 0
B72: E. LPS montáž
B73: p.č. | C73: popis položky | D73: mj. | E73: množství | F73: cena/mj. | G73: cena celkem | H73: Nh/mj. | I73: Nh celkem | J73: VKP | K73: kap.
B74: 55 | C74: distanční vzpěra 106228/1000 | D74: montáž | E74: 1 | G74: =E74*F74 -> 0
B75: 56 | C75: dlažba betonová zámková pokládka | D75: montáž | E75: 1 | G75: =E75*F75 -> 0
B76: 57 | C76: dlažba betonová zámková vytrhání | D76: montáž | E76: 1 | G76: =E76*F76 -> 0
B77: 58 | C77: drát D10 FeZn | D77: montáž | E77: 1 | G77: =E77*F77 -> 0
B78: 59 | C78: drát D8 AlMgSi0.5 stáčený | D78: montáž | E78: 1 | G78: =E78*F78 -> 0
B79: 60 | C79: držák jímací tyče V2A 1259/2,0 | D79: montáž | E79: 1 | G79: =E79*F79 -> 0
B80: 61 | C80: držák zemního přívodu 274260 | D80: montáž | E80: 1 | G80: =E80*F80 -> 0
B81: 62 | C81: hloubení rýhy ručně 35x90 | D81: montáž | E81: 1 | G81: =E81*F81 -> 0
B82: 63 | C82: jímací sada 912068, 3,5m/20 | D82: montáž | E82: 1 | G82: =E82*F82 -> 0
B83: 64 | C83: jímací tyč 103231, 2,5mc/M16 | D83: montáž | E83: 1 | G83: =E83*F83 -> 0
B84: 65 | C84: krabice 182x180x90/IP66 | D84: montáž | E84: 1 | G84: =E84*F84 -> 0
B85: 66 | C85: pásovina 30x4 FeZn | D85: montáž | E85: 1 | G85: =E85*F85 -> 0
... B101: 82 | C101: zemní přívod 480020, 2,0m | D101: montáž | E101: 1 | G101: =E101*F101 -> 0
B102: součet | G102: =SUM(G74:G101) -> 0
B103: F. Silnoproud materiál | C103: Silnoproud materiál
B104: p.č. | C104: popis položky | D104: mj. | E104: množství | F104: cena/mj. | G104: cena celkem | H104: Nh/mj. | I104: Nh celkem | J104: VKP | K104: kap.
B105: 83 | C105: rozvodnice KAEDRA 04M/1x4, IP65/N | D105: ks | E105: 1 | G105: =E105*F105 -> 0
B106: 84 | C106: svodič přep. SALTEK FLP-B+C MAXI V/3 | D106: ks | E106: 1 | G106: =E106*F106 -> 0
B107: 85 | C107: svodič přep. SALTEK FX-090F75T F/F | D107: ks | E107: 2 | G107: =E107*F107 -> 0
B108: 86 | C108: vodič H07V-K CYA25 žlutozelený | D108: m | E108: 55 | G108: =E108*F108 -> 0
B109: součet | G109: =SUM(G105:G108) -> 0
B110: G. Silnoproud montáž
B111: p.č. | C111: popis položky | D111: mj. | E111: množství | F111: cena/mj. | G111: cena celkem | H111: Nh/mj. | I111: Nh celkem | J111: VKP | K111: kap.
B112: 87 | C112: rozvodnice KAEDRA 04M/1x4, IP65/N | D112: montáž | E112: 1 | G112: =E112*F112 -> 0
B113: 88 | C113: svodič přep. SALTEK FLP-B+C MAXI V/3 | D113: montáž | E113: 1 | G113: =E113*F113 -> 0
B114: 89 | C114: svodič přep. SALTEK FX-090F75T F/F | D114: montáž | E114: 1 | G114: =E114*F114 -> 0
B115: 90 | C115: vodič H07V-K CYA25 žlutozelený | D115: montáž | E115: 1 | G115: =E115*F115 -> 0
B116: součet | G116: =SUM(G112:G115) -> 0
B117: H. Ostatní náklady
B118: p.č. | C118: popis položky | D118: mj. | E118: množství | F118: cena/mj. | G118: cena celkem | H118: Nh/mj. | I118: Nh celkem | J118: VKP | K118: kap.
B119: 91 | C119: podružný materiál | D119: soubor | E119: 1 | G119: =E119*F119 -> 0
B120: 92 | C120: doprava a přesun dodávek | D120: soubor | E120: 1 | G120: =E120*F120 -> 0
B121: 93 | C121: doprava a přesun materiálu | D121: soubor | E121: 1 | G121: =E121*F121 -> 0
B122: 94 | C122: prořez | D122: soubor | E122: 1 | G122: =E122*F122 -> 0
B123: 95 | C123: PPV pro elektromontáže | D123: soubor | E123: 1 | G123: =E123*F123 -> 0
B124: 96 | C124: zařízení staveniště | D124: soubor | E124: 1 | G124: =E124*F124 -> 0
B125: 97 | C125: kompletační činnost | D125: soubor | E125: 1 | G125: =E125*F125 -> 0
B126: 98 | C126: územní vlivy | D126: soubor | E126: 1 | G126: =E126*F126 -> 0
B127: 99 | C127: revize | D127: soubor | E127: 1 | G127: =E127*F127 -> 0
B128: 100 | C128: komplexní zkoušky | D128: soubor | E128: 1 | G128: =E128*F128 -> 0
B129: 101 | C129: dokumentace provedení stavby | D129: soubor | E129: 1 | G129: =E129*F129 -> 0
...
