Workbook
Name Excel_BuiltIn_Print_Area: 'SO 103 souhrn'!$A:$F
Name Excel_BuiltIn_Print_Titles: 'SO 103'!$7:$7

Sheet Rekapitulace
A1: EstiCon | B1: Firma:
B2: Rekapitulace ceny
B4: Stavba: 18 - STAVEBNÍ ÚPRAVY MÍSTNÍ KOMUNIKACE V UL. NA SKUPICI A NA KOPEČKU, PODĚBRADY
B6: Celková cena bez DPH: | C6: =SUM(C10:C12) -> 0
B7: Celková cena s DPH: | C7: =SUM(E10:E12) -> 0
A9: Objekt | B9: Popis | C9: Cena bez DPH | D9: DPH | E9: Cena s DPH
A10: SO 101 | B10: KOMUNIKACE - UL. NA KOPEČKU | C10: ='SO 101'!I3 -> 0 | D10: =SUMIFS('SO 101'!O:O,'SO 101'!A:A,"P") -> 0 | E10: =C10+D10 -> 0
A11: SO 102 | B11: KOMUNIKACE - UL. NA SKUPICI | C11: ='SO 102'!I3 -> 0 | D11: =SUMIFS('SO 102'!O:O,'SO 102'!A:A,"P") -> 0 | E11: =C11+D11 -> 0
A12: SO 103 | B12: VEŘEJNÉ OSVĚTLENÍ | C12: ='SO 103 souhrn'!F31 -> 0 | D12: =C12*0.21 -> 0 | E12: =C12+D12 -> 0
A21: Vysvětlení zadávací dokumentace č. 2

Sheet SO 101
A1: EstiCon | E1: Firma: | P1: 3
E2: Soupis prací objektu
A3: S | B3: Stavba: | C3: 18 | E3: STAVEBNÍ ÚPRAVY MÍSTNÍ KOMUNIKACE V UL. NA SKUPICI A NA KOPEČKU, PODĚBRADY | H3: SO 101 | I3: =SUMIFS(I8:I227,A8:A227,"SD") -> 0 | O3: 0 | P3: 2
A4: O | B4: Rozpočet: | C4: SO 101 | E4: KOMUNIKACE - UL. NA KOPEČKU | O4: 0.15 | P4: 2
A5: Typ | B5: Poř. číslo | C5: Kód položky | D5: Varianta | E5: Název Položky | F5: MJ | G5: Množství | H5: Cena | J5: Cenová soustava | O5: 0.21
H6: Jednotková | I6: Celkem
A7: 0 | B7: 1 | C7: 2 | D7: 3 | E7: 4 | F7: 5 | G7: 6 | H7: 7 | I7: 8 | J7: 9
A8: SD | C8: 0 | E8: Všeobecné konstrukce a práce | I8: =SUMIFS(I9:I50,A9:A50,"P") -> 0
A9: P | B9: 1 | C9: 00001 | E9: PROJEKTOVÁ DOKUMENTACE PRO REALIZACI STAVBY | F9: KPL | G9: 1 | H9: 0 | I9: =ROUND(G9*H9,P4) -> 0 | J9: OTSKP ~ 2025 | O9: =I9*0.21 -> 0 | P9: 3
A10: PP
A11: VV | E11: 1 = 1,000 [A]
A12: TS
A13: P | B13: 2 | C13: 00002 | E13: GEODETICKÉ VYTÝČENÍ STAVBY PŘED REALIZACÍ A V PRŮBĚHU STAVBY | F13: KPL | G13: 1 | H13: 0 | I13: =ROUND(G13*H13,P4) -> 0 | J13: OTSKP ~ 2025 | O13: =I13*0.21 -> 0 | P13: 3
A14: PP
A15: VV | E15: 1 = 1,000 [A]
A16: TS
A17: P | B17: 3 | C17: 00003 | E17: GEODETICKÉ ZAMĚŘENÍ STAVBY - SKUTEČNÉ PROVEDENÍ | F17: KPL | G17: 1 | H17: 0 | I17: =ROUND(G17*H17,P4) -> 0 | J17: OTSKP ~ 2025 | O17: =I17*0.21 -> 0 | P17: 3
A18: PP
A19: VV | E19: 1 = 1,000 [A]
A20: TS
A21: P | B21: 4 | C21: 00004 | E21: GEODETICKÉ ZAMĚŘENÍ - VYHOTOVENÍ GEOMETRICKÉHO PLÁNU PRO ODDĚLENÍ POZEMKU | F21: KPL | G21: 1 | H21: 0 | I21: =ROUND(G21*H21,P4) -> 0 | J21: OTSKP ~ 2025 | O21: =I21*0.21 -> 0 | P21: 3
A22: PP
A23: VV | E23: 1 = 1,000 [A]
A24: TS
A25: P | B25: 5 | C25: 014101 | D25: A | E25: POPLATKY ZA SKLÁDKU - vytěžené zeminy a horniny | F25: M3 | G25: 2068.545 | H25: 0 | I25: =ROUND(G25*H25,P4) -> 0 | O25: =I25*0.21 -> 0 | P25: 3
A26: PP
A27: VV | E27: dle pol. 12373.AZ + 12373.KOM 1027.350+821.880 = 1849,230 [A] dle pol. 113327 219,315 = 219,315 [B] Celkové množství = 2068,545
A28: TS | E28: zahrnuje veškeré poplatky provozovateli skládky související s uložením odpadu na skládce.
A29: P | B29: 6 | C29: 014101 | D29: C | E29: POPLATKY ZA SKLÁDKU - prostý beton, obrubníky | F29: M3 | G29: 5.25 | H29: 0 | I29: =ROUND(G29*H29,P4) -> 0 | O29: =I29*0.21 -> 0 | P29: 3
A30: PP
A31: VV | E31: dle položky 113524 140*(0,25*0,15) = 5,250 [A]_x000D_ Celkové množství = 5,250
A32: TS
A33: P | B33: 7 | C33: 014101 | D33: H | E33: POPLATKY ZA SKLÁDKU - sejmutí drnu | F33: M3 | G33: 176.1 | H33: 0 | I33: =ROUND(G33*H33,P4) -> 0 | O33: =I33*0.21 -> 0 | P33: 3
A34: PP
A35: VV | E35: dle pol. 11130 880,5*0,2 = 176,100 [A]_x000D_ Celkové množství = 176,100
A36: TS | E36: zahrnuje veškeré poplatky provozovateli skládky související s uložením odpadu na skládce.
A37: P | B37: 8 | C37: 014121 | E37: POPLATKY ZA SKLÁDKU TYP S-OO (OSTATNÍ ODPAD) - asfalt | F37: M3 | G37: 25.14 | H37: 0 | I37: =ROUND(G37*H37,P4) -> 0 | J37: OTSKP ~ 2025 | O37: =I37*0.21 -> 0 | P37: 3
A38: PP
A39: VV | E39: dle pol. č. 113137 25,14 = 25,140 [A]
A40: TS | E40: zahrnuje veškeré poplatky provozovateli skládky související s uložením odpadu na skládce.
...

Sheet SO 102
A1: EstiCon | E1: Firma: | P1: 3
E2: Soupis prací objektu
A3: S | B3: Stavba: | C3: 18 | E3: STAVEBNÍ ÚPRAVY MÍSTNÍ KOMUNIKACE V UL. NA SKUPICI A NA KOPEČKU, PODĚBRADY | H3: SO 102 | I3: =SUMIFS(I8:I271,A8:A271,"SD") -> 0 | O3: 0 | P3: 2
A4: O | B4: Rozpočet: | C4: SO 102 | E4: KOMUNIKACE - UL. NA SKUPICI | O4: 0.15 | P4: 2
A5: Typ | B5: Poř. číslo | C5: Kód položky | D5: Varianta | E5: Název Položky | F5: MJ | G5: Množství | H5: Cena | J5: Cenová soustava | O5: 0.21
H6: Jednotková | I6: Celkem
A7: 0 | B7: 1 | C7: 2 | D7: 3 | E7: 4 | F7: 5 | G7: 6 | H7: 7 | I7: 8 | J7: 9
A8: SD | C8: 0 | E8: Všeobecné konstrukce a práce | I8: =SUMIFS(I9:I46,A9:A46,"P") -> 0
A9: P | B9: 1 | C9: 00001 | E9: PROJEKTOVÁ DOKUMENTACE PRO REALIZACI STAVBY | F9: KPL | G9: 1 | H9: 0 | I9: =ROUND(G9*H9,P4) -> 0 | J9: OTSKP ~ 2025 | O9: =I9*0.21 -> 0 | P9: 3
A10: PP
A11: VV | E11: 1 = 1,000 [A]
A12: TS
A13: P | B13: 2 | C13: 00002 | E13: GEODETICKÉ VYTÝČENÍ STAVBY PŘED REALIZACÍ A V PRŮBĚHU STAVBY | F13: KPL | G13: 1 | H13: 0 | I13: =ROUND(G13*H13,P4) -> 0 | J13: OTSKP ~ 2025 | O13: =I13*0.21 -> 0 | P13: 3
A14: PP
A15: VV | E15: 1 = 1,000 [A]
A16: TS
A17: P | B17: 3 | C17: 00003 | E17: GEODETICKÉ ZAMĚŘENÍ STAVBY - SKUTEČNÉ PROVEDENÍ | F17: KPL | G17: 1 | H17: 0 | I17: =ROUND(G17*H17,P4) -> 0 | J17: OTSKP ~ 2025 | O17: =I17*0.21 -> 0 | P17: 3
A18: PP
A19: VV | E19: 1 = 1,000 [A]
A20: TS
A21: P | B21: 4 | C21: 00004 | E21: GEODETICKÉ ZAMĚŘENÍ - VYHOTOVENÍ GEOMETRICKÉHO PLÁNU PRO ODDĚLENÍ POZEMKU | F21: KPL | G21: 1 | H21: 0 | I21: =ROUND(G21*H21,P4) -> 0 | J21: OTSKP ~ 2025 | O21: =I21*0.21 -> 0 | P21: 3
A22: PP
A23: VV | E23: 1 = 1,000 [A]
A24: TS
A25: P | B25: 5 | C25: 014101 | D25: A | E25: POPLATKY ZA SKLÁDKU - vytěžené zeminy a horniny | F25: M3 | G25: 2800.84 | H25: 0 | I25: =ROUND(G25*H25,P4) -> 0 | O25: =I25*0.21 -> 0 | P25: 3
A26: PP
A27: VV | E27: dle pol. 12373.SKL 1450,4 = 1450,400 [A] dle pol. 113327 1350,44 = 1350,440 [B] Celkové množství = 2800,840
A28: TS | E28: zahrnuje veškeré poplatky provozovateli skládky související s uložením odpadu na skládce.
A29: P | B29: 6 | C29: 014101 | D29: H | E29: POPLATKY ZA SKLÁDKU - sejmutí drnu | F29: M3 | G29: 219.8 | H29: 0 | I29: =ROUND(G29*H29,P4) -> 0 | O29: =I29*0.21 -> 0 | P29: 3
A30: PP
A31: VV | E31: dle pol. 11130 1099.000*0,2 = 219,800 [A]_x000D_ Celkové množství = 219,800
A32: TS | E32: zahrnuje veškeré poplatky provozovateli skládky související s uložením odpadu na skládce.
A33: P | B33: 7 | C33: 014121 | E33: POPLATKY ZA SKLÁDKU TYP S-OO (OSTATNÍ ODPAD) - asfalt | F33: M3 | G33: 342.28 | H33: 0 | I33: =ROUND(G33*H33,P4) -> 0 | J33: OTSKP ~ 2025 | O33: =I33*0.21 -> 0 | P33: 3
A34: PP
A35: VV | E35: 342.280 = 342,280 [A]
A36: TS | E36: zahrnuje veškeré poplatky provozovateli skládky související s uložením odpadu na skládce.
A37: P | B37: 8 | C37: 02720 | D37: 2 | E37: POMOC PRÁCE ZŘÍZ NEBO ZAJIŠŤ REGULACI A OCHRANU DOPRAVY - DOPRAVNĚ INŽENÝRSKÉ OPATŘENÍ | F37: KPL | G37: 1 | H37: 0 | I37: =ROUND(G37*H37,P4) -> 0 | O37: =I37*0.21 -> 0 | P37: 3
A38: PP | E38: DIO
A39: VV | E39: 1=1.000 [A] _x000D_ Celkem 1 = 1,000
A40: TS | E40: zahrnuje veškeré náklady spojené s objednatelem požadovanými zarízeními
...

Sheet SO 103 souhrn
A1: Rekapitulace ceny
A3: číslo akce:25-008-Po
A4: název akce: Rekonstrukce ulic Ke Skupici, Na Kopečku a Kubovýchn sadů
A5: objekt: Veřejné osvětlení
A7: p.č. | D7: % | E7: základ | F7: cena /Kč/ | I7: sazbaDPH | J7: dphZ
A8: 1 | B8: materiál elektromontážní | F8: ='SO 103'!H35 -> 0 | H8: 13
A9: 2 | B9: prořez | D9: 0.5 | E9: ='SO 103'!O35 -> 0 | F9: =D9*E9/100 -> 0 | H9: 14
A10: 3 | B10: materiál podružný | D10: 1 | E10: =SUM(F8:F8) -> 0 | F10: =D10*E10/100 -> 0 | H10: 15
A11: 4 | B11: materiál zemní+stavební | F11: ='SO 103'!H41 -> 0 | H11: 17
A12: 5 | B12: elektromontáže | F12: ='SO 103'!H68 -> 0 | G12: =SUM(F8:F10) -> 0 | H12: 18
A13: 6 | B13: demontáže | F13: ='SO 103'!H74 -> 0 | H13: 19
A14: 7 | B14: zemní práce | F14: ='SO 103'!H106 -> 0 | G14: =SUM(F11:F11) -> 0 | H14: 21
A15: 8 | B15: PPV pro elektromontáže | D15: 0.5 | E15: =SUM(F12:G12) -> 0 | F15: =D15*E15/100 -> 0 | H15: 22
A16: 9 | B16: PPV pro zemní práce | D16: 0.5 | E16: =SUM(F14:G14) -> 0 | F16: =D16*E16/100 -> 0 | H16: 23
A17: 10 | B17: materiál+výkony celkem | F17: =SUM(F8:F16) -> 0 | H17: 26
A18: 11 | B18: ostatní náklady+recyklace | F18: ='SO 103'!P113 -> 0 | H18: 27 | J18: ='SO 103'!R113 -> 0
A19: 12 | B19: NÁKLADY hl.III celkem | F19: =SUM(F17:F18) -> 0 | G19: =SUM(F19:F19) -> 0 | H19: 28
A21: 13 | B21: zařízení staveniště | D21: 0.5 | E21: =SUM(F17:F17) -> 0 | F21: =D21*E21/100 -> 0 | H21: 30
A22: 14 | B22: PV/ narušení dopravy | D22: 0.1 | E22: =SUM(F17:F17) -> 0 | F22: =D22*E22/100 -> 0 | H22: 31
A23: 15 | B23: NÁKLADY hl.VI celkem | F23: =SUM(F21:F22) -> 0 | G23: =SUM(F23:F23) -> 0 | H23: 33
A25: 16 | B25: kompletační činnost | H25: 35
A26: 17 | B26: revize | H26: 36
A27: 18 | B27: komplexní zkoušky | H27: 37
A28: 19 | B28: dokumentace skutečného provedení | H28: 40
A29: 20 | B29: NÁKLADY hl.XI celkem | F29: =SUM(F25:F28) -> 0 | G29: =SUM(F29:F29) -> 0 | H29: 41
J30: ='SO 103'!Q113 -> 0
A31: 21 | B31: cena bez DPH | F31: =SUM(G17:G30) -> 0 | H31: 43
A32: 22 | B32: DPH základní sazba | D32: 21 | E32: =SUM(F31:F31) -> 0 | F32: =D32*E32/100 -> 0 | H32: 46 | J32: =SUM(J1:J31) -> 0
A33: 23 | B33: CENA vč.DPH (Kč) | F33: =SUM(F31:F32) -> 0 | H33: 48
B35: Vyplní uchazeč

Sheet SO 103
A1: číslo akce:25-008-Po
A2: název akce: Rekonstrukce ulic Ke Skupici, Na Kopečku a Kubových sadů
A3: objekt: Veřejné osvětlení
C5: U takto označených položek uchazeč uvede výrobce a výrobek v barevně vyznačeném poli.
A7: Soupis položek
A8: p.č. | B8: č.položky | D8: popis položky | E8: mj. | F8: množství | G8: cena/mj. | H8: cena celkem | I8: Rc/Nh/mj. | J8: Rc/Nh/Sum | K8: DPH | L8: VKP | M8: TC | N8: kap. | O8: proř/ON09 | P8: recy/ON | Q8: dphZ | R8: recZ
A9: Materiál elektromontážní | I9: recy/mj | J9: recySuma
A10: 1. | B10: 101209 | D10: kabel CYKY 4J x10 | E10: m | F10: 830 | G10: 0 | H10: =F10*G10 -> 0 | I10: 0 | J10: =F10*I10 -> 0 | K10: S | L10: * | N10: ME | O10: =F10*G10 -> 0
A11: 2. | B11: 101233 | D11: kabel CYKY 3J x 6 | E11: m | F11: 680 | G11: 0 | H11: =F11*G11 -> 0 | I11: 0 | J11: =F11*I11 -> 0 | K11: S | L11: * | N11: ME | O11: =F11*G11 -> 0
A12: 3. | B12: 101305 | D12: kabel CYKY 3 J x1,5 | E12: m | F12: 156 | G12: 0 | H12: =F12*G12 -> 0 | I12: 0 | J12: =F12*I12 -> 0 | K12: S | L12: * | N12: ME | O12: =F12*G12 -> 0
A13: 4. | B13: 193509 | D13: spojka 1kV plast 4žilová SVCZC 25-Cu - Al | E13: ks | F13: 5 | G13: 0 | H13: =F13*G13 -> 0 | I13: 0 | J13: =F13*I13 -> 0 | K13: S | L13: * | N13: ME
A14: 5. | B14: 321501 | D14: roura korugovaná KOPOFLEX KF09050 pr.50/41mm | E14: m | F14: 670 | G14: 0 | H14: =F14*G14 -> 0 | I14: 0 | J14: =F14*I14 -> 0 | K14: S | L14: * | N14: ME | O14: =F14*G14 -> 0
A15: 6. | B15: 321502 | D15: roura korugovaná KOPOFLEX KF09063 pr.63/52 mm | E15: m | F15: 600 | G15: 0 | H15: =F15*G15 -> 0 | I15: 0 | J15: =F15*I15 -> 0 | K15: S | L15: * | N15: ME | O15: =F15*G15 -> 0
A16: 7. | B16: 321816 | D16: roura korugovaná KOPOFLEX KF09110 pr.110/94mm | E16: m | F16: 200 | G16: 0 | H16: =F16*G16 -> 0 | I16: 0 | J16: =F16*I16 -> 0 | K16: S | L16: * | N16: ME | O16: =F16*G16 -> 0
A17: 8. | B17: 321805 | D17: trubka HDPE pro OK - 40/33 - černá | E17: m | F17: 670 | G17: 0 | H17: =F17*G17 -> 0 | I17: 0 | J17: =F17*I17 -> 0 | K17: S | L17: * | N17: ME | O17: =F17*G17 -> 0
A18: 9. | B18: 321505 | D18: mikrotrubička 12/8 pro OK silnostěnná | E18: m | F18: 400 | G18: 0 | H18: =F18*G18 -> 0 | I18: 0 | J18: =F18*I18 -> 0 | K18: S | L18: * | N18: ME | O18: =F18*G18 -> 0
A19: 10. | B19: 321515 | D19: kabelová komora 680 x 680 mm KMR - HT vč.víka A15 | E19: ks | F19: 6 | G19: 0 | H19: =F19*G19 -> 0 | I19: 0 | J19: =F19*I19 -> 0 | K19: S | L19: * | N19: ME | O19: =F19*G19 -> 0
A20: 11. | B20: 295012 | D20: vedení FeZn pr.10mm(0,68kg/m) | E20: m | F20: 775 | G20: 0 | H20: =F20*G20 -> 0 | I20: 0 | J20: =F20*I20 -> 0 | K20: S | L20: * | N20: ME | O20: =F20*G20 -> 0
A21: 12. | B21: 295062 | D21: časové zpožďovací relé na lištu | E21: ks | F21: 1 | G21: 0 | H21: =F21*G21 -> 0 | I21: 0 | J21: =F21*I21 -> 0 | K21: S | L21: * | N21: ME | O21: =F21*G21 -> 0
A22: 13. | B22: 295071 | D22: svorka zemnící připojovací SP | E22: ks | F22: 22 | G22: 0 | H22: =F22*G22 -> 0 | I22: 0 | J22: =F22*I22 -> 0 | K22: S | L22: * | N22: ME | O22: =F22*G22 -> 0
A23: 14. | B23: 295073 | D23: svorka drátu zemnící SS 2šrouby FeZn | E23: ks | F23: 32 | G23: 0 | H23: =F23*G23 -> 0 | I23: 0 | J23: =F23*I23 -> 0 | K23: S | L23: * | N23: ME | O23: =F23*G23 -> 0
A24: 15. | B24: 125 | D24: smršťovací trubice GPH SB žz 12,7/6,4 | E24: m | F24: 10 | G24: 0 | H24: =F24*G24 -> 0 | I24: 0 | J24: =F24*I24 -> 0 | K24: S | N24: ME | O24: =F24*G24 -> 0
A25: 16. | B25: 190214 | D25: jistič 1f 6A | E25: ks | F25: 1 | G25: 0 | H25: =F25*G25 -> 0 | I25: 0 | J25: =F25*I25 -> 0 | K25: S | N25: ME | O25: =F25*G25 -> 0
A26: 17. | B26: 563212 | D26: Stožár konický žz Stileton 60/50/3 opatřený nátěrem Dyplex systém RAL 7016 | E26: ks | F26: 3 | G26: 0 | H26: =F26*G26 -> 0 | I26: 0 | J26: =F26*I26 -> 0 | K26: S | L26: * | N26: ME | O26: =F26*G26 -> 0
A27: 18. | B27: 563213 | D27: Stožár konický žz Stileton 60/60/3 opatřený nátěrem Dyplex systém RAL 7016 | E27: ks | F27: 19 | G27: 0 | H27: =F27*G27 -> 0 | I27: 0 | J27: =F27*I27 -> 0 | K27: S | L27: * | N27: ME | O27: =F27*G27 -> 0
A28: 19. | B28: 564330 | D28: Ochranná plastová manžeta | E28: ks | F28: 22 | G28: 0 | H28: =F28*G28 -> 0 | I28: 0 | J28: =F28*I28 -> 0 | K28: S | L28: * | N28: ME | O28: =F28*G28 -> 0
A29: 20. | B29: 574114 | D29: stožárová výzbroj SV-B 6.10.4 průchozí/TNC 1xE27 | E29: ks | F29: 22 | G29: 0 | H29: =F29*G29 -> 0 | I29: 0 | J29: =F29*I29 -> 0 | K29: S | L29: * | N29: ME | O29: =F29*G29 -> 0
A30: 21. | B30: 579242 | D30: pojistková patrona E27 (2-4A) | E30: ks | F30: 22 | G30: 0 | H30: =F30*G30 -> 0 | I30: 0 | J30: =F30*I30 -> 0 | K30: S | L30: * | N30: ME | O30: =F30*G30 -> 0
A31: 22. | B31: 530422 | D31: svítidlo 16LED/350mA/WW727,18,3W ,2700K RAL 7016 | E31: ks | F31: 3 | G31: 0 | H31: =F31*G31 -> 0 | J31: =F31*I31 -> 0 | K31: Z | L31: * | N31: ME | O31: =F31*G31 -> 0 | Q31: =F31*G31 -> 0 | R31: =F31*I31 -> 0
A32: 23. | B32: 53023 | D32: svítidlo 16LED/500mA/WW727,Back Light 25,5W ,2700K RAL 7016 | E32: ks | F32: 4 | G32: 0 | H32: =F32*G32 -> 0 | J32: =F32*I32 -> 0 | K32: Z | L32: * | N32: ME | O32: =F32*G32 -> 0 | Q32: =F32*G32 -> 0 | R32: =F32*I32 -> 0
A33: 24. | B33: 530424 | D33: svítidlo 24LED/400mA/WW727,Back Light 30W ,2700K RAL 7016 | E33: ks | F33: 12 | G33: 0 | H33: =F33*G33 -> 0 | J33: =F33*I33 -> 0 | K33: Z | L33: * | N33: ME | O33: =F33*G33 -> 0 | Q33: =F33*G33 -> 0 | R33: =F33*I33 -> 0
A34: 25. | B34: 530425 | D34: svítidlo 24LED/500mA/WW727,39W ,2700K RAL 7016 | E34: ks | F34: 3 | G34: 0 | H34: =F34*G34 -> 0 | J34: =F34*I34 -> 0 | K34: Z | L34: * | N34: ME | O34: =F34*G34 -> 0 | Q34: =F34*G34 -> 0 | R34: =F34*I34 -> 0
D35: součet | H35: =SUM(H10:H34) -> 0 | J35: =SUM(J10:J34) -> 0 | N35: ME | O35: =SUM(O8:O34) -> 0 | P35: =J35 -> 0
A36: Materiál zemní+stavební
A37: 26. | B37: 46114 | D37: písek kopaný 0-2mm | E37: m3 | F37: 26.35 | G37: 0 | H37: =F37*G37 -> 0 | I37: 0 | J37: =F37*I37 -> 0 | K37: S | N37: MZ
A38: 27. | B38: 46134 | D38: beton B20 | E38: m3 | F38: 20 | G38: 0 | H38: =F38*G38 -> 0 | I38: 0 | J38: =F38*I38 -> 0 | K38: S | N38: MZ
A39: 28. | B39: 46241 | D39: prkno 2,5cm SM,BO | E39: m3 | F39: 0.44 | G39: 0 | H39: =F39*G39 -> 0 | I39: 0 | J39: =F39*I39 -> 0 | K39: S | N39: MZ
A40: 29. | B40: 46452 | D40: stožárové pouzdro plast SP250/1000 | E40: ks | F40: 22 | G40: 0 | H40: =F40*G40 -> 0 | I40: 0 | J40: =F40*I40 -> 0 | K40: S | N40: MZ
D41: součet | H41: =SUM(H37:H40) -> 0 | J41: =SUM(J37:J40) -> 0 | N41: MZ | P41: =J41 -> 0
A42: Elektromontáže | I42: Nh/mj | J42: NhSuma | O42: =SUM(P9:P41) -> 0
...
