Workbook
Name Excel_BuiltIn_Print_Area: 'SO 103 souhrn'!$A:$F
Name Excel_BuiltIn_Print_Titles: 'SO 103'!$7:$7

Sheet Rekapitulace
A1: EstiCon | B1: Firma:
B2: Rekapitulace ceny
B4: Stavba: 18 - STAVEBNÍ ÚPRAVY MÍSTNÍ KOMUNIKACE V UL. NA SKUPICI A NA KOPEČKU, PODĚBRADY
B6: Celková cena bez DPH: | C6: =SUM(C10:C12) -> 0
B7: Celková cena s DPH: | C7: =SUM(E10:E12) -> 0
A9: Objekt | B9: Popis | C9: Cena bez DPH | D9: DPH | E9: Cena s DPH
A10: SO 101 | B10: KOMUNIKACE - UL. NA KOPEČKU | C10: ='SO 101'!I3 -> 0 | D10: =SUMIFS('SO 101'!O:O,'SO 101'!A:A,"P") -> 0 | E10: =C10+D10 -> 0
A11: SO 102 | B11: KOMUNIKACE - UL. NA SKUPICI | C11: ='SO 102'!I3 -> 0 | D11: =SUMIFS('SO 102'!O:O,'SO 102'!A:A,"P") -> 0 | E11: =C11+D11 -> 0
A12: SO 103 | B12: VEŘEJNÉ OSVĚTLENÍ | C12: ='SO 103 souhrn'!F31 -> 0 | D12: =C12*0.21 -> 0 | E12: =C12+D12 -> 0
A21: Vysvětlení zadávací dokumentace č. 2

Sheet SO 101
A1: EstiCon | E1: Firma: | P1: 3
E2: Soupis prací objektu
A3: S | B3: Stavba: | C3: 18 | E3: STAVEBNÍ ÚPRAVY MÍSTNÍ KOMUNIKACE V UL. NA SKUPICI A NA KOPEČKU, PODĚBRADY | H3: SO 101 | I3: =SUMIFS(I8:I227,A8:A227,"SD") -> 0 | O3: 0 | P3: 2
A4: O | B4: Rozpočet: | C4: SO 101 | E4: KOMUNIKACE - UL. NA KOPEČKU | O4: 0.15 | P4: 2
A5: Typ | B5: Poř. číslo | C5: Kód položky | D5: Varianta | E5: Název Položky | F5: MJ | G5: Množství | H5: Cena | J5: Cenová soustava | O5: 0.21
H6: Jednotková | I6: Celkem
A7: 0 | B7: 1 | C7: 2 | D7: 3 | E7: 4 | F7: 5 | G7: 6 | H7: 7 | I7: 8 | J7: 9
A8: SD | C8: 0 | E8: Všeobecné konstrukce a práce | I8: =SUMIFS(I9:I50,A9:A50,"P") -> 0
A9: P | B9: 1 | C9: 00001 | E9: PROJEKTOVÁ DOKUMENTACE PRO REALIZACI STAVBY | F9: KPL | G9: 1 | H9: 0 | I9: =ROUND(G9*H9,P4) -> 0 | J9: OTSKP ~ 2025 | O9: =I9*0.21 -> 0 | P9: 3
A10: PP
A11: VV | E11: 1 = 1,000 [A]
A12: TS
A13: P | B13: 2 | C13: 00002 | E13: GEODETICKÉ VYTÝČENÍ STAVBY PŘED REALIZACÍ A V PRŮBĚHU STAVBY | F13: KPL | G13: 1 | H13: 0 | I13: =ROUND(G13*H13,P4) -> 0 | J13: OTSKP ~ 2025 | O13: =I13*0.21 -> 0 | P13: 3
A14: PP
A15: VV | E15: 1 = 1,000 [A]
A16: TS
A17: P | B17: 3 | C17: 00003 | E17: GEODETICKÉ ZAMĚŘENÍ STAVBY - SKUTEČNÉ PROVEDENÍ | F17: KPL | G17: 1 | H17: 0 | I17: =ROUND(G17*H17,P4) -> 0 | J17: OTSKP ~ 2025 | O17: =I17*0.21 -> 0 | P17: 3
A18: PP
A19: VV | E19: 1 = 1,000 [A]
A20: TS
A21: P | B21: 4 | C21: 00004 | E21: GEODETICKÉ ZAMĚŘENÍ - VYHOTOVENÍ GEOMETRICKÉHO PLÁNU PRO ODDĚLENÍ POZEMKU | F21: KPL | G21: 1 | H21: 0 | I21: =ROUND(G21*H21,P4) -> 0 | J21: OTSKP ~ 2025 | O21: =I21*0.21 -> 0 | P21: 3
A22: PP
A23: VV | E23: 1 = 1,000 [A]
A24: TS
A25: P | B25: 5 | C25: 014101 | D25: A | E25: POPLATKY ZA SKLÁDKU - vytěžené zeminy a horniny | F25: M3 | G25: 2068.545 | H25: 0 | I25: =ROUND(G25*H25,P4) -> 0 | O25: =I25*0.21 -> 0 | P25: 3
A26: PP
A27: VV | E27: dle pol. 12373.AZ + 12373.KOM 1027.350+821.880 = 1849,230 [A] dle pol. 113327 219,315 = 219,315 [B] Celkové množství = 2068,545
A28: TS | E28: zahrnuje veškeré poplatky provozovateli skládky související s uložením odpadu na skládce.
A29: P | B29: 6 | C29: 014101 | D29: C | E29: POPLATKY ZA SKLÁDKU - prostý beton, obrubníky | F29: M3 | G29: 5.25 | H29: 0 | I29: =ROUND(G29*H29,P4) -> 0 | O29: =I29*0.21 -> 0 | P29: 3
A30: PP
A31: VV | E31: dle položky 113524 140*(0,25*0,15) = 5,250 [A]_x000D_ Celkové množství = 5,250
A32: TS
A33: P | B33: 7 | C33: 014101 | D33: H | E33: POPLATKY ZA SKLÁDKU - sejmutí drnu | F33: M3 | G33: 176.1 | H33: 0 | I33: =ROUND(G33*H33,P4) -> 0 | O33: =I33*0.21 -> 0 | P33: 3
A34: PP
A35: VV | E35: dle pol. 11130 880,5*0,2 = 176,100 [A]_x000D_ Celkové množství = 176,100
A36: TS | E36: zahrnuje veškeré poplatky provozovateli skládky související s uložením odpadu na skládce.
A37: P | B37: 8 | C37: 014121 | E37: POPLATKY ZA SKLÁDKU TYP S-OO (OSTATNÍ ODPAD) - asfalt | F37: M3 | G37: 25.14 | H37: 0 | I37: =ROUND(G37*H37,P4) -> 0 | J37: OTSKP ~ 2025 | O37: =I37*0.21 -> 0 | P37: 3
A38: PP
A39: VV | E39: dle pol. č. 113137 25,14 = 25,140 [A]
A40: TS | E40: zahrnuje veškeré poplatky provozovateli skládky související s uložením odpadu na skládce.
A41: P | B41: 9 | C41: 02720 | D41: 2 | E41: POMOC PRÁCE ZŘÍZ NEBO ZAJIŠŤ REGULACI A OCHRANU DOPRAVY - DOPRAVNĚ INŽENÝRSKÉ OPATŘENÍ | F41: KPL | G41: 1 | H41: 0 | I41: =ROUND(G41*H41,P4) -> 0 | O41: =I41*0.21 -> 0 | P41: 3
A42: PP | E42: DIO
A43: VV | E43: 1=1.000 [A] _x000D_ Celkem 1 = 1,000
A44: TS | E44: zahrnuje veškeré náklady spojené s objednatelem požadovanými zarízeními
A45: P | B45: 10 | C45: 02944 | E45: OSTAT POŽADAVKY - DOKUMENTACE SKUTEC PROVEDENÍ V DIGIT FORME | F45: KPL | G45: 1 | H45: 0 | I45: =ROUND(G45*H45,P4) -> 0 | J45: OTSKP ~ 2025 | O45: =I45*0.21 -> 0 | P45: 3
A46: PP
A47: TS | E47: zahrnuje veškeré náklady spojené s objednatelem požadovanými pracemi
A48: P | B48: 11 | C48: 03170 | E48: ZARÍZENÍ STAVENIŠTE | F48: KPL | G48: 1 | H48: 0 | I48: =ROUND(G48*H48,P4) -> 0 | J48: OTSKP ~ 2025 | O48: =I48*0.21 -> 0 | P48: 3
A49: PP
A50: TS | E50: zahrnuje objednatelem povolené náklady na porízení (event. pronájem), provozování, udržování a likvidaci zhotovitelova zarízení
A51: SD | C51: 1 | E51: Zemní práce | I51: =SUMIFS(I52:I123,A52:A123,"P") -> 0
A52: P | B52: 12 | C52: 11130 | D52: KOM | E52: SEJMUTÍ DRNU | F52: M2 | G52: 880.5 | H52: 0 | I52: =ROUND(G52*H52,P4) -> 0 | O52: =I52*0.21 -> 0 | P52: 3
A53: PP | E53: Doprava na kompostárnu včetně uložení
A54: VV | E54: Příprava území 880,5 = 880,500 [A]_x000D_ Celkové množství = 880,500
A55: TS | E55: vcetne vodorovné dopravy a uložení na skládku
A56: P | B56: 13 | C56: 113137 | E56: ODSTRANĚNÍ KRYTU ZPEVNĚNÝCH PLOCH S ASFALT POJIVEM, ODVOZ DO 16KM | F56: M3 | G56: 25.14 | H56: 0 | I56: =ROUND(G56*H56,P4) -> 0 | J56: OTSKP ~ 2025 | O56: =I56*0.21 -> 0 | P56: 3
A57: PP
A58: VV | E58: Chodník 251,4*0,1 = 25,140 [A]_x000D_ Celkové množství = 25,140
A59: TS | E59: Položka zahrnuje: - veškerou manipulaci s vybouranou sutí a s vybouranými hmotami vč. uložení na skládku. Položka nezahrnuje: - poplatek za skládku, který se vykazuje v položce 0141** (s výjimkou malého množství bouraného materiálu, kde je možné poplatek zahrnout do jednotkové ceny bourání – tento fakt musí být uveden v doplňujícím textu k položce).
A60: P | B60: 14 | C60: 113177 | E60: ODSTRAN KRYTU ZPEVNĚNÝCH PLOCH Z DLAŽEB KOSTEK, ODVOZ DO 16KM | F60: M3 | G60: 257.28 | H60: 0 | I60: =ROUND(G60*H60,P4) -> 0 | J60: OTSKP ~ 2025 | O60: =I60*0.21 -> 0 | P60: 3
A61: PP
A62: VV | E62: Komunikace-žula 1587,3*0,12 = 190,476 [A]_x000D_ Komunikace-kamenná 261,1*0,15 = 39,165 [B]_x000D_ Chodník-žula 47,3*0,06 = 2,838 [C]_x000D_ Chodník-bet. dlažba 413,35*0,06 = 24,801 [D]_x000D_ Celkové množství = 257,280
A63: TS | E63: Položka zahrnuje: - veškerou manipulaci s vybouranou sutí a s vybouranými hmotami vč. uložení a čištění na deponii města Poděbrady, dopravné tam i zpět na stavbu. Položka nezahrnuje: - poplatek za skládku, který se vykazuje v položce 0141** (s výjimkou malého množství bouraného materiálu, kde je možné poplatek zahrnout do jednotkové ceny bourání – tento fakt musí být uveden v doplňujícím textu k položce). jednotkové ceny bourání – tento fakt musí být uveden v doplňujícím textu k položce).
A64: P | B64: 15 | C64: 113327 | E64: ODSTRANĚNÍ PODKLADŮ ZPEVNĚNÝCH PLOCH Z KAMENIVA NESTMEL, ODVOZ DO 16KM | F64: M3 | G64: 219.315 | H64: 0 | I64: =ROUND(G64*H64,P4) -> 0 | J64: OTSKP ~ 2025 | O64: =I64*0.21 -> 0 | P64: 3
A65: PP
A66: VV | E66: Chodník (47,3+413,35+251,4+19)*0,3 = 219,315 [C]_x000D_ Celkové množství = 219,315
A67: TS | E67: Položka zahrnuje: - veškerou manipulaci s vybouranou sutí a s vybouranými hmotami vč. uložení na skládku. Položka nezahrnuje: - poplatek za skládku, který se vykazuje v položce 0141** (s výjimkou malého množství bouraného materiálu, kde je možné poplatek zahrnout do jednotkové ceny bourání – tento fakt musí být uveden v doplňujícím textu k položce).
A68: P | B68: 16 | C68: 113524 | E68: ODSTRANĚNÍ CHODNÍKOVÝCH A SILNIČNÍCH OBRUBNÍKŮ BETONOVÝCH, ODVOZ DO 5KM | F68: M | G68: 140 | H68: 0 | I68: =ROUND(G68*H68,P4) -> 0 | J68: OTSKP ~ 2025 | O68: =I68*0.21 -> 0 | P68: 3
A69: PP
A70: VV | E70: 140 = 140,000 [A]
A71: TS | E71: Položka zahrnuje: - veškerou manipulaci s vybouranou sutí a s vybouranými hmotami vč. uložení na skládku. Položka nezahrnuje: - poplatek za skládku, který se vykazuje v položce 0141** (s výjimkou malého množství bouraného materiálu, kde je možné poplatek zahrnout do jednotkové ceny bourání – tento fakt musí být uveden v doplňujícím textu k položce).
A72: P | B72: 17 | C72: 11352B | E72: ODSTRANĚNÍ CHODNÍKOVÝCH A SILNIČNÍCH OBRUBNÍKŮ BETONOVÝCH - DOPRAVA | F72: tkm | G72: 77 | H72: 0 | I72: =ROUND(G72*H72,P4) -> 0 | J72: OTSKP ~ 2025 | O72: =I72*0.21 -> 0 | P72: 3
A73: PP
A74: VV | E74: (140*0,025)*22 = 77,000 [A]_x000D_ Celkové množství = 77,000
A75: TS | E75: Položka zahrnuje: - samostatnou dopravu suti a vybouraných hmot. Položka nezahrnuje: - x Způsob měření: - množství se určí jako součin hmotnosti [t] a požadované vzdálenosti [km].
A76: P | B76: 18 | C76: 113534 | E76: ODSTRANĚNÍ SILNIČNÍCH KAMENNÝCH OBRUBNÍKŮ, ODVOZ DO 5KM | F76: M | G76: 225 | H76: 0 | I76: =ROUND(G76*H76,P4) -> 0 | J76: OTSKP ~ 2025 | O76: =I76*0.21 -> 0 | P76: 3
A77: PP
A78: VV | E78: 225 = 225,000 [A]_x000D_ Celkové množství = 225,000
A79: TS | E79: Položka zahrnuje: - veškerou manipulaci s vybouranou sutí a s vybouranými hmotami vč. uložení na skládku. Položka nezahrnuje: - poplatek za skládku, který se vykazuje v položce 0141** (s výjimkou malého množství bouraného materiálu, kde je možné poplatek zahrnout do jednotkové ceny bourání – tento fakt musí být uveden v doplňujícím textu k položce).
A80: P | B80: 19 | C80: 11511 | E80: ČERPÁNÍ VODY DO 500 L/MIN | F80: HOD | G80: 300 | H80: 0 | I80: =ROUND(G80*H80,P4) -> 0 | J80: OTSKP ~ 2025 | O80: =I80*0.21 -> 0 | P80: 3
A81: PP
A82: VV | E82: 300 = 300,000 [A]_x000D_ Celkové množství = 300,000
A83: TS | E83: Položka zahrnuje: - čerpání vody na povrchu - potrubí - pohotovost záložní čerpací soupravy - zřízení čerpací jímky - následná demontáž a likvidace těchto zařízení Položka nezahrnuje: - x
A84: P | B84: 20 | C84: 12373 | D84: AZ | E84: ODKOP PRO SPOD STAVBU SILNIC A ŽELEZNIC TR. I | F84: M3 | G84: 1027.35 | H84: 0 | I84: =ROUND(G84*H84,P4) -> 0 | J84: OTSKP ~ 2025 | O84: =I84*0.21 -> 0 | P84: 3
A85: PP
A86: VV | E86: Aktivní zóna-komunikace 1501,6*0,5 = 750,800 [A]_x000D_ Aktivní zóna-Parkoviště 489,7*0,5 = 244,850 [B]_x000D_ Aktivní zóna-vjezdy 63,4*0,5 = 31,700 [C]_x000D_ Celkové množství = 1027,350
A87: TS | E87: položka zahrnuje: - vodorovná a svislá doprava, premístení, preložení, manipulace s výkopkem - kompletní provedení vykopávky nezapažené i zapažené - ošetrení výkopište po celou dobu práce v nem vc. klimatických opatrení - ztížení vykopávek v blízkosti podzemního vedení, konstrukcí a objektu vc. jejich docasného zajištení - ztížení pod vodou, v okolí výbušnin, ve stísnených prostorech a pod. - príplatek za lepivost - težení po vrstvách, pásech a po jiných nutných cástech (figurách) - cerpání vody vc. cerpacích jímek, potrubí a pohotovostní cerpací soupravy (viz ustanovení k pol. 1151,2) - potrebné snížení hladiny podzemní vody - težení a rozpojování jednotlivých balvanu - vytahování a nošení výkopku - svahování a presvah. svahu do konecného tvaru, výmena hornin v podloží a v pláni znehodnocené klimatickými vlivy - rucní vykopávky, odstranení korenu a napadávek - pažení, vzeprení a rozeprení vc. prepažování (vyjma štetových sten) - úpravu, ochranu a ocištení dna, základové spáry, sten a svahu - zhutnení podloží, prípadne i svahu vc. svahování - zrízení stupnu v podloží a lavic na svazích, není-li pro tyto práce zrízena samostatná položka - udržování výkopište a jeho ochrana proti vode - odvedení nebo obvedení vody v okolí výkopište a ve výkopišti - trídení výkopku - veškeré pomocné konstrukce umožnující provedení vykopávky (príjezdy, sjezdy, nájezdy, lešení, podper. konstr., premostení, zpevnené plochy, zakrytí a pod.) - nezahrnuje uložení zeminy (na skládku, do násypu) ani poplatky za skládku, vykazují se v položce c.0141**
A88: P | B88: 21 | C88: 12373 | D88: KOM | E88: ODKOP PRO SPOD STAVBU SILNIC A ŽELEZNIC TR. I | F88: M3 | G88: 821.88 | H88: 0 | I88: =ROUND(G88*H88,P4) -> 0 | J88: OTSKP ~ 2025 | O88: =I88*0.21 -> 0 | P88: 3
A89: PP
A90: VV | E90: Odkop pro komunikace+parkování+vjezdy (1501,6+489,7+63,4)*0,4 = 821,880 [A]_x000D_ Celkové množství = 821,880
A91: TS | E91: položka zahrnuje: - vodorovná a svislá doprava, premístení, preložení, manipulace s výkopkem - kompletní provedení vykopávky nezapažené i zapažené - ošetrení výkopište po celou dobu práce v nem vc. klimatických opatrení - ztížení vykopávek v blízkosti podzemního vedení, konstrukcí a objektu vc. jejich docasného zajištení - ztížení pod vodou, v okolí výbušnin, ve stísnených prostorech a pod. - príplatek za lepivost - težení po vrstvách, pásech a po jiných nutných cástech (figurách) - cerpání vody vc. cerpacích jímek, potrubí a pohotovostní cerpací soupravy (viz ustanovení k pol. 1151,2) - potrebné snížení hladiny podzemní vody - težení a rozpojování jednotlivých balvanu - vytahování a nošení výkopku - svahování a presvah. svahu do konecného tvaru, výmena hornin v podloží a v pláni znehodnocené klimatickými vlivy - rucní vykopávky, odstranení korenu a napadávek - pažení, vzeprení a rozeprení vc. prepažování (vyjma štetových sten) - úpravu, ochranu a ocištení dna, základové spáry, sten a svahu - zhutnení podloží, prípadne i svahu vc. svahování - zrízení stupnu v podloží a lavic na svazích, není-li pro tyto práce zrízena samostatná položka - udržování výkopište a jeho ochrana proti vode - odvedení nebo obvedení vody v okolí výkopište a ve výkopišti - trídení výkopku - veškeré pomocné konstrukce umožnující provedení vykopávky (príjezdy, sjezdy, nájezdy, lešení, podper. konstr., premostení, zpevnené plochy, zakrytí a pod.) - nezahrnuje uložení zeminy (na skládku, do násypu) ani poplatky za skládku, vykazují se v položce c.0141**
A92: P | B92: 22 | C92: 12573 | D92: OR | E92: VYKOPÁVKY ZE ZEMNÍKŮ A SKLÁDEK TŘ. I | F92: M3 | G92: 219.8 | H92: 0 | I92: =ROUND(G92*H92,P4) -> 0 | O92: =I92*0.21 -> 0 | P92: 3
A93: PP | E93: Vykopávka z deponie ornice + doprava na staveniště
A94: VV | E94: dle pol. 18220.OR 1099.000*0,2 = 219,800_x000D_ Celkové množství = 219,800
A95: TS | E95: položka zahrnuje: - vodorovná a svislá doprava, premístení, preložení, manipulace s výkopkem - kompletní provedení vykopávky nezapažené i zapažené - ošetrení výkopište po celou dobu práce v nem vc. klimatických opatrení - ztížení vykopávek v blízkosti podzemního vedení, konstrukcí a objektu vc. jejich docasného zajištení - ztížení pod vodou, v okolí výbušnin, ve stísnených prostorech a pod. - príplatek za lepivost - težení po vrstvách, pásech a po jiných nutných cástech (figurách) - cerpání vody vc. cerpacích jímek, potrubí a pohotovostní cerpací soupravy (viz ustanovení k pol. 1151,2) - potrebné snížení hladiny podzemní vody - težení a rozpojování jednotlivých balvanu - vytahování a nošení výkopku - rucní vykopávky, odstranení korenu a napadávek - pažení, vzeprení a rozeprení vc. prepažování (vyjma štetových sten) - úpravu, ochranu a ocištení dna, základové spáry, sten a svahu - udržování výkopište a jeho ochrana proti vode - odvedení nebo obvedení vody v okolí výkopište a ve výkopišti - trídení výkopku - veškeré pomocné konstrukce umožnující provedení vykopávky (príjezdy, sjezdy, nájezdy, lešení, podper. konstr., premostení, zpevnené plochy, zakrytí a pod.) položka nezahrnuje: - práce spojené s otvírkou zemníku
A96: P | B96: 23 | C96: 17120 | D96: KOM | E96: ULOŽENÍ SYPANINY DO NÁSYPŮ A NA SKLÁDKY BEZ ZHUTNĚNÍ | F96: M3 | G96: 219.8 | H96: 0 | I96: =ROUND(G96*H96,P4) -> 0 | O96: =I96*0.21 -> 0 | P96: 3
A97: PP | E97: Uložení drnu na kompostárnu
A98: VV | E98: dle položky 11130.KOM 1099.000*0,2 = 219,800_x000D_ Celkové množství = 219,800
A99: TS | E99: položka zahrnuje: - kompletní provedení zemní konstrukce do predepsaného tvaru - ošetrení úložište po celou dobu práce v nem vc. klimatických opatrení - ztížení v okolí vedení, konstrukcí a objektu a jejich docasné zajištení - ztížení provádení ve ztížených podmínkách a stísnených prostorech - ztížené ukládání sypaniny pod vodu - ukládání po vrstvách a po jiných nutných cástech (figurách) vc. dosypávek - spouštení a nošení materiálu - úprava, ocištení a ochrana podloží a svahu - svahování, uzavírání povrchu svahu - udržování úložište a jeho ochrana proti vode - odvedení nebo obvedení vody v okolí úložište a v úložišti - veškeré pomocné konstrukce umožnující provedení zemní konstrukce (príjezdy, sjezdy, nájezdy, lešení, podperné konstrukce, premostení, zpevnené plochy, zakrytí a pod.)
A100: P | B100: 24 | C100: 17120 | D100: SKL | E100: ULOŽENÍ SYPANINY DO NÁSYPŮ A NA SKLÁDKY BEZ ZHUTNĚNÍ | F100: M3 | G100: 1027.35 | H100: 0 | I100: =ROUND(G100*H100,P4) -> 0 | O100: =I100*0.21 -> 0 | P100: 3
...

Sheet SO 102
A1: EstiCon | E1: Firma: | P1: 3
E2: Soupis prací objektu
A3: S | B3: Stavba: | C3: 18 | E3: STAVEBNÍ ÚPRAVY MÍSTNÍ KOMUNIKACE V UL. NA SKUPICI A NA KOPEČKU, PODĚBRADY | H3: SO 102 | I3: =SUMIFS(I8:I271,A8:A271,"SD") -> 0 | O3: 0 | P3: 2
A4: O | B4: Rozpočet: | C4: SO 102 | E4: KOMUNIKACE - UL. NA SKUPICI | O4: 0.15 | P4: 2
A5: Typ | B5: Poř. číslo | C5: Kód položky | D5: Varianta | E5: Název Položky | F5: MJ | G5: Množství | H5: Cena | J5: Cenová soustava | O5: 0.21
H6: Jednotková | I6: Celkem
A7: 0 | B7: 1 | C7: 2 | D7: 3 | E7: 4 | F7: 5 | G7: 6 | H7: 7 | I7: 8 | J7: 9
A8: SD | C8: 0 | E8: Všeobecné konstrukce a práce | I8: =SUMIFS(I9:I46,A9:A46,"P") -> 0
A9: P | B9: 1 | C9: 00001 | E9: PROJEKTOVÁ DOKUMENTACE PRO REALIZACI STAVBY | F9: KPL | G9: 1 | H9: 0 | I9: =ROUND(G9*H9,P4) -> 0 | J9: OTSKP ~ 2025 | O9: =I9*0.21 -> 0 | P9: 3
A10: PP
A11: VV | E11: 1 = 1,000 [A]
A12: TS
A13: P | B13: 2 | C13: 00002 | E13: GEODETICKÉ VYTÝČENÍ STAVBY PŘED REALIZACÍ A V PRŮBĚHU STAVBY | F13: KPL | G13: 1 | H13: 0 | I13: =ROUND(G13*H13,P4) -> 0 | J13: OTSKP ~ 2025 | O13: =I13*0.21 -> 0 | P13: 3
A14: PP
A15: VV | E15: 1 = 1,000 [A]
A16: TS
A17: P | B17: 3 | C17: 00003 | E17: GEODETICKÉ ZAMĚŘENÍ STAVBY - SKUTEČNÉ PROVEDENÍ | F17: KPL | G17: 1 | H17: 0 | I17: =ROUND(G17*H17,P4) -> 0 | J17: OTSKP ~ 2025 | O17: =I17*0.21 -> 0 | P17: 3
A18: PP
A19: VV | E19: 1 = 1,000 [A]
A20: TS
A21: P | B21: 4 | C21: 00004 | E21: GEODETICKÉ ZAMĚŘENÍ - VYHOTOVENÍ GEOMETRICKÉHO PLÁNU PRO ODDĚLENÍ POZEMKU | F21: KPL | G21: 1 | H21: 0 | I21: =ROUND(G21*H21,P4) -> 0 | J21: OTSKP ~ 2025 | O21: =I21*0.21 -> 0 | P21: 3
A22: PP
A23: VV | E23: 1 = 1,000 [A]
A24: TS
A25: P | B25: 5 | C25: 014101 | D25: A | E25: POPLATKY ZA SKLÁDKU - vytěžené zeminy a horniny | F25: M3 | G25: 2800.84 | H25: 0 | I25: =ROUND(G25*H25,P4) -> 0 | O25: =I25*0.21 -> 0 | P25: 3
A26: PP
A27: VV | E27: dle pol. 12373.SKL 1450,4 = 1450,400 [A] dle pol. 113327 1350,44 = 1350,440 [B] Celkové množství = 2800,840
A28: TS | E28: zahrnuje veškeré poplatky provozovateli skládky související s uložením odpadu na skládce.
A29: P | B29: 6 | C29: 014101 | D29: H | E29: POPLATKY ZA SKLÁDKU - sejmutí drnu | F29: M3 | G29: 219.8 | H29: 0 | I29: =ROUND(G29*H29,P4) -> 0 | O29: =I29*0.21 -> 0 | P29: 3
A30: PP
A31: VV | E31: dle pol. 11130 1099.000*0,2 = 219,800 [A]_x000D_ Celkové množství = 219,800
A32: TS | E32: zahrnuje veškeré poplatky provozovateli skládky související s uložením odpadu na skládce.
A33: P | B33: 7 | C33: 014121 | E33: POPLATKY ZA SKLÁDKU TYP S-OO (OSTATNÍ ODPAD) - asfalt | F33: M3 | G33: 342.28 | H33: 0 | I33: =ROUND(G33*H33,P4) -> 0 | J33: OTSKP ~ 2025 | O33: =I33*0.21 -> 0 | P33: 3
A34: PP
A35: VV | E35: 342.280 = 342,280 [A]
A36: TS | E36: zahrnuje veškeré poplatky provozovateli skládky související s uložením odpadu na skládce.
A37: P | B37: 8 | C37: 02720 | D37: 2 | E37: POMOC PRÁCE ZŘÍZ NEBO ZAJIŠŤ REGULACI A OCHRANU DOPRAVY - DOPRAVNĚ INŽENÝRSKÉ OPATŘENÍ | F37: KPL | G37: 1 | H37: 0 | I37: =ROUND(G37*H37,P4) -> 0 | O37: =I37*0.21 -> 0 | P37: 3
A38: PP | E38: DIO
A39: VV | E39: 1=1.000 [A] _x000D_ Celkem 1 = 1,000
A40: TS | E40: zahrnuje veškeré náklady spojené s objednatelem požadovanými zarízeními
A41: P | B41: 9 | C41: 02944 | E41: OSTAT POŽADAVKY - DOKUMENTACE SKUTEC PROVEDENÍ V DIGIT FORME | F41: KPL | G41: 1 | H41: 0 | I41: =ROUND(G41*H41,P4) -> 0 | J41: OTSKP ~ 2025 | O41: =I41*0.21 -> 0 | P41: 3
A42: PP
A43: TS | E43: zahrnuje veškeré náklady spojené s objednatelem požadovanými pracemi
A44: P | B44: 10 | C44: 03170 | E44: ZARÍZENÍ STAVENIŠTE | F44: KPL | G44: 1 | H44: 0 | I44: =ROUND(G44*H44,P4) -> 0 | J44: OTSKP ~ 2025 | O44: =I44*0.21 -> 0 | P44: 3
A45: PP
A46: TS | E46: zahrnuje objednatelem povolené náklady na porízení (event. pronájem), provozování, udržování a likvidaci zhotovitelova zarízení
A47: SD | C47: 1 | E47: Zemní práce | I47: =SUMIFS(I48:I123,A48:A123,"P") -> 0
A48: P | B48: 11 | C48: 11130 | D48: KOM | E48: SEJMUTÍ DRNU | F48: M2 | G48: 1099 | H48: 0 | I48: =ROUND(G48*H48,P4) -> 0 | O48: =I48*0.21 -> 0 | P48: 3
A49: PP | E49: Doprava na kompostárnu včetně uložení
A50: VV | E50: Příprava území 153+520+340+86 = 1099,000 [A]_x000D_ Celkové množství = 1099,000
A51: TS | E51: vcetne vodorovné dopravy a uložení na skládku
A52: P | B52: 12 | C52: 112024 | E52: KÁCENÍ STROMŮ D KMENE DO 0,9M S ODSTRANĚNÍM PAŘEZŮ, ODVOZ DO 5KM | F52: KUS | G52: 3 | H52: 0 | I52: =ROUND(G52*H52,P4) -> 0 | J52: OTSKP ~ 2025 | O52: =I52*0.21 -> 0 | P52: 3
A53: PP
A54: VV | E54: 3 = 3,000 [A]
A55: TS | E55: Položka zahrnuje: - poražení stromu a osekání větví - spálení větví na hromadách nebo štěpkování - dopravu a uložení kmenů, případné další práce s nimi dle pokynů zadávací dokumentace - vytrhání nebo vykopání pařezů - veškeré zemní práce spojené s odstraněním pařezů - dopravu a uložení pařezů, případně další práce s nimi dle pokynů zadávací dokumentace - zásyp jam po pařezech Položka nezahrnuje: - x Způsob měření: - kácení stromů se měří v [ks] poražených stromů (průměr stromů se měří ve výšce 1,3m nad terénem)
A56: P | B56: 13 | C56: 113137 | E56: ODSTRANĚNÍ KRYTU ZPEVNĚNÝCH PLOCH S ASFALT POJIVEM, ODVOZ DO 16KM | F56: M3 | G56: 9.96 | H56: 0 | I56: =ROUND(G56*H56,P4) -> 0 | J56: OTSKP ~ 2025 | O56: =I56*0.21 -> 0 | P56: 3
A57: PP
A58: VV | E58: Chodník 99,6*0,1 = 9,960 [A]_x000D_ Celkové množství = 9,960
A59: TS | E59: Položka zahrnuje: - veškerou manipulaci s vybouranou sutí a s vybouranými hmotami vč. uložení na skládku. Položka nezahrnuje: - poplatek za skládku, který se vykazuje v položce 0141** (s výjimkou malého množství bouraného materiálu, kde je možné poplatek zahrnout do jednotkové ceny bourání – tento fakt musí být uveden v doplňujícím textu k položce).
A60: P | B60: 14 | C60: 113177 | E60: ODSTRAN KRYTU ZPEVNĚNÝCH PLOCH Z DLAŽEB KOSTEK, ODVOZ DO 16KM | F60: M3 | G60: 0.99 | H60: 0 | I60: =ROUND(G60*H60,P4) -> 0 | J60: OTSKP ~ 2025 | O60: =I60*0.21 -> 0 | P60: 3
A61: PP
A62: VV | E62: Komunikace 9,9*0,1 = 0,990 [A]_x000D_ Celkové množství = 0,990
A63: TS | E63: Položka zahrnuje: - veškerou manipulaci s vybouranou sutí a s vybouranými hmotami vč. uložení a čištění na deponii města Poděbrady, dopravné tam i zpět na stavbu. Položka nezahrnuje: - poplatek za skládku, který se vykazuje v položce 0141** (s výjimkou malého množství bouraného materiálu, kde je možné poplatek zahrnout do jednotkové ceny bourání – tento fakt musí být uveden v doplňujícím textu k položce). jednotkové ceny bourání – tento fakt musí být uveden v doplňujícím textu k položce).
A64: P | B64: 15 | C64: 113327 | E64: ODSTRANĚNÍ PODKLADŮ ZPEVNĚNÝCH PLOCH Z KAMENIVA NESTMEL, ODVOZ DO 16KM | F64: M3 | G64: 1350.44 | H64: 0 | I64: =ROUND(G64*H64,P4) -> 0 | J64: OTSKP ~ 2025 | O64: =I64*0.21 -> 0 | P64: 3
A65: PP
A66: VV | E66: Komunikace (2204+64+9,9)*0,5 = 1138,950 [A]_x000D_ Parkovací místa (60,6+72,5)*0,4 = 53,240 [B]_x000D_ Chodník (99,6+183+29,2+215,7)*0,3 = 158,250 [C]_x000D_ Celkové množství = 1350,440
A67: TS | E67: Položka zahrnuje: - veškerou manipulaci s vybouranou sutí a s vybouranými hmotami vč. uložení na skládku. Položka nezahrnuje: - poplatek za skládku, který se vykazuje v položce 0141** (s výjimkou malého množství bouraného materiálu, kde je možné poplatek zahrnout do jednotkové ceny bourání – tento fakt musí být uveden v doplňujícím textu k položce).
A68: P | B68: 16 | C68: 113534 | E68: ODSTRANĚNÍ CHODNÍKOVÝCH KAMENNÝCH OBRUBNÍKŮ, ODVOZ DO 5KM | F68: M | G68: 506 | H68: 0 | I68: =ROUND(G68*H68,P4) -> 0 | J68: OTSKP ~ 2025 | O68: =I68*0.21 -> 0 | P68: 3
A69: PP
A70: VV | E70: 386+120 = 506,000 [A]
A71: TS | E71: Položka zahrnuje: - veškerou manipulaci s vybouranou sutí a s vybouranými hmotami vč. uložení a čištění na deponii města Poděbrady, dopravné tam i zpět na stavbu. Položka nezahrnuje: - poplatek za skládku, který se vykazuje v položce 0141** (s výjimkou malého množství bouraného materiálu, kde je možné poplatek zahrnout do jednotkové ceny bourání – tento fakt musí být uveden v doplňujícím textu k položce).
A72: P | B72: 17 | C72: 113742 | E72: FRÉZOVÁNÍ ZPEVNĚNÝCH PLOCH ASFALTOVÝCH TL. DO 40MM | F72: M2 | G72: 734.667 | H72: 0 | I72: =ROUND(G72*H72,P4) -> 0 | J72: OTSKP ~ 2025 | O72: =I72*0.21 -> 0 | P72: 3
A73: PP
A74: VV | E74: 2204/3 = 734,667 [A]_x000D_ Celkové množství = 734,667
A75: TS | E75: Položka zahrnuje: - veškerou manipulaci s vybouranou sutí a s vybouranými hmotami vč. uložení na skládku. Položka nezahrnuje: - poplatek za skládku, který se vykazuje v položce 0141** (s výjimkou malého množství bouraného materiálu, kde je možné poplatek zahrnout do jednotkové ceny bourání – tento fakt musí být uveden v doplňujícím textu k položce).
A76: P | B76: 18 | C76: 113744 | E76: FRÉZOVÁNÍ ZPEVNĚNÝCH PLOCH ASFALTOVÝCH TL. DO 60MM | F76: M2 | G76: 734.667 | H76: 0 | I76: =ROUND(G76*H76,P4) -> 0 | J76: OTSKP ~ 2025 | O76: =I76*0.21 -> 0 | P76: 3
A77: PP
A78: VV | E78: 2204/3 = 734,667 [A]_x000D_ Celkové množství = 734,667
A79: TS | E79: Položka zahrnuje: - veškerou manipulaci s vybouranou sutí a s vybouranými hmotami vč. uložení na skládku. Položka nezahrnuje: - poplatek za skládku, který se vykazuje v položce 0141** (s výjimkou malého množství bouraného materiálu, kde je možné poplatek zahrnout do jednotkové ceny bourání – tento fakt musí být uveden v doplňujícím textu k položce).
A80: P | B80: 19 | C80: 113747 | E80: FRÉZOVÁNÍ ZPEVNĚNÝCH PLOCH ASFALTOVÝCH TL. DO 120MM | F80: M2 | G80: 734.667 | H80: 0 | I80: =ROUND(G80*H80,P4) -> 0 | J80: OTSKP ~ 2025 | O80: =I80*0.21 -> 0 | P80: 3
A81: PP
A82: VV | E82: 2204/3 = 734,667 [A]_x000D_ Celkové množství = 734,667
A83: TS | E83: Položka zahrnuje: - veškerou manipulaci s vybouranou sutí a s vybouranými hmotami vč. uložení na skládku. Položka nezahrnuje: - poplatek za skládku, který se vykazuje v položce 0141** (s výjimkou malého množství bouraného materiálu, kde je možné poplatek zahrnout do jednotkové ceny bourání – tento fakt musí být uveden v doplňujícím textu k položce).
A84: P | B84: 20 | C84: 11511 | E84: ČERPÁNÍ VODY DO 500 L/MIN | F84: HOD | G84: 300 | H84: 0 | I84: =ROUND(G84*H84,P4) -> 0 | J84: OTSKP ~ 2025 | O84: =I84*0.21 -> 0 | P84: 3
A85: PP
A86: VV | E86: 300 = 300,000 [A]_x000D_ Celkové množství = 300,000
A87: TS | E87: Položka zahrnuje: - čerpání vody na povrchu - potrubí - pohotovost záložní čerpací soupravy - zřízení čerpací jímky - následná demontáž a likvidace těchto zařízení Položka nezahrnuje: - x
A88: P | B88: 21 | C88: 12373 | E88: ODKOP PRO SPOD STAVBU SILNIC A ŽELEZNIC TR. I | F88: M3 | G88: 1450.4 | H88: 0 | I88: =ROUND(G88*H88,P4) -> 0 | J88: OTSKP ~ 2025 | O88: =I88*0.21 -> 0 | P88: 3
A89: PP
A90: VV | E90: Aktivní zóna-komunikace 2535,9*0,5 = 1267,950 [A]_x000D_ Aktivní zóna-Parkoviště 183*0,5 = 91,500 [B]_x000D_ Aktivní zóna-vjezdy 181,9*0,5 = 90,950 [C]_x000D_ Celkové množství = 1450,400
A91: TS | E91: položka zahrnuje: - vodorovná a svislá doprava, premístení, preložení, manipulace s výkopkem - kompletní provedení vykopávky nezapažené i zapažené - ošetrení výkopište po celou dobu práce v nem vc. klimatických opatrení - ztížení vykopávek v blízkosti podzemního vedení, konstrukcí a objektu vc. jejich docasného zajištení - ztížení pod vodou, v okolí výbušnin, ve stísnených prostorech a pod. - príplatek za lepivost - težení po vrstvách, pásech a po jiných nutných cástech (figurách) - cerpání vody vc. cerpacích jímek, potrubí a pohotovostní cerpací soupravy (viz ustanovení k pol. 1151,2) - potrebné snížení hladiny podzemní vody - težení a rozpojování jednotlivých balvanu - vytahování a nošení výkopku - svahování a presvah. svahu do konecného tvaru, výmena hornin v podloží a v pláni znehodnocené klimatickými vlivy - rucní vykopávky, odstranení korenu a napadávek - pažení, vzeprení a rozeprení vc. prepažování (vyjma štetových sten) - úpravu, ochranu a ocištení dna, základové spáry, sten a svahu - zhutnení podloží, prípadne i svahu vc. svahování - zrízení stupnu v podloží a lavic na svazích, není-li pro tyto práce zrízena samostatná položka - udržování výkopište a jeho ochrana proti vode - odvedení nebo obvedení vody v okolí výkopište a ve výkopišti - trídení výkopku - veškeré pomocné konstrukce umožnující provedení vykopávky (príjezdy, sjezdy, nájezdy, lešení, podper. konstr., premostení, zpevnené plochy, zakrytí a pod.) - nezahrnuje uložení zeminy (na skládku, do násypu) ani poplatky za skládku, vykazují se v položce c.0141**
A92: P | B92: 22 | C92: 12573 | D92: OR | E92: VYKOPÁVKY ZE ZEMNÍKŮ A SKLÁDEK TŘ. I | F92: M3 | G92: 219.8 | H92: 0 | I92: =ROUND(G92*H92,P4) -> 0 | O92: =I92*0.21 -> 0 | P92: 3
A93: PP | E93: Vykopávka z deponie ornice + doprava na staveniště
A94: VV | E94: dle pol. 18220.OR 1099.000*0,2 = 219,800_x000D_ Celkové množství = 219,800
A95: TS | E95: položka zahrnuje:_x000D_ - vodorovná a svislá doprava, premístení, preložení, manipulace s výkopkem_x000D_ - kompletní provedení vykopávky nezapažené i zapažené_x000D_ - ošetrení výkopište po celou dobu práce v nem vc. klimatických opatrení_x000D_ - ztížení vykopávek v blízkosti podzemního vedení, konstrukcí a objektu vc. jejich docasného zajištení_x000D_ - ztížení pod vodou, v okolí výbušnin, ve stísnených prostorech a pod._x000D_ - príplatek za lepivost_x000D_ - težení po vrstvách, pásech a po jiných nutných cástech (figurách)_x000D_ - cerpání vody vc. cerpacích jímek, potrubí a pohotovostní cerpací soupravy (viz ustanovení k pol. 1151,2)_x000D_ - potrebné snížení hladiny podzemní vody_x000D_ - težení a rozpojování jednotlivých balvanu_x000D_ - vytahování a nošení výkopku_x000D_ - rucní vykopávky, odstranení korenu a napadávek_x000D_ - pažení, vzeprení a rozeprení vc. prepažování (vyjma štetových sten)_x000D_ - úpravu, ochranu a ocištení dna, základové spáry, sten a svahu_x000D_ - udržování výkopište a jeho ochrana proti vode_x000D_ - odvedení nebo obvedení vody v okolí výkopište a ve výkopišti_x000D_ - trídení výkopku_x000D_ - veškeré pomocné konstrukce umožnující provedení vykopávky (príjezdy, sjezdy, nájezdy, lešení, podper. konstr., premostení, zpevnené plochy, zakrytí a pod.)_x000D_ položka nezahrnuje:_x000D_ - práce spojené s otvírkou zemníku
A96: P | B96: 23 | C96: 17120 | D96: KOM | E96: ULOŽENÍ SYPANINY DO NÁSYPŮ A NA SKLÁDKY BEZ ZHUTNĚNÍ | F96: M3 | G96: 219.8 | H96: 0 | I96: =ROUND(G96*H96,P4) -> 0 | O96: =I96*0.21 -> 0 | P96: 3
A97: PP | E97: Uložení drnu na kompostárnu
A98: VV | E98: dle položky 11130.KOM 1099.000*0,2 = 219,800_x000D_ Celkové množství = 219,800
A99: TS | E99: položka zahrnuje:_x000D_ - kompletní provedení zemní konstrukce do predepsaného tvaru_x000D_ - ošetrení úložište po celou dobu práce v nem vc. klimatických opatrení_x000D_ - ztížení v okolí vedení, konstrukcí a objektu a jejich docasné zajištení_x000D_ - ztížení provádení ve ztížených podmínkách a stísnených prostorech_x000D_ - ztížené ukládání sypaniny pod vodu_x000D_ - ukládání po vrstvách a po jiných nutných cástech (figurách) vc. dosypávek_x000D_ - spouštení a nošení materiálu_x000D_ - úprava, ocištení a ochrana podloží a svahu_x000D_ - svahování, uzavírání povrchu svahu_x000D_ - udržování úložište a jeho ochrana proti vode_x000D_ - odvedení nebo obvedení vody v okolí úložište a v úložišti_x000D_ - veškeré pomocné konstrukce umožnující provedení zemní konstrukce (príjezdy, sjezdy, nájezdy, lešení, podperné konstrukce, premostení, zpevnené plochy, zakrytí a pod.)
A100: P | B100: 24 | C100: 17120 | D100: SKL | E100: ULOŽENÍ SYPANINY DO NÁSYPŮ A NA SKLÁDKY BEZ ZHUTNĚNÍ | F100: M3 | G100: 1450.4 | H100: 0 | I100: =ROUND(G100*H100,P4) -> 0 | O100: =I100*0.21 -> 0 | P100: 3
...

Sheet SO 103 souhrn
A1: Rekapitulace ceny
A3: číslo akce:25-008-Po
A4: název akce: Rekonstrukce ulic Ke Skupici, Na Kopečku a Kubovýchn sadů
A5: objekt: Veřejné osvětlení
A7: p.č. | D7: % | E7: základ | F7: cena /Kč/ | I7: sazbaDPH | J7: dphZ
A8: 1 | B8: materiál elektromontážní | F8: ='SO 103'!H35 -> 0 | H8: 13
A9: 2 | B9: prořez | D9: 0.5 | E9: ='SO 103'!O35 -> 0 | F9: =D9*E9/100 -> 0 | H9: 14
A10: 3 | B10: materiál podružný | D10: 1 | E10: =SUM(F8:F8) -> 0 | F10: =D10*E10/100 -> 0 | H10: 15
A11: 4 | B11: materiál zemní+stavební | F11: ='SO 103'!H41 -> 0 | H11: 17
A12: 5 | B12: elektromontáže | F12: ='SO 103'!H68 -> 0 | G12: =SUM(F8:F10) -> 0 | H12: 18
A13: 6 | B13: demontáže | F13: ='SO 103'!H74 -> 0 | H13: 19
A14: 7 | B14: zemní práce | F14: ='SO 103'!H106 -> 0 | G14: =SUM(F11:F11) -> 0 | H14: 21
A15: 8 | B15: PPV pro elektromontáže | D15: 0.5 | E15: =SUM(F12:G12) -> 0 | F15: =D15*E15/100 -> 0 | H15: 22
A16: 9 | B16: PPV pro zemní práce | D16: 0.5 | E16: =SUM(F14:G14) -> 0 | F16: =D16*E16/100 -> 0 | H16: 23
A17: 10 | B17: materiál+výkony celkem | F17: =SUM(F8:F16) -> 0 | H17: 26
A18: 11 | B18: ostatní náklady+recyklace | F18: ='SO 103'!P113 -> 0 | H18: 27 | J18: ='SO 103'!R113 -> 0
A19: 12 | B19: NÁKLADY hl.III celkem | F19: =SUM(F17:F18) -> 0 | G19: =SUM(F19:F19) -> 0 | H19: 28
A21: 13 | B21: zařízení staveniště | D21: 0.5 | E21: =SUM(F17:F17) -> 0 | F21: =D21*E21/100 -> 0 | H21: 30
A22: 14 | B22: PV/ narušení dopravy | D22: 0.1 | E22: =SUM(F17:F17) -> 0 | F22: =D22*E22/100 -> 0 | H22: 31
A23: 15 | B23: NÁKLADY hl.VI celkem | F23: =SUM(F21:F22) -> 0 | G23: =SUM(F23:F23) -> 0 | H23: 33
A25: 16 | B25: kompletační činnost | H25: 35
A26: 17 | B26: revize | H26: 36
A27: 18 | B27: komplexní zkoušky | H27: 37
A28: 19 | B28: dokumentace skutečného provedení | H28: 40
A29: 20 | B29: NÁKLADY hl.XI celkem | F29: =SUM(F25:F28) -> 0 | G29: =SUM(F29:F29) -> 0 | H29: 41
J30: ='SO 103'!Q113 -> 0
A31: 21 | B31: cena bez DPH | F31: =SUM(G17:G30) -> 0 | H31: 43
A32: 22 | B32: DPH základní sazba | D32: 21 | E32: =SUM(F31:F31) -> 0 | F32: =D32*E32/100 -> 0 | H32: 46 | J32: =SUM(J1:J31) -> 0
A33: 23 | B33: CENA vč.DPH (Kč) | F33: =SUM(F31:F32) -> 0 | H33: 48
B35: Vyplní uchazeč

Sheet SO 103
A1: číslo akce:25-008-Po
A2: název akce: Rekonstrukce ulic Ke Skupici, Na Kopečku a Kubových sadů
A3: objekt: Veřejné osvětlení
C5: U takto označených položek uchazeč uvede výrobce a výrobek v barevně vyznačeném poli.
A7: Soupis položek
A8: p.č. | B8: č.položky | D8: popis položky | E8: mj. | F8: množství | G8: cena/mj. | H8: cena celkem | I8: Rc/Nh/mj. | J8: Rc/Nh/Sum | K8: DPH | L8: VKP | M8: TC | N8: kap. | O8: proř/ON09 | P8: recy/ON | Q8: dphZ | R8: recZ
A9: Materiál elektromontážní | I9: recy/mj | J9: recySuma
A10: 1. | B10: 101209 | D10: kabel CYKY 4J x10 | E10: m | F10: 830 | G10: 0 | H10: =F10*G10 -> 0 | I10: 0 | J10: =F10*I10 -> 0 | K10: S | L10: * | N10: ME | O10: =F10*G10 -> 0
A11: 2. | B11: 101233 | D11: kabel CYKY 3J x 6 | E11: m | F11: 680 | G11: 0 | H11: =F11*G11 -> 0 | I11: 0 | J11: =F11*I11 -> 0 | K11: S | L11: * | N11: ME | O11: =F11*G11 -> 0
A12: 3. | B12: 101305 | D12: kabel CYKY 3 J x1,5 | E12: m | F12: 156 | G12: 0 | H12: =F12*G12 -> 0 | I12: 0 | J12: =F12*I12 -> 0 | K12: S | L12: * | N12: ME | O12: =F12*G12 -> 0
A13: 4. | B13: 193509 | D13: spojka 1kV plast 4žilová SVCZC 25-Cu - Al | E13: ks | F13: 5 | G13: 0 | H13: =F13*G13 -> 0 | I13: 0 | J13: =F13*I13 -> 0 | K13: S | L13: * | N13: ME
A14: 5. | B14: 321501 | D14: roura korugovaná KOPOFLEX KF09050 pr.50/41mm | E14: m | F14: 670 | G14: 0 | H14: =F14*G14 -> 0 | I14: 0 | J14: =F14*I14 -> 0 | K14: S | L14: * | N14: ME | O14: =F14*G14 -> 0
A15: 6. | B15: 321502 | D15: roura korugovaná KOPOFLEX KF09063 pr.63/52 mm | E15: m | F15: 600 | G15: 0 | H15: =F15*G15 -> 0 | I15: 0 | J15: =F15*I15 -> 0 | K15: S | L15: * | N15: ME | O15: =F15*G15 -> 0
A16: 7. | B16: 321816 | D16: roura korugovaná KOPOFLEX KF09110 pr.110/94mm | E16: m | F16: 200 | G16: 0 | H16: =F16*G16 -> 0 | I16: 0 | J16: =F16*I16 -> 0 | K16: S | L16: * | N16: ME | O16: =F16*G16 -> 0
A17: 8. | B17: 321805 | D17: trubka HDPE pro OK - 40/33 - černá | E17: m | F17: 670 | G17: 0 | H17: =F17*G17 -> 0 | I17: 0 | J17: =F17*I17 -> 0 | K17: S | L17: * | N17: ME | O17: =F17*G17 -> 0
A18: 9. | B18: 321505 | D18: mikrotrubička 12/8 pro OK silnostěnná | E18: m | F18: 400 | G18: 0 | H18: =F18*G18 -> 0 | I18: 0 | J18: =F18*I18 -> 0 | K18: S | L18: * | N18: ME | O18: =F18*G18 -> 0
A19: 10. | B19: 321515 | D19: kabelová komora 680 x 680 mm KMR - HT vč.víka A15 | E19: ks | F19: 6 | G19: 0 | H19: =F19*G19 -> 0 | I19: 0 | J19: =F19*I19 -> 0 | K19: S | L19: * | N19: ME | O19: =F19*G19 -> 0
A20: 11. | B20: 295012 | D20: vedení FeZn pr.10mm(0,68kg/m) | E20: m | F20: 775 | G20: 0 | H20: =F20*G20 -> 0 | I20: 0 | J20: =F20*I20 -> 0 | K20: S | L20: * | N20: ME | O20: =F20*G20 -> 0
A21: 12. | B21: 295062 | D21: časové zpožďovací relé na lištu | E21: ks | F21: 1 | G21: 0 | H21: =F21*G21 -> 0 | I21: 0 | J21: =F21*I21 -> 0 | K21: S | L21: * | N21: ME | O21: =F21*G21 -> 0
A22: 13. | B22: 295071 | D22: svorka zemnící připojovací SP | E22: ks | F22: 22 | G22: 0 | H22: =F22*G22 -> 0 | I22: 0 | J22: =F22*I22 -> 0 | K22: S | L22: * | N22: ME | O22: =F22*G22 -> 0
A23: 14. | B23: 295073 | D23: svorka drátu zemnící SS 2šrouby FeZn | E23: ks | F23: 32 | G23: 0 | H23: =F23*G23 -> 0 | I23: 0 | J23: =F23*I23 -> 0 | K23: S | L23: * | N23: ME | O23: =F23*G23 -> 0
A24: 15. | B24: 125 | D24: smršťovací trubice GPH SB žz 12,7/6,4 | E24: m | F24: 10 | G24: 0 | H24: =F24*G24 -> 0 | I24: 0 | J24: =F24*I24 -> 0 | K24: S | N24: ME | O24: =F24*G24 -> 0
A25: 16. | B25: 190214 | D25: jistič 1f 6A | E25: ks | F25: 1 | G25: 0 | H25: =F25*G25 -> 0 | I25: 0 | J25: =F25*I25 -> 0 | K25: S | N25: ME | O25: =F25*G25 -> 0
A26: 17. | B26: 563212 | D26: Stožár konický žz Stileton 60/50/3 opatřený nátěrem Dyplex systém RAL 7016 | E26: ks | F26: 3 | G26: 0 | H26: =F26*G26 -> 0 | I26: 0 | J26: =F26*I26 -> 0 | K26: S | L26: * | N26: ME | O26: =F26*G26 -> 0
A27: 18. | B27: 563213 | D27: Stožár konický žz Stileton 60/60/3 opatřený nátěrem Dyplex systém RAL 7016 | E27: ks | F27: 19 | G27: 0 | H27: =F27*G27 -> 0 | I27: 0 | J27: =F27*I27 -> 0 | K27: S | L27: * | N27: ME | O27: =F27*G27 -> 0
A28: 19. | B28: 564330 | D28: Ochranná plastová manžeta | E28: ks | F28: 22 | G28: 0 | H28: =F28*G28 -> 0 | I28: 0 | J28: =F28*I28 -> 0 | K28: S | L28: * | N28: ME | O28: =F28*G28 -> 0
A29: 20. | B29: 574114 | D29: stožárová výzbroj SV-B 6.10.4 průchozí/TNC 1xE27 | E29: ks | F29: 22 | G29: 0 | H29: =F29*G29 -> 0 | I29: 0 | J29: =F29*I29 -> 0 | K29: S | L29: * | N29: ME | O29: =F29*G29 -> 0
A30: 21. | B30: 579242 | D30: pojistková patrona E27 (2-4A) | E30: ks | F30: 22 | G30: 0 | H30: =F30*G30 -> 0 | I30: 0 | J30: =F30*I30 -> 0 | K30: S | L30: * | N30: ME | O30: =F30*G30 -> 0
A31: 22. | B31: 530422 | D31: svítidlo 16LED/350mA/WW727,18,3W ,2700K RAL 7016 | E31: ks | F31: 3 | G31: 0 | H31: =F31*G31 -> 0 | J31: =F31*I31 -> 0 | K31: Z | L31: * | N31: ME | O31: =F31*G31 -> 0 | Q31: =F31*G31 -> 0 | R31: =F31*I31 -> 0
A32: 23. | B32: 53023 | D32: svítidlo 16LED/500mA/WW727,Back Light 25,5W ,2700K RAL 7016 | E32: ks | F32: 4 | G32: 0 | H32: =F32*G32 -> 0 | J32: =F32*I32 -> 0 | K32: Z | L32: * | N32: ME | O32: =F32*G32 -> 0 | Q32: =F32*G32 -> 0 | R32: =F32*I32 -> 0
A33: 24. | B33: 530424 | D33: svítidlo 24LED/400mA/WW727,Back Light 30W ,2700K RAL 7016 | E33: ks | F33: 12 | G33: 0 | H33: =F33*G33 -> 0 | J33: =F33*I33 -> 0 | K33: Z | L33: * | N33: ME | O33: =F33*G33 -> 0 | Q33: =F33*G33 -> 0 | R33: =F33*I33 -> 0
A34: 25. | B34: 530425 | D34: svítidlo 24LED/500mA/WW727,39W ,2700K RAL 7016 | E34: ks | F34: 3 | G34: 0 | H34: =F34*G34 -> 0 | J34: =F34*I34 -> 0 | K34: Z | L34: * | N34: ME | O34: =F34*G34 -> 0 | Q34: =F34*G34 -> 0 | R34: =F34*I34 -> 0
D35: součet | H35: =SUM(H10:H34) -> 0 | J35: =SUM(J10:J34) -> 0 | N35: ME | O35: =SUM(O8:O34) -> 0 | P35: =J35 -> 0
A36: Materiál zemní+stavební
A37: 26. | B37: 46114 | D37: písek kopaný 0-2mm | E37: m3 | F37: 26.35 | G37: 0 | H37: =F37*G37 -> 0 | I37: 0 | J37: =F37*I37 -> 0 | K37: S | N37: MZ
A38: 27. | B38: 46134 | D38: beton B20 | E38: m3 | F38: 20 | G38: 0 | H38: =F38*G38 -> 0 | I38: 0 | J38: =F38*I38 -> 0 | K38: S | N38: MZ
A39: 28. | B39: 46241 | D39: prkno 2,5cm SM,BO | E39: m3 | F39: 0.44 | G39: 0 | H39: =F39*G39 -> 0 | I39: 0 | J39: =F39*I39 -> 0 | K39: S | N39: MZ
A40: 29. | B40: 46452 | D40: stožárové pouzdro plast SP250/1000 | E40: ks | F40: 22 | G40: 0 | H40: =F40*G40 -> 0 | I40: 0 | J40: =F40*I40 -> 0 | K40: S | N40: MZ
D41: součet | H41: =SUM(H37:H40) -> 0 | J41: =SUM(J37:J40) -> 0 | N41: MZ | P41: =J41 -> 0
A42: Elektromontáže | I42: Nh/mj | J42: NhSuma | O42: =SUM(P9:P41) -> 0
A43: 30. | B43: 210810013 | D43: kabel(-CYKY) volně ulož.do 5x10/12x4/19x2,5/24x1,5 | E43: m | F43: 770 | G43: 0 | H43: =F43*G43 -> 0 | I43: 0.057 | J43: =F43*I43 -> 43.89 | K43: S | N43: CE
A44: 31. | B44: 210810008 | D44: kabel(-CYKY) volně uložený do 3x6/4x4/7x2,5 | E44: m | F44: 830 | G44: 0 | H44: =F44*G44 -> 0 | I44: 0.046 | J44: =F44*I44 -> 38.18 | K44: S | N44: CE
A45: 32. | B45: 210100211 | D45: ukončení kabelu do 4x10 | E45: ks | F45: 176 | G45: 0 | H45: =F45*G45 -> 0 | I45: 0.369 | J45: =F45*I45 -> 64.944 | K45: S | L45: * | N45: CE
A46: 33. | B46: 210100219 | D46: ukončení kabelu do 5x6 | E46: ks | F46: 159 | G46: 0 | H46: =F46*G46 -> 0 | I46: 0.39 | J46: =F46*I46 -> 62.01 | K46: S | L46: * | N46: CE
A47: 34. | B47: 210101201 | D47: spojka 1kV smršťovací do 5x25 | E47: ks | F47: 5 | G47: 0 | H47: =F47*G47 -> 0 | I47: 4.14 | J47: =F47*I47 -> 20.7 | K47: S | N47: CE
A48: 35. | B48: 210950201 | D48: příplatek na zatažení do prostupu kabel do 0,75kg | E48: m | F48: 1600 | G48: 0 | H48: =F48*G48 -> 0 | I48: 0.021 | J48: =F48*I48 -> 33.6 | K48: S | L48: * | N48: CE
A49: 36. | B49: 210010123 | D49: trubka plast volně uložená do pr.50mm | E49: m | F49: 650 | G49: 0 | H49: =F49*G49 -> 0 | I49: 0.12 | J49: =F49*I49 -> 78 | K49: S | N49: CE
A50: 37. | B50: 210010124 | D50: trubka plast volně uložená do pr.63mm | E50: m | F50: 575 | G50: 0 | H50: =F50*G50 -> 0 | I50: 0.12 | J50: 54.84 | K50: S | N50: CE
A51: 38. | B51: 210010125 | D51: trubka plast volně uložená do pr.110mm | E51: m | F51: 178 | G51: 0 | H51: =F51*G51 -> 0 | I51: 0.158 | J51: =F51*I51 -> 28.124 | K51: S | N51: CE
A52: 39. | B52: 210220022 | D52: uzemňov.vedení v zemi úplná mtž FeZn pr.8-10mm | E52: m | F52: 775 | G52: 0 | H52: =F52*G52 -> 0 | I52: 0.123 | J52: =F52*I52 -> 95.325 | K52: S | N52: CE
A53: 40. | B53: 210220302 | D53: svorka hromosvodová do 4 šroubů | E53: ks | F53: 32 | G53: 0 | H53: =F53*G53 -> 0 | I53: 0.352 | J53: =F53*I53 -> 11.264 | K53: S | L53: * | N53: CE
A54: 41. | B54: 210220301 | D54: svorka hromosvodová do 2 šroubů | E54: ks | F54: 22 | G54: 0 | H54: =F54*G54 -> 0 | I54: 0.251 | J54: =F54*I54 -> 5.522 | K54: S | L54: * | N54: CE
A55: 42. | B55: 210220441 | D55: ochrana zemní svorky asfaltovým nátěrem | E55: ks | F55: 32 | G55: 0 | H55: =F55*G55 -> 0 | I55: 0.2 | J55: =F55*I55 -> 6.4 | K55: S | L55: * | N55: CE
A56: 43. | B56: 210220445 | D56: ochrana zemní svorky smršťovací trubicí 30/8mm | E56: ks | F56: 22 | G56: 0 | H56: =F56*G56 -> 0 | I56: 0.24 | J56: =F56*I56 -> 5.28 | K56: S | L56: * | N56: CE
A57: 44. | B57: 210100007 | D57: úprava RVO - doplnění jističe a relé | E57: kpl | F57: 1 | G57: 0 | H57: =F57*G57 -> 0 | I57: 0.263 | J57: =F57*I57 -> 0.263 | K57: S | L57: * | N57: CE
A58: 45. | B58: 210204002 | D58: stožár osvětlovací sadový ocelový kónický | E58: ks | F58: 22 | G58: 0 | H58: =F58*G58 -> 0 | I58: 1.68 | J58: =F58*I58 -> 36.96 | K58: S | N58: CE
A59: 46. | B59: 210204201 | D59: elektrovýzbroj stožárů pro 1 okruh | E59: ks | F59: 22 | G59: 0 | H59: =F59*G59 -> 0 | I59: 1.37 | J59: =F59*I59 -> 30.14 | K59: S | N59: CE
A60: 47. | B60: 210202103 | D60: LED svítidlo venkovní na stožár | E60: ks | F60: 22 | G60: 0 | H60: =F60*G60 -> 0 | I60: 1.07 | J60: =F60*I60 -> 23.54 | K60: S | N60: CE
D61: Typ svítidla:
A62: 48. | B62: 210202233 | D62: montáž a zapojení hnízda MR vč.nap.kabelu | E62: ks | F62: 4 | G62: 0 | H62: =F62*G62 -> 0 | I62: 1.07 | J62: =F62*I62 -> 4.28 | K62: S | N62: CE
A63: 49. | B63: 210202650 | D63: montáž označníků názvů ulice | E63: ks | F63: 1 | G63: 0 | H63: =F63*G63 -> 0 | I63: 1.07 | J63: =F63*I63 -> 1.07 | K63: S | N63: CE
A64: 50. | B64: 210050123 | D64: pokládka trubky HDPE | E64: m | F64: 670 | G64: 0 | H64: =F64*G64 -> 0 | I64: 0.12 | J64: =F64*I64 -> 80.4 | K64: S | N64: CE
A65: 51. | B65: 210050124 | D65: pokládka mikrotrubičky 12/8 mm volně uložená | E65: m | F65: 380 | G65: 0 | H65: =F65*G65 -> 0 | I65: 0.12 | J65: 54.84 | K65: S | N65: CE
A66: 52. | B66: 210055125 | D66: montáž kabelové komory | E66: ks | F66: 6 | G66: 0 | H66: =F66*G66 -> 0 | I66: 0.158 | J66: =F66*I66 -> 0.948 | K66: S | N66: CE
A67: 53. | B67: 210292022 | D67: vypnutí hlavn vedení vč.zajištění+vyzkouš+označení | E67: kpl | F67: 1 | G67: 0 | H67: =F67*G67 -> 0 | I67: 1.19 | J67: =F67*I67 -> 1.19 | K67: Z | L67: * | N67: CE | Q67: =F67*G67 -> 0
D68: součet | H68: =SUM(H43:H67) -> 0 | J68: =SUM(J43:J67) -> 781.71 | N68: CE
A69: Demontáže
A70: 54. | B70: 210040021 | D70: demontáž hnízda místního rozhlasu /dmtž | E70: ks | F70: 4 | G70: 0 | H70: =F70*G70 -> 0 | I70: 4.621 | J70: =F70*I70 -> 18.484 | K70: S | L70: * | N70: CD
A71: 55. | B71: 210040001 | D71: stožár ocelový paticový vč. výstroje /dmtž | E71: ks | F71: 20 | G71: 0 | H71: =F71*G71 -> 0 | I71: 5.24 | J71: =F71*I71 -> 104.8 | K71: S | L71: * | N71: CD
A72: 56. | B72: 210202103 | D72: svítidlo sodíkové venkovní /dmtž | E72: ks | F72: 20 | G72: 0 | H72: =F72*G72 -> 0 | I72: 0.535 | J72: =F72*I72 -> 10.7 | K72: S | L72: * | N72: CD
A73: 57. | B73: 210204101 | D73: demontáž DZ a označníků názvů ulic | E73: ks | F73: 3 | G73: 0 | H73: =F73*G73 -> 0 | I73: 1.18 | J73: =F73*I73 -> 3.54 | K73: S | L73: * | N73: CD
D74: součet | H74: =SUM(H70:H73) -> 0 | J74: =SUM(J70:J73) -> 137.524 | N74: CD
A75: Zemní práce
A76: 58. | B76: 460200163 | D76: výkop kabel.rýhy šířka 35/hloubka 80cm tz.3/ko1.0 | E76: m | F76: 178 | G76: 0 | H76: =F76*G76 -> 0 | I76: 0.678 | J76: =F76*I76 -> 120.684 | K76: S | L76: * | N76: CZ
A77: 59. | B77: 460420022 | D77: kabelové lože 2x10cm kopaný písek šířka do 65cm | E77: m | F77: 178 | G77: 0 | H77: =F77*G77 -> 0 | I77: 0.142 | J77: =F77*I77 -> 25.276 | K77: S | N77: CZ
A78: 60. | B78: 460490012 | D78: výstražná fólie šířka nad 30cm | E78: m | F78: 178 | G78: 0 | H78: =F78*G78 -> 0 | I78: 0.052 | J78: =F78*I78 -> 9.256 | K78: S | N78: CZ
A79: 61. | B79: 460560163 | D79: zához kabelové rýhy šířka 35/hloubka 80cm tz.3 | E79: m | F79: 178 | G79: 0 | H79: =F79*G79 -> 0 | I79: 0.256 | J79: =F79*I79 -> 45.568 | K79: S | N79: CZ
A80: 62. | B80: 460600001 | D80: odvoz zeminy do 10km vč.poplatku za skládku | E80: m3 | F80: 12.49 | G80: 0 | H80: =F80*G80 -> 0 | I80: 2.28 | J80: =F80*I80 -> 28.4772 | K80: S | N80: CZ
A81: 63. | B81: 460620013 | D81: provizorní úprava terénu třída zeminy 3 | E81: m2 | F81: 89 | G81: 0 | H81: =F81*G81 -> 0 | I81: 0.112 | J81: =F81*I81 -> 9.968 | K81: S | N81: CZ
A82: 64. | B82: 460300006 | D82: hutnění zeminy po vrstvách při strojním záhrnu | E82: m3 | F82: 12.49 | G82: 0 | H82: =F82*G82 -> 0 | I82: 0.243 | J82: =F82*I82 -> 3.03507 | K82: S | L82: * | N82: CZ
A83: 65. | B83: 460200133 | D83: výkop kabel.rýhy šířka 35/hloubka 50cm tz.3/ko1.0 | E83: m | F83: 110 | G83: 0 | H83: =F83*G83 -> 0 | I83: 0.43 | J83: =F83*I83 -> 47.3 | K83: S | L83: * | N83: CZ
A84: 66. | B84: 460230003 | D84: jáma pro spojku kabelu do 10kV tř.zeminy 3/ko1.0 | E84: ks | F84: 5 | G84: 0 | H84: =F84*G84 -> 0 | I84: 2.11 | J84: =F84*I84 -> 10.55 | K84: S | N84: CZ
A85: 67. | B85: 460120003 | D85: zához jámy třída zeminy 3 | E85: m3 | F85: 3 | G85: 0 | H85: =F85*G85 -> 0 | I85: 1.244 | J85: =F85*I85 -> 3.732 | K85: S | N85: CZ
A86: 68. | B86: 460420022 | D86: kabelové lože 2x10cm kopaný písek šířka do 65cm | E86: m | F86: 110 | G86: 0 | H86: =F86*G86 -> 0 | I86: 0.142 | J86: =F86*I86 -> 15.62 | K86: S | N86: CZ
A87: 69. | B87: 460490012 | D87: výstražná fólie šířka nad 30cm | E87: m | F87: 110 | G87: 0 | H87: =F87*G87 -> 0 | I87: 0.052 | J87: =F87*I87 -> 5.72 | K87: S | N87: CZ
A88: 70. | B88: 460560133 | D88: zához kabelové rýhy šířka 35/hloubka 50cm tz.3 | E88: m | F88: 110 | G88: 0 | H88: =F88*G88 -> 0 | I88: 0.164 | J88: =F88*I88 -> 18.04 | K88: S | N88: CZ
A89: 71. | B89: 460600001 | D89: odvoz zeminy do 10km vč.poplatku za skládku | E89: m3 | F89: 7.7 | G89: 0 | H89: =F89*G89 -> 0 | I89: 2.28 | J89: =F89*I89 -> 17.556 | K89: S | N89: CZ
A90: 72. | B90: 460300006 | D90: hutnění zeminy po vrstvách při strojním záhrnu | E90: m3 | F90: 7.7 | G90: 0 | H90: =F90*G90 -> 0 | I90: 0.243 | J90: =F90*I90 -> 1.8711 | K90: S | L90: * | N90: CZ
A91: 73. | B91: 460200284 | D91: výkop kabel.rýhy šířka 35/hloubka 40cm tz.3/ko1.0 | E91: m | F91: 455 | G91: 0 | H91: =F91*G91 -> 0 | I91: 2.22 | J91: =F91*I91 -> 1010.1 | K91: S | L91: * | N91: CZ
A92: 74. | B92: 460420022 | D92: kabelové lože 2x10cm kopaný písek šířka do 65cm | E92: m | F92: 455 | G92: 0 | H92: =F92*G92 -> 0 | I92: 0.142 | J92: =F92*I92 -> 64.61 | K92: S | N92: CZ
A93: 75. | B93: 460490012 | D93: výstražná fólie šířka nad 30cm | E93: m | F93: 455 | G93: 0 | H93: =F93*G93 -> 0 | I93: 0.052 | J93: =F93*I93 -> 23.66 | K93: S | N93: CZ
A94: 76. | B94: 460560163 | D94: zához kabelové rýhy šířka 35/hloubka 40cm tz.3 | E94: m | F94: 455 | G94: 0 | H94: =F94*G94 -> 0 | I94: 0.256 | J94: =F94*I94 -> 116.48 | K94: S | N94: CZ
A95: 77. | B95: 460600001 | D95: odvoz zeminy do 10km vč.poplatku za skládku | E95: m3 | F95: 31.85 | G95: 0 | H95: =F95*G95 -> 0 | I95: 2.28 | J95: =F95*I95 -> 72.618 | K95: S | N95: CZ
A96: 78. | B96: 460620013 | D96: provizorní úprava terénu třída zeminy 3 | E96: m2 | F96: 227 | G96: 0 | H96: =F96*G96 -> 0 | I96: 0.112 | J96: =F96*I96 -> 25.424 | K96: S | N96: CZ
A97: 79. | B97: 460300006 | D97: hutnění zeminy po vrstvách při strojním záhrnu | E97: m3 | F97: 31.85 | G97: 0 | H97: =F97*G97 -> 0 | I97: 0.243 | J97: =F97*I97 -> 7.73955 | K97: S | L97: * | N97: CZ
A98: 80. | B98: 460650017 | D98: podklad a obetonování chrániček | E98: m3 | F98: 6 | G98: 0 | H98: =F98*G98 -> 0 | I98: 2.56 | J98: =F98*I98 -> 15.36 | K98: S | N98: CZ
A99: 81. | B99: 460100002 | D99: pouzdrový základ VO mimo trasu kabelu pr.0,8/0,8 m | E99: ks | F99: 22 | G99: 0 | H99: =F99*G99 -> 0 | I99: 2.89 | J99: =F99*I99 -> 63.58 | K99: S | L99: * | N99: CZ
A100: 82. | B100: 460050713 | D100: výkop jámy do 2m3 pro stožár VO strojní tz.3/ko1.0 | E100: m3 | F100: 10.24 | G100: 0 | H100: =F100*G100 -> 0 | I100: 5.54 | J100: =F100*I100 -> 56.7296 | K100: S | N100: CZ
A101: 83. | B101: 460120003 | D101: zához jámy třída zeminy 3 | E101: m3 | F101: 10.24 | G101: 0 | H101: =F101*G101 -> 0 | I101: 1.244 | J101: =F101*I101 -> 12.73856 | K101: S | N101: CZ
A102: 84. | B102: 460080101 | D102: rozbourání betonového základu | E102: m3 | F102: 18 | G102: 0 | H102: =F102*G102 -> 0 | I102: 11.7 | J102: =F102*I102 -> 210.6 | K102: S | L102: * | N102: CZ
...
