Workbook

Sheet Rekapitulace stavby
A1: Export Komplet | BA1: 2.0 | BB1: ZAMOK | BT1: False | BU1: False | BV1: {8df5e9b1-fb73-4a7d-952b-853879649dc8}
BS2: 0,01 | BT2: 21
BS3: 0,01 | BT3: 12
D4: REKAPITULACE STAVBY | AS4: v --- níže se nacházejí doplnkové a pomocné údaje k sestavám --- v | BE4: Návod na vyplnění | BS4: 0,001
D5: Kód: | K5: 23022 | BE5: Měnit lze pouze buňky se žlutým podbarvením!_x000D_ _x000D_ 1) na prvním listu Rekapitulace stavby vyplňte v sestavě_x000D_ _x000D_ a) Souhrnný list_x000D_ - údaje o Uchazeči_x000D_ (přenesou se do ostatních sestav i v jiných listech)_x000D_ _x000D_ b) Rekapitulace objektů_x000D_ - potřebné Ostatní náklady_x000D_ _x000D_ 2) na vybraných listech vyplňte v sestavě_x000D_ _x000D_ a) Krycí list_x000D_ - údaje o Uchazeči, pokud se liší od údajů o Uchazeči na Souhrnném listu_x000D_ (údaje se přenesou do ostatních sestav v daném listu)_x000D_ _x000D_ b) Rekapitulace rozpočtu_x000D_ - potřebné Ostatní náklady_x000D_ _x000D_ c) Celkové náklady za stavbu_x000D_ - ceny u položek_x000D_ - množství, pokud má žluté podbarvení_x000D_ - a v případě potřeby poznámku (ta je ve skrytém sloupci) | BS5: 0,01
D6: Stavba: | K6: Zimní stadion Tábor - nová ledová plocha | BS6: 0,01
D7: KSO: | AK7: CC-CZ: | BS7: 0,01
D8: Místo: | AK8: Datum: | AN8: 12. 2. 2024 | BS8: 0,01
BS9: 0,01
D10: Zadavatel: | AK10: IČ: | BS10: 0,01
AK11: DIČ: | BS11: 0,01
BS12: 0,01
D13: Uchazeč: | AK13: IČ: | AN13: Vyplň údaj | BS13: 0,01
E14: Vyplň údaj | AK14: DIČ: | AN14: Vyplň údaj | BS14: 0,01
BS15: False
D16: Projektant: | AK16: IČ: | BS16: False
AK17: DIČ: | BS17: True
BS18: 0,01
D19: Zpracovatel: | AK19: IČ: | BS19: 0,01
AK20: DIČ: | BS20: True
D22: Poznámka:
D26: Cena bez DPH | AK26: =ROUND(AG94,2) -> 0
L28: Sazba daně | W28: Základ daně | AK28: Výše daně
D29: DPH | F29: základní | L29: 0.21 | W29: =ROUND(AZ94, 2) -> 0 | AK29: =ROUND(AV94, 2) -> 0
F30: snížená | L30: 0.12 | W30: =ROUND(BA94, 2) -> 0 | AK30: =ROUND(AW94, 2) -> 0
F31: zákl. přenesená | L31: 0.21 | W31: =ROUND(BB94, 2) -> 0 | AK31: 0
F32: sníž. přenesená | L32: 0.12 | W32: =ROUND(BC94, 2) -> 0 | AK32: 0
F33: nulová | L33: 0 | W33: =ROUND(BD94, 2) -> 0 | AK33: 0
D35: Cena s DPH | T35: v | X35: CZK | AK35: =SUM(AK26:AK33) -> 0
D49: Projektant | AH49: Zpracovatel
D60: Datum a podpis: | V60: Razítko | AH60: Datum a podpis: | AM60: Razítko
D64: Objednavatel | AH64: Uchazeč
D75: Datum a podpis: | V75: Razítko | AH75: Datum a podpis: | AM75: Razítko
C82: REKAPITULACE OBJEKTŮ STAVBY A SOUPISŮ PRACÍ
C84: Kód: | L84: =K5 -> 23022
C85: Stavba: | L85: =K6 -> Zimní stadion Tábor - nová ledová plocha
C87: Místo: | L87: =IF(K8="","",K8) | AI87: Datum: | AM87: =IF(AN8= "","",AN8) -> 12. 2. 2024
C89: Zadavatel: | L89: =IF(E11= "","",E11) | AI89: Projektant: | AM89: =IF(E17="","",E17) | AS89: Informatívní údaje z listů zakázek
C90: Uchazeč: | L90: =IF(E14= "Vyplň údaj","",E14) | AI90: Zpracovatel: | AM90: =IF(E20="","",E20)
C92: Kód | I92: Popis | AG92: Cena bez DPH [CZK] | AN92: Cena s DPH [CZK] | AQ92: Typ | AS92: z toho Ostat._x000D_ náklady [CZK] | AT92: DPH [CZK] | AU92: Normohodiny [h] | AV92: DPH základní [CZK] | AW92: DPH snížená [CZK] | AX92: DPH základní přenesená_x000D_ [CZK] | AY92: DPH snížená přenesená_x000D_ [CZK] | AZ92: Základna_x000D_ DPH základní | BA92: Základna_x000D_ DPH snížená | BB92: Základna_x000D_ DPH zákl. přenesená | BC92: Základna_x000D_ DPH sníž. přenesená | BD92: Základna_x000D_ DPH nulová
C94: Náklady z rozpočtů | AG94: =ROUND(SUM(AG95:AG98),2) -> 0 | AN94: =SUM(AG94,AT94) -> 0 | AS94: =ROUND(SUM(AS95:AS98),2) -> 0 | AT94: =ROUND(SUM(AV94:AW94),2) -> 0 | AU94: =ROUND(SUM(AU95:AU98),5) -> 0 | AV94: =ROUND(AZ94*L29,2) -> 0 | AW94: =ROUND(BA94*L30,2) -> 0 | AX94: =ROUND(BB94*L29,2) -> 0 | AY94: =ROUND(BC94*L30,2) -> 0 | AZ94: =ROUND(SUM(AZ95:AZ98),2) -> 0 | BA94: =ROUND(SUM(BA95:BA98),2) -> 0 | BB94: =ROUND(SUM(BB95:BB98),2) -> 0 | BC94: =ROUND(SUM(BC95:BC98),2) -> 0 | BD94: =ROUND(SUM(BD95:BD98),2) -> 0 | BS94: D | BT94: 0 | BU94: ###NOIMPORT### | BV94: IMPORT | BW94: {8df5e9b1-fb73-4a7d-952b-853879649dc8} | BX94: {00000000-0000-0000-0000-000000000000}
A95: / | D95: D.1.1 | J95: ASŘ | AG95: ='D.1.1 - ASŘ'!J30 -> 0 | AN95: =SUM(AG95,AT95) -> 0 | AQ95: STA | AS95: 0 | AT95: =ROUND(SUM(AV95:AW95),2) -> 0 | AU95: ='D.1.1 - ASŘ'!P136 -> 0 | AV95: ='D.1.1 - ASŘ'!J33 -> 0 | AW95: ='D.1.1 - ASŘ'!J34 -> 0 | AX95: ='D.1.1 - ASŘ'!J35 -> 0 | AY95: ='D.1.1 - ASŘ'!J36 -> 0 | AZ95: ='D.1.1 - ASŘ'!F33 -> 0 | BA95: ='D.1.1 - ASŘ'!F34 -> 0 | BB95: ='D.1.1 - ASŘ'!F35 -> 0 | BC95: ='D.1.1 - ASŘ'!F36 -> 0 | BD95: ='D.1.1 - ASŘ'!F37 -> 0 | BT95: 1 | BV95: IMPORT | BW95: {85ba5953-3b9b-4cb6-ac34-51dd63f7fb5c} | BX95: {8df5e9b1-fb73-4a7d-952b-853879649dc8} | CM95: 2
A96: / | D96: Chla | J96: Technologie chlazení | AG96: ='Chla - Technologie chlazení'!J30 -> 0 | AN96: =SUM(AG96,AT96) -> 0 | AQ96: STA | AS96: 0 | AT96: =ROUND(SUM(AV96:AW96),2) -> 0 | AU96: ='Chla - Technologie chlazení'!P125 -> 0 | AV96: ='Chla - Technologie chlazení'!J33 -> 0 | AW96: ='Chla - Technologie chlazení'!J34 -> 0 | AX96: ='Chla - Technologie chlazení'!J35 -> 0 | AY96: ='Chla - Technologie chlazení'!J36 -> 0 | AZ96: ='Chla - Technologie chlazení'!F33 -> 0 | BA96: ='Chla - Technologie chlazení'!F34 -> 0 | BB96: ='Chla - Technologie chlazení'!F35 -> 0 | BC96: ='Chla - Technologie chlazení'!F36 -> 0 | BD96: ='Chla - Technologie chlazení'!F37 -> 0 | BT96: 1 | BV96: IMPORT | BW96: {305b7b67-9b61-42b6-a51c-c8e81dc4750a} | BX96: {8df5e9b1-fb73-4a7d-952b-853879649dc8} | CM96: 2
A97: / | D97: Ost | J97: Vybavení stadionu | AG97: ='Ost - Vybavení stadionu '!J30 -> 0 | AN97: =SUM(AG97,AT97) -> 0 | AQ97: STA | AS97: 0 | AT97: =ROUND(SUM(AV97:AW97),2) -> 0 | AU97: ='Ost - Vybavení stadionu '!P117 -> 0 | AV97: ='Ost - Vybavení stadionu '!J33 -> 0 | AW97: ='Ost - Vybavení stadionu '!J34 -> 0 | AX97: ='Ost - Vybavení stadionu '!J35 -> 0 | AY97: ='Ost - Vybavení stadionu '!J36 -> 0 | AZ97: ='Ost - Vybavení stadionu '!F33 -> 0 | BA97: ='Ost - Vybavení stadionu '!F34 -> 0 | BB97: ='Ost - Vybavení stadionu '!F35 -> 0 | BC97: ='Ost - Vybavení stadionu '!F36 -> 0 | BD97: ='Ost - Vybavení stadionu '!F37 -> 0 | BT97: 1 | BV97: IMPORT | BW97: {f4c06d50-6905-4d8d-a6b7-dff6b78672df} | BX97: {8df5e9b1-fb73-4a7d-952b-853879649dc8} | CM97: 2
A98: / | D98: VRN | J98: Vedlejší rozpočtové náklady | AG98: ='VRN - Vedlejší rozpočtové...'!J30 -> 0 | AN98: =SUM(AG98,AT98) -> 0 | AQ98: STA | AS98: 0 | AT98: =ROUND(SUM(AV98:AW98),2) -> 0 | AU98: ='VRN - Vedlejší rozpočtové...'!P120 -> 0 | AV98: ='VRN - Vedlejší rozpočtové...'!J33 -> 0 | AW98: ='VRN - Vedlejší rozpočtové...'!J34 -> 0 | AX98: ='VRN - Vedlejší rozpočtové...'!J35 -> 0 | AY98: ='VRN - Vedlejší rozpočtové...'!J36 -> 0 | AZ98: ='VRN - Vedlejší rozpočtové...'!F33 -> 0 | BA98: ='VRN - Vedlejší rozpočtové...'!F34 -> 0 | BB98: ='VRN - Vedlejší rozpočtové...'!F35 -> 0 | BC98: ='VRN - Vedlejší rozpočtové...'!F36 -> 0 | BD98: ='VRN - Vedlejší rozpočtové...'!F37 -> 0 | BT98: 1 | BV98: IMPORT | BW98: {098f2b21-4a0d-4319-8cac-82419aabd84f} | BX98: {8df5e9b1-fb73-4a7d-952b-853879649dc8} | CM98: 2

Sheet D.1.1 - ASŘ
AT2: {85ba5953-3b9b-4cb6-ac34-51dd63f7fb5c}
AT3: 2
D4: KRYCÍ LIST SOUPISU PRACÍ | M4: v --- níže se nacházejí doplnkové a pomocné údaje k sestavám --- v | AT4: False
D6: Stavba:
E7: ='Rekapitulace stavby'!K6 -> Zimní stadion Tábor - nová ledová plocha
D8: Objekt:
E9: D.1.1 - ASŘ
D11: KSO: | I11: CC-CZ:
D12: Místo: | I12: Datum: | J12: ='Rekapitulace stavby'!AN8 -> 12. 2. 2024
D14: Zadavatel: | I14: IČ: | J14: =IF('Rekapitulace stavby'!AN10="","",'Rekapitulace stavby'!AN10)
E15: =IF('Rekapitulace stavby'!E11="","",'Rekapitulace stavby'!E11) | I15: DIČ: | J15: =IF('Rekapitulace stavby'!AN11="","",'Rekapitulace stavby'!AN11)
D17: Uchazeč: | I17: IČ: | J17: ='Rekapitulace stavby'!AN13 -> Vyplň údaj
E18: ='Rekapitulace stavby'!E14 -> Vyplň údaj | I18: DIČ: | J18: ='Rekapitulace stavby'!AN14 -> Vyplň údaj
D20: Projektant: | I20: IČ: | J20: =IF('Rekapitulace stavby'!AN16="","",'Rekapitulace stavby'!AN16)
E21: =IF('Rekapitulace stavby'!E17="","",'Rekapitulace stavby'!E17) | I21: DIČ: | J21: =IF('Rekapitulace stavby'!AN17="","",'Rekapitulace stavby'!AN17)
D23: Zpracovatel: | I23: IČ: | J23: =IF('Rekapitulace stavby'!AN19="","",'Rekapitulace stavby'!AN19)
E24: =IF('Rekapitulace stavby'!E20="","",'Rekapitulace stavby'!E20) | I24: DIČ: | J24: =IF('Rekapitulace stavby'!AN20="","",'Rekapitulace stavby'!AN20)
D26: Poznámka:
D30: Cena bez DPH | J30: =ROUND(J136, 2) -> 0
F32: Základ daně | I32: Sazba daně | J32: Výše daně
D33: DPH | E33: základní | F33: =ROUND((SUM(BE136:BE367)), 2) -> 0 | I33: 0.21 | J33: =ROUND(((SUM(BE136:BE367))*I33), 2) -> 0
E34: snížená | F34: =ROUND((SUM(BF136:BF367)), 2) -> 0 | I34: 0.12 | J34: =ROUND(((SUM(BF136:BF367))*I34), 2) -> 0
E35: zákl. přenesená | F35: =ROUND((SUM(BG136:BG367)), 2) -> 0 | I35: 0.21 | J35: =0 -> 0
E36: sníž. přenesená | F36: =ROUND((SUM(BH136:BH367)), 2) -> 0 | I36: 0.12 | J36: =0 -> 0
E37: nulová | F37: =ROUND((SUM(BI136:BI367)), 2) -> 0 | I37: 0 | J37: =0 -> 0
D39: Cena s DPH | G39: v | H39: CZK | J39: =SUM(J30:J37) -> 0
D50: Projektant | G50: Zpracovatel
D61: Datum a podpis: | F61: Razítko | G61: Datum a podpis: | J61: Razítko
D65: Objednavatel | G65: Uchazeč
D76: Datum a podpis: | F76: Razítko | G76: Datum a podpis: | J76: Razítko
C82: REKAPITULACE ČLENĚNÍ SOUPISU PRACÍ
C84: Stavba:
E85: =E7 -> Zimní stadion Tábor - nová ledová plocha
C86: Objekt:
E87: =E9 -> D.1.1 - ASŘ
C89: Místo: | F89: =F12 | I89: Datum: | J89: =IF(J12="","",J12) -> 12. 2. 2024
C91: Zadavatel: | F91: =E15 | I91: Projektant: | J91: =E21
C92: Uchazeč: | F92: =IF(E18="","",E18) -> Vyplň údaj | I92: Zpracovatel: | J92: =E24
C94: Kód dílu - Popis | J94: Cena celkem [CZK]
C96: Náklady ze soupisu prací | J96: =J136 -> 0 | AU96: -1
D97: HSV - Práce a dodávky HSV | J97: =J137 -> 0
D98: 1 - Zemní práce | J98: =J138 -> 0
D99: 3 - Svislé a kompletní konstrukce | J99: =J144 -> 0
D100: 4 - Vodorovné konstrukce | J100: =J157 -> 0
D101: 5 - Komunikace pozemní | J101: =J165 -> 0
D102: 6 - Úpravy povrchů, podlahy a osazování výplní | J102: =J175 -> 0
D103: 8 - Trubní vedení | J103: =J193 -> 0
D104: 9 - Ostatní konstrukce a práce, bourání | J104: =J212 -> 0
D105: 997 - Přesun sutě | J105: =J275 -> 0
D106: 998 - Přesun hmot | J106: =J284 -> 0
D107: PSV - Práce a dodávky PSV | J107: =J287 -> 0
D108: 711 - Izolace proti vodě, vlhkosti a plynům | J108: =J288 -> 0
D109: 713 - Izolace tepelné | J109: =J301 -> 0
D110: 721 - Zdravotechnika - vnitřní kanalizace | J110: =J313 -> 0
D111: 766 - Konstrukce truhlářské | J111: =J318 -> 0
D112: 767 - Konstrukce zámečnické | J112: =J323 -> 0
D113: 776 - Podlahy povlakové | J113: =J342 -> 0
D114: 783 - Dokončovací práce - nátěry | J114: =J355 -> 0
D115: M - Práce a dodávky M | J115: =J362 -> 0
D116: 23-M - Montáže potrubí | J116: =J363 -> 0
C123: SOUPIS PRACÍ
C125: Stavba:
E126: =E7 -> Zimní stadion Tábor - nová ledová plocha
C127: Objekt:
E128: =E9 -> D.1.1 - ASŘ
C130: Místo: | F130: =F12 | I130: Datum: | J130: =IF(J12="","",J12) -> 12. 2. 2024
C132: Zadavatel: | F132: =E15 | I132: Projektant: | J132: =E21
C133: Uchazeč: | F133: =IF(E18="","",E18) -> Vyplň údaj | I133: Zpracovatel: | J133: =E24
C135: PČ | D135: Typ | E135: Kód | F135: Popis | G135: MJ | H135: Množství | I135: J.cena [CZK] | J135: Cena celkem [CZK] | K135: Cenová soustava | N135: DPH | O135: J. Nh [h] | P135: Nh celkem [h] | Q135: J. hmotnost [t] | R135: Hmotnost celkem [t] | S135: J. suť [t] | T135: Suť Celkem [t]
C136: Náklady soupisu celkem | J136: =BK136 -> 0 | P136: =P137+P287+P362 -> 0 | R136: =R137+R287+R362 -> 804.9028 | T136: =T137+T287+T362 -> 57.11278 | AT136: D | AU136: -1 | BK136: =BK137+BK287+BK362 -> 0
D137: D | E137: HSV | F137: Práce a dodávky HSV | J137: =BK137 -> 0 | P137: =P138+P144+P157+P165+P175+P193+P212+P275+P284 -> 0 | R137: =R138+R144+R157+R165+R175+R193+R212+R275+R284 -> 799.49178 | T137: =T138+T144+T157+T165+T175+T193+T212+T275+T284 -> 54.7286 | AR137: 1 | AT137: D | AU137: 0 | AY137: ROZPOCET | BK137: =BK138+BK144+BK157+BK165+BK175+BK193+BK212+BK275+BK284 -> 0
D138: D | E138: 1 | F138: Zemní práce | J138: =BK138 -> 0 | P138: =SUM(P139:P143) -> 0 | R138: =SUM(R139:R143) -> 0 | T138: =SUM(T139:T143) -> 4.5 | AR138: 1 | AT138: D | AU138: 1 | AY138: ROZPOCET | BK138: =SUM(BK139:BK143) -> 0
C139: 1 | D139: K | E139: 113106191 | F139: Rozebrání vozovek ze silničních dílců se spárami zalitými živicí strojně pl do 50 m2 | G139: m2 | H139: 22.5 | J139: =ROUND(I139*H139,2) -> 0 | K139: CS ÚRS 2024 01 | N139: základní | P139: =O139*H139 -> 0 | Q139: 0 | R139: =Q139*H139 -> 0 | S139: 0 | T139: =S139*H139 -> 0 | AR139: 4 | AT139: K | AU139: 2 | AY139: ROZPOCET | BE139: =IF(N139="základní",J139,0) -> 0 | BF139: =IF(N139="snížená",J139,0) -> 0 | BG139: =IF(N139="zákl. přenesená",J139,0) -> 0 | BH139: =IF(N139="sníž. přenesená",J139,0) -> 0 | BI139: =IF(N139="nulová",J139,0) -> 0 | BJ139: 1 | BK139: =ROUND(I139*H139,2) -> 0 | BL139: 4 | BM139: -915516046
D140: PP | F140: Rozebrání dílců vozovek a ploch s přemístěním hmot na skládku na vzdálenost do 3 m nebo s naložením na dopravní prostředek, ze silničních dílců jakýchkoliv rozměrů, s ložem z kameniva nebo živice strojně plochy jednotlivě do 50 m2 se spárami zalitými živicí | AT140: PP | AU140: 2
D141: P | F141: Poznámka k položce:_x000D_ není počítáno se sutí - bude uskladněno na stavbě | AT141: P | AU141: 2
C142: 2 | D142: K | E142: 113107444 | F142: Odstranění podkladu živičných tl přes 150 do 200 mm při překopech strojně pl do 15 m2 | G142: m2 | H142: 10 | J142: =ROUND(I142*H142,2) -> 0 | K142: CS ÚRS 2024 01 | N142: základní | P142: =O142*H142 -> 0 | Q142: 0 | R142: =Q142*H142 -> 0 | S142: 0.45 | T142: =S142*H142 -> 4.5 | AR142: 4 | AT142: K | AU142: 2 | AY142: ROZPOCET | BE142: =IF(N142="základní",J142,0) -> 0 | BF142: =IF(N142="snížená",J142,0) -> 0 | BG142: =IF(N142="zákl. přenesená",J142,0) -> 0 | BH142: =IF(N142="sníž. přenesená",J142,0) -> 0 | BI142: =IF(N142="nulová",J142,0) -> 0 | BJ142: 1 | BK142: =ROUND(I142*H142,2) -> 0 | BL142: 4 | BM142: -1897702250
D143: PP | F143: Odstranění podkladů nebo krytů při překopech inženýrských sítí s přemístěním hmot na skládku ve vzdálenosti do 3 m nebo s naložením na dopravní prostředek strojně plochy jednotlivě do 15 m2 živičných, o tl. vrstvy přes 150 do 200 mm | AT143: PP | AU143: 2
D144: D | E144: 3 | F144: Svislé a kompletní konstrukce | J144: =BK144 -> 0 | P144: =SUM(P145:P156) -> 0 | R144: =SUM(R145:R156) -> 5.7232099 | T144: =SUM(T145:T156) -> 0 | AR144: 1 | AT144: D | AU144: 1 | AY144: ROZPOCET | BK144: =SUM(BK145:BK156) -> 0
C145: 3 | D145: K | E145: 311231116 | F145: Zdivo nosné z cihel dl 290 mm P7 až 15 na MC 5 nebo MC 10 | G145: m3 | H145: 0.024 | J145: =ROUND(I145*H145,2) -> 0 | K145: CS ÚRS 2024 01 | N145: základní | P145: =O145*H145 -> 0 | Q145: 1.78636 | R145: =Q145*H145 -> 0.04287264 | S145: 0 | T145: =S145*H145 -> 0 | AR145: 4 | AT145: K | AU145: 2 | AY145: ROZPOCET | BE145: =IF(N145="základní",J145,0) -> 0 | BF145: =IF(N145="snížená",J145,0) -> 0 | BG145: =IF(N145="zákl. přenesená",J145,0) -> 0 | BH145: =IF(N145="sníž. přenesená",J145,0) -> 0 | BI145: =IF(N145="nulová",J145,0) -> 0 | BJ145: 1 | BK145: =ROUND(I145*H145,2) -> 0 | BL145: 4 | BM145: -1143105227
D146: PP | F146: Zdivo z cihel pálených nosné z cihel plných dl. 290 mm P 7 až 15, na maltu MC-5 nebo MC-10 | AT146: PP | AU146: 2
C147: 4 | D147: K | E147: 311311961 | F147: Nosná zeď z betonu prostého tř. C 25/30 | G147: m3 | H147: 2.231 | J147: =ROUND(I147*H147,2) -> 0 | K147: CS ÚRS 2024 01 | N147: základní | P147: =O147*H147 -> 0 | Q147: 2.50187 | R147: =Q147*H147 -> 5.581672 | S147: 0 | T147: =S147*H147 -> 0 | AR147: 4 | AT147: K | AU147: 2 | AY147: ROZPOCET | BE147: =IF(N147="základní",J147,0) -> 0 | BF147: =IF(N147="snížená",J147,0) -> 0 | BG147: =IF(N147="zákl. přenesená",J147,0) -> 0 | BH147: =IF(N147="sníž. přenesená",J147,0) -> 0 | BI147: =IF(N147="nulová",J147,0) -> 0 | BJ147: 1 | BK147: =ROUND(I147*H147,2) -> 0 | BL147: 4 | BM147: 1409962211
D148: PP | F148: Nadzákladové zdi z betonu prostého nosné bez zvláštních nároků na vliv prostředí tř. C 25/30 | AT148: PP | AU148: 2
C149: 5 | D149: K | E149: 311351121 | F149: Zřízení oboustranného bednění nosných nadzákladových zdí | G149: m2 | H149: 18.075 | J149: =ROUND(I149*H149,2) -> 0 | K149: CS ÚRS 2024 01 | N149: základní | P149: =O149*H149 -> 0 | Q149: 0.00275 | R149: =Q149*H149 -> 0.04970625 | S149: 0 | T149: =S149*H149 -> 0 | AR149: 4 | AT149: K | AU149: 2 | AY149: ROZPOCET | BE149: =IF(N149="základní",J149,0) -> 0 | BF149: =IF(N149="snížená",J149,0) -> 0 | BG149: =IF(N149="zákl. přenesená",J149,0) -> 0 | BH149: =IF(N149="sníž. přenesená",J149,0) -> 0 | BI149: =IF(N149="nulová",J149,0) -> 0 | BJ149: 1 | BK149: =ROUND(I149*H149,2) -> 0 | BL149: 4 | BM149: 1325064325
D150: PP | F150: Bednění nadzákladových zdí nosných rovné oboustranné za každou stranu zřízení | AT150: PP | AU150: 2
C151: 6 | D151: K | E151: 311351122 | F151: Odstranění oboustranného bednění nosných nadzákladových zdí | G151: m2 | H151: 18.075 | J151: =ROUND(I151*H151,2) -> 0 | K151: CS ÚRS 2024 01 | N151: základní | P151: =O151*H151 -> 0 | Q151: 0 | R151: =Q151*H151 -> 0 | S151: 0 | T151: =S151*H151 -> 0 | AR151: 4 | AT151: K | AU151: 2 | AY151: ROZPOCET | BE151: =IF(N151="základní",J151,0) -> 0 | BF151: =IF(N151="snížená",J151,0) -> 0 | BG151: =IF(N151="zákl. přenesená",J151,0) -> 0 | BH151: =IF(N151="sníž. přenesená",J151,0) -> 0 | BI151: =IF(N151="nulová",J151,0) -> 0 | BJ151: 1 | BK151: =ROUND(I151*H151,2) -> 0 | BL151: 4 | BM151: 368341923
D152: PP | F152: Bednění nadzákladových zdí nosných rovné oboustranné za každou stranu odstranění | AT152: PP | AU152: 2
C153: 7 | D153: K | E153: 311351311 | F153: Zřízení jednostranného bednění nosných nadzákladových zdí | G153: m2 | H153: 14.15 | J153: =ROUND(I153*H153,2) -> 0 | K153: CS ÚRS 2024 01 | N153: základní | P153: =O153*H153 -> 0 | Q153: 0.00346 | R153: =Q153*H153 -> 0.048959 | S153: 0 | T153: =S153*H153 -> 0 | AR153: 4 | AT153: K | AU153: 2 | AY153: ROZPOCET | BE153: =IF(N153="základní",J153,0) -> 0 | BF153: =IF(N153="snížená",J153,0) -> 0 | BG153: =IF(N153="zákl. přenesená",J153,0) -> 0 | BH153: =IF(N153="sníž. přenesená",J153,0) -> 0 | BI153: =IF(N153="nulová",J153,0) -> 0 | BJ153: 1 | BK153: =ROUND(I153*H153,2) -> 0 | BL153: 4 | BM153: 1150337286
D154: PP | F154: Bednění nadzákladových zdí nosných rovné jednostranné zřízení | AT154: PP | AU154: 2
C155: 8 | D155: K | E155: 311351312 | F155: Odstranění jednostranného bednění nosných nadzákladových zdí | G155: m2 | H155: 14.15 | J155: =ROUND(I155*H155,2) -> 0 | K155: CS ÚRS 2024 01 | N155: základní | P155: =O155*H155 -> 0 | Q155: 0 | R155: =Q155*H155 -> 0 | S155: 0 | T155: =S155*H155 -> 0 | AR155: 4 | AT155: K | AU155: 2 | AY155: ROZPOCET | BE155: =IF(N155="základní",J155,0) -> 0 | BF155: =IF(N155="snížená",J155,0) -> 0 | BG155: =IF(N155="zákl. přenesená",J155,0) -> 0 | BH155: =IF(N155="sníž. přenesená",J155,0) -> 0 | BI155: =IF(N155="nulová",J155,0) -> 0 | BJ155: 1 | BK155: =ROUND(I155*H155,2) -> 0 | BL155: 4 | BM155: -1312991076
D156: PP | F156: Bednění nadzákladových zdí nosných rovné jednostranné odstranění | AT156: PP | AU156: 2
D157: D | E157: 4 | F157: Vodorovné konstrukce | J157: =BK157 -> 0 | P157: =SUM(P158:P164) -> 0 | R157: =SUM(R158:R164) -> 1.1486 | T157: =SUM(T158:T164) -> 0 | AR157: 1 | AT157: D | AU157: 1 | AY157: ROZPOCET | BK157: =SUM(BK158:BK164) -> 0
C158: 9 | D158: K | E158: 411354249 | F158: Bednění stropů ztracené z hraněných trapézových vln v 60 mm plech pozinkovaný tl 1,0 mm | G158: m2 | H158: 49 | J158: =ROUND(I158*H158,2) -> 0 | K158: CS ÚRS 2024 01 | N158: základní | P158: =O158*H158 -> 0 | Q158: 0.01053 | R158: =Q158*H158 -> 0.51597 | S158: 0 | T158: =S158*H158 -> 0 | AR158: 4 | AT158: K | AU158: 2 | AY158: ROZPOCET | BE158: =IF(N158="základní",J158,0) -> 0 | BF158: =IF(N158="snížená",J158,0) -> 0 | BG158: =IF(N158="zákl. přenesená",J158,0) -> 0 | BH158: =IF(N158="sníž. přenesená",J158,0) -> 0 | BI158: =IF(N158="nulová",J158,0) -> 0 | BJ158: 1 | BK158: =ROUND(I158*H158,2) -> 0 | BL158: 4 | BM158: 1211966022
D159: PP | F159: Bednění stropů ztracené ocelové žebrované ze širokých tenkostěnných ohýbaných profilů (hraněných trapézových vln), bez úpravy povrchu otevřeného podhledu, bez podpěrné konstrukce, s osazením nasucho na zdech do připravených ozubů, popř. na rovných zdech, trámech, průvlacích, do traverz s povrchem pozinkovaným, výšky vln 60 mm, tl. plechu 1,00 mm | AT159: PP | AU159: 2
D160: P | F160: Poznámka k položce:_x000D_ např. trapéz 55/250 | AT160: P | AU160: 2
C161: 10 | D161: K | E161: 413941123 | F161: Osazování ocelových válcovaných nosníků stropů I, IE, U, UE nebo L č. 14 až 22 nebo výšky přes 120 do 220 mm | G161: t | H161: 0.622 | J161: =ROUND(I161*H161,2) -> 0 | K161: CS ÚRS 2024 01 | N161: základní | P161: =O161*H161 -> 0 | Q161: 0.01709 | R161: =Q161*H161 -> 0.01062998 | S161: 0 | T161: =S161*H161 -> 0 | AR161: 4 | AT161: K | AU161: 2 | AY161: ROZPOCET | BE161: =IF(N161="základní",J161,0) -> 0 | BF161: =IF(N161="snížená",J161,0) -> 0 | BG161: =IF(N161="zákl. přenesená",J161,0) -> 0 | BH161: =IF(N161="sníž. přenesená",J161,0) -> 0 | BI161: =IF(N161="nulová",J161,0) -> 0 | BJ161: 1 | BK161: =ROUND(I161*H161,2) -> 0 | BL161: 4 | BM161: -48923356
D162: PP | F162: Osazování ocelových válcovaných nosníků ve stropech I nebo IE nebo U nebo UE nebo L č. 14 až 22 nebo výšky přes 120 do 220 mm | AT162: PP | AU162: 2
C163: 11 | D163: M | E163: 13010716 | F163: ocel profilová jakost S235JR (11 375) průřez I (IPN) 140 | G163: t | H163: 0.622 | J163: =ROUND(I163*H163,2) -> 0 | K163: CS ÚRS 2024 01 | N163: základní | P163: =O163*H163 -> 0 | Q163: 1 | R163: =Q163*H163 -> 0.622 | S163: 0 | T163: =S163*H163 -> 0 | AR163: 8 | AT163: M | AU163: 2 | AY163: ROZPOCET | BE163: =IF(N163="základní",J163,0) -> 0 | BF163: =IF(N163="snížená",J163,0) -> 0 | BG163: =IF(N163="zákl. přenesená",J163,0) -> 0 | BH163: =IF(N163="sníž. přenesená",J163,0) -> 0 | BI163: =IF(N163="nulová",J163,0) -> 0 | BJ163: 1 | BK163: =ROUND(I163*H163,2) -> 0 | BL163: 4 | BM163: -1334219102
D164: PP | F164: ocel profilová jakost S235JR (11 375) průřez I (IPN) 140 | AT164: PP | AU164: 2
D165: D | E165: 5 | F165: Komunikace pozemní | J165: =BK165 -> 0 | P165: =SUM(P166:P174) -> 0 | R165: =SUM(R166:R174) -> 15.07005 | T165: =SUM(T166:T174) -> 0 | AR165: 1 | AT165: D | AU165: 1 | AY165: ROZPOCET | BK165: =SUM(BK166:BK174) -> 0
C166: 12 | D166: K | E166: 584121109 | F166: Osazení silničních dílců z ŽB do lože z kameniva těženého tl 40 mm plochy do 50 m2 | G166: m2 | H166: 31.5 | J166: =ROUND(I166*H166,2) -> 0 | K166: CS ÚRS 2024 01 | N166: základní | P166: =O166*H166 -> 0 | Q166: 0.0835 | R166: =Q166*H166 -> 2.63025 | S166: 0 | T166: =S166*H166 -> 0 | AR166: 4 | AT166: K | AU166: 2 | AY166: ROZPOCET | BE166: =IF(N166="základní",J166,0) -> 0 | BF166: =IF(N166="snížená",J166,0) -> 0 | BG166: =IF(N166="zákl. přenesená",J166,0) -> 0 | BH166: =IF(N166="sníž. přenesená",J166,0) -> 0 | BI166: =IF(N166="nulová",J166,0) -> 0 | BJ166: 1 | BK166: =ROUND(I166*H166,2) -> 0 | BL166: 4 | BM166: -1694341630
...

Sheet Chla - Technologie chlazení
AT2: {305b7b67-9b61-42b6-a51c-c8e81dc4750a}
AT3: 2
D4: KRYCÍ LIST SOUPISU PRACÍ | M4: v --- níže se nacházejí doplnkové a pomocné údaje k sestavám --- v | AT4: False
D6: Stavba:
E7: ='Rekapitulace stavby'!K6 -> Zimní stadion Tábor - nová ledová plocha
D8: Objekt:
E9: Chla - Technologie chlazení
D11: KSO: | I11: CC-CZ:
D12: Místo: | I12: Datum: | J12: ='Rekapitulace stavby'!AN8 -> 12. 2. 2024
D14: Zadavatel: | I14: IČ: | J14: =IF('Rekapitulace stavby'!AN10="","",'Rekapitulace stavby'!AN10)
E15: =IF('Rekapitulace stavby'!E11="","",'Rekapitulace stavby'!E11) | I15: DIČ: | J15: =IF('Rekapitulace stavby'!AN11="","",'Rekapitulace stavby'!AN11)
D17: Uchazeč: | I17: IČ: | J17: ='Rekapitulace stavby'!AN13 -> Vyplň údaj
E18: ='Rekapitulace stavby'!E14 -> Vyplň údaj | I18: DIČ: | J18: ='Rekapitulace stavby'!AN14 -> Vyplň údaj
D20: Projektant: | I20: IČ: | J20: =IF('Rekapitulace stavby'!AN16="","",'Rekapitulace stavby'!AN16)
E21: =IF('Rekapitulace stavby'!E17="","",'Rekapitulace stavby'!E17) | I21: DIČ: | J21: =IF('Rekapitulace stavby'!AN17="","",'Rekapitulace stavby'!AN17)
D23: Zpracovatel: | I23: IČ: | J23: =IF('Rekapitulace stavby'!AN19="","",'Rekapitulace stavby'!AN19)
E24: =IF('Rekapitulace stavby'!E20="","",'Rekapitulace stavby'!E20) | I24: DIČ: | J24: =IF('Rekapitulace stavby'!AN20="","",'Rekapitulace stavby'!AN20)
D26: Poznámka:
D30: Cena bez DPH | J30: =ROUND(J125, 2) -> 0
F32: Základ daně | I32: Sazba daně | J32: Výše daně
D33: DPH | E33: základní | F33: =ROUND((SUM(BE125:BE246)), 2) -> 0 | I33: 0.21 | J33: =ROUND(((SUM(BE125:BE246))*I33), 2) -> 0
E34: snížená | F34: =ROUND((SUM(BF125:BF246)), 2) -> 0 | I34: 0.12 | J34: =ROUND(((SUM(BF125:BF246))*I34), 2) -> 0
E35: zákl. přenesená | F35: =ROUND((SUM(BG125:BG246)), 2) -> 0 | I35: 0.21 | J35: =0 -> 0
E36: sníž. přenesená | F36: =ROUND((SUM(BH125:BH246)), 2) -> 0 | I36: 0.12 | J36: =0 -> 0
E37: nulová | F37: =ROUND((SUM(BI125:BI246)), 2) -> 0 | I37: 0 | J37: =0 -> 0
D39: Cena s DPH | G39: v | H39: CZK | J39: =SUM(J30:J37) -> 0
D50: Projektant | G50: Zpracovatel
D61: Datum a podpis: | F61: Razítko | G61: Datum a podpis: | J61: Razítko
D65: Objednavatel | G65: Uchazeč
D76: Datum a podpis: | F76: Razítko | G76: Datum a podpis: | J76: Razítko
C82: REKAPITULACE ČLENĚNÍ SOUPISU PRACÍ
C84: Stavba:
E85: =E7 -> Zimní stadion Tábor - nová ledová plocha
C86: Objekt:
E87: =E9 -> Chla - Technologie chlazení
C89: Místo: | F89: =F12 | I89: Datum: | J89: =IF(J12="","",J12) -> 12. 2. 2024
C91: Zadavatel: | F91: =E15 | I91: Projektant: | J91: =E21
C92: Uchazeč: | F92: =IF(E18="","",E18) -> Vyplň údaj | I92: Zpracovatel: | J92: =E24
C94: Kód dílu - Popis | J94: Cena celkem [CZK]
C96: Náklady ze soupisu prací | J96: =J125 -> 0 | AU96: -1
D97: D1 - Armatury a automatika NH3 | J97: =J126 -> 0
D98: D2 - Armatury a automatika NH3 | J98: =J127 -> 0
D99: D3 - Montážní materiál | J99: =J150 -> 0
D100: D4 - Potrubní rozvody - ocel tř.12 | J100: =J151 -> 0
D101: D5 - Hutní materiál 11373.0 pro kotvení potrubí (technologický kanál) | J101: =J194 -> 0
D102: D6 - Objímky pro těžké uložení a závěsný materiál | J102: =J201 -> 0
D103: D7 - Nátěrový systém splnující ČSN EN ISO 12944-1 až 8 | J103: =J210 -> 0
D104: D8 - Tepelné izolace na bázi syntetického kaučuku ≥ 10.000 μ, λ=0,034 W/(m•K) | J104: =J217 -> 0
D105: D9 - Ostatní náklady | J105: =J232 -> 0
C112: SOUPIS PRACÍ
C114: Stavba:
E115: =E7 -> Zimní stadion Tábor - nová ledová plocha
C116: Objekt:
E117: =E9 -> Chla - Technologie chlazení
C119: Místo: | F119: =F12 | I119: Datum: | J119: =IF(J12="","",J12) -> 12. 2. 2024
C121: Zadavatel: | F121: =E15 | I121: Projektant: | J121: =E21
C122: Uchazeč: | F122: =IF(E18="","",E18) -> Vyplň údaj | I122: Zpracovatel: | J122: =E24
C124: PČ | D124: Typ | E124: Kód | F124: Popis | G124: MJ | H124: Množství | I124: J.cena [CZK] | J124: Cena celkem [CZK] | K124: Cenová soustava | N124: DPH | O124: J. Nh [h] | P124: Nh celkem [h] | Q124: J. hmotnost [t] | R124: Hmotnost celkem [t] | S124: J. suť [t] | T124: Suť Celkem [t]
C125: Náklady soupisu celkem | J125: =BK125 -> 0 | P125: =P126+P150+P232 -> 0 | R125: =R126+R150+R232 -> 0 | T125: =T126+T150+T232 -> 0 | AT125: D | AU125: -1 | BK125: =BK126+BK150+BK232 -> 0
D126: D | E126: D1 | F126: Armatury a automatika NH3 | J126: =BK126 -> 0 | P126: =P127 -> 0 | R126: =R127 -> 0 | T126: =T127 -> 0 | AR126: 1 | AT126: D | AU126: 0 | AY126: ROZPOCET | BK126: =BK127 -> 0
D127: D | E127: D2 | F127: Armatury a automatika NH3 | J127: =BK127 -> 0 | P127: =SUM(P128:P149) -> 0 | R127: =SUM(R128:R149) -> 0 | T127: =SUM(T128:T149) -> 0 | AR127: 1 | AT127: D | AU127: 1 | AY127: ROZPOCET | BK127: =SUM(BK128:BK149) -> 0
C128: 1 | D128: K | E128: Položka 1 | F128: Ventil servisní uzavírací pro NH3, navařovací, rohový, včetně záslepovací matice, DN15, PN25 | G128: ks | H128: 7 | J128: =ROUND(I128*H128,2) -> 0 | N128: základní | P128: =O128*H128 -> 0 | Q128: 0 | R128: =Q128*H128 -> 0 | S128: 0 | T128: =S128*H128 -> 0 | AR128: 4 | AT128: K | AU128: 2 | AY128: ROZPOCET | BE128: =IF(N128="základní",J128,0) -> 0 | BF128: =IF(N128="snížená",J128,0) -> 0 | BG128: =IF(N128="zákl. přenesená",J128,0) -> 0 | BH128: =IF(N128="sníž. přenesená",J128,0) -> 0 | BI128: =IF(N128="nulová",J128,0) -> 0 | BJ128: 1 | BK128: =ROUND(I128*H128,2) -> 0 | BL128: 4 | BM128: 2
D129: PP | F129: Ventil servisní uzavírací, pro NH3, navařovací, rohový, včetně záslepovací matice, DN15, PN25 | AT129: PP | AU129: 2
C130: 2 | D130: K | E130: Položka 2 | F130: Ventil uzavírací pro NH3, přímý, navařovací včetně krytky, DN125, PN25 | G130: ks | H130: 1 | J130: =ROUND(I130*H130,2) -> 0 | N130: základní | P130: =O130*H130 -> 0 | Q130: 0 | R130: =Q130*H130 -> 0 | S130: 0 | T130: =S130*H130 -> 0 | AR130: 4 | AT130: K | AU130: 2 | AY130: ROZPOCET | BE130: =IF(N130="základní",J130,0) -> 0 | BF130: =IF(N130="snížená",J130,0) -> 0 | BG130: =IF(N130="zákl. přenesená",J130,0) -> 0 | BH130: =IF(N130="sníž. přenesená",J130,0) -> 0 | BI130: =IF(N130="nulová",J130,0) -> 0 | BJ130: 1 | BK130: =ROUND(I130*H130,2) -> 0 | BL130: 4 | BM130: 4
D131: PP | F131: Ventil uzavírací pro NH3, přímý, navařovací včetně krytky, DN125, PN25 | AT131: PP | AU131: 2
C132: 3 | D132: K | E132: Položka 3 | F132: Ventil uzavírací pro NH3, přímý, navařovací včetně krytky, DN40, PN25 | G132: ks | H132: 1 | J132: =ROUND(I132*H132,2) -> 0 | N132: základní | P132: =O132*H132 -> 0 | Q132: 0 | R132: =Q132*H132 -> 0 | S132: 0 | T132: =S132*H132 -> 0 | AR132: 4 | AT132: K | AU132: 2 | AY132: ROZPOCET | BE132: =IF(N132="základní",J132,0) -> 0 | BF132: =IF(N132="snížená",J132,0) -> 0 | BG132: =IF(N132="zákl. přenesená",J132,0) -> 0 | BH132: =IF(N132="sníž. přenesená",J132,0) -> 0 | BI132: =IF(N132="nulová",J132,0) -> 0 | BJ132: 1 | BK132: =ROUND(I132*H132,2) -> 0 | BL132: 4 | BM132: 6
D133: PP | F133: Ventil uzavírací pro NH3, přímý, navařovací včetně krytky, DN40, PN25 | AT133: PP | AU133: 2
C134: 4 | D134: K | E134: Položka 4 | F134: Ventil uzavírací pro NH3, rohový, navařovací včetně krytky, DN15, PN25 | G134: ks | H134: 7 | J134: =ROUND(I134*H134,2) -> 0 | N134: základní | P134: =O134*H134 -> 0 | Q134: 0 | R134: =Q134*H134 -> 0 | S134: 0 | T134: =S134*H134 -> 0 | AR134: 4 | AT134: K | AU134: 2 | AY134: ROZPOCET | BE134: =IF(N134="základní",J134,0) -> 0 | BF134: =IF(N134="snížená",J134,0) -> 0 | BG134: =IF(N134="zákl. přenesená",J134,0) -> 0 | BH134: =IF(N134="sníž. přenesená",J134,0) -> 0 | BI134: =IF(N134="nulová",J134,0) -> 0 | BJ134: 1 | BK134: =ROUND(I134*H134,2) -> 0 | BL134: 4 | BM134: 8
D135: PP | F135: Ventil uzavírací pro NH3, rohový, navařovací včetně krytky, DN15, PN25 | AT135: PP | AU135: 2
C136: 5 | D136: K | E136: Položka 5 | F136: Rychlouzavírací odolejovací ventil, rohový, navařovací, včetně přípojky na hadici, DN15, PN25 | G136: ks | H136: 7 | J136: =ROUND(I136*H136,2) -> 0 | N136: základní | P136: =O136*H136 -> 0 | Q136: 0 | R136: =Q136*H136 -> 0 | S136: 0 | T136: =S136*H136 -> 0 | AR136: 4 | AT136: K | AU136: 2 | AY136: ROZPOCET | BE136: =IF(N136="základní",J136,0) -> 0 | BF136: =IF(N136="snížená",J136,0) -> 0 | BG136: =IF(N136="zákl. přenesená",J136,0) -> 0 | BH136: =IF(N136="sníž. přenesená",J136,0) -> 0 | BI136: =IF(N136="nulová",J136,0) -> 0 | BJ136: 1 | BK136: =ROUND(I136*H136,2) -> 0 | BL136: 4 | BM136: 10
D137: PP | F137: Rychlouzavírací odolejovací ventil, rohový, navařovací, včetně přípojky na hadici, DN15, PN25 | AT137: PP | AU137: 2
C138: 6 | D138: K | E138: Položka 6 | F138: Ventil regulační pro NH3, přímý, navařovací, včetně krytky, DN20, PN25 | G138: ks | H138: 7 | J138: =ROUND(I138*H138,2) -> 0 | N138: základní | P138: =O138*H138 -> 0 | Q138: 0 | R138: =Q138*H138 -> 0 | S138: 0 | T138: =S138*H138 -> 0 | AR138: 4 | AT138: K | AU138: 2 | AY138: ROZPOCET | BE138: =IF(N138="základní",J138,0) -> 0 | BF138: =IF(N138="snížená",J138,0) -> 0 | BG138: =IF(N138="zákl. přenesená",J138,0) -> 0 | BH138: =IF(N138="sníž. přenesená",J138,0) -> 0 | BI138: =IF(N138="nulová",J138,0) -> 0 | BJ138: 1 | BK138: =ROUND(I138*H138,2) -> 0 | BL138: 4 | BM138: 12
D139: PP | F139: Ventil regulační pro NH3, přímý, navařovací, včetně krytky DN20, PN25 | AT139: PP | AU139: 2
C140: 7 | D140: K | E140: Položka 7 | F140: Nástřikový ventil pro čpavek, navařovací, cívka 12W; 230 V AC, IP67, DN 25 + EVM | G140: ks | H140: 1 | J140: =ROUND(I140*H140,2) -> 0 | N140: základní | P140: =O140*H140 -> 0 | Q140: 0 | R140: =Q140*H140 -> 0 | S140: 0 | T140: =S140*H140 -> 0 | AR140: 4 | AT140: K | AU140: 2 | AY140: ROZPOCET | BE140: =IF(N140="základní",J140,0) -> 0 | BF140: =IF(N140="snížená",J140,0) -> 0 | BG140: =IF(N140="zákl. přenesená",J140,0) -> 0 | BH140: =IF(N140="sníž. přenesená",J140,0) -> 0 | BI140: =IF(N140="nulová",J140,0) -> 0 | BJ140: 1 | BK140: =ROUND(I140*H140,2) -> 0 | BL140: 4 | BM140: 14
D141: PP | F141: Nástřikový ventil pro čpavek, navařovací, cívka 12W; 230 V AC, IP67, DN 25 + EVM | AT141: PP | AU141: 2
C142: 8 | D142: K | E142: Položka 8 | F142: Tlakoměrový kohout vč. nátrubkové přípojky, připojení G1/2" - DIN 16 262, uhlíková ocel, G 1/2" | G142: ks | H142: 1 | J142: =ROUND(I142*H142,2) -> 0 | N142: základní | P142: =O142*H142 -> 0 | Q142: 0 | R142: =Q142*H142 -> 0 | S142: 0 | T142: =S142*H142 -> 0 | AR142: 4 | AT142: K | AU142: 2 | AY142: ROZPOCET | BE142: =IF(N142="základní",J142,0) -> 0 | BF142: =IF(N142="snížená",J142,0) -> 0 | BG142: =IF(N142="zákl. přenesená",J142,0) -> 0 | BH142: =IF(N142="sníž. přenesená",J142,0) -> 0 | BI142: =IF(N142="nulová",J142,0) -> 0 | BJ142: 1 | BK142: =ROUND(I142*H142,2) -> 0 | BL142: 4 | BM142: 16
D143: PP | F143: Tlakoměrový kohout vč. nátrubkové přípojky, připojení G1/2" - DIN 16 262, uhlíková ocel, G 1/2" | AT143: PP | AU143: 2
C144: 9 | D144: K | E144: Položka 9 | F144: Kondenzační smyčka zahnutá, přivařovací / G1/2", uhlíková ocel, G 1/2" | G144: ks | H144: 1 | J144: =ROUND(I144*H144,2) -> 0 | N144: základní | P144: =O144*H144 -> 0 | Q144: 0 | R144: =Q144*H144 -> 0 | S144: 0 | T144: =S144*H144 -> 0 | AR144: 4 | AT144: K | AU144: 2 | AY144: ROZPOCET | BE144: =IF(N144="základní",J144,0) -> 0 | BF144: =IF(N144="snížená",J144,0) -> 0 | BG144: =IF(N144="zákl. přenesená",J144,0) -> 0 | BH144: =IF(N144="sníž. přenesená",J144,0) -> 0 | BI144: =IF(N144="nulová",J144,0) -> 0 | BJ144: 1 | BK144: =ROUND(I144*H144,2) -> 0 | BL144: 4 | BM144: 18
D145: PP | F145: Kondenzační smyčka zahnutá, přivařovací / G1/2", uhlíková ocel, G 1/2" | AT145: PP | AU145: 2
C146: 10 | D146: K | E146: Položka 10 | F146: Tlakoměr chemický pro NH3, 0 – 1,6 MPa, průměr 100 mm, spodní přípoj G1/2", s glycerinovou náplní, nerezové provedení, G 1/2" | G146: ks | H146: 1 | J146: =ROUND(I146*H146,2) -> 0 | N146: základní | P146: =O146*H146 -> 0 | Q146: 0 | R146: =Q146*H146 -> 0 | S146: 0 | T146: =S146*H146 -> 0 | AR146: 4 | AT146: K | AU146: 2 | AY146: ROZPOCET | BE146: =IF(N146="základní",J146,0) -> 0 | BF146: =IF(N146="snížená",J146,0) -> 0 | BG146: =IF(N146="zákl. přenesená",J146,0) -> 0 | BH146: =IF(N146="sníž. přenesená",J146,0) -> 0 | BI146: =IF(N146="nulová",J146,0) -> 0 | BJ146: 1 | BK146: =ROUND(I146*H146,2) -> 0 | BL146: 4 | BM146: 20
D147: PP | F147: Tlakoměr chemický pro NH3, rozsah 0 – 1,6 MPa, průměr 100 mm, spodní přípoj G1/2", s glycerinovou náplní, nerezové provedení, G 1/2" | AT147: PP | AU147: 2
C148: 11 | D148: K | E148: Položka 11 | F148: Instalace nových teplotních čidel a kabeláže | G148: sada | H148: 4 | J148: =ROUND(I148*H148,2) -> 0 | N148: základní | P148: =O148*H148 -> 0 | Q148: 0 | R148: =Q148*H148 -> 0 | S148: 0 | T148: =S148*H148 -> 0 | AR148: 4 | AT148: K | AU148: 2 | AY148: ROZPOCET | BE148: =IF(N148="základní",J148,0) -> 0 | BF148: =IF(N148="snížená",J148,0) -> 0 | BG148: =IF(N148="zákl. přenesená",J148,0) -> 0 | BH148: =IF(N148="sníž. přenesená",J148,0) -> 0 | BI148: =IF(N148="nulová",J148,0) -> 0 | BJ148: 1 | BK148: =ROUND(I148*H148,2) -> 0 | BL148: 4 | BM148: 22
D149: PP | F149: Instalace nových teplotních čidel a kabeláže | AT149: PP | AU149: 2
D150: D | E150: D3 | F150: Montážní materiál | J150: =BK150 -> 0 | P150: =P151+P194+P201+P210+P217 -> 0 | R150: =R151+R194+R201+R210+R217 -> 0 | T150: =T151+T194+T201+T210+T217 -> 0 | AR150: 1 | AT150: D | AU150: 0 | AY150: ROZPOCET | BK150: =BK151+BK194+BK201+BK210+BK217 -> 0
D151: D | E151: D4 | F151: Potrubní rozvody - ocel tř.12 | J151: =BK151 -> 0 | P151: =SUM(P152:P193) -> 0 | R151: =SUM(R152:R193) -> 0 | T151: =SUM(T152:T193) -> 0 | AR151: 1 | AT151: D | AU151: 1 | AY151: ROZPOCET | BK151: =SUM(BK152:BK193) -> 0
C152: 12 | D152: K | E152: Položka 12 | F152: Trubka, bezešvá Ø 139,7 x 4,5, DIN 2448, materiál 12 021.1 (P235GH) | G152: m | H152: 54 | J152: =ROUND(I152*H152,2) -> 0 | N152: základní | P152: =O152*H152 -> 0 | Q152: 0 | R152: =Q152*H152 -> 0 | S152: 0 | T152: =S152*H152 -> 0 | AR152: 4 | AT152: K | AU152: 2 | AY152: ROZPOCET | BE152: =IF(N152="základní",J152,0) -> 0 | BF152: =IF(N152="snížená",J152,0) -> 0 | BG152: =IF(N152="zákl. přenesená",J152,0) -> 0 | BH152: =IF(N152="sníž. přenesená",J152,0) -> 0 | BI152: =IF(N152="nulová",J152,0) -> 0 | BJ152: 1 | BK152: =ROUND(I152*H152,2) -> 0 | BL152: 4 | BM152: 24
D153: PP | F153: Trubka, bezešvá Ø 139,7 x 4,5, DIN 2448, materiál 12 021.1 (P235GH) | AT153: PP | AU153: 2
C154: 13 | D154: K | E154: Položka 13 | F154: Trubka, bezešvá Ø 48,3 x 2,6, DIN 2448, materiál 12 021.1 (P235GH) | G154: m | H154: 84 | J154: =ROUND(I154*H154,2) -> 0 | N154: základní | P154: =O154*H154 -> 0 | Q154: 0 | R154: =Q154*H154 -> 0 | S154: 0 | T154: =S154*H154 -> 0 | AR154: 4 | AT154: K | AU154: 2 | AY154: ROZPOCET | BE154: =IF(N154="základní",J154,0) -> 0 | BF154: =IF(N154="snížená",J154,0) -> 0 | BG154: =IF(N154="zákl. přenesená",J154,0) -> 0 | BH154: =IF(N154="sníž. přenesená",J154,0) -> 0 | BI154: =IF(N154="nulová",J154,0) -> 0 | BJ154: 1 | BK154: =ROUND(I154*H154,2) -> 0 | BL154: 4 | BM154: 26
D155: PP | F155: Trubka, bezešvá Ø 48,3 x 2,6, DIN 2448, materiál 12 021.1 (P235GH) | AT155: PP | AU155: 2
C156: 14 | D156: K | E156: Položka 14 | F156: Trubka, bezešvá Ø 26,9 x 2,6, DIN 2448, materiál 12 021.1 (P235GH) | G156: m | H156: 23200 | J156: =ROUND(I156*H156,2) -> 0 | N156: základní | P156: =O156*H156 -> 0 | Q156: 0 | R156: =Q156*H156 -> 0 | S156: 0 | T156: =S156*H156 -> 0 | AR156: 4 | AT156: K | AU156: 2 | AY156: ROZPOCET | BE156: =IF(N156="základní",J156,0) -> 0 | BF156: =IF(N156="snížená",J156,0) -> 0 | BG156: =IF(N156="zákl. přenesená",J156,0) -> 0 | BH156: =IF(N156="sníž. přenesená",J156,0) -> 0 | BI156: =IF(N156="nulová",J156,0) -> 0 | BJ156: 1 | BK156: =ROUND(I156*H156,2) -> 0 | BL156: 4 | BM156: 28
D157: PP | F157: Trubka, bezešvá Ø 26,9 x 2,6, DIN 2448, materiál 12 021.1 (P235GH) | AT157: PP | AU157: 2
C158: 15 | D158: K | E158: Položka 15 | F158: Trubka, bezešvá Ø 21,3 x 2,0, DIN 2448, materiál 12 021.1 (P235GH) | G158: m | H158: 6 | J158: =ROUND(I158*H158,2) -> 0 | N158: základní | P158: =O158*H158 -> 0 | Q158: 0 | R158: =Q158*H158 -> 0 | S158: 0 | T158: =S158*H158 -> 0 | AR158: 4 | AT158: K | AU158: 2 | AY158: ROZPOCET | BE158: =IF(N158="základní",J158,0) -> 0 | BF158: =IF(N158="snížená",J158,0) -> 0 | BG158: =IF(N158="zákl. přenesená",J158,0) -> 0 | BH158: =IF(N158="sníž. přenesená",J158,0) -> 0 | BI158: =IF(N158="nulová",J158,0) -> 0 | BJ158: 1 | BK158: =ROUND(I158*H158,2) -> 0 | BL158: 4 | BM158: 30
D159: PP | F159: Trubka, bezešvá Ø 21,3 x 2,0, DIN 2448, materiál 12 021.1 (P235GH) | AT159: PP | AU159: 2
C160: 16 | D160: K | E160: Položka 16 | F160: Trubka, bezešvá Ø 10,2 x 2,0, DIN 2448, materiál 12 021.1 (P235GH) | G160: m | H160: 246 | J160: =ROUND(I160*H160,2) -> 0 | N160: základní | P160: =O160*H160 -> 0 | Q160: 0 | R160: =Q160*H160 -> 0 | S160: 0 | T160: =S160*H160 -> 0 | AR160: 4 | AT160: K | AU160: 2 | AY160: ROZPOCET | BE160: =IF(N160="základní",J160,0) -> 0 | BF160: =IF(N160="snížená",J160,0) -> 0 | BG160: =IF(N160="zákl. přenesená",J160,0) -> 0 | BH160: =IF(N160="sníž. přenesená",J160,0) -> 0 | BI160: =IF(N160="nulová",J160,0) -> 0 | BJ160: 1 | BK160: =ROUND(I160*H160,2) -> 0 | BL160: 4 | BM160: 32
D161: PP | F161: Trubka, bezešvá Ø 10,2 x 2,0 DIN 2448, materiál 12 021.1 (P235GH) | AT161: PP | AU161: 2
C162: 17 | D162: K | E162: Položka 17 | F162: Potrubní rozdělovač včetně děr pro odbočky. DN 65 v délce 4,5 m, DIN 2448, materiál 12 021.1 (P235GH) | G162: ks | H162: 6 | J162: =ROUND(I162*H162,2) -> 0 | N162: základní | P162: =O162*H162 -> 0 | Q162: 0 | R162: =Q162*H162 -> 0 | S162: 0 | T162: =S162*H162 -> 0 | AR162: 4 | AT162: K | AU162: 2 | AY162: ROZPOCET | BE162: =IF(N162="základní",J162,0) -> 0 | BF162: =IF(N162="snížená",J162,0) -> 0 | BG162: =IF(N162="zákl. přenesená",J162,0) -> 0 | BH162: =IF(N162="sníž. přenesená",J162,0) -> 0 | BI162: =IF(N162="nulová",J162,0) -> 0 | BJ162: 1 | BK162: =ROUND(I162*H162,2) -> 0 | BL162: 4 | BM162: 34
D163: PP | F163: Potrubní rozdělovač včetně děr pro odbočky. DN 65 v délce 4,5 m, DIN 2448, materiál 12 021.1 (P235GH) | AT163: PP | AU163: 2
D164: P | F164: Poznámka k položce:_x000D_ Poznámka k položce: - včetně odboček Ø 26,9 x 2,6, počet 27 ks - rozteč 170 mm | AT164: P | AU164: 2
C165: 18 | D165: K | E165: Položka 18 | F165: Sběrné potrubí Ø 139,7 x 4,5 v délce 27,7 m, DIN 2448, materiál 12 021.1 (P235GH) | G165: ks | H165: 1 | J165: =ROUND(I165*H165,2) -> 0 | N165: základní | P165: =O165*H165 -> 0 | Q165: 0 | R165: =Q165*H165 -> 0 | S165: 0 | T165: =S165*H165 -> 0 | AR165: 4 | AT165: K | AU165: 2 | AY165: ROZPOCET | BE165: =IF(N165="základní",J165,0) -> 0 | BF165: =IF(N165="snížená",J165,0) -> 0 | BG165: =IF(N165="zákl. přenesená",J165,0) -> 0 | BH165: =IF(N165="sníž. přenesená",J165,0) -> 0 | BI165: =IF(N165="nulová",J165,0) -> 0 | BJ165: 1 | BK165: =ROUND(I165*H165,2) -> 0 | BL165: 4 | BM165: 36
D166: PP | F166: Sběrné potrubí Ø 139,7 x 4,5 v délce 27,7 m, DIN 2448, materiál 12 021.1 (P235GH) | AT166: PP | AU166: 2
...

Sheet Ost - Vybavení stadionu 
AT2: {f4c06d50-6905-4d8d-a6b7-dff6b78672df}
AT3: 2
D4: KRYCÍ LIST SOUPISU PRACÍ | M4: v --- níže se nacházejí doplnkové a pomocné údaje k sestavám --- v | AT4: False
D6: Stavba:
E7: ='Rekapitulace stavby'!K6 -> Zimní stadion Tábor - nová ledová plocha
D8: Objekt:
E9: Ost - Vybavení stadionu
D11: KSO: | I11: CC-CZ:
D12: Místo: | I12: Datum: | J12: ='Rekapitulace stavby'!AN8 -> 12. 2. 2024
D14: Zadavatel: | I14: IČ: | J14: =IF('Rekapitulace stavby'!AN10="","",'Rekapitulace stavby'!AN10)
E15: =IF('Rekapitulace stavby'!E11="","",'Rekapitulace stavby'!E11) | I15: DIČ: | J15: =IF('Rekapitulace stavby'!AN11="","",'Rekapitulace stavby'!AN11)
D17: Uchazeč: | I17: IČ: | J17: ='Rekapitulace stavby'!AN13 -> Vyplň údaj
E18: ='Rekapitulace stavby'!E14 -> Vyplň údaj | I18: DIČ: | J18: ='Rekapitulace stavby'!AN14 -> Vyplň údaj
D20: Projektant: | I20: IČ: | J20: =IF('Rekapitulace stavby'!AN16="","",'Rekapitulace stavby'!AN16)
E21: =IF('Rekapitulace stavby'!E17="","",'Rekapitulace stavby'!E17) | I21: DIČ: | J21: =IF('Rekapitulace stavby'!AN17="","",'Rekapitulace stavby'!AN17)
D23: Zpracovatel: | I23: IČ: | J23: =IF('Rekapitulace stavby'!AN19="","",'Rekapitulace stavby'!AN19)
E24: =IF('Rekapitulace stavby'!E20="","",'Rekapitulace stavby'!E20) | I24: DIČ: | J24: =IF('Rekapitulace stavby'!AN20="","",'Rekapitulace stavby'!AN20)
D26: Poznámka:
D30: Cena bez DPH | J30: =ROUND(J117, 2) -> 0
F32: Základ daně | I32: Sazba daně | J32: Výše daně
D33: DPH | E33: základní | F33: =ROUND((SUM(BE117:BE150)), 2) -> 0 | I33: 0.21 | J33: =ROUND(((SUM(BE117:BE150))*I33), 2) -> 0
E34: snížená | F34: =ROUND((SUM(BF117:BF150)), 2) -> 0 | I34: 0.12 | J34: =ROUND(((SUM(BF117:BF150))*I34), 2) -> 0
E35: zákl. přenesená | F35: =ROUND((SUM(BG117:BG150)), 2) -> 0 | I35: 0.21 | J35: =0 -> 0
E36: sníž. přenesená | F36: =ROUND((SUM(BH117:BH150)), 2) -> 0 | I36: 0.12 | J36: =0 -> 0
E37: nulová | F37: =ROUND((SUM(BI117:BI150)), 2) -> 0 | I37: 0 | J37: =0 -> 0
D39: Cena s DPH | G39: v | H39: CZK | J39: =SUM(J30:J37) -> 0
D50: Projektant | G50: Zpracovatel
D61: Datum a podpis: | F61: Razítko | G61: Datum a podpis: | J61: Razítko
D65: Objednavatel | G65: Uchazeč
D76: Datum a podpis: | F76: Razítko | G76: Datum a podpis: | J76: Razítko
C82: REKAPITULACE ČLENĚNÍ SOUPISU PRACÍ
C84: Stavba:
E85: =E7 -> Zimní stadion Tábor - nová ledová plocha
C86: Objekt:
E87: =E9 -> Ost - Vybavení stadionu
C89: Místo: | F89: =F12 | I89: Datum: | J89: =IF(J12="","",J12) -> 12. 2. 2024
C91: Zadavatel: | F91: =E15 | I91: Projektant: | J91: =E21
C92: Uchazeč: | F92: =IF(E18="","",E18) -> Vyplň údaj | I92: Zpracovatel: | J92: =E24
C94: Kód dílu - Popis | J94: Cena celkem [CZK]
C96: Náklady ze soupisu prací | J96: =J117 -> 0 | AU96: -1
D97: HSV - Práce a dodávky HSV | J97: =J118 -> 0
C104: SOUPIS PRACÍ
C106: Stavba:
E107: =E7 -> Zimní stadion Tábor - nová ledová plocha
C108: Objekt:
E109: =E9 -> Ost - Vybavení stadionu
C111: Místo: | F111: =F12 | I111: Datum: | J111: =IF(J12="","",J12) -> 12. 2. 2024
C113: Zadavatel: | F113: =E15 | I113: Projektant: | J113: =E21
C114: Uchazeč: | F114: =IF(E18="","",E18) -> Vyplň údaj | I114: Zpracovatel: | J114: =E24
C116: PČ | D116: Typ | E116: Kód | F116: Popis | G116: MJ | H116: Množství | I116: J.cena [CZK] | J116: Cena celkem [CZK] | K116: Cenová soustava | N116: DPH | O116: J. Nh [h] | P116: Nh celkem [h] | Q116: J. hmotnost [t] | R116: Hmotnost celkem [t] | S116: J. suť [t] | T116: Suť Celkem [t]
C117: Náklady soupisu celkem | J117: =BK117 -> 0 | P117: =P118 -> 0 | R117: =R118 -> 0 | T117: =T118 -> 0 | AT117: D | AU117: -1 | BK117: =BK118 -> 0
D118: D | E118: HSV | F118: Práce a dodávky HSV | J118: =BK118 -> 0 | P118: =SUM(P119:P150) -> 0 | R118: =SUM(R119:R150) -> 0 | T118: =SUM(T119:T150) -> 0 | AR118: 1 | AT118: D | AU118: 0 | AY118: ROZPOCET | BK118: =SUM(BK119:BK150) -> 0
C119: 1 | D119: K | E119: Pol1 | F119: Dodávka + montáž mantinelu dle pravidel IIHF | G119: bm | H119: 160 | J119: =ROUND(I119*H119,2) -> 0 | N119: základní | P119: =O119*H119 -> 0 | Q119: 0 | R119: =Q119*H119 -> 0 | S119: 0 | T119: =S119*H119 -> 0 | AR119: 4 | AT119: K | AU119: 1 | AY119: ROZPOCET | BE119: =IF(N119="základní",J119,0) -> 0 | BF119: =IF(N119="snížená",J119,0) -> 0 | BG119: =IF(N119="zákl. přenesená",J119,0) -> 0 | BH119: =IF(N119="sníž. přenesená",J119,0) -> 0 | BI119: =IF(N119="nulová",J119,0) -> 0 | BJ119: 1 | BK119: =ROUND(I119*H119,2) -> 0 | BL119: 4 | BM119: -550161778
D120: PP | F120: Dodávka + montáž mantinelu dle pravidel IIHF | AT120: PP | AU120: 1
D121: P | F121: Poznámka k položce:_x000D_ hokejový mantinel 60x27 m dle pravidel IIHF (pružný mantinel) horizontálně dělený mantinel, spodní báze 6x vstup na plochu (1m) 2x vrata pro vjezd mechanizace (3m) podpůrné sloupky u vstupů s možností regulace náklonu pomocí klíče vč. okopového pásu, madla a lišt spodní rám mantinelu | AT121: P | AU121: 1
C122: 2 | D122: K | E122: Pol2 | F122: Dodávka + montáž dvířek v mantinelu š.1m | G122: kus | H122: 8 | J122: =ROUND(I122*H122,2) -> 0 | N122: základní | P122: =O122*H122 -> 0 | Q122: 0 | R122: =Q122*H122 -> 0 | S122: 0 | T122: =S122*H122 -> 0 | AR122: 4 | AT122: K | AU122: 1 | AY122: ROZPOCET | BE122: =IF(N122="základní",J122,0) -> 0 | BF122: =IF(N122="snížená",J122,0) -> 0 | BG122: =IF(N122="zákl. přenesená",J122,0) -> 0 | BH122: =IF(N122="sníž. přenesená",J122,0) -> 0 | BI122: =IF(N122="nulová",J122,0) -> 0 | BJ122: 1 | BK122: =ROUND(I122*H122,2) -> 0 | BL122: 4 | BM122: -138507792
D123: PP | F123: Dodávka + montáž dvířek v mantinelu š.1m | AT123: PP | AU123: 1
C124: 3 | D124: K | E124: Pol3 | F124: Dodávka + montáž dvířek v mantinelu š.3m | G124: kus | H124: 2 | J124: =ROUND(I124*H124,2) -> 0 | N124: základní | P124: =O124*H124 -> 0 | Q124: 0 | R124: =Q124*H124 -> 0 | S124: 0 | T124: =S124*H124 -> 0 | AR124: 4 | AT124: K | AU124: 1 | AY124: ROZPOCET | BE124: =IF(N124="základní",J124,0) -> 0 | BF124: =IF(N124="snížená",J124,0) -> 0 | BG124: =IF(N124="zákl. přenesená",J124,0) -> 0 | BH124: =IF(N124="sníž. přenesená",J124,0) -> 0 | BI124: =IF(N124="nulová",J124,0) -> 0 | BJ124: 1 | BK124: =ROUND(I124*H124,2) -> 0 | BL124: 4 | BM124: 2143432740
D125: PP | F125: Dodávka + montáž dvířek v mantinelu š.3m | AT125: PP | AU125: 1
C126: 4 | D126: K | E126: Pol4 | F126: Nástavba ochraného HC, PMMA 2400/1800 dle IIHF tl. 15 mm | G126: m2 | H126: 311 | J126: =ROUND(I126*H126,2) -> 0 | N126: základní | P126: =O126*H126 -> 0 | Q126: 0 | R126: =Q126*H126 -> 0 | S126: 0 | T126: =S126*H126 -> 0 | AR126: 4 | AT126: K | AU126: 1 | AY126: ROZPOCET | BE126: =IF(N126="základní",J126,0) -> 0 | BF126: =IF(N126="snížená",J126,0) -> 0 | BG126: =IF(N126="zákl. přenesená",J126,0) -> 0 | BH126: =IF(N126="sníž. přenesená",J126,0) -> 0 | BI126: =IF(N126="nulová",J126,0) -> 0 | BJ126: 1 | BK126: =ROUND(I126*H126,2) -> 0 | BL126: 4 | BM126: -1045155869
D127: PP | F127: Nástavba ochraného HC, PMMA 2400/1800 dle IIHF tl. 15 mm | AT127: PP | AU127: 1
D128: P | F128: Poznámka k položce:_x000D_ povrchová úprava plexiskla proti poškrábání (Hard Coating)bez sloupkové provedení mantinelu, PMMA fixováno do hlavy mantinelu pružné ochrany hrany skla výšky 1800 mm 4x | AT128: P | AU128: 1
C129: 5 | D129: K | E129: Pol5 | F129: Kotevní prvky , včetně zaměření | G129: set | H129: 1 | J129: =ROUND(I129*H129,2) -> 0 | N129: základní | P129: =O129*H129 -> 0 | Q129: 0 | R129: =Q129*H129 -> 0 | S129: 0 | T129: =S129*H129 -> 0 | AR129: 4 | AT129: K | AU129: 1 | AY129: ROZPOCET | BE129: =IF(N129="základní",J129,0) -> 0 | BF129: =IF(N129="snížená",J129,0) -> 0 | BG129: =IF(N129="zákl. přenesená",J129,0) -> 0 | BH129: =IF(N129="sníž. přenesená",J129,0) -> 0 | BI129: =IF(N129="nulová",J129,0) -> 0 | BJ129: 1 | BK129: =ROUND(I129*H129,2) -> 0 | BL129: 4 | BM129: -492235606
D130: PP | F130: Kotevní prvky , včetně zaměření | AT130: PP | AU130: 1
C131: 6 | D131: K | E131: Pol6 | F131: kompletní překrytí reklam 2 UV stabilizace délku 3000 mm | G131: m | H131: 160 | J131: =ROUND(I131*H131,2) -> 0 | N131: základní | P131: =O131*H131 -> 0 | Q131: 0 | R131: =Q131*H131 -> 0 | S131: 0 | T131: =S131*H131 -> 0 | AR131: 4 | AT131: K | AU131: 1 | AY131: ROZPOCET | BE131: =IF(N131="základní",J131,0) -> 0 | BF131: =IF(N131="snížená",J131,0) -> 0 | BG131: =IF(N131="zákl. přenesená",J131,0) -> 0 | BH131: =IF(N131="sníž. přenesená",J131,0) -> 0 | BI131: =IF(N131="nulová",J131,0) -> 0 | BJ131: 1 | BK131: =ROUND(I131*H131,2) -> 0 | BL131: 4 | BM131: -698675655
D132: PP | F132: kompletní překrytí reklam 2 UV stabilizace délku 3000 mm | AT132: PP | AU132: 1
C133: 7 | D133: K | E133: Pol7 | F133: Ochranná síť mat PA 40x40x2 vč. lanka a karabin (2 sítě) | G133: m2 | H133: 224 | J133: =ROUND(I133*H133,2) -> 0 | N133: základní | P133: =O133*H133 -> 0 | Q133: 0 | R133: =Q133*H133 -> 0 | S133: 0 | T133: =S133*H133 -> 0 | AR133: 4 | AT133: K | AU133: 1 | AY133: ROZPOCET | BE133: =IF(N133="základní",J133,0) -> 0 | BF133: =IF(N133="snížená",J133,0) -> 0 | BG133: =IF(N133="zákl. přenesená",J133,0) -> 0 | BH133: =IF(N133="sníž. přenesená",J133,0) -> 0 | BI133: =IF(N133="nulová",J133,0) -> 0 | BJ133: 1 | BK133: =ROUND(I133*H133,2) -> 0 | BL133: 4 | BM133: 386500815
D134: PP | F134: Ochranná síť mat PA 40x40x2 vč. lanka a karabin (2 sítě) | AT134: PP | AU134: 1
C135: 8 | D135: K | E135: Pol8 | F135: Hokejové branky včetně sítí a ochran podpěr | G135: ks | H135: 4 | J135: =ROUND(I135*H135,2) -> 0 | N135: základní | P135: =O135*H135 -> 0 | Q135: 0 | R135: =Q135*H135 -> 0 | S135: 0 | T135: =S135*H135 -> 0 | AR135: 4 | AT135: K | AU135: 1 | AY135: ROZPOCET | BE135: =IF(N135="základní",J135,0) -> 0 | BF135: =IF(N135="snížená",J135,0) -> 0 | BG135: =IF(N135="zákl. přenesená",J135,0) -> 0 | BH135: =IF(N135="sníž. přenesená",J135,0) -> 0 | BI135: =IF(N135="nulová",J135,0) -> 0 | BJ135: 1 | BK135: =ROUND(I135*H135,2) -> 0 | BL135: 4 | BM135: -38907209
D136: PP | F136: Hokejové branky včetně sítí a ochran podpěr | AT136: PP | AU136: 1
C137: 9 | D137: K | E137: Pol9 | F137: hráčské lavice 2sety - doplnění boků a dodání lavic | G137: set | H137: 2 | J137: =ROUND(I137*H137,2) -> 0 | N137: základní | P137: =O137*H137 -> 0 | Q137: 0 | R137: =Q137*H137 -> 0 | S137: 0 | T137: =S137*H137 -> 0 | AR137: 4 | AT137: K | AU137: 1 | AY137: ROZPOCET | BE137: =IF(N137="základní",J137,0) -> 0 | BF137: =IF(N137="snížená",J137,0) -> 0 | BG137: =IF(N137="zákl. přenesená",J137,0) -> 0 | BH137: =IF(N137="sníž. přenesená",J137,0) -> 0 | BI137: =IF(N137="nulová",J137,0) -> 0 | BJ137: 1 | BK137: =ROUND(I137*H137,2) -> 0 | BL137: 4 | BM137: 614451015
D138: PP | F138: hráčské lavice 2sety - doplnění boků a dodání lavic | AT138: PP | AU138: 1
C139: 10 | D139: K | E139: Pol10 | F139: trestné lavice a box časomíry set 4+6,5+4 m x1,5 m,vč. 5x dvířka a dodání lavic | G139: set | H139: 1 | J139: =ROUND(I139*H139,2) -> 0 | N139: základní | P139: =O139*H139 -> 0 | Q139: 0 | R139: =Q139*H139 -> 0 | S139: 0 | T139: =S139*H139 -> 0 | AR139: 4 | AT139: K | AU139: 1 | AY139: ROZPOCET | BE139: =IF(N139="základní",J139,0) -> 0 | BF139: =IF(N139="snížená",J139,0) -> 0 | BG139: =IF(N139="zákl. přenesená",J139,0) -> 0 | BH139: =IF(N139="sníž. přenesená",J139,0) -> 0 | BI139: =IF(N139="nulová",J139,0) -> 0 | BJ139: 1 | BK139: =ROUND(I139*H139,2) -> 0 | BL139: 4 | BM139: 166775892
D140: PP | F140: trestné lavice a box časomíry set 4+6,5+4 m x1,5 m,vč. 5x dvířka a dodání lavic | AT140: PP | AU140: 1
C141: 11 | D141: K | E141: Pol11 | F141: zvýšené podlahy do prostoru Hráčských lavic vč. zadního opláštění | G141: m2 | H141: 96 | J141: =ROUND(I141*H141,2) -> 0 | N141: základní | P141: =O141*H141 -> 0 | Q141: 0 | R141: =Q141*H141 -> 0 | S141: 0 | T141: =S141*H141 -> 0 | AR141: 4 | AT141: K | AU141: 1 | AY141: ROZPOCET | BE141: =IF(N141="základní",J141,0) -> 0 | BF141: =IF(N141="snížená",J141,0) -> 0 | BG141: =IF(N141="zákl. přenesená",J141,0) -> 0 | BH141: =IF(N141="sníž. přenesená",J141,0) -> 0 | BI141: =IF(N141="nulová",J141,0) -> 0 | BJ141: 1 | BK141: =ROUND(I141*H141,2) -> 0 | BL141: 4 | BM141: 1846556871
D142: PP | F142: zvýšené podlahy do prostoru Hráčských lavic vč. zadního opláštění | AT142: PP | AU142: 1
C143: 12 | D143: K | E143: Pol12 | F143: zvýšené podlahy do prostoru Hráčských lavic - 2.stupeň | G143: m2 | H143: 46 | J143: =ROUND(I143*H143,2) -> 0 | N143: základní | P143: =O143*H143 -> 0 | Q143: 0 | R143: =Q143*H143 -> 0 | S143: 0 | T143: =S143*H143 -> 0 | AR143: 4 | AT143: K | AU143: 1 | AY143: ROZPOCET | BE143: =IF(N143="základní",J143,0) -> 0 | BF143: =IF(N143="snížená",J143,0) -> 0 | BG143: =IF(N143="zákl. přenesená",J143,0) -> 0 | BH143: =IF(N143="sníž. přenesená",J143,0) -> 0 | BI143: =IF(N143="nulová",J143,0) -> 0 | BJ143: 1 | BK143: =ROUND(I143*H143,2) -> 0 | BL143: 4 | BM143: -221139676
D144: PP | F144: zvýšené podlahy do prostoru Hráčských lavic - 2.stupeň | AT144: PP | AU144: 1
C145: 13 | D145: K | E145: Pol13 | F145: zvýšené podlahy do prostoru Trestných lavic + boxu časoměřičů vč. zadního opláštění | G145: m2 | H145: 29 | J145: =ROUND(I145*H145,2) -> 0 | N145: základní | P145: =O145*H145 -> 0 | Q145: 0 | R145: =Q145*H145 -> 0 | S145: 0 | T145: =S145*H145 -> 0 | AR145: 4 | AT145: K | AU145: 1 | AY145: ROZPOCET | BE145: =IF(N145="základní",J145,0) -> 0 | BF145: =IF(N145="snížená",J145,0) -> 0 | BG145: =IF(N145="zákl. přenesená",J145,0) -> 0 | BH145: =IF(N145="sníž. přenesená",J145,0) -> 0 | BI145: =IF(N145="nulová",J145,0) -> 0 | BJ145: 1 | BK145: =ROUND(I145*H145,2) -> 0 | BL145: 4 | BM145: 1582693494
D146: PP | F146: zvýšené podlahy do prostoru Trestných lavic + boxu časoměřičů vč. zadního opláštění | AT146: PP | AU146: 1
C147: 14 | D147: K | E147: Pol14 | F147: Test pružnosti mantinelu vč. kotvení | G147: set | H147: 1 | J147: =ROUND(I147*H147,2) -> 0 | N147: základní | P147: =O147*H147 -> 0 | Q147: 0 | R147: =Q147*H147 -> 0 | S147: 0 | T147: =S147*H147 -> 0 | AR147: 4 | AT147: K | AU147: 1 | AY147: ROZPOCET | BE147: =IF(N147="základní",J147,0) -> 0 | BF147: =IF(N147="snížená",J147,0) -> 0 | BG147: =IF(N147="zákl. přenesená",J147,0) -> 0 | BH147: =IF(N147="sníž. přenesená",J147,0) -> 0 | BI147: =IF(N147="nulová",J147,0) -> 0 | BJ147: 1 | BK147: =ROUND(I147*H147,2) -> 0 | BL147: 4 | BM147: -384957765
D148: PP | F148: Test pružnosti mantinelu vč. kotvení | AT148: PP | AU148: 1
C149: 15 | D149: K | E149: Pol15 | F149: Náklady na dopravu materiálu, montáž a ubytování | G149: set | H149: 1 | J149: =ROUND(I149*H149,2) -> 0 | N149: základní | P149: =O149*H149 -> 0 | Q149: 0 | R149: =Q149*H149 -> 0 | S149: 0 | T149: =S149*H149 -> 0 | AR149: 4 | AT149: K | AU149: 1 | AY149: ROZPOCET | BE149: =IF(N149="základní",J149,0) -> 0 | BF149: =IF(N149="snížená",J149,0) -> 0 | BG149: =IF(N149="zákl. přenesená",J149,0) -> 0 | BH149: =IF(N149="sníž. přenesená",J149,0) -> 0 | BI149: =IF(N149="nulová",J149,0) -> 0 | BJ149: 1 | BK149: =ROUND(I149*H149,2) -> 0 | BL149: 4 | BM149: -274833430
D150: PP | F150: Náklady na dopravu materiálu, montáž a ubytování | AT150: PP | AU150: 1

Sheet VRN - Vedlejší rozpočtové...
AT2: {098f2b21-4a0d-4319-8cac-82419aabd84f}
AT3: 2
D4: KRYCÍ LIST SOUPISU PRACÍ | M4: v --- níže se nacházejí doplnkové a pomocné údaje k sestavám --- v | AT4: False
D6: Stavba:
E7: ='Rekapitulace stavby'!K6 -> Zimní stadion Tábor - nová ledová plocha
D8: Objekt:
E9: VRN - Vedlejší rozpočtové náklady
D11: KSO: | I11: CC-CZ:
D12: Místo: | I12: Datum: | J12: ='Rekapitulace stavby'!AN8 -> 12. 2. 2024
D14: Zadavatel: | I14: IČ: | J14: =IF('Rekapitulace stavby'!AN10="","",'Rekapitulace stavby'!AN10)
E15: =IF('Rekapitulace stavby'!E11="","",'Rekapitulace stavby'!E11) | I15: DIČ: | J15: =IF('Rekapitulace stavby'!AN11="","",'Rekapitulace stavby'!AN11)
D17: Uchazeč: | I17: IČ: | J17: ='Rekapitulace stavby'!AN13 -> Vyplň údaj
E18: ='Rekapitulace stavby'!E14 -> Vyplň údaj | I18: DIČ: | J18: ='Rekapitulace stavby'!AN14 -> Vyplň údaj
D20: Projektant: | I20: IČ: | J20: =IF('Rekapitulace stavby'!AN16="","",'Rekapitulace stavby'!AN16)
E21: =IF('Rekapitulace stavby'!E17="","",'Rekapitulace stavby'!E17) | I21: DIČ: | J21: =IF('Rekapitulace stavby'!AN17="","",'Rekapitulace stavby'!AN17)
D23: Zpracovatel: | I23: IČ: | J23: =IF('Rekapitulace stavby'!AN19="","",'Rekapitulace stavby'!AN19)
E24: =IF('Rekapitulace stavby'!E20="","",'Rekapitulace stavby'!E20) | I24: DIČ: | J24: =IF('Rekapitulace stavby'!AN20="","",'Rekapitulace stavby'!AN20)
D26: Poznámka:
D30: Cena bez DPH | J30: =ROUND(J120, 2) -> 0
F32: Základ daně | I32: Sazba daně | J32: Výše daně
D33: DPH | E33: základní | F33: =ROUND((SUM(BE120:BE130)), 2) -> 0 | I33: 0.21 | J33: =ROUND(((SUM(BE120:BE130))*I33), 2) -> 0
E34: snížená | F34: =ROUND((SUM(BF120:BF130)), 2) -> 0 | I34: 0.12 | J34: =ROUND(((SUM(BF120:BF130))*I34), 2) -> 0
E35: zákl. přenesená | F35: =ROUND((SUM(BG120:BG130)), 2) -> 0 | I35: 0.21 | J35: =0 -> 0
E36: sníž. přenesená | F36: =ROUND((SUM(BH120:BH130)), 2) -> 0 | I36: 0.12 | J36: =0 -> 0
E37: nulová | F37: =ROUND((SUM(BI120:BI130)), 2) -> 0 | I37: 0 | J37: =0 -> 0
D39: Cena s DPH | G39: v | H39: CZK | J39: =SUM(J30:J37) -> 0
D50: Projektant | G50: Zpracovatel
D61: Datum a podpis: | F61: Razítko | G61: Datum a podpis: | J61: Razítko
D65: Objednavatel | G65: Uchazeč
D76: Datum a podpis: | F76: Razítko | G76: Datum a podpis: | J76: Razítko
C82: REKAPITULACE ČLENĚNÍ SOUPISU PRACÍ
C84: Stavba:
E85: =E7 -> Zimní stadion Tábor - nová ledová plocha
C86: Objekt:
E87: =E9 -> VRN - Vedlejší rozpočtové náklady
C89: Místo: | F89: =F12 | I89: Datum: | J89: =IF(J12="","",J12) -> 12. 2. 2024
C91: Zadavatel: | F91: =E15 | I91: Projektant: | J91: =E21
C92: Uchazeč: | F92: =IF(E18="","",E18) -> Vyplň údaj | I92: Zpracovatel: | J92: =E24
C94: Kód dílu - Popis | J94: Cena celkem [CZK]
C96: Náklady ze soupisu prací | J96: =J120 -> 0 | AU96: -1
D97: VRN - Vedlejší rozpočtové náklady | J97: =J121 -> 0
D98: VRN1 - Průzkumné, geodetické a projektové práce | J98: =J122 -> 0
D99: VRN3 - Zařízení staveniště | J99: =J125 -> 0
D100: VRN9 - Ostatní náklady | J100: =J128 -> 0
C107: SOUPIS PRACÍ
C109: Stavba:
E110: =E7 -> Zimní stadion Tábor - nová ledová plocha
C111: Objekt:
E112: =E9 -> VRN - Vedlejší rozpočtové náklady
C114: Místo: | F114: =F12 | I114: Datum: | J114: =IF(J12="","",J12) -> 12. 2. 2024
C116: Zadavatel: | F116: =E15 | I116: Projektant: | J116: =E21
C117: Uchazeč: | F117: =IF(E18="","",E18) -> Vyplň údaj | I117: Zpracovatel: | J117: =E24
C119: PČ | D119: Typ | E119: Kód | F119: Popis | G119: MJ | H119: Množství | I119: J.cena [CZK] | J119: Cena celkem [CZK] | K119: Cenová soustava | N119: DPH | O119: J. Nh [h] | P119: Nh celkem [h] | Q119: J. hmotnost [t] | R119: Hmotnost celkem [t] | S119: J. suť [t] | T119: Suť Celkem [t]
C120: Náklady soupisu celkem | J120: =BK120 -> 0 | P120: =P121 -> 0 | R120: =R121 -> 0 | T120: =T121 -> 0 | AT120: D | AU120: -1 | BK120: =BK121 -> 0
D121: D | E121: VRN | F121: Vedlejší rozpočtové náklady | J121: =BK121 -> 0 | P121: =P122+P125+P128 -> 0 | R121: =R122+R125+R128 -> 0 | T121: =T122+T125+T128 -> 0 | AR121: 5 | AT121: D | AU121: 0 | AY121: ROZPOCET | BK121: =BK122+BK125+BK128 -> 0
D122: D | E122: VRN1 | F122: Průzkumné, geodetické a projektové práce | J122: =BK122 -> 0 | P122: =SUM(P123:P124) -> 0 | R122: =SUM(R123:R124) -> 0 | T122: =SUM(T123:T124) -> 0 | AR122: 5 | AT122: D | AU122: 1 | AY122: ROZPOCET | BK122: =SUM(BK123:BK124) -> 0
C123: 1 | D123: K | E123: 010001000 | F123: Průzkumné, geodetické a projektové práce | G123: Kč | H123: 1 | J123: =ROUND(I123*H123,2) -> 0 | K123: CS ÚRS 2024 01 | N123: základní | P123: =O123*H123 -> 0 | Q123: 0 | R123: =Q123*H123 -> 0 | S123: 0 | T123: =S123*H123 -> 0 | AR123: 1024 | AT123: K | AU123: 2 | AY123: ROZPOCET | BE123: =IF(N123="základní",J123,0) -> 0 | BF123: =IF(N123="snížená",J123,0) -> 0 | BG123: =IF(N123="zákl. přenesená",J123,0) -> 0 | BH123: =IF(N123="sníž. přenesená",J123,0) -> 0 | BI123: =IF(N123="nulová",J123,0) -> 0 | BJ123: 1 | BK123: =ROUND(I123*H123,2) -> 0 | BL123: 1024 | BM123: -352532169
D124: PP | F124: Průzkumné, geodetické a projektové práce | AT124: PP | AU124: 2
D125: D | E125: VRN3 | F125: Zařízení staveniště | J125: =BK125 -> 0 | P125: =SUM(P126:P127) -> 0 | R125: =SUM(R126:R127) -> 0 | T125: =SUM(T126:T127) -> 0 | AR125: 5 | AT125: D | AU125: 1 | AY125: ROZPOCET | BK125: =SUM(BK126:BK127) -> 0
C126: 2 | D126: K | E126: 030001000 | F126: Zařízení staveniště | G126: Kč | H126: 1 | J126: =ROUND(I126*H126,2) -> 0 | K126: CS ÚRS 2024 01 | N126: základní | P126: =O126*H126 -> 0 | Q126: 0 | R126: =Q126*H126 -> 0 | S126: 0 | T126: =S126*H126 -> 0 | AR126: 1024 | AT126: K | AU126: 2 | AY126: ROZPOCET | BE126: =IF(N126="základní",J126,0) -> 0 | BF126: =IF(N126="snížená",J126,0) -> 0 | BG126: =IF(N126="zákl. přenesená",J126,0) -> 0 | BH126: =IF(N126="sníž. přenesená",J126,0) -> 0 | BI126: =IF(N126="nulová",J126,0) -> 0 | BJ126: 1 | BK126: =ROUND(I126*H126,2) -> 0 | BL126: 1024 | BM126: 206845729
D127: PP | F127: Zařízení staveniště | AT127: PP | AU127: 2
D128: D | E128: VRN9 | F128: Ostatní náklady | J128: =BK128 -> 0 | P128: =SUM(P129:P130) -> 0 | R128: =SUM(R129:R130) -> 0 | T128: =SUM(T129:T130) -> 0 | AR128: 5 | AT128: D | AU128: 1 | AY128: ROZPOCET | BK128: =SUM(BK129:BK130) -> 0
C129: 3 | D129: K | E129: 090001000 | F129: Ostatní náklady | G129: Kč | H129: 1 | J129: =ROUND(I129*H129,2) -> 0 | K129: CS ÚRS 2024 01 | N129: základní | P129: =O129*H129 -> 0 | Q129: 0 | R129: =Q129*H129 -> 0 | S129: 0 | T129: =S129*H129 -> 0 | AR129: 1024 | AT129: K | AU129: 2 | AY129: ROZPOCET | BE129: =IF(N129="základní",J129,0) -> 0 | BF129: =IF(N129="snížená",J129,0) -> 0 | BG129: =IF(N129="zákl. přenesená",J129,0) -> 0 | BH129: =IF(N129="sníž. přenesená",J129,0) -> 0 | BI129: =IF(N129="nulová",J129,0) -> 0 | BJ129: 1 | BK129: =ROUND(I129*H129,2) -> 0 | BL129: 1024 | BM129: -1299943832
D130: PP | F130: Ostatní náklady | AT130: PP | AU130: 2
