Workbook

Sheet SPECIFIKACE_Rozpočet
B1: UCHAZEČ VYPLNÍ ŠEDIVĚ VYZNAČENÉ BUŇKY
B2: Oprava elektrické instalace (HDV a přívody k BJ) v bytovém domě Bohušovická 229/14, Praha 9
B3: Výkaz výměr / Položkový rozpočet
B5: CENA CELKEM | C5: =J21+J101+J147+J155 -> 0 | E5: Kč bez DPH
B6: Doba plnění | C6: ? | E6: týdnů | F6: ( odst. 5.1. Smlouvy)
B7: Nejdříve možný termín zahájení | C7: ?
B9: Počty el.přístrojů mohou být během montáže upraveny s ohledem na změnu požadavků při stavbě
B10: Délky kabelů určeny odečtem z výkresů-při stavbě může nastat nárůst délek s ohledem na skutečně zvolené trasy.
B11: Odkazy v zadávací dokumentaci na jednotlivá obchodní jména a zvláštní označení výrobků a obchodních názvů materiálů popisují a specifikují podmínky požadovaného plnění s tím, že zadavatel připouští i jiná, kvalitativně a technicky obdobná řešení za podmínky, že nesmí dojít ke zhoršení parametrů daných v projektovém řešení. Pokud se uchazeč odchýlí použitím jiných výrobků nebo materiálů od projektu, musí být v cenové nabídce výslovně uvedeno a doloženo, že jsou dodrženy stanovené parametry v zadávací dokumentaci (prohlášení o shodě)
B12: Po skončení denních prací na el.instalaci bude obnovena dodávka el.energie do BD a každé bytové jednotky | I12: =E12+G12 -> 0 | J12: =F12+H12 -> 0
B13: Dodavatel mont.prací bude postupovat (a dodržovat) dle připojovacích podmínek PRE Distribuce a bude smluvním partnerem PRE Distribuce | I13: =E13+G13 -> 0 | J13: =F13+H13 -> 0
E14: Dodávka /materiál | G14: Montáž
A15: index | B15: Název položky | C15: MJ | D15: Počet MJ | E15: Cena za MJ [Kč] | F15: Dodávka celkem | G15: Cena za MJ [Kč] | H15: Montáž celkem | J15: CENA CELKEM
B16: Název | C16: Mj | D16: Počet | E16: Materiál | F16: Materiál celkem | G16: Montáž | H16: Montáž celkem | I16: Cena | J16: Cena celkem
A17: 0 | B17: Dodávky EL.MĚR.SKŘÍNĚ | N17: =Parametry!B33/100*F26+Parametry!B33/100*F27+Parametry!B33/100*F29+Parametry!B33/100*F30+Parametry!B33/100*F31+Parametry!B33/100*F32+Parametry!B33/100*F33+Parametry!B33/100*F38+Parametry!B33/100*F39+Parametry!B33/100*F40+Parametry!B33/100*F41+Parametry!B33/100*F42+Parametry!B33/100*F43+Parametry!B33/100*F44+Parametry!B33/100*F45+Parametry!B33/100*F49+Parametry!B33/100*F50+Parametry!B33/100*F52+Parametry!B33/100*F53+Parametry!B33/100*F54+Parametry!B33/100*F58+Parametry!B33/100*F60+Parametry!B33/100*F62 -> 0
B18: 1NP-Skříň pro 6ks el.měrů (vč.nástavby+.pož.uzávěru EI30 stav.otvor : šxvxhl(mm) 750x1835+600x250 | C18: ks | D18: 1 | F18: =D18*E18 -> 0 | H18: =D18*G18 -> 0 | I18: =E18+G18 -> 0 | J18: =F18+H18 -> 0 | N18: =N17+Parametry!B33/100*F64+Parametry!B33/100*F65+Parametry!B33/100*F66+Parametry!B33/100*F67+Parametry!B33/100*F68+Parametry!B33/100*F69+Parametry!B33/100*F71+Parametry!B33/100*F72+Parametry!B33/100*F73+Parametry!B33/100*F74+Parametry!B33/100*F75+Parametry!B33/100*F77+Parametry!B33/100*F78+Parametry!B33/100*F79+Parametry!B33/100*F80+Parametry!B33/100*F81+Parametry!B33/100*F84+Parametry!B33/100*F85+Parametry!B33/100*F87+Parametry!B33/100*F89+Parametry!B33/100*F91+Parametry!B33/100*F94+Parametry!B33/100*F95 -> 0
B19: 1NP skříň pro 4ks el.měrů (vč.pož.uzávěru EI30) stav.otvor šxvxhl (mm) 550x11835x250 | C19: ks | D19: 2 | F19: =D19*E19 -> 0 | H19: =D19*G19 -> 0 | I19: =E19+G19 -> 0 | J19: =F19+H19 -> 0
B20: TOTAL STOP osazení u el. rozvače RE1 viz. TZ elektro a PBŘ, připojení ovládacího prvku bude kabelem s pož. odolností 30 min. | C20: ks | D20: 1 | F20: =D20*E20 -> 0 | H20: =D20*G20 -> 0 | I20: =E20+G20 -> 0 | J20: =F20+H20 -> 0 | N20: =N18+Parametry!B33/100*F96+Parametry!B33/100*F105+Parametry!B33/100*F106+Parametry!B33/100*F107+Parametry!B33/100*F108+Parametry!B33/100*F109+Parametry!B33/100*F110+Parametry!B33/100*F111+Parametry!B33/100*F113+Parametry!B33/100*F114+Parametry!B33/100*F115+Parametry!B33/100*F116+Parametry!B33/100*F117+Parametry!B33/100*F118+Parametry!B33/100*F120+Parametry!B33/100*F121+Parametry!B33/100*F122+Parametry!B33/100*F123+Parametry!B33/100*F124+Parametry!B33/100*F126+Parametry!B33/100*F127 -> 0
A21: 0 | B21: Dodávky EL.MĚR.SKŘÍNĚ - celkem | F21: =SUM(F18:F20) -> 0 | H21: =SUM(H18:H20) -> 0 | J21: =SUM(J18:J20) -> 0 | N21: =Parametry!B33/100*F26+Parametry!B33/100*F27+Parametry!B33/100*F29+Parametry!B33/100*F30+Parametry!B33/100*F31+Parametry!B33/100*F32+Parametry!B33/100*F33+Parametry!B33/100*F38+Parametry!B33/100*F39+Parametry!B33/100*F40+Parametry!B33/100*F41+Parametry!B33/100*F42+Parametry!B33/100*F43+Parametry!B33/100*F44+Parametry!B33/100*F45+Parametry!B33/100*F49+Parametry!B33/100*F50+Parametry!B33/100*F52+Parametry!B33/100*F53+Parametry!B33/100*F54+Parametry!B33/100*F58+Parametry!B33/100*F60+Parametry!B33/100*F62 -> 0
I22: =E22+G22 -> 0 | N22: =N21+Parametry!B33/100*F64+Parametry!B33/100*F65+Parametry!B33/100*F66+Parametry!B33/100*F67+Parametry!B33/100*F68+Parametry!B33/100*F69+Parametry!B33/100*F71+Parametry!B33/100*F72+Parametry!B33/100*F73+Parametry!B33/100*F74+Parametry!B33/100*F75+Parametry!B33/100*F77+Parametry!B33/100*F78+Parametry!B33/100*F79+Parametry!B33/100*F80+Parametry!B33/100*F81+Parametry!B33/100*F84+Parametry!B33/100*F85+Parametry!B33/100*F87+Parametry!B33/100*F89+Parametry!B33/100*F91+Parametry!B33/100*F94+Parametry!B33/100*F95 -> 0
A23: 0 | B23: Elektromontáže 1NP | N23: =N22+Parametry!B33/100*F96+Parametry!B33/100*F105+Parametry!B33/100*F106+Parametry!B33/100*F107+Parametry!B33/100*F108+Parametry!B33/100*F109+Parametry!B33/100*F110+Parametry!B33/100*F111+Parametry!B33/100*F113+Parametry!B33/100*F114+Parametry!B33/100*F115+Parametry!B33/100*F116+Parametry!B33/100*F117+Parametry!B33/100*F118+Parametry!B33/100*F120+Parametry!B33/100*F121+Parametry!B33/100*F122+Parametry!B33/100*F123+Parametry!B33/100*F124+Parametry!B33/100*F126+Parametry!B33/100*F127 -> 0
B24: RE1 | I24: =E24+G24 -> 0
B25: JISTIČ 1-PÓLOVÝ,CHARAKT."B"
B26: LTN-16B-1 -16A | C26: ks | D26: 2 | F26: =D26*E26 -> 0 | H26: =D26*G26 -> 0 | I26: =E26+G26 -> 0 | J26: =F26+H26 -> 0
B27: LTN-20B-1 -20A | C27: ks | D27: 1 | F27: =D27*E27 -> 0 | H27: =D27*G27 -> 0 | I27: =E27+G27 -> 0 | J27: =F27+H27 -> 0
B28: JISTIČ 3-PÓLOVÝ CHARAKT."B"
B29: LTN-20B-3 -20A | C29: ks | D29: 3 | F29: =D29*E29 -> 0 | H29: =D29*G29 -> 0 | I29: =E29+G29 -> 0 | J29: =F29+H29 -> 0
B30: MSO-32-1 Vypínač | C30: Ks | D30: 3 | F30: =D30*E30 -> 0 | H30: =D30*G30 -> 0 | I30: =E30+G30 -> 0 | J30: =F30+H30 -> 0
B31: MSO-32-3 Vypínač | C31: Ks | D31: 3 | F31: =D31*E31 -> 0 | H31: =D31*G31 -> 0 | I31: =E31+G31 -> 0 | J31: =F31+H31 -> 0
B32: Jistič- Odpínač In=160A | C32: Ks | D32: 1 | F32: =D32*E32 -> 0 | H32: =D32*G32 -> 0 | I32: =E32+G32 -> 0 | J32: =F32+H32 -> 0
B33: Napěťová spoušť 230V AC | C33: Ks | D33: 1 | F33: =D33*E33 -> 0 | H33: =D33*G33 -> 0 | I33: =E33+G33 -> 0 | J33: =F33+H33 -> 0
I34: =E34+G34 -> 0
B35: RS1 | I35: =E35+G35 -> 0
B36: Zařízení
B37: PÁČKOVÝ SPÍNAČ (OEZ)
B38: Vypínač 32 A 3-pólový | C38: ks | D38: 1 | F38: =D38*E38 -> 0 | H38: =D38*G38 -> 0 | I38: =E38+G38 -> 0 | J38: =F38+H38 -> 0
B39: 6B-1 Jistič jednofázový | C39: Ks | D39: 1 | F39: =D39*E39 -> 0 | H39: =D39*G39 -> 0 | I39: =E39+G39 -> 0 | J39: =F39+H39 -> 0
B40: 10B-1 Jistič jednofázový | C40: Ks | D40: 1 | F40: =D40*E40 -> 0 | H40: =D40*G40 -> 0 | I40: =E40+G40 -> 0 | J40: =F40+H40 -> 0
B41: 16B-1 Jistič jednofázový | C41: Ks | D41: 2 | F41: =D41*E41 -> 0 | H41: =D41*G41 -> 0 | I41: =E41+G41 -> 0 | J41: =F41+H41 -> 0
B42: 20B-3 Jistič trojfízový | C42: Ks | D42: 1 | F42: =D42*E42 -> 0 | H42: =D42*G42 -> 0 | I42: =E42+G42 -> 0 | J42: =F42+H42 -> 0
B43: 10B-1N Jistič chránič | C43: Ks | D43: 4 | F43: =D43*E43 -> 0 | H43: =D43*G43 -> 0 | I43: =E43+G43 -> 0 | J43: =F43+H43 -> 0
B44: RSA 4 A Řadová svorka | C44: ks | D44: 4 | F44: =D44*E44 -> 0 | H44: =D44*G44 -> 0 | I44: =E44+G44 -> 0 | J44: =F44+H44 -> 0
B45: RSA 2,5 A Řadová svorka | C45: ks | D45: 10 | F45: =D45*E45 -> 0 | H45: =D45*G45 -> 0 | I45: =E45+G45 -> 0 | J45: =F45+H45 -> 0
I46: =E46+G46 -> 0
B47: RE2,3 (celkem) | I47: =E47+G47 -> 0
B48: JISTIČ 1-PÓLOVÝ,CHARAKT."B"
B49: 16B-1 -16A | C49: ks | D49: 2 | F49: =D49*E49 -> 0 | H49: =D49*G49 -> 0 | I49: =E49+G49 -> 0 | J49: =F49+H49 -> 0
B50: 20B-1 -20A | C50: ks | D50: 2 | F50: =D50*E50 -> 0 | H50: =D50*G50 -> 0 | I50: =E50+G50 -> 0 | J50: =F50+H50 -> 0
B51: JISTIČ 3-PÓLOVÝ CHARAKT."B"
B52: 20B-3 -20A | C52: ks | D52: 4 | F52: =D52*E52 -> 0 | H52: =D52*G52 -> 0 | I52: =E52+G52 -> 0 | J52: =F52+H52 -> 0
B53: 32-1 Vypínač jednoppolový | C53: Ks | D53: 4 | F53: =D53*E53 -> 0 | H53: =D53*G53 -> 0 | I53: =E53+G53 -> 0 | J53: =F53+H53 -> 0
B54: 32-3 Vypínač trojpolový | C54: Ks | D54: 4 | F54: =D54*E54 -> 0 | H54: =D54*G54 -> 0 | I54: =E54+G54 -> 0 | J54: =F54+H54 -> 0
I55: =E55+G55 -> 0
B56: ELEKTROMONTÁŽ | I56: =E56+G56 -> 0
B57: PŘÍSTROJ OVLÁDAČE (s bezšroubovými svorkami),
B58: Přístroj spínače jednopólového (bezšroubové svorky); řazení 1, 1So (do hořl. podkladů B až E) | C58: ks | D58: 8 | F58: =D58*E58 -> 0 | H58: =D58*G58 -> 0 | I58: =E58+G58 -> 0 | J58: =F58+H58 -> 0
B59: KRYT SPÍNAČE,
B60: Kryt spínače kolébkového; ; b. bílá (do hořl. podkladů B až E - při použití bezšroubových přístrojů) | C60: ks | D60: 8 | F60: =D60*E60 -> 0 | H60: =D60*G60 -> 0 | I60: =E60+G60 -> 0 | J60: =F60+H60 -> 0
B61: RÁMEČEK,
B62: Rámeček pro elektroinstalační přístroje, jednonásobný; b. bílá (do hořl. podkladů B až E - při použití bezšroubových přístrojů) | C62: ks | D62: 8 | F62: =D62*E62 -> 0 | H62: =D62*G62 -> 0 | I62: =E62+G62 -> 0 | J62: =F62+H62 -> 0
I63: =E63+G63 -> 0
B64: LHD 40X20_HC LIŠTA HRANATÁ BEZHALOGENOVE PROVEDENI | C64: m | D64: 45 | F64: =D64*E64 -> 0 | H64: =D64*G64 -> 0 | I64: =E64+G64 -> 0 | J64: =F64+H64 -> 0
B65: 8632_HB KRYT LH 40X20 SPOJOVACÍ | C65: ks | D65: 10 | F65: =D65*E65 -> 0 | H65: =D65*G65 -> 0 | I65: =E65+G65 -> 0 | J65: =F65+H65 -> 0
B66: 8635_HB KRYT LH 40X20 ROHOVÝ VNITŘNÍ | C66: ks | D66: 10 | F66: =D66*E66 -> 0 | H66: =D66*G66 -> 0 | I66: =E66+G66 -> 0 | J66: =F66+H66 -> 0
B67: LK 80X16 T_HB KRABICE LIŠTOVÁ TANGO | C67: ks | D67: 20 | F67: =D67*E67 -> 0 | H67: =D67*G67 -> 0 | I67: =E67+G67 -> 0 | J67: =F67+H67 -> 0
B68: S-66_FB SVORKOVNICE | C68: ks | D68: 14 | F68: =D68*E68 -> 0 | H68: =D68*G68 -> 0 | I68: =E68+G68 -> 0 | J68: =F68+H68 -> 0
B69: VLK 80/T_HB VÍČKO KRABICE LK PRO PŘ. TANGO | C69: ks | D69: 14 | F69: =D69*E69 -> 0 | H69: =D69*G69 -> 0 | I69: =E69+G69 -> 0 | J69: =F69+H69 -> 0
I70: =E70+G70 -> 0
B71: PK 90X55 D_HD KANÁL PARAPETNÍ DUTÝ BEZHALOGENOVE PROVEDENI | C71: m | D71: 16 | F71: =D71*E71 -> 0 | H71: =D71*G71 -> 0 | I71: =E71+G71 -> 0 | J71: =F71+H71 -> 0
B72: 8405_HB KRYT ROH VNITŘNÍ PK 90X55 D | C72: ks | D72: 2 | F72: =D72*E72 -> 0 | H72: =D72*G72 -> 0 | I72: =E72+G72 -> 0 | J72: =F72+H72 -> 0
B73: 8401_HB KRYT KONCOVÝ PK 90X55 D | C73: ks | D73: 1 | F73: =D73*E73 -> 0 | H73: =D73*G73 -> 0 | I73: =E73+G73 -> 0 | J73: =F73+H73 -> 0
B74: 8402_HB KRYT SPOJOVACÍ PK 90X55 D | C74: ks | D74: 8 | F74: =D74*E74 -> 0 | H74: =D74*G74 -> 0 | I74: =E74+G74 -> 0 | J74: =F74+H74 -> 0
B75: PKS 70/60_XX PŘÍČKA DĚLICÍ S AL FÓLIÍ | C75: m | D75: 16 | F75: =D75*E75 -> 0 | H75: =D75*G75 -> 0 | I75: =E75+G75 -> 0 | J75: =F75+H75 -> 0
I76: =E76+G76 -> 0
B77: Svítidlo BRS, 6x12 LED 830, kryt opál PMMA, IP40, prům. 375mm, 700mA, 1x27Wmikrovlnný senzor, 1x27W typ"A" | C77: Ks | D77: 12 | F77: =D77*E77 -> 0 | H77: =D77*G77 -> 0 | I77: =E77+G77 -> 0 | J77: =F77+H77 -> 0
B78: Stropní přisazené, široký korpus 1270mm, LED 830, korpus ABS, opálový PC kryt, IP65, driver 1400mA, 1x36W typ"B" | C78: Ks | D78: 2 | F78: =D78*E78 -> 0 | H78: =D78*G78 -> 0 | I78: =E78+G78 -> 0 | J78: =F78+H78 -> 0
B79: BRS3KO300V1/ND Svítidlo BRS, 3x12 LED 830, kryt opál PMMA, IP40, prům. 300mm, 350mA , 1x14W, typ"C" | C79: Ks | D79: 6 | F79: =D79*E79 -> 0 | H79: =D79*G79 -> 0 | I79: =E79+G79 -> 0 | J79: =F79+H79 -> 0
B80: Nouzové svítidlo 1W LED 125 lm BASIC IP65 1h , svítící při výpadku, bílé, test. tlačítko | C80: Ks | D80: 2 | F80: =D80*E80 -> 0 | H80: =D80*G80 -> 0 | I80: =E80+G80 -> 0 | J80: =F80+H80 -> 0
B81: OZAWPIK24 Piktogram P24 VÝCHOD VLEVO (150x300mm) | C81: Ks | D81: 2 | F81: =D81*E81 -> 0 | H81: =D81*G81 -> 0 | I81: =E81+G81 -> 0 | J81: =F81+H81 -> 0
I82: =E82+G82 -> 0
B83: KABEL SILOVÝ,IZOLACE PVC S VODIČEM PE
B84: CYKY-J 3x1.5 mm2 , pevně | C84: m | D84: 60 | F84: =D84*E84 -> 0 | H84: =D84*G84 -> 0 | I84: =E84+G84 -> 0 | J84: =F84+H84 -> 0
B85: CYKY-J 5x4 mm2 , pevně | C85: m | D85: 10 | F85: =D85*E85 -> 0 | H85: =D85*G85 -> 0 | I85: =E85+G85 -> 0 | J85: =F85+H85 -> 0
B86: KABEL SILOVÝ,IZOLACE PVC BEZ VODIČE PE
B87: CYKY-O 2x1.5 mm2 , pevně | C87: m | D87: 25 | F87: =D87*E87 -> 0 | H87: =D87*G87 -> 0 | I87: =E87+G87 -> 0 | J87: =F87+H87 -> 0
B88: KABEL SE ZVÝŠENOU ODOLNOSTÍ PROTI ŠÍŘENÍ PLAMENE, BARVA PLÁŠTĚ ORANŽOVÁ, TŘÍDA REAKCE NA OHEŇ - B2 ca, s1, d0
B89: 1-CXKH-R-J 4x10 mm2 , pevně | C89: m | D89: 15 | F89: =D89*E89 -> 0 | H89: =D89*G89 -> 0 | I89: =E89+G89 -> 0 | J89: =F89+H89 -> 0
B90: KABEL JEDNOŽILOVÝ
B91: 1-YY 70 mm2 , pevně | C91: m | D91: 100 | F91: =D91*E91 -> 0 | H91: =D91*G91 -> 0 | I91: =E91+G91 -> 0 | J91: =F91+H91 -> 0
I92: =E92+G92 -> 0
B93: HODINOVE ZUCTOVACI SAZBY
B94: Demontaz stavajiciho zarizeni | C94: hod | D94: 16 | H94: =D94*G94 -> 0 | I94: =E94+G94 -> 0 | J94: =F94+H94 -> 0
B95: Uprava stavajiciho rozvadece | C95: hod | D95: 10 | H95: =D95*G95 -> 0 | I95: =E95+G95 -> 0 | J95: =F95+H95 -> 0
B96: Zabezpeceni pracoviste | C96: hod | D96: 8 | H96: =D96*G96 -> 0 | I96: =E96+G96 -> 0 | J96: =F96+H96 -> 0
I97: =E97+G97 -> 0
A98: X | B98: obezdění el.měr.rozvaděčů a osazení pož.uzávěrů | C98: komplet
A99: X | B99: protipožární utěsnění kabel.prostupů mezi patry | C99: komplet
A101: 0 | B101: Elektromontáže 1NP - celkem | F101: =SUM(F24:F100) -> 0 | H101: =SUM(H24:H100) -> 0 | J101: =SUM(J24:J100) -> 0
A103: 0 | B103: Elektromontáže 2-4.NP
I104: =E104+G104 -> 0
...

Sheet Parametry
A1: Název | B1: Hodnota
A2: Nadpis rekapitulace | B2: Seznam prací a dodávek elektrotechnických zařízení - JKSO
A3: Akce | B3: OPRAVA DOM.ROZVODŮ NN V BYT.DOMĚ č.p.229/14 ul.Bohušovická,Pha 9
A4: Projekt | B4: ELEKTRO
A5: Investor | B5: Fyzik.ústav AV ČR v.v.i, Na Slovance 2, Pha 8 182 21
A6: Z. č. | B6: 2495
A7: A. č. | B7: 2495/05/24
A8: Smlouva
A9: Vypracoval | B9: ing.HETTNER L.
A10: Kontroloval
A11: Datum | B11: 1.6.2026
A12: Zpracovatel | B12: cenová soustava RTS(URS)-položky nezatříděny
A13: CÚ
A14: Poznámka | B14: Uvedené ceny jsou v Kč a nezahrnují DPH, pokud to není uvedeno.
A16: Doprava dodávek (3,6) % | B16: 3,60
A17: Přesun dodávek (1) % | B17: 1,00
A18: PPV (1 nebo 6) % | B18: 6,00
A19: PPV zemních prací, nátěrů (1) % | B19: 0,00
A20: Dodavat. dokumentace (1 - 1,5) % | B20: 0,00
A21: Rizika a pojištění (1 - 1,5) % | B21: 1,50
A22: Opravy v záruce (5 - 7) % | B22: 5,00
A23: GZS (3,25 nebo 8,4) % | B23: 3,25
A24: Provozní vlivy % | B24: 5,00
A25: Kompletační činnost - a | B25: 0,00
A26: Kompletační činnost - b | B26: 0,952842
... A32: 2. sazba DPH % | B32: 15
A33: Procento PM % | B33: 15
