Workbook

Sheet SPECIFIKACE_Rozpočet
B1: UCHAZEČ VYPLNÍ ŠEDIVĚ VYZNAČENÉ BUŇKY
B2: Oprava elektrické instalace (HDV a přívody k BJ) v bytovém domě Bohušovická 229/14, Praha 9
B3: Výkaz výměr / Položkový rozpočet
B5: CENA CELKEM | C5: =J21+J101+J147+J155 -> 0 | E5: Kč bez DPH
B6: Doba plnění | C6: ? | E6: týdnů | F6: ( odst. 5.1. Smlouvy)
B7: Nejdříve možný termín zahájení | C7: ?
B9: Počty el.přístrojů mohou být během montáže upraveny s ohledem na změnu požadavků při stavbě
B10: Délky kabelů určeny odečtem z výkresů-při stavbě může nastat nárůst délek s ohledem na skutečně zvolené trasy.
B11: Odkazy v zadávací dokumentaci na jednotlivá obchodní jména a zvláštní označení výrobků a obchodních názvů materiálů popisují a specifikují podmínky požadovaného plnění s tím, že zadavatel připouští i jiná, kvalitativně a technicky obdobná řešení za podmínky, že nesmí dojít ke zhoršení parametrů daných v projektovém řešení. Pokud se uchazeč odchýlí použitím jiných výrobků nebo materiálů od projektu, musí být v cenové nabídce výslovně uvedeno a doloženo, že jsou dodrženy stanovené parametry v zadávací dokumentaci (prohlášení o shodě)
B12: Po skončení denních prací na el.instalaci bude obnovena dodávka el.energie do BD a každé bytové jednotky | I12: =E12+G12 -> 0 | J12: =F12+H12 -> 0
B13: Dodavatel mont.prací bude postupovat (a dodržovat) dle připojovacích podmínek PRE Distribuce a bude smluvním partnerem PRE Distribuce | I13: =E13+G13 -> 0 | J13: =F13+H13 -> 0
E14: Dodávka /materiál | G14: Montáž
A15: index | B15: Název položky | C15: MJ | D15: Počet MJ | E15: Cena za MJ [Kč] | F15: Dodávka celkem | G15: Cena za MJ [Kč] | H15: Montáž celkem | J15: CENA CELKEM
B16: Název | C16: Mj | D16: Počet | E16: Materiál | F16: Materiál celkem | G16: Montáž | H16: Montáž celkem | I16: Cena | J16: Cena celkem
A17: 0 | B17: Dodávky EL.MĚR.SKŘÍNĚ | N17: =Parametry!B33/100*F26+Parametry!B33/100*F27+Parametry!B33/100*F29+Parametry!B33/100*F30+Parametry!B33/100*F31+Parametry!B33/100*F32+Parametry!B33/100*F33+Parametry!B33/100*F38+Parametry!B33/100*F39+Parametry!B33/100*F40+Parametry!B33/100*F41+Parametry!B33/100*F42+Parametry!B33/100*F43+Parametry!B33/100*F44+Parametry!B33/100*F45+Parametry!B33/100*F49+Parametry!B33/100*F50+Parametry!B33/100*F52+Parametry!B33/100*F53+Parametry!B33/100*F54+Parametry!B33/100*F58+Parametry!B33/100*F60+Parametry!B33/100*F62 -> 0
B18: 1NP-Skříň pro 6ks el.měrů (vč.nástavby+.pož.uzávěru EI30 stav.otvor : šxvxhl(mm) 750x1835+600x250 | C18: ks | D18: 1 | F18: =D18*E18 -> 0 | H18: =D18*G18 -> 0 | I18: =E18+G18 -> 0 | J18: =F18+H18 -> 0 | N18: =N17+Parametry!B33/100*F64+Parametry!B33/100*F65+Parametry!B33/100*F66+Parametry!B33/100*F67+Parametry!B33/100*F68+Parametry!B33/100*F69+Parametry!B33/100*F71+Parametry!B33/100*F72+Parametry!B33/100*F73+Parametry!B33/100*F74+Parametry!B33/100*F75+Parametry!B33/100*F77+Parametry!B33/100*F78+Parametry!B33/100*F79+Parametry!B33/100*F80+Parametry!B33/100*F81+Parametry!B33/100*F84+Parametry!B33/100*F85+Parametry!B33/100*F87+Parametry!B33/100*F89+Parametry!B33/100*F91+Parametry!B33/100*F94+Parametry!B33/100*F95 -> 0
B19: 1NP skříň pro 4ks el.měrů (vč.pož.uzávěru EI30) stav.otvor šxvxhl (mm) 550x11835x250 | C19: ks | D19: 2 | F19: =D19*E19 -> 0 | H19: =D19*G19 -> 0 | I19: =E19+G19 -> 0 | J19: =F19+H19 -> 0
B20: TOTAL STOP osazení u el. rozvače RE1 viz. TZ elektro a PBŘ, připojení ovládacího prvku bude kabelem s pož. odolností 30 min. | C20: ks | D20: 1 | F20: =D20*E20 -> 0 | H20: =D20*G20 -> 0 | I20: =E20+G20 -> 0 | J20: =F20+H20 -> 0 | N20: =N18+Parametry!B33/100*F96+Parametry!B33/100*F105+Parametry!B33/100*F106+Parametry!B33/100*F107+Parametry!B33/100*F108+Parametry!B33/100*F109+Parametry!B33/100*F110+Parametry!B33/100*F111+Parametry!B33/100*F113+Parametry!B33/100*F114+Parametry!B33/100*F115+Parametry!B33/100*F116+Parametry!B33/100*F117+Parametry!B33/100*F118+Parametry!B33/100*F120+Parametry!B33/100*F121+Parametry!B33/100*F122+Parametry!B33/100*F123+Parametry!B33/100*F124+Parametry!B33/100*F126+Parametry!B33/100*F127 -> 0
A21: 0 | B21: Dodávky EL.MĚR.SKŘÍNĚ - celkem | F21: =SUM(F18:F20) -> 0 | H21: =SUM(H18:H20) -> 0 | J21: =SUM(J18:J20) -> 0 | N21: =Parametry!B33/100*F26+Parametry!B33/100*F27+Parametry!B33/100*F29+Parametry!B33/100*F30+Parametry!B33/100*F31+Parametry!B33/100*F32+Parametry!B33/100*F33+Parametry!B33/100*F38+Parametry!B33/100*F39+Parametry!B33/100*F40+Parametry!B33/100*F41+Parametry!B33/100*F42+Parametry!B33/100*F43+Parametry!B33/100*F44+Parametry!B33/100*F45+Parametry!B33/100*F49+Parametry!B33/100*F50+Parametry!B33/100*F52+Parametry!B33/100*F53+Parametry!B33/100*F54+Parametry!B33/100*F58+Parametry!B33/100*F60+Parametry!B33/100*F62 -> 0
I22: =E22+G22 -> 0 | N22: =N21+Parametry!B33/100*F64+Parametry!B33/100*F65+Parametry!B33/100*F66+Parametry!B33/100*F67+Parametry!B33/100*F68+Parametry!B33/100*F69+Parametry!B33/100*F71+Parametry!B33/100*F72+Parametry!B33/100*F73+Parametry!B33/100*F74+Parametry!B33/100*F75+Parametry!B33/100*F77+Parametry!B33/100*F78+Parametry!B33/100*F79+Parametry!B33/100*F80+Parametry!B33/100*F81+Parametry!B33/100*F84+Parametry!B33/100*F85+Parametry!B33/100*F87+Parametry!B33/100*F89+Parametry!B33/100*F91+Parametry!B33/100*F94+Parametry!B33/100*F95 -> 0
A23: 0 | B23: Elektromontáže 1NP | N23: =N22+Parametry!B33/100*F96+Parametry!B33/100*F105+Parametry!B33/100*F106+Parametry!B33/100*F107+Parametry!B33/100*F108+Parametry!B33/100*F109+Parametry!B33/100*F110+Parametry!B33/100*F111+Parametry!B33/100*F113+Parametry!B33/100*F114+Parametry!B33/100*F115+Parametry!B33/100*F116+Parametry!B33/100*F117+Parametry!B33/100*F118+Parametry!B33/100*F120+Parametry!B33/100*F121+Parametry!B33/100*F122+Parametry!B33/100*F123+Parametry!B33/100*F124+Parametry!B33/100*F126+Parametry!B33/100*F127 -> 0
B24: RE1 | I24: =E24+G24 -> 0
B25: JISTIČ 1-PÓLOVÝ,CHARAKT."B"
B26: LTN-16B-1 -16A | C26: ks | D26: 2 | F26: =D26*E26 -> 0 | H26: =D26*G26 -> 0 | I26: =E26+G26 -> 0 | J26: =F26+H26 -> 0
B27: LTN-20B-1 -20A | C27: ks | D27: 1 | F27: =D27*E27 -> 0 | H27: =D27*G27 -> 0 | I27: =E27+G27 -> 0 | J27: =F27+H27 -> 0
B28: JISTIČ 3-PÓLOVÝ CHARAKT."B"
B29: LTN-20B-3 -20A | C29: ks | D29: 3 | F29: =D29*E29 -> 0 | H29: =D29*G29 -> 0 | I29: =E29+G29 -> 0 | J29: =F29+H29 -> 0
B30: MSO-32-1 Vypínač | C30: Ks | D30: 3 | F30: =D30*E30 -> 0 | H30: =D30*G30 -> 0 | I30: =E30+G30 -> 0 | J30: =F30+H30 -> 0
B31: MSO-32-3 Vypínač | C31: Ks | D31: 3 | F31: =D31*E31 -> 0 | H31: =D31*G31 -> 0 | I31: =E31+G31 -> 0 | J31: =F31+H31 -> 0
B32: Jistič- Odpínač In=160A | C32: Ks | D32: 1 | F32: =D32*E32 -> 0 | H32: =D32*G32 -> 0 | I32: =E32+G32 -> 0 | J32: =F32+H32 -> 0
B33: Napěťová spoušť 230V AC | C33: Ks | D33: 1 | F33: =D33*E33 -> 0 | H33: =D33*G33 -> 0 | I33: =E33+G33 -> 0 | J33: =F33+H33 -> 0
I34: =E34+G34 -> 0
B35: RS1 | I35: =E35+G35 -> 0
B36: Zařízení
B37: PÁČKOVÝ SPÍNAČ (OEZ)
B38: Vypínač 32 A 3-pólový | C38: ks | D38: 1 | F38: =D38*E38 -> 0 | H38: =D38*G38 -> 0 | I38: =E38+G38 -> 0 | J38: =F38+H38 -> 0
B39: 6B-1 Jistič jednofázový | C39: Ks | D39: 1 | F39: =D39*E39 -> 0 | H39: =D39*G39 -> 0 | I39: =E39+G39 -> 0 | J39: =F39+H39 -> 0
B40: 10B-1 Jistič jednofázový | C40: Ks | D40: 1 | F40: =D40*E40 -> 0 | H40: =D40*G40 -> 0 | I40: =E40+G40 -> 0 | J40: =F40+H40 -> 0
B41: 16B-1 Jistič jednofázový | C41: Ks | D41: 2 | F41: =D41*E41 -> 0 | H41: =D41*G41 -> 0 | I41: =E41+G41 -> 0 | J41: =F41+H41 -> 0
B42: 20B-3 Jistič trojfízový | C42: Ks | D42: 1 | F42: =D42*E42 -> 0 | H42: =D42*G42 -> 0 | I42: =E42+G42 -> 0 | J42: =F42+H42 -> 0
...

Sheet Parametry
A1: Název | B1: Hodnota
A2: Nadpis rekapitulace | B2: Seznam prací a dodávek elektrotechnických zařízení - JKSO
A3: Akce | B3: OPRAVA DOM.ROZVODŮ NN V BYT.DOMĚ č.p.229/14 ul.Bohušovická,Pha 9
A4: Projekt | B4: ELEKTRO
A5: Investor | B5: Fyzik.ústav AV ČR v.v.i, Na Slovance 2, Pha 8 182 21
A6: Z. č. | B6: 2495
A7: A. č. | B7: 2495/05/24
A8: Smlouva
A9: Vypracoval | B9: ing.HETTNER L.
A10: Kontroloval
A11: Datum | B11: 1.6.2026
A12: Zpracovatel | B12: cenová soustava RTS(URS)-položky nezatříděny
A13: CÚ
A14: Poznámka | B14: Uvedené ceny jsou v Kč a nezahrnují DPH, pokud to není uvedeno.
A16: Doprava dodávek (3,6) % | B16: 3,60
A17: Přesun dodávek (1) % | B17: 1,00
A18: PPV (1 nebo 6) % | B18: 6,00
A19: PPV zemních prací, nátěrů (1) % | B19: 0,00
A20: Dodavat. dokumentace (1 - 1,5) % | B20: 0,00
A21: Rizika a pojištění (1 - 1,5) % | B21: 1,50
A22: Opravy v záruce (5 - 7) % | B22: 5,00
A23: GZS (3,25 nebo 8,4) % | B23: 3,25
A24: Provozní vlivy % | B24: 5,00
A25: Kompletační činnost - a | B25: 0,00
A26: Kompletační činnost - b | B26: 0,952842
... A32: 2. sazba DPH % | B32: 15
A33: Procento PM % | B33: 15
