Workbook

Sheet Rekapitulace stavby
A1: Export Komplet | AZ1: VZ | BA1: 2.0 | BB1: ZAMOK | BT1: False | BU1: False | BV1: {e00c9e41-8b45-44f4-a35c-edada5650279}
BS2: 0,01 | BT2: 21
BS3: 0,01 | BT3: 12
D4: REKAPITULACE STAVBY | AS4: v --- níže se nacházejí doplnkové a pomocné údaje k sestavám --- v | BS4: 0,001
D5: Kód: | K5: 05/25 | BS5: 0,01
D6: Stavba: | K6: ÚPRAVY HŘBITOVA KBELY- ETAPA1 | BS6: 0,01
D7: KSO: | K7: 815 9 | AK7: CC-CZ: | AN7: 12 | BS7: 0,01
D8: Místo: | K8: Praha 9-Kbely | AK8: Datum: | BS8: 0,01
D9: CZ-CPV: | K9: 45000000-7 | AK9: CZ-CPA: | AN9: 41 | BS9: 0,01
D10: Zadavatel: | AK10: IČ: | AN10: 00231304 | BS10: 0,01
E11: MČ Praha 19, Semilská 43/1, 197 00 Praha 9 - Kbely | AK11: DIČ: | BS11: 0,01
BS12: 0,01
D13: Zhotovitel: | AK13: IČ: | AN13: 07395680 | BS13: 0,01
E14: IWU s.r.o. | AK14: DIČ: | AN14: CZ07395680 | BS14: 0,01
BS15: False
D16: Projektant: | AK16: IČ: | BS16: False
E17: Ing.Jan Pustějovský, Ph.D. | AK17: DIČ: | BS17: True
BS18: 0,01
D19: Zpracovatel: | AK19: IČ: | BS19: 0,01
AK20: DIČ: | BS20: False
D22: Poznámka:
E23: Položkový rozpočet zpracován v CS ÚRS s CH 2024/II na základě PD -10/2024
D26: Cena bez DPH | AK26: =ROUND(AG54,2) -> -984475.9
L28: Sazba daně | W28: Základ daně | AK28: Výše daně
D29: DPH | F29: základní | L29: 0.21 | W29: =ROUND(AZ54, 2) -> -984475.9 | AK29: =ROUND(AV54, 2) -> -206739.94
F30: snížená | L30: 0.12 | W30: =ROUND(BA54, 2) -> 0 | AK30: =ROUND(AW54, 2) -> 0
F31: zákl. přenesená | L31: 0.21 | W31: =ROUND(BB54, 2) -> 0 | AK31: 0
F32: sníž. přenesená | L32: 0.12 | W32: =ROUND(BC54, 2) -> 0 | AK32: 0
F33: nulová | L33: 0 | W33: =ROUND(BD54, 2) -> 0 | AK33: 0
D35: Cena s DPH | T35: v | X35: CZK | AK35: =SUM(AK26:AK33) -> -1191215.8
C42: REKAPITULACE OBJEKTŮ STAVBY A SOUPISŮ PRACÍ
C44: Kód: | L44: =K5 -> 05/25
C45: Stavba: | L45: =K6 -> ÚPRAVY HŘBITOVA KBELY- ETAPA1
C47: Místo: | L47: =IF(K8="","",K8) -> Praha 9-Kbely | AI47: Datum: | AM47: =IF(AN8= "","",AN8)
C49: Zadavatel: | L49: =IF(E11= "","",E11) -> MČ Praha 19, Semilská 43/1, 197 00 Praha 9 - Kbely | AI49: Projektant: | AM49: =IF(E17="","",E17) -> Ing.Jan Pustějovský, Ph.D. | AS49: Informatívní údaje z listů zakázek
C50: Zhotovitel: | L50: =IF(E14="","",E14) -> IWU s.r.o. | AI50: Zpracovatel: | AM50: =IF(E20="","",E20)
C52: Kód | I52: Popis | AG52: Cena bez DPH [CZK] | AN52: Cena s DPH [CZK] | AQ52: Typ | AS52: z toho Ostat._x000D_ náklady [CZK] | AT52: DPH [CZK] | AU52: Normohodiny [h] | AV52: DPH základní [CZK] | AW52: DPH snížená [CZK] | AX52: DPH základní přenesená_x000D_ [CZK] | AY52: DPH snížená přenesená_x000D_ [CZK] | AZ52: Základna_x000D_ DPH základní | BA52: Základna_x000D_ DPH snížená | BB52: Základna_x000D_ DPH zákl. přenesená | BC52: Základna_x000D_ DPH sníž. přenesená | BD52: Základna_x000D_ DPH nulová
C54: Náklady stavby celkem | AG54: =ROUND(AG55+AG70,2) -> -984475.9 | AN54: =SUM(AG54,AT54) -> -1191215.8 | AS54: =ROUND(AS55+AS70,2) -> 0 | AT54: =ROUND(SUM(AV54:AW54),2) -> -206739.94 | AU54: =ROUND(AU55+AU70,5) -> 0 | AV54: =ROUND(AZ54*L29,2) -> -206739.94 | AW54: =ROUND(BA54*L30,2) -> 0 | AX54: =ROUND(BB54*L29,2) -> 0 | AY54: =ROUND(BC54*L30,2) -> 0 | AZ54: =ROUND(AZ55+AZ70,2) -> -984475.9 | BA54: =ROUND(BA55+BA70,2) -> 0 | BB54: =ROUND(BB55+BB70,2) -> 0 | BC54: =ROUND(BC55+BC70,2) -> 0 | BD54: =ROUND(BD55+BD70,2) -> 0 | BS54: D | BT54: 0 | BU54: ###NOIMPORT### | BV54: IMPORT | BW54: {e00c9e41-8b45-44f4-a35c-edada5650279} | BX54: {00000000-0000-0000-0000-000000000000} | CL54: 815 9
D55: 01 | J55: Navrhované objekty | AG55: =ROUND(AG56+AG58+AG60+AG62+AG64+AG66+AG68,2) -> -647032.73 | AN55: =SUM(AG55,AT55) -> -782909.6 | AQ55: STA | AS55: =ROUND(AS56+AS58+AS60+AS62+AS64+AS66+AS68,2) -> 0 | AT55: =ROUND(SUM(AV55:AW55),2) -> -135876.87 | AU55: =ROUND(AU56+AU58+AU60+AU62+AU64+AU66+AU68,5) -> 0 | AV55: =ROUND(AZ55*L29,2) -> -135876.87 | AW55: =ROUND(BA55*L30,2) -> 0 | AX55: =ROUND(BB55*L29,2) -> 0 | AY55: =ROUND(BC55*L30,2) -> 0 | AZ55: =ROUND(AZ56+AZ58+AZ60+AZ62+AZ64+AZ66+AZ68,2) -> -647032.73 | BA55: =ROUND(BA56+BA58+BA60+BA62+BA64+BA66+BA68,2) -> 0 | BB55: =ROUND(BB56+BB58+BB60+BB62+BB64+BB66+BB68,2) -> 0 | BC55: =ROUND(BC56+BC58+BC60+BC62+BC64+BC66+BC68,2) -> 0 | BD55: =ROUND(BD56+BD58+BD60+BD62+BD64+BD66+BD68,2) -> 0 | BS55: D | BT55: 1 | BU55: ###NOIMPORT### | BV55: IMPORT | BW55: {1fe41dd8-8cc0-4dd3-96fb-5e5554e15797} | BX55: {e00c9e41-8b45-44f4-a35c-edada5650279} | CL55: 815 9 | CM55: 2
E56: 01a | K56: Přípravné práce | AG56: =ROUND(AG57,2) -> -81550 | AN56: =SUM(AG56,AT56) -> -98675.5 | AQ56: Soupis | AS56: =ROUND(AS57,2) -> 0 | AT56: =ROUND(SUM(AV56:AW56),2) -> -17125.5 | AU56: =ROUND(AU57,5) -> 0 | AV56: =ROUND(AZ56*L29,2) -> -17125.5 | AW56: =ROUND(BA56*L30,2) -> 0 | AX56: =ROUND(BB56*L29,2) -> 0 | AY56: =ROUND(BC56*L30,2) -> 0 | AZ56: =ROUND(AZ57,2) -> -81550 | BA56: =ROUND(BA57,2) -> 0 | BB56: =ROUND(BB57,2) -> 0 | BC56: =ROUND(BC57,2) -> 0 | BD56: =ROUND(BD57,2) -> 0 | BS56: D | BT56: 2 | BU56: ###NOIMPORT### | BV56: IMPORT | BW56: {f144ebf1-619f-4441-8a74-6d9edd0e8bdc} | BX56: {1fe41dd8-8cc0-4dd3-96fb-5e5554e15797} | CL56: 815 9
A57: / | F57: ZBV-01a | L57: méněpráce | AG57: ='ZBV-01a - méněpráce'!J34 -> -81550 | AN57: =SUM(AG57,AT57) -> -98675.5 | AQ57: Soupis | AS57: 0 | AT57: =ROUND(SUM(AV57:AW57),2) -> -17125.5 | AU57: ='ZBV-01a - méněpráce'!P93 -> 0 | AV57: ='ZBV-01a - méněpráce'!J37 -> -17125.5 | AW57: ='ZBV-01a - méněpráce'!J38 -> 0 | AX57: ='ZBV-01a - méněpráce'!J39 -> 0 | AY57: ='ZBV-01a - méněpráce'!J40 -> 0 | AZ57: ='ZBV-01a - méněpráce'!F37 -> -81550 | BA57: ='ZBV-01a - méněpráce'!F38 -> 0 | BB57: ='ZBV-01a - méněpráce'!F39 -> 0 | BC57: ='ZBV-01a - méněpráce'!F40 -> 0 | BD57: ='ZBV-01a - méněpráce'!F41 -> 0 | BT57: 3 | BV57: IMPORT | BW57: {7072d825-8a85-4fa9-b817-ee2e7c402f39} | BX57: {f144ebf1-619f-4441-8a74-6d9edd0e8bdc} | CL57: 815 9
E58: 07 | K58: KOLUMBÁRIUM | AG58: =ROUND(AG59,2) -> -55452.53 | AN58: =SUM(AG58,AT58) -> -67097.56 | AQ58: Soupis | AS58: =ROUND(AS59,2) -> 0 | AT58: =ROUND(SUM(AV58:AW58),2) -> -11645.03 | AU58: =ROUND(AU59,5) -> 0 | AV58: =ROUND(AZ58*L29,2) -> -11645.03 | AW58: =ROUND(BA58*L30,2) -> 0 | AX58: =ROUND(BB58*L29,2) -> 0 | AY58: =ROUND(BC58*L30,2) -> 0 | AZ58: =ROUND(AZ59,2) -> -55452.53 | BA58: =ROUND(BA59,2) -> 0 | BB58: =ROUND(BB59,2) -> 0 | BC58: =ROUND(BC59,2) -> 0 | BD58: =ROUND(BD59,2) -> 0 | BS58: D | BT58: 2 | BU58: ###NOIMPORT### | BV58: IMPORT | BW58: {12e068f8-e123-46e4-89ca-100ec925e7f4} | BX58: {1fe41dd8-8cc0-4dd3-96fb-5e5554e15797} | CL58: 815 9
A59: / | F59: ZBV-02a | L59: méněpráce | AG59: ='ZBV-02a - méněpráce'!J34 -> -55452.53 | AN59: =SUM(AG59,AT59) -> -67097.56 | AQ59: Soupis | AS59: 0 | AT59: =ROUND(SUM(AV59:AW59),2) -> -11645.03 | AU59: ='ZBV-02a - méněpráce'!P94 -> 0 | AV59: ='ZBV-02a - méněpráce'!J37 -> -11645.03 | AW59: ='ZBV-02a - méněpráce'!J38 -> 0 | AX59: ='ZBV-02a - méněpráce'!J39 -> 0 | AY59: ='ZBV-02a - méněpráce'!J40 -> 0 | AZ59: ='ZBV-02a - méněpráce'!F37 -> -55452.53 | BA59: ='ZBV-02a - méněpráce'!F38 -> 0 | BB59: ='ZBV-02a - méněpráce'!F39 -> 0 | BC59: ='ZBV-02a - méněpráce'!F40 -> 0 | BD59: ='ZBV-02a - méněpráce'!F41 -> 0 | BT59: 3 | BV59: IMPORT | BW59: {cfb8e07d-c672-4f8f-9ba4-6d0691c03800} | BX59: {12e068f8-e123-46e4-89ca-100ec925e7f4} | CL59: 815 9
E60: 08 | K60: KOLUMBÁRIUM | AG60: =ROUND(AG61,2) -> -229411.21 | AN60: =SUM(AG60,AT60) -> -277587.56 | AQ60: Soupis | AS60: =ROUND(AS61,2) -> 0 | AT60: =ROUND(SUM(AV60:AW60),2) -> -48176.35 | AU60: =ROUND(AU61,5) -> 0 | AV60: =ROUND(AZ60*L29,2) -> -48176.35 | AW60: =ROUND(BA60*L30,2) -> 0 | AX60: =ROUND(BB60*L29,2) -> 0 | AY60: =ROUND(BC60*L30,2) -> 0 | AZ60: =ROUND(AZ61,2) -> -229411.21 | BA60: =ROUND(BA61,2) -> 0 | BB60: =ROUND(BB61,2) -> 0 | BC60: =ROUND(BC61,2) -> 0 | BD60: =ROUND(BD61,2) -> 0 | BS60: D | BT60: 2 | BU60: ###NOIMPORT### | BV60: IMPORT | BW60: {1648dd7c-8f79-4879-b56c-e2b8977b3a3f} | BX60: {1fe41dd8-8cc0-4dd3-96fb-5e5554e15797} | CL60: 815 9
A61: / | F61: ZBV-03a | L61: méněpráce | AG61: ='ZBV-03a - méněpráce'!J34 -> -229411.21 | AN61: =SUM(AG61,AT61) -> -277587.56 | AQ61: Soupis | AS61: 0 | AT61: =ROUND(SUM(AV61:AW61),2) -> -48176.35 | AU61: ='ZBV-03a - méněpráce'!P94 -> 0 | AV61: ='ZBV-03a - méněpráce'!J37 -> -48176.35 | AW61: ='ZBV-03a - méněpráce'!J38 -> 0 | AX61: ='ZBV-03a - méněpráce'!J39 -> 0 | AY61: ='ZBV-03a - méněpráce'!J40 -> 0 | AZ61: ='ZBV-03a - méněpráce'!F37 -> -229411.21 | BA61: ='ZBV-03a - méněpráce'!F38 -> 0 | BB61: ='ZBV-03a - méněpráce'!F39 -> 0 | BC61: ='ZBV-03a - méněpráce'!F40 -> 0 | BD61: ='ZBV-03a - méněpráce'!F41 -> 0 | BT61: 3 | BV61: IMPORT | BW61: {98aded36-1a98-4da2-898d-841d1e4f348c} | BX61: {1648dd7c-8f79-4879-b56c-e2b8977b3a3f} | CL61: 815 9
E62: 09 | K62: KOLUMBÁRIUM | AG62: =ROUND(AG63,2) -> -86577.24 | AN62: =SUM(AG62,AT62) -> -104758.46 | AQ62: Soupis | AS62: =ROUND(AS63,2) -> 0 | AT62: =ROUND(SUM(AV62:AW62),2) -> -18181.22 | AU62: =ROUND(AU63,5) -> 0 | AV62: =ROUND(AZ62*L29,2) -> -18181.22 | AW62: =ROUND(BA62*L30,2) -> 0 | AX62: =ROUND(BB62*L29,2) -> 0 | AY62: =ROUND(BC62*L30,2) -> 0 | AZ62: =ROUND(AZ63,2) -> -86577.24 | BA62: =ROUND(BA63,2) -> 0 | BB62: =ROUND(BB63,2) -> 0 | BC62: =ROUND(BC63,2) -> 0 | BD62: =ROUND(BD63,2) -> 0 | BS62: D | BT62: 2 | BU62: ###NOIMPORT### | BV62: IMPORT | BW62: {318d45e2-cc03-49f6-adcc-6cfa3c94cc2b} | BX62: {1fe41dd8-8cc0-4dd3-96fb-5e5554e15797} | CL62: 815 9
A63: / | F63: ZBV-04a | L63: méněpráce | AG63: ='ZBV-04a - méněpráce'!J34 -> -86577.24 | AN63: =SUM(AG63,AT63) -> -104758.46 | AQ63: Soupis | AS63: 0 | AT63: =ROUND(SUM(AV63:AW63),2) -> -18181.22 | AU63: ='ZBV-04a - méněpráce'!P94 -> 0 | AV63: ='ZBV-04a - méněpráce'!J37 -> -18181.22 | AW63: ='ZBV-04a - méněpráce'!J38 -> 0 | AX63: ='ZBV-04a - méněpráce'!J39 -> 0 | AY63: ='ZBV-04a - méněpráce'!J40 -> 0 | AZ63: ='ZBV-04a - méněpráce'!F37 -> -86577.24 | BA63: ='ZBV-04a - méněpráce'!F38 -> 0 | BB63: ='ZBV-04a - méněpráce'!F39 -> 0 | BC63: ='ZBV-04a - méněpráce'!F40 -> 0 | BD63: ='ZBV-04a - méněpráce'!F41 -> 0 | BT63: 3 | BV63: IMPORT | BW63: {7cd4c9f9-8373-44a4-b9f8-84d4560f5040} | BX63: {318d45e2-cc03-49f6-adcc-6cfa3c94cc2b} | CL63: 815 9
E64: 10 | K64: KOLUMBÁRIUM | AG64: =ROUND(AG65,2) -> -90565.67 | AN64: =SUM(AG64,AT64) -> -109584.46 | AQ64: Soupis | AS64: =ROUND(AS65,2) -> 0 | AT64: =ROUND(SUM(AV64:AW64),2) -> -19018.79 | AU64: =ROUND(AU65,5) -> 0 | AV64: =ROUND(AZ64*L29,2) -> -19018.79 | AW64: =ROUND(BA64*L30,2) -> 0 | AX64: =ROUND(BB64*L29,2) -> 0 | AY64: =ROUND(BC64*L30,2) -> 0 | AZ64: =ROUND(AZ65,2) -> -90565.67 | BA64: =ROUND(BA65,2) -> 0 | BB64: =ROUND(BB65,2) -> 0 | BC64: =ROUND(BC65,2) -> 0 | BD64: =ROUND(BD65,2) -> 0 | BS64: D | BT64: 2 | BU64: ###NOIMPORT### | BV64: IMPORT | BW64: {47416657-0009-4f61-b0a3-af82d4e97114} | BX64: {1fe41dd8-8cc0-4dd3-96fb-5e5554e15797} | CL64: 815 9
A65: / | F65: ZBV-05a | L65: méněpráce | AG65: ='ZBV-05a - méněpráce'!J34 -> -90565.67 | AN65: =SUM(AG65,AT65) -> -109584.46 | AQ65: Soupis | AS65: 0 | AT65: =ROUND(SUM(AV65:AW65),2) -> -19018.79 | AU65: ='ZBV-05a - méněpráce'!P94 -> 0 | AV65: ='ZBV-05a - méněpráce'!J37 -> -19018.79 | AW65: ='ZBV-05a - méněpráce'!J38 -> 0 | AX65: ='ZBV-05a - méněpráce'!J39 -> 0 | AY65: ='ZBV-05a - méněpráce'!J40 -> 0 | AZ65: ='ZBV-05a - méněpráce'!F37 -> -90565.67 | BA65: ='ZBV-05a - méněpráce'!F38 -> 0 | BB65: ='ZBV-05a - méněpráce'!F39 -> 0 | BC65: ='ZBV-05a - méněpráce'!F40 -> 0 | BD65: ='ZBV-05a - méněpráce'!F41 -> 0 | BT65: 3 | BV65: IMPORT | BW65: {e9223328-9947-4f5d-b51e-d0c1ee4e8339} | BX65: {47416657-0009-4f61-b0a3-af82d4e97114} | CL65: 815 9
E66: 11 | K66: KOLUMBÁRIUM | AG66: =ROUND(AG67,2) -> -67689.1 | AN66: =SUM(AG66,AT66) -> -81903.81 | AQ66: Soupis | AS66: =ROUND(AS67,2) -> 0 | AT66: =ROUND(SUM(AV66:AW66),2) -> -14214.71 | AU66: =ROUND(AU67,5) -> 0 | AV66: =ROUND(AZ66*L29,2) -> -14214.71 | AW66: =ROUND(BA66*L30,2) -> 0 | AX66: =ROUND(BB66*L29,2) -> 0 | AY66: =ROUND(BC66*L30,2) -> 0 | AZ66: =ROUND(AZ67,2) -> -67689.1 | BA66: =ROUND(BA67,2) -> 0 | BB66: =ROUND(BB67,2) -> 0 | BC66: =ROUND(BC67,2) -> 0 | BD66: =ROUND(BD67,2) -> 0 | BS66: D | BT66: 2 | BU66: ###NOIMPORT### | BV66: IMPORT | BW66: {63f55a11-3cf9-4a58-861f-4ea081a91b95} | BX66: {1fe41dd8-8cc0-4dd3-96fb-5e5554e15797} | CL66: 815 9
A67: / | F67: ZBV-06a | L67: méněpráce | AG67: ='ZBV-06a - méněpráce'!J34 -> -67689.1 | AN67: =SUM(AG67,AT67) -> -81903.81 | AQ67: Soupis | AS67: 0 | AT67: =ROUND(SUM(AV67:AW67),2) -> -14214.71 | AU67: ='ZBV-06a - méněpráce'!P94 -> 0 | AV67: ='ZBV-06a - méněpráce'!J37 -> -14214.71 | AW67: ='ZBV-06a - méněpráce'!J38 -> 0 | AX67: ='ZBV-06a - méněpráce'!J39 -> 0 | AY67: ='ZBV-06a - méněpráce'!J40 -> 0 | AZ67: ='ZBV-06a - méněpráce'!F37 -> -67689.1 | BA67: ='ZBV-06a - méněpráce'!F38 -> 0 | BB67: ='ZBV-06a - méněpráce'!F39 -> 0 | BC67: ='ZBV-06a - méněpráce'!F40 -> 0 | BD67: ='ZBV-06a - méněpráce'!F41 -> 0 | BT67: 3 | BV67: IMPORT | BW67: {3a364fa1-bab6-4d23-9726-7b4aa15ed839} | BX67: {63f55a11-3cf9-4a58-861f-4ea081a91b95} | CL67: 815 9
E68: 12 | K68: KOLUMBÁRIUM | AG68: =ROUND(AG69,2) -> -35786.98 | AN68: =SUM(AG68,AT68) -> -43302.25 | AQ68: Soupis | AS68: =ROUND(AS69,2) -> 0 | AT68: =ROUND(SUM(AV68:AW68),2) -> -7515.27 | AU68: =ROUND(AU69,5) -> 0 | AV68: =ROUND(AZ68*L29,2) -> -7515.27 | AW68: =ROUND(BA68*L30,2) -> 0 | AX68: =ROUND(BB68*L29,2) -> 0 | AY68: =ROUND(BC68*L30,2) -> 0 | AZ68: =ROUND(AZ69,2) -> -35786.98 | BA68: =ROUND(BA69,2) -> 0 | BB68: =ROUND(BB69,2) -> 0 | BC68: =ROUND(BC69,2) -> 0 | BD68: =ROUND(BD69,2) -> 0 | BS68: D | BT68: 2 | BU68: ###NOIMPORT### | BV68: IMPORT | BW68: {af0df53a-fd74-4753-ad06-1b34a3a1f33b} | BX68: {1fe41dd8-8cc0-4dd3-96fb-5e5554e15797} | CL68: 815 9
A69: / | F69: ZBV-07a | L69: méněpráce | AG69: ='ZBV-07a - méněpráce'!J34 -> -35786.98 | AN69: =SUM(AG69,AT69) -> -43302.25 | AQ69: Soupis | AS69: 0 | AT69: =ROUND(SUM(AV69:AW69),2) -> -7515.27 | AU69: ='ZBV-07a - méněpráce'!P94 -> 0 | AV69: ='ZBV-07a - méněpráce'!J37 -> -7515.27 | AW69: ='ZBV-07a - méněpráce'!J38 -> 0 | AX69: ='ZBV-07a - méněpráce'!J39 -> 0 | AY69: ='ZBV-07a - méněpráce'!J40 -> 0 | AZ69: ='ZBV-07a - méněpráce'!F37 -> -35786.98 | BA69: ='ZBV-07a - méněpráce'!F38 -> 0 | BB69: ='ZBV-07a - méněpráce'!F39 -> 0 | BC69: ='ZBV-07a - méněpráce'!F40 -> 0 | BD69: ='ZBV-07a - méněpráce'!F41 -> 0 | BT69: 3 | BV69: IMPORT | BW69: {9995098d-d540-49cc-92e2-c7832f64e49f} | BX69: {af0df53a-fd74-4753-ad06-1b34a3a1f33b} | CL69: 815 9
D70: 03 | J70: Navrhované povrchy | AG70: =ROUND(AG71,2) -> -337443.17 | AN70: =SUM(AG70,AT70) -> -408306.24 | AQ70: STA | AS70: =ROUND(AS71,2) -> 0 | AT70: =ROUND(SUM(AV70:AW70),2) -> -70863.07 | AU70: =ROUND(AU71,5) -> 0 | AV70: =ROUND(AZ70*L29,2) -> -70863.07 | AW70: =ROUND(BA70*L30,2) -> 0 | AX70: =ROUND(BB70*L29,2) -> 0 | AY70: =ROUND(BC70*L30,2) -> 0 | AZ70: =ROUND(AZ71,2) -> -337443.17 | BA70: =ROUND(BA71,2) -> 0 | BB70: =ROUND(BB71,2) -> 0 | BC70: =ROUND(BC71,2) -> 0 | BD70: =ROUND(BD71,2) -> 0 | BS70: D | BT70: 1 | BU70: ###NOIMPORT### | BV70: IMPORT | BW70: {47fcbf56-ea73-41e3-acd9-814ac12da8e7} | BX70: {e00c9e41-8b45-44f4-a35c-edada5650279} | CL70: 822 5 | CM70: 2
E71: B | K71: Litý beton pochozí | AG71: =ROUND(AG72,2) -> -337443.17 | AN71: =SUM(AG71,AT71) -> -408306.24 | AQ71: Soupis | AS71: =ROUND(AS72,2) -> 0 | AT71: =ROUND(SUM(AV71:AW71),2) -> -70863.07 | AU71: =ROUND(AU72,5) -> 0 | AV71: =ROUND(AZ71*L29,2) -> -70863.07 | AW71: =ROUND(BA71*L30,2) -> 0 | AX71: =ROUND(BB71*L29,2) -> 0 | AY71: =ROUND(BC71*L30,2) -> 0 | AZ71: =ROUND(AZ72,2) -> -337443.17 | BA71: =ROUND(BA72,2) -> 0 | BB71: =ROUND(BB72,2) -> 0 | BC71: =ROUND(BC72,2) -> 0 | BD71: =ROUND(BD72,2) -> 0 | BS71: D | BT71: 2 | BU71: ###NOIMPORT### | BV71: IMPORT | BW71: {50410c3b-43b2-4c3f-a065-4f68165b27cb} | BX71: {47fcbf56-ea73-41e3-acd9-814ac12da8e7} | CL71: 822 5
A72: / | F72: ZBV-08a | L72: méněpráce | AG72: ='ZBV-08a - méněpráce'!J34 -> -337443.17 | AN72: =SUM(AG72,AT72) -> -408306.24 | AQ72: Soupis | AS72: 0 | AT72: =ROUND(SUM(AV72:AW72),2) -> -70863.07 | AU72: ='ZBV-08a - méněpráce'!P95 -> 0 | AV72: ='ZBV-08a - méněpráce'!J37 -> -70863.07 | AW72: ='ZBV-08a - méněpráce'!J38 -> 0 | AX72: ='ZBV-08a - méněpráce'!J39 -> 0 | AY72: ='ZBV-08a - méněpráce'!J40 -> 0 | AZ72: ='ZBV-08a - méněpráce'!F37 -> -337443.17 | BA72: ='ZBV-08a - méněpráce'!F38 -> 0 | BB72: ='ZBV-08a - méněpráce'!F39 -> 0 | BC72: ='ZBV-08a - méněpráce'!F40 -> 0 | BD72: ='ZBV-08a - méněpráce'!F41 -> 0 | BT72: 3 | BV72: IMPORT | BW72: {8dbc307e-8e38-416e-ac8b-77cc613d450e} | BX72: {50410c3b-43b2-4c3f-a065-4f68165b27cb} | CL72: 822 5

Sheet ZBV-01a - méněpráce
AT2: {7072d825-8a85-4fa9-b817-ee2e7c402f39}
AT3: 2
D4: KRYCÍ LIST SOUPISU PRACÍ | M4: v --- níže se nacházejí doplnkové a pomocné údaje k sestavám --- v | AT4: False
D6: Stavba:
E7: ='Rekapitulace stavby'!K6 -> ÚPRAVY HŘBITOVA KBELY- ETAPA1
D8: Objekt:
E9: 01 - Navrhované objekty
D10: Soupis:
E11: 01a - Přípravné práce
D12: Úroveň 3:
E13: ZBV-01a - méněpráce
D15: KSO: | F15: 815 9 | I15: CC-CZ:
D16: Místo: | F16: Praha 9-Kbely | I16: Datum: | J16: ='Rekapitulace stavby'!AN8 -> 0
D18: Zadavatel: | I18: IČ: | J18: 00231304
E19: MČ Praha 19, Semilská 43/1, 197 00 Praha 9 - Kbely | I19: DIČ:
D21: Zhotovitel: | I21: IČ: | J21: 07395680
E22: IWU s.r.o. | I22: DIČ: | J22: CZ07395680
D24: Projektant: | I24: IČ:
E25: Ing.Jan Pustějovský, Ph.D. | I25: DIČ:
D27: Zpracovatel: | I27: IČ:
I28: DIČ:
D30: Poznámka:
D34: Cena bez DPH | J34: =ROUND(J93, 2) -> -81550
F36: Základ daně | I36: Sazba daně | J36: Výše daně
D37: DPH | E37: základní | F37: =ROUND((SUM(BE93:BE103)), 2) -> -81550 | I37: 0.21 | J37: =ROUND(((SUM(BE93:BE103))*I37), 2) -> -17125.5
E38: snížená | F38: =ROUND((SUM(BF93:BF103)), 2) -> 0 | I38: 0.12 | J38: =ROUND(((SUM(BF93:BF103))*I38), 2) -> 0
E39: zákl. přenesená | F39: =ROUND((SUM(BG93:BG103)), 2) -> 0 | I39: 0.21 | J39: =0 -> 0
E40: sníž. přenesená | F40: =ROUND((SUM(BH93:BH103)), 2) -> 0 | I40: 0.12 | J40: =0 -> 0
E41: nulová | F41: =ROUND((SUM(BI93:BI103)), 2) -> 0 | I41: 0 | J41: =0 -> 0
D43: Cena s DPH | G43: v | H43: CZK | J43: =SUM(J34:J41) -> -98675.5
C49: REKAPITULACE ČLENĚNÍ SOUPISU PRACÍ
C51: Stavba:
E52: =E7 -> ÚPRAVY HŘBITOVA KBELY- ETAPA1
C53: Objekt:
E54: 01 - Navrhované objekty
C55: Soupis:
E56: 01a - Přípravné práce
C57: Úroveň 3:
E58: =E13 -> ZBV-01a - méněpráce
C60: Místo: | F60: =F16 -> Praha 9-Kbely | I60: Datum: | J60: =IF(J16="","",J16) -> 0
C62: Zadavatel: | F62: =E19 -> MČ Praha 19, Semilská 43/1, 197 00 Praha 9 - Kbely | I62: Projektant: | J62: =E25 -> Ing.Jan Pustějovský, Ph.D.
C63: Zhotovitel: | F63: =IF(E22="","",E22) -> IWU s.r.o. | I63: Zpracovatel: | J63: =E28
C65: Kód dílu - Popis | J65: Cena celkem [CZK]
C67: Náklady stavby celkem | J67: =J93 -> -81550 | AU67: -1
D68: HSV - Práce a dodávky HSV | J68: =J94 -> -81550
D69: 1 - Zemní práce | J69: =J95 -> -81550
C76: SOUPIS PRACÍ
C78: Stavba:
E79: =E7 -> ÚPRAVY HŘBITOVA KBELY- ETAPA1
C80: Objekt:
E81: 01 - Navrhované objekty
C82: Soupis:
E83: 01a - Přípravné práce
C84: Úroveň 3:
E85: =E13 -> ZBV-01a - méněpráce
C87: Místo: | F87: =F16 -> Praha 9-Kbely | I87: Datum: | J87: =IF(J16="","",J16) -> 0
C89: Zadavatel: | F89: =E19 -> MČ Praha 19, Semilská 43/1, 197 00 Praha 9 - Kbely | I89: Projektant: | J89: =E25 -> Ing.Jan Pustějovský, Ph.D.
C90: Zhotovitel: | F90: =IF(E22="","",E22) -> IWU s.r.o. | I90: Zpracovatel: | J90: =E28
C92: PČ | D92: Typ | E92: Kód | F92: Popis | G92: MJ | H92: Množství | I92: J.cena [CZK] | J92: Cena celkem [CZK] | K92: Cenová soustava | N92: DPH | O92: J. Nh [h] | P92: Nh celkem [h] | Q92: J. hmotnost [t] | R92: Hmotnost celkem [t] | S92: J. suť [t] | T92: Suť Celkem [t]
C93: Náklady soupisu celkem | J93: =BK93 -> -81550 | P93: =P94 -> 0 | R93: =R94 -> 0 | T93: =T94 -> 0 | AT93: D | AU93: -1 | BK93: =BK94 -> -81550
D94: D | E94: HSV | F94: Práce a dodávky HSV | J94: =BK94 -> -81550 | P94: =P95 -> 0 | R94: =R95 -> 0 | T94: =T95 -> 0 | AR94: 1 | AT94: D | AU94: 0 | AY94: ROZPOCET | BK94: =BK95 -> -81550
D95: D | E95: 1 | F95: Zemní práce | J95: =BK95 -> -81550 | P95: =SUM(P96:P103) -> 0 | R95: =SUM(R96:R103) -> 0 | T95: =SUM(T96:T103) -> 0 | AR95: 1 | AT95: D | AU95: 1 | AY95: ROZPOCET | BK95: =SUM(BK96:BK103) -> -81550
C96: 1 | D96: K | E96: 112151013 | F96: Pokácení stromu volné v celku s odřezáním kmene a s odvětvením průměru kmene přes 300 do 400 mm | G96: kus | H96: -35 | I96: 1800 | J96: =ROUND(I96*H96,2) -> -63000 | N96: základní | O96: 0 | P96: =O96*H96 -> 0 | Q96: 0 | R96: =Q96*H96 -> 0 | S96: 0 | T96: =S96*H96 -> 0 | AR96: 4 | AT96: K | AU96: 2 | AY96: ROZPOCET | BE96: =IF(N96="základní",J96,0) -> -63000 | BF96: =IF(N96="snížená",J96,0) -> 0 | BG96: =IF(N96="zákl. přenesená",J96,0) -> 0 | BH96: =IF(N96="sníž. přenesená",J96,0) -> 0 | BI96: =IF(N96="nulová",J96,0) -> 0 | BJ96: 1 | BK96: =ROUND(I96*H96,2) -> -63000 | BL96: 4 | BM96: -1411756590
D97: VV | F97: "původní množství dle SOD" -35 | H97: -35 | AT97: VV | AU97: 2 | AV97: 2 | AW97: True | AX97: 0 | AY97: ROZPOCET
D98: VV | F98: "nové množství dle ZBV" 0 | H98: 0 | AT98: VV | AU98: 2 | AV98: 2 | AW98: True | AX98: 0 | AY98: ROZPOCET
D99: VV | F99: Součet | H99: -35 | AT99: VV | AU99: 2 | AV99: 4 | AW99: True | AX99: 1 | AY99: ROZPOCET
C100: 2 | D100: K | E100: 112155221 | F100: Štěpkování s naložením na dopravní prostředek a odvozem do 20 km stromků a větví solitérů, průměru kmene přes 300 do 500 mm | G100: kus | H100: -35 | I100: 530 | J100: =ROUND(I100*H100,2) -> -18550 | N100: základní | O100: 0 | P100: =O100*H100 -> 0 | Q100: 0 | R100: =Q100*H100 -> 0 | S100: 0 | T100: =S100*H100 -> 0 | AR100: 4 | AT100: K | AU100: 2 | AY100: ROZPOCET | BE100: =IF(N100="základní",J100,0) -> -18550 | BF100: =IF(N100="snížená",J100,0) -> 0 | BG100: =IF(N100="zákl. přenesená",J100,0) -> 0 | BH100: =IF(N100="sníž. přenesená",J100,0) -> 0 | BI100: =IF(N100="nulová",J100,0) -> 0 | BJ100: 1 | BK100: =ROUND(I100*H100,2) -> -18550 | BL100: 4 | BM100: -908231623
D101: VV | F101: "původní množství dle SOD" -35 | H101: -35 | AT101: VV | AU101: 2 | AV101: 2 | AW101: True | AX101: 0 | AY101: ROZPOCET
D102: VV | F102: "nové množství dle ZBV" 0 | H102: 0 | AT102: VV | AU102: 2 | AV102: 2 | AW102: True | AX102: 0 | AY102: ROZPOCET
D103: VV | F103: Součet | H103: -35 | AT103: VV | AU103: 2 | AV103: 4 | AW103: True | AX103: 1 | AY103: ROZPOCET

Sheet ZBV-02a - méněpráce
AT2: {cfb8e07d-c672-4f8f-9ba4-6d0691c03800}
AT3: 2
D4: KRYCÍ LIST SOUPISU PRACÍ | M4: v --- níže se nacházejí doplnkové a pomocné údaje k sestavám --- v | AT4: False
D6: Stavba:
E7: ='Rekapitulace stavby'!K6 -> ÚPRAVY HŘBITOVA KBELY- ETAPA1
D8: Objekt:
E9: 01 - Navrhované objekty
D10: Soupis:
E11: 07 - KOLUMBÁRIUM
D12: Úroveň 3:
E13: ZBV-02a - méněpráce
D15: KSO: | F15: 815 9 | I15: CC-CZ:
D16: Místo: | F16: Praha 9-Kbely | I16: Datum: | J16: ='Rekapitulace stavby'!AN8 -> 0
D18: Zadavatel: | I18: IČ: | J18: 00231304
E19: MČ Praha 19, Semilská 43/1, 197 00 Praha 9 - Kbely | I19: DIČ:
D21: Zhotovitel: | I21: IČ: | J21: 07395680
E22: IWU s.r.o. | I22: DIČ: | J22: CZ07395680
D24: Projektant: | I24: IČ:
E25: Ing.Jan Pustějovský, Ph.D. | I25: DIČ:
D27: Zpracovatel: | I27: IČ:
I28: DIČ:
D30: Poznámka:
D34: Cena bez DPH | J34: =ROUND(J94, 2) -> -55452.53
F36: Základ daně | I36: Sazba daně | J36: Výše daně
D37: DPH | E37: základní | F37: =ROUND((SUM(BE94:BE145)), 2) -> -55452.53 | I37: 0.21 | J37: =ROUND(((SUM(BE94:BE145))*I37), 2) -> -11645.03
E38: snížená | F38: =ROUND((SUM(BF94:BF145)), 2) -> 0 | I38: 0.12 | J38: =ROUND(((SUM(BF94:BF145))*I38), 2) -> 0
E39: zákl. přenesená | F39: =ROUND((SUM(BG94:BG145)), 2) -> 0 | I39: 0.21 | J39: =0 -> 0
E40: sníž. přenesená | F40: =ROUND((SUM(BH94:BH145)), 2) -> 0 | I40: 0.12 | J40: =0 -> 0
E41: nulová | F41: =ROUND((SUM(BI94:BI145)), 2) -> 0 | I41: 0 | J41: =0 -> 0
D43: Cena s DPH | G43: v | H43: CZK | J43: =SUM(J34:J41) -> -67097.56
C49: REKAPITULACE ČLENĚNÍ SOUPISU PRACÍ
C51: Stavba:
E52: =E7 -> ÚPRAVY HŘBITOVA KBELY- ETAPA1
C53: Objekt:
E54: 01 - Navrhované objekty
C55: Soupis:
E56: 07 - KOLUMBÁRIUM
C57: Úroveň 3:
E58: =E13 -> ZBV-02a - méněpráce
C60: Místo: | F60: =F16 -> Praha 9-Kbely | I60: Datum: | J60: =IF(J16="","",J16) -> 0
C62: Zadavatel: | F62: =E19 -> MČ Praha 19, Semilská 43/1, 197 00 Praha 9 - Kbely | I62: Projektant: | J62: =E25 -> Ing.Jan Pustějovský, Ph.D.
C63: Zhotovitel: | F63: =IF(E22="","",E22) -> IWU s.r.o. | I63: Zpracovatel: | J63: =E28
C65: Kód dílu - Popis | J65: Cena celkem [CZK]
C67: Náklady stavby celkem | J67: =J94 -> -55452.53 | AU67: -1
D68: HSV - Práce a dodávky HSV | J68: =J95 -> -55452.53
D69: 3 - Svislé a kompletní konstrukce | J69: =J96 -> -46063.57
D70: 4 - Vodorovné konstrukce | J70: =J117 -> -9388.96
C77: SOUPIS PRACÍ
C79: Stavba:
E80: =E7 -> ÚPRAVY HŘBITOVA KBELY- ETAPA1
C81: Objekt:
E82: 01 - Navrhované objekty
C83: Soupis:
E84: 07 - KOLUMBÁRIUM
C85: Úroveň 3:
E86: =E13 -> ZBV-02a - méněpráce
C88: Místo: | F88: =F16 -> Praha 9-Kbely | I88: Datum: | J88: =IF(J16="","",J16) -> 0
C90: Zadavatel: | F90: =E19 -> MČ Praha 19, Semilská 43/1, 197 00 Praha 9 - Kbely | I90: Projektant: | J90: =E25 -> Ing.Jan Pustějovský, Ph.D.
C91: Zhotovitel: | F91: =IF(E22="","",E22) -> IWU s.r.o. | I91: Zpracovatel: | J91: =E28
C93: PČ | D93: Typ | E93: Kód | F93: Popis | G93: MJ | H93: Množství | I93: J.cena [CZK] | J93: Cena celkem [CZK] | K93: Cenová soustava | N93: DPH | O93: J. Nh [h] | P93: Nh celkem [h] | Q93: J. hmotnost [t] | R93: Hmotnost celkem [t] | S93: J. suť [t] | T93: Suť Celkem [t]
C94: Náklady soupisu celkem | J94: =BK94 -> -55452.53 | P94: =P95 -> 0 | R94: =R95 -> -3.0560351 | T94: =T95 -> 0 | AT94: D | AU94: -1 | BK94: =BK95 -> -55452.53
D95: D | E95: HSV | F95: Práce a dodávky HSV | J95: =BK95 -> -55452.53 | P95: =P96+P117 -> 0 | R95: =R96+R117 -> -3.0560351 | T95: =T96+T117 -> 0 | AR95: 1 | AT95: D | AU95: 0 | AY95: ROZPOCET | BK95: =BK96+BK117 -> -55452.53
D96: D | E96: 3 | F96: Svislé a kompletní konstrukce | J96: =BK96 -> -46063.57 | P96: =SUM(P97:P116) -> 0 | R96: =SUM(R97:R116) -> -2.7376386 | T96: =SUM(T97:T116) -> 0 | AR96: 1 | AT96: D | AU96: 1 | AY96: ROZPOCET | BK96: =SUM(BK97:BK116) -> -46063.57
C97: 13 | D97: K | E97: 311321814 | F97: Nadzákladové zdi z betonu železového (bez výztuže) nosné pohledového (v přírodní barvě drtí a přísad) tř. C 25/30 | G97: m3 | H97: -1 | I97: 7900 | J97: =ROUND(I97*H97,2) -> -7900 | N97: základní | O97: 0 | P97: =O97*H97 -> 0 | Q97: 2.50187 | R97: =Q97*H97 -> -2.50187 | S97: 0 | T97: =S97*H97 -> 0 | AR97: 4 | AT97: K | AU97: 2 | AY97: ROZPOCET | BE97: =IF(N97="základní",J97,0) -> -7900 | BF97: =IF(N97="snížená",J97,0) -> 0 | BG97: =IF(N97="zákl. přenesená",J97,0) -> 0 | BH97: =IF(N97="sníž. přenesená",J97,0) -> 0 | BI97: =IF(N97="nulová",J97,0) -> 0 | BJ97: 1 | BK97: =ROUND(I97*H97,2) -> -7900 | BL97: 4 | BM97: -1701607399
D98: VV | F98: "původní množství dle SOD" -7,115 | H98: -7.115 | AT98: VV | AU98: 2 | AV98: 2 | AW98: True | AX98: 0 | AY98: ROZPOCET
D99: VV | F99: "nové množství dle ZBV" 6,115 | H99: 6.115 | AT99: VV | AU99: 2 | AV99: 2 | AW99: True | AX99: 0 | AY99: ROZPOCET
D100: VV | F100: Součet | H100: -1 | AT100: VV | AU100: 2 | AV100: 4 | AW100: True | AX100: 1 | AY100: ROZPOCET
C101: 14 | D101: K | E101: 311351121 | F101: Bednění nadzákladových zdí nosných rovné oboustranné za každou stranu zřízení | G101: m2 | H101: -26.93 | I101: 755 | J101: =ROUND(I101*H101,2) -> -20332.15 | N101: základní | O101: 0 | P101: =O101*H101 -> 0 | Q101: 0.00275 | R101: =Q101*H101 -> -0.0740575 | S101: 0 | T101: =S101*H101 -> 0 | AR101: 4 | AT101: K | AU101: 2 | AY101: ROZPOCET | BE101: =IF(N101="základní",J101,0) -> -20332.15 | BF101: =IF(N101="snížená",J101,0) -> 0 | BG101: =IF(N101="zákl. přenesená",J101,0) -> 0 | BH101: =IF(N101="sníž. přenesená",J101,0) -> 0 | BI101: =IF(N101="nulová",J101,0) -> 0 | BJ101: 1 | BK101: =ROUND(I101*H101,2) -> -20332.15 | BL101: 4 | BM101: -2081802309
D102: VV | F102: "původní množství dle SOD" -26,930 | H102: -26.93 | AT102: VV | AU102: 2 | AV102: 2 | AW102: True | AX102: 0 | AY102: ROZPOCET
D103: VV | F103: "nové množství dle ZBV" 0 | H103: 0 | AT103: VV | AU103: 2 | AV103: 2 | AW103: True | AX103: 0 | AY103: ROZPOCET
D104: VV | F104: Součet | H104: -26.93 | AT104: VV | AU104: 2 | AV104: 4 | AW104: True | AX104: 1 | AY104: ROZPOCET
C105: 15 | D105: K | E105: 311351122 | F105: Bednění nadzákladových zdí nosných rovné oboustranné za každou stranu odstranění | G105: m2 | H105: -26.93 | I105: 378 | J105: =ROUND(I105*H105,2) -> -10179.54 | N105: základní | O105: 0 | P105: =O105*H105 -> 0 | Q105: 0 | R105: =Q105*H105 -> 0 | S105: 0 | T105: =S105*H105 -> 0 | AR105: 4 | AT105: K | AU105: 2 | AY105: ROZPOCET | BE105: =IF(N105="základní",J105,0) -> -10179.54 | BF105: =IF(N105="snížená",J105,0) -> 0 | BG105: =IF(N105="zákl. přenesená",J105,0) -> 0 | BH105: =IF(N105="sníž. přenesená",J105,0) -> 0 | BI105: =IF(N105="nulová",J105,0) -> 0 | BJ105: 1 | BK105: =ROUND(I105*H105,2) -> -10179.54 | BL105: 4 | BM105: -866188603
D106: VV | F106: "původní množství dle SOD" -26,930 | H106: -26.93 | AT106: VV | AU106: 2 | AV106: 2 | AW106: True | AX106: 0 | AY106: ROZPOCET
D107: VV | F107: "nové množství dle ZBV" 0 | H107: 0 | AT107: VV | AU107: 2 | AV107: 2 | AW107: True | AX107: 0 | AY107: ROZPOCET
D108: VV | F108: Součet | H108: -26.93 | AT108: VV | AU108: 2 | AV108: 4 | AW108: True | AX108: 1 | AY108: ROZPOCET
C109: 16 | D109: K | E109: 311351911 | F109: Bednění nadzákladových zdí nosných Příplatek k cenám bednění za pohledový beton | G109: m2 | H109: -10.125 | I109: 255 | J109: =ROUND(I109*H109,2) -> -2581.88 | N109: základní | O109: 0 | P109: =O109*H109 -> 0 | Q109: 0.0025 | R109: =Q109*H109 -> -0.0253125 | S109: 0 | T109: =S109*H109 -> 0 | AR109: 4 | AT109: K | AU109: 2 | AY109: ROZPOCET | BE109: =IF(N109="základní",J109,0) -> -2581.88 | BF109: =IF(N109="snížená",J109,0) -> 0 | BG109: =IF(N109="zákl. přenesená",J109,0) -> 0 | BH109: =IF(N109="sníž. přenesená",J109,0) -> 0 | BI109: =IF(N109="nulová",J109,0) -> 0 | BJ109: 1 | BK109: =ROUND(I109*H109,2) -> -2581.88 | BL109: 4 | BM109: -1064836484
D110: VV | F110: "původní množství dle SOD" -10,125 | H110: -10.125 | AT110: VV | AU110: 2 | AV110: 2 | AW110: True | AX110: 0 | AY110: ROZPOCET
D111: VV | F111: "nové množství dle ZBV" 0 | H111: 0 | AT111: VV | AU111: 2 | AV111: 2 | AW111: True | AX111: 0 | AY111: ROZPOCET
D112: VV | F112: Součet | H112: -10.125 | AT112: VV | AU112: 2 | AV112: 4 | AW112: True | AX112: 1 | AY112: ROZPOCET
C113: 17 | D113: K | E113: 311361821 | F113: Výztuž nadzákladových zdí nosných svislých nebo odkloněných od svislice, rovných nebo oblých z betonářské oceli 10 505 (R) nebo BSt 500 | G113: t | H113: -0.13 | I113: 39000 | J113: =ROUND(I113*H113,2) -> -5070 | N113: základní | O113: 0 | P113: =O113*H113 -> 0 | Q113: 1.04922 | R113: =Q113*H113 -> -0.1363986 | S113: 0 | T113: =S113*H113 -> 0 | AR113: 4 | AT113: K | AU113: 2 | AY113: ROZPOCET | BE113: =IF(N113="základní",J113,0) -> -5070 | BF113: =IF(N113="snížená",J113,0) -> 0 | BG113: =IF(N113="zákl. přenesená",J113,0) -> 0 | BH113: =IF(N113="sníž. přenesená",J113,0) -> 0 | BI113: =IF(N113="nulová",J113,0) -> 0 | BJ113: 1 | BK113: =ROUND(I113*H113,2) -> -5070 | BL113: 4 | BM113: 38389062
D114: VV | F114: "původní množství dle SOD" -0,515 | H114: -0.515 | AT114: VV | AU114: 2 | AV114: 2 | AW114: True | AX114: 0 | AY114: ROZPOCET
D115: VV | F115: "nové množství dle ZBV" 0,385 | H115: 0.385 | AT115: VV | AU115: 2 | AV115: 2 | AW115: True | AX115: 0 | AY115: ROZPOCET
D116: VV | F116: Součet | H116: -0.13 | AT116: VV | AU116: 2 | AV116: 4 | AW116: True | AX116: 1 | AY116: ROZPOCET
D117: D | E117: 4 | F117: Vodorovné konstrukce | J117: =BK117 -> -9388.96 | P117: =SUM(P118:P145) -> 0 | R117: =SUM(R118:R145) -> -0.3183965 | T117: =SUM(T118:T145) -> 0 | AR117: 1 | AT117: D | AU117: 1 | AY117: ROZPOCET | BK117: =SUM(BK118:BK145) -> -9388.96
C118: 19 | D118: K | E118: 411324444 | F118: Stropy z betonu železového (bez výztuže) pohledového stropů deskových, plochých střech, desek balkonových, desek hřibových stropů včetně hlavic hřibových sloupů tř. C 25/30 | G118: m3 | H118: -0.1 | I118: 7900 | J118: =ROUND(I118*H118,2) -> -790 | N118: základní | O118: 0 | P118: =O118*H118 -> 0 | Q118: 2.50201 | R118: =Q118*H118 -> -0.250201 | S118: 0 | T118: =S118*H118 -> 0 | AR118: 4 | AT118: K | AU118: 2 | AY118: ROZPOCET | BE118: =IF(N118="základní",J118,0) -> -790 | BF118: =IF(N118="snížená",J118,0) -> 0 | BG118: =IF(N118="zákl. přenesená",J118,0) -> 0 | BH118: =IF(N118="sníž. přenesená",J118,0) -> 0 | BI118: =IF(N118="nulová",J118,0) -> 0 | BJ118: 1 | BK118: =ROUND(I118*H118,2) -> -790 | BL118: 4 | BM118: -2097927788
D119: VV | F119: "původní množství dle SOD" -0,915 | H119: -0.915 | AT119: VV | AU119: 2 | AV119: 2 | AW119: True | AX119: 0 | AY119: ROZPOCET
D120: VV | F120: "nové množství dle ZBV" 0,815 | H120: 0.815 | AT120: VV | AU120: 2 | AV120: 2 | AW120: True | AX120: 0 | AY120: ROZPOCET
D121: VV | F121: Součet | H121: -0.1 | AT121: VV | AU121: 2 | AV121: 4 | AW121: True | AX121: 1 | AY121: ROZPOCET
C122: 20 | D122: K | E122: 411351011 | F122: Bednění stropních konstrukcí - bez podpěrné konstrukce desek tloušťky stropní desky přes 5 do 25 cm zřízení | G122: m2 | H122: -6.13 | I122: 622 | J122: =ROUND(I122*H122,2) -> -3812.86 | N122: základní | O122: 0 | P122: =O122*H122 -> 0 | Q122: 0.00533 | R122: =Q122*H122 -> -0.0326729 | S122: 0 | T122: =S122*H122 -> 0 | AR122: 4 | AT122: K | AU122: 2 | AY122: ROZPOCET | BE122: =IF(N122="základní",J122,0) -> -3812.86 | BF122: =IF(N122="snížená",J122,0) -> 0 | BG122: =IF(N122="zákl. přenesená",J122,0) -> 0 | BH122: =IF(N122="sníž. přenesená",J122,0) -> 0 | BI122: =IF(N122="nulová",J122,0) -> 0 | BJ122: 1 | BK122: =ROUND(I122*H122,2) -> -3812.86 | BL122: 4 | BM122: 135163575
D123: VV | F123: "původní množství dle SOD" -6,130 | H123: -6.13 | AT123: VV | AU123: 2 | AV123: 2 | AW123: True | AX123: 0 | AY123: ROZPOCET
D124: VV | F124: "nové množství dle ZBV" 0 | H124: 0 | AT124: VV | AU124: 2 | AV124: 2 | AW124: True | AX124: 0 | AY124: ROZPOCET
D125: VV | F125: Součet | H125: -6.13 | AT125: VV | AU125: 2 | AV125: 4 | AW125: True | AX125: 1 | AY125: ROZPOCET
C126: 21 | D126: K | E126: 411351012 | F126: Bednění stropních konstrukcí - bez podpěrné konstrukce desek tloušťky stropní desky přes 5 do 25 cm odstranění | G126: m2 | H126: -6.13 | I126: 275 | J126: =ROUND(I126*H126,2) -> -1685.75 | N126: základní | O126: 0 | P126: =O126*H126 -> 0 | Q126: 0 | R126: =Q126*H126 -> 0 | S126: 0 | T126: =S126*H126 -> 0 | AR126: 4 | AT126: K | AU126: 2 | AY126: ROZPOCET | BE126: =IF(N126="základní",J126,0) -> -1685.75 | BF126: =IF(N126="snížená",J126,0) -> 0 | BG126: =IF(N126="zákl. přenesená",J126,0) -> 0 | BH126: =IF(N126="sníž. přenesená",J126,0) -> 0 | BI126: =IF(N126="nulová",J126,0) -> 0 | BJ126: 1 | BK126: =ROUND(I126*H126,2) -> -1685.75 | BL126: 4 | BM126: 1539253361
D127: VV | F127: "původní množství dle SOD" -6,130 | H127: -6.13 | AT127: VV | AU127: 2 | AV127: 2 | AW127: True | AX127: 0 | AY127: ROZPOCET
D128: VV | F128: "nové množství dle ZBV" 0 | H128: 0 | AT128: VV | AU128: 2 | AV128: 2 | AW128: True | AX128: 0 | AY128: ROZPOCET
D129: VV | F129: Součet | H129: -6.13 | AT129: VV | AU129: 2 | AV129: 4 | AW129: True | AX129: 1 | AY129: ROZPOCET
C130: 22 | D130: K | E130: 411354311 | F130: Podpěrná konstrukce stropů - desek, kleneb a skořepin výška podepření do 4 m tloušťka stropu přes 5 do 15 cm zřízení | G130: m2 | H130: -4 | I130: 206.8 | J130: =ROUND(I130*H130,2) -> -827.2 | N130: základní | O130: 0 | P130: =O130*H130 -> 0 | Q130: 0.00081 | R130: =Q130*H130 -> -0.00324 | S130: 0 | T130: =S130*H130 -> 0 | AR130: 4 | AT130: K | AU130: 2 | AY130: ROZPOCET | BE130: =IF(N130="základní",J130,0) -> -827.2 | BF130: =IF(N130="snížená",J130,0) -> 0 | BG130: =IF(N130="zákl. přenesená",J130,0) -> 0 | BH130: =IF(N130="sníž. přenesená",J130,0) -> 0 | BI130: =IF(N130="nulová",J130,0) -> 0 | BJ130: 1 | BK130: =ROUND(I130*H130,2) -> -827.2 | BL130: 4 | BM130: -2066782402
D131: VV | F131: "původní množství dle SOD" -4 | H131: -4 | AT131: VV | AU131: 2 | AV131: 2 | AW131: True | AX131: 0 | AY131: ROZPOCET
D132: VV | F132: "nové množství dle ZBV" 0 | H132: 0 | AT132: VV | AU132: 2 | AV132: 2 | AW132: True | AX132: 0 | AY132: ROZPOCET
D133: VV | F133: Součet | H133: -4 | AT133: VV | AU133: 2 | AV133: 4 | AW133: True | AX133: 1 | AY133: ROZPOCET
...

Sheet ZBV-03a - méněpráce
AT2: {98aded36-1a98-4da2-898d-841d1e4f348c}
AT3: 2
D4: KRYCÍ LIST SOUPISU PRACÍ | M4: v --- níže se nacházejí doplnkové a pomocné údaje k sestavám --- v | AT4: False
D6: Stavba:
E7: ='Rekapitulace stavby'!K6 -> ÚPRAVY HŘBITOVA KBELY- ETAPA1
D8: Objekt:
E9: 01 - Navrhované objekty
D10: Soupis:
E11: 08 - KOLUMBÁRIUM
D12: Úroveň 3:
E13: ZBV-03a - méněpráce
D15: KSO: | F15: 815 9 | I15: CC-CZ:
D16: Místo: | F16: Praha 9-Kbely | I16: Datum: | J16: ='Rekapitulace stavby'!AN8 -> 0
D18: Zadavatel: | I18: IČ: | J18: 00231304
E19: MČ Praha 19, Semilská 43/1, 197 00 Praha 9 - Kbely | I19: DIČ:
D21: Zhotovitel: | I21: IČ: | J21: 07395680
E22: IWU s.r.o. | I22: DIČ: | J22: CZ07395680
D24: Projektant: | I24: IČ:
E25: Ing.Jan Pustějovský, Ph.D. | I25: DIČ:
D27: Zpracovatel: | I27: IČ:
I28: DIČ:
D30: Poznámka:
D34: Cena bez DPH | J34: =ROUND(J94, 2) -> -229411.21
F36: Základ daně | I36: Sazba daně | J36: Výše daně
D37: DPH | E37: základní | F37: =ROUND((SUM(BE94:BE145)), 2) -> -229411.21 | I37: 0.21 | J37: =ROUND(((SUM(BE94:BE145))*I37), 2) -> -48176.35
E38: snížená | F38: =ROUND((SUM(BF94:BF145)), 2) -> 0 | I38: 0.12 | J38: =ROUND(((SUM(BF94:BF145))*I38), 2) -> 0
E39: zákl. přenesená | F39: =ROUND((SUM(BG94:BG145)), 2) -> 0 | I39: 0.21 | J39: =0 -> 0
E40: sníž. přenesená | F40: =ROUND((SUM(BH94:BH145)), 2) -> 0 | I40: 0.12 | J40: =0 -> 0
E41: nulová | F41: =ROUND((SUM(BI94:BI145)), 2) -> 0 | I41: 0 | J41: =0 -> 0
D43: Cena s DPH | G43: v | H43: CZK | J43: =SUM(J34:J41) -> -277587.56
C49: REKAPITULACE ČLENĚNÍ SOUPISU PRACÍ
C51: Stavba:
E52: =E7 -> ÚPRAVY HŘBITOVA KBELY- ETAPA1
C53: Objekt:
E54: 01 - Navrhované objekty
C55: Soupis:
E56: 08 - KOLUMBÁRIUM
C57: Úroveň 3:
E58: =E13 -> ZBV-03a - méněpráce
C60: Místo: | F60: =F16 -> Praha 9-Kbely | I60: Datum: | J60: =IF(J16="","",J16) -> 0
C62: Zadavatel: | F62: =E19 -> MČ Praha 19, Semilská 43/1, 197 00 Praha 9 - Kbely | I62: Projektant: | J62: =E25 -> Ing.Jan Pustějovský, Ph.D.
C63: Zhotovitel: | F63: =IF(E22="","",E22) -> IWU s.r.o. | I63: Zpracovatel: | J63: =E28
C65: Kód dílu - Popis | J65: Cena celkem [CZK]
C67: Náklady stavby celkem | J67: =J94 -> -229411.21 | AU67: -1
D68: HSV - Práce a dodávky HSV | J68: =J95 -> -229411.21
D69: 3 - Svislé a kompletní konstrukce | J69: =J96 -> -204504.12
D70: 4 - Vodorovné konstrukce | J70: =J117 -> -24907.09
C77: SOUPIS PRACÍ
C79: Stavba:
E80: =E7 -> ÚPRAVY HŘBITOVA KBELY- ETAPA1
C81: Objekt:
E82: 01 - Navrhované objekty
C83: Soupis:
E84: 08 - KOLUMBÁRIUM
C85: Úroveň 3:
E86: =E13 -> ZBV-03a - méněpráce
C88: Místo: | F88: =F16 -> Praha 9-Kbely | I88: Datum: | J88: =IF(J16="","",J16) -> 0
C90: Zadavatel: | F90: =E19 -> MČ Praha 19, Semilská 43/1, 197 00 Praha 9 - Kbely | I90: Projektant: | J90: =E25 -> Ing.Jan Pustějovský, Ph.D.
C91: Zhotovitel: | F91: =IF(E22="","",E22) -> IWU s.r.o. | I91: Zpracovatel: | J91: =E28
C93: PČ | D93: Typ | E93: Kód | F93: Popis | G93: MJ | H93: Množství | I93: J.cena [CZK] | J93: Cena celkem [CZK] | K93: Cenová soustava | N93: DPH | O93: J. Nh [h] | P93: Nh celkem [h] | Q93: J. hmotnost [t] | R93: Hmotnost celkem [t] | S93: J. suť [t] | T93: Suť Celkem [t]
C94: Náklady soupisu celkem | J94: =BK94 -> -229411.21 | P94: =P95 -> 0 | R94: =R95 -> -12.00993 | T94: =T95 -> 0 | AT94: D | AU94: -1 | BK94: =BK95 -> -229411.21
D95: D | E95: HSV | F95: Práce a dodávky HSV | J95: =BK95 -> -229411.21 | P95: =P96+P117 -> 0 | R95: =R96+R117 -> -12.00993 | T95: =T96+T117 -> 0 | AR95: 1 | AT95: D | AU95: 0 | AY95: ROZPOCET | BK95: =BK96+BK117 -> -229411.21
D96: D | E96: 3 | F96: Svislé a kompletní konstrukce | J96: =BK96 -> -204504.12 | P96: =SUM(P97:P116) -> 0 | R96: =SUM(R97:R116) -> -11.085688 | T96: =SUM(T97:T116) -> 0 | AR96: 1 | AT96: D | AU96: 1 | AY96: ROZPOCET | BK96: =SUM(BK97:BK116) -> -204504.12
C97: 1 | D97: K | E97: 311321814 | F97: Nadzákladové zdi z betonu železového (bez výztuže) nosné pohledového (v přírodní barvě drtí a přísad) tř. C 25/30 | G97: m3 | H97: -4 | I97: 7900 | J97: =ROUND(I97*H97,2) -> -31600 | N97: základní | O97: 0 | P97: =O97*H97 -> 0 | Q97: 2.50187 | R97: =Q97*H97 -> -10.00748 | S97: 0 | T97: =S97*H97 -> 0 | AR97: 4 | AT97: K | AU97: 2 | AY97: ROZPOCET | BE97: =IF(N97="základní",J97,0) -> -31600 | BF97: =IF(N97="snížená",J97,0) -> 0 | BG97: =IF(N97="zákl. přenesená",J97,0) -> 0 | BH97: =IF(N97="sníž. přenesená",J97,0) -> 0 | BI97: =IF(N97="nulová",J97,0) -> 0 | BJ97: 1 | BK97: =ROUND(I97*H97,2) -> -31600 | BL97: 4 | BM97: -1083588505
D98: VV | F98: "původní množství dle SOD" -44,537 | H98: -44.537 | AT98: VV | AU98: 2 | AV98: 2 | AW98: True | AX98: 0 | AY98: ROZPOCET
D99: VV | F99: "nové množství dle ZBV" 40,537 | H99: 40.537 | AT99: VV | AU99: 2 | AV99: 2 | AW99: True | AX99: 0 | AY99: ROZPOCET
D100: VV | F100: Součet | H100: -4 | AT100: VV | AU100: 2 | AV100: 4 | AW100: True | AX100: 1 | AY100: ROZPOCET
C101: 2 | D101: K | E101: 311351121 | F101: Bednění nadzákladových zdí nosných rovné oboustranné za každou stranu zřízení | G101: m2 | H101: -115.305 | I101: 755 | J101: =ROUND(I101*H101,2) -> -87055.28 | N101: základní | O101: 0 | P101: =O101*H101 -> 0 | Q101: 0.00275 | R101: =Q101*H101 -> -0.31708875 | S101: 0 | T101: =S101*H101 -> 0 | AR101: 4 | AT101: K | AU101: 2 | AY101: ROZPOCET | BE101: =IF(N101="základní",J101,0) -> -87055.28 | BF101: =IF(N101="snížená",J101,0) -> 0 | BG101: =IF(N101="zákl. přenesená",J101,0) -> 0 | BH101: =IF(N101="sníž. přenesená",J101,0) -> 0 | BI101: =IF(N101="nulová",J101,0) -> 0 | BJ101: 1 | BK101: =ROUND(I101*H101,2) -> -87055.28 | BL101: 4 | BM101: -1717616755
D102: VV | F102: "původní množství dle SOD" -115,305 | H102: -115.305 | AT102: VV | AU102: 2 | AV102: 2 | AW102: True | AX102: 0 | AY102: ROZPOCET
D103: VV | F103: "nové množství dle ZBV" 0 | H103: 0 | AT103: VV | AU103: 2 | AV103: 2 | AW103: True | AX103: 0 | AY103: ROZPOCET
D104: VV | F104: Součet | H104: -115.305 | AT104: VV | AU104: 2 | AV104: 4 | AW104: True | AX104: 1 | AY104: ROZPOCET
C105: 3 | D105: K | E105: 311351122 | F105: Bednění nadzákladových zdí nosných rovné oboustranné za každou stranu odstranění | G105: m2 | H105: -115.305 | I105: 378 | J105: =ROUND(I105*H105,2) -> -43585.29 | N105: základní | O105: 0 | P105: =O105*H105 -> 0 | Q105: 0 | R105: =Q105*H105 -> 0 | S105: 0 | T105: =S105*H105 -> 0 | AR105: 4 | AT105: K | AU105: 2 | AY105: ROZPOCET | BE105: =IF(N105="základní",J105,0) -> -43585.29 | BF105: =IF(N105="snížená",J105,0) -> 0 | BG105: =IF(N105="zákl. přenesená",J105,0) -> 0 | BH105: =IF(N105="sníž. přenesená",J105,0) -> 0 | BI105: =IF(N105="nulová",J105,0) -> 0 | BJ105: 1 | BK105: =ROUND(I105*H105,2) -> -43585.29 | BL105: 4 | BM105: -386014825
D106: VV | F106: "původní množství dle SOD" -115,305 | H106: -115.305 | AT106: VV | AU106: 2 | AV106: 2 | AW106: True | AX106: 0 | AY106: ROZPOCET
D107: VV | F107: "nové množství dle ZBV" 0 | H107: 0 | AT107: VV | AU107: 2 | AV107: 2 | AW107: True | AX107: 0 | AY107: ROZPOCET
D108: VV | F108: Součet | H108: -115.305 | AT108: VV | AU108: 2 | AV108: 4 | AW108: True | AX108: 1 | AY108: ROZPOCET
C109: 4 | D109: K | E109: 311351911 | F109: Bednění nadzákladových zdí nosných Příplatek k cenám bednění za pohledový beton | G109: m2 | H109: -86.21 | I109: 255 | J109: =ROUND(I109*H109,2) -> -21983.55 | N109: základní | O109: 0 | P109: =O109*H109 -> 0 | Q109: 0.0025 | R109: =Q109*H109 -> -0.215525 | S109: 0 | T109: =S109*H109 -> 0 | AR109: 4 | AT109: K | AU109: 2 | AY109: ROZPOCET | BE109: =IF(N109="základní",J109,0) -> -21983.55 | BF109: =IF(N109="snížená",J109,0) -> 0 | BG109: =IF(N109="zákl. přenesená",J109,0) -> 0 | BH109: =IF(N109="sníž. přenesená",J109,0) -> 0 | BI109: =IF(N109="nulová",J109,0) -> 0 | BJ109: 1 | BK109: =ROUND(I109*H109,2) -> -21983.55 | BL109: 4 | BM109: 2098387132
D110: VV | F110: "původní množství dle SOD" -86,21 | H110: -86.21 | AT110: VV | AU110: 2 | AV110: 2 | AW110: True | AX110: 0 | AY110: ROZPOCET
D111: VV | F111: "nové množství dle ZBV" 0 | H111: 0 | AT111: VV | AU111: 2 | AV111: 2 | AW111: True | AX111: 0 | AY111: ROZPOCET
D112: VV | F112: Součet | H112: -86.21 | AT112: VV | AU112: 2 | AV112: 4 | AW112: True | AX112: 1 | AY112: ROZPOCET
C113: 5 | D113: K | E113: 311361821 | F113: Výztuž nadzákladových zdí nosných svislých nebo odkloněných od svislice, rovných nebo oblých z betonářské oceli 10 505 (R) nebo BSt 500 | G113: t | H113: -0.52 | I113: 39000 | J113: =ROUND(I113*H113,2) -> -20280 | N113: základní | O113: 0 | P113: =O113*H113 -> 0 | Q113: 1.04922 | R113: =Q113*H113 -> -0.5455944 | S113: 0 | T113: =S113*H113 -> 0 | AR113: 4 | AT113: K | AU113: 2 | AY113: ROZPOCET | BE113: =IF(N113="základní",J113,0) -> -20280 | BF113: =IF(N113="snížená",J113,0) -> 0 | BG113: =IF(N113="zákl. přenesená",J113,0) -> 0 | BH113: =IF(N113="sníž. přenesená",J113,0) -> 0 | BI113: =IF(N113="nulová",J113,0) -> 0 | BJ113: 1 | BK113: =ROUND(I113*H113,2) -> -20280 | BL113: 4 | BM113: -855788172
D114: VV | F114: "původní množství dle SOD" -5,79 | H114: -5.79 | AT114: VV | AU114: 2 | AV114: 2 | AW114: True | AX114: 0 | AY114: ROZPOCET
D115: VV | F115: "nové množství dle ZBV" 5,27 | H115: 5.27 | AT115: VV | AU115: 2 | AV115: 2 | AW115: True | AX115: 0 | AY115: ROZPOCET
D116: VV | F116: Součet | H116: -0.52 | AT116: VV | AU116: 2 | AV116: 4 | AW116: True | AX116: 1 | AY116: ROZPOCET
D117: D | E117: 4 | F117: Vodorovné konstrukce | J117: =BK117 -> -24907.09 | P117: =SUM(P118:P145) -> 0 | R117: =SUM(R118:R145) -> -0.92424195 | T117: =SUM(T118:T145) -> 0 | AR117: 1 | AT117: D | AU117: 1 | AY117: ROZPOCET | BK117: =SUM(BK118:BK145) -> -24907.09
C118: 6 | D118: K | E118: 411324444 | F118: Stropy z betonu železového (bez výztuže) pohledového stropů deskových, plochých střech, desek balkonových, desek hřibových stropů včetně hlavic hřibových sloupů tř. C 25/30 | G118: m3 | H118: -0.3 | I118: 7900 | J118: =ROUND(I118*H118,2) -> -2370 | N118: základní | O118: 0 | P118: =O118*H118 -> 0 | Q118: 2.50201 | R118: =Q118*H118 -> -0.750603 | S118: 0 | T118: =S118*H118 -> 0 | AR118: 4 | AT118: K | AU118: 2 | AY118: ROZPOCET | BE118: =IF(N118="základní",J118,0) -> -2370 | BF118: =IF(N118="snížená",J118,0) -> 0 | BG118: =IF(N118="zákl. přenesená",J118,0) -> 0 | BH118: =IF(N118="sníž. přenesená",J118,0) -> 0 | BI118: =IF(N118="nulová",J118,0) -> 0 | BJ118: 1 | BK118: =ROUND(I118*H118,2) -> -2370 | BL118: 4 | BM118: 1420189961
D119: VV | F119: "původní množství dle SOD" -3,420 | H119: -3.42 | AT119: VV | AU119: 2 | AV119: 2 | AW119: True | AX119: 0 | AY119: ROZPOCET
D120: VV | F120: "nové množství dle ZBV" 3,120 | H120: 3.12 | AT120: VV | AU120: 2 | AV120: 2 | AW120: True | AX120: 0 | AY120: ROZPOCET
D121: VV | F121: Součet | H121: -0.3 | AT121: VV | AU121: 2 | AV121: 4 | AW121: True | AX121: 1 | AY121: ROZPOCET
C122: 7 | D122: K | E122: 411351011 | F122: Bednění stropních konstrukcí - bez podpěrné konstrukce desek tloušťky stropní desky přes 5 do 25 cm zřízení | G122: m2 | H122: -18.255 | I122: 622 | J122: =ROUND(I122*H122,2) -> -11354.61 | N122: základní | O122: 0 | P122: =O122*H122 -> 0 | Q122: 0.00533 | R122: =Q122*H122 -> -0.09729915 | S122: 0 | T122: =S122*H122 -> 0 | AR122: 4 | AT122: K | AU122: 2 | AY122: ROZPOCET | BE122: =IF(N122="základní",J122,0) -> -11354.61 | BF122: =IF(N122="snížená",J122,0) -> 0 | BG122: =IF(N122="zákl. přenesená",J122,0) -> 0 | BH122: =IF(N122="sníž. přenesená",J122,0) -> 0 | BI122: =IF(N122="nulová",J122,0) -> 0 | BJ122: 1 | BK122: =ROUND(I122*H122,2) -> -11354.61 | BL122: 4 | BM122: -450345031
D123: VV | F123: "původní množství dle SOD" -18,255 | H123: -18.255 | AT123: VV | AU123: 2 | AV123: 2 | AW123: True | AX123: 0 | AY123: ROZPOCET
D124: VV | F124: "nové množství dle ZBV" 0 | H124: 0 | AT124: VV | AU124: 2 | AV124: 2 | AW124: True | AX124: 0 | AY124: ROZPOCET
D125: VV | F125: Součet | H125: -18.255 | AT125: VV | AU125: 2 | AV125: 4 | AW125: True | AX125: 1 | AY125: ROZPOCET
C126: 8 | D126: K | E126: 411351012 | F126: Bednění stropních konstrukcí - bez podpěrné konstrukce desek tloušťky stropní desky přes 5 do 25 cm odstranění | G126: m2 | H126: -18.255 | I126: 275 | J126: =ROUND(I126*H126,2) -> -5020.13 | N126: základní | O126: 0 | P126: =O126*H126 -> 0 | Q126: 0 | R126: =Q126*H126 -> 0 | S126: 0 | T126: =S126*H126 -> 0 | AR126: 4 | AT126: K | AU126: 2 | AY126: ROZPOCET | BE126: =IF(N126="základní",J126,0) -> -5020.13 | BF126: =IF(N126="snížená",J126,0) -> 0 | BG126: =IF(N126="zákl. přenesená",J126,0) -> 0 | BH126: =IF(N126="sníž. přenesená",J126,0) -> 0 | BI126: =IF(N126="nulová",J126,0) -> 0 | BJ126: 1 | BK126: =ROUND(I126*H126,2) -> -5020.13 | BL126: 4 | BM126: -1635889846
D127: VV | F127: "původní množství dle SOD" -18,255 | H127: -18.255 | AT127: VV | AU127: 2 | AV127: 2 | AW127: True | AX127: 0 | AY127: ROZPOCET
D128: VV | F128: "nové množství dle ZBV" 0 | H128: 0 | AT128: VV | AU128: 2 | AV128: 2 | AW128: True | AX128: 0 | AY128: ROZPOCET
D129: VV | F129: Součet | H129: -18.255 | AT129: VV | AU129: 2 | AV129: 4 | AW129: True | AX129: 1 | AY129: ROZPOCET
C130: 9 | D130: K | E130: 411354311 | F130: Podpěrná konstrukce stropů - desek, kleneb a skořepin výška podepření do 4 m tloušťka stropu přes 5 do 15 cm zřízení | G130: m2 | H130: -8.4 | I130: 206.8 | J130: =ROUND(I130*H130,2) -> -1737.12 | N130: základní | O130: 0 | P130: =O130*H130 -> 0 | Q130: 0.00081 | R130: =Q130*H130 -> -0.006804 | S130: 0 | T130: =S130*H130 -> 0 | AR130: 4 | AT130: K | AU130: 2 | AY130: ROZPOCET | BE130: =IF(N130="základní",J130,0) -> -1737.12 | BF130: =IF(N130="snížená",J130,0) -> 0 | BG130: =IF(N130="zákl. přenesená",J130,0) -> 0 | BH130: =IF(N130="sníž. přenesená",J130,0) -> 0 | BI130: =IF(N130="nulová",J130,0) -> 0 | BJ130: 1 | BK130: =ROUND(I130*H130,2) -> -1737.12 | BL130: 4 | BM130: 1127040923
D131: VV | F131: "původní množství dle SOD" -8,4 | H131: -8.4 | AT131: VV | AU131: 2 | AV131: 2 | AW131: True | AX131: 0 | AY131: ROZPOCET
D132: VV | F132: "nové množství dle ZBV" 0 | H132: 0 | AT132: VV | AU132: 2 | AV132: 2 | AW132: True | AX132: 0 | AY132: ROZPOCET
D133: VV | F133: Součet | H133: -8.4 | AT133: VV | AU133: 2 | AV133: 4 | AW133: True | AX133: 1 | AY133: ROZPOCET
...

Sheet ZBV-04a - méněpráce
AT2: {7cd4c9f9-8373-44a4-b9f8-84d4560f5040}
AT3: 2
D4: KRYCÍ LIST SOUPISU PRACÍ | M4: v --- níže se nacházejí doplnkové a pomocné údaje k sestavám --- v | AT4: False
D6: Stavba:
E7: ='Rekapitulace stavby'!K6 -> ÚPRAVY HŘBITOVA KBELY- ETAPA1
D8: Objekt:
E9: 01 - Navrhované objekty
D10: Soupis:
E11: 09 - KOLUMBÁRIUM
D12: Úroveň 3:
E13: ZBV-04a - méněpráce
D15: KSO: | F15: 815 9 | I15: CC-CZ:
D16: Místo: | F16: Praha 9-Kbely | I16: Datum: | J16: ='Rekapitulace stavby'!AN8 -> 0
D18: Zadavatel: | I18: IČ: | J18: 00231304
E19: MČ Praha 19, Semilská 43/1, 197 00 Praha 9 - Kbely | I19: DIČ:
D21: Zhotovitel: | I21: IČ: | J21: 07395680
E22: IWU s.r.o. | I22: DIČ: | J22: CZ07395680
D24: Projektant: | I24: IČ:
E25: Ing.Jan Pustějovský, Ph.D. | I25: DIČ:
D27: Zpracovatel: | I27: IČ:
I28: DIČ:
D30: Poznámka:
D34: Cena bez DPH | J34: =ROUND(J94, 2) -> -86577.24
F36: Základ daně | I36: Sazba daně | J36: Výše daně
D37: DPH | E37: základní | F37: =ROUND((SUM(BE94:BE145)), 2) -> -86577.24 | I37: 0.21 | J37: =ROUND(((SUM(BE94:BE145))*I37), 2) -> -18181.22
E38: snížená | F38: =ROUND((SUM(BF94:BF145)), 2) -> 0 | I38: 0.12 | J38: =ROUND(((SUM(BF94:BF145))*I38), 2) -> 0
E39: zákl. přenesená | F39: =ROUND((SUM(BG94:BG145)), 2) -> 0 | I39: 0.21 | J39: =0 -> 0
E40: sníž. přenesená | F40: =ROUND((SUM(BH94:BH145)), 2) -> 0 | I40: 0.12 | J40: =0 -> 0
E41: nulová | F41: =ROUND((SUM(BI94:BI145)), 2) -> 0 | I41: 0 | J41: =0 -> 0
D43: Cena s DPH | G43: v | H43: CZK | J43: =SUM(J34:J41) -> -104758.46
C49: REKAPITULACE ČLENĚNÍ SOUPISU PRACÍ
C51: Stavba:
E52: =E7 -> ÚPRAVY HŘBITOVA KBELY- ETAPA1
C53: Objekt:
E54: 01 - Navrhované objekty
C55: Soupis:
E56: 09 - KOLUMBÁRIUM
C57: Úroveň 3:
E58: =E13 -> ZBV-04a - méněpráce
C60: Místo: | F60: =F16 -> Praha 9-Kbely | I60: Datum: | J60: =IF(J16="","",J16) -> 0
C62: Zadavatel: | F62: =E19 -> MČ Praha 19, Semilská 43/1, 197 00 Praha 9 - Kbely | I62: Projektant: | J62: =E25 -> Ing.Jan Pustějovský, Ph.D.
C63: Zhotovitel: | F63: =IF(E22="","",E22) -> IWU s.r.o. | I63: Zpracovatel: | J63: =E28
C65: Kód dílu - Popis | J65: Cena celkem [CZK]
C67: Náklady stavby celkem | J67: =J94 -> -86577.24 | AU67: -1
D68: HSV - Práce a dodávky HSV | J68: =J95 -> -86577.24
D69: 3 - Svislé a kompletní konstrukce | J69: =J96 -> -75133.95
D70: 4 - Vodorovné konstrukce | J70: =J117 -> -11443.29
C77: SOUPIS PRACÍ
C79: Stavba:
E80: =E7 -> ÚPRAVY HŘBITOVA KBELY- ETAPA1
C81: Objekt:
E82: 01 - Navrhované objekty
C83: Soupis:
E84: 09 - KOLUMBÁRIUM
C85: Úroveň 3:
E86: =E13 -> ZBV-04a - méněpráce
C88: Místo: | F88: =F16 -> Praha 9-Kbely | I88: Datum: | J88: =IF(J16="","",J16) -> 0
C90: Zadavatel: | F90: =E19 -> MČ Praha 19, Semilská 43/1, 197 00 Praha 9 - Kbely | I90: Projektant: | J90: =E25 -> Ing.Jan Pustějovský, Ph.D.
C91: Zhotovitel: | F91: =IF(E22="","",E22) -> IWU s.r.o. | I91: Zpracovatel: | J91: =E28
C93: PČ | D93: Typ | E93: Kód | F93: Popis | G93: MJ | H93: Množství | I93: J.cena [CZK] | J93: Cena celkem [CZK] | K93: Cenová soustava | N93: DPH | O93: J. Nh [h] | P93: Nh celkem [h] | Q93: J. hmotnost [t] | R93: Hmotnost celkem [t] | S93: J. suť [t] | T93: Suť Celkem [t]
C94: Náklady soupisu celkem | J94: =BK94 -> -86577.24 | P94: =P95 -> 0 | R94: =R95 -> -5.7667557 | T94: =T95 -> 0 | AT94: D | AU94: -1 | BK94: =BK95 -> -86577.24
D95: D | E95: HSV | F95: Práce a dodávky HSV | J95: =BK95 -> -86577.24 | P95: =P96+P117 -> 0 | R95: =R96+R117 -> -5.7667557 | T95: =T96+T117 -> 0 | AR95: 1 | AT95: D | AU95: 0 | AY95: ROZPOCET | BK95: =BK96+BK117 -> -86577.24
D96: D | E96: 3 | F96: Svislé a kompletní konstrukce | J96: =BK96 -> -75133.95 | P96: =SUM(P97:P116) -> 0 | R96: =SUM(R97:R116) -> -5.4427372 | T96: =SUM(T97:T116) -> 0 | AR96: 1 | AT96: D | AU96: 1 | AY96: ROZPOCET | BK96: =SUM(BK97:BK116) -> -75133.95
C97: 1 | D97: K | E97: 311321814 | F97: Nadzákladové zdi z betonu železového (bez výztuže) nosné pohledového (v přírodní barvě drtí a přísad) tř. C 25/30 | G97: m3 | H97: -2 | I97: 7900 | J97: =ROUND(I97*H97,2) -> -15800 | N97: základní | O97: 0 | P97: =O97*H97 -> 0 | Q97: 2.50187 | R97: =Q97*H97 -> -5.00374 | S97: 0 | T97: =S97*H97 -> 0 | AR97: 4 | AT97: K | AU97: 2 | AY97: ROZPOCET | BE97: =IF(N97="základní",J97,0) -> -15800 | BF97: =IF(N97="snížená",J97,0) -> 0 | BG97: =IF(N97="zákl. přenesená",J97,0) -> 0 | BH97: =IF(N97="sníž. přenesená",J97,0) -> 0 | BI97: =IF(N97="nulová",J97,0) -> 0 | BJ97: 1 | BK97: =ROUND(I97*H97,2) -> -15800 | BL97: 4 | BM97: 965015058
D98: VV | F98: "původní množství dle SOD" -14,858 | H98: -14.858 | AT98: VV | AU98: 2 | AV98: 2 | AW98: True | AX98: 0 | AY98: ROZPOCET
D99: VV | F99: "nové množství dle ZBV" 12,858 | H99: 12.858 | AT99: VV | AU99: 2 | AV99: 2 | AW99: True | AX99: 0 | AY99: ROZPOCET
D100: VV | F100: Součet | H100: -2 | AT100: VV | AU100: 2 | AV100: 4 | AW100: True | AX100: 1 | AY100: ROZPOCET
C101: 2 | D101: K | E101: 311351121 | F101: Bednění nadzákladových zdí nosných rovné oboustranné za každou stranu zřízení | G101: m2 | H101: -37.82 | I101: 755 | J101: =ROUND(I101*H101,2) -> -28554.1 | N101: základní | O101: 0 | P101: =O101*H101 -> 0 | Q101: 0.00275 | R101: =Q101*H101 -> -0.104005 | S101: 0 | T101: =S101*H101 -> 0 | AR101: 4 | AT101: K | AU101: 2 | AY101: ROZPOCET | BE101: =IF(N101="základní",J101,0) -> -28554.1 | BF101: =IF(N101="snížená",J101,0) -> 0 | BG101: =IF(N101="zákl. přenesená",J101,0) -> 0 | BH101: =IF(N101="sníž. přenesená",J101,0) -> 0 | BI101: =IF(N101="nulová",J101,0) -> 0 | BJ101: 1 | BK101: =ROUND(I101*H101,2) -> -28554.1 | BL101: 4 | BM101: 1351501745
D102: VV | F102: "původní množství dle SOD" -37,82 | H102: -37.82 | AT102: VV | AU102: 2 | AV102: 2 | AW102: True | AX102: 0 | AY102: ROZPOCET
D103: VV | F103: "nové množství dle ZBV" 0 | H103: 0 | AT103: VV | AU103: 2 | AV103: 2 | AW103: True | AX103: 0 | AY103: ROZPOCET
D104: VV | F104: Součet | H104: -37.82 | AT104: VV | AU104: 2 | AV104: 4 | AW104: True | AX104: 1 | AY104: ROZPOCET
C105: 3 | D105: K | E105: 311351122 | F105: Bednění nadzákladových zdí nosných rovné oboustranné za každou stranu odstranění | G105: m2 | H105: -37.82 | I105: 378 | J105: =ROUND(I105*H105,2) -> -14295.96 | N105: základní | O105: 0 | P105: =O105*H105 -> 0 | Q105: 0 | R105: =Q105*H105 -> 0 | S105: 0 | T105: =S105*H105 -> 0 | AR105: 4 | AT105: K | AU105: 2 | AY105: ROZPOCET | BE105: =IF(N105="základní",J105,0) -> -14295.96 | BF105: =IF(N105="snížená",J105,0) -> 0 | BG105: =IF(N105="zákl. přenesená",J105,0) -> 0 | BH105: =IF(N105="sníž. přenesená",J105,0) -> 0 | BI105: =IF(N105="nulová",J105,0) -> 0 | BJ105: 1 | BK105: =ROUND(I105*H105,2) -> -14295.96 | BL105: 4 | BM105: -689139254
D106: VV | F106: "původní množství dle SOD" -37,82 | H106: -37.82 | AT106: VV | AU106: 2 | AV106: 2 | AW106: True | AX106: 0 | AY106: ROZPOCET
D107: VV | F107: "nové množství dle ZBV" 0 | H107: 0 | AT107: VV | AU107: 2 | AV107: 2 | AW107: True | AX107: 0 | AY107: ROZPOCET
D108: VV | F108: Součet | H108: -37.82 | AT108: VV | AU108: 2 | AV108: 4 | AW108: True | AX108: 1 | AY108: ROZPOCET
C109: 4 | D109: K | E109: 311351911 | F109: Bednění nadzákladových zdí nosných Příplatek k cenám bednění za pohledový beton | G109: m2 | H109: -24.878 | I109: 255 | J109: =ROUND(I109*H109,2) -> -6343.89 | N109: základní | O109: 0 | P109: =O109*H109 -> 0 | Q109: 0.0025 | R109: =Q109*H109 -> -0.062195 | S109: 0 | T109: =S109*H109 -> 0 | AR109: 4 | AT109: K | AU109: 2 | AY109: ROZPOCET | BE109: =IF(N109="základní",J109,0) -> -6343.89 | BF109: =IF(N109="snížená",J109,0) -> 0 | BG109: =IF(N109="zákl. přenesená",J109,0) -> 0 | BH109: =IF(N109="sníž. přenesená",J109,0) -> 0 | BI109: =IF(N109="nulová",J109,0) -> 0 | BJ109: 1 | BK109: =ROUND(I109*H109,2) -> -6343.89 | BL109: 4 | BM109: -1123966051
D110: VV | F110: "původní množství dle SOD" -24,878 | H110: -24.878 | AT110: VV | AU110: 2 | AV110: 2 | AW110: True | AX110: 0 | AY110: ROZPOCET
D111: VV | F111: "nové množství dle ZBV" 0 | H111: 0 | AT111: VV | AU111: 2 | AV111: 2 | AW111: True | AX111: 0 | AY111: ROZPOCET
D112: VV | F112: Součet | H112: -24.878 | AT112: VV | AU112: 2 | AV112: 4 | AW112: True | AX112: 1 | AY112: ROZPOCET
C113: 5 | D113: K | E113: 311361821 | F113: Výztuž nadzákladových zdí nosných svislých nebo odkloněných od svislice, rovných nebo oblých z betonářské oceli 10 505 (R) nebo BSt 500 | G113: t | H113: -0.26 | I113: 39000 | J113: =ROUND(I113*H113,2) -> -10140 | N113: základní | O113: 0 | P113: =O113*H113 -> 0 | Q113: 1.04922 | R113: =Q113*H113 -> -0.2727972 | S113: 0 | T113: =S113*H113 -> 0 | AR113: 4 | AT113: K | AU113: 2 | AY113: ROZPOCET | BE113: =IF(N113="základní",J113,0) -> -10140 | BF113: =IF(N113="snížená",J113,0) -> 0 | BG113: =IF(N113="zákl. přenesená",J113,0) -> 0 | BH113: =IF(N113="sníž. přenesená",J113,0) -> 0 | BI113: =IF(N113="nulová",J113,0) -> 0 | BJ113: 1 | BK113: =ROUND(I113*H113,2) -> -10140 | BL113: 4 | BM113: 1328720986
D114: VV | F114: "původní množství dle SOD" -1,932 | H114: -1.932 | AT114: VV | AU114: 2 | AV114: 2 | AW114: True | AX114: 0 | AY114: ROZPOCET
D115: VV | F115: "nové množství dle ZBV" 1,672 | H115: 1.672 | AT115: VV | AU115: 2 | AV115: 2 | AW115: True | AX115: 0 | AY115: ROZPOCET
D116: VV | F116: Součet | H116: -0.26 | AT116: VV | AU116: 2 | AV116: 4 | AW116: True | AX116: 1 | AY116: ROZPOCET
D117: D | E117: 4 | F117: Vodorovné konstrukce | J117: =BK117 -> -11443.29 | P117: =SUM(P118:P145) -> 0 | R117: =SUM(R118:R145) -> -0.3240185 | T117: =SUM(T118:T145) -> 0 | AR117: 1 | AT117: D | AU117: 1 | AY117: ROZPOCET | BK117: =SUM(BK118:BK145) -> -11443.29
C118: 6 | D118: K | E118: 411324444 | F118: Stropy z betonu železového (bez výztuže) pohledového stropů deskových, plochých střech, desek balkonových, desek hřibových stropů včetně hlavic hřibových sloupů tř. C 25/30 | G118: m3 | H118: -0.1 | I118: 7900 | J118: =ROUND(I118*H118,2) -> -790 | N118: základní | O118: 0 | P118: =O118*H118 -> 0 | Q118: 2.50201 | R118: =Q118*H118 -> -0.250201 | S118: 0 | T118: =S118*H118 -> 0 | AR118: 4 | AT118: K | AU118: 2 | AY118: ROZPOCET | BE118: =IF(N118="základní",J118,0) -> -790 | BF118: =IF(N118="snížená",J118,0) -> 0 | BG118: =IF(N118="zákl. přenesená",J118,0) -> 0 | BH118: =IF(N118="sníž. přenesená",J118,0) -> 0 | BI118: =IF(N118="nulová",J118,0) -> 0 | BJ118: 1 | BK118: =ROUND(I118*H118,2) -> -790 | BL118: 4 | BM118: -509125819
D119: VV | F119: "původní množství dle SOD" -1,365 | H119: -1.365 | AT119: VV | AU119: 2 | AV119: 2 | AW119: True | AX119: 0 | AY119: ROZPOCET
D120: VV | F120: "nové množství dle ZBV" 1,265 | H120: 1.265 | AT120: VV | AU120: 2 | AV120: 2 | AW120: True | AX120: 0 | AY120: ROZPOCET
D121: VV | F121: Součet | H121: -0.1 | AT121: VV | AU121: 2 | AV121: 4 | AW121: True | AX121: 1 | AY121: ROZPOCET
C122: 7 | D122: K | E122: 411351011 | F122: Bednění stropních konstrukcí - bez podpěrné konstrukce desek tloušťky stropní desky přes 5 do 25 cm zřízení | G122: m2 | H122: -8.78 | I122: 622 | J122: =ROUND(I122*H122,2) -> -5461.16 | N122: základní | O122: 0 | P122: =O122*H122 -> 0 | Q122: 0.00533 | R122: =Q122*H122 -> -0.0467974 | S122: 0 | T122: =S122*H122 -> 0 | AR122: 4 | AT122: K | AU122: 2 | AY122: ROZPOCET | BE122: =IF(N122="základní",J122,0) -> -5461.16 | BF122: =IF(N122="snížená",J122,0) -> 0 | BG122: =IF(N122="zákl. přenesená",J122,0) -> 0 | BH122: =IF(N122="sníž. přenesená",J122,0) -> 0 | BI122: =IF(N122="nulová",J122,0) -> 0 | BJ122: 1 | BK122: =ROUND(I122*H122,2) -> -5461.16 | BL122: 4 | BM122: -2029766002
D123: VV | F123: "původní množství dle SOD" -8,78 | H123: -8.78 | AT123: VV | AU123: 2 | AV123: 2 | AW123: True | AX123: 0 | AY123: ROZPOCET
D124: VV | F124: "nové množství dle ZBV" 0 | H124: 0 | AT124: VV | AU124: 2 | AV124: 2 | AW124: True | AX124: 0 | AY124: ROZPOCET
D125: VV | F125: Součet | H125: -8.78 | AT125: VV | AU125: 2 | AV125: 4 | AW125: True | AX125: 1 | AY125: ROZPOCET
C126: 8 | D126: K | E126: 411351012 | F126: Bednění stropních konstrukcí - bez podpěrné konstrukce desek tloušťky stropní desky přes 5 do 25 cm odstranění | G126: m2 | H126: -8.78 | I126: 275 | J126: =ROUND(I126*H126,2) -> -2414.5 | N126: základní | O126: 0 | P126: =O126*H126 -> 0 | Q126: 0 | R126: =Q126*H126 -> 0 | S126: 0 | T126: =S126*H126 -> 0 | AR126: 4 | AT126: K | AU126: 2 | AY126: ROZPOCET | BE126: =IF(N126="základní",J126,0) -> -2414.5 | BF126: =IF(N126="snížená",J126,0) -> 0 | BG126: =IF(N126="zákl. přenesená",J126,0) -> 0 | BH126: =IF(N126="sníž. přenesená",J126,0) -> 0 | BI126: =IF(N126="nulová",J126,0) -> 0 | BJ126: 1 | BK126: =ROUND(I126*H126,2) -> -2414.5 | BL126: 4 | BM126: 1746874626
D127: VV | F127: "původní množství dle SOD" -8,78 | H127: -8.78 | AT127: VV | AU127: 2 | AV127: 2 | AW127: True | AX127: 0 | AY127: ROZPOCET
D128: VV | F128: "nové množství dle ZBV" 0 | H128: 0 | AT128: VV | AU128: 2 | AV128: 2 | AW128: True | AX128: 0 | AY128: ROZPOCET
D129: VV | F129: Součet | H129: -8.78 | AT129: VV | AU129: 2 | AV129: 4 | AW129: True | AX129: 1 | AY129: ROZPOCET
C130: 9 | D130: K | E130: 411354311 | F130: Podpěrná konstrukce stropů - desek, kleneb a skořepin výška podepření do 4 m tloušťka stropu přes 5 do 15 cm zřízení | G130: m2 | H130: -5.75 | I130: 206.8 | J130: =ROUND(I130*H130,2) -> -1189.1 | N130: základní | O130: 0 | P130: =O130*H130 -> 0 | Q130: 0.00081 | R130: =Q130*H130 -> -0.0046575 | S130: 0 | T130: =S130*H130 -> 0 | AR130: 4 | AT130: K | AU130: 2 | AY130: ROZPOCET | BE130: =IF(N130="základní",J130,0) -> -1189.1 | BF130: =IF(N130="snížená",J130,0) -> 0 | BG130: =IF(N130="zákl. přenesená",J130,0) -> 0 | BH130: =IF(N130="sníž. přenesená",J130,0) -> 0 | BI130: =IF(N130="nulová",J130,0) -> 0 | BJ130: 1 | BK130: =ROUND(I130*H130,2) -> -1189.1 | BL130: 4 | BM130: 2065484512
D131: VV | F131: "původní množství dle SOD" -5,75 | H131: -5.75 | AT131: VV | AU131: 2 | AV131: 2 | AW131: True | AX131: 0 | AY131: ROZPOCET
D132: VV | F132: "nové množství dle ZBV" 0 | H132: 0 | AT132: VV | AU132: 2 | AV132: 2 | AW132: True | AX132: 0 | AY132: ROZPOCET
D133: VV | F133: Součet | H133: -5.75 | AT133: VV | AU133: 2 | AV133: 4 | AW133: True | AX133: 1 | AY133: ROZPOCET
...

Sheet ZBV-05a - méněpráce
AT2: {e9223328-9947-4f5d-b51e-d0c1ee4e8339}
AT3: 2
D4: KRYCÍ LIST SOUPISU PRACÍ | M4: v --- níže se nacházejí doplnkové a pomocné údaje k sestavám --- v | AT4: False
D6: Stavba:
E7: ='Rekapitulace stavby'!K6 -> ÚPRAVY HŘBITOVA KBELY- ETAPA1
D8: Objekt:
E9: 01 - Navrhované objekty
D10: Soupis:
E11: 10 - KOLUMBÁRIUM
D12: Úroveň 3:
E13: ZBV-05a - méněpráce
D15: KSO: | F15: 815 9 | I15: CC-CZ:
D16: Místo: | F16: Praha 9-Kbely | I16: Datum: | J16: ='Rekapitulace stavby'!AN8 -> 0
D18: Zadavatel: | I18: IČ: | J18: 00231304
E19: MČ Praha 19, Semilská 43/1, 197 00 Praha 9 - Kbely | I19: DIČ:
D21: Zhotovitel: | I21: IČ: | J21: 07395680
E22: IWU s.r.o. | I22: DIČ: | J22: CZ07395680
D24: Projektant: | I24: IČ:
E25: Ing.Jan Pustějovský, Ph.D. | I25: DIČ:
D27: Zpracovatel: | I27: IČ:
I28: DIČ:
D30: Poznámka:
D34: Cena bez DPH | J34: =ROUND(J94, 2) -> -90565.67
F36: Základ daně | I36: Sazba daně | J36: Výše daně
D37: DPH | E37: základní | F37: =ROUND((SUM(BE94:BE145)), 2) -> -90565.67 | I37: 0.21 | J37: =ROUND(((SUM(BE94:BE145))*I37), 2) -> -19018.79
E38: snížená | F38: =ROUND((SUM(BF94:BF145)), 2) -> 0 | I38: 0.12 | J38: =ROUND(((SUM(BF94:BF145))*I38), 2) -> 0
E39: zákl. přenesená | F39: =ROUND((SUM(BG94:BG145)), 2) -> 0 | I39: 0.21 | J39: =0 -> 0
E40: sníž. přenesená | F40: =ROUND((SUM(BH94:BH145)), 2) -> 0 | I40: 0.12 | J40: =0 -> 0
E41: nulová | F41: =ROUND((SUM(BI94:BI145)), 2) -> 0 | I41: 0 | J41: =0 -> 0
D43: Cena s DPH | G43: v | H43: CZK | J43: =SUM(J34:J41) -> -109584.46
C49: REKAPITULACE ČLENĚNÍ SOUPISU PRACÍ
C51: Stavba:
E52: =E7 -> ÚPRAVY HŘBITOVA KBELY- ETAPA1
C53: Objekt:
E54: 01 - Navrhované objekty
C55: Soupis:
E56: 10 - KOLUMBÁRIUM
C57: Úroveň 3:
E58: =E13 -> ZBV-05a - méněpráce
C60: Místo: | F60: =F16 -> Praha 9-Kbely | I60: Datum: | J60: =IF(J16="","",J16) -> 0
C62: Zadavatel: | F62: =E19 -> MČ Praha 19, Semilská 43/1, 197 00 Praha 9 - Kbely | I62: Projektant: | J62: =E25 -> Ing.Jan Pustějovský, Ph.D.
C63: Zhotovitel: | F63: =IF(E22="","",E22) -> IWU s.r.o. | I63: Zpracovatel: | J63: =E28
C65: Kód dílu - Popis | J65: Cena celkem [CZK]
C67: Náklady stavby celkem | J67: =J94 -> -90565.67 | AU67: -1
D68: HSV - Práce a dodávky HSV | J68: =J95 -> -90565.67
D69: 3 - Svislé a kompletní konstrukce | J69: =J96 -> -75877.2
D70: 4 - Vodorovné konstrukce | J70: =J117 -> -14688.47
C77: SOUPIS PRACÍ
C79: Stavba:
E80: =E7 -> ÚPRAVY HŘBITOVA KBELY- ETAPA1
C81: Objekt:
E82: 01 - Navrhované objekty
C83: Soupis:
E84: 10 - KOLUMBÁRIUM
C85: Úroveň 3:
E86: =E13 -> ZBV-05a - méněpráce
C88: Místo: | F88: =F16 -> Praha 9-Kbely | I88: Datum: | J88: =IF(J16="","",J16) -> 0
C90: Zadavatel: | F90: =E19 -> MČ Praha 19, Semilská 43/1, 197 00 Praha 9 - Kbely | I90: Projektant: | J90: =E25 -> Ing.Jan Pustějovský, Ph.D.
C91: Zhotovitel: | F91: =IF(E22="","",E22) -> IWU s.r.o. | I91: Zpracovatel: | J91: =E28
C93: PČ | D93: Typ | E93: Kód | F93: Popis | G93: MJ | H93: Množství | I93: J.cena [CZK] | J93: Cena celkem [CZK] | K93: Cenová soustava | N93: DPH | O93: J. Nh [h] | P93: Nh celkem [h] | Q93: J. hmotnost [t] | R93: Hmotnost celkem [t] | S93: J. suť [t] | T93: Suť Celkem [t]
C94: Náklady soupisu celkem | J94: =BK94 -> -90565.67 | P94: =P95 -> 0 | R94: =R95 -> -4.7804263 | T94: =T95 -> 0 | AT94: D | AU94: -1 | BK94: =BK95 -> -90565.67
D95: D | E95: HSV | F95: Práce a dodávky HSV | J95: =BK95 -> -90565.67 | P95: =P96+P117 -> 0 | R95: =R96+R117 -> -4.7804263 | T95: =T96+T117 -> 0 | AR95: 1 | AT95: D | AU95: 0 | AY95: ROZPOCET | BK95: =BK96+BK117 -> -90565.67
D96: D | E96: 3 | F96: Svislé a kompletní konstrukce | J96: =BK96 -> -75877.2 | P96: =SUM(P97:P116) -> 0 | R96: =SUM(R97:R116) -> -4.1708154 | T96: =SUM(T97:T116) -> 0 | AR96: 1 | AT96: D | AU96: 1 | AY96: ROZPOCET | BK96: =SUM(BK97:BK116) -> -75877.2
C97: 1 | D97: K | E97: 311321814 | F97: Nadzákladové zdi z betonu železového (bez výztuže) nosné pohledového (v přírodní barvě drtí a přísad) tř. C 25/30 | G97: m3 | H97: -1.5 | I97: 7900 | J97: =ROUND(I97*H97,2) -> -11850 | N97: základní | O97: 0 | P97: =O97*H97 -> 0 | Q97: 2.50187 | R97: =Q97*H97 -> -3.752805 | S97: 0 | T97: =S97*H97 -> 0 | AR97: 4 | AT97: K | AU97: 2 | AY97: ROZPOCET | BE97: =IF(N97="základní",J97,0) -> -11850 | BF97: =IF(N97="snížená",J97,0) -> 0 | BG97: =IF(N97="zákl. přenesená",J97,0) -> 0 | BH97: =IF(N97="sníž. přenesená",J97,0) -> 0 | BI97: =IF(N97="nulová",J97,0) -> 0 | BJ97: 1 | BK97: =ROUND(I97*H97,2) -> -11850 | BL97: 4 | BM97: -1735904284
D98: VV | F98: "původní množství dle SOD" -15,009 | H98: -15.009 | AT98: VV | AU98: 2 | AV98: 2 | AW98: True | AX98: 0 | AY98: ROZPOCET
D99: VV | F99: "nové množství dle ZBV" 13,509 | H99: 13.509 | AT99: VV | AU99: 2 | AV99: 2 | AW99: True | AX99: 0 | AY99: ROZPOCET
D100: VV | F100: Součet | H100: -1.5 | AT100: VV | AU100: 2 | AV100: 4 | AW100: True | AX100: 1 | AY100: ROZPOCET
C101: 2 | D101: K | E101: 311351121 | F101: Bednění nadzákladových zdí nosných rovné oboustranné za každou stranu zřízení | G101: m2 | H101: -40.65 | I101: 755 | J101: =ROUND(I101*H101,2) -> -30690.75 | N101: základní | O101: 0 | P101: =O101*H101 -> 0 | Q101: 0.00275 | R101: =Q101*H101 -> -0.1117875 | S101: 0 | T101: =S101*H101 -> 0 | AR101: 4 | AT101: K | AU101: 2 | AY101: ROZPOCET | BE101: =IF(N101="základní",J101,0) -> -30690.75 | BF101: =IF(N101="snížená",J101,0) -> 0 | BG101: =IF(N101="zákl. přenesená",J101,0) -> 0 | BH101: =IF(N101="sníž. přenesená",J101,0) -> 0 | BI101: =IF(N101="nulová",J101,0) -> 0 | BJ101: 1 | BK101: =ROUND(I101*H101,2) -> -30690.75 | BL101: 4 | BM101: -1685345564
D102: VV | F102: "původní množství dle SOD" -40,65 | H102: -40.65 | AT102: VV | AU102: 2 | AV102: 2 | AW102: True | AX102: 0 | AY102: ROZPOCET
D103: VV | F103: "nové množství dle ZBV" 0 | H103: 0 | AT103: VV | AU103: 2 | AV103: 2 | AW103: True | AX103: 0 | AY103: ROZPOCET
D104: VV | F104: Součet | H104: -40.65 | AT104: VV | AU104: 2 | AV104: 4 | AW104: True | AX104: 1 | AY104: ROZPOCET
C105: 3 | D105: K | E105: 311351122 | F105: Bednění nadzákladových zdí nosných rovné oboustranné za každou stranu odstranění | G105: m2 | H105: -40.65 | I105: 378 | J105: =ROUND(I105*H105,2) -> -15365.7 | N105: základní | O105: 0 | P105: =O105*H105 -> 0 | Q105: 0 | R105: =Q105*H105 -> 0 | S105: 0 | T105: =S105*H105 -> 0 | AR105: 4 | AT105: K | AU105: 2 | AY105: ROZPOCET | BE105: =IF(N105="základní",J105,0) -> -15365.7 | BF105: =IF(N105="snížená",J105,0) -> 0 | BG105: =IF(N105="zákl. přenesená",J105,0) -> 0 | BH105: =IF(N105="sníž. přenesená",J105,0) -> 0 | BI105: =IF(N105="nulová",J105,0) -> 0 | BJ105: 1 | BK105: =ROUND(I105*H105,2) -> -15365.7 | BL105: 4 | BM105: -589724627
D106: VV | F106: "původní množství dle SOD" -40,65 | H106: -40.65 | AT106: VV | AU106: 2 | AV106: 2 | AW106: True | AX106: 0 | AY106: ROZPOCET
D107: VV | F107: "nové množství dle ZBV" 0 | H107: 0 | AT107: VV | AU107: 2 | AV107: 2 | AW107: True | AX107: 0 | AY107: ROZPOCET
D108: VV | F108: Součet | H108: -40.65 | AT108: VV | AU108: 2 | AV108: 4 | AW108: True | AX108: 1 | AY108: ROZPOCET
C109: 4 | D109: K | E109: 311351911 | F109: Bednění nadzákladových zdí nosných Příplatek k cenám bednění za pohledový beton | G109: m2 | H109: -40.65 | I109: 255 | J109: =ROUND(I109*H109,2) -> -10365.75 | N109: základní | O109: 0 | P109: =O109*H109 -> 0 | Q109: 0.0025 | R109: =Q109*H109 -> -0.101625 | S109: 0 | T109: =S109*H109 -> 0 | AR109: 4 | AT109: K | AU109: 2 | AY109: ROZPOCET | BE109: =IF(N109="základní",J109,0) -> -10365.75 | BF109: =IF(N109="snížená",J109,0) -> 0 | BG109: =IF(N109="zákl. přenesená",J109,0) -> 0 | BH109: =IF(N109="sníž. přenesená",J109,0) -> 0 | BI109: =IF(N109="nulová",J109,0) -> 0 | BJ109: 1 | BK109: =ROUND(I109*H109,2) -> -10365.75 | BL109: 4 | BM109: 402384027
D110: VV | F110: "původní množství dle SOD" -40,65 | H110: -40.65 | AT110: VV | AU110: 2 | AV110: 2 | AW110: True | AX110: 0 | AY110: ROZPOCET
D111: VV | F111: "nové množství dle ZBV" 0 | H111: 0 | AT111: VV | AU111: 2 | AV111: 2 | AW111: True | AX111: 0 | AY111: ROZPOCET
D112: VV | F112: Součet | H112: -40.65 | AT112: VV | AU112: 2 | AV112: 4 | AW112: True | AX112: 1 | AY112: ROZPOCET
C113: 5 | D113: K | E113: 311361821 | F113: Výztuž nadzákladových zdí nosných svislých nebo odkloněných od svislice, rovných nebo oblých z betonářské oceli 10 505 (R) nebo BSt 500 | G113: t | H113: -0.195 | I113: 39000 | J113: =ROUND(I113*H113,2) -> -7605 | N113: základní | O113: 0 | P113: =O113*H113 -> 0 | Q113: 1.04922 | R113: =Q113*H113 -> -0.2045979 | S113: 0 | T113: =S113*H113 -> 0 | AR113: 4 | AT113: K | AU113: 2 | AY113: ROZPOCET | BE113: =IF(N113="základní",J113,0) -> -7605 | BF113: =IF(N113="snížená",J113,0) -> 0 | BG113: =IF(N113="zákl. přenesená",J113,0) -> 0 | BH113: =IF(N113="sníž. přenesená",J113,0) -> 0 | BI113: =IF(N113="nulová",J113,0) -> 0 | BJ113: 1 | BK113: =ROUND(I113*H113,2) -> -7605 | BL113: 4 | BM113: -1066531278
D114: VV | F114: "původní množství dle SOD" -1,951 | H114: -1.951 | AT114: VV | AU114: 2 | AV114: 2 | AW114: True | AX114: 0 | AY114: ROZPOCET
D115: VV | F115: "nové množství dle ZBV" 1,756 | H115: 1.756 | AT115: VV | AU115: 2 | AV115: 2 | AW115: True | AX115: 0 | AY115: ROZPOCET
D116: VV | F116: Součet | H116: -0.195 | AT116: VV | AU116: 2 | AV116: 4 | AW116: True | AX116: 1 | AY116: ROZPOCET
D117: D | E117: 4 | F117: Vodorovné konstrukce | J117: =BK117 -> -14688.47 | P117: =SUM(P118:P145) -> 0 | R117: =SUM(R118:R145) -> -0.60961095 | T117: =SUM(T118:T145) -> 0 | AR117: 1 | AT117: D | AU117: 1 | AY117: ROZPOCET | BK117: =SUM(BK118:BK145) -> -14688.47
C118: 6 | D118: K | E118: 411324444 | F118: Stropy z betonu železového (bez výztuže) pohledového stropů deskových, plochých střech, desek balkonových, desek hřibových stropů včetně hlavic hřibových sloupů tř. C 25/30 | G118: m3 | H118: -0.2 | I118: 7900 | J118: =ROUND(I118*H118,2) -> -1580 | N118: základní | O118: 0 | P118: =O118*H118 -> 0 | Q118: 2.50201 | R118: =Q118*H118 -> -0.500402 | S118: 0 | T118: =S118*H118 -> 0 | AR118: 4 | AT118: K | AU118: 2 | AY118: ROZPOCET | BE118: =IF(N118="základní",J118,0) -> -1580 | BF118: =IF(N118="snížená",J118,0) -> 0 | BG118: =IF(N118="zákl. přenesená",J118,0) -> 0 | BH118: =IF(N118="sníž. přenesená",J118,0) -> 0 | BI118: =IF(N118="nulová",J118,0) -> 0 | BJ118: 1 | BK118: =ROUND(I118*H118,2) -> -1580 | BL118: 4 | BM118: 1127173951
D119: VV | F119: "původní množství dle SOD" -1,713 | H119: -1.713 | AT119: VV | AU119: 2 | AV119: 2 | AW119: True | AX119: 0 | AY119: ROZPOCET
D120: VV | F120: "nové množství dle ZBV" 1,513 | H120: 1.513 | AT120: VV | AU120: 2 | AV120: 2 | AW120: True | AX120: 0 | AY120: ROZPOCET
D121: VV | F121: Součet | H121: -0.2 | AT121: VV | AU121: 2 | AV121: 4 | AW121: True | AX121: 1 | AY121: ROZPOCET
C122: 7 | D122: K | E122: 411351011 | F122: Bednění stropních konstrukcí - bez podpěrné konstrukce desek tloušťky stropní desky přes 5 do 25 cm zřízení | G122: m2 | H122: -9.325 | I122: 622 | J122: =ROUND(I122*H122,2) -> -5800.15 | N122: základní | O122: 0 | P122: =O122*H122 -> 0 | Q122: 0.00533 | R122: =Q122*H122 -> -0.04970225 | S122: 0 | T122: =S122*H122 -> 0 | AR122: 4 | AT122: K | AU122: 2 | AY122: ROZPOCET | BE122: =IF(N122="základní",J122,0) -> -5800.15 | BF122: =IF(N122="snížená",J122,0) -> 0 | BG122: =IF(N122="zákl. přenesená",J122,0) -> 0 | BH122: =IF(N122="sníž. přenesená",J122,0) -> 0 | BI122: =IF(N122="nulová",J122,0) -> 0 | BJ122: 1 | BK122: =ROUND(I122*H122,2) -> -5800.15 | BL122: 4 | BM122: 1977665679
D123: VV | F123: "původní množství dle SOD" -9,325 | H123: -9.325 | AT123: VV | AU123: 2 | AV123: 2 | AW123: True | AX123: 0 | AY123: ROZPOCET
D124: VV | F124: "nové množství dle ZBV" 0 | H124: 0 | AT124: VV | AU124: 2 | AV124: 2 | AW124: True | AX124: 0 | AY124: ROZPOCET
D125: VV | F125: Součet | H125: -9.325 | AT125: VV | AU125: 2 | AV125: 4 | AW125: True | AX125: 1 | AY125: ROZPOCET
C126: 8 | D126: K | E126: 411351012 | F126: Bednění stropních konstrukcí - bez podpěrné konstrukce desek tloušťky stropní desky přes 5 do 25 cm odstranění | G126: m2 | H126: -9.325 | I126: 275 | J126: =ROUND(I126*H126,2) -> -2564.38 | N126: základní | O126: 0 | P126: =O126*H126 -> 0 | Q126: 0 | R126: =Q126*H126 -> 0 | S126: 0 | T126: =S126*H126 -> 0 | AR126: 4 | AT126: K | AU126: 2 | AY126: ROZPOCET | BE126: =IF(N126="základní",J126,0) -> -2564.38 | BF126: =IF(N126="snížená",J126,0) -> 0 | BG126: =IF(N126="zákl. přenesená",J126,0) -> 0 | BH126: =IF(N126="sníž. přenesená",J126,0) -> 0 | BI126: =IF(N126="nulová",J126,0) -> 0 | BJ126: 1 | BK126: =ROUND(I126*H126,2) -> -2564.38 | BL126: 4 | BM126: 497479947
D127: VV | F127: "původní množství dle SOD" -9,325 | H127: -9.325 | AT127: VV | AU127: 2 | AV127: 2 | AW127: True | AX127: 0 | AY127: ROZPOCET
D128: VV | F128: "nové množství dle ZBV" 0 | H128: 0 | AT128: VV | AU128: 2 | AV128: 2 | AW128: True | AX128: 0 | AY128: ROZPOCET
D129: VV | F129: Součet | H129: -9.325 | AT129: VV | AU129: 2 | AV129: 4 | AW129: True | AX129: 1 | AY129: ROZPOCET
C130: 9 | D130: K | E130: 411354311 | F130: Podpěrná konstrukce stropů - desek, kleneb a skořepin výška podepření do 4 m tloušťka stropu přes 5 do 15 cm zřízení | G130: m2 | H130: -5.35 | I130: 206.8 | J130: =ROUND(I130*H130,2) -> -1106.38 | N130: základní | O130: 0 | P130: =O130*H130 -> 0 | Q130: 0.00081 | R130: =Q130*H130 -> -0.0043335 | S130: 0 | T130: =S130*H130 -> 0 | AR130: 4 | AT130: K | AU130: 2 | AY130: ROZPOCET | BE130: =IF(N130="základní",J130,0) -> -1106.38 | BF130: =IF(N130="snížená",J130,0) -> 0 | BG130: =IF(N130="zákl. přenesená",J130,0) -> 0 | BH130: =IF(N130="sníž. přenesená",J130,0) -> 0 | BI130: =IF(N130="nulová",J130,0) -> 0 | BJ130: 1 | BK130: =ROUND(I130*H130,2) -> -1106.38 | BL130: 4 | BM130: 361470046
D131: VV | F131: "původní množství dle SOD" -5,35 | H131: -5.35 | AT131: VV | AU131: 2 | AV131: 2 | AW131: True | AX131: 0 | AY131: ROZPOCET
D132: VV | F132: "nové množství dle ZBV" 0 | H132: 0 | AT132: VV | AU132: 2 | AV132: 2 | AW132: True | AX132: 0 | AY132: ROZPOCET
D133: VV | F133: Součet | H133: -5.35 | AT133: VV | AU133: 2 | AV133: 4 | AW133: True | AX133: 1 | AY133: ROZPOCET
...

Sheet ZBV-06a - méněpráce
AT2: {3a364fa1-bab6-4d23-9726-7b4aa15ed839}
AT3: 2
D4: KRYCÍ LIST SOUPISU PRACÍ | M4: v --- níže se nacházejí doplnkové a pomocné údaje k sestavám --- v | AT4: False
D6: Stavba:
E7: ='Rekapitulace stavby'!K6 -> ÚPRAVY HŘBITOVA KBELY- ETAPA1
D8: Objekt:
E9: 01 - Navrhované objekty
D10: Soupis:
E11: 11 - KOLUMBÁRIUM
D12: Úroveň 3:
E13: ZBV-06a - méněpráce
D15: KSO: | F15: 815 9 | I15: CC-CZ:
D16: Místo: | F16: Praha 9-Kbely | I16: Datum: | J16: ='Rekapitulace stavby'!AN8 -> 0
D18: Zadavatel: | I18: IČ: | J18: 00231304
E19: MČ Praha 19, Semilská 43/1, 197 00 Praha 9 - Kbely | I19: DIČ:
D21: Zhotovitel: | I21: IČ: | J21: 07395680
E22: IWU s.r.o. | I22: DIČ: | J22: CZ07395680
D24: Projektant: | I24: IČ:
E25: Ing.Jan Pustějovský, Ph.D. | I25: DIČ:
D27: Zpracovatel: | I27: IČ:
I28: DIČ:
D30: Poznámka:
D34: Cena bez DPH | J34: =ROUND(J94, 2) -> -67689.1
F36: Základ daně | I36: Sazba daně | J36: Výše daně
D37: DPH | E37: základní | F37: =ROUND((SUM(BE94:BE145)), 2) -> -67689.1 | I37: 0.21 | J37: =ROUND(((SUM(BE94:BE145))*I37), 2) -> -14214.71
E38: snížená | F38: =ROUND((SUM(BF94:BF145)), 2) -> 0 | I38: 0.12 | J38: =ROUND(((SUM(BF94:BF145))*I38), 2) -> 0
E39: zákl. přenesená | F39: =ROUND((SUM(BG94:BG145)), 2) -> 0 | I39: 0.21 | J39: =0 -> 0
E40: sníž. přenesená | F40: =ROUND((SUM(BH94:BH145)), 2) -> 0 | I40: 0.12 | J40: =0 -> 0
E41: nulová | F41: =ROUND((SUM(BI94:BI145)), 2) -> 0 | I41: 0 | J41: =0 -> 0
D43: Cena s DPH | G43: v | H43: CZK | J43: =SUM(J34:J41) -> -81903.81
C49: REKAPITULACE ČLENĚNÍ SOUPISU PRACÍ
C51: Stavba:
E52: =E7 -> ÚPRAVY HŘBITOVA KBELY- ETAPA1
C53: Objekt:
E54: 01 - Navrhované objekty
C55: Soupis:
E56: 11 - KOLUMBÁRIUM
C57: Úroveň 3:
E58: =E13 -> ZBV-06a - méněpráce
C60: Místo: | F60: =F16 -> Praha 9-Kbely | I60: Datum: | J60: =IF(J16="","",J16) -> 0
C62: Zadavatel: | F62: =E19 -> MČ Praha 19, Semilská 43/1, 197 00 Praha 9 - Kbely | I62: Projektant: | J62: =E25 -> Ing.Jan Pustějovský, Ph.D.
C63: Zhotovitel: | F63: =IF(E22="","",E22) -> IWU s.r.o. | I63: Zpracovatel: | J63: =E28
C65: Kód dílu - Popis | J65: Cena celkem [CZK]
C67: Náklady stavby celkem | J67: =J94 -> -67689.1 | AU67: -1
D68: HSV - Práce a dodávky HSV | J68: =J95 -> -67689.1
D69: 3 - Svislé a kompletní konstrukce | J69: =J96 -> -54865.85
D70: 4 - Vodorovné konstrukce | J70: =J117 -> -12823.25
C77: SOUPIS PRACÍ
C79: Stavba:
E80: =E7 -> ÚPRAVY HŘBITOVA KBELY- ETAPA1
C81: Objekt:
E82: 01 - Navrhované objekty
C83: Soupis:
E84: 11 - KOLUMBÁRIUM
C85: Úroveň 3:
E86: =E13 -> ZBV-06a - méněpráce
C88: Místo: | F88: =F16 -> Praha 9-Kbely | I88: Datum: | J88: =IF(J16="","",J16) -> 0
C90: Zadavatel: | F90: =E19 -> MČ Praha 19, Semilská 43/1, 197 00 Praha 9 - Kbely | I90: Projektant: | J90: =E25 -> Ing.Jan Pustějovský, Ph.D.
C91: Zhotovitel: | F91: =IF(E22="","",E22) -> IWU s.r.o. | I91: Zpracovatel: | J91: =E28
C93: PČ | D93: Typ | E93: Kód | F93: Popis | G93: MJ | H93: Množství | I93: J.cena [CZK] | J93: Cena celkem [CZK] | K93: Cenová soustava | N93: DPH | O93: J. Nh [h] | P93: Nh celkem [h] | Q93: J. hmotnost [t] | R93: Hmotnost celkem [t] | S93: J. suť [t] | T93: Suť Celkem [t]
C94: Náklady soupisu celkem | J94: =BK94 -> -67689.1 | P94: =P95 -> 0 | R94: =R95 -> -3.3704932 | T94: =T95 -> 0 | AT94: D | AU94: -1 | BK94: =BK95 -> -67689.1
D95: D | E95: HSV | F95: Práce a dodávky HSV | J95: =BK95 -> -67689.1 | P95: =P96+P117 -> 0 | R95: =R96+R117 -> -3.3704932 | T95: =T96+T117 -> 0 | AR95: 1 | AT95: D | AU95: 0 | AY95: ROZPOCET | BK95: =BK96+BK117 -> -67689.1
D96: D | E96: 3 | F96: Svislé a kompletní konstrukce | J96: =BK96 -> -54865.85 | P96: =SUM(P97:P116) -> 0 | R96: =SUM(R97:R116) -> -2.7840686 | T96: =SUM(T97:T116) -> 0 | AR96: 1 | AT96: D | AU96: 1 | AY96: ROZPOCET | BK96: =SUM(BK97:BK116) -> -54865.85
C97: 1 | D97: K | E97: 311321814 | F97: Nadzákladové zdi z betonu železového (bez výztuže) nosné pohledového (v přírodní barvě drtí a přísad) tř. C 25/30 | G97: m3 | H97: -1 | I97: 7900 | J97: =ROUND(I97*H97,2) -> -7900 | N97: základní | O97: 0 | P97: =O97*H97 -> 0 | Q97: 2.50187 | R97: =Q97*H97 -> -2.50187 | S97: 0 | T97: =S97*H97 -> 0 | AR97: 4 | AT97: K | AU97: 2 | AY97: ROZPOCET | BE97: =IF(N97="základní",J97,0) -> -7900 | BF97: =IF(N97="snížená",J97,0) -> 0 | BG97: =IF(N97="zákl. přenesená",J97,0) -> 0 | BH97: =IF(N97="sníž. přenesená",J97,0) -> 0 | BI97: =IF(N97="nulová",J97,0) -> 0 | BJ97: 1 | BK97: =ROUND(I97*H97,2) -> -7900 | BL97: 4 | BM97: -430960449
D98: VV | F98: "původní množství dle SOD" -8,465 | H98: -8.465 | AT98: VV | AU98: 2 | AV98: 2 | AW98: True | AX98: 0 | AY98: ROZPOCET
D99: VV | F99: "nové množství dle ZBV" 7,465 | H99: 7.465 | AT99: VV | AU99: 2 | AV99: 2 | AW99: True | AX99: 0 | AY99: ROZPOCET
D100: VV | F100: Součet | H100: -1 | AT100: VV | AU100: 2 | AV100: 4 | AW100: True | AX100: 1 | AY100: ROZPOCET
C101: 2 | D101: K | E101: 311351121 | F101: Bednění nadzákladových zdí nosných rovné oboustranné za každou stranu zřízení | G101: m2 | H101: -31.7 | I101: 755 | J101: =ROUND(I101*H101,2) -> -23933.5 | N101: základní | O101: 0 | P101: =O101*H101 -> 0 | Q101: 0.00275 | R101: =Q101*H101 -> -0.087175 | S101: 0 | T101: =S101*H101 -> 0 | AR101: 4 | AT101: K | AU101: 2 | AY101: ROZPOCET | BE101: =IF(N101="základní",J101,0) -> -23933.5 | BF101: =IF(N101="snížená",J101,0) -> 0 | BG101: =IF(N101="zákl. přenesená",J101,0) -> 0 | BH101: =IF(N101="sníž. přenesená",J101,0) -> 0 | BI101: =IF(N101="nulová",J101,0) -> 0 | BJ101: 1 | BK101: =ROUND(I101*H101,2) -> -23933.5 | BL101: 4 | BM101: 2005152308
D102: VV | F102: "původní množství dle SOD" -31,7 | H102: -31.7 | AT102: VV | AU102: 2 | AV102: 2 | AW102: True | AX102: 0 | AY102: ROZPOCET
D103: VV | F103: "nové množství dle ZBV" 0 | H103: 0 | AT103: VV | AU103: 2 | AV103: 2 | AW103: True | AX103: 0 | AY103: ROZPOCET
D104: VV | F104: Součet | H104: -31.7 | AT104: VV | AU104: 2 | AV104: 4 | AW104: True | AX104: 1 | AY104: ROZPOCET
C105: 3 | D105: K | E105: 311351122 | F105: Bednění nadzákladových zdí nosných rovné oboustranné za každou stranu odstranění | G105: m2 | H105: -31.7 | I105: 378 | J105: =ROUND(I105*H105,2) -> -11982.6 | N105: základní | O105: 0 | P105: =O105*H105 -> 0 | Q105: 0 | R105: =Q105*H105 -> 0 | S105: 0 | T105: =S105*H105 -> 0 | AR105: 4 | AT105: K | AU105: 2 | AY105: ROZPOCET | BE105: =IF(N105="základní",J105,0) -> -11982.6 | BF105: =IF(N105="snížená",J105,0) -> 0 | BG105: =IF(N105="zákl. přenesená",J105,0) -> 0 | BH105: =IF(N105="sníž. přenesená",J105,0) -> 0 | BI105: =IF(N105="nulová",J105,0) -> 0 | BJ105: 1 | BK105: =ROUND(I105*H105,2) -> -11982.6 | BL105: 4 | BM105: 1832421875
D106: VV | F106: "původní množství dle SOD" -31,7 | H106: -31.7 | AT106: VV | AU106: 2 | AV106: 2 | AW106: True | AX106: 0 | AY106: ROZPOCET
D107: VV | F107: "nové množství dle ZBV" 0 | H107: 0 | AT107: VV | AU107: 2 | AV107: 2 | AW107: True | AX107: 0 | AY107: ROZPOCET
D108: VV | F108: Součet | H108: -31.7 | AT108: VV | AU108: 2 | AV108: 4 | AW108: True | AX108: 1 | AY108: ROZPOCET
C109: 4 | D109: K | E109: 311351911 | F109: Bednění nadzákladových zdí nosných Příplatek k cenám bednění za pohledový beton | G109: m2 | H109: -23.45 | I109: 255 | J109: =ROUND(I109*H109,2) -> -5979.75 | N109: základní | O109: 0 | P109: =O109*H109 -> 0 | Q109: 0.0025 | R109: =Q109*H109 -> -0.058625 | S109: 0 | T109: =S109*H109 -> 0 | AR109: 4 | AT109: K | AU109: 2 | AY109: ROZPOCET | BE109: =IF(N109="základní",J109,0) -> -5979.75 | BF109: =IF(N109="snížená",J109,0) -> 0 | BG109: =IF(N109="zákl. přenesená",J109,0) -> 0 | BH109: =IF(N109="sníž. přenesená",J109,0) -> 0 | BI109: =IF(N109="nulová",J109,0) -> 0 | BJ109: 1 | BK109: =ROUND(I109*H109,2) -> -5979.75 | BL109: 4 | BM109: -721881229
D110: VV | F110: "původní množství dle SOD" -23,45 | H110: -23.45 | AT110: VV | AU110: 2 | AV110: 2 | AW110: True | AX110: 0 | AY110: ROZPOCET
D111: VV | F111: "nové množství dle ZBV" 0 | H111: 0 | AT111: VV | AU111: 2 | AV111: 2 | AW111: True | AX111: 0 | AY111: ROZPOCET
D112: VV | F112: Součet | H112: -23.45 | AT112: VV | AU112: 2 | AV112: 4 | AW112: True | AX112: 1 | AY112: ROZPOCET
C113: 5 | D113: K | E113: 311361821 | F113: Výztuž nadzákladových zdí nosných svislých nebo odkloněných od svislice, rovných nebo oblých z betonářské oceli 10 505 (R) nebo BSt 500 | G113: t | H113: -0.13 | I113: 39000 | J113: =ROUND(I113*H113,2) -> -5070 | N113: základní | O113: 0 | P113: =O113*H113 -> 0 | Q113: 1.04922 | R113: =Q113*H113 -> -0.1363986 | S113: 0 | T113: =S113*H113 -> 0 | AR113: 4 | AT113: K | AU113: 2 | AY113: ROZPOCET | BE113: =IF(N113="základní",J113,0) -> -5070 | BF113: =IF(N113="snížená",J113,0) -> 0 | BG113: =IF(N113="zákl. přenesená",J113,0) -> 0 | BH113: =IF(N113="sníž. přenesená",J113,0) -> 0 | BI113: =IF(N113="nulová",J113,0) -> 0 | BJ113: 1 | BK113: =ROUND(I113*H113,2) -> -5070 | BL113: 4 | BM113: -855185686
D114: VV | F114: "původní množství dle SOD" -1,1 | H114: -1.1 | AT114: VV | AU114: 2 | AV114: 2 | AW114: True | AX114: 0 | AY114: ROZPOCET
D115: VV | F115: "nové množství dle ZBV" 0,97 | H115: 0.97 | AT115: VV | AU115: 2 | AV115: 2 | AW115: True | AX115: 0 | AY115: ROZPOCET
D116: VV | F116: Součet | H116: -0.13 | AT116: VV | AU116: 2 | AV116: 4 | AW116: True | AX116: 1 | AY116: ROZPOCET
D117: D | E117: 4 | F117: Vodorovné konstrukce | J117: =BK117 -> -12823.25 | P117: =SUM(P118:P145) -> 0 | R117: =SUM(R118:R145) -> -0.5864246 | T117: =SUM(T118:T145) -> 0 | AR117: 1 | AT117: D | AU117: 1 | AY117: ROZPOCET | BK117: =SUM(BK118:BK145) -> -12823.25
C118: 6 | D118: K | E118: 411324444 | F118: Stropy z betonu železového (bez výztuže) pohledového stropů deskových, plochých střech, desek balkonových, desek hřibových stropů včetně hlavic hřibových sloupů tř. C 25/30 | G118: m3 | H118: -0.2 | I118: 7900 | J118: =ROUND(I118*H118,2) -> -1580 | N118: základní | O118: 0 | P118: =O118*H118 -> 0 | Q118: 2.50201 | R118: =Q118*H118 -> -0.500402 | S118: 0 | T118: =S118*H118 -> 0 | AR118: 4 | AT118: K | AU118: 2 | AY118: ROZPOCET | BE118: =IF(N118="základní",J118,0) -> -1580 | BF118: =IF(N118="snížená",J118,0) -> 0 | BG118: =IF(N118="zákl. přenesená",J118,0) -> 0 | BH118: =IF(N118="sníž. přenesená",J118,0) -> 0 | BI118: =IF(N118="nulová",J118,0) -> 0 | BJ118: 1 | BK118: =ROUND(I118*H118,2) -> -1580 | BL118: 4 | BM118: -553836161
D119: VV | F119: "původní množství dle SOD" -1,14 | H119: -1.14 | AT119: VV | AU119: 2 | AV119: 2 | AW119: True | AX119: 0 | AY119: ROZPOCET
D120: VV | F120: "nové množství dle ZBV" 0,94 | H120: 0.94 | AT120: VV | AU120: 2 | AV120: 2 | AW120: True | AX120: 0 | AY120: ROZPOCET
D121: VV | F121: Součet | H121: -0.2 | AT121: VV | AU121: 2 | AV121: 4 | AW121: True | AX121: 1 | AY121: ROZPOCET
C122: 7 | D122: K | E122: 411351011 | F122: Bednění stropních konstrukcí - bez podpěrné konstrukce desek tloušťky stropní desky přes 5 do 25 cm zřízení | G122: m2 | H122: -8.88 | I122: 622 | J122: =ROUND(I122*H122,2) -> -5523.36 | N122: základní | O122: 0 | P122: =O122*H122 -> 0 | Q122: 0.00533 | R122: =Q122*H122 -> -0.0473304 | S122: 0 | T122: =S122*H122 -> 0 | AR122: 4 | AT122: K | AU122: 2 | AY122: ROZPOCET | BE122: =IF(N122="základní",J122,0) -> -5523.36 | BF122: =IF(N122="snížená",J122,0) -> 0 | BG122: =IF(N122="zákl. přenesená",J122,0) -> 0 | BH122: =IF(N122="sníž. přenesená",J122,0) -> 0 | BI122: =IF(N122="nulová",J122,0) -> 0 | BJ122: 1 | BK122: =ROUND(I122*H122,2) -> -5523.36 | BL122: 4 | BM122: -1064596191
D123: VV | F123: "původní množství dle SOD" -8,88 | H123: -8.88 | AT123: VV | AU123: 2 | AV123: 2 | AW123: True | AX123: 0 | AY123: ROZPOCET
D124: VV | F124: "nové množství dle ZBV" 0 | H124: 0 | AT124: VV | AU124: 2 | AV124: 2 | AW124: True | AX124: 0 | AY124: ROZPOCET
D125: VV | F125: Součet | H125: -8.88 | AT125: VV | AU125: 2 | AV125: 4 | AW125: True | AX125: 1 | AY125: ROZPOCET
C126: 8 | D126: K | E126: 411351012 | F126: Bednění stropních konstrukcí - bez podpěrné konstrukce desek tloušťky stropní desky přes 5 do 25 cm odstranění | G126: m2 | H126: -8.88 | I126: 275 | J126: =ROUND(I126*H126,2) -> -2442 | N126: základní | O126: 0 | P126: =O126*H126 -> 0 | Q126: 0 | R126: =Q126*H126 -> 0 | S126: 0 | T126: =S126*H126 -> 0 | AR126: 4 | AT126: K | AU126: 2 | AY126: ROZPOCET | BE126: =IF(N126="základní",J126,0) -> -2442 | BF126: =IF(N126="snížená",J126,0) -> 0 | BG126: =IF(N126="zákl. přenesená",J126,0) -> 0 | BH126: =IF(N126="sníž. přenesená",J126,0) -> 0 | BI126: =IF(N126="nulová",J126,0) -> 0 | BJ126: 1 | BK126: =ROUND(I126*H126,2) -> -2442 | BL126: 4 | BM126: 1168085434
D127: VV | F127: "původní množství dle SOD" -8,88 | H127: -8.88 | AT127: VV | AU127: 2 | AV127: 2 | AW127: True | AX127: 0 | AY127: ROZPOCET
D128: VV | F128: "nové množství dle ZBV" 0 | H128: 0 | AT128: VV | AU128: 2 | AV128: 2 | AW128: True | AX128: 0 | AY128: ROZPOCET
D129: VV | F129: Součet | H129: -8.88 | AT129: VV | AU129: 2 | AV129: 4 | AW129: True | AX129: 1 | AY129: ROZPOCET
C130: 9 | D130: K | E130: 411354311 | F130: Podpěrná konstrukce stropů - desek, kleneb a skořepin výška podepření do 4 m tloušťka stropu přes 5 do 15 cm zřízení | G130: m2 | H130: -6.3 | I130: 206.8 | J130: =ROUND(I130*H130,2) -> -1302.84 | N130: základní | O130: 0 | P130: =O130*H130 -> 0 | Q130: 0.00081 | R130: =Q130*H130 -> -0.005103 | S130: 0 | T130: =S130*H130 -> 0 | AR130: 4 | AT130: K | AU130: 2 | AY130: ROZPOCET | BE130: =IF(N130="základní",J130,0) -> -1302.84 | BF130: =IF(N130="snížená",J130,0) -> 0 | BG130: =IF(N130="zákl. přenesená",J130,0) -> 0 | BH130: =IF(N130="sníž. přenesená",J130,0) -> 0 | BI130: =IF(N130="nulová",J130,0) -> 0 | BJ130: 1 | BK130: =ROUND(I130*H130,2) -> -1302.84 | BL130: 4 | BM130: 1453975016
D131: VV | F131: "původní množství dle SOD" -6,3 | H131: -6.3 | AT131: VV | AU131: 2 | AV131: 2 | AW131: True | AX131: 0 | AY131: ROZPOCET
D132: VV | F132: "nové množství dle ZBV" 0 | H132: 0 | AT132: VV | AU132: 2 | AV132: 2 | AW132: True | AX132: 0 | AY132: ROZPOCET
D133: VV | F133: Součet | H133: -6.3 | AT133: VV | AU133: 2 | AV133: 4 | AW133: True | AX133: 1 | AY133: ROZPOCET
...

Sheet ZBV-07a - méněpráce
AT2: {9995098d-d540-49cc-92e2-c7832f64e49f}
AT3: 2
D4: KRYCÍ LIST SOUPISU PRACÍ | M4: v --- níže se nacházejí doplnkové a pomocné údaje k sestavám --- v | AT4: False
D6: Stavba:
E7: ='Rekapitulace stavby'!K6 -> ÚPRAVY HŘBITOVA KBELY- ETAPA1
D8: Objekt:
E9: 01 - Navrhované objekty
D10: Soupis:
E11: 12 - KOLUMBÁRIUM
D12: Úroveň 3:
E13: ZBV-07a - méněpráce
D15: KSO: | F15: 815 9 | I15: CC-CZ:
D16: Místo: | F16: Praha 9-Kbely | I16: Datum: | J16: ='Rekapitulace stavby'!AN8 -> 0
D18: Zadavatel: | I18: IČ: | J18: 00231304
E19: MČ Praha 19, Semilská 43/1, 197 00 Praha 9 - Kbely | I19: DIČ:
D21: Zhotovitel: | I21: IČ: | J21: 07395680
E22: IWU s.r.o. | I22: DIČ: | J22: CZ07395680
D24: Projektant: | I24: IČ:
E25: Ing.Jan Pustějovský, Ph.D. | I25: DIČ:
D27: Zpracovatel: | I27: IČ:
I28: DIČ:
D30: Poznámka:
D34: Cena bez DPH | J34: =ROUND(J94, 2) -> -35786.98
F36: Základ daně | I36: Sazba daně | J36: Výše daně
D37: DPH | E37: základní | F37: =ROUND((SUM(BE94:BE145)), 2) -> -35786.98 | I37: 0.21 | J37: =ROUND(((SUM(BE94:BE145))*I37), 2) -> -7515.27
E38: snížená | F38: =ROUND((SUM(BF94:BF145)), 2) -> 0 | I38: 0.12 | J38: =ROUND(((SUM(BF94:BF145))*I38), 2) -> 0
E39: zákl. přenesená | F39: =ROUND((SUM(BG94:BG145)), 2) -> 0 | I39: 0.21 | J39: =0 -> 0
E40: sníž. přenesená | F40: =ROUND((SUM(BH94:BH145)), 2) -> 0 | I40: 0.12 | J40: =0 -> 0
E41: nulová | F41: =ROUND((SUM(BI94:BI145)), 2) -> 0 | I41: 0 | J41: =0 -> 0
D43: Cena s DPH | G43: v | H43: CZK | J43: =SUM(J34:J41) -> -43302.25
C49: REKAPITULACE ČLENĚNÍ SOUPISU PRACÍ
C51: Stavba:
E52: =E7 -> ÚPRAVY HŘBITOVA KBELY- ETAPA1
C53: Objekt:
E54: 01 - Navrhované objekty
C55: Soupis:
E56: 12 - KOLUMBÁRIUM
C57: Úroveň 3:
E58: =E13 -> ZBV-07a - méněpráce
C60: Místo: | F60: =F16 -> Praha 9-Kbely | I60: Datum: | J60: =IF(J16="","",J16) -> 0
C62: Zadavatel: | F62: =E19 -> MČ Praha 19, Semilská 43/1, 197 00 Praha 9 - Kbely | I62: Projektant: | J62: =E25 -> Ing.Jan Pustějovský, Ph.D.
C63: Zhotovitel: | F63: =IF(E22="","",E22) -> IWU s.r.o. | I63: Zpracovatel: | J63: =E28
C65: Kód dílu - Popis | J65: Cena celkem [CZK]
C67: Náklady stavby celkem | J67: =J94 -> -35786.98 | AU67: -1
D68: HSV - Práce a dodávky HSV | J68: =J95 -> -35786.98
D69: 3 - Svislé a kompletní konstrukce | J69: =J96 -> -27918.75
D70: 4 - Vodorovné konstrukce | J70: =J117 -> -7868.23
C77: SOUPIS PRACÍ
C79: Stavba:
E80: =E7 -> ÚPRAVY HŘBITOVA KBELY- ETAPA1
C81: Objekt:
E82: 01 - Navrhované objekty
C83: Soupis:
E84: 12 - KOLUMBÁRIUM
C85: Úroveň 3:
E86: =E13 -> ZBV-07a - méněpráce
C88: Místo: | F88: =F16 -> Praha 9-Kbely | I88: Datum: | J88: =IF(J16="","",J16) -> 0
C90: Zadavatel: | F90: =E19 -> MČ Praha 19, Semilská 43/1, 197 00 Praha 9 - Kbely | I90: Projektant: | J90: =E25 -> Ing.Jan Pustějovský, Ph.D.
C91: Zhotovitel: | F91: =IF(E22="","",E22) -> IWU s.r.o. | I91: Zpracovatel: | J91: =E28
C93: PČ | D93: Typ | E93: Kód | F93: Popis | G93: MJ | H93: Množství | I93: J.cena [CZK] | J93: Cena celkem [CZK] | K93: Cenová soustava | N93: DPH | O93: J. Nh [h] | P93: Nh celkem [h] | Q93: J. hmotnost [t] | R93: Hmotnost celkem [t] | S93: J. suť [t] | T93: Suť Celkem [t]
C94: Náklady soupisu celkem | J94: =BK94 -> -35786.98 | P94: =P95 -> 0 | R94: =R95 -> -1.1788224 | T94: =T95 -> 0 | AT94: D | AU94: -1 | BK94: =BK95 -> -35786.98
D95: D | E95: HSV | F95: Práce a dodávky HSV | J95: =BK95 -> -35786.98 | P95: =P96+P117 -> 0 | R95: =R96+R117 -> -1.1788224 | T95: =T96+T117 -> 0 | AR95: 1 | AT95: D | AU95: 0 | AY95: ROZPOCET | BK95: =BK96+BK117 -> -35786.98
D96: D | E96: 3 | F96: Svislé a kompletní konstrukce | J96: =BK96 -> -27918.75 | P96: =SUM(P97:P116) -> 0 | R96: =SUM(R97:R116) -> -0.87660558 | T96: =SUM(T97:T116) -> 0 | AR96: 1 | AT96: D | AU96: 1 | AY96: ROZPOCET | BK96: =SUM(BK97:BK116) -> -27918.75
C97: 1 | D97: K | E97: 311321814 | F97: Nadzákladové zdi z betonu železového (bez výztuže) nosné pohledového (v přírodní barvě drtí a přísad) tř. C 25/30 | G97: m3 | H97: -0.3 | I97: 7900 | J97: =ROUND(I97*H97,2) -> -2370 | N97: základní | O97: 0 | P97: =O97*H97 -> 0 | Q97: 2.50187 | R97: =Q97*H97 -> -0.750561 | S97: 0 | T97: =S97*H97 -> 0 | AR97: 4 | AT97: K | AU97: 2 | AY97: ROZPOCET | BE97: =IF(N97="základní",J97,0) -> -2370 | BF97: =IF(N97="snížená",J97,0) -> 0 | BG97: =IF(N97="zákl. přenesená",J97,0) -> 0 | BH97: =IF(N97="sníž. přenesená",J97,0) -> 0 | BI97: =IF(N97="nulová",J97,0) -> 0 | BJ97: 1 | BK97: =ROUND(I97*H97,2) -> -2370 | BL97: 4 | BM97: -1136583537
D98: VV | F98: "původní množství dle SOD" -3,805 | H98: -3.805 | AT98: VV | AU98: 2 | AV98: 2 | AW98: True | AX98: 0 | AY98: ROZPOCET
D99: VV | F99: "nové množství dle ZBV" 3,505 | H99: 3.505 | AT99: VV | AU99: 2 | AV99: 2 | AW99: True | AX99: 0 | AY99: ROZPOCET
D100: VV | F100: Součet | H100: -0.3 | AT100: VV | AU100: 2 | AV100: 4 | AW100: True | AX100: 1 | AY100: ROZPOCET
C101: 2 | D101: K | E101: 311351121 | F101: Bednění nadzákladových zdí nosných rovné oboustranné za každou stranu zřízení | G101: m2 | H101: -18 | I101: 755 | J101: =ROUND(I101*H101,2) -> -13590 | N101: základní | O101: 0 | P101: =O101*H101 -> 0 | Q101: 0.00275 | R101: =Q101*H101 -> -0.0495 | S101: 0 | T101: =S101*H101 -> 0 | AR101: 4 | AT101: K | AU101: 2 | AY101: ROZPOCET | BE101: =IF(N101="základní",J101,0) -> -13590 | BF101: =IF(N101="snížená",J101,0) -> 0 | BG101: =IF(N101="zákl. přenesená",J101,0) -> 0 | BH101: =IF(N101="sníž. přenesená",J101,0) -> 0 | BI101: =IF(N101="nulová",J101,0) -> 0 | BJ101: 1 | BK101: =ROUND(I101*H101,2) -> -13590 | BL101: 4 | BM101: -1868463023
D102: VV | F102: "původní množství dle SOD" -18,0 | H102: -18 | AT102: VV | AU102: 2 | AV102: 2 | AW102: True | AX102: 0 | AY102: ROZPOCET
D103: VV | F103: "nové množství dle ZBV" 0 | H103: 0 | AT103: VV | AU103: 2 | AV103: 2 | AW103: True | AX103: 0 | AY103: ROZPOCET
D104: VV | F104: Součet | H104: -18 | AT104: VV | AU104: 2 | AV104: 4 | AW104: True | AX104: 1 | AY104: ROZPOCET
C105: 3 | D105: K | E105: 311351122 | F105: Bednění nadzákladových zdí nosných rovné oboustranné za každou stranu odstranění | G105: m2 | H105: -18 | I105: 378 | J105: =ROUND(I105*H105,2) -> -6804 | N105: základní | O105: 0 | P105: =O105*H105 -> 0 | Q105: 0 | R105: =Q105*H105 -> 0 | S105: 0 | T105: =S105*H105 -> 0 | AR105: 4 | AT105: K | AU105: 2 | AY105: ROZPOCET | BE105: =IF(N105="základní",J105,0) -> -6804 | BF105: =IF(N105="snížená",J105,0) -> 0 | BG105: =IF(N105="zákl. přenesená",J105,0) -> 0 | BH105: =IF(N105="sníž. přenesená",J105,0) -> 0 | BI105: =IF(N105="nulová",J105,0) -> 0 | BJ105: 1 | BK105: =ROUND(I105*H105,2) -> -6804 | BL105: 4 | BM105: 988416100
D106: VV | F106: "původní množství dle SOD" -18,0 | H106: -18 | AT106: VV | AU106: 2 | AV106: 2 | AW106: True | AX106: 0 | AY106: ROZPOCET
D107: VV | F107: "nové množství dle ZBV" 0 | H107: 0 | AT107: VV | AU107: 2 | AV107: 2 | AW107: True | AX107: 0 | AY107: ROZPOCET
D108: VV | F108: Součet | H108: -18 | AT108: VV | AU108: 2 | AV108: 4 | AW108: True | AX108: 1 | AY108: ROZPOCET
C109: 4 | D109: K | E109: 311351911 | F109: Bednění nadzákladových zdí nosných Příplatek k cenám bednění za pohledový beton | G109: m2 | H109: -14.25 | I109: 255 | J109: =ROUND(I109*H109,2) -> -3633.75 | N109: základní | O109: 0 | P109: =O109*H109 -> 0 | Q109: 0.0025 | R109: =Q109*H109 -> -0.035625 | S109: 0 | T109: =S109*H109 -> 0 | AR109: 4 | AT109: K | AU109: 2 | AY109: ROZPOCET | BE109: =IF(N109="základní",J109,0) -> -3633.75 | BF109: =IF(N109="snížená",J109,0) -> 0 | BG109: =IF(N109="zákl. přenesená",J109,0) -> 0 | BH109: =IF(N109="sníž. přenesená",J109,0) -> 0 | BI109: =IF(N109="nulová",J109,0) -> 0 | BJ109: 1 | BK109: =ROUND(I109*H109,2) -> -3633.75 | BL109: 4 | BM109: -162056224
D110: VV | F110: "původní množství dle SOD" -14,25 | H110: -14.25 | AT110: VV | AU110: 2 | AV110: 2 | AW110: True | AX110: 0 | AY110: ROZPOCET
D111: VV | F111: "nové množství dle ZBV" 0 | H111: 0 | AT111: VV | AU111: 2 | AV111: 2 | AW111: True | AX111: 0 | AY111: ROZPOCET
D112: VV | F112: Součet | H112: -14.25 | AT112: VV | AU112: 2 | AV112: 4 | AW112: True | AX112: 1 | AY112: ROZPOCET
C113: 5 | D113: K | E113: 311361821 | F113: Výztuž nadzákladových zdí nosných svislých nebo odkloněných od svislice, rovných nebo oblých z betonářské oceli 10 505 (R) nebo BSt 500 | G113: t | H113: -0.039 | I113: 39000 | J113: =ROUND(I113*H113,2) -> -1521 | N113: základní | O113: 0 | P113: =O113*H113 -> 0 | Q113: 1.04922 | R113: =Q113*H113 -> -0.04091958 | S113: 0 | T113: =S113*H113 -> 0 | AR113: 4 | AT113: K | AU113: 2 | AY113: ROZPOCET | BE113: =IF(N113="základní",J113,0) -> -1521 | BF113: =IF(N113="snížená",J113,0) -> 0 | BG113: =IF(N113="zákl. přenesená",J113,0) -> 0 | BH113: =IF(N113="sníž. přenesená",J113,0) -> 0 | BI113: =IF(N113="nulová",J113,0) -> 0 | BJ113: 1 | BK113: =ROUND(I113*H113,2) -> -1521 | BL113: 4 | BM113: 521004539
D114: VV | F114: "původní množství dle SOD" -0,543 | H114: -0.543 | AT114: VV | AU114: 2 | AV114: 2 | AW114: True | AX114: 0 | AY114: ROZPOCET
D115: VV | F115: "nové množství dle ZBV" 0,504 | H115: 0.504 | AT115: VV | AU115: 2 | AV115: 2 | AW115: True | AX115: 0 | AY115: ROZPOCET
D116: VV | F116: Součet | H116: -0.039 | AT116: VV | AU116: 2 | AV116: 4 | AW116: True | AX116: 1 | AY116: ROZPOCET
D117: D | E117: 4 | F117: Vodorovné konstrukce | J117: =BK117 -> -7868.23 | P117: =SUM(P118:P145) -> 0 | R117: =SUM(R118:R145) -> -0.3022168 | T117: =SUM(T118:T145) -> 0 | AR117: 1 | AT117: D | AU117: 1 | AY117: ROZPOCET | BK117: =SUM(BK118:BK145) -> -7868.23
C118: 6 | D118: K | E118: 411324444 | F118: Stropy z betonu železového (bez výztuže) pohledového stropů deskových, plochých střech, desek balkonových, desek hřibových stropů včetně hlavic hřibových sloupů tř. C 25/30 | G118: m3 | H118: -0.1 | I118: 7900 | J118: =ROUND(I118*H118,2) -> -790 | N118: základní | O118: 0 | P118: =O118*H118 -> 0 | Q118: 2.50201 | R118: =Q118*H118 -> -0.250201 | S118: 0 | T118: =S118*H118 -> 0 | AR118: 4 | AT118: K | AU118: 2 | AY118: ROZPOCET | BE118: =IF(N118="základní",J118,0) -> -790 | BF118: =IF(N118="snížená",J118,0) -> 0 | BG118: =IF(N118="zákl. přenesená",J118,0) -> 0 | BH118: =IF(N118="sníž. přenesená",J118,0) -> 0 | BI118: =IF(N118="nulová",J118,0) -> 0 | BJ118: 1 | BK118: =ROUND(I118*H118,2) -> -790 | BL118: 4 | BM118: 1987891910
D119: VV | F119: "původní množství dle SOD" -0,795 | H119: -0.795 | AT119: VV | AU119: 2 | AV119: 2 | AW119: True | AX119: 0 | AY119: ROZPOCET
D120: VV | F120: "nové množství dle ZBV" 0,695 | H120: 0.695 | AT120: VV | AU120: 2 | AV120: 2 | AW120: True | AX120: 0 | AY120: ROZPOCET
D121: VV | F121: Součet | H121: -0.1 | AT121: VV | AU121: 2 | AV121: 4 | AW121: True | AX121: 1 | AY121: ROZPOCET
C122: 7 | D122: K | E122: 411351011 | F122: Bednění stropních konstrukcí - bez podpěrné konstrukce desek tloušťky stropní desky přes 5 do 25 cm zřízení | G122: m2 | H122: -5.64 | I122: 622 | J122: =ROUND(I122*H122,2) -> -3508.08 | N122: základní | O122: 0 | P122: =O122*H122 -> 0 | Q122: 0.00533 | R122: =Q122*H122 -> -0.0300612 | S122: 0 | T122: =S122*H122 -> 0 | AR122: 4 | AT122: K | AU122: 2 | AY122: ROZPOCET | BE122: =IF(N122="základní",J122,0) -> -3508.08 | BF122: =IF(N122="snížená",J122,0) -> 0 | BG122: =IF(N122="zákl. přenesená",J122,0) -> 0 | BH122: =IF(N122="sníž. přenesená",J122,0) -> 0 | BI122: =IF(N122="nulová",J122,0) -> 0 | BJ122: 1 | BK122: =ROUND(I122*H122,2) -> -3508.08 | BL122: 4 | BM122: 1781411752
D123: VV | F123: "původní množství dle SOD" -5,64 | H123: -5.64 | AT123: VV | AU123: 2 | AV123: 2 | AW123: True | AX123: 0 | AY123: ROZPOCET
D124: VV | F124: "nové množství dle ZBV" 0 | H124: 0 | AT124: VV | AU124: 2 | AV124: 2 | AW124: True | AX124: 0 | AY124: ROZPOCET
D125: VV | F125: Součet | H125: -5.64 | AT125: VV | AU125: 2 | AV125: 4 | AW125: True | AX125: 1 | AY125: ROZPOCET
C126: 8 | D126: K | E126: 411351012 | F126: Bednění stropních konstrukcí - bez podpěrné konstrukce desek tloušťky stropní desky přes 5 do 25 cm odstranění | G126: m2 | H126: -5.64 | I126: 275 | J126: =ROUND(I126*H126,2) -> -1551 | N126: základní | O126: 0 | P126: =O126*H126 -> 0 | Q126: 0 | R126: =Q126*H126 -> 0 | S126: 0 | T126: =S126*H126 -> 0 | AR126: 4 | AT126: K | AU126: 2 | AY126: ROZPOCET | BE126: =IF(N126="základní",J126,0) -> -1551 | BF126: =IF(N126="snížená",J126,0) -> 0 | BG126: =IF(N126="zákl. přenesená",J126,0) -> 0 | BH126: =IF(N126="sníž. přenesená",J126,0) -> 0 | BI126: =IF(N126="nulová",J126,0) -> 0 | BJ126: 1 | BK126: =ROUND(I126*H126,2) -> -1551 | BL126: 4 | BM126: 1207034761
D127: VV | F127: "původní množství dle SOD" -5,64 | H127: -5.64 | AT127: VV | AU127: 2 | AV127: 2 | AW127: True | AX127: 0 | AY127: ROZPOCET
D128: VV | F128: "nové množství dle ZBV" 0 | H128: 0 | AT128: VV | AU128: 2 | AV128: 2 | AW128: True | AX128: 0 | AY128: ROZPOCET
D129: VV | F129: Součet | H129: -5.64 | AT129: VV | AU129: 2 | AV129: 4 | AW129: True | AX129: 1 | AY129: ROZPOCET
C130: 9 | D130: K | E130: 411354311 | F130: Podpěrná konstrukce stropů - desek, kleneb a skořepin výška podepření do 4 m tloušťka stropu přes 5 do 15 cm zřízení | G130: m2 | H130: -4 | I130: 206.8 | J130: =ROUND(I130*H130,2) -> -827.2 | N130: základní | O130: 0 | P130: =O130*H130 -> 0 | Q130: 0.00081 | R130: =Q130*H130 -> -0.00324 | S130: 0 | T130: =S130*H130 -> 0 | AR130: 4 | AT130: K | AU130: 2 | AY130: ROZPOCET | BE130: =IF(N130="základní",J130,0) -> -827.2 | BF130: =IF(N130="snížená",J130,0) -> 0 | BG130: =IF(N130="zákl. přenesená",J130,0) -> 0 | BH130: =IF(N130="sníž. přenesená",J130,0) -> 0 | BI130: =IF(N130="nulová",J130,0) -> 0 | BJ130: 1 | BK130: =ROUND(I130*H130,2) -> -827.2 | BL130: 4 | BM130: -1021559938
D131: VV | F131: "původní množství dle SOD" -4,0 | H131: -4 | AT131: VV | AU131: 2 | AV131: 2 | AW131: True | AX131: 0 | AY131: ROZPOCET
D132: VV | F132: "nové množství dle ZBV" 0 | H132: 0 | AT132: VV | AU132: 2 | AV132: 2 | AW132: True | AX132: 0 | AY132: ROZPOCET
D133: VV | F133: Součet | H133: -4 | AT133: VV | AU133: 2 | AV133: 4 | AW133: True | AX133: 1 | AY133: ROZPOCET
...

Sheet ZBV-08a - méněpráce
AT2: {8dbc307e-8e38-416e-ac8b-77cc613d450e}
AT3: 2
D4: KRYCÍ LIST SOUPISU PRACÍ | M4: v --- níže se nacházejí doplnkové a pomocné údaje k sestavám --- v | AT4: False
D6: Stavba:
E7: ='Rekapitulace stavby'!K6 -> ÚPRAVY HŘBITOVA KBELY- ETAPA1
D8: Objekt:
E9: 03 - Navrhované povrchy
D10: Soupis:
E11: B - Litý beton pochozí
D12: Úroveň 3:
E13: ZBV-08a - méněpráce
D15: KSO: | F15: 822 5 | I15: CC-CZ:
D16: Místo: | F16: Praha 9-Kbely | I16: Datum: | J16: ='Rekapitulace stavby'!AN8 -> 0
D18: Zadavatel: | I18: IČ: | J18: 00231304
E19: MČ Praha 19, Semilská 43/1, 197 00 Praha 9 - Kbely | I19: DIČ:
D21: Zhotovitel: | I21: IČ: | J21: 07395680
E22: IWU s.r.o. | I22: DIČ: | J22: CZ07395680
D24: Projektant: | I24: IČ:
E25: Ing.Jan Pustějovský, Ph.D. | I25: DIČ:
D27: Zpracovatel: | I27: IČ:
I28: DIČ:
D30: Poznámka:
D34: Cena bez DPH | J34: =ROUND(J95, 2) -> -337443.17
F36: Základ daně | I36: Sazba daně | J36: Výše daně
D37: DPH | E37: základní | F37: =ROUND((SUM(BE95:BE119)), 2) -> -337443.17 | I37: 0.21 | J37: =ROUND(((SUM(BE95:BE119))*I37), 2) -> -70863.07
E38: snížená | F38: =ROUND((SUM(BF95:BF119)), 2) -> 0 | I38: 0.12 | J38: =ROUND(((SUM(BF95:BF119))*I38), 2) -> 0
E39: zákl. přenesená | F39: =ROUND((SUM(BG95:BG119)), 2) -> 0 | I39: 0.21 | J39: =0 -> 0
E40: sníž. přenesená | F40: =ROUND((SUM(BH95:BH119)), 2) -> 0 | I40: 0.12 | J40: =0 -> 0
E41: nulová | F41: =ROUND((SUM(BI95:BI119)), 2) -> 0 | I41: 0 | J41: =0 -> 0
D43: Cena s DPH | G43: v | H43: CZK | J43: =SUM(J34:J41) -> -408306.24
C49: REKAPITULACE ČLENĚNÍ SOUPISU PRACÍ
C51: Stavba:
E52: =E7 -> ÚPRAVY HŘBITOVA KBELY- ETAPA1
C53: Objekt:
E54: 03 - Navrhované povrchy
C55: Soupis:
E56: B - Litý beton pochozí
C57: Úroveň 3:
E58: =E13 -> ZBV-08a - méněpráce
C60: Místo: | F60: =F16 -> Praha 9-Kbely | I60: Datum: | J60: =IF(J16="","",J16) -> 0
C62: Zadavatel: | F62: =E19 -> MČ Praha 19, Semilská 43/1, 197 00 Praha 9 - Kbely | I62: Projektant: | J62: =E25 -> Ing.Jan Pustějovský, Ph.D.
C63: Zhotovitel: | F63: =IF(E22="","",E22) -> IWU s.r.o. | I63: Zpracovatel: | J63: =E28
C65: Kód dílu - Popis | J65: Cena celkem [CZK]
C67: Náklady stavby celkem | J67: =J95 -> -337443.17 | AU67: -1
D68: HSV - Práce a dodávky HSV | J68: =J96 -> -145052.4
D69: 9 - Ostatní konstrukce a práce, bourání | J69: =J97 -> -145052.4
D70: PSV - Práce a dodávky PSV | J70: =J106 -> -192390.77
D71: 711 - Izolace proti vodě, vlhkosti a plynům | J71: =J107 -> -192390.77
C78: SOUPIS PRACÍ
C80: Stavba:
E81: =E7 -> ÚPRAVY HŘBITOVA KBELY- ETAPA1
C82: Objekt:
E83: 03 - Navrhované povrchy
C84: Soupis:
E85: B - Litý beton pochozí
C86: Úroveň 3:
E87: =E13 -> ZBV-08a - méněpráce
C89: Místo: | F89: =F16 -> Praha 9-Kbely | I89: Datum: | J89: =IF(J16="","",J16) -> 0
C91: Zadavatel: | F91: =E19 -> MČ Praha 19, Semilská 43/1, 197 00 Praha 9 - Kbely | I91: Projektant: | J91: =E25 -> Ing.Jan Pustějovský, Ph.D.
C92: Zhotovitel: | F92: =IF(E22="","",E22) -> IWU s.r.o. | I92: Zpracovatel: | J92: =E28
C94: PČ | D94: Typ | E94: Kód | F94: Popis | G94: MJ | H94: Množství | I94: J.cena [CZK] | J94: Cena celkem [CZK] | K94: Cenová soustava | N94: DPH | O94: J. Nh [h] | P94: Nh celkem [h] | Q94: J. hmotnost [t] | R94: Hmotnost celkem [t] | S94: J. suť [t] | T94: Suť Celkem [t]
C95: Náklady soupisu celkem | J95: =BK95 -> -337443.17 | P95: =P96+P106 -> 0 | R95: =R96+R106 -> -1.9932166 | T95: =T96+T106 -> 0 | AT95: D | AU95: -1 | BK95: =BK96+BK106 -> -337443.17
D96: D | E96: HSV | F96: Práce a dodávky HSV | J96: =BK96 -> -145052.4 | P96: =P97 -> 0 | R96: =R97 -> -1.1811714 | T96: =T97 -> 0 | AR96: 1 | AT96: D | AU96: 0 | AY96: ROZPOCET | BK96: =BK97 -> -145052.4
D97: D | E97: 9 | F97: Ostatní konstrukce a práce, bourání | J97: =BK97 -> -145052.4 | P97: =SUM(P98:P105) -> 0 | R97: =SUM(R98:R105) -> -1.1811714 | T97: =SUM(T98:T105) -> 0 | AR97: 1 | AT97: D | AU97: 1 | AY97: ROZPOCET | BK97: =SUM(BK98:BK105) -> -145052.4
C98: 4 | D98: K | E98: 916271122 | F98: Chodníkový obrubník z ocelové ráfoviny 5 x 250 mm | G98: m | H98: -67.8 | I98: 1500 | J98: =ROUND(I98*H98,2) -> -101700 | N98: základní | O98: 0 | P98: =O98*H98 -> 0 | Q98: 0.01427 | R98: =Q98*H98 -> -0.967506 | S98: 0 | T98: =S98*H98 -> 0 | AR98: 4 | AT98: K | AU98: 2 | AY98: ROZPOCET | BE98: =IF(N98="základní",J98,0) -> -101700 | BF98: =IF(N98="snížená",J98,0) -> 0 | BG98: =IF(N98="zákl. přenesená",J98,0) -> 0 | BH98: =IF(N98="sníž. přenesená",J98,0) -> 0 | BI98: =IF(N98="nulová",J98,0) -> 0 | BJ98: 1 | BK98: =ROUND(I98*H98,2) -> -101700 | BL98: 4 | BM98: 629820845
D99: VV | F99: -67,8 "původní množství dle SOD | H99: -67.8 | AT99: VV | AU99: 2 | AV99: 2 | AW99: True | AX99: 0 | AY99: ROZPOCET
D100: VV | F100: 0 "nové množství dle ZBV | H100: 0 | AT100: VV | AU100: 2 | AV100: 2 | AW100: True | AX100: 0 | AY100: ROZPOCET
D101: VV | F101: Součet | H101: -67.8 | AT101: VV | AU101: 2 | AV101: 4 | AW101: True | AX101: 1 | AY101: ROZPOCET
C102: 5 | D102: K | E102: 919726123 | F102: Geotextilie netkaná pro ochranu, separaci nebo filtraci měrná hmotnost přes 300 do 500 g/m2 | G102: m2 | H102: -309.66 | I102: 140 | J102: =ROUND(I102*H102,2) -> -43352.4 | N102: základní | O102: 0 | P102: =O102*H102 -> 0 | Q102: 0.00069 | R102: =Q102*H102 -> -0.2136654 | S102: 0 | T102: =S102*H102 -> 0 | AR102: 4 | AT102: K | AU102: 2 | AY102: ROZPOCET | BE102: =IF(N102="základní",J102,0) -> -43352.4 | BF102: =IF(N102="snížená",J102,0) -> 0 | BG102: =IF(N102="zákl. přenesená",J102,0) -> 0 | BH102: =IF(N102="sníž. přenesená",J102,0) -> 0 | BI102: =IF(N102="nulová",J102,0) -> 0 | BJ102: 1 | BK102: =ROUND(I102*H102,2) -> -43352.4 | BL102: 4 | BM102: 693693922
D103: VV | F103: -309,66 "původní množství dle SOD | H103: -309.66 | AT103: VV | AU103: 2 | AV103: 2 | AW103: True | AX103: 0 | AY103: ROZPOCET
D104: VV | F104: 0 "nové množství dle ZBV | H104: 0 | AT104: VV | AU104: 2 | AV104: 2 | AW104: True | AX104: 0 | AY104: ROZPOCET
D105: VV | F105: Součet | H105: -309.66 | AT105: VV | AU105: 2 | AV105: 4 | AW105: True | AX105: 1 | AY105: ROZPOCET
D106: D | E106: PSV | F106: Práce a dodávky PSV | J106: =BK106 -> -192390.77 | P106: =P107 -> 0 | R106: =R107 -> -0.81204525 | T106: =T107 -> 0 | AR106: 2 | AT106: D | AU106: 0 | AY106: ROZPOCET | BK106: =BK107 -> -192390.77
D107: D | E107: 711 | F107: Izolace proti vodě, vlhkosti a plynům | J107: =BK107 -> -192390.77 | P107: =SUM(P108:P119) -> 0 | R107: =SUM(R108:R119) -> -0.81204525 | T107: =SUM(T108:T119) -> 0 | AR107: 2 | AT107: D | AU107: 1 | AY107: ROZPOCET | BK107: =SUM(BK108:BK119) -> -192390.77
C108: 1 | D108: K | E108: 711471053 | F108: Provedení izolace proti povrchové a podpovrchové tlakové vodě termoplasty na ploše vodorovné V folií z nízkolehčeného PE položenou volně | G108: m2 | H108: -309.66 | I108: 230 | J108: =ROUND(I108*H108,2) -> -71221.8 | N108: základní | O108: 0 | P108: =O108*H108 -> 0 | Q108: 0 | R108: =Q108*H108 -> 0 | S108: 0 | T108: =S108*H108 -> 0 | AR108: 16 | AT108: K | AU108: 2 | AY108: ROZPOCET | BE108: =IF(N108="základní",J108,0) -> -71221.8 | BF108: =IF(N108="snížená",J108,0) -> 0 | BG108: =IF(N108="zákl. přenesená",J108,0) -> 0 | BH108: =IF(N108="sníž. přenesená",J108,0) -> 0 | BI108: =IF(N108="nulová",J108,0) -> 0 | BJ108: 1 | BK108: =ROUND(I108*H108,2) -> -71221.8 | BL108: 16 | BM108: -40244467
D109: VV | F109: -309,66 "původní množství dle SOD | H109: -309.66 | AT109: VV | AU109: 2 | AV109: 2 | AW109: True | AX109: 0 | AY109: ROZPOCET
D110: VV | F110: 0 "nové množství dle ZBV | H110: 0 | AT110: VV | AU110: 2 | AV110: 2 | AW110: True | AX110: 0 | AY110: ROZPOCET
D111: VV | F111: Součet | H111: -309.66 | AT111: VV | AU111: 2 | AV111: 4 | AW111: True | AX111: 1 | AY111: ROZPOCET
C112: 2 | D112: M | E112: 28323074 | F112: fólie LDPE (750 kg/m3) proti zemní vlhkosti nad úrovní terénu tl 3mm | G112: m2 | H112: -360.909 | I112: 330 | J112: =ROUND(I112*H112,2) -> -119099.97 | N112: základní | O112: 0 | P112: =O112*H112 -> 0 | Q112: 0.00225 | R112: =Q112*H112 -> -0.81204525 | S112: 0 | T112: =S112*H112 -> 0 | AR112: 32 | AT112: M | AU112: 2 | AY112: ROZPOCET | BE112: =IF(N112="základní",J112,0) -> -119099.97 | BF112: =IF(N112="snížená",J112,0) -> 0 | BG112: =IF(N112="zákl. přenesená",J112,0) -> 0 | BH112: =IF(N112="sníž. přenesená",J112,0) -> 0 | BI112: =IF(N112="nulová",J112,0) -> 0 | BJ112: 1 | BK112: =ROUND(I112*H112,2) -> -119099.97 | BL112: 16 | BM112: 1142363421
D113: VV | F113: -360,909 "původní množství dle SOD | H113: -360.909 | AT113: VV | AU113: 2 | AV113: 2 | AW113: True | AX113: 0 | AY113: ROZPOCET
D114: VV | F114: 0 "nové množství dle ZBV | H114: 0 | AT114: VV | AU114: 2 | AV114: 2 | AW114: True | AX114: 0 | AY114: ROZPOCET
D115: VV | F115: Součet | H115: -360.909 | AT115: VV | AU115: 2 | AV115: 4 | AW115: True | AX115: 1 | AY115: ROZPOCET
C116: 3 | D116: K | E116: 998711121 | F116: Přesun hmot pro izolace proti vodě, vlhkosti a plynům stanovený z hmotnosti přesunovaného materiálu vodorovná dopravní vzdálenost do 50 m ruční (bez užití mechanizace) v objektech výšky do 6 m | G116: t | H116: -0.812 | I116: 2548.03 | J116: =ROUND(I116*H116,2) -> -2069 | N116: základní | O116: 0 | P116: =O116*H116 -> 0 | Q116: 0 | R116: =Q116*H116 -> 0 | S116: 0 | T116: =S116*H116 -> 0 | AR116: 16 | AT116: K | AU116: 2 | AY116: ROZPOCET | BE116: =IF(N116="základní",J116,0) -> -2069 | BF116: =IF(N116="snížená",J116,0) -> 0 | BG116: =IF(N116="zákl. přenesená",J116,0) -> 0 | BH116: =IF(N116="sníž. přenesená",J116,0) -> 0 | BI116: =IF(N116="nulová",J116,0) -> 0 | BJ116: 1 | BK116: =ROUND(I116*H116,2) -> -2069 | BL116: 16 | BM116: 2070647855
D117: VV | F117: -0,812 "původní množství dle SOD | H117: -0.812 | AT117: VV | AU117: 2 | AV117: 2 | AW117: True | AX117: 0 | AY117: ROZPOCET
D118: VV | F118: 0 "nové množství dle ZBV | H118: 0 | AT118: VV | AU118: 2 | AV118: 2 | AW118: True | AX118: 0 | AY118: ROZPOCET
D119: VV | F119: Součet | H119: -0.812 | AT119: VV | AU119: 2 | AV119: 4 | AW119: True | AX119: 1 | AY119: ROZPOCET

Sheet Pokyny pro vyplnění
C3: Struktura údajů, formát souboru a metodika pro zpracování
C4: Struktura
C6: Soubor je složen ze záložky Rekapitulace stavby a záložek s názvem soupisu prací pro jednotlivé objekty ve formátu XLSX. Každá ze záložek přitom obsahuje
C7: ještě samostatné sestavy vymezené orámovaním a nadpisem sestavy.
C9: Rekapitulace stavby obsahuje sestavu Rekapitulace stavby a Rekapitulace objektů stavby a soupisů prací.
D10: V sestavě Rekapitulace stavby jsou uvedeny informace identifikující předmět veřejné zakázky na stavební práce, KSO, CC-CZ, CZ-CPV, CZ-CPA a rekapitulaci
D11: celkové nabídkové ceny účastníka.
D13: Termínem "učastník" (resp. zhotovitel) se myslí "účastník zadávacího řízení" ve smyslu zákona o zadávání veřejných zakázek.
D15: V sestavě Rekapitulace objektů stavby a soupisů prací je uvedena rekapitulace stavebních objektů, inženýrských objektů, provozních souborů,
D16: vedlejších a ostatních nákladů a ostatních nákladů s rekapitulací nabídkové ceny za jednotlivé soupisy prací. Na základě údaje Typ je možné
D17: identifikovat, zda se jedná o objekt nebo soupis prací pro daný objekt:
E18: STA | F18: Stavební objekt pozemní
E19: ING | F19: Stavební objekt inženýrský
E20: PRO | F20: Provozní soubor
E21: VON | F21: Vedlejší a ostatní náklady
E22: OST | F22: Ostatní
E23: Soupis | F23: Soupis prací pro daný typ objektu
C25: Soupis prací pro jednotlivé objekty obsahuje sestavy Krycí list soupisu prací, Rekapitulace členění soupisu prací, Soupis prací. Za soupis prací může být považován
C26: i objekt stavby v případě, že neobsahuje podřízenou zakázku.
D27: Krycí list soupisu obsahuje rekapitulaci informací o předmětu veřejné zakázky ze sestavy Rekapitulace stavby, informaci o zařazení objektu do KSO,
D28: CC-CZ, CZ-CPV, CZ-CPA a rekapitulaci celkové nabídkové ceny účastníka za aktuální soupis prací.
D30: Rekapitulace členění soupisu prací obsahuje rekapitulaci soupisu prací ve všech úrovních členění soupisu tak, jak byla tato členění použita (např.
D31: stavební díly, funkční díly, případně jiné členění) s rekapitulací nabídkové ceny.
D33: Soupis prací obsahuje položky veškerých stavebních nebo montážních prací, dodávek materiálů a služeb nezbytných pro zhotovení stavebního objektu,
D34: inženýrského objektu, provozního souboru, vedlejších a ostatních nákladů.
D35: Pro položky soupisu prací se zobrazují následující informace:
E36: PČ | G36: Pořadové číslo položky v aktuálním soupisu
E37: TYP | G37: Typ položky: K - konstrukce, M - materiál, PP - plný popis, PSC - poznámka k souboru cen, P - poznámka k položce, VV - výkaz výměr, FIG - rozpad figur
E38: Kód | G38: Kód položky
E39: Popis | G39: Zkrácený popis položky
E40: MJ | G40: Měrná jednotka položky
E41: Množství | G41: Množství v měrné jednotce
E42: J.cena | G42: Jednotková cena položky. Zadaní může obsahovat namísto J.ceny sloupce J.materiál a J.montáž, jejichž součet definuje
G43: J.cenu položky.
E44: Cena celkem | G44: Celková cena položky daná jako součin množství a j.ceny
E45: Cenová soustava | G45: Příslušnost položky do cenové soustavy
D47: Ke každé položce soupisu prací se na samostatných řádcích může zobrazovat:
E48: Plný popis položky
E49: Poznámka k souboru cen a poznámka zadavatele
E50: Výkaz výměr
D51: Pokud je k řádku výkazu výměr evidovaný údaj ve sloupci Kód, jedná se o definovaný odkaz, na který se může odvolávat výkaz výměr z jiné položky.
C52: Metodika pro zpracování
C54: Jednotlivé sestavy jsou v souboru provázány. Editovatelné pole jsou zvýrazněny žlutým podbarvením, ostatní pole neslouží k editaci a nesmí být jakkoliv
C55: modifikovány.
C57: Účastník je pro podání nabídky povinen vyplnit žlutě podbarvená pole:
D58: Pole Účastník v sestavě Rekapitulace stavby - zde účastník vyplní svůj název (název subjektu)
D59: Pole IČ a DIČ v sestavě Rekapitulace stavby - zde účastník vyplní svoje IČ a DIČ
D60: Datum v sestavě Rekapitulace stavby - zde účastník vyplní datum vytvoření nabídky
D61: J.cena = jednotková cena v sestavě Soupis prací o maximálním počtu desetinných míst uvedených v poli
D62: - pokud sestavy soupisů prací obsahují pole J.cena, měla by být všechna tato pole vyplněna nenulovými
D63: Poznámka - nepovinný údaj pro položku soupisu
D65: V případě, že sestavy soupisů prací neobsahují pole J.cena, potom ve všech soupisech prací obsahují pole:
D66: - J.materiál - jednotková cena materiálu
D67: - J.montáž - jednotková cena montáže
D68: Účastník v tomto případě by měl vyplnit všechna pole J.materiál a pole J.montáž nenulovými kladnými číslicemi. V případech, kdy položka
D69: neobsahuje žádný materiál je přípustné, aby pole J.materiál bylo vyplněno nulou. V případech, kdy položka neobsahuje žádnou montáž je přípustné,
D70: aby pole J.montáž bylo vyplněno nulou. Obě pole - J.materiál, J.Montáž u jedné položky by však neměly být vyplněny nulou.
C75: Rekapitulace stavby
C76: Název | F76: Povinný | H76: Popis | I76: Typ | J76: Max. počet
C77: atributu | F77: (A/N) | J77: znaků
C79: Kód | F79: A | H79: Kód stavby | I79: String | J79: 20
C80: Stavba | F80: A | H80: Název stavby | I80: String | J80: 120
C81: Místo | F81: N | H81: Místo stavby | I81: String | J81: 50
C82: Datum | F82: A | H82: Datum vykonaného exportu | I82: Date
C83: KSO | F83: N | H83: Klasifikace stavebního objektu | I83: String | J83: 15
C84: CC-CZ | F84: N | H84: Klasifikace stavbeních děl | I84: String | J84: 15
C85: CZ-CPV | F85: N | H85: Společný slovník pro veřejné zakázky | I85: String | J85: 20
C86: CZ-CPA | F86: N | H86: Klasifikace produkce podle činností | I86: String | J86: 20
C87: Zadavatel | F87: N | H87: Zadavatel zadaní | I87: String | J87: 50
C88: IČ | F88: N | H88: IČ zadavatele zadaní | I88: String | J88: 20
C89: DIČ | F89: N | H89: DIČ zadavatele zadaní | I89: String | J89: 20
C90: Účastník | F90: N | H90: Účastník veřejné zakázky | I90: String | J90: 50
C91: Projektant | F91: N | H91: Projektant | I91: String | J91: 50
C92: Poznámka | F92: N | H92: Poznámka k zadání | I92: String | J92: 255
C93: Sazba DPH | F93: A | H93: Rekapitulace sazeb DPH u položek soupisů | I93: eGSazbaDph
C94: Základna DPH | F94: A | H94: Základna DPH určena součtem celkové ceny z položek soupisů | I94: Double
C95: Hodnota DPH | F95: A | H95: Hodnota DPH | I95: Double
C96: Cena bez DPH | F96: A | H96: Celková cena bez DPH za celou stavbu. Sčítává se ze všech listů. | I96: Double
C97: Cena s DPH | F97: A | H97: Celková cena s DPH za celou stavbu | I97: Double
C102: Rekapitulace objektů stavby a soupisů prací
C103: Název | F103: Povinný | H103: Popis | I103: Typ | J103: Max. počet
C104: atributu | F104: (A/N) | J104: znaků
C106: Kód | F106: A | H106: Přebírá se z Rekapitulace stavby | I106: String | J106: 20
C107: Stavba | F107: A | H107: Přebírá se z Rekapitulace stavby | I107: String | J107: 120
C108: Místo | F108: N | H108: Přebírá se z Rekapitulace stavby | I108: String | J108: 50
C109: Datum | F109: A | H109: Přebírá se z Rekapitulace stavby | I109: Date
C110: Zadavatel | F110: N | H110: Přebírá se z Rekapitulace stavby | I110: String | J110: 50
C111: Projektant | F111: N | H111: Přebírá se z Rekapitulace stavby | I111: String | J111: 50
C112: Účastník | F112: N | H112: Přebírá se z Rekapitulace stavby | I112: String | J112: 50
C113: Kód | F113: A | H113: Kód objektu | I113: String | J113: 20
C114: Objektu, Soupis prací | F114: A | H114: Název objektu | I114: String | J114: 120
C115: Cena bez DPH | F115: A | H115: Cena bez DPH za daný objekt | I115: Double
C116: Cena s DPH | F116: A | H116: Cena spolu s DPH za daný objekt | I116: Double
C117: Typ | F117: A | H117: Typ zakázky | I117: eGTypZakazky
C122: Krycí list soupisu
C123: Název | F123: Povinný | H123: Popis | I123: Typ | J123: Max. počet
C124: atributu | F124: (A/N) | J124: znaků
C126: Stavba | F126: A | H126: Přebírá se z Rekapitulace stavby | I126: String | J126: 120
C127: Objekt | F127: A | H127: Kód a název objektu | I127: String | J127: 20 + 120
C128: Soupis | F128: A | H128: Kód a název soupisu | I128: String | J128: 20 + 120
...
