Workbook

Sheet Rekapitulace stavby
A1: Export Komplet | AZ1: VZ | BA1: 2.0 | BT1: False | BU1: False | BV1: {3b51110c-6af6-42ab-a4f0-a7ea8534f328}
AR2: >> skryté sloupce << | BS2: 0,01 | BT2: 21
BS3: 0,01 | BT3: 12
D4: REKAPITULACE STAVBY | AS4: v --- níže se nacházejí doplnkové a pomocné údaje k sestavám --- v | BS4: 0,001
D5: Kód: | K5: 26-04_5136_A | BS5: 0,01
D6: Stavba: | K6: Kluziště Smržovka | BS6: 0,01
D7: KSO: | AK7: CC-CZ: | BS7: 0,01
D8: Místo: | K8: p.č. 2115/1, 2115/3, 2105 | AK8: Datum: | AN8: 2. 4. 2026 | BS8: 0,01
BS9: 0,01
D10: Zadavatel: | AK10: IČ: | BS10: 0,01
E11: Město Smržovka | AK11: DIČ: | BS11: 0,01
BS12: 0,01
D13: Zhotovitel: | AK13: IČ: | BS13: 0,01
AK14: DIČ: | BS14: 0,01
BS15: False
D16: Projektant: | AK16: IČ: | AN16: 14080923 | BS16: False
E17: mjölking s.r.o., Šternovská 2304/6, Chodov, Praha | AK17: DIČ: | BS17: True
BS18: 0,01
D19: Zpracovatel: | AK19: IČ: | BS19: 0,01
E20: Propos Liberec s.r.o. | AK20: DIČ: | BS20: False
D22: Poznámka:
E23: Soupis prací je sestaven s využitím Cenové soustavy ÚRS. Položky, které pochází z této cenové soustavy, jsou ve sloupci 'Cenová soustava' označeny popisem 'CS ÚRS' a úrovní příslušného kalendářního pololetí. Veškeré další informace vymezující popis a podmínky použití těchto položek z Cenové soustavy, které nejsou uvedeny přímo v soupisu prací, jsou neomezeně dálkově k dispozici na webu podminky.urs.cz.
D26: Cena bez DPH | AK26: =ROUND(AG54,2) -> 0
L28: Sazba daně | W28: Základ daně | AK28: Výše daně
D29: DPH | F29: základní | L29: 0.21 | W29: =ROUND(AZ54, 2) -> 0 | AK29: =ROUND(AV54, 2) -> 0
F30: snížená | L30: 0.12 | W30: =ROUND(BA54, 2) -> 0 | AK30: =ROUND(AW54, 2) -> 0
F31: zákl. přenesená | L31: 0.21 | W31: =ROUND(BB54, 2) -> 0 | AK31: 0
F32: sníž. přenesená | L32: 0.12 | W32: =ROUND(BC54, 2) -> 0 | AK32: 0
F33: nulová | L33: 0 | W33: =ROUND(BD54, 2) -> 0 | AK33: 0
D35: Cena s DPH | T35: v | X35: CZK | AK35: =SUM(AK26:AK33) -> 0
C42: REKAPITULACE OBJEKTŮ STAVBY A SOUPISŮ PRACÍ
C44: Kód: | L44: =K5 -> 26-04_5136_A
C45: Stavba: | L45: =K6 -> Kluziště Smržovka
C47: Místo: | L47: =IF(K8="","",K8) -> p.č. 2115/1, 2115/3, 2105 | AI47: Datum: | AM47: =IF(AN8= "","",AN8) -> 2. 4. 2026
C49: Zadavatel: | L49: =IF(E11= "","",E11) -> Město Smržovka | AI49: Projektant: | AM49: =IF(E17="","",E17) -> mjölking s.r.o., Šternovská 2304/6, Chodov, Praha | AS49: Informatívní údaje z listů zakázek
C50: Zhotovitel: | L50: =IF(E14="","",E14) | AI50: Zpracovatel: | AM50: =IF(E20="","",E20) -> Propos Liberec s.r.o.
C52: Kód | I52: Popis | AG52: Cena bez DPH [CZK] | AN52: Cena s DPH [CZK] | AQ52: Typ | AS52: z toho Ostat._x000D_ náklady [CZK] | AT52: DPH [CZK] | AU52: Normohodiny [h] | AV52: DPH základní [CZK] | AW52: DPH snížená [CZK] | AX52: DPH základní přenesená_x000D_ [CZK] | AY52: DPH snížená přenesená_x000D_ [CZK] | AZ52: Základna_x000D_ DPH základní | BA52: Základna_x000D_ DPH snížená | BB52: Základna_x000D_ DPH zákl. přenesená | BC52: Základna_x000D_ DPH sníž. přenesená | BD52: Základna_x000D_ DPH nulová
C54: Náklady stavby celkem | AG54: =ROUND(SUM(AG55:AG55),2) -> 0 | AN54: =AG54*1.21 -> 0 | AS54: =ROUND(SUM(AS55:AS55),2) -> 0 | AT54: =ROUND(SUM(AV54:AW54),2) -> 0 | AU54: =ROUND(SUM(AU55:AU55),5) -> 0 | AV54: =ROUND(AZ54*L29,2) -> 0 | AW54: =ROUND(BA54*L30,2) -> 0 | AX54: =ROUND(BB54*L29,2) -> 0 | AY54: =ROUND(BC54*L30,2) -> 0 | AZ54: =ROUND(SUM(AZ55:AZ55),2) -> 0 | BA54: =ROUND(SUM(BA55:BA55),2) -> 0 | BB54: =ROUND(SUM(BB55:BB55),2) -> 0 | BC54: =ROUND(SUM(BC55:BC55),2) -> 0 | BD54: =ROUND(SUM(BD55:BD55),2) -> 0 | BS54: D | BT54: 0 | BU54: ###NOIMPORT### | BV54: IMPORT | BW54: {3b51110c-6af6-42ab-a4f0-a7ea8534f328} | BX54: {00000000-0000-0000-0000-000000000000}
D55: SO 04 | J55: Zázemí kluziště - fasáda+ okna | AG55: ='SO 04 - zázemí kluziště '!J59 -> 0 | AN55: =AG55*1.21 -> 0 | AQ55: STA

Sheet SO 04 - zázemí kluziště 
L2: >> skryté sloupce << | AT2: {49341d9f-1909-4fdb-9ad8-6774ff7f6edb} | AZ2: asfaltpaszakl | BC2: 46,8 | BD2: 2
AT3: 2 | AZ3: geotex | BC3: 46,8 | BD3: 2
D4: KRYCÍ LIST SOUPISU PRACÍ | M4: v --- níže se nacházejí doplnkové a pomocné údaje k sestavám --- v | AT4: False | AZ4: chranic | BC4: 1,5 | BD4: 2
AZ5: klinatik | BC5: 19,62 | BD5: 2
D6: Stavba: | AZ6: mazanin | BC6: 6,888 | BD6: 2
E7: ='Rekapitulace stavby'!K6 -> Kluziště Smržovka | AZ7: odkopani | BC7: 6 | BD7: 2
D8: Objekt: | AZ8: ryhy | BC8: 10,803 | BD8: 2
E9: SO 04 -zázemí kluziště | AZ9: strechs01 | BC9: 46,456 | BD9: 2
AZ10: zpetnasyp | BC10: 15 | BD10: 2
D11: KSO: | I11: CC-CZ: | AZ11: zpetokoli | BC11: 2 | BD11: 2
D12: Místo: | F12: p.č. 2115/1, 2115/3, 2105 | I12: Datum: | J12: ='Rekapitulace stavby'!AN8 -> 2. 4. 2026
D14: Zadavatel: | I14: IČ:
E15: Město Smržovka | I15: DIČ:
D17: Zhotovitel: | I17: IČ: | J17: ='Rekapitulace stavby'!AN13
E18: ='Rekapitulace stavby'!E14 | I18: DIČ: | J18: ='Rekapitulace stavby'!AN14
D20: Projektant: | I20: IČ: | J20: 14080923
E21: mjölking s.r.o., Šternovská 2304/6, Chodov, Praha | I21: DIČ:
D23: Zpracovatel: | I23: IČ:
E24: Propos Liberec s.r.o. | I24: DIČ:
D26: Poznámka:
E27: Soupis prací je sestaven s využitím Cenové soustavy ÚRS. Položky, které pochází z této cenové soustavy, jsou ve sloupci 'Cenová soustava' označeny popisem 'CS ÚRS' a úrovní příslušného kalendářního pololetí. Veškeré další informace vymezující popis a podmínky použití těchto položek z Cenové soustavy, které nejsou uvedeny přímo v soupisu prací, jsou neomezeně dálkově k dispozici na webu podminky.urs.cz.
D30: Cena bez DPH | J30: =ROUND(J90, 2) -> 0
F32: Základ daně | I32: Sazba daně | J32: Výše daně
D33: DPH | E33: základní | F33: 808398.36 | I33: 0.21 | J33: 169763.66
E34: snížená | F34: =ROUND((SUM(BF90:BF267)), 2) -> 0 | I34: 0.12 | J34: =ROUND(((SUM(BF90:BF267))*I34), 2) -> 0
E35: zákl. přenesená | F35: =ROUND((SUM(BG90:BG267)), 2) -> 0 | I35: 0.21 | J35: =0 -> 0
E36: sníž. přenesená | F36: =ROUND((SUM(BH90:BH267)), 2) -> 0 | I36: 0.12 | J36: =0 -> 0
E37: nulová | F37: =ROUND((SUM(BI90:BI267)), 2) -> 0 | I37: 0 | J37: =0 -> 0
D39: Cena s DPH | G39: v | H39: CZK | J39: =J30*1.21 -> 0
C45: REKAPITULACE ČLENĚNÍ SOUPISU PRACÍ
C47: Stavba:
E48: =E7 -> Kluziště Smržovka
C49: Objekt:
E50: =E9 -> SO 04 -zázemí kluziště
C52: Místo: | F52: =F12 -> p.č. 2115/1, 2115/3, 2105 | I52: Datum: | J52: =IF(J12="","",J12) -> 2. 4. 2026
C54: Zadavatel: | F54: =E15 -> Město Smržovka | I54: Projektant: | J54: =E21 -> mjölking s.r.o., Šternovská 2304/6, Chodov, Praha
C55: Zhotovitel: | F55: =IF(E18="","",E18) | I55: Zpracovatel: | J55: =E24 -> Propos Liberec s.r.o.
C57: Kód dílu - Popis | J57: Cena celkem [CZK]
C59: Náklady stavby celkem | J59: =J60+J65 -> 0 | AU59: -1
D60: HSV - Práce a dodávky HSV | J60: =J91 -> 0
D61: 1- | E61: Zakládání | J61: =J92 -> 0
D62: 9- | E62: Ostatní konstrukce a práce,bourání | J62: =J162 -> 0
D63: 997- | E63: Doprava suti a vybouraných hmot | J63: =J182 -> 0
D64: 998- | E64: Přesun hmot | J64: =J195 -> 0
D65: PSV - Práce a dodávky PSV | J65: =J198 -> 0
D66: 762- | E66: Konstrukce tesařské | J66: =J199 -> 0
D67: 764- | E67: Konstrukce klempířské | J67: =J257 -> 0
D68: 766- | E68: Konstrukce truhlářské | J68: =J269 -> 0
D69: 766.1 | E69: Výlpně otvorů vč.přesunu hmot,doplňků a příslušenství | J69: =J295 -> 0
D70: 783- | E70: Dokončovací práce - nátěry | J70: =J300 -> 0
C77: SOUPIS PRACÍ
C79: Stavba:
E80: =E7 -> Kluziště Smržovka
C81: Objekt:
E82: =E9 -> SO 04 -zázemí kluziště
C84: Místo: | F84: =F12 -> p.č. 2115/1, 2115/3, 2105 | I84: Datum: | J84: =IF(J12="","",J12) -> 2. 4. 2026
C86: Zadavatel: | F86: =E15 -> Město Smržovka | I86: Projektant: | J86: =E21 -> mjölking s.r.o., Šternovská 2304/6, Chodov, Praha
C87: Zhotovitel: | F87: =IF(E18="","",E18) | I87: Zpracovatel: | J87: =E24 -> Propos Liberec s.r.o.
C89: PČ | D89: Typ | E89: Kód | F89: Popis | G89: MJ | H89: Množství | I89: J.cena [CZK] | J89: Cena celkem [CZK] | K89: Cenová soustava | N89: DPH | O89: J. Nh [h] | P89: Nh celkem [h] | Q89: J. hmotnost [t] | R89: Hmotnost celkem [t] | S89: J. suť [t] | T89: Suť Celkem [t]
C90: Náklady soupisu celkem | J90: =J91+J198 -> 0 | P90: =P91+P215 -> #REF! | R90: =R91+R215 -> #REF! | T90: =T91+T215 -> #REF! | AT90: D | AU90: -1 | BK90: =BK91+BK215 -> #REF!
D91: D | E91: HSV | F91: Práce a dodávky HSV | J91: =J92+J162+J182+J195 -> 0 | P91: =P92+P144+P162+P182+P195+P199+P212 -> 751.25404 | R91: =R92+R144+R162+R182+R195+R199+R212 -> 83.185961 | T91: =T92+T144+T162+T182+T195+T199+T212 -> 0 | AR91: 1 | AT91: D | AU91: 0 | AY91: ROZPOCET | BK91: =BK92+BK144+BK162+BK182+BK195+BK199+BK212 -> 0
D92: D | E92: 1 | F92: Zakládání | J92: =J93+J100+J107+J116+J118+J123+J125+J130+J133+J138+J140+J142+J149+J156 -> 0 | P92: =SUM(P93:P143) -> 501.67293 | R92: =SUM(R93:R143) -> 0 | T92: =SUM(T93:T143) -> 0 | AR92: 1 | AT92: D | AU92: 1 | AY92: ROZPOCET | BK92: =SUM(BK93:BK143) -> 0
C93: 1 | D93: K | E93: 622131101 | F93: Podkladní a spojovací vrstva vnějších omítaných ploch cementový postřik nanášený ručně celoplošně stěn | G93: m2 | H93: 141.575 | I93: 0 | J93: =ROUND(I93*H93,2) -> 0 | K93: CS ÚRS 2026 01 | N93: základní | O93: 0.854 | P93: =O93*H93 -> 120.90505 | Q93: 0 | R93: =Q93*H93 -> 0 | S93: 0 | T93: =S93*H93 -> 0 | AR93: 4 | AT93: K | AU93: 2 | AY93: ROZPOCET | BE93: =IF(N93="základní",J93,0) -> 0 | BF93: =IF(N93="snížená",J93,0) -> 0 | BG93: =IF(N93="zákl. přenesená",J93,0) -> 0 | BH93: =IF(N93="sníž. přenesená",J93,0) -> 0 | BI93: =IF(N93="nulová",J93,0) -> 0 | BJ93: 1 | BK93: =ROUND(I93*H93,2) -> 0 | BL93: 4 | BM93: 971524787
D94: Online PSC | F94: https://podminky.urs.cz/item/CS_URS_2026_01/622131101 | AT94: Online PSC | AU94: 2
D95: VV | F95: "pohled západní" 4,77*5,74 | H95: 27.38 | AT95: VV | AU95: 2 | AV95: 1 | AW95: True | AX95: 0 | AY95: ROZPOCET
D96: VV | F96: "pohled východní" 4,77*5,74 | H96: 27.38 | AT96: VV | AU96: 2 | AV96: 1 | AW96: True | AX96: 0 | AY96: ROZPOCET
D97: VV | F97: "pohled severní" 9,70*5,65 | H97: 54.805 | AT97: VV | AU97: 2 | AV97: 2 | AW97: True | AX97: 0 | AY97: ROZPOCET
D98: VV | F98: "pohled jižní" 9,70*3,30 | H98: 32.01 | AT98: VV | AU98: 2 | AV98: 3 | AW98: True | AX98: 0 | AY98: ROZPOCET
D99: VV | F99: Součet | H99: 141.575 | AT99: VV | AU99: 2 | AV99: 4 | AW99: True | AX99: 1 | AY99: ROZPOCET
C100: 2 | D100: K | E100: 622131121 | F100: Podkladní a spojovací vrstva vnějších omítaných ploch penetrace nanášená ručně stěn | G100: m2 | H100: 141.575 | I100: 0 | J100: =ROUND(I100*H100,2) -> 0 | K100: CS ÚRS 2026 01 | N100: základní | O100: 2.349 | P100: =O100*H100 -> 332.55968 | Q100: 0 | R100: =Q100*H100 -> 0 | S100: 0 | T100: =S100*H100 -> 0 | AR100: 4 | AT100: K | AU100: 2 | AY100: ROZPOCET | BE100: =IF(N100="základní",J100,0) -> 0 | BF100: =IF(N100="snížená",J100,0) -> 0 | BG100: =IF(N100="zákl. přenesená",J100,0) -> 0 | BH100: =IF(N100="sníž. přenesená",J100,0) -> 0 | BI100: =IF(N100="nulová",J100,0) -> 0 | BJ100: 1 | BK100: =ROUND(I100*H100,2) -> 0 | BL100: 4 | BM100: 2141894245
D101: Online PSC | F101: https://podminky.urs.cz/item/CS_URS_2026_01/622131121 | AT101: Online PSC | AU101: 2
D102: VV | F102: "pohled západní" 4,77*5,74 | H102: 27.38 | AT102: VV | AU102: 2 | AV102: 1 | AW102: True | AX102: 0 | AY102: ROZPOCET
D103: VV | F103: "pohled východní" 4,77*5,74 | H103: 27.38 | AT103: VV | AU103: 2 | AV103: 1 | AW103: True | AX103: 0 | AY103: ROZPOCET
D104: VV | F104: "pohled severní" 9,70*5,65 | H104: 54.805 | AT104: VV | AU104: 2 | AV104: 2 | AW104: True | AX104: 0 | AY104: ROZPOCET
D105: VV | F105: "pohled jižní" 9,70*3,30 | H105: 32.01 | AT105: VV | AU105: 2 | AV105: 3 | AW105: True | AX105: 0 | AY105: ROZPOCET
D106: VV | F106: Součet | H106: 141.575 | AT106: VV | AU106: 2 | AV106: 4 | AW106: True | AX106: 1 | AY106: ROZPOCET
C107: 3 | D107: K | E107: 622143003 | F107: Montáž omítkových profilů plastových, pozinkovaných nebo dřevěných upevněných vtlačením do podkladní vrstvy nebo přibitím rohových s tkaninou | G107: m | H107: 81.29 | I107: 0 | J107: =ROUND(I107*H107,2) -> 0 | K107: CS ÚRS 2026 01 | N107: základní | O107: 0.08 | P107: =O107*H107 -> 6.5032 | Q107: 0 | R107: =Q107*H107 -> 0 | S107: 0 | T107: =S107*H107 -> 0 | AR107: 4 | AT107: K | AU107: 2 | AY107: ROZPOCET | BE107: =IF(N107="základní",J107,0) -> 0 | BF107: =IF(N107="snížená",J107,0) -> 0 | BG107: =IF(N107="zákl. přenesená",J107,0) -> 0 | BH107: =IF(N107="sníž. přenesená",J107,0) -> 0 | BI107: =IF(N107="nulová",J107,0) -> 0 | BJ107: 1 | BK107: =ROUND(I107*H107,2) -> 0 | BL107: 4 | BM107: -2105994107
D108: Online PSC | F108: https://podminky.urs.cz/item/CS_URS_2026_01/622143003 | AT108: Online PSC | AU108: 2
D109: VV | F109: "pohled západní" 2*5,74+(1,07+1,30*2+1,07+1,45*2) | H109: 19.12 | AT109: VV | AU109: 2 | AV109: 1 | AW109: True | AX109: 0 | AY109: ROZPOCET
D110: VV | F110: "pohled východní" 2*5,74+(1,07+1,30*2+1,07+1,45*2) | H110: 19.12 | AT110: VV | AU110: 2 | AV110: 2 | AW110: True | AX110: 0 | AY110: ROZPOCET
D111: VV | F111: "pohled severní" 2*5,65+((1,07+1,45*2)*2+1,07+2,22*2+(1,50+1,20*2)*3) | H111: 36.45 | AT111: VV | AU111: 2 | AV111: 2 | AW111: True | AX111: 0 | AY111: ROZPOCET
D112: VV | F112: "pohled jižní" 2*3,30 | H112: 6.6 | AT112: VV | AU112: 2 | AV112: 1 | AW112: True | AX112: 0 | AY112: ROZPOCET
D113: VV | F113: Součet | H113: 81.29 | AT113: VV | AU113: 2 | AV113: 2 | AW113: True | AX113: 0 | AY113: ROZPOCET
D114: VV | F114: zpetnasyp | H114: 15 | AT114: VV | AU114: 2 | AV114: 2 | AW114: True | AX114: 0 | AY114: ROZPOCET
D115: VV | F115: Součet | H115: 33.803 | AT115: VV | AU115: 2 | AV115: 4 | AW115: True | AX115: 1 | AY115: ROZPOCET
C116: 4 | D116: K | E116: 55343026 | F116: profil rohový Pz+PVC pro vnější omítky tl 15mm | G116: m | H116: 85.355 | I116: 0 | J116: =ROUND(I116*H116,2) -> 0 | K116: CS ÚRS 2026 01 | N116: základní | O116: 0.256 | P116: =O116*H116 -> 21.85088 | Q116: 0 | R116: =Q116*H116 -> 0 | S116: 0 | T116: =S116*H116 -> 0 | AR116: 4 | AT116: K | AU116: 2 | AY116: ROZPOCET | BE116: =IF(N116="základní",J116,0) -> 0 | BF116: =IF(N116="snížená",J116,0) -> 0 | BG116: =IF(N116="zákl. přenesená",J116,0) -> 0 | BH116: =IF(N116="sníž. přenesená",J116,0) -> 0 | BI116: =IF(N116="nulová",J116,0) -> 0 | BJ116: 1 | BK116: =ROUND(I116*H116,2) -> 0 | BL116: 4 | BM116: -729893321
D117: Online PSC | F117: 81,29*1,05 'Přepočtené koeficientem množství | H117: 85.355 | AT117: Online PSC | AU117: 2
C118: 5 | D118: VV | E118: 622143004 | F118: Montáž omítkových profilů plastových, pozinkovaných nebo dřevěných upevněných vtlačením do podkladní vrstvy nebo přibitím začišťovacích samolepících pro vytvoření dilatujícího spoje s okenním rámem | G118: m | H118: 102.76 | I118: 0 | J118: =ROUND(I118*H118,2) -> 0 | K118: CS ÚRS 2026 01 | AT118: VV | AU118: 2 | AV118: 1 | AW118: True | AX118: 0 | AY118: ROZPOCET
D119: VV | F119: https://podminky.urs.cz/item/CS_URS_2026_01/622143004 | AT119: VV | AU119: 2 | AV119: 2 | AW119: True | AX119: 0 | AY119: ROZPOCET
D120: VV | F120: "viz detail D2 - detail vstupních dveří" (1,10+2,22*2)*2 | H120: 11.08 | AT120: VV | AU120: 2 | AV120: 2 | AW120: True | AX120: 0 | AY120: ROZPOCET
D121: VV | F121: "viz detail D3 - detail parapetu, nadpraží a ostění" ((1,07+1,45)*4+(1,07+1,30)*2+(1,50+1,20)*3)*2*2 | H121: 91.68 | AT121: VV | AU121: 2 | AV121: 4 | AW121: True | AX121: 1 | AY121: ROZPOCET
F122: Součet | H122: 102.76 | N122: základní | O122: 0.131 | P122: =O122*H122 -> 13.46156 | Q122: 0 | R122: =Q122*H122 -> 0 | S122: 0 | T122: =S122*H122 -> 0 | AR122: 4 | AT122: K | AU122: 2 | AY122: ROZPOCET | BE122: =IF(N122="základní",J122,0) -> 0 | BF122: =IF(N122="snížená",J122,0) -> 0 | BG122: =IF(N122="zákl. přenesená",J122,0) -> 0 | BH122: =IF(N122="sníž. přenesená",J122,0) -> 0 | BI122: =IF(N122="nulová",J122,0) -> 0 | BJ122: 1 | BK122: =ROUND(I122*H122,2) -> 0 | BL122: 4 | BM122: 587959834
C123: 6 | D123: Online PSC | E123: 5905147.R | F123: profil napojovací - APU lišta | G123: m | H123: 107.898 | I123: 0 | J123: =ROUND(I123*H123,2) -> 0 | AT123: Online PSC | AU123: 2
D124: VV | F124: 102,76*1,05 'Přepočtené koeficientem množství | H124: 107.898 | AT124: VV | AU124: 2 | AV124: 1 | AW124: True | AX124: 0 | AY124: ROZPOCET
C125: 7 | D125: VV | E125: 622252002 | F125: Montáž profilů kontaktního zateplení ostatních stěnových, dilatačních apod. lepených do tmelu | G125: m | H125: 21.84 | I125: 0 | J125: =ROUND(I125*H125,2) -> 0 | K125: CS ÚRS 2026 01 | AT125: VV | AU125: 2 | AV125: 2 | AW125: True | AX125: 0 | AY125: ROZPOCET
D126: VV | F126: https://podminky.urs.cz/item/CS_URS_2026_01/622252002 | AT126: VV | AU126: 2 | AV126: 3 | AW126: True | AX126: 0 | AY126: ROZPOCET
D127: VV | F127: "viz detail D3 - detail parapetu" (1,07*6+1,50*3) | H127: 10.92 | AT127: VV | AU127: 2 | AV127: 4 | AW127: True | AX127: 1 | AY127: ROZPOCET
F128: "viz detail D3 - detail nadpraží" (1,07*6+1,50*3) | H128: 10.92 | N128: základní | O128: 0.328 | P128: =O128*H128 -> 3.58176 | Q128: 0 | R128: =Q128*H128 -> 0 | S128: 0 | T128: =S128*H128 -> 0 | AR128: 4 | AT128: K | AU128: 2 | AY128: ROZPOCET | BE128: =IF(N128="základní",J128,0) -> 0 | BF128: =IF(N128="snížená",J128,0) -> 0 | BG128: =IF(N128="zákl. přenesená",J128,0) -> 0 | BH128: =IF(N128="sníž. přenesená",J128,0) -> 0 | BI128: =IF(N128="nulová",J128,0) -> 0 | BJ128: 1 | BK128: =ROUND(I128*H128,2) -> 0 | BL128: 4 | BM128: 312973280
D129: Online PSC | F129: Součet | H129: 21.84 | AT129: Online PSC | AU129: 2
D130: VV | E130: 59051510 | F130: profil napojovací nadokenní PVC s okapnicí s výztužnou tkaninou | G130: m | H130: 11.466 | I130: 0 | J130: =ROUND(I130*H130,2) -> 0 | K130: CS ÚRS 2026 01 | AT130: VV | AU130: 2 | AV130: 1 | AW130: True | AX130: 0 | AY130: ROZPOCET
...

Sheet Pokyny pro vyplnění
C3: Struktura údajů, formát souboru a metodika pro zpracování
C4: Struktura
C6: Soubor je složen ze záložky Rekapitulace stavby a záložek s názvem soupisu prací pro jednotlivé objekty ve formátu XLSX. Každá ze záložek přitom obsahuje
C7: ještě samostatné sestavy vymezené orámovaním a nadpisem sestavy.
C9: Rekapitulace stavby obsahuje sestavu Rekapitulace stavby a Rekapitulace objektů stavby a soupisů prací.
D10: V sestavě Rekapitulace stavby jsou uvedeny informace identifikující předmět veřejné zakázky na stavební práce, KSO, CC-CZ, CZ-CPV, CZ-CPA a rekapitulaci
D11: celkové nabídkové ceny účastníka.
D13: Termínem "učastník" (resp. zhotovitel) se myslí "účastník zadávacího řízení" ve smyslu zákona o zadávání veřejných zakázek.
D15: V sestavě Rekapitulace objektů stavby a soupisů prací je uvedena rekapitulace stavebních objektů, inženýrských objektů, provozních souborů,
D16: vedlejších a ostatních nákladů a ostatních nákladů s rekapitulací nabídkové ceny za jednotlivé soupisy prací. Na základě údaje Typ je možné
D17: identifikovat, zda se jedná o objekt nebo soupis prací pro daný objekt:
E18: STA | F18: Stavební objekt pozemní
E19: ING | F19: Stavební objekt inženýrský
E20: PRO | F20: Provozní soubor
E21: VON | F21: Vedlejší a ostatní náklady
E22: OST | F22: Ostatní
E23: Soupis | F23: Soupis prací pro daný typ objektu
C25: Soupis prací pro jednotlivé objekty obsahuje sestavy Krycí list soupisu prací, Rekapitulace členění soupisu prací, Soupis prací. Za soupis prací může být považován
C26: i objekt stavby v případě, že neobsahuje podřízenou zakázku.
D27: Krycí list soupisu obsahuje rekapitulaci informací o předmětu veřejné zakázky ze sestavy Rekapitulace stavby, informaci o zařazení objektu do KSO,
D28: CC-CZ, CZ-CPV, CZ-CPA a rekapitulaci celkové nabídkové ceny účastníka za aktuální soupis prací.
D30: Rekapitulace členění soupisu prací obsahuje rekapitulaci soupisu prací ve všech úrovních členění soupisu tak, jak byla tato členění použita (např.
D31: stavební díly, funkční díly, případně jiné členění) s rekapitulací nabídkové ceny.
D33: Soupis prací obsahuje položky veškerých stavebních nebo montážních prací, dodávek materiálů a služeb nezbytných pro zhotovení stavebního objektu,
D34: inženýrského objektu, provozního souboru, vedlejších a ostatních nákladů.
D35: Pro položky soupisu prací se zobrazují následující informace:
E36: PČ | G36: Pořadové číslo položky v aktuálním soupisu
E37: TYP | G37: Typ položky: K - konstrukce, M - materiál, PP - plný popis, PSC - poznámka k souboru cen, P - poznámka k položce, VV - výkaz výměr, FIG - rozpad figur
E38: Kód | G38: Kód položky
E39: Popis | G39: Zkrácený popis položky
E40: MJ | G40: Měrná jednotka položky
E41: Množství | G41: Množství v měrné jednotce
E42: J.cena | G42: Jednotková cena položky. Zadaní může obsahovat namísto J.ceny sloupce J.materiál a J.montáž, jejichž součet definuje
G43: J.cenu položky.
E44: Cena celkem | G44: Celková cena položky daná jako součin množství a j.ceny
E45: Cenová soustava | G45: Příslušnost položky do cenové soustavy
D47: Ke každé položce soupisu prací se na samostatných řádcích může zobrazovat:
E48: Plný popis položky
E49: Poznámka k souboru cen a poznámka zadavatele
E50: Výkaz výměr
D51: Pokud je k řádku výkazu výměr evidovaný údaj ve sloupci Kód, jedná se o definovaný odkaz, na který se může odvolávat výkaz výměr z jiné položky.
C52: Metodika pro zpracování
C54: Jednotlivé sestavy jsou v souboru provázány. Editovatelné pole jsou zvýrazněny žlutým podbarvením, ostatní pole neslouží k editaci a nesmí být jakkoliv
C55: modifikovány.
C57: Účastník je pro podání nabídky povinen vyplnit žlutě podbarvená pole:
D58: Pole Účastník v sestavě Rekapitulace stavby - zde účastník vyplní svůj název (název subjektu)
D59: Pole IČ a DIČ v sestavě Rekapitulace stavby - zde účastník vyplní svoje IČ a DIČ
D60: Datum v sestavě Rekapitulace stavby - zde účastník vyplní datum vytvoření nabídky
D61: J.cena = jednotková cena v sestavě Soupis prací o maximálním počtu desetinných míst uvedených v poli
D62: - pokud sestavy soupisů prací obsahují pole J.cena, měla by být všechna tato pole vyplněna nenulovými
D63: Poznámka - nepovinný údaj pro položku soupisu
D65: V případě, že sestavy soupisů prací neobsahují pole J.cena, potom ve všech soupisech prací obsahují pole:
D66: - J.materiál - jednotková cena materiálu
D67: - J.montáž - jednotková cena montáže
D68: Účastník v tomto případě by měl vyplnit všechna pole J.materiál a pole J.montáž nenulovými kladnými číslicemi. V případech, kdy položka
D69: neobsahuje žádný materiál je přípustné, aby pole J.materiál bylo vyplněno nulou. V případech, kdy položka neobsahuje žádnou montáž je přípustné,
D70: aby pole J.montáž bylo vyplněno nulou. Obě pole - J.materiál, J.Montáž u jedné položky by však neměly být vyplněny nulou.
C75: Rekapitulace stavby
C76: Název | F76: Povinný | H76: Popis | I76: Typ | J76: Max. počet
C77: atributu | F77: (A/N) | J77: znaků
C79: Kód | F79: A | H79: Kód stavby | I79: String | J79: 20
C80: Stavba | F80: A | H80: Název stavby | I80: String | J80: 120
C81: Místo | F81: N | H81: Místo stavby | I81: String | J81: 50
C82: Datum | F82: A | H82: Datum vykonaného exportu | I82: Date
C83: KSO | F83: N | H83: Klasifikace stavebního objektu | I83: String | J83: 15
C84: CC-CZ | F84: N | H84: Klasifikace stavbeních děl | I84: String | J84: 15
C85: CZ-CPV | F85: N | H85: Společný slovník pro veřejné zakázky | I85: String | J85: 20
C86: CZ-CPA | F86: N | H86: Klasifikace produkce podle činností | I86: String | J86: 20
C87: Zadavatel | F87: N | H87: Zadavatel zadaní | I87: String | J87: 50
C88: IČ | F88: N | H88: IČ zadavatele zadaní | I88: String | J88: 20
C89: DIČ | F89: N | H89: DIČ zadavatele zadaní | I89: String | J89: 20
C90: Účastník | F90: N | H90: Účastník veřejné zakázky | I90: String | J90: 50
C91: Projektant | F91: N | H91: Projektant | I91: String | J91: 50
C92: Poznámka | F92: N | H92: Poznámka k zadání | I92: String | J92: 255
C93: Sazba DPH | F93: A | H93: Rekapitulace sazeb DPH u položek soupisů | I93: eGSazbaDph
C94: Základna DPH | F94: A | H94: Základna DPH určena součtem celkové ceny z položek soupisů | I94: Double
C95: Hodnota DPH | F95: A | H95: Hodnota DPH | I95: Double
C96: Cena bez DPH | F96: A | H96: Celková cena bez DPH za celou stavbu. Sčítává se ze všech listů. | I96: Double
C97: Cena s DPH | F97: A | H97: Celková cena s DPH za celou stavbu | I97: Double
C102: Rekapitulace objektů stavby a soupisů prací
C103: Název | F103: Povinný | H103: Popis | I103: Typ | J103: Max. počet
C104: atributu | F104: (A/N) | J104: znaků
C106: Kód | F106: A | H106: Přebírá se z Rekapitulace stavby | I106: String | J106: 20
C107: Stavba | F107: A | H107: Přebírá se z Rekapitulace stavby | I107: String | J107: 120
C108: Místo | F108: N | H108: Přebírá se z Rekapitulace stavby | I108: String | J108: 50
C109: Datum | F109: A | H109: Přebírá se z Rekapitulace stavby | I109: Date
C110: Zadavatel | F110: N | H110: Přebírá se z Rekapitulace stavby | I110: String | J110: 50
C111: Projektant | F111: N | H111: Přebírá se z Rekapitulace stavby | I111: String | J111: 50
C112: Účastník | F112: N | H112: Přebírá se z Rekapitulace stavby | I112: String | J112: 50
C113: Kód | F113: A | H113: Kód objektu | I113: String | J113: 20
C114: Objektu, Soupis prací | F114: A | H114: Název objektu | I114: String | J114: 120
C115: Cena bez DPH | F115: A | H115: Cena bez DPH za daný objekt | I115: Double
C116: Cena s DPH | F116: A | H116: Cena spolu s DPH za daný objekt | I116: Double
C117: Typ | F117: A | H117: Typ zakázky | I117: eGTypZakazky
C122: Krycí list soupisu
C123: Název | F123: Povinný | H123: Popis | I123: Typ | J123: Max. počet
C124: atributu | F124: (A/N) | J124: znaků
C126: Stavba | F126: A | H126: Přebírá se z Rekapitulace stavby | I126: String | J126: 120
C127: Objekt | F127: A | H127: Kód a název objektu | I127: String | J127: 20 + 120
C128: Soupis | F128: A | H128: Kód a název soupisu | I128: String | J128: 20 + 120
...
